{"text_format":"1","workbook":"xlsx","n_sheets":76,"sheets":["ACS_Notes","StartInstruction","PopulationCharacteristics","SchoolEnrolEduAttain","HousingCharacteristics","BuildingPermitsSince2000","EmploymentAndWages","EmpVsHUxCounty","HHIncome-10YearComparison","HHIncomeByAge","HHIncomeByTenure","ACS_Source_Table_List","CntyDataLink","CntyQuery","CntyDataLinkPrior5YearEstimates","CntyDataLinkPrior10YearEstimate","Updates","PovertyCharacteristics","ACS_Table_B01001","ACS_Table_B01002","ACS_Tbl_B11001_B11002_B25010","ACS_Table_B25118","ACS_Table_B19001","ACS_Table_B19037","DisabilityByAge","DisabilityByAgePrior5YearEst","DisabilityByAgePrior10YearEst","ACS_Table_B18101","ACS_Table_B18102","ACS_Table_B18103","ACS_Table_B18104","ACS_Table_B18105","ACS_Table_B18106","ACS_Table_B18107","ACS_Table_C18108","ACS_Table_B19049","ACS_TableB19101_ACS_Tbl_B19113","ACS_TableB19201_ACS_Tbl_B19202","ACS_Table_B25119","ACS_Table_B25001","ACS_Table_B25003","ACS_Table_B25004","ACS_Table_B25008","ACS_Table_B25024","ACS_Table_B25032","ACS_Table_B25034","ACS_Table_B25041","ACS_Table_ B17001","ACS_Table_B17010","ACS_Table_B17017","ACS_Table_B03002","RentalHousingCost","RentalHousingCost-Prior5Yr","RentalHousingCost-Prior10Yr","ACS_Table_B25063_&_B25064","ACS_Table_B25070","ACS_Table_B25074","PlaceOfBirthAndPriorRes","ACS_Table_B05002","ACS_Table_B07003","ACS_Table_B14001","ACS_Table_B15002","OwnerHousingCost","OwnerHousingCostPrior5Year","OwnerHousingCostPrior10Year","ACS_Table_B25075_&_B25077","ACS_Table_B25088","PopComparison","HousingComparison","Housing_EmploymentComparison","ACS_Table_B25091","ACS_Table_B25106","StatisticallySignificantCalcs","DropDownList","CntyQryCensus","ACS_Table_B08303"],"not_rendered":{"charts":94,"images":166,"macros":1,"external_links":0,"defined_names":76,"comments":0,"pivot_tables":0},"unopened":[],"bounds":{"document_bytes":16777216,"sheet_cells":100000,"rows_first":2000,"rows_last":500,"rows_between":2000,"halvings":0,"cell_chars":16384,"cell_head_chars":4096},"cells_cut":0,"cells_raw":0,"read":"whole","date_system":"1900"}

{"sheet":"ACS_Notes","index":0,"n_rows":26,"n_cols":1,"rows_kept":26,"cut":false,"hidden":true,"merged":[[3,0,5,14],[7,0,8,14],[25,0,25,14],[20,0,21,14],[22,0,22,14],[23,0,23,14],[24,0,24,14],[29,0,29,14],[31,15,31,29],[31,30,31,44],[31,45,31,59],[10,0,12,14],[14,0,14,14],[18,0,19,14],[31,120,31,134],[31,135,31,149],[31,150,31,164],[31,165,31,179],[31,60,31,74],[31,75,31,89],[31,90,31,104],[31,105,31,119],[31,240,31,254],[31,180,31,194],[31,195,31,209],[31,210,31,224],[31,225,31,239]]}
["NOTES:"]
[]
[]
["Data are based on a sample and are subject to sampling variability. The degree of uncertainty for an estimate arising from sampling variability is represented through the use of a margin of error. The value shown here is the 90 percent margin of error. The margin of error can be interpreted roughly as providing a 90 percent probability that the interval defined by the estimate minus the margin of error and the estimate plus the margin of error (the lower and upper confidence bounds) contains the true value. In addition to sampling variability, the ACS estimates are subject to nonsampling error (for a discussion of nonsampling variability, see Accuracy of the Data). The effect of nonsampling error is not represented in these tables."]
[]
[]
[]
["In addition to sampling variability, the ACS estimates are subject to nonsampling error (for a discussion of nonsampling variability, see Accuracy of the Data. The link is located at the end of this worksheet.).  The effect of nonsampling error is not represented in these tables."]
[]
[]
["While the 2005-2009 American Community Survey (ACS) data generally reflect the November 2008 Office of Management and Budget (OMB) definitions of metropolitan and micropolitan statistical areas; in certain instances the names, codes, and boundaries of the principal cities shown in ACS tables may differ from the OMB definitions due to differences in the effective dates of the geographic entities."]
[]
[]
[]
["Estimates of urban and rural population, housing units, and characteristics reflect boundaries of urban areas defined based on Census 2000 data.  Boundaries for urban areas have not been updated since Census 2000.  As a result, data for urban and rural areas from the ACS do not necessarily reflect the results of ongoing urbanization."]
[]
["Explanation of Symbols:"]
[]
["1. An '**' entry in the margin of error column indicates that either no sample observations or too few sample observations were available to compute a standard error and thus the margin of error. A statistical test is not appropriate."]
[]
["2. An '-' entry in the estimate column indicates that either no sample observations or too few sample observations were available to compute an estimate, or a ratio of medians cannot be calculated because one or both of the median estimates falls in the lowest interval or upper interval of an open-ended distribution."]
[]
["3. An '-' following a median estimate means the median falls in the lowest interval of an open-ended distribution."]
["4. An '+' following a median estimate means the median falls in the upper interval of an open-ended distribution."]
["5. An '***' entry in the margin of error column indicates that the median falls in the lowest interval or upper interval of an open-ended distribution. A statistical test is not appropriate."]
["6. An '*****' entry in the margin of error column indicates that the estimate is controlled. A statistical test for sampling variability is not appropriate."]

{"sheet":"StartInstruction","index":1,"n_rows":34,"n_cols":17,"rows_kept":34,"cut":false,"hidden":false,"merged":[[27,1,30,3],[30,16,32,19]]}
["Demographic Profiles for New Hampshire and its Counties"]
[]
["To view or print a Demographic Profile follow the steps below"]
[]
[]
["Step 1. ",null,"Select the municipality you wish to"]
[null,null,"Profile from the drop down box below. "]
[]
[]
[]
[]
["Step 2. ",null,"Click one of the profile topic buttons below to review or print"]
[null,null,"the information for the selected geography."]
[null,null,"Don't forget to adjust the axis on charts as necessary. "]
[]
[]
[]
[]
[]
[]
[]
[]
[]
[]
[]
[]
[]
[]
[null,null,null,null,null,null,null,null,null,null,null,null,null,null,"Updated:",null,"2023-12-07"]
[]
[null,null,null,null,null,null,null,null,null,null,null,null,null,null,"Next Update:",null,"Spring 2024 Annual Employment Date"]
[]
[]
[null,null,null,null,null,null,null,null,null,null," "]

{"sheet":"PopulationCharacteristics","index":2,"n_rows":64,"n_cols":23,"rows_kept":64,"cut":false,"hidden":true,"merged":[[48,3,48,4],[48,6,48,7],[48,9,48,10],[62,1,62,8],[63,1,63,3],[45,1,45,8],[3,1,3,3],[19,15,19,17],[2,8,2,12],[18,15,18,21],[19,11,19,13],[19,18,19,20],[33,11,33,12],[18,2,18,8]]}
[]
[null,{"$f":"CntyDataLink!$A35","v":"Grafton County"}]
[null,null,null,null,null,null,null,"Land Area:",{"$f":"((CntyDataLink!F35*10.764)/43560)/640","v":1713.346134187758},null,"Water Area:",{"$f":"((CntyDataLink!G35*10.764)/43560)/640","v":36.748072599431815}]
[null,"POPULATION CHARACTERISTICS"]
[]
[]
[]
[]
[]
[]
[]
[]
[]
[]
[]
[]
[]
[]
[null,"Population ",{"$f":"\"Source:  US Census; Office of Planning and Devlopment, NH BEA; \"& L20&\", \"&P20&\", and \"&S20&\" American Community Survey Table B01001\"","v":"Source:  US Census; Office of Planning and Devlopment, NH BEA; 2008-2012, 2013-2017, and 2018-2022 American Community Survey Table B01001"},null,null,null,null,null,null,null,null,null,null,"Population by Age ",null,{"$f":"\"Source: \"& L20&\", \"&P20&\", and \"&S20&\"  American Community Survey Tables B01001 and B01002\"","v":"Source: 2008-2012, 2013-2017, and 2018-2022  American Community Survey Tables B01001 and B01002"}]
[null,null,null,null,null,null,null,null,null,null,null,"2008-2012",null,null,null,"2013-2017",null,null,"2018-2022"]
[null,null,1990,2000,2010,2020,"2018-2022",2025,2030,null,null,"Estimate",null,"Margin of Error","Percent of Population","Estimate","Margin of Error","Percent of Population","Estimate","Margin of Error","Percent of Population","Percent Change","Statistically Significant Change"]
[null,null,{"$f":"CntyDataLink!$F$20","v":74929},{"$f":"CntyDataLink!$G$20","v":81743},{"$f":"CntyDataLink!$H$20","v":89118},{"$f":"CntyDataLink!$I$20","v":91118},{"$f":"CntyDataLink!$B$132","v":1372175},{"$f":"CntyDataLink!$J$20","v":94984},{"$f":"CntyDataLink!$K$20","v":98030},null,"Under 15 yrs.",{"$f":"CntyDataLinkPrior10YearEstimate!$D$132","v":235048},null,{"$f":"CntyDataLinkPrior10YearEstimate!$E$132","v":2140.2787201670722},{"$f":"L22/SUM($L$22:$L$29)","v":0.17861998265840168},{"$f":"CntyDataLinkPrior5YearEstimates!$D$132","v":216135},{"$f":"CntyDataLinkPrior5YearEstimates!$E$132","v":1757.0318722208769},{"$f":"P22/SUM($P$22:$P$29)","v":0.16281319138261835},{"$f":"CntyDataLink!$D$132","v":211268},{"$f":"CntyDataLink!$E$132","v":2321.9771747370819},{"$f":"S22/SUM($S$22:$S$29)","v":0.15396578424763604},{"$f":"(S22-P22)/P22","v":-2.2518333449001782E-2},{"$f":"StatisticallySignificantCalcs!$A3","v":"Y"}]
[null,null,null,null,null,null,null,null,null,null,"15 to 24 yrs.",{"$f":"CntyDataLinkPrior10YearEstimate!$F$132","v":179443},null,{"$f":"CntyDataLinkPrior10YearEstimate!$G$132","v":1753.6978074913591},0.13636408541307124,{"$f":"CntyDataLinkPrior5YearEstimates!$F$132","v":179024},{"$f":"CntyDataLinkPrior5YearEstimates!$G$132","v":1776.457429830504},{"$f":"P23/SUM($P$22:$P$29)","v":0.13485769900331676},{"$f":"CntyDataLink!$F$132","v":174801},{"$f":"CntyDataLink!$G$132","v":2121.7415016914761},0.12738972798659062,{"$f":"(S23-P23)/P23","v":-2.3589015997855036E-2},{"$f":"StatisticallySignificantCalcs!$A4","v":"Y"}]
[null,"Percent Change",null,null,null,null,null,null,null,null,"25 to 34 yrs.",{"$f":"CntyDataLinkPrior10YearEstimate!$H$132","v":144004},null,{"$f":"CntyDataLinkPrior10YearEstimate!$I$132","v":475.94012228430586},0.10943293277432896,{"$f":"CntyDataLinkPrior5YearEstimates!$H$132","v":154495},{"$f":"CntyDataLinkPrior5YearEstimates!$I$132","v":503.34381887532902},0.11638015130662605,{"$f":"CntyDataLink!$H$132","v":171559},{"$f":"CntyDataLink!$I$132","v":664.72400287638175},0.12502705558693317,0.11045017638111265,{"$f":"StatisticallySignificantCalcs!$A5","v":"Y"}]
[null,null,null,{"$f":"C21&\"-2020\"","v":"1990-2020"},{"$f":"D21&\"-2020\"","v":"2000-2020"},{"$f":"E21&\"-2020\"","v":"2010-2020"},{"$f":"F21&\"-2030\"","v":"2020-2030"},{"$f":"G21&\"-\"&H21","v":"2018-2022-2025"},{"$f":"H21&\"-\"&I21","v":"2025-2030"},null,"35 to 44 yrs.",{"$f":"CntyDataLinkPrior10YearEstimate!$J$132","v":185779},null,{"$f":"CntyDataLinkPrior10YearEstimate!$K$132","v":1952.0584007657149},0.14117900070749465,{"$f":"CntyDataLinkPrior5YearEstimates!$J$132","v":159325},{"$f":"CntyDataLinkPrior5YearEstimates!$K$132","v":2080.4571612989293},0.12001856116332693,{"$f":"CntyDataLink!$J$132","v":160635},{"$f":"CntyDataLink!$K$132","v":2332.6744307768281},0.11706597190591579,8.2221873528950263E-3,{"$f":"StatisticallySignificantCalcs!$A6","v":"Y"}]
[null,null,null,{"$f":"(D22-C22)/C22","v":9.0939422653445262E-2},9.0221792691728961E-2,2.2442155344599295E-2,14.059318685660353,-0.93077850857215738,3.2068558915185716E-2,null,"45 to 54 yrs.",{"$f":"CntyDataLinkPrior10YearEstimate!$L$132","v":223299},null,{"$f":"CntyDataLinkPrior10YearEstimate!$M$132","v":410.42173431727514},0.1696915672868454,{"$f":"CntyDataLinkPrior5YearEstimates!$L$132","v":210225},{"$f":"CntyDataLinkPrior5YearEstimates!$M$132","v":458.46701080884765},0.15836122404243155,{"$f":"CntyDataLink!$L$132","v":187228},{"$f":"CntyDataLink!$M$132","v":508.23026277466005},0.13644615300526536,-0.10939231775478654,{"$f":"StatisticallySignificantCalcs!$A7","v":"Y"}]
[null,null,null,null,null,null,null,null,null,null,"55 to 64 yrs.",{"$f":"CntyDataLinkPrior10YearEstimate!$N$132","v":173170},null,{"$f":"CntyDataLinkPrior10YearEstimate!$O$132","v":1840.2869341491289},0.13159704569685943,{"$f":"CntyDataLinkPrior5YearEstimates!$N$132","v":197914},{"$f":"CntyDataLinkPrior5YearEstimates!$O$132","v":2137.4938596403031},0.14908742202465833,{"$f":"CntyDataLink!$N$132","v":216548},{"$f":"CntyDataLink!$O$132","v":2758.4272692967638},0.15781368994479567,9.4152005416494031E-2,{"$f":"StatisticallySignificantCalcs!$A8","v":"Y"}]
[null,null,null,null,null,null,null,null,null,null,"65 to 74 yrs.",{"$f":"CntyDataLinkPrior10YearEstimate!$P$132","v":94294},null,{"$f":"CntyDataLinkPrior10YearEstimate!$Q$132","v":1426.8878722590644},7.1656821775940779E-2,{"$f":"CntyDataLinkPrior5YearEstimates!$P$132","v":123021},{"$f":"CntyDataLinkPrior5YearEstimates!$Q$132","v":1631.9218731299609},9.267097701474121E-2,{"$f":"CntyDataLink!$P$132","v":154122},{"$f":"CntyDataLink!$Q$132","v":2305.7337227008675},0.11231949277606719,0.25281049576901504,{"$f":"StatisticallySignificantCalcs!$A9","v":"Y"}]
[null,null,null,null,null,null,null,null,null,null,"Over 74 yrs. ",{"$f":"CntyDataLinkPrior10YearEstimate!$R$132","v":80874},null,{"$f":"CntyDataLinkPrior10YearEstimate!$S$132","v":1461.854301905631},6.1458563687057863E-2,{"$f":"CntyDataLinkPrior5YearEstimates!$R$132","v":87364},{"$f":"CntyDataLinkPrior5YearEstimates!$S$132","v":1446.9288164937486},6.5810774062280836E-2,{"$f":"CntyDataLink!$R$132","v":96014},{"$f":"CntyDataLink!$S$132","v":1862.2703885311607},6.9972124546796147E-2,9.9011034293301589E-2,{"$f":"StatisticallySignificantCalcs!$A10","v":"Y"}]
[null,null,null,null,null,null,null,null,null,null,"Median Age (years)",{"$f":"CntyDataLinkPrior10YearEstimate!$AX$132","v":40.700000000000003},null,{"$f":"CntyDataLinkPrior10YearEstimate!$AY$132","v":0.2},null,{"$f":"CntyDataLinkPrior5YearEstimates!$AX132","v":42.4},{"$f":"CntyDataLinkPrior5YearEstimates!$AY$132","v":0.1},null,{"$f":"CntyDataLink!$AX$132","v":43},{"$f":"CntyDataLink!$AY$132","v":0.1}]
[]
[null,"Population By Race",null,null,null,null,null,null,null,null,null,null,"Statistically Significant Change"]
[]
[null,null,"2008-2012",null,null,"2013-2017",null,null,"2018-2022",null,null,"Statistically Significant Change"]
[null,null,"Estimate","Margin of Error",null,"Estimate","Margin of Error",null,"Estimate","Margin of Error",null,"2012-2022","2017-2022"]
[null,"White",{"$f":"CntyDataLinkPrior10YearEstimate!$AL$132","v":1216365},{"$f":"CntyDataLinkPrior10YearEstimate!$AM$132","v":523},{"$f":"IF(C$36=\"-\",\"-\",VALUE(C36/$C$41))","v":0.9243520268468004},{"$f":"CntyDataLinkPrior5YearEstimates!$AL$132","v":1211271},{"$f":"CntyDataLinkPrior5YearEstimates!$AM$132","v":462},{"$f":"IF(F$36=\"-\",\"-\",VALUE(F36/$F$41))","v":0.91244313572172719},{"$f":"CntyDataLink!$AL$132","v":1220505},{"$f":"CntyDataLink!$AM$132","v":1545},{"$f":"IF(I$36=\"-\",\"-\",VALUE(I36/$I$41))","v":0.88946745130905314},{"$f":"StatisticallySignificantCalcs!A20","v":"Y"},{"$f":"StatisticallySignificantCalcs!J20","v":"Y"}]
[null,"Black",{"$f":"CntyDataLinkPrior10YearEstimate!$AN132","v":13668},{"$f":"CntyDataLinkPrior10YearEstimate!$AO$132","v":528},{"$f":"IF(C$37=\"-\",\"-\",VALUE(C37/$C$41))","v":1.0386720682477766E-2},{"$f":"CntyDataLinkPrior5YearEstimates!$AN132","v":15565},{"$f":"CntyDataLinkPrior5YearEstimates!$AO$132","v":783},{"$f":"IF(F$37=\"-\",\"-\",VALUE(F37/$F$41))","v":1.1725020583757626E-2},{"$f":"CntyDataLink!$AN$132","v":18705},{"$f":"CntyDataLink!$AO$132","v":973},{"$f":"IF(I$37=\"-\",\"-\",VALUE(I37/$I$41))","v":1.3631643194198991E-2},{"$f":"StatisticallySignificantCalcs!A21","v":"Y"},{"$f":"StatisticallySignificantCalcs!J21","v":"Y"}]
[null,"American Indian",{"$f":"CntyDataLinkPrior10YearEstimate!$AP$132","v":2258},{"$f":"CntyDataLinkPrior10YearEstimate!$AQ$132","v":273},{"$f":"IF(C$38=\"-\",\"-\",VALUE(C38/$C$41))","v":1.7159215174886448E-3},{"$f":"CntyDataLinkPrior5YearEstimates!$AP$132","v":1855},{"$f":"CntyDataLinkPrior5YearEstimates!$AQ$132","v":292},{"$f":"IF(F$38=\"-\",\"-\",VALUE(F38/$F$41))","v":1.3973603072836747E-3},{"$f":"CntyDataLink!$AP$132","v":1452},{"$f":"CntyDataLink!$AQ$132","v":253},{"$f":"IF(I$38=\"-\",\"-\",VALUE(I38/$I$41))","v":1.0581740667188952E-3},{"$f":"StatisticallySignificantCalcs!A22","v":"Y"},{"$f":"StatisticallySignificantCalcs!J22","v":"Y"}]
[null,"Asian &Pacific Is.",{"$f":"CntyDataLinkPrior10YearEstimate!$AR$132","v":27940},{"$f":"CntyDataLinkPrior10YearEstimate!$AS$132","v":755.24631743557677},{"$f":"IF(C$39=\"-\",\"-\",VALUE(C39/$C$41))","v":2.1232438971936551E-2},{"$f":"CntyDataLinkPrior5YearEstimates!$AR$132","v":32064},{"$f":"CntyDataLinkPrior5YearEstimates!$AS$132","v":809.246563168482},{"$f":"IF(F$39=\"-\",\"-\",VALUE(F39/$F$41))","v":2.4153617731937329E-2},{"$f":"CntyDataLink!$AR$132","v":36909},{"$f":"CntyDataLink!$AS$132","v":953.5711824504765},{"$f":"IF(I$39=\"-\",\"-\",VALUE(I39/$I$41))","v":2.6898172609178858E-2},{"$f":"StatisticallySignificantCalcs!A23","v":"Y"},{"$f":"StatisticallySignificantCalcs!J23","v":"Y"}]
[null,"Other*",{"$f":"CntyDataLinkPrior10YearEstimate!$AT$132","v":19228},{"$f":"CntyDataLinkPrior10YearEstimate!$AU$132","v":1038.7863110380306},{"$f":"IF(C$40=\"-\",\"-\",VALUE(C40/$C$41))","v":1.4611930442104367E-2},{"$f":"CntyDataLinkPrior5YearEstimates!$AT$132","v":23248},{"$f":"CntyDataLinkPrior5YearEstimates!$AU$132","v":1244.8200673189681},{"$f":"IF(F$40=\"-\",\"-\",VALUE(F40/$F$41))","v":1.7512578126000468E-2},{"$f":"CntyDataLink!$AT$132","v":38689},{"$f":"CntyDataLink!$AU$132","v":1873.692877715022},{"$f":"IF(I$40=\"-\",\"-\",VALUE(I40/$I$41))","v":2.8195383241933426E-2},{"$f":"StatisticallySignificantCalcs!A24","v":"Y"},{"$f":"StatisticallySignificantCalcs!J24","v":"Y"}]
[null,"Total Population",{"$f":"CntyDataLinkPrior10YearEstimate!$B$132","v":1315911},{"$f":"CntyDataLinkPrior10YearEstimate!$C$132","v":"*****"},null,{"$f":"CntyDataLinkPrior5YearEstimates!$B$132","v":1327503},{"$f":"CntyDataLinkPrior5YearEstimates!$C$132","v":"*****"},null,{"$f":"CntyDataLink!$B$132","v":1372175},{"$f":"CntyDataLink!$C$132","v":"*****"}]
[null,"Hispanic",{"$f":"CntyDataLinkPrior10YearEstimate!$AV132","v":36452},{"$f":"CntyDataLinkPrior10YearEstimate!$AW$132","v":"*****"},{"$f":"IF(C$42=\"-\",\"-\",VALUE(C42/$C$41))","v":2.7700961539192239E-2},{"$f":"CntyDataLinkPrior5YearEstimates!$AV132","v":43500},{"$f":"CntyDataLinkPrior5YearEstimates!$AW$132","v":"*****"},{"$f":"IF(F$42=\"-\",\"-\",VALUE(F42/$F$41))","v":3.276828752929372E-2},{"$f":"CntyDataLink!$AV$132","v":55915},{"$f":"CntyDataLink!$AW$132","v":"*****"},{"$f":"IF(I$42=\"-\",\"-\",VALUE(I42/$I$41))","v":4.0749175578916684E-2}]
[]
[null,"*","Other includes population of 2 or more races"]
[]
[null,{"$f":"\"Source: \"& L20&\", \"&P20&\", and \"&S20&\" American Community Survey Table B03002\"","v":"Source: 2008-2012, 2013-2017, and 2018-2022 American Community Survey Table B03002"}]
[]
[null,null,"Households and Families"]
[null,null,null,"2007-2012",null,null,"2013-2017",null,null,"2018-2022",null,null,null,{"$f":"\" Percent Change \"&L35","v":" Percent Change 2012-2022"},null,{"$f":"\" Percent Change \"&M35","v":" Percent Change 2017-2022"}]
[null,null,null,"Estimate","Margin of Error",null,"Estimate","Margin of Error",null,"Estimate","Margin of Error"]
[null,null,"Total Households",{"$f":"CntyDataLinkPrior10YearEstimate!$T$132","v":514869},{"$f":"CntyDataLinkPrior10YearEstimate!$U$132","v":1627},null,{"$f":"CntyDataLinkPrior5YearEstimates!$T$132","v":521373},{"$f":"CntyDataLinkPrior5YearEstimates!$U$132","v":2113},null,{"$f":"CntyDataLink!$T$132","v":540498},{"$f":"CntyDataLink!$U$132","v":1974},null,null,{"$f":"(J51-D51)/D51","v":4.9777710446734992E-2},null,{"$f":"(J51-G51)/G51","v":3.6681991587596594E-2}]
[null,null,"Persons per Household",{"$f":"CntyDataLinkPrior10YearEstimate!$BD$132","v":2.4785372589920933},{"$f":"CntyDataLinkPrior10YearEstimate!$BE$132","v":0.01},null,{"$f":"CntyDataLinkPrior5YearEstimates!$BD$132","v":2.4658258099287842},{"$f":"CntyDataLinkPrior5YearEstimates!$BE$132","v":0.03},null,{"$f":"CntyDataLink!$BD$132","v":2.4645678614906994},{"$f":"CntyDataLink!$BE$132","v":0.01},null,null,{"$f":"(J52-D52)/D52","v":-5.6361458560742518E-3},null,{"$f":"(J52-G52)/G52","v":-5.101530014892375E-4}]
[null,null,"Family Households",{"$f":"CntyDataLinkPrior10YearEstimate!$V$132","v":348040},{"$f":"CntyDataLinkPrior10YearEstimate!$U$132","v":1627},null,{"$f":"CntyDataLinkPrior5YearEstimates!$V$132","v":346476},{"$f":"CntyDataLinkPrior5YearEstimates!$U$132","v":2113},null,{"$f":"CntyDataLink!$V$132","v":352210},{"$f":"CntyDataLink!$U$132","v":1974},null,null,1.1981381450407998E-2,null,1.6549486833142845E-2]
[null,null,"Persons per Family Household",{"$f":"CntyDataLinkPrior10YearEstimate!$BF$132","v":3.0478278358809332},{"$f":"CntyDataLinkPrior10YearEstimate!$BG$132","v":2.1713848056152642E-2},null,{"$f":"CntyDataLinkPrior5YearEstimates!$BF$132","v":3.0518564056384858},{"$f":"CntyDataLinkPrior5YearEstimates!$BG$132","v":2.6597533912272878E-2},null,{"$f":"CntyDataLink!$BF$132","v":3.0827262144743193},{"$f":"CntyDataLink!$BG$132","v":2.5985338886396987E-2},null,null,1.1450246035074737E-2,null,1.011509217104699E-2]
[null,null,"Married-Couple Family Hh",{"$f":"CntyDataLinkPrior10YearEstimate!$X$132","v":279173},{"$f":"CntyDataLinkPrior10YearEstimate!$Y$132","v":2139},null,{"$f":"CntyDataLinkPrior5YearEstimates!$X$132","v":273886},{"$f":"CntyDataLinkPrior5YearEstimates!$Y$132","v":2671},null,{"$f":"CntyDataLink!$X$132","v":281942},{"$f":"CntyDataLink!$Y$132","v":2816},null,null,9.9185809515963223E-3,null,2.9413697669833434E-2]
[null,null,"Single-Parent Family Hh",{"$f":"CntyDataLinkPrior10YearEstimate!$Z$132","v":68867},{"$f":"CntyDataLinkPrior10YearEstimate!$AA$132","v":1758},null,{"$f":"CntyDataLinkPrior5YearEstimates!$Z$132","v":72590},{"$f":"CntyDataLinkPrior5YearEstimates!$AA$132","v":1982},null,{"$f":"CntyDataLink!$Z$132","v":70268},{"$f":"CntyDataLink!$AA$132","v":1940},null,null,2.034356077656933E-2,null,-3.1987877118060337E-2]
[null,null,"Non-Family Households",{"$f":"CntyDataLinkPrior10YearEstimate!$AF$132","v":166829},{"$f":"CntyDataLinkPrior10YearEstimate!$AG$132","v":2174},null,{"$f":"CntyDataLinkPrior5YearEstimates!$AF$132","v":174897},{"$f":"CntyDataLinkPrior5YearEstimates!$AG$132","v":2379},null,{"$f":"CntyDataLink!$AF$132","v":188288},{"$f":"CntyDataLink!$AG$132","v":2658},null,null,0.12862871563097544,null,7.6565064009102499E-2]
[null,null,"Persons per Non-Family Hh",{"$f":"CntyDataLinkPrior10YearEstimate!$BH$132","v":1.2908786841616267},{"$f":"CntyDataLinkPrior10YearEstimate!$BI$132","v":2.5521700324385565E-2},null,{"$f":"CntyDataLinkPrior5YearEstimates!$BH$132","v":1.3048823021549827},{"$f":"CntyDataLinkPrior5YearEstimates!$BI$132","v":2.784341953785097E-2},null,{"$f":"CntyDataLink!$BH$132","v":1.3082458786539768},{"$f":"CntyDataLink!$BI$132","v":2.8861196144244455E-2},null,null,1.3453777419548471E-2,null,2.5776857372034512E-3]
[]
[]
[null,"As a result of changes in the American Community Survey, direct comparisons between the data should be made with caution."]
[]
[null,{"$f":"\"Source: \"& L20&\", \"&P20&\", and \"&S20&\" American Community Survey Table B11001\"","v":"Source: 2008-2012, 2013-2017, and 2018-2022 American Community Survey Table B11001"}]
[null,"POPULATION CHARACTERISTICS"]

{"sheet":"SchoolEnrolEduAttain","index":3,"n_rows":67,"n_cols":17,"rows_kept":67,"cut":false,"hidden":true,"merged":[[20,15,20,16],[49,15,49,16],[49,5,49,7],[20,5,20,7],[20,8,20,10],[20,11,20,13],[49,8,49,10]]}
[]
[null,null,{"$f":"CntyDataLink!A50","v":"Grafton County"}]
[null,null,"SOCIAL CHARACTERISTICS"]
[]
[]
[]
[]
[]
[]
[]
[]
[]
[]
[]
[]
[]
[]
[]
[]
[]
[null,null,"School Enrollment",null,null,"2008-2012",null,null,"2013-2017",null,null,"2018-2022",null,null,null,"Statistically Significant Change"]
[null,null,null,null,null,"Estimate"," Margin of Error","Percent of Population","Estimate"," Margin of Error","Percent of Population","Estimate"," Margin of Error","Percent of Population",null,"2012-2022","2017-2022"]
[null,null,"Population 3 years and over",null,null,{"$f":"CntyDataLinkPrior10YearEstimate!$B$140","v":1275668},{"$f":"CntyDataLinkPrior10YearEstimate!$C$140","v":908},null,{"$f":"CntyDataLinkPrior5YearEstimates!$B$140","v":1290419},{"$f":"CntyDataLinkPrior5YearEstimates!$C$140","v":732},null,{"$f":"CntyDataLink!$B$140","v":1336082},{"$f":"CntyDataLink!$C$140","v":833},null,null,{"$f":"StatisticallySignificantCalcs!$A$45","v":"Y"},{"$f":"StatisticallySignificantCalcs!$J$45","v":"Y"}]
[null,null,"Population 3 years & over enrolled in school",null,null,{"$f":"CntyDataLinkPrior10YearEstimate!$D$140","v":332571},{"$f":"CntyDataLinkPrior10YearEstimate!$E$140","v":1908},{"$f":"F24/$F$23","v":0.26070341185951201},{"$f":"CntyDataLinkPrior5YearEstimates!$D$140","v":316403},{"$f":"CntyDataLinkPrior5YearEstimates!$E$140","v":2088},{"$f":"I24/$I$23","v":0.24519400287813492},{"$f":"CntyDataLink!$D$140","v":302247},{"$f":"CntyDataLink!$E$140","v":2637},{"$f":"L24/$L$23","v":0.22621889973818973},null,{"$f":"StatisticallySignificantCalcs!$A$46","v":"Y"},{"$f":"StatisticallySignificantCalcs!$J$46","v":"Y"}]
[null,null,"Preprimary (Nursery, Preschool, Kindergarten)",null,null,{"$f":"CntyDataLinkPrior10YearEstimate!$F$140","v":34659},{"$f":"CntyDataLinkPrior10YearEstimate!$G$140","v":1087.5890768116421},{"$f":"F25/$F$23","v":2.7169294832197721E-2},{"$f":"CntyDataLinkPrior5YearEstimates!$F$140","v":32841},{"$f":"CntyDataLinkPrior5YearEstimates!$G$140","v":1130.7612480094992},{"$f":"I25/$I$23","v":2.5449873258220779E-2},{"$f":"CntyDataLink!$F$140","v":31170},{"$f":"CntyDataLink!$G$140","v":1260.3019479473955},{"$f":"L25/$L$23","v":2.3329406428647344E-2},null,{"$f":"StatisticallySignificantCalcs!$A$47","v":"Y"},{"$f":"StatisticallySignificantCalcs!$J$47","v":"N"}]
[null,null,"        Nursery school and Preschool",null,null,{"$f":"CntyDataLinkPrior10YearEstimate!$H$140","v":19421},{"$f":"CntyDataLinkPrior10YearEstimate!$I$140","v":711},1.5224180586171324E-2,{"$f":"CntyDataLinkPrior5YearEstimates!$H$140","v":18156},{"$f":"CntyDataLinkPrior5YearEstimates!$I$140","v":810},1.4069848630561082E-2,{"$f":"CntyDataLink!$H$140","v":17867},{"$f":"CntyDataLink!$I$140","v":925},1.3372682215612514E-2,null,{"$f":"StatisticallySignificantCalcs!$A$48","v":"Y"},{"$f":"StatisticallySignificantCalcs!$J$48","v":"N"}]
[null,null,"        Kindergarten",null,null,{"$f":"CntyDataLinkPrior10YearEstimate!$J$140","v":15238},{"$f":"CntyDataLinkPrior10YearEstimate!$K$140","v":823},1.1945114246026395E-2,{"$f":"CntyDataLinkPrior5YearEstimates!$J$140","v":14685},{"$f":"CntyDataLinkPrior5YearEstimates!$K$140","v":789},1.1380024627659698E-2,{"$f":"CntyDataLink!$J$140","v":13303},{"$f":"CntyDataLink!$K$140","v":856},9.9567242130348295E-3,null,{"$f":"StatisticallySignificantCalcs!$A$49","v":"Y"},{"$f":"StatisticallySignificantCalcs!$J$49","v":"Y"}]
[null,null,"Elementary through High school",null,null,{"$f":"CntyDataLinkPrior10YearEstimate!$P$140","v":206789},{"$f":"CntyDataLinkPrior10YearEstimate!$Q$140","v":2148.9320603499777},0.1621025219728017,{"$f":"CntyDataLinkPrior5YearEstimates!$P$140","v":189131},{"$f":"CntyDataLinkPrior5YearEstimates!$Q$140","v":1846.5798114351842},0.14656557288756597,{"$f":"CntyDataLink!$P$140","v":183046},{"$f":"CntyDataLink!$Q$140","v":2457.8309543172409},0.13700207023221628,null,{"$f":"StatisticallySignificantCalcs!$A$50","v":"Y"},{"$f":"StatisticallySignificantCalcs!$J$50","v":"Y"}]
[null,null,"        Elementary school (grades 1-8)",null,null,{"$f":"CntyDataLinkPrior10YearEstimate!$L$140","v":132395},{"$f":"CntyDataLinkPrior10YearEstimate!$M$140","v":1911.4353245663324},0.10378484056980343,{"$f":"CntyDataLinkPrior5YearEstimates!$L$140","v":121256},{"$f":"CntyDataLinkPrior5YearEstimates!$M$140","v":1497.8174121033578},9.3966378362376868E-2,{"$f":"CntyDataLink!$L$140","v":117702},{"$f":"CntyDataLink!$M$140","v":2195.9319206204914},8.8094892379359954E-2,null,{"$f":"StatisticallySignificantCalcs!$A$51","v":"Y"},{"$f":"StatisticallySignificantCalcs!$J$51","v":"Y"}]
[null,null,"        High school (grades 9-12)",null,null,{"$f":"CntyDataLinkPrior10YearEstimate!$N$140","v":74394},{"$f":"CntyDataLinkPrior10YearEstimate!$O$140","v":982},5.831768140299827E-2,{"$f":"CntyDataLinkPrior5YearEstimates!$N$140","v":67875},{"$f":"CntyDataLinkPrior5YearEstimates!$O$140","v":1080},5.2599194525189102E-2,{"$f":"CntyDataLink!$N$140","v":65344},{"$f":"CntyDataLink!$O$140","v":1104},4.8907177852856337E-2,null,{"$f":"StatisticallySignificantCalcs!$A$52","v":"Y"},{"$f":"StatisticallySignificantCalcs!$J$52","v":"Y"}]
[null,null,"College or Graduate School",null,null,{"$f":"CntyDataLinkPrior10YearEstimate!$R$140","v":91123},{"$f":"CntyDataLinkPrior10YearEstimate!$S$140","v":1691.6855499767089},7.1431595054512617E-2,{"$f":"CntyDataLinkPrior5YearEstimates!$R$140","v":94431},{"$f":"CntyDataLinkPrior5YearEstimates!$S$140","v":1604.1271770031203},{"$f":"I31/$I$23","v":7.3178556732348174E-2},{"$f":"CntyDataLink!$R$140","v":88031},{"$f":"CntyDataLink!$S$140","v":2333.1785186736142},6.588742307732609E-2,null,{"$f":"StatisticallySignificantCalcs!$A$53","v":"Y"},{"$f":"StatisticallySignificantCalcs!$J$53","v":"Y"}]
[]
[null,null,{"$f":"\"Source: \"&F21&\", \"& I21&\" and \"&L21&\" American Community Survey Table B14001\"","v":"Source: 2008-2012, 2013-2017 and 2018-2022 American Community Survey Table B14001"}]
[]
[]
[]
[]
[]
[]
[]
[]
[]
[]
[]
[]
[]
[]
[]
[]
[null,null,"Educational Attainment",null,null,{"$f":"F21","v":"2008-2012"},null,null,{"$f":"I21","v":"2013-2017"},null,null,{"$f":"L21","v":"2018-2022"},null,null,null,"Statistically Significant Change"]
[null,null,null,null,null,"Estimate"," Margin of Error","Percent of Population","Estimate"," Margin of Error","Percent of Population","Estimate"," Margin of Error","Percent of Population",null,{"$f":"P22","v":"2012-2022"},{"$f":"Q22","v":"2017-2022"}]
[null,null,"Population 25 years and over",null,null,{"$f":"CntyDataLinkPrior10YearEstimate!$V$140","v":901420},{"$f":"CntyDataLinkPrior10YearEstimate!$W$140","v":476},null,{"$f":"CntyDataLinkPrior5YearEstimates!$V$140","v":932344},{"$f":"CntyDataLinkPrior5YearEstimates!$W$140","v":468},null,{"$f":"CntyDataLink!$V$140","v":986106},{"$f":"CntyDataLink!$W$140","v":521},null,null,{"$f":"StatisticallySignificantCalcs!A54","v":"Y"},{"$f":"StatisticallySignificantCalcs!$J$54","v":"Y"}]
[null,null,"Less than 9th Grade",null,null,{"$f":"CntyDataLinkPrior10YearEstimate!$X$140","v":21345},{"$f":"CntyDataLinkPrior10YearEstimate!$Y$140","v":1056.5292234481733},{"$f":"F53/$F$52","v":2.367930598389208E-2},{"$f":"CntyDataLinkPrior5YearEstimates!$X$140","v":16647},{"$f":"CntyDataLinkPrior5YearEstimates!$Y$140","v":957.15933887728431},{"$f":"I53/$I$52","v":1.785499772616116E-2},{"$f":"CntyDataLink!$X$140","v":13811},{"$f":"CntyDataLink!$Y$140","v":1029.3488232858674},{"$f":"L53/$L$52","v":1.4005593719133643E-2},null,{"$f":"StatisticallySignificantCalcs!A55","v":"Y"},{"$f":"StatisticallySignificantCalcs!$J$55","v":"Y"}]
[null,null,"9th to 12th Grade, no Diploma",null,null,{"$f":"CntyDataLinkPrior10YearEstimate!$Z$140","v":53236},{"$f":"CntyDataLinkPrior10YearEstimate!$AA$140","v":1532.8662694442721},{"$f":"F54/$F$52","v":5.9057930820261367E-2},{"$f":"CntyDataLinkPrior5YearEstimates!$Z$140","v":47217},{"$f":"CntyDataLinkPrior5YearEstimates!$AA$140","v":1480.5168016608254},{"$f":"I54/$I$52","v":5.0643324781411155E-2},{"$f":"CntyDataLink!$Z$140","v":41913},{"$f":"CntyDataLink!$AA$140","v":1623.2273408244453},{"$f":"L54/$L$52","v":4.2503544243722276E-2},null,{"$f":"StatisticallySignificantCalcs!A56","v":"Y"},{"$f":"StatisticallySignificantCalcs!$J$56","v":"Y"}]
[null,null,"High School Graduate ",null,null,{"$f":"CntyDataLinkPrior10YearEstimate!$AB$140","v":266108},{"$f":"CntyDataLinkPrior10YearEstimate!$AC$140","v":3080.5994546516431},0.29520978012469218,{"$f":"CntyDataLinkPrior5YearEstimates!$AB$140","v":264372},{"$f":"CntyDataLinkPrior5YearEstimates!$AC$140","v":2916.3556024600293},0.2835562839466978,{"$f":"CntyDataLink!$AB$140","v":269342},{"$f":"CntyDataLink!$AC$140","v":3601.2021603903327},0.27313696499159318,null,{"$f":"StatisticallySignificantCalcs!A57","v":"Y"},{"$f":"StatisticallySignificantCalcs!$J$57","v":"Y"}]
[null,null,"Some College, No Degree",null,null,{"$f":"CntyDataLinkPrior10YearEstimate!$AD$140","v":171847},{"$f":"CntyDataLinkPrior10YearEstimate!$AE$140","v":2488.1378579170409},0.19064032304586098,{"$f":"CntyDataLinkPrior5YearEstimates!$AD$140","v":176695},{"$f":"CntyDataLinkPrior5YearEstimates!$AE$140","v":2852.8964229358203},0.18951695940554131,{"$f":"CntyDataLink!$AD$140","v":175537},{"$f":"CntyDataLink!$AE$140","v":3463.6083785555202},0.17801027475748044,null,{"$f":"StatisticallySignificantCalcs!A58","v":"N"},{"$f":"StatisticallySignificantCalcs!$J$58","v":"N"}]
[null,null,"Associate Degree",null,null,{"$f":"CntyDataLinkPrior10YearEstimate!$AF$140","v":85948},{"$f":"CntyDataLinkPrior10YearEstimate!$AG$140","v":1909.9426692966467},9.5347340862195207E-2,{"$f":"CntyDataLinkPrior5YearEstimates!$AF$140","v":91327},{"$f":"CntyDataLinkPrior5YearEstimates!$AG$140","v":2142.2441504179678},9.795418858275487E-2,{"$f":"CntyDataLink!$AF$140","v":101383},{"$f":"CntyDataLink!$AG$140","v":2294.3035980445134},0.10281146245941106,null,{"$f":"StatisticallySignificantCalcs!A59","v":"Y"},{"$f":"StatisticallySignificantCalcs!$J$59","v":"Y"}]
[null,null,"Bachelor's Degree",null,null,{"$f":"CntyDataLinkPrior10YearEstimate!$AH$140","v":189486},{"$f":"CntyDataLinkPrior10YearEstimate!$AI$140","v":2685.7140577507503},0.21020833795566995,{"$f":"CntyDataLinkPrior5YearEstimates!$AH$140","v":206061},{"$f":"CntyDataLinkPrior5YearEstimates!$AI$140","v":2628.4904412989599},0.22101391760980926,{"$f":"CntyDataLink!$AH$140","v":230314},{"$f":"CntyDataLink!$AI$140","v":3386.8429252033525},0.23355906971461485,null,{"$f":"StatisticallySignificantCalcs!A60","v":"Y"},{"$f":"StatisticallySignificantCalcs!$J$60","v":"Y"}]
[null,null,"Graduate or Professional Degree",null,null,{"$f":"CntyDataLinkPrior10YearEstimate!$AJ$140","v":58215},{"$f":"CntyDataLinkPrior10YearEstimate!$AK$140","v":1486.7511560446153},6.4581438175323372E-2,{"$f":"CntyDataLinkPrior5YearEstimates!$AJ$140","v":124615},{"$f":"CntyDataLinkPrior5YearEstimates!$AK$140","v":2019.1201053924453},0.13365774864213209,{"$f":"CntyDataLink!$AJ$140","v":146721},{"$f":"CntyDataLink!$AK$140","v":2642.3156510909139},0.14878826414198879,null,{"$f":"StatisticallySignificantCalcs!A61","v":"Y"},{"$f":"StatisticallySignificantCalcs!$J$61","v":"Y"}]
[]
[null,null,"Percent of High School Graduate or Higher",null,null,null,null,{"$f":"SUM(F55:F59)/F52","v":0.85598722016374162},null,null,{"$f":"SUM(I55:I59)/I52","v":0.9256990981869353},null,null,{"$f":"SUM(L55:L59)/L52","v":0.93630603606508833}]
[null,null,"Percent of Bachelor's Degree or Higher",null,null,null,null,{"$f":"SUM(F58:F59)/F52","v":0.27478977613099331},null,null,{"$f":"SUM(I58:I59)/I52","v":0.35467166625194135},null,null,{"$f":"SUM(L58:L59)/L52","v":0.38234733385660363}]
[]
[null,null,{"$f":"\"Source: \"&F21&\", \"&I21&\" and \"&L21&\" American Community Survey Table B15002\"","v":"Source: 2008-2012, 2013-2017 and 2018-2022 American Community Survey Table B15002"},null,null,null,null,"Data from the American Community Survey are estimates"]
[]
[null,null,"As a result of changes in the American Community Survey, direct comparisons between the data should be made with caution."]
[null,null,"be made with caution."]

{"sheet":"HousingCharacteristics","index":4,"n_rows":112,"n_cols":16,"rows_kept":112,"cut":false,"hidden":true,"merged":[[29,2,29,4],[29,5,29,7],[29,8,29,10],[29,11,29,12],[29,14,29,15],[85,2,85,4],[85,6,85,8],[85,10,85,12],[85,14,85,15],[68,3,68,5],[68,6,68,8],[68,9,68,11],[68,12,68,13],[68,14,68,15]]}
[]
[null,{"$f":"CntyDataLink!$A35","v":"Grafton County"}]
[]
[null,"HOUSING CHARACTERISTICS"]
[]
[]
[]
[]
[]
[]
[]
[]
[]
[]
[]
[]
[]
[]
[]
[]
[]
[]
[]
[]
[]
[]
[null,null,null,{"$f":"\"Source:  \"& \" \"&D69&\", \"&G69&\" and \"&J69& \" American Community Survey Table B25004; B25024; B25032\"","v":"Source:   2008-2012, 2013-2017 and 2018-2022 American Community Survey Table B25004; B25024; B25032"}]
[null,"Units by Tenure & Vacancy"]
[]
[null,null,"2008-2012",null,null,"2013-2017",null,null,"2018-2022",null,null,"Percent Change",null,null,"Statistically Significant Change"]
[null,null,"Estimate","Margin of Error","%","Estimate","Margin of Error","%","Estimate","Margin of Error","%","2012-2022","2017-2022",null,{"$f":"L31","v":"2012-2022"},{"$f":"M31","v":"2017-2022"}]
[null,"Total Units",{"$f":"CntyDataLinkPrior10YearEstimate!$B$108","v":611916},{"$f":"CntyDataLinkPrior5YearEstimates!$C$108","v":282},null,{"$f":"CntyDataLinkPrior5YearEstimates!$B$108","v":620729},{"$f":"CntyDataLinkPrior5YearEstimates!$C$108","v":282},null,{"$f":"CntyDataLink!$B$108","v":636480},{"$f":"CntyDataLink!$C$108","v":184},null,{"$f":"IF(I32=\"-\",\"-\",(I32-C32)/C32)","v":4.0142764693193181E-2},{"$f":"IF(I32=\"-\",\"-\",(I32-F32)/F32)","v":2.5375002617889612E-2},null,{"$f":"StatisticallySignificantCalcs!$A62","v":"Y"},{"$f":"StatisticallySignificantCalcs!$J62","v":"Y"}]
[null,"Occupied Units",{"$f":"CntyDataLinkPrior10YearEstimate!$D$108","v":514869},{"$f":"CntyDataLinkPrior5YearEstimates!$E$108","v":2113},{"$f":"ROUND(C33/C32,2)*100&\"% of Total\"","v":"84% of Total"},{"$f":"CntyDataLinkPrior5YearEstimates!$D$108","v":521373},{"$f":"CntyDataLinkPrior5YearEstimates!$E$108","v":2113},{"$f":"ROUND(F33/F32,2)*100&\"% of Total\"","v":"84% of Total"},{"$f":"CntyDataLink!$D$108","v":540498},{"$f":"CntyDataLink!$E$108","v":1974},{"$f":"ROUND(I33/I32,2)*100&\"% of Total\"","v":"85% of Total"},{"$f":"IF(I33=\"-\",\"-\",(I33-C33)/C33)","v":4.9777710446734992E-2},3.6681991587596594E-2,null,{"$f":"StatisticallySignificantCalcs!$A63","v":"Y"},{"$f":"StatisticallySignificantCalcs!$J63","v":"Y"}]
[null,"Owner Occupied",{"$f":"CntyDataLinkPrior10YearEstimate!$F$108","v":373342},{"$f":"CntyDataLinkPrior5YearEstimates!$G$108","v":2832},{"$f":"ROUND(C34/C33,2)*100&\"% of Occ.\"","v":"73% of Occ."},{"$f":"CntyDataLinkPrior5YearEstimates!$F$108","v":368553},{"$f":"CntyDataLinkPrior5YearEstimates!$G$108","v":2832},{"$f":"ROUND(F34/F33,2)*100&\"% of Occ.\"","v":"71% of Occ."},{"$f":"CntyDataLink!$F$108","v":387149},{"$f":"CntyDataLink!$G$108","v":2619},{"$f":"ROUND(I34/I33,2)*100&\"% of Occ.\"","v":"72% of Occ."},{"$f":"IF(I34=\"-\",\"-\",(I34-C34)/C34)","v":3.6982177199457872E-2},5.0456786405211736E-2,null,{"$f":"StatisticallySignificantCalcs!$A64","v":"Y"},{"$f":"StatisticallySignificantCalcs!$J64","v":"Y"}]
[null,"Renter Occupied",{"$f":"CntyDataLinkPrior10YearEstimate!$H$108","v":141527},{"$f":"CntyDataLinkPrior5YearEstimates!$I$108","v":2219},{"$f":"ROUND(C35/C33,2)*100&\"% of Occ.\"","v":"27% of Occ."},{"$f":"CntyDataLinkPrior5YearEstimates!$H$108","v":152820},{"$f":"CntyDataLinkPrior5YearEstimates!$I$108","v":2219},{"$f":"ROUND(F35/F33,2)*100&\"% of Occ.\"","v":"29% of Occ."},{"$f":"CntyDataLink!$H$108","v":153349},{"$f":"CntyDataLink!$I$108","v":1981},{"$f":"ROUND(I35/I33,2)*100&\"% of Occ.\"","v":"28% of Occ."},{"$f":"IF(I35=\"-\",\"-\",(I35-C35)/C35)","v":8.3531764256996904E-2},3.4615887972778434E-3,null,{"$f":"StatisticallySignificantCalcs!$A65","v":"Y"},{"$f":"StatisticallySignificantCalcs!$J65","v":"N"}]
[null,"Vacant Units",{"$f":"CntyDataLinkPrior10YearEstimate!$J$108","v":97047},{"$f":"CntyDataLinkPrior5YearEstimates!$K$108","v":2051},{"$f":"ROUND(C36/C32,2)*100&\"% of Total\"","v":"16% of Total"},{"$f":"CntyDataLinkPrior5YearEstimates!$J$108","v":99356},{"$f":"CntyDataLinkPrior5YearEstimates!$K$108","v":2051},{"$f":"ROUND(F36/F32,2)*100&\"% of Total\"","v":"16% of Total"},{"$f":"CntyDataLink!$J$108","v":95982},{"$f":"CntyDataLink!$K$108","v":1935},{"$f":"ROUND(I36/I32,2)*100&\"% of Total\"","v":"15% of Total"},{"$f":"IF(I36=\"-\",I36,VALUE((I36-C36)/C36))","v":-1.0974064113264707E-2},-3.3958693989291036E-2,null,{"$f":"StatisticallySignificantCalcs!$A66","v":"N"},{"$f":"StatisticallySignificantCalcs!$J66","v":"Y"}]
[null,"Vacant For Sale",{"$f":"CntyDataLinkPrior10YearEstimate!$P$108","v":6769},{"$f":"CntyDataLinkPrior5YearEstimates!$Q$108","v":538},{"$f":"ROUND(C37/(C$36),3)*100&\"% Vac.\"","v":"7% Vac."},{"$f":"CntyDataLinkPrior5YearEstimates!$P$108","v":5192},{"$f":"CntyDataLinkPrior5YearEstimates!$Q$108","v":538},{"$f":"ROUND(F37/(F$36),3)*100&\"% Vac.\"","v":"5.2% Vac."},{"$f":"CntyDataLink!$P$108","v":2866},{"$f":"CntyDataLink!$Q$108","v":477},{"$f":"ROUND(I37/(I$36),3)*100&\"% Vac.\"","v":"3% Vac."},{"$f":"IF(I37=\"-\",I37,VALUE((I37-C37)/C37))","v":-0.57659920224553107},-0.44799691833590138,null,{"$f":"StatisticallySignificantCalcs!$A67","v":"Y"},{"$f":"StatisticallySignificantCalcs!$J67","v":"Y"}]
[null,"Vacant For Rent",{"$f":"CntyDataLinkPrior10YearEstimate!$L$108","v":8396},{"$f":"CntyDataLinkPrior5YearEstimates!$M$108","v":657},{"$f":"ROUND(C38/(C$36),3)*100&\"% Vac.\"","v":"8.7% Vac."},{"$f":"CntyDataLinkPrior5YearEstimates!$L$108","v":7288},{"$f":"CntyDataLinkPrior5YearEstimates!$M$108","v":657},{"$f":"ROUND(F38/(F$36),3)*100&\"% Vac.\"","v":"7.3% Vac."},{"$f":"CntyDataLink!$L$108","v":6271},{"$f":"CntyDataLink!$M$108","v":787},{"$f":"ROUND(I38/(I$36),3)*100&\"% Vac.\"","v":"6.5% Vac."},{"$f":"IF(I38=\"-\",I38,VALUE((I38-C38)/C38))","v":-0.25309671272034301},-0.13954445664105378,null,{"$f":"StatisticallySignificantCalcs!$A68","v":"Y"},{"$f":"StatisticallySignificantCalcs!$J68","v":"N"}]
[null,"Vacant Seasonal",{"$f":"CntyDataLinkPrior10YearEstimate!$T$108","v":63842},{"$f":"CntyDataLinkPrior5YearEstimates!$U$108","v":1283},{"$f":"ROUND(C39/(C$36),3)*100&\"% Vac.\"","v":"65.8% Vac."},{"$f":"CntyDataLinkPrior5YearEstimates!$T$108","v":66969},{"$f":"CntyDataLinkPrior5YearEstimates!$U$108","v":1283},{"$f":"ROUND(F39/(F$36),3)*100&\"% Vac.\"","v":"67.4% Vac."},{"$f":"CntyDataLink!$T$108","v":67649},{"$f":"CntyDataLink!$U$108","v":1396},{"$f":"ROUND(I39/(I$36),3)*100&\"% Vac.\"","v":"70.5% Vac."},{"$f":"IF(I39=\"-\",I39,VALUE((I39-C39)/C39))","v":5.9631590489019767E-2},1.0153951828457942E-2,null,{"$f":"StatisticallySignificantCalcs!$A69","v":"Y"},{"$f":"StatisticallySignificantCalcs!$J69","v":"N"}]
[]
[null,"Data from the American Community Survey are estimates"]
[]
[]
[null,"HOUSING CHARACTERISTICS"]
[]
[]
[]
[]
[]
[]
[]
[]
[]
[]
[]
[]
[]
[]
[]
[]
[]
[]
[]
[]
[null,null,null,{"$f":"\"Source: \"& \" \"&D69&\", \"&G69&\" and \"&J69& \"  American Community Survey Table B25024; B25032\"","v":"Source:  2008-2012, 2013-2017 and 2018-2022  American Community Survey Table B25024; B25032"}]
[]
[null,null,"Units by Type"]
[]
[null,null,null,{"$f":"C30","v":"2008-2012"},null,null,{"$f":"F30","v":"2013-2017"},null,null,{"$f":"I30","v":"2018-2022"},null,null,"Percent Change",null,"Statistically Significant Change"]
[null,null,null,"Estimate","Margin of Error","% of Total","Estimate","Margin of Error","% of Total","Estimate","Margin of Error","% of Total",{"$f":"L31","v":"2012-2022"},{"$f":"M31","v":"2017-2022"},{"$f":"O31","v":"2012-2022"},{"$f":"P31","v":"2017-2022"}]
[null,null,"Total Units",{"$f":"CntyDataLinkPrior10YearEstimate!$B$108","v":611916},{"$f":"CntyDataLinkPrior10YearEstimate!$C$108","v":594},null,{"$f":"CntyDataLinkPrior5YearEstimates!$B$108","v":620729},{"$f":"CntyDataLinkPrior5YearEstimates!$C$108","v":282},null,{"$f":"CntyDataLink!$B$108","v":636480},{"$f":"CntyDataLink!$C$108","v":184},null,null,null,{"$f":"StatisticallySignificantCalcs!$A70","v":"Y"},{"$f":"StatisticallySignificantCalcs!$J70","v":"Y"}]
[null,null,"Single Family Units",{"$f":"CntyDataLinkPrior10YearEstimate!$AT$108","v":389227},{"$f":"CntyDataLinkPrior10YearEstimate!$AU$108","v":1890},{"$f":"IF(D72=\"-\",\"-\",($D$72/$D$71))","v":0.63607913504467939},{"$f":"CntyDataLinkPrior5YearEstimates!$AT$108","v":394161},{"$f":"CntyDataLinkPrior5YearEstimates!$AU$108","v":2299},{"$f":"IF(G72=\"-\",\"-\",($G$72/$G$71))","v":0.63499691491778221},{"$f":"CntyDataLink!$AT$108","v":403000},{"$f":"CntyDataLink!$AU$108","v":2705},{"$f":"IF(J72=\"-\",\"-\",($J$72/$J$71))","v":0.63316993464052285},{"$f":"IF(J72=\"-\",\"-\",($J72-$D72)/$D72)","v":3.5385520531720567E-2},{"$f":"IF(J72=\"-\",\"-\",($J72-$G72)/$G72)","v":2.2424846699698853E-2},{"$f":"StatisticallySignificantCalcs!$A71","v":"Y"},{"$f":"StatisticallySignificantCalcs!$J71","v":"Y"}]
[null,null,"SF Owner Occ.",{"$f":"CntyDataLinkPrior10YearEstimate!$AF$108","v":303896},{"$f":"CntyDataLinkPrior10YearEstimate!$AG$108","v":1931},null,{"$f":"CntyDataLinkPrior5YearEstimates!$AF$108","v":303561},{"$f":"CntyDataLinkPrior5YearEstimates!$AG$108","v":2951},null,{"$f":"CntyDataLink!$AF$108","v":317587},{"$f":"CntyDataLink!$AG$108","v":2675},null,null,null,{"$f":"StatisticallySignificantCalcs!$A72","v":"Y"},{"$f":"StatisticallySignificantCalcs!$J72","v":"Y"}]
[null,null,"SF Renter Occ.",{"$f":"CntyDataLinkPrior10YearEstimate!$AN$108","v":23423},{"$f":"CntyDataLinkPrior10YearEstimate!$AO$108","v":1064},null,{"$f":"CntyDataLinkPrior5YearEstimates!$AN$108","v":27273},{"$f":"CntyDataLinkPrior5YearEstimates!$AO$108","v":1068},null,{"$f":"CntyDataLink!$AN$108","v":22859},{"$f":"CntyDataLink!$AO$108","v":1057},null,null,null,{"$f":"StatisticallySignificantCalcs!$A73","v":"N"},{"$f":"StatisticallySignificantCalcs!$J73","v":"Y"}]
[null,null,"Multi-family Units",{"$f":"CntyDataLinkPrior10YearEstimate!$AV$108","v":186536},{"$f":"CntyDataLinkPrior10YearEstimate!$AW$108","v":2933.4428578037787},{"$f":"IF(D75=\"-\",\"-\",$D$75/$D$71)","v":0.30483922629903448},{"$f":"CntyDataLinkPrior5YearEstimates!$AV$108","v":190441},{"$f":"CntyDataLinkPrior5YearEstimates!$AW$108","v":2929.5989486617445},{"$f":"IF(G75=\"-\",\"-\",$G$75/$G$71)","v":0.30680216326287318},{"$f":"CntyDataLink!$AV$108","v":198955},{"$f":"CntyDataLink!$AW$108","v":3296.689854990912},{"$f":"IF(J75=\"-\",\"-\",$J$75/$J$71)","v":0.3125864127702363},{"$f":"IF(J75=\"-\",\"-\",($J75-$D75)/$D75)","v":6.6576961015568037E-2},{"$f":"IF(J75=\"-\",\"-\",($J75-$G75)/$G75)","v":4.4706759573831266E-2},{"$f":"StatisticallySignificantCalcs!$A74","v":"Y"},{"$f":"StatisticallySignificantCalcs!$J74","v":"Y"}]
[null,null,"MF Owner Occ.",{"$f":"CntyDataLinkPrior10YearEstimate!$AH$108","v":43650},{"$f":"CntyDataLinkPrior10YearEstimate!$AI$108","v":1332.1020981891741},null,{"$f":"CntyDataLinkPrior5YearEstimates!$AH$108","v":40926},{"$f":"CntyDataLinkPrior5YearEstimates!$AI$108","v":1257.0688127544968},null,{"$f":"CntyDataLink!$AH$108","v":45353},{"$f":"CntyDataLink!$AI$108","v":1671.6213686119233},null,null,null,{"$f":"StatisticallySignificantCalcs!$A75","v":"N"},{"$f":"StatisticallySignificantCalcs!$J75","v":"Y"}]
[null,null,"MF Renter Occ.",{"$f":"CntyDataLinkPrior10YearEstimate!$AP$108","v":113575},{"$f":"CntyDataLinkPrior10YearEstimate!$AQ$108","v":2457.3577273160699},null,{"$f":"CntyDataLinkPrior5YearEstimates!$AP$108","v":121078},{"$f":"CntyDataLinkPrior5YearEstimates!$AQ$108","v":2356.2181562834967},null,{"$f":"CntyDataLink!$AP$108","v":126869},{"$f":"CntyDataLink!$AQ$108","v":2753.8738170075985},null,null,null,{"$f":"StatisticallySignificantCalcs!$A76","v":"Y"},{"$f":"StatisticallySignificantCalcs!$J76","v":"Y"}]
[null,null,"Mobile Home & Other",{"$f":"CntyDataLinkPrior10YearEstimate!$AX$108","v":36153},{"$f":"CntyDataLinkPrior10YearEstimate!$AY$108","v":1018.8881194714168},{"$f":"IF(D78=\"-\",\"-\",($D$78/$D$71))","v":5.9081638656286156E-2},{"$f":"CntyDataLinkPrior5YearEstimates!$AX$108","v":36127},{"$f":"CntyDataLinkPrior5YearEstimates!$AY$108","v":1088.8824546295159},{"$f":"IF(G78=\"-\",\"-\",($G$78/$G$71))","v":5.8200921819344671E-2},{"$f":"CntyDataLink!$AX$108","v":34525},{"$f":"CntyDataLink!$AY$108","v":1065.7964158318416},{"$f":"IF(J78=\"-\",\"-\",($J$78/$J$71))","v":5.4243652589240826E-2},{"$f":"IF(J78=\"-\",\"-\",($J78-$D78)/$D78)","v":-4.5030841147345999E-2},{"$f":"IF(J78=\"-\",\"-\",($J78-$G78)/$G78)","v":-4.4343565754145102E-2},{"$f":"StatisticallySignificantCalcs!$A77","v":"Y"},{"$f":"StatisticallySignificantCalcs!$J77","v":"Y"}]
[]
[null,"Data from the American Community Survey are estimates"]
[]
[]
[null,"Units by Number of Bedrooms "]
[null,null,null,{"$f":"\"Source: \"& \" \"&D69&\", \"&G69&\" and \"&J69& \" American Community Survey Table B25041\"","v":"Source:  2008-2012, 2013-2017 and 2018-2022 American Community Survey Table B25041"}]
[]
[null,null,{"$f":"C30","v":"2008-2012"},null,null,null,{"$f":"F30","v":"2013-2017"},null,null,null,{"$f":"I30","v":"2018-2022"},null,null,null,"Statistically Significant Change"]
[null,"Bedrooms","Estimate","Margin of Error","% of Total",null,"Estimate","Margin of Error","% of Total",null,"Estimate","Margin of Error","% of Total",null,{"$f":"O31","v":"2012-2022"},{"$f":"P31","v":"2017-2022"}]
[null,"No Bedrooms",{"$f":"CntyDataLinkPrior10YearEstimate!$BR$108","v":9703},{"$f":"CntyDataLinkPrior10YearEstimate!$BS$108","v":766},{"$f":"C88/SUM($C$88:$C$92)","v":1.5856751580282262E-2},null,{"$f":"CntyDataLinkPrior5YearEstimates!$BR$108","v":12127},{"$f":"CntyDataLinkPrior5YearEstimates!$BS$108","v":798},{"$f":"G88/SUM($G$88:$G$92)","v":2.0244327515057628E-2},null,{"$f":"CntyDataLink!$BT$108","v":12498},{"$f":"CntyDataLink!$BU$108","v":920},{"$f":"K88/SUM($K$88:$K$92)","v":1.9636123680241327E-2},null,{"$f":"StatisticallySignificantCalcs!$A78","v":"Y"},{"$f":"StatisticallySignificantCalcs!$J78","v":"N"}]
[null,"1 Bedroom",{"$f":"CntyDataLinkPrior10YearEstimate!$BT$108","v":66974},{"$f":"CntyDataLinkPrior10YearEstimate!$BU$108","v":1616},{"$f":"C89/SUM($C$88:$C$92)","v":0.10944966302564405},null,{"$f":"CntyDataLinkPrior5YearEstimates!$BT$108","v":66476},{"$f":"CntyDataLinkPrior5YearEstimates!$BU$108","v":1479},{"$f":"G89/SUM($G$88:$G$92)","v":0.11097236875492461},null,{"$f":"CntyDataLink!$BV$108","v":70365},{"$f":"CntyDataLink!$BW$108","v":1841},{"$f":"K89/SUM($K$88:$K$92)","v":0.11055335595776772},null,{"$f":"StatisticallySignificantCalcs!$A79","v":"Y"},{"$f":"StatisticallySignificantCalcs!$J79","v":"Y"}]
[null,"2 Bedrooms",{"$f":"CntyDataLinkPrior10YearEstimate!$BV$108","v":187828},{"$f":"CntyDataLinkPrior10YearEstimate!$BW$108","v":2132},{"$f":"C90/SUM($C$88:$C$92)","v":0.30695062721027067},null,{"$f":"CntyDataLinkPrior5YearEstimates!$BV$108","v":187719},{"$f":"CntyDataLinkPrior5YearEstimates!$BW$108","v":2334},{"$f":"G90/SUM($G$88:$G$92)","v":0.31337057118818362},null,{"$f":"CntyDataLink!$BX$108","v":189796},{"$f":"CntyDataLink!$BY$108","v":3044},{"$f":"K90/SUM($K$88:$K$92)","v":0.29819632981397687},null,{"$f":"StatisticallySignificantCalcs!$A80","v":"Y"},{"$f":"StatisticallySignificantCalcs!$J80","v":"N"}]
[null,"3 Bedrooms",{"$f":"CntyDataLinkPrior10YearEstimate!$BX$108","v":234199},{"$f":"CntyDataLinkPrior10YearEstimate!$BY$108","v":2547},{"$f":"C91/SUM($C$88:$C$92)","v":0.38273063623111669},null,{"$f":"CntyDataLinkPrior5YearEstimates!$BX$108","v":236923},{"$f":"CntyDataLinkPrior5YearEstimates!$BY$108","v":2464},{"$f":"G91/SUM($G$88:$G$92)","v":0.39550975573925934},null,{"$f":"CntyDataLink!$BZ$108","v":240436},{"$f":"CntyDataLink!$CA$108","v":3110},{"$f":"K91/SUM($K$88:$K$92)","v":0.37775892408245348},null,{"$f":"StatisticallySignificantCalcs!$A81","v":"Y"},{"$f":"StatisticallySignificantCalcs!$J81","v":"N"}]
[null,"4+ Bedrooms",{"$f":"CntyDataLinkPrior10YearEstimate!$BZ$108","v":113212},{"$f":"CntyDataLinkPrior10YearEstimate!$CA$108","v":1873.9103500434592},{"$f":"C92/SUM($C$88:$C$92)","v":0.18501232195268633},null,{"$f":"CntyDataLinkPrior5YearEstimates!$BZ$108","v":95787},{"$f":"CntyDataLinkPrior5YearEstimates!$CA$108","v":1695},{"$f":"G92/SUM($G$88:$G$92)","v":0.15990297680257481},null,{"$f":"CntyDataLink!$CB$108","v":123385},{"$f":"CntyDataLink!$CC$108","v":2412.7461532453017},{"$f":"K92/SUM($K$88:$K$92)","v":0.19385526646556059},null,{"$f":"StatisticallySignificantCalcs!$A82","v":"Y"},{"$f":"StatisticallySignificantCalcs!$J82","v":"Y"}]
[]
[null,"As a result of changes in the American Community Survey, direct comparisons between the 2009-2013 and 2018-2022 data should be made with caution."]
[null,"Data from the American Community Survey are estimates"]
[]
[null,"Units by Year Built   "]
[null,{"$f":"\"Source: \"&K86& \" American Community Survey Table B25034\"","v":"Source: 2018-2022 American Community Survey Table B25034"}]
[]
[null,null,null,"Year Built",null,null,"Units  ",null,"% of Total",null,"Margin of Error"]
[null,null,null,null,null,"2020 or later",{"$f":"CntyDataLink!$AZ$108","v":691},null,{"$f":"G101/SUM($G$101:$G$110)","v":1.0856586224233284E-3},null,{"$f":"CntyDataLink!$BA$108","v":296}]
[null,null,null,null,null,"2010 through 2019",{"$f":"CntyDataLink!$BB$108","v":31709},null,4.9819318753142286E-2,null,{"$f":"CntyDataLink!$BC$108","v":1342}]
[null,null,null,null,null,"2000 through 2009",{"$f":"CntyDataLink!$BD$108","v":73390},null,0.11530605832076421,null,{"$f":"CntyDataLink!$BE$108","v":1991}]
[null,null,null,null,null,"1990 through 1999",{"$f":"CntyDataLink!$BF$108","v":66653},null,0.10472127953745601,null,{"$f":"CntyDataLink!$BG$108","v":1850}]
[null,null,null,null,null,"1980 through 1989",{"$f":"CntyDataLink!$BH$108","v":123115},null,0.19343105832076421,null,{"$f":"CntyDataLink!$BI$108","v":2522}]
[null,null,null,null,null,"1970 through 1979",{"$f":"CntyDataLink!$BJ$108","v":95004},null,0.14926470588235294,null,{"$f":"CntyDataLink!$BK$108","v":2008}]
[null,null,null,null,null,"1960 through 1969",{"$f":"CntyDataLink!$BL$108","v":54907},null,8.6266654097536449E-2,null,{"$f":"CntyDataLink!$BM$108","v":1705}]
[null,null,null,null,null,"1950 through 1959",{"$f":"CntyDataLink!$BN$108","v":43168},null,6.7823026646556053E-2,null,{"$f":"CntyDataLink!$BO$108","v":1859}]
[null,null,null,null,null,"1940 through 1949",{"$f":"CntyDataLink!$BP$108","v":22789},null,3.5804738562091501E-2,null,{"$f":"CntyDataLink!$BQ$108","v":1306}]
[null,null,null,null,null,"1939 and earlier",{"$f":"CntyDataLink!$BR$108","v":125054},null,0.19647750125691302,null,{"$f":"CntyDataLink!$BS$108","v":2093}]
[]
[null,"Data from the American Community Survey are estimates"]

{"sheet":"BuildingPermitsSince2000","index":5,"n_rows":41,"n_cols":25,"rows_kept":41,"cut":false,"hidden":true,"merged":[[3,1,3,3]]}
[]
[null,{"$f":"CntyDataLink!A35","v":"Grafton County"}]
[]
[null,"HOUSING CHARACTERISTICS"]
[]
[]
[]
[]
[]
[]
[]
[]
[]
[]
[]
[]
[]
[]
[]
[]
[]
[]
[]
[]
[]
[]
[]
[]
[]
[]
[]
[]
[]
[]
[null,"Housing Units Authorized by Permit",null,null,null,"Source: New Hampshire Office of Planning and Development, NH BEA"]
[]
[null,"Year",2000,{"$f":"C37+1","v":2001},{"$f":"D37+1","v":2002},2003,2004,2005,2006,2007,2008,2009,2010,2011,2012,2013,2014,2015,2016,2017,2018,2019,2020,2021,"Total"]
[null,"Single Family",{"$f":"CntyDataLink!$BU$20","v":331},{"$f":"CntyDataLink!$BX$20","v":407},{"$f":"CntyDataLink!$CA$20","v":482},{"$f":"CntyDataLink!$CD$20","v":477},{"$f":"CntyDataLink!$CG$20","v":552},{"$f":"CntyDataLink!$CJ$20","v":501},{"$f":"CntyDataLink!$CM$20","v":385},{"$f":"CntyDataLink!$CO$20","v":28},{"$f":"CntyDataLink!$CS$20","v":137},{"$f":"CntyDataLink!$CV$20","v":138},{"$f":"CntyDataLink!$CY$20","v":161},{"$f":"CntyDataLink!$DB$20","v":128},{"$f":"CntyDataLink!$DE$20","v":70},{"$f":"CntyDataLink!$DH$20","v":113},{"$f":"CntyDataLink!$DK$20","v":102},{"$f":"CntyDataLink!$DN$20","v":107},{"$f":"CntyDataLink!$DQ$20","v":135},{"$f":"CntyDataLink!$DT$20","v":140},{"$f":"CntyDataLink!$DW$20","v":140},{"$f":"CntyDataLink!$DZ$20","v":160},{"$f":"CntyDataLink!$EC$20","v":204},{"$f":"CntyDataLink!$EI$20","v":253},{"$f":"SUM(C38:X38)","v":5151}]
[null,"Multi-family",{"$f":"CntyDataLink!$BV$20","v":110},{"$f":"CntyDataLink!$BY$20","v":81},{"$f":"CntyDataLink!$CB$20","v":183},{"$f":"CntyDataLink!$CE$20","v":270},{"$f":"CntyDataLink!$CH$20","v":60},{"$f":"CntyDataLink!$CK$20","v":200},{"$f":"CntyDataLink!$CN$20","v":222},{"$f":"CntyDataLink!$CP$20","v":272},{"$f":"CntyDataLink!$CT$20","v":128},{"$f":"CntyDataLink!$CW$20","v":141},{"$f":"CntyDataLink!$CZ$20","v":275},{"$f":"CntyDataLink!$DC$20","v":53},{"$f":"CntyDataLink!$DF$20","v":61},{"$f":"CntyDataLink!$DI$20","v":42},{"$f":"CntyDataLink!$DL$20","v":139},{"$f":"CntyDataLink!$DO$20","v":52},{"$f":"CntyDataLink!$DR$20","v":37},{"$f":"CntyDataLink!$DU$20","v":130},{"$f":"CntyDataLink!$DX$20","v":180},{"$f":"CntyDataLink!$EA$20","v":149},{"$f":"CntyDataLink!$ED$20","v":385},{"$f":"CntyDataLink!$EJ$20","v":123},{"$f":"SUM(C39:X39)","v":3293}]
[null,"Manufactured",{"$f":"CntyDataLink!$BW$20","v":80},{"$f":"CntyDataLink!$BZ$20","v":65},{"$f":"CntyDataLink!$CC$20","v":75},{"$f":"CntyDataLink!$CF$20","v":59},{"$f":"CntyDataLink!$CI$20","v":71},{"$f":"CntyDataLink!$CL$20","v":80},{"$f":"CntyDataLink!$CO$20","v":28},{"$f":"CntyDataLink!$CR$20","v":35},{"$f":"CntyDataLink!$CU$20","v":24},{"$f":"CntyDataLink!$CX$20","v":10},{"$f":"CntyDataLink!$DA$20","v":3},{"$f":"CntyDataLink!$DD$20","v":-1},{"$f":"CntyDataLink!$DG$20","v":4},{"$f":"CntyDataLink!$DJ$20","v":12},{"$f":"CntyDataLink!$DM$20","v":3},{"$f":"CntyDataLink!$DP$20","v":12},{"$f":"CntyDataLink!$DR$20","v":37},{"$f":"CntyDataLink!$DV$20","v":18},{"$f":"CntyDataLink!$DY$20","v":17},{"$f":"CntyDataLink!$EB$20","v":5},{"$f":"CntyDataLink!$EE$20","v":29},{"$f":"CntyDataLink!$EK$20","v":21},{"$f":"SUM(C40:X40)","v":687}]
[null,"Total",{"$f":"SUM(C38:C40)","v":521},{"$f":"SUM(D38:D40)","v":553},740,806,683,781,635,335,289,289,439,180,135,167,244,171,209,288,{"$f":"SUM(U38:U40)","v":337},{"$f":"SUM(V38:V40)","v":314},{"$f":"SUM(W38:W40)","v":618},{"$f":"SUM(X38:X40)","v":397},{"$f":"SUM(Y38:Y40)","v":9131}]

{"sheet":"EmploymentAndWages","index":6,"n_rows":117,"n_cols":14,"rows_kept":117,"cut":false,"hidden":true,"merged":[[35,1,35,2],[73,1,73,2],[66,1,67,3]]}
[]
[null,{"$f":"CntyDataLink!A35","v":"Grafton County"}]
[]
[null,"EMPLOYMENT CHARACTERISTICS"]
[]
[]
[]
[]
[]
[]
[]
[]
[]
[]
[]
[]
[]
[]
[]
[]
[]
[]
[]
[]
[]
[]
[]
[]
[null,"Annual Average Covered Private Employment "]
[null,null,"Source: NH Department of Employment Security, Covered Private Employment by location of employment"]
[null,null,2012,2013,2014,2015,2016,2017,2018,2019,2020,2021,{"$f":"L31+1","v":2022},"Total Change  "]
[null,"Goods Producing",90404,90890,92176,93968,96138,97995,100089,101907,97843,99578,{"$f":"IF((CntyDataLink!$FQ$25)=\"n\",NA(),IF(VALUE(CntyDataLink!$FQ$25)=\"\",NA(),VALUE(CntyDataLink!$FQ$25)))","v":6756},{"$f":"$M32-C32","v":-83648}]
[null,"Service Providing",436858,443216,449265,458308,466699,471029,473955,478487,444981,467996,{"$f":"IF((CntyDataLink!$FR$25)=\"n\",NA(),IF(VALUE(CntyDataLink!$FR$25)=\"\",NA(),VALUE(CntyDataLink!$FR$25)))","v":40292},{"$f":"$M33-C33","v":-396566}]
[null,"Total Private Emp",527263,534106,541441,552276,562836,569023,574044,580394,542824,567574,{"$f":"IF((CntyDataLink!$FPH$25)=\"n\",NA(),IF(VALUE(CntyDataLink!$FP$25)=\"\",NA(),VALUE(CntyDataLink!$FP$25)))","v":47047},{"$f":"$M34-C34","v":-480216}]
[]
[null,"% Change from prior Year",null,"12-13","13-14","14-15","15-16","16-17","17-18","18-19","19-20","20-21","21-22","Total % Change"]
[null,"Goods Producing",null,{"$f":"(D32-C32)/C32","v":5.3758683244104245E-3},1.4148971283969634E-2,1.9441069258809233E-2,2.3092967818831942E-2,1.9315983274043564E-2,{"$f":"(I32-H32)/H32","v":2.1368437165161489E-2},1.8163834187573061E-2,-3.9879497973642632E-2,1.7732489805095918E-2,-0.93215368856574743,{"$f":"N32/C32","v":-0.92526879341622048}]
[null,"Service Providing",null,1.4553928278754194E-2,1.3647972997364716E-2,2.0128431994479872E-2,{"$f":"(G33-F33)/F33","v":1.8308648332562381E-2},9.2779286006612408E-3,6.211931749425195E-3,9.5620892278802834E-3,-7.0024890958375038E-2,5.1721309449167495E-2,-0.9139052470533936,{"$f":"N33/C33","v":-0.90776865709223598}]
[null,"Total Private Emp",null,1.2978342876325478E-2,1.3733228984508693E-2,2.0011413986011403E-2,1.9120874345435978E-2,1.0992544897625595E-2,8.8238963978608947E-3,1.1061869821825505E-2,-6.4731889027109177E-2,4.5594888951114909E-2,-0.91710860610246414,{"$f":"N34/C34","v":-0.9107712849185321}]
[]
[]
[null,"EMPLOYMENT CHARACTERISTICS"]
[]
[]
[]
[]
[]
[]
[]
[]
[]
[]
[]
[]
[]
[]
[]
[]
[]
[]
[]
[]
[]
[]
[]
[]
[null,"Covered Private Employment Average Wages",null,null,null,null,"Source: NH Department of Employment Security, Covered Private Employment"]
[]
[null,null,2012,2013,2014,2015,2016,2017,2018,2019,2020,2021,{"$f":"L69+1","v":2022},"Total $ Change"]
[null,"Goods Producing",1152.07,1173.1099999999999,1200.71,1224.55,1251.03,1294.46,1317.59,1346.98,1431.08,1483.75,{"$f":"IF((CntyDataLink!$FU$25)=\"n\",NA(),IF(VALUE(CntyDataLink!$FU$25)=\"\",NA(),VALUE(CntyDataLink!$FU$25)))","v":1348},{"$f":"M70-C70","v":195.93000000000006}]
[null,"Service Providing",893.72,905.2,954.42,980.34,999.7,1028.1199999999999,1061.8499999999999,1102.03,1233.99,1412.5,{"$f":"IF((CntyDataLink!FV$25)=\"n\",NA(),IF(VALUE(CntyDataLink!$FV$25)=\"\",NA(),VALUE(CntyDataLink!$FV$25)))","v":1358},{"$f":"M71-C71","v":464.28}]
[null,"Total Private Emp",938.02,950.79,996.35,1021.89,1042.6300000000001,1073.99,1106.44,1145.04,1269.51,1425,{"$f":"IF((CntyDataLink!$FT$25)=\"n\",NA(),IF(VALUE(CntyDataLink!$FT$25)=\"\",NA(),VALUE(CntyDataLink!$FT$25)))","v":1356},{"$f":"M72-C72","v":417.98}]
[]
[null,"% Change from prior Year",null,{"$f":"D36","v":"12-13"},"13-14","14-15","15-16","16-17","17-18","18-19","19-20","20-21","21-22","Total % Change"]
[null,"Goods Producing",null,{"$f":"(D70-C70)/C70","v":1.8262779171404484E-2},2.3527205462403472E-2,1.9854919172822678E-2,2.1624270140051464E-2,3.4715394514919756E-2,1.786845479968472E-2,2.2305876638408079E-2,6.243596786886213E-2,3.6804371523604607E-2,-9.1491154170176919E-2,{"$f":"N70/C70","v":0.17006779101964298}]
[null,"Service Providing",null,1.2845186411851606E-2,5.4374723817940687E-2,2.715785503237576E-2,1.9748250606932301E-2,2.8428528558567413E-2,3.2807454382756895E-2,3.7839619531949018E-2,0.11974265673348279,0.1446608157278422,-3.8584070796460174E-2,{"$f":"N71/C71","v":0.51949156335317548}]
[null,"Total Private Emp",null,1.3613782222127441E-2,4.7918047097676733E-2,2.563356250313641E-2,2.029572654591015E-2,3.0077784065296313E-2,3.0214434026387627E-2,3.4886663533494726E-2,0.10870362607419831,0.12248032705532057,-4.8421052631578948E-2,{"$f":"N72/C72","v":0.4455981748790005}]
[]
[]
[null,"LABOR FORCE AND UNEMPLOYMENT CHARACTERISTICS"]
[]
[]
[]
[]
[]
[]
[]
[]
[]
[]
[]
[]
[]
[]
[]
[]
[]
[]
[]
[]
[]
[]
[]
[]
[]
[]
[]
[]
[]
[null,"Annual Average Labor Force and Unemployment "]
[null,null,2012,{"$f":"C111+1","v":2013},{"$f":"D111+1","v":2014},2015,2016,2017,2018,2019,2020,2021,2022,"Total Change  "]
[null,"Civilian Labor Force",{"$f":"CntyDataLink!$CL$30","v":48730},{"$f":"CntyDataLink!$CP$30","v":48360},{"$f":"CntyDataLink!$CT$30","v":48550},{"$f":"CntyDataLink!$CX$30","v":48690},{"$f":"CntyDataLink!$DB$30","v":48810},{"$f":"CntyDataLink!$DF$30","v":49340},{"$f":"CntyDataLink!$DJ$30","v":49860},{"$f":"CntyDataLink!$DN$30","v":50040},{"$f":"CntyDataLink!$DR$30","v":47860},{"$f":"CntyDataLink!$DV$30","v":48470},{"$f":"CntyDataLink!$DZ$30","v":48940},{"$f":"$M112-$C112","v":210}]
[null,"Employed Labor Force",{"$f":"CntyDataLink!$CM$30","v":46560},{"$f":"CntyDataLink!$CQ$30","v":46320},{"$f":"CntyDataLink!$CU$30","v":46880},{"$f":"CntyDataLink!$CY$30","v":47360},{"$f":"CntyDataLink!$DC$30","v":47660},{"$f":"CntyDataLink!$DG$30","v":48210},{"$f":"CntyDataLink!$DK$30","v":48780},{"$f":"CntyDataLink!$DO$30","v":48930},{"$f":"CntyDataLink!$DS$30","v":45030},{"$f":"CntyDataLink!$DW$30","v":46900},{"$f":"CntyDataLink!$EA$30","v":47800},{"$f":"$M113-C113","v":1240}]
[null,"Unemployed Labor Force",{"$f":"CntyDataLink!$CN$30","v":2170},{"$f":"CntyDataLink!$CR$30","v":2040},{"$f":"CntyDataLink!$CV$30","v":1670},{"$f":"CntyDataLink!$CZ$30","v":1330},{"$f":"CntyDataLink!$DD$30","v":1150},{"$f":"CntyDataLink!$DH$30","v":1130},{"$f":"CntyDataLink!$DL$30","v":1080},{"$f":"CntyDataLink!$DP$30","v":1110},{"$f":"CntyDataLink!$DT$30","v":2830},{"$f":"CntyDataLink!$DX$30","v":1570},{"$f":"CntyDataLink!$EB$30","v":1140},{"$f":"$M114-C114","v":-1030}]
[null,"Unemployment Rate",{"$f":"CntyDataLink!$CO$30","v":4.4000000000000004},{"$f":"CntyDataLink!$CS$30","v":4.2},{"$f":"CntyDataLink!$CW$30","v":3.4000000000000004},{"$f":"CntyDataLink!$DA$30","v":2.7},{"$f":"CntyDataLink!$DE$30","v":2.4},{"$f":"CntyDataLink!$DI$30","v":2.2999999999999998},{"$f":"CntyDataLink!$DM$30","v":2.2999999999999998},{"$f":"CntyDataLink!$DQ$30","v":2.2999999999999998},{"$f":"CntyDataLink!$DU$30","v":5.9},{"$f":"CntyDataLink!$DY$30","v":3.2},{"$f":"CntyDataLink!$EC$30","v":2.2999999999999998}]
[]
[null,"Source: NH Department of Employment Security, Local Area Unemployment Statistics"]

{"sheet":"EmpVsHUxCounty","index":7,"n_rows":124,"n_cols":14,"rows_kept":124,"cut":false,"hidden":true,"merged":[[64,0,64,11],[79,0,80,9]]}
[]
[{"$f":"A45","v":"Grafton County"}]
[]
[]
[]
[]
[]
[]
[]
[]
[]
[]
[]
[]
[]
[]
[]
[]
[]
[]
[]
[]
[]
[]
[]
[]
[]
[]
[]
[]
[]
[]
[]
[]
[]
[]
[]
[]
[]
[]
[]
[]
[]
["Housing Units "]
[{"$f":"CntyDataLink!A20","v":"Grafton County"}]
[null,null,null,"Source: Office of Planning and Development, NH BEA"]
["Units Authorized By Permit",2010,{"$f":"B47+1","v":2011},{"$f":"C47+1","v":2012},2013,2014,2015,2016,2017,2018,2019,2020,2021]
["Single Family",{"$f":"CntyDataLink!$CY$20","v":161},{"$f":"CntyDataLink!$DB$20","v":128},{"$f":"CntyDataLink!$DE$20","v":70},{"$f":"CntyDataLink!$DH$20","v":113},{"$f":"CntyDataLink!$DK$20","v":102},{"$f":"CntyDataLink!$DN$20","v":107},{"$f":"CntyDataLink!$DQ$20","v":135},{"$f":"CntyDataLink!$DT$20","v":140},{"$f":"CntyDataLink!$DW$20","v":140},{"$f":"CntyDataLink!$DZ$20","v":160},{"$f":"CntyDataLink!$EC$20","v":204},{"$f":"CntyDataLink!$EI$20","v":253}]
["Multi-family",{"$f":"CntyDataLink!$CZ$20","v":275},{"$f":"CntyDataLink!$DC$20","v":53},{"$f":"CntyDataLink!$DF$20","v":61},{"$f":"CntyDataLink!$DI$20","v":42},{"$f":"CntyDataLink!$DL$20","v":139},{"$f":"CntyDataLink!$DO$20","v":52},{"$f":"CntyDataLink!$DR$20","v":37},{"$f":"CntyDataLink!$DU$20","v":130},{"$f":"CntyDataLink!$DX$20","v":180},{"$f":"CntyDataLink!$EA$20","v":149},{"$f":"CntyDataLink!$ED$20","v":385},{"$f":"CntyDataLink!$EJ$20","v":123}]
["Mobile Home",{"$f":"CntyDataLink!$DA$20","v":3},{"$f":"CntyDataLink!$DD$20","v":-1},{"$f":"CntyDataLink!$DG$20","v":4},{"$f":"CntyDataLink!$DJ$20","v":12},{"$f":"CntyDataLink!$DM$20","v":3},{"$f":"CntyDataLink!$DP$20","v":12},{"$f":"CntyDataLink!$DR$20","v":37},{"$f":"CntyDataLink!$DV$20","v":18},{"$f":"CntyDataLink!$DY$20","v":17},{"$f":"CntyDataLink!$EB$20","v":5},{"$f":"CntyDataLink!$EE$20","v":29},{"$f":"CntyDataLink!$EK$20","v":21}]
["Total",{"$f":"SUM(B48:B50)","v":439},180,135,167,244,171,209,288,{"$f":"SUM(J48:J50)","v":337},{"$f":"SUM(K48:K50)","v":314},{"$f":"SUM(L48:L50)","v":618},{"$f":"SUM(M48:M50)","v":397}]
[]
["Total Housing Units","2010 Census",2011,{"$f":"C53+1","v":2012},2013,2014,2015,2016,2017,2018,2019,2020,2021,2022]
["Single Family",{"$f":"CntyDataLink!$BA$167","v":31687},{"$f":"B48+B54","v":31848},31976,32046,32159,32261,32368,32503,32643,32783,{"$f":"K54+K48","v":32943},33147,33400]
["Multi Family",{"$f":"CntyDataLink!$BB$167","v":15353},15628,15681,15742,15784,15923,15975,16012,16142,16322,16471,16856,16979]
["Mobile Home",{"$f":"CntyDataLink!$BC$167","v":4084},4087,4086,4090,4102,4105,4117,4154,4172,4189,4194,4223,4244]
["Total",{"$f":"SUM(B54:B56)","v":51124},51563,51743,51878,52045,52289,52460,52669,52957,53294,53608,54226,{"$f":"SUM(N54:N56)","v":54623}]
[]
["Percent Change","2000-2010 Census"," 10-11"," 11-12","12-13","13-14","14-15","15-16","16-17","17-18","18-19","19-20","20-21","21-22"]
["Single Family",{"$f":"(B54-CntyDataLink!CF$65)/CntyDataLink!CF$65","v":0.17887570222106478},{"$f":"(C54-B54)/B54","v":5.0809480228484871E-3},4.0190906807334838E-3,2.1891418563922942E-3,3.5261811146476939E-3,3.1717404148138935E-3,3.3166981804655777E-3,4.1707859614434012E-3,4.3072947112574225E-3,4.2888214931225688E-3,4.8805783485343012E-3,6.1925143429560148E-3,7.6326666063293814E-3]
["Multi Family",{"$f":"(B55-SUM(CntyDataLink!CG65:CM65))/SUM(CntyDataLink!CG65:CM65)","v":0.17180583117081361},1.7911808767016219E-2,3.3913488610186845E-3,3.8900580320132645E-3,2.6680218523694576E-3,8.8063862138874818E-3,3.2657162594988383E-3,2.3161189358372456E-3,8.1189108168873338E-3,1.1151034568207161E-2,9.1287832373483646E-3,2.3374415639609011E-2,7.2971048884670148E-3]
["Mobile Home",{"$f":"(B56-SUM(CntyDataLink!CN65))/(CntyDataLink!CN65)","v":0.11554220158426659},7.3457394711067578E-4,-2.4467824810374357E-4,9.7895252080274116E-4,2.9339853300733498E-3,7.3135056070209659E-4,2.92326431181486E-3,8.9871265484576142E-3,4.3331728454501688E-3,4.0747842761265579E-3,1.1936022917164002E-3,6.914639961850262E-3,4.9727681742836845E-3]
["Total",{"$f":"(B57-CntyDataLink!$CE65)/CntyDataLink!$CE65","v":0.16910974410574217},8.586965026210782E-3,3.4908752399976728E-3,2.6090485669559168E-3,3.2190909441381704E-3,4.6882505524065716E-3,3.2702862934842892E-3,3.9839878002287457E-3,5.4681121722455336E-3,6.3636535302226335E-3,5.8918452358614481E-3,1.1528130129831369E-2,7.321211227086637E-3]
[]
[]
[]
[]
["Private Employment"]
[{"$f":"CntyDataLink!A25","v":"Grafton County"}]
[null,2011,2012,{"$f":"C70+1","v":2013},2014,2015,2016,2017,2018,2019,2020,2021,2022]
["Goods Producing",{"$f":"IF((CntyDataLink!$CG$25)=\"n\",NA(),IF(VALUE(CntyDataLink!$CG$25)=\"\",NA(),VALUE(CntyDataLink!$CG$25)))","v":6681},{"$f":"IF((CntyDataLink!$CO$25)=\"n\",NA(),IF(VALUE(CntyDataLink!$CO$25)=\"\",NA(),VALUE(CntyDataLink!$CO$25)))","v":6818},{"$f":"IF((CntyDataLink!$CW$25)=\"n\",NA(),IF(VALUE(CntyDataLink!$CW$25)=\"\",NA(),VALUE(CntyDataLink!$CW$25)))","v":6717},{"$f":"IF((CntyDataLink!$DE$25)=\"n\",NA(),IF(VALUE(CntyDataLink!$DE$25)=\"\",NA(),VALUE(CntyDataLink!$DE$25)))","v":6778},{"$f":"IF((CntyDataLink!$DM$25)=\"n\",NA(),IF(VALUE(CntyDataLink!$DM$25)=\"\",NA(),VALUE(CntyDataLink!$DM$25)))","v":6882},{"$f":"IF((CntyDataLink!$DU$25)=\"n\",NA(),IF(VALUE(CntyDataLink!$DU$25)=\"\",NA(),VALUE(CntyDataLink!$DU$25)))","v":6801},{"$f":"IF((CntyDataLink!$EC$25)=\"n\",NA(),IF(VALUE(CntyDataLink!$EC$25)=\"\",NA(),VALUE(CntyDataLink!$EC$25)))","v":6781},{"$f":"IF((CntyDataLink!$EK$25)=\"n\",NA(),IF(VALUE(CntyDataLink!$EK$25)=\"\",NA(),VALUE(CntyDataLink!$EK$25)))","v":6926},{"$f":"IF((CntyDataLink!$ES$25)=\"n\",NA(),IF(VALUE(CntyDataLink!$ES$25)=\"\",NA(),VALUE(CntyDataLink!$ES$25)))","v":6855},{"$f":"IF((CntyDataLink!$FA$25)=\"n\",NA(),IF(VALUE(CntyDataLink!$FA$25)=\"\",NA(),VALUE(CntyDataLink!$FA$25)))","v":6338},{"$f":"IF((CntyDataLink!$FI$25)=\"n\",NA(),IF(VALUE(CntyDataLink!$FI$25)=\"\",NA(),VALUE(CntyDataLink!$FI$25)))","v":6526},{"$f":"IF((CntyDataLink!$FQ$25)=\"n\",NA(),IF(VALUE(CntyDataLink!$FQ$25)=\"\",NA(),VALUE(CntyDataLink!$FQ$25)))","v":6756}]
["Service Providing",{"$f":"IF((CntyDataLink!$CH$25)=\"n\",NA(),IF(VALUE(CntyDataLink!$CH$25)=\"\",NA(),VALUE(CntyDataLink!$CH$25)))","v":38186},{"$f":"IF((CntyDataLink!$CP$25)=\"n\",NA(),IF(VALUE(CntyDataLink!$CP$25)=\"\",NA(),VALUE(CntyDataLink!$CP$25)))","v":38428},{"$f":"IF((CntyDataLink!$CX$25)=\"n\",NA(),IF(VALUE(CntyDataLink!$CX$25)=\"\",NA(),VALUE(CntyDataLink!$CX$25)))","v":38736},{"$f":"IF((CntyDataLink!$DF$25)=\"n\",NA(),IF(VALUE(CntyDataLink!$DF$25)=\"\",NA(),VALUE(CntyDataLink!$DF$25)))","v":38787},{"$f":"IF((CntyDataLink!$DN$25)=\"n\",NA(),IF(VALUE(CntyDataLink!$DN$25)=\"\",NA(),VALUE(CntyDataLink!$DN$25)))","v":39174},{"$f":"IF((CntyDataLink!$DV$25)=\"n\",NA(),IF(VALUE(CntyDataLink!$DV$25)=\"\",NA(),VALUE(CntyDataLink!$DV$25)))","v":39885},{"$f":"IF((CntyDataLink!$ED$25)=\"n\",NA(),IF(VALUE(CntyDataLink!$ED$25)=\"\",NA(),VALUE(CntyDataLink!$ED$25)))","v":40380},{"$f":"IF((CntyDataLink!$EL$25)=\"n\",NA(),IF(VALUE(CntyDataLink!$EL$25)=\"\",NA(),VALUE(CntyDataLink!$EL$25)))","v":40491},{"$f":"IF((CntyDataLink!$ET$25)=\"n\",NA(),IF(VALUE(CntyDataLink!$ET$25)=\"\",NA(),VALUE(CntyDataLink!$ET$25)))","v":40830},{"$f":"IF((CntyDataLink!$FB$25)=\"n\",NA(),IF(VALUE(CntyDataLink!$FB$25)=\"\",NA(),VALUE(CntyDataLink!$FB$25)))","v":37870},{"$f":"IF((CntyDataLink!$FJ$25)=\"n\",NA(),IF(VALUE(CntyDataLink!$FJ$25)=\"\",NA(),VALUE(CntyDataLink!$FJ$25)))","v":39308},{"$f":"IF((CntyDataLink!$FR$25)=\"n\",NA(),IF(VALUE(CntyDataLink!$FR$25)=\"\",NA(),VALUE(CntyDataLink!$FR$25)))","v":40292}]
["Total Private Emp",{"$f":"IF((CntyDataLink!$CF$25)=\"n\",NA(),IF(VALUE(CntyDataLink!$CF$25)=\"\",NA(),VALUE(CntyDataLink!$CF$25)))","v":44867},{"$f":"IF((CntyDataLink!$CN$25)=\"n\",NA(),IF(VALUE(CntyDataLink!$CN$25)=\"\",NA(),VALUE(CntyDataLink!$CN$25)))","v":45246},{"$f":"IF((CntyDataLink!$CV$25)=\"n\",NA(),IF(VALUE(CntyDataLink!$CV$25)=\"\",NA(),VALUE(CntyDataLink!$CV$25)))","v":45454},{"$f":"IF((CntyDataLink!$DD$25)=\"n\",NA(),IF(VALUE(CntyDataLink!$DD$25)=\"\",NA(),VALUE(CntyDataLink!$DD$25)))","v":45565},{"$f":"IF((CntyDataLink!$DL$25)=\"n\",NA(),IF(VALUE(CntyDataLink!$DL$25)=\"\",NA(),VALUE(CntyDataLink!$DL$25)))","v":46056},{"$f":"IF((CntyDataLink!$DT$25)=\"n\",NA(),IF(VALUE(CntyDataLink!$DT$25)=\"\",NA(),VALUE(CntyDataLink!$DT$25)))","v":46686},{"$f":"IF((CntyDataLink!$EB$25)=\"n\",NA(),IF(VALUE(CntyDataLink!$EB$25)=\"\",NA(),VALUE(CntyDataLink!$EB$25)))","v":47161},{"$f":"IF((CntyDataLink!$EJ$25)=\"n\",NA(),IF(VALUE(CntyDataLink!$EJ$25)=\"\",NA(),VALUE(CntyDataLink!$EJ$25)))","v":47417},{"$f":"IF((CntyDataLink!$ER$25)=\"n\",NA(),IF(VALUE(CntyDataLink!$ER$25)=\"\",NA(),VALUE(CntyDataLink!$ER$25)))","v":47685},{"$f":"IF((CntyDataLink!$EZ$25)=\"n\",NA(),IF(VALUE(CntyDataLink!$EZ$25)=\"\",NA(),VALUE(CntyDataLink!$EZ$25)))","v":44208},{"$f":"IF((CntyDataLink!$FH$25)=\"n\",NA(),IF(VALUE(CntyDataLink!$FH$25)=\"\",NA(),VALUE(CntyDataLink!$FH$25)))","v":45834},{"$f":"IF((CntyDataLink!$FPH$25)=\"n\",NA(),IF(VALUE(CntyDataLink!$FP$25)=\"\",NA(),VALUE(CntyDataLink!$FP$25)))","v":47047}]
[]
["Percent Change",null,"11-12","12-13","13-14","14-15","15-16","16-17","17-18","18-19","19-20","20-21","21-22"]
["Goods Producing",null,{"$f":"(C71-B71)/B71","v":2.0505912288579554E-2},-1.4813728366089763E-2,9.0814351645079651E-3,1.5343759221009147E-2,-1.1769834350479512E-2,-2.940744008234083E-3,2.138327680283144E-2,-1.0251227259601502E-2,-7.5419401896425972E-2,2.9662354054906911E-2,3.5243640821330066E-2]
["Service Providing",null,{"$f":"(C72-B72)/B72","v":6.3374011417797098E-3},8.0149890704694499E-3,1.3166047087980173E-3,9.9775698043158799E-3,1.8149793230203708E-2,1.2410680707032719E-2,2.7488855869242201E-3,8.3722308661183971E-3,-7.2495713935831499E-2,3.797200950620544E-2,2.5033072148163225E-2]
["Total Private Emp",null,{"$f":"(C73-B73)/B73","v":8.4471883566986875E-3},4.597091455598285E-3,2.442029304351652E-3,1.0775814770108636E-2,1.3678999478895257E-2,1.0174356338088506E-2,5.4282139903734017E-3,5.651981356897315E-3,-7.2916011324315827E-2,3.678067318132465E-2,2.6465069598987652E-2]
[]
[]
[]
["Source: New Hampshire Department of Employment Security"]
[]
[{"$f":"A2","v":"Grafton County"}]
[]
[]
[]
[]
[]
[]
[]
[]
[]
[]
[]
[]
[]
[]
[]
[]
[]
[]
[]
[]
[]
[]
[]
[]
[]
[]
[]
[]
[]
[]
[]
[]
[]
[]
[]
[null,null,2012,{"$f":"C120+1","v":2013},2014,2015,2016,2017,2018,2019,2020,2021,2022]
["Total Housing Units",null,{"$f":"B$57","v":51124},{"$f":"C$57","v":51563},{"$f":"D$57","v":51743},{"$f":"E$57","v":51878},{"$f":"F$57","v":52045},{"$f":"G$57","v":52289},{"$f":"H$57","v":52460},{"$f":"I$57","v":52669},{"$f":"J$57","v":52957},{"$f":"L$57","v":53608},{"$f":"M$57","v":54226}]
["Private & Government Emp.",null,{"$f":"VALUE(CntyDataLink!$CM$25)","v":52026},{"$f":"VALUE(CntyDataLink!$CU$25)","v":52153},{"$f":"VALUE(CntyDataLink!$DC$25)","v":52226},{"$f":"VALUE(CntyDataLink!$DK$25)","v":52654},{"$f":"VALUE(CntyDataLink!$DS$25)","v":53361},{"$f":"VALUE(CntyDataLink!$EA$25)","v":53790},{"$f":"VALUE(CntyDataLink!$EI$25)","v":54119},{"$f":"VALUE(CntyDataLink!$EQ$25)","v":54388},{"$f":"VALUE(CntyDataLink!$EY$25)","v":50622},{"$f":"VALUE(CntyDataLink!$FG$25)","v":52299},{"$f":"VALUE(CntyDataLink!$FO$25)","v":53193}]
[]
["Source: New Hampshire Department of Employment Security and Office of Planning and Development, NH BEA"]

{"sheet":"HHIncome-10YearComparison","index":8,"n_rows":50,"n_cols":17,"rows_kept":50,"cut":false,"hidden":true,"merged":[[27,15,27,16],[27,11,27,13],[28,1,28,2],[3,1,3,3],[26,1,26,4],[27,4,27,7],[27,8,27,10]]}
[]
[null,{"$f":"CntyDataLink!A35","v":"Grafton County"}]
[]
[null,"INCOME CHARACTERISTICS"]
[]
[]
[]
[]
[]
[]
[]
[]
[]
[]
[]
[]
[]
[]
[]
[]
[]
[]
[]
[]
[]
[]
[null,"Households By Household Income"]
[null,null,null,null,"2007-2011",null,null,null,"2012-2016",null,null,"2017-2021",null,null,null,"Statistically Significant Change"]
[null,"Household Income",null,null,"Estimate","Margin of Error",null,null,"Estimate"," Margin of Error",null,"Estimate"," Margin of Error",null,null,"2011-2021","2016-2021"]
[null,"Less than $10,000",null,null,{"$f":"CntyDataLinkPrior10YearEstimate!$B$120","v":2085},{"$f":"CntyDataLinkPrior10YearEstimate!$C$120","v":281},{"$f":"E30/SUM($E$30:$E$39)","v":5.9886259191176468E-2},null,{"$f":"CntyDataLinkPrior5YearEstimates!$B$120","v":1855},{"$f":"CntyDataLinkPrior5YearEstimates!$C$120","v":293},{"$f":"I30/SUM($I$30:$I$39)","v":5.2832445672296433E-2},{"$f":"CntyDataLink!$B$120","v":1581},{"$f":"CntyDataLink!$C$120","v":321},{"$f":"L30/SUM($L$30:$L$39)","v":4.6016823354774861E-2},null,{"$f":"StatisticallySignificantCalcs!$A$83","v":"Y"},{"$f":"StatisticallySignificantCalcs!$J$83","v":"N"}]
[null,"$10,000 to $14,999",null,null,{"$f":"CntyDataLinkPrior10YearEstimate!$D$120","v":1626},{"$f":"CntyDataLinkPrior10YearEstimate!$E$120","v":259},{"$f":"E31/SUM($E$30:$E$39)","v":4.6702665441176468E-2},null,{"$f":"CntyDataLinkPrior5YearEstimates!$D$120","v":1740},{"$f":"CntyDataLinkPrior5YearEstimates!$E$120","v":285},{"$f":"I31/SUM($I$30:$I$39)","v":4.9557118851641935E-2},{"$f":"CntyDataLink!$D$120","v":1325},{"$f":"CntyDataLink!$E$120","v":302},{"$f":"L31/SUM($L$30:$L$39)","v":3.8565648921617138E-2},null,{"$f":"StatisticallySignificantCalcs!$A$84","v":"N"},{"$f":"StatisticallySignificantCalcs!$J$84","v":"N"}]
[null,"$15,000 to $24,999",null,null,{"$f":"CntyDataLinkPrior10YearEstimate!$F$120","v":3500},{"$f":"CntyDataLinkPrior10YearEstimate!$G$120","v":396.40005045408355},0.10052849264705882,null,{"$f":"CntyDataLinkPrior5YearEstimates!$F$120","v":3500},{"$f":"CntyDataLinkPrior5YearEstimates!$G$120","v":377.01060993027767},9.9683859759049864E-2,{"$f":"CntyDataLink!$F$120","v":2706},{"$f":"CntyDataLink!$G$120","v":397.08059635293188},7.8761242250487529E-2,null,{"$f":"StatisticallySignificantCalcs!$A$85","v":"Y"},{"$f":"StatisticallySignificantCalcs!$J$85","v":"N"}]
[null,"$25,000 to $34,999",null,null,{"$f":"CntyDataLinkPrior10YearEstimate!$H$120","v":3604},{"$f":"CntyDataLinkPrior10YearEstimate!$I$120","v":315.73406531446682},0.103515625,null,{"$f":"CntyDataLinkPrior5YearEstimates!$H$120","v":3568},{"$f":"CntyDataLinkPrior5YearEstimates!$I$120","v":360.22354170709053},0.10162057474865427,{"$f":"CntyDataLink!$H$120","v":2706},{"$f":"CntyDataLink!$I$120","v":349.87140494758927},7.8761242250487529E-2,null,{"$f":"StatisticallySignificantCalcs!$A$86","v":"Y"},{"$f":"StatisticallySignificantCalcs!$J$86","v":"N"}]
[null,"$35,000 to $49,999",null,null,{"$f":"CntyDataLinkPrior10YearEstimate!$J$120","v":5494},{"$f":"CntyDataLinkPrior10YearEstimate!$K$120","v":468.59577462883721},0.15780101102941177,null,{"$f":"CntyDataLinkPrior5YearEstimates!$J$120","v":5182},{"$f":"CntyDataLinkPrior5YearEstimates!$K$120","v":413.41746455610701},0.14758907464897042,{"$f":"CntyDataLink!$J$120","v":3765},{"$f":"CntyDataLink!$K$120","v":438.14152964538755},0.10958465523765172,null,{"$f":"StatisticallySignificantCalcs!$A$87","v":"Y"},{"$f":"StatisticallySignificantCalcs!$J$87","v":"N"}]
[null,"$50,000 to $74,999",null,null,{"$f":"CntyDataLinkPrior10YearEstimate!$L$120","v":6290},{"$f":"CntyDataLinkPrior10YearEstimate!$M$120","v":471.64075311618268},0.1806640625,null,{"$f":"CntyDataLinkPrior5YearEstimates!$L$120","v":6579},{"$f":"CntyDataLinkPrior5YearEstimates!$M$120","v":456.11073216928366},0.18737717524422545,{"$f":"CntyDataLink!$L$120","v":5474},{"$f":"CntyDataLink!$M$120","v":479.93020325876552},0.15932706580900544,null,{"$f":"StatisticallySignificantCalcs!$A$88","v":"Y"},{"$f":"StatisticallySignificantCalcs!$J$88","v":"N"}]
[null,"$75,000 to $99,999",null,null,{"$f":"CntyDataLinkPrior10YearEstimate!$N$120","v":4544},{"$f":"CntyDataLinkPrior10YearEstimate!$O$120","v":369},0.13051470588235295,null,{"$f":"CntyDataLinkPrior5YearEstimates!$N$120","v":4757},{"$f":"CntyDataLinkPrior5YearEstimates!$O$120","v":342},0.13548460596394293,{"$f":"CntyDataLink!$N$120","v":5066},{"$f":"CntyDataLink!$O$120","v":459},0.14745175655616033,null,{"$f":"StatisticallySignificantCalcs!$A$89","v":"N"},{"$f":"StatisticallySignificantCalcs!$J$89","v":"N"}]
[null,"$100,000 to $149,999",null,null,{"$f":"CntyDataLinkPrior10YearEstimate!$P$120","v":4376},{"$f":"CntyDataLinkPrior10YearEstimate!$Q$120","v":404.22394783090226},0.12568933823529413,null,{"$f":"CntyDataLinkPrior5YearEstimates!$P$120","v":4404},{"$f":"CntyDataLinkPrior5YearEstimates!$Q$120","v":353.42042951702723},0.12543077667967303,{"$f":"CntyDataLink!$P$120","v":5775},{"$f":"CntyDataLink!$Q$120","v":488.21511652139571},0.16808801699799167,null,{"$f":"StatisticallySignificantCalcs!$A$90","v":"Y"},{"$f":"StatisticallySignificantCalcs!$J$90","v":"N"}]
[null,"$150,000 to $199,999",null,null,{"$f":"CntyDataLinkPrior10YearEstimate!$R$120","v":1629},{"$f":"CntyDataLinkPrior10YearEstimate!$S$120","v":180},4.6788832720588237E-2,null,{"$f":"CntyDataLinkPrior5YearEstimates!$R$120","v":1752},{"$f":"CntyDataLinkPrior5YearEstimates!$S$120","v":226},4.9898892085101537E-2,{"$f":"CntyDataLink!$R$120","v":2546},{"$f":"CntyDataLink!$S$120","v":362},7.410425822976395E-2,null,{"$f":"StatisticallySignificantCalcs!$A$91","v":"Y"},{"$f":"StatisticallySignificantCalcs!$J$91","v":"N"}]
[null,"Greater than $200,000",null,null,{"$f":"CntyDataLinkPrior10YearEstimate!$T$120","v":1668},{"$f":"CntyDataLinkPrior10YearEstimate!$U$120","v":226},4.790900735294118E-2,null,{"$f":"CntyDataLinkPrior5YearEstimates!$T$120","v":1774},{"$f":"CntyDataLinkPrior5YearEstimates!$U$120","v":235},5.0525476346444137E-2,{"$f":"CntyDataLink!$T$120","v":3413},{"$f":"CntyDataLink!$U$120","v":289},9.933929039205984E-2,null,{"$f":"StatisticallySignificantCalcs!$A$92","v":"Y"},{"$f":"StatisticallySignificantCalcs!$J$92","v":"N"}]
[]
[null,null,"Median HH Income",null,{"$f":"CntyDataLinkPrior10YearEstimate!$BV$128","v":53386},{"$f":"CntyDataLinkPrior10YearEstimate!$BW$128","v":1641},null,null,{"$f":"CntyDataLinkPrior5YearEstimates!$BV$128","v":61036},{"$f":"CntyDataLinkPrior5YearEstimates!$BW$128","v":2543},null,{"$f":"CntyDataLink!$BV$128","v":79949},{"$f":"CntyDataLink!$BW$128","v":2014}]
[null,null,"HH Income in 2022 Dollars",null,{"$f":"($E$50)*E41","v":68049.164307429644},{"$f":"($E$50)*F41","v":2091.7221486624217},null,null,{"$f":"($E$49)*I41","v":72872.432196475202},{"$f":"($E$49)*J41","v":3036.1523539490863}]
[]
[null,{"$f":"\"Source:  \"& \" \"&E28&\", \"&I28&\" and \"&L28& \"  American Community Survey; Tables B25119; B19001\"","v":"Source:   2007-2011, 2012-2016 and 2017-2021  American Community Survey; Tables B25119; B19001"}]
[]
[null,"Data from the American Community Survey are estimates."]
[]
[null,"CPI Adjustment Factor"]
[null,"2013-2017",null,null,1.1939254242819843]
[null,"2008-2012",null,null,1.2746631009521157]

{"sheet":"HHIncomeByAge","index":9,"n_rows":80,"n_cols":22,"rows_kept":80,"cut":false,"hidden":true,"merged":[[21,6,21,15]]}
[]
[null,null,{"$f":"CntyDataLink!A55","v":"Grafton County"}]
[null,null,"INCOME CHARACTERISTICS"]
[]
[]
[]
[]
[]
[]
[]
[]
[]
[]
[]
[]
[]
[]
[]
[]
[]
[null,null,{"$f":"HHIncomeByAge!C2","v":"Grafton County"},"Household Income in 2022"]
[null,null,null,null,null,null,"Households by Age of Householder "]
[null,null,null,"Households","Margin of Error Households",null,"Under 25","Margin of Error Under 25",null,"25 to 44","Margin of Error 25 to 44",null,"45 to 64","Margin of Error 45 to 64",null,"65 & Over","Margin of Error 65 & Over",null,"Family Households","Margin of Error Family HH","Non-Family HH","Margin of Error Non-Family HH"]
[null,null,"Less Than $10,000",{"$f":"CntyDataLink!$D$116","v":1581},{"$f":"CntyDataLink!$E$116","v":321},null,{"$f":"CntyDataLink!$AN$116","v":190},{"$f":"CntyDataLink!$AO$116","v":133},null,{"$f":"CntyDataLink!$BV$116","v":408},{"$f":"CntyDataLink!$BW$116","v":194},null,{"$f":"CntyDataLink!$DD$116","v":427},{"$f":"CntyDataLink!$DE$116","v":155},null,{"$f":"CntyDataLink!$EL$116","v":556},{"$f":"CntyDataLink!$EM$116","v":202},null,{"$f":"CntyDataLink!$D$160","v":609},{"$f":"CntyDataLink!$E$160","v":223},{"$f":"CntyDataLink!$AN$160","v":1037},{"$f":"CntyDataLink!$AO$160","v":212}]
[null,null,"$10,000 to $14,999",{"$f":"CntyDataLink!$F$116","v":1325},{"$f":"CntyDataLink!$G$116","v":302},null,{"$f":"CntyDataLink!$AP$116","v":58},{"$f":"CntyDataLink!$AQ$116","v":56},null,{"$f":"CntyDataLink!$BX$116","v":124},{"$f":"CntyDataLink!$BY$116","v":97},null,{"$f":"CntyDataLink!$DF$116","v":475},{"$f":"CntyDataLink!$DG$116","v":205},null,{"$f":"CntyDataLink!$EN$116","v":668},{"$f":"CntyDataLink!$EO$116","v":196},null,{"$f":"CntyDataLink!$F$160","v":349},{"$f":"CntyDataLink!$G$160","v":194},{"$f":"CntyDataLink!$AP$160","v":1000},{"$f":"CntyDataLink!$AQ$160","v":250}]
[null,null,"$15,000 to $19,999",{"$f":"CntyDataLink!$H$116","v":1362},{"$f":"CntyDataLink!$I$116","v":293},null,{"$f":"CntyDataLink!$AR$116","v":53},{"$f":"CntyDataLink!$AS$116","v":52},null,{"$f":"CntyDataLink!$BZ$116","v":285},{"$f":"CntyDataLink!$CA$116","v":158},null,{"$f":"CntyDataLink!$DH$116","v":317},{"$f":"CntyDataLink!$DI$116","v":90},null,{"$f":"CntyDataLink!$EP$116","v":707},{"$f":"CntyDataLink!$EQ$116","v":203},null,{"$f":"CntyDataLink!$H$160","v":306},{"$f":"CntyDataLink!$I$160","v":170},{"$f":"CntyDataLink!$AR$160","v":1060},{"$f":"CntyDataLink!$AS$160","v":275}]
[null,null,"$20,000 to $24,999",{"$f":"CntyDataLink!$J$116","v":1344},{"$f":"CntyDataLink!$K$116","v":268},null,{"$f":"CntyDataLink!$AT$116","v":66},{"$f":"CntyDataLink!$AU$116","v":60},null,{"$f":"CntyDataLink!$CB$116","v":243},{"$f":"CntyDataLink!$CC$116","v":109},null,{"$f":"CntyDataLink!$DJ$116","v":437},{"$f":"CntyDataLink!$DK$116","v":159},null,{"$f":"CntyDataLink!$ER$116","v":598},{"$f":"CntyDataLink!$ES$116","v":163},null,{"$f":"CntyDataLink!$J$160","v":627},{"$f":"CntyDataLink!$K$160","v":208},{"$f":"CntyDataLink!$AT$160","v":798},{"$f":"CntyDataLink!$AU$160","v":189}]
[null,null,"$25,000 to $29,999",{"$f":"CntyDataLink!$L$116","v":1431},{"$f":"CntyDataLink!$M$116","v":261},null,{"$f":"CntyDataLink!$AV$116","v":47},{"$f":"CntyDataLink!$AW$116","v":39},null,{"$f":"CntyDataLink!$CD$116","v":220},{"$f":"CntyDataLink!$CE$116","v":134},null,{"$f":"CntyDataLink!$DL$116","v":438},{"$f":"CntyDataLink!$DM$116","v":167},null,{"$f":"CntyDataLink!$ET$116","v":726},{"$f":"CntyDataLink!$EU$116","v":151},null,{"$f":"CntyDataLink!$L$160","v":490},{"$f":"CntyDataLink!$M$160","v":155},{"$f":"CntyDataLink!$AV$160","v":945},{"$f":"CntyDataLink!$AW$160","v":201}]
[null,null,"$30,000 to $34,999",{"$f":"CntyDataLink!$N$116","v":1275},{"$f":"CntyDataLink!$O$116","v":233},null,{"$f":"CntyDataLink!$AX$116","v":36},{"$f":"CntyDataLink!$AY$116","v":36},null,{"$f":"CntyDataLink!$CF$116","v":327},{"$f":"CntyDataLink!$CG$116","v":132},null,{"$f":"CntyDataLink!$DN$116","v":408},{"$f":"CntyDataLink!$DO$116","v":124},null,{"$f":"CntyDataLink!$EV$116","v":504},{"$f":"CntyDataLink!$EW$116","v":134},null,{"$f":"CntyDataLink!$N$160","v":565},{"$f":"CntyDataLink!$O$160","v":157},{"$f":"CntyDataLink!$AX$160","v":778},{"$f":"CntyDataLink!$AY$160","v":189}]
[null,null,"$35,000 to $39,999",{"$f":"CntyDataLink!$P$116","v":1188},{"$f":"CntyDataLink!$Q$116","v":264},null,{"$f":"CntyDataLink!$AZ$116","v":18},{"$f":"CntyDataLink!$BA$116","v":15},null,{"$f":"CntyDataLink!$CH$116","v":373},{"$f":"CntyDataLink!$CI$116","v":150},null,{"$f":"CntyDataLink!$DP$116","v":382},{"$f":"CntyDataLink!$DQ$116","v":154},null,{"$f":"CntyDataLink!$EX$116","v":415},{"$f":"CntyDataLink!$EY$116","v":137},null,{"$f":"CntyDataLink!$P$160","v":550},{"$f":"CntyDataLink!$Q$160","v":141},{"$f":"CntyDataLink!$AZ$160","v":649},{"$f":"CntyDataLink!$BA$160","v":213}]
[null,null,"$40,000 to $44,999",{"$f":"CntyDataLink!$R$116","v":1392},{"$f":"CntyDataLink!$S$116","v":284},null,{"$f":"CntyDataLink!$BB$116","v":21},{"$f":"CntyDataLink!$BC$116","v":26},null,{"$f":"CntyDataLink!$CJ$116","v":376},{"$f":"CntyDataLink!$CK$116","v":168},null,{"$f":"CntyDataLink!$DR$116","v":575},{"$f":"CntyDataLink!$DS$116","v":170},null,{"$f":"CntyDataLink!$EZ$116","v":420},{"$f":"CntyDataLink!$FA$116","v":94},null,{"$f":"CntyDataLink!$R$160","v":777},{"$f":"CntyDataLink!$S$160","v":197},{"$f":"CntyDataLink!$BB$160","v":638},{"$f":"CntyDataLink!$BC$160","v":184}]
[null,null,"$45,000 to $49,999",{"$f":"CntyDataLink!$T$116","v":1185},{"$f":"CntyDataLink!$U$116","v":204},null,{"$f":"CntyDataLink!$BD$116","v":96},{"$f":"CntyDataLink!$BE$116","v":75},null,{"$f":"CntyDataLink!$CL$116","v":206},{"$f":"CntyDataLink!$CM$116","v":91},null,{"$f":"CntyDataLink!$DT$116","v":514},{"$f":"CntyDataLink!$DU$116","v":141},null,{"$f":"CntyDataLink!$FB$116","v":369},{"$f":"CntyDataLink!$FC$116","v":119},null,{"$f":"CntyDataLink!$T$160","v":654},{"$f":"CntyDataLink!$U$160","v":150},{"$f":"CntyDataLink!$BD$160","v":516},{"$f":"CntyDataLink!$BE$160","v":131}]
[null,null,"$50,000 to $59,999",{"$f":"CntyDataLink!$V$116","v":2100},{"$f":"CntyDataLink!$W$116","v":302},null,{"$f":"CntyDataLink!$BF$116","v":82},{"$f":"CntyDataLink!$BG$116","v":75},null,{"$f":"CntyDataLink!$CN$116","v":467},{"$f":"CntyDataLink!$CO$116","v":142},null,{"$f":"CntyDataLink!$DV$116","v":588},{"$f":"CntyDataLink!$DW$116","v":136},null,{"$f":"CntyDataLink!$FD$116","v":963},{"$f":"CntyDataLink!$FE$116","v":212},null,{"$f":"CntyDataLink!$V$160","v":1175},{"$f":"CntyDataLink!$W$160","v":215},{"$f":"CntyDataLink!$BF$160","v":935},{"$f":"CntyDataLink!$BG$160","v":216}]
[null,null,"$60,000 to $74,999",{"$f":"CntyDataLink!$X$116","v":3374},{"$f":"CntyDataLink!$Y$116","v":373},null,{"$f":"CntyDataLink!$BH$116","v":164},{"$f":"CntyDataLink!$BI$116","v":156},null,{"$f":"CntyDataLink!$CP$116","v":944},{"$f":"CntyDataLink!$CQ$116","v":215},null,{"$f":"CntyDataLink!$DX$116","v":1252},{"$f":"CntyDataLink!$DY$116","v":216},null,{"$f":"CntyDataLink!$FF$116","v":1014},{"$f":"CntyDataLink!$FG$116","v":166},null,{"$f":"CntyDataLink!$X$160","v":2095},{"$f":"CntyDataLink!$Y$160","v":293},{"$f":"CntyDataLink!$BH$160","v":1400},{"$f":"CntyDataLink!$BI$160","v":275}]
[null,null,"$75,000 to $99,999",{"$f":"CntyDataLink!$Z$116","v":5066},{"$f":"CntyDataLink!$AA$116","v":459},null,{"$f":"CntyDataLink!$BJ$116","v":55},{"$f":"CntyDataLink!$BK$116","v":42},null,{"$f":"CntyDataLink!$CR$116","v":1500},{"$f":"CntyDataLink!$CS$116","v":240},null,{"$f":"CntyDataLink!$DZ$116","v":1812},{"$f":"CntyDataLink!$EA$116","v":253},null,{"$f":"CntyDataLink!$FH$116","v":1699},{"$f":"CntyDataLink!$FI$116","v":277},null,{"$f":"CntyDataLink!$Z$160","v":3425},{"$f":"CntyDataLink!$AA$160","v":406},{"$f":"CntyDataLink!$BJ$160","v":1538},{"$f":"CntyDataLink!$BK$160","v":288}]
[null,null,"$100,000 to $124,999",{"$f":"CntyDataLink!$AB$116","v":3652},{"$f":"CntyDataLink!$AC$116","v":373},null,{"$f":"CntyDataLink!$BL$116","v":45},{"$f":"CntyDataLink!$BM$116","v":78},null,{"$f":"CntyDataLink!$CT$116","v":1140},{"$f":"CntyDataLink!$CU$116","v":220},null,{"$f":"CntyDataLink!$EB$116","v":1731},{"$f":"CntyDataLink!$EC$116","v":264},null,{"$f":"CntyDataLink!$FJ$116","v":736},{"$f":"CntyDataLink!$FK$116","v":167},null,{"$f":"CntyDataLink!$AB$160","v":2824},{"$f":"CntyDataLink!$AC$160","v":312},{"$f":"CntyDataLink!$BL$160","v":779},{"$f":"CntyDataLink!$BM$160","v":220}]
[null,null,"$125,000 to $149,999",{"$f":"CntyDataLink!$AD$116","v":2123},{"$f":"CntyDataLink!$AE$116","v":315},null,{"$f":"CntyDataLink!$BN$116","v":44},{"$f":"CntyDataLink!$BO$116","v":59},null,{"$f":"CntyDataLink!$CV$116","v":539},{"$f":"CntyDataLink!$CW$116","v":162},null,{"$f":"CntyDataLink!$ED$116","v":957},{"$f":"CntyDataLink!$EE$116","v":173},null,{"$f":"CntyDataLink!$FL$116","v":583},{"$f":"CntyDataLink!$FM$116","v":173},null,{"$f":"CntyDataLink!$AD$160","v":1726},{"$f":"CntyDataLink!$AE$160","v":256},{"$f":"CntyDataLink!$BN$160","v":361},{"$f":"CntyDataLink!$BO$160","v":149}]
[null,null,"$150,000 to $199,999",{"$f":"CntyDataLink!$AF$116","v":2546},{"$f":"CntyDataLink!$AG$116","v":362},null,{"$f":"CntyDataLink!$BP$116","v":0},{"$f":"CntyDataLink!$BQ$116","v":28},null,{"$f":"CntyDataLink!$CX$116","v":582},{"$f":"CntyDataLink!$CY$116","v":180},null,{"$f":"CntyDataLink!$EF$116","v":1418},{"$f":"CntyDataLink!$EG$116","v":222},null,{"$f":"CntyDataLink!$FN$116","v":546},{"$f":"CntyDataLink!$FO$116","v":165},null,{"$f":"CntyDataLink!$AF$160","v":1915},{"$f":"CntyDataLink!$AG$160","v":281},{"$f":"CntyDataLink!$BP$160","v":502},{"$f":"CntyDataLink!$BQ$160","v":176}]
[null,null,"$200,000 or More",{"$f":"CntyDataLink!$AH$116","v":3413},{"$f":"CntyDataLink!$AI$116","v":289},null,{"$f":"CntyDataLink!$BR$116","v":33},{"$f":"CntyDataLink!$BS$116","v":42},null,{"$f":"CntyDataLink!$CZ$116","v":727},{"$f":"CntyDataLink!$DA$116","v":171},null,{"$f":"CntyDataLink!$EH$116","v":1887},{"$f":"CntyDataLink!$EI$116","v":218},null,{"$f":"CntyDataLink!$FP$116","v":766},{"$f":"CntyDataLink!$FQ$116","v":147},null,{"$f":"CntyDataLink!$AH$160","v":2904},{"$f":"CntyDataLink!$AI$160","v":268},{"$f":"CntyDataLink!$BR$160","v":430},{"$f":"CntyDataLink!$BS$160","v":127}]
[]
[null,null,"Total Households",{"$f":"CntyDataLink!$B$116","v":34357},{"$f":"CntyDataLink!$C$116","v":620},null,{"$f":"CntyDataLink!$AL$116","v":1008},{"$f":"CntyDataLink!$AM$116","v":251},null,{"$f":"CntyDataLink!$BT$116","v":8461},{"$f":"CntyDataLink!$BU$116","v":477},null,{"$f":"CntyDataLink!$DB$116","v":13618},{"$f":"CntyDataLink!$DC$116","v":435},null,{"$f":"CntyDataLink!$EJ$116","v":11270},{"$f":"CntyDataLink!$EK$116","v":394},null,{"$f":"CntyDataLink!$B$160","v":20991},{"$f":"CntyDataLink!$C$160","v":668},{"$f":"CntyDataLink!$AL$160","v":13366},{"$f":"CntyDataLink!$AM$160","v":763}]
[null,null,"Median Household Inc ",{"$f":"CntyDataLink!$FR$116","v":73755},{"$f":"CntyDataLink!$FS$116","v":2014},null,{"$f":"CntyDataLink!$FT$116","v":47500},{"$f":"CntyDataLink!$FU$116","v":20223},null,{"$f":"CntyDataLink!$FV$116","v":77820},{"$f":"CntyDataLink!$FW$116","v":3849},null,{"$f":"CntyDataLink!$FX$116","v":90013},{"$f":"CntyDataLink!$FY$116","v":6207},null,{"$f":"CntyDataLink!$FZ$116","v":57421},{"$f":"CntyDataLink!$GA$116","v":3034},null,{"$f":"CntyDataLink!$AJ$160","v":92986},{"$f":"CntyDataLink!$AK$160","v":2792},{"$f":"CntyDataLink!BT$160","v":43769},{"$f":"CntyDataLink!$BU$160","v":2539}]
[]
[null,null,"Source: 2018-2022 American Community Survey Table B19001; B19037;  B19101; B19102; B19112; B19113; B19049"]
[null,null,"Data from the American Community Survey are estimates"]
[]
[null,null,{"$f":"C2","v":"Grafton County"}]
[null,null,"INCOME CHARACTERISTICS"]
[]
[]
[]
[]
[]
[]
[]
[]
[]
[]
[]
[]
[]
[]
[]
[]
[]
[]
[]
[]
[]
[]
[]
[]
[]
[]
[]
[]
[]
[]
[]
[null,null,"Source: 2018-2022 American Community Survey Table B19001; Table B19102",null,null,null,null,null,null,null,null,null,null,null,null,"Data from the American Community Survey are estimates"]

{"sheet":"HHIncomeByTenure","index":10,"n_rows":64,"n_cols":17,"rows_kept":64,"cut":false,"hidden":true,"merged":[[2,3,2,5],[58,3,58,6],[58,8,58,11],[58,13,58,16],[59,3,59,6],[59,8,59,11],[59,13,59,16],[63,3,63,4],[63,8,63,9],[63,13,63,14],[61,3,61,4],[61,8,61,9],[61,13,61,14],[62,3,62,4],[62,8,62,9],[62,13,62,14]]}
[]
[null,null,null,{"$f":"CntyDataLink!A80","v":"Grafton County"}]
[null,null,null,"INCOME CHARACTERISTICS"]
[]
[]
[]
[]
[]
[]
[]
[]
[]
[]
[]
[]
[]
[]
[]
[]
[]
[]
[]
[]
[]
[]
[]
[]
[null,null,null,{"$f":"D2","v":"Grafton County"}]
[null,null,null,"Household Income By Tenure"]
[null,null,null,null,null,"2022 Household Income 1",null,"Occupied Housing Units","Margin of Error Occupied Housing Units","Owner Occupied Housing Units","Margin of Error Owner Occupied Housing Units","Renter Occupied Housing Units","Margin of Error Renter Occupied Housing Units"]
[]
[null,null,null,null,null,"Total",null,{"$f":"CntyDataLink!$B$128","v":35084},{"$f":"CntyDataLink!$C$128","v":684},{"$f":"CntyDataLink!$D$128","v":24776},{"$f":"CntyDataLink!$E$128","v":629},{"$f":"CntyDataLink!$AB$128","v":10308},{"$f":"CntyDataLink!$AC$128","v":707}]
[null,null,null,4999,{"$f":"VALUE(RIGHT(F33,7))","v":5000},"Less Than $5,000",null,{"$f":"CntyDataLink!$AZ$128","v":1016},{"$f":"CntyDataLink!$BA$128","v":280.97864687552328},{"$f":"CntyDataLink!$F$128","v":464},{"$f":"CntyDataLink!$G$128","v":207},{"$f":"CntyDataLink!$AD$128","v":552},{"$f":"CntyDataLink!$AE$128","v":190}]
[null,null,{"$f":"VALUE(RIGHT($F33,7))","v":5000},4999,10000,"$5,000 to $10,000",null,{"$f":"CntyDataLink!$BB$128","v":494},{"$f":"CntyDataLink!$BC$128","v":156.66843970627906},{"$f":"CntyDataLink!$H$128","v":179},{"$f":"CntyDataLink!$I$128","v":64},{"$f":"CntyDataLink!$AF$128","v":315},{"$f":"CntyDataLink!$AG$128","v":143}]
[null,null,10000,4999,15000,"$10,000 to $15,000",null,{"$f":"CntyDataLink!$BD$128","v":1363},{"$f":"CntyDataLink!$BE$128","v":379.16355310076943},{"$f":"CntyDataLink!$J$128","v":622},{"$f":"CntyDataLink!$K$128","v":214},{"$f":"CntyDataLink!$AH$128","v":741},{"$f":"CntyDataLink!$AI$128","v":313}]
[null,null,15000,4999,20000,"$15,000 to $20,000",null,{"$f":"CntyDataLink!$BF$128","v":1318},{"$f":"CntyDataLink!$BG$128","v":294.85250550063159},{"$f":"CntyDataLink!$L$128","v":729},{"$f":"CntyDataLink!$M$128","v":243},{"$f":"CntyDataLink!$AJ$128","v":589},{"$f":"CntyDataLink!$AK$128","v":167}]
[null,null,20000,4999,25000,"$20,000 to $25,000",null,{"$f":"CntyDataLink!$BH$128","v":1210},{"$f":"CntyDataLink!$BI$128","v":237.00210969525145},{"$f":"CntyDataLink!$N$128","v":642},{"$f":"CntyDataLink!$O$128","v":189},{"$f":"CntyDataLink!$AL$128","v":568},{"$f":"CntyDataLink!$AM$128","v":143}]
[null,null,25000,9999,35000,"$25,000 to $35,000",null,{"$f":"CntyDataLink!$BJ$128","v":2574},{"$f":"CntyDataLink!$BK$128","v":333.21014390321312},{"$f":"CntyDataLink!$P$128","v":1322},{"$f":"CntyDataLink!$Q$128","v":202},{"$f":"CntyDataLink!$AN$128","v":1252},{"$f":"CntyDataLink!$AO$128","v":265}]
[null,null,35000,14999,50000,"$35,000 to $50,000",null,{"$f":"CntyDataLink!$BL$128","v":3117},{"$f":"CntyDataLink!$BM$128","v":336.87980052238214},{"$f":"CntyDataLink!$R$128","v":1966},{"$f":"CntyDataLink!$S$128","v":248},{"$f":"CntyDataLink!$AP$128","v":1151},{"$f":"CntyDataLink!$AQ$128","v":228}]
[null,null,50000,24999,75000,"$50,000 to $75,000",null,{"$f":"CntyDataLink!$BN$128","v":5475},{"$f":"CntyDataLink!$BO$128","v":497.11568070218829},{"$f":"CntyDataLink!$T$128","v":3680},{"$f":"CntyDataLink!$U$128","v":332},{"$f":"CntyDataLink!$AR$128","v":1795},{"$f":"CntyDataLink!$AS$128","v":370}]
[null,null,75000,24999,100000,"$75,000 to $100,000",null,{"$f":"CntyDataLink!$BP$128","v":4750},{"$f":"CntyDataLink!$BQ$128","v":487.79093882523074},{"$f":"CntyDataLink!$V$128","v":3476},{"$f":"CntyDataLink!$W$128","v":428},{"$f":"CntyDataLink!$AT$128","v":1274},{"$f":"CntyDataLink!$AU$128","v":234}]
[null,null,100000,49999,150000,"$100,000 to $150,000",null,{"$f":"CntyDataLink!$BR$128","v":6647},{"$f":"CntyDataLink!$BS$128","v":490.72293608511922},{"$f":"CntyDataLink!$X$128","v":5282},{"$f":"CntyDataLink!$Y$128","v":403},{"$f":"CntyDataLink!$AV$128","v":1365},{"$f":"CntyDataLink!$AW$128","v":280}]
[null,null,150000,null,null,"$150,000 and More",null,{"$f":"CntyDataLink!$BT$128","v":7120},{"$f":"CntyDataLink!$BU$128","v":416.20307543313515},{"$f":"CntyDataLink!$Z$128","v":6414},{"$f":"CntyDataLink!$AA$128","v":379},{"$f":"CntyDataLink!$AX$128","v":706},{"$f":"CntyDataLink!$AY$128","v":172}]
[]
[]
[null,null,null,null,null,"Median Household Income 2",null,{"$f":"CntyDataLink!$BV$128","v":79949},{"$f":"CntyDataLink!$BW$128","v":2014},{"$f":"CntyDataLink!$BX$128","v":93718},{"$f":"CntyDataLink!$BY$128","v":3675},{"$f":"CntyDataLink!$BZ$128","v":49804},{"$f":"CntyDataLink!$CA$128","v":4603}]
[]
[]
[null,null,null,null,null,"Data from the American Community Survey are estimates"]
[]
[null,null,null,"Source:",1,"2018-2022 American Community Survey Table B25119;  2022 Inflation Adjusted dollars"]
[null,null,null,null,2,"2018-2022 American Community Survey Table B25119;  2022 Inflation Adjusted dollars"]
[]
[]
[]
[null,null,null,"HOUSEHOLD INCOME IN THE PAST 12 MONTHS BY PERCENT OF MEDIAN THRESHOLD"]
[]
[]
[null,null,null,"All Occupied Housing Units",null,null,null,null,"Owner Occupied Households",null,null,null,null,"Renter Occupied Households"]
[]
[null,null,null,"HOUSEHOLD INCOME",null,"Estimate","Margin Of Error",null,"HOUSEHOLD INCOME",null,"Estimate","Margin Of Error",null,"HOUSEHOLD INCOME",null,"Estimate","Margin Of Error"]
[null,null,{"$f":"$H$46*0.3","v":23984.7},"30% of Median Household Income",null,{"$f":"IF($C$62<$C$36,((($C$62-$C$35)/$D$35)*$H$35)+SUM($H$33:$H$34),IF($C$62<$C$37,((($C$62-$C$36)/$D$36)*$H$36)+SUM($H$33:$H$35),IF($C$62<$C$38,((($C$62-$C$37)/$D$37)*$H$37)+SUM($H$33:$H$36),IF($C$62<$C$39,((($C$62-$C$38)/$D$38)*$H$38)+SUM($H$33:$H$37),IF($C$62<$C$40,((($C$62-$C$39)/$D$39)*$H$39)+SUM($H$33:$H$38),IF($C$62<$C$41,((($C$62-$C$40)/$D$40)*$H$40)+SUM($H$33:$H$39),IF($C$62<$C$42,((($C$62-$C$41)/$D$41)*$H$41)+SUM($H$33:$H$40),\"False\")))))))","v":5155.4902980596125},{"$f":"IF($C$62<$C$36,((($C$62-$C$35)/$D$35)*$I$35)+SQRT(SUM(($I$33^2),($I$34^2))),IF($C$62<$C$37,((($C$62-$C$36)/$D$36)*$I$36)+SQRT(SUM(($I$33^2),($I$34^2),($I$35^2))),IF($C$62<$C$38,((($C$62-$C$37)/$D$37)*$I$37)+SQRT(SUM(($I$33^2),($I$34^2),($I$35^2),($I$36^2))),IF($C$62<$C$39,((($C$62-$C$38)/$D$38)*$I$38)+SQRT(SUM(($I$33^2),($I$34^2),($I$35^2),($I$36^2),($I$37^2))),IF($C$62<$C$40,((($C$62-$C$39)/$D$39)*$I$39)+SQRT(SUM(($I$33^2),($I$34^2),($I$35^2),($I$36^2),($I$37^2),($I$38^2))),IF($C$62<$C$41,((($C$62-$C$40)/$D$40)*$I$40)+SQRT(SUM(($I$33^2),($I$34^2),($I$35^2),($I$36^2),($I$37^2),($I$38^2),($I$39^2))),IF($C$62<$C$42,((($C$62-$C$41)/$D$41)*$I$41)+SQRT((($I$33^2)+($I$34^2)+($I$35^2)+($I$36^2)+($I$37^2)+($I$38^2)+($I$39^2)+($I$40^2))),\"False\")))))))","v":767.01198675004184},{"$f":"$J$46*0.3","v":28115.399999999998},"30% of Median Household Income",null,{"$f":"IF($H$62<$C$36,((($H$62-$C$35)/$D$35)*$J$35)+SUM($J$33:$J$34),IF($H$62<$C$37,((($H$62-$C$36)/$D$36)*$J$36)+SUM($J$33:$J$35),IF($H$62<$C$38,((($H$62-$C$37)/$D$37)*$J$37)+SUM($J$33:$J$36),IF($H$62<$C$39,((($H$62-$C$38)/$D$38)*$J$38)+SUM($J$33:$J$37),IF($H$62<$C$40,((($H$62-$C$39)/$D$39)*$J$39)+SUM($J$33:$J$38),IF($H$62<$C$41,((($H$62-$C$40)/$D$40)*$J$40)+SUM($J$33:$J$39),IF($H$62<$C$42,((($H$62-$C$41)/$D$41)*$J$41)+SUM($J$33:$J$40),\"False\")))))))","v":3047.8970697069703},{"$f":"IF($H$62<$C$36,((($H$62-$C$35)/$D$35)*$K$35)+SQRT(SUM(($K$33^2),($K$34^2))),IF($H$62<$C$37,((($H$62-$C$36)/$D$36)*$K$36)+SQRT(SUM(($K$33^2),($K$34^2),($K$35^2))),IF($H$62<$C$38,((($H$62-$C$37)/$D$37)*$K$37)+SQRT(SUM(($K$33^2),($K$34^2),($K$35^2),($K$36^2))),IF($H$62<$C$39,((($H$62-$C$38)/$D$38)*$K$38)+SQRT(SUM(($K$33^2),($K$34^2),($K$35^2),($K$36^2),($K$37^2))),IF($H$62<$C$40,((($H$62-$C$39)/$D$39)*$K$39)+SQRT(SUM(($K$33^2),($K$34^2),($K$35^2),($K$36^2),($K$37^2),($K$38^2))),IF($H$62<$C$41,((($H$62-$C$40)/$D$40)*$K$40)+SQRT(SUM(($K$33^2),($K$34^2),($K$35^2),($K$36^2),($K$37^2),($K$38^2),($K$39^2))),IF($H$62<$C$42,((($H$62-$C$41)/$D$41)*$K$41)+SQRT((($K$33^2)+($K$34^2)+($K$35^2)+($K$36^2)+($K$37^2)+($K$38^2)+($K$39^2)+($K$40^2))),\"False\")))))))","v":495.962777149229},{"$f":"$L$46*0.3","v":14941.199999999999},"30% of Median Household Income",null,{"$f":"IF($M$62<$C$36,((($M$62-$C$35)/$D$35)*$L$35)+SUM($L$33:$L$34),IF($M$62<$C$37,((($M$62-$C$36)/$D$36)*$L$36)+SUM($L$33:$L$35),IF($M$62<$C$38,((($M$62-$C$37)/$D$37)*$L$37)+SUM($L$33:$L$36),IF($M$62<$C$39,((($M$62-$C$38)/$D$38)*$L$38)+SUM($L$33:$L$37),IF($M$62<$C$40,((($M$62-$C$39)/$D$39)*$L$39)+SUM($L$33:$L$38),IF($M$62<$C$41,((($M$62-$C$40)/$D$40)*$L$40)+SUM($L$33:$L$39),IF($M$62<$C$42,((($M$62-$C$41)/$D$41)*$L$41)+SUM($L$33:$L$40),\"False\")))))))","v":1599.432326465293},{"$f":"IF($M$62<$C$36,((($M$62-$C$35)/$D$35)*$M$35)+SQRT(SUM(($M$33^2),($M$34^2))),IF($M$62<$C$37,((($M$62-$C$36)/$D$36)*$M$36)+SQRT(SUM(($M$33^2),($M$34^2),($M$35^2))),IF($M$62<$C$38,((($M$62-$C$37)/$D$37)*$M$37)+SQRT(SUM(($M$33^2),($M$34^2),($M$35^2),($M$36^2))),IF($M$62<$C$39,((($M$62-$C$38)/$D$38)*$M$38)+SQRT(SUM(($M$33^2),($M$34^2),($M$35^2),($M$36^2),($M$37^2))),IF($M$62<$C$40,((($M$62-$C$39)/$D$39)*$M$39)+SQRT(SUM(($M$33^2),($M$34^2),($M$35^2),($M$36^2),($M$37^2),($M$38^2))),IF($M$62<$C$41,((($M$62-$C$40)/$D$40)*$M$40)+SQRT(SUM(($M$33^2),($M$34^2),($M$35^2),($M$36^2),($M$37^2),($M$38^2),($M$39^2))),IF($M$62<$C$42,((($M$62-$C$41)/$D$41)*$M$41)+SQRT((($M$33^2)+($M$34^2)+($M$35^2)+($M$36^2)+($M$37^2)+($M$38^2)+($M$39^2)+($M$40^2))),\"False\")))))))","v":547.18133261615912}]
[490,null,{"$f":"$H$46*0.5","v":39974.5},"50% of Median Household Income",null,{"$f":"IF($C$63<$C$36,((($C$63-$C$35)/$D$35)*$H$35)+SUM($H$33:$H$34),IF($C$63<$C$37,((($C$63-$C$36)/$D$36)*$H$36)+SUM($H$33:$H$35),IF($C$63<$C$38,((($C$63-$C$37)/$D$37)*$H$37)+SUM($H$33:$H$36),IF($C$63<$C$39,((($C$63-$C$38)/$D$38)*$H$38)+SUM($H$33:$H$37),IF($C$63<$C$40,((($C$63-$C$39)/$D$39)*$H$39)+SUM($H$33:$H$38),IF($C$63<$C$41,((($C$63-$C$40)/$D$40)*$H$40)+SUM($H$33:$H$39),IF($C$63<$C$42,((($C$63-$C$41)/$D$41)*$H$41)+SUM($H$33:$H$40),\"False\")))))))","v":9008.7700180011998},{"$f":"IF($C$63<$C$36,((($C$63-$C$35)/$D$35)*$I$35)+SQRT(SUM(($I$33^2),($I$34^2))),IF($C$63<$C$37,((($C$63-$C$36)/$D$36)*$I$36)+SQRT(SUM(($I$33^2),($I$34^2),($I$35^2))),IF($C$63<$C$38,((($C$63-$C$37)/$D$37)*$I$37)+SQRT(SUM(($I$33^2),($I$34^2),($I$35^2),($I$36^2))),IF($C$63<$C$39,((($C$63-$C$38)/$D$38)*$I$38)+SQRT(SUM(($I$33^2),($I$34^2),($I$35^2),($I$36^2),($I$37^2))),IF($C$63<$C$40,((($C$63-$C$39)/$D$39)*$I$39)+SQRT(SUM(($I$33^2),($I$34^2),($I$35^2),($I$36^2),($I$37^2),($I$38^2))),IF($C$63<$C$41,((($C$63-$C$40)/$D$40)*$I$40)+SQRT(SUM(($I$33^2),($I$34^2),($I$35^2),($I$36^2),($I$37^2),($I$38^2),($I$39^2))),IF($C$63<$C$42,((($C$63-$C$41)/$D$41)*$I$41)+SQRT((($I$33^2)+($I$34^2)+($I$35^2)+($I$36^2)+($I$37^2)+($I$38^2)+($I$39^2)+($I$40^2))),\"False\")))))))","v":819.82123391731659},{"$f":"$J$46*0.5","v":46859},"50% of Median Household Income",null,{"$f":"IF($H$63<$C$36,((($H$63-$C$35)/$D$35)*$J$35)+SUM($J$33:$J$34),IF($H$63<$C$37,((($H$63-$C$36)/$D$36)*$J$36)+SUM($J$33:$J$35),IF($H$63<$C$38,((($H$63-$C$37)/$D$37)*$J$37)+SUM($J$33:$J$36),IF($H$63<$C$39,((($H$63-$C$38)/$D$38)*$J$38)+SUM($J$33:$J$37),IF($H$63<$C$40,((($H$63-$C$39)/$D$39)*$J$39)+SUM($J$33:$J$38),IF($H$63<$C$41,((($H$63-$C$40)/$D$40)*$J$40)+SUM($J$33:$J$39),IF($H$63<$C$42,((($H$63-$C$41)/$D$41)*$J$41)+SUM($J$33:$J$40),\"False\")))))))","v":5512.4232282152143},{"$f":"IF($H$63<$C$36,((($H$63-$C$35)/$D$35)*$K$35)+SQRT(SUM(($K$33^2),($K$34^2))),IF($H$63<$C$37,((($H$63-$C$36)/$D$36)*$K$36)+SQRT(SUM(($K$33^2),($K$34^2),($K$35^2))),IF($H$63<$C$38,((($H$63-$C$37)/$D$37)*$K$37)+SQRT(SUM(($K$33^2),($K$34^2),($K$35^2),($K$36^2))),IF($H$63<$C$39,((($H$63-$C$38)/$D$38)*$K$38)+SQRT(SUM(($K$33^2),($K$34^2),($K$35^2),($K$36^2),($K$37^2))),IF($H$63<$C$40,((($H$63-$C$39)/$D$39)*$K$39)+SQRT(SUM(($K$33^2),($K$34^2),($K$35^2),($K$36^2),($K$37^2),($K$38^2))),IF($H$63<$C$41,((($H$63-$C$40)/$D$40)*$K$40)+SQRT(SUM(($K$33^2),($K$34^2),($K$35^2),($K$36^2),($K$37^2),($K$38^2),($K$39^2))),IF($H$63<$C$42,((($H$63-$C$41)/$D$41)*$K$41)+SQRT((($K$33^2)+($K$34^2)+($K$35^2)+($K$36^2)+($K$37^2)+($K$38^2)+($K$39^2)+($K$40^2))),\"False\")))))))","v":673.90506118117878},{"$f":"$L$46*0.5","v":24902},"50% of Median Household Income",null,{"$f":"IF($M$63<$C$36,((($M$63-$C$35)/$D$35)*$L$35)+SUM($L$33:$L$34),IF($M$63<$C$37,((($M$63-$C$36)/$D$36)*$L$36)+SUM($L$33:$L$35),IF($M$63<$C$38,((($M$63-$C$37)/$D$37)*$L$37)+SUM($L$33:$L$36),IF($M$63<$C$39,((($M$63-$C$38)/$D$38)*$L$38)+SUM($L$33:$L$37),IF($M$63<$C$40,((($M$63-$C$39)/$D$39)*$L$39)+SUM($L$33:$L$38),IF($M$63<$C$41,((($M$63-$C$40)/$D$40)*$L$40)+SUM($L$33:$L$39),IF($M$63<$C$42,((($M$63-$C$41)/$D$41)*$L$41)+SUM($L$33:$L$40),\"False\")))))))","v":2753.9785957191439},{"$f":"IF($M$63<$C$36,((($M$63-$C$35)/$D$35)*$M$35)+SQRT(SUM(($M$33^2),($M$34^2))),IF($M$63<$C$37,((($M$63-$C$36)/$D$36)*$M$36)+SQRT(SUM(($M$33^2),($M$34^2),($M$35^2))),IF($M$63<$C$38,((($M$63-$C$37)/$D$37)*$M$37)+SQRT(SUM(($M$33^2),($M$34^2),($M$35^2),($M$36^2))),IF($M$63<$C$39,((($M$63-$C$38)/$D$38)*$M$38)+SQRT(SUM(($M$33^2),($M$34^2),($M$35^2),($M$36^2),($M$37^2))),IF($M$63<$C$40,((($M$63-$C$39)/$D$39)*$M$39)+SQRT(SUM(($M$33^2),($M$34^2),($M$35^2),($M$36^2),($M$37^2),($M$38^2))),IF($M$63<$C$41,((($M$63-$C$40)/$D$40)*$M$40)+SQRT(SUM(($M$33^2),($M$34^2),($M$35^2),($M$36^2),($M$37^2),($M$38^2),($M$39^2))),IF($M$63<$C$42,((($M$63-$C$41)/$D$41)*$M$41)+SQRT((($M$33^2)+($M$34^2)+($M$35^2)+($M$36^2)+($M$37^2)+($M$38^2)+($M$39^2)+($M$40^2))),\"False\")))))))","v":567.31657017748864}]
[null,null,{"$f":"$H$46*0.8","v":63959.200000000004},"80% of Median Household Income",null,{"$f":"IF($C$64<$C$36,((($C$64-$C$35)/$D$35)*$H$35)+SUM($H$33:$H$34),IF($C$64<$C$37,((($C$64-$C$36)/$D$36)*$H$36)+SUM($H$33:$H$35),IF($C$64<$C$38,((($C$64-$C$37)/$D$37)*$H$37)+SUM($H$33:$H$36),IF($C$64<$C$39,((($C$64-$C$38)/$D$38)*$H$38)+SUM($H$33:$H$37),IF($C$64<$C$40,((($C$64-$C$39)/$D$39)*$H$39)+SUM($H$33:$H$38),IF($C$64<$C$41,((($C$64-$C$40)/$D$40)*$H$40)+SUM($H$33:$H$39),IF($C$64<$C$42,((($C$64-$C$41)/$D$41)*$H$41)+SUM($H$33:$H$40),\"False\")))))))","v":14149.1870874835},{"$f":"IF($C$64<$C$36,((($C$64-$C$35)/$D$35)*$I$35)+SQRT(SUM(($I$33^2),($I$34^2))),IF($C$64<$C$37,((($C$64-$C$36)/$D$36)*$I$36)+SQRT(SUM(($I$33^2),($I$34^2),($I$35^2))),IF($C$64<$C$38,((($C$64-$C$37)/$D$37)*$I$37)+SQRT(SUM(($I$33^2),($I$34^2),($I$35^2),($I$36^2))),IF($C$64<$C$39,((($C$64-$C$38)/$D$38)*$I$38)+SQRT(SUM(($I$33^2),($I$34^2),($I$35^2),($I$36^2),($I$37^2))),IF($C$64<$C$40,((($C$64-$C$39)/$D$39)*$I$39)+SQRT(SUM(($I$33^2),($I$34^2),($I$35^2),($I$36^2),($I$37^2),($I$38^2))),IF($C$64<$C$41,((($C$64-$C$40)/$D$40)*$I$40)+SQRT(SUM(($I$33^2),($I$34^2),($I$35^2),($I$36^2),($I$37^2),($I$38^2),($I$39^2))),IF($C$64<$C$42,((($C$64-$C$41)/$D$41)*$I$41)+SQRT((($I$33^2)+($I$34^2)+($I$35^2)+($I$36^2)+($I$37^2)+($I$38^2)+($I$39^2)+($I$40^2))),\"False\")))))))","v":1061.72998646736},{"$f":"$J$46*0.8","v":74974.400000000009},"80% of Median Household Income",null,{"$f":"IF($H$64<$C$36,((($H$64-$C$35)/$D$35)*$J$35)+SUM($J$33:$J$34),IF($H$64<$C$37,((($H$64-$C$36)/$D$36)*$J$36)+SUM($J$33:$J$35),IF($H$64<$C$38,((($H$64-$C$37)/$D$37)*$J$37)+SUM($J$33:$J$36),IF($H$64<$C$39,((($H$64-$C$38)/$D$38)*$J$38)+SUM($J$33:$J$37),IF($H$64<$C$40,((($H$64-$C$39)/$D$39)*$J$39)+SUM($J$33:$J$38),IF($H$64<$C$41,((($H$64-$C$40)/$D$40)*$J$40)+SUM($J$33:$J$39),IF($H$64<$C$42,((($H$64-$C$41)/$D$41)*$J$41)+SUM($J$33:$J$40),\"False\")))))))","v":9600.3787351494066},{"$f":"IF($H$64<$C$36,((($H$64-$C$35)/$D$35)*$K$35)+SQRT(SUM(($K$33^2),($K$34^2))),IF($H$64<$C$37,((($H$64-$C$36)/$D$36)*$K$36)+SQRT(SUM(($K$33^2),($K$34^2),($K$35^2))),IF($H$64<$C$38,((($H$64-$C$37)/$D$37)*$K$37)+SQRT(SUM(($K$33^2),($K$34^2),($K$35^2),($K$36^2))),IF($H$64<$C$39,((($H$64-$C$38)/$D$38)*$K$38)+SQRT(SUM(($K$33^2),($K$34^2),($K$35^2),($K$36^2),($K$37^2))),IF($H$64<$C$40,((($H$64-$C$39)/$D$39)*$K$39)+SQRT(SUM(($K$33^2),($K$34^2),($K$35^2),($K$36^2),($K$37^2),($K$38^2))),IF($H$64<$C$41,((($H$64-$C$40)/$D$40)*$K$40)+SQRT(SUM(($K$33^2),($K$34^2),($K$35^2),($K$36^2),($K$37^2),($K$38^2),($K$39^2))),IF($H$64<$C$42,((($H$64-$C$41)/$D$41)*$K$41)+SQRT((($K$33^2)+($K$34^2)+($K$35^2)+($K$36^2)+($K$37^2)+($K$38^2)+($K$39^2)+($K$40^2))),\"False\")))))))","v":870.02169913390844},{"$f":"$L$46*0.8","v":39843.200000000004},"80% of Median Household Income",null,{"$f":"IF($M$64<$C$36,((($M$64-$C$35)/$D$35)*$L$35)+SUM($L$33:$L$34),IF($M$64<$C$37,((($M$64-$C$36)/$D$36)*$L$36)+SUM($L$33:$L$35),IF($M$64<$C$38,((($M$64-$C$37)/$D$37)*$L$37)+SUM($L$33:$L$36),IF($M$64<$C$39,((($M$64-$C$38)/$D$38)*$L$38)+SUM($L$33:$L$37),IF($M$64<$C$40,((($M$64-$C$39)/$D$39)*$L$39)+SUM($L$33:$L$38),IF($M$64<$C$41,((($M$64-$C$40)/$D$40)*$L$40)+SUM($L$33:$L$39),IF($M$64<$C$42,((($M$64-$C$41)/$D$41)*$L$41)+SUM($L$33:$L$40),\"False\")))))))","v":4388.659657310488},{"$f":"IF($M$64<$C$36,((($M$64-$C$35)/$D$35)*$M$35)+SQRT(SUM(($M$33^2),($M$34^2))),IF($M$64<$C$37,((($M$64-$C$36)/$D$36)*$M$36)+SQRT(SUM(($M$33^2),($M$34^2),($M$35^2))),IF($M$64<$C$38,((($M$64-$C$37)/$D$37)*$M$37)+SQRT(SUM(($M$33^2),($M$34^2),($M$35^2),($M$36^2))),IF($M$64<$C$39,((($M$64-$C$38)/$D$38)*$M$38)+SQRT(SUM(($M$33^2),($M$34^2),($M$35^2),($M$36^2),($M$37^2))),IF($M$64<$C$40,((($M$64-$C$39)/$D$39)*$M$39)+SQRT(SUM(($M$33^2),($M$34^2),($M$35^2),($M$36^2),($M$37^2),($M$38^2))),IF($M$64<$C$41,((($M$64-$C$40)/$D$40)*$M$40)+SQRT(SUM(($M$33^2),($M$34^2),($M$35^2),($M$36^2),($M$37^2),($M$38^2),($M$39^2))),IF($M$64<$C$42,((($M$64-$C$41)/$D$41)*$M$41)+SQRT((($M$33^2)+($M$34^2)+($M$35^2)+($M$36^2)+($M$37^2)+($M$38^2)+($M$39^2)+($M$40^2))),\"False\")))))))","v":596.19307430799358}]

{"sheet":"ACS_Source_Table_List","index":11,"n_rows":49,"n_cols":4,"rows_kept":49,"cut":false,"hidden":true,"merged":[]}
[]
["ACS Table B01001","x"]
["ACS Table B01002","x"]
["ACS Table B03002","x"]
["ACS Table B05002 ","x"]
["ACS Table B07003","x","Replaces C07001"]
["ACS Table B11001","x"]
["ACS Table B11002","x"]
["ACS Table B14001 & B15002","x","Replaces C15002"]
["ACS Table B17001 ","x"]
["ACS Table B17010 ","x","Replaces C17010","Poverty Status by family type"]
["ACS Table B17017","x","Replaces C17017","Poverty Status by HH type"]
["ACS Table B18001 ",null,"Removed Disability Tables"]
["ACS Table C18001 ",null,"Removed Disability Tables"]
["ACS Table B18003",null,"Removed Disability Tables"]
["ACS Table B18004",null,"Removed Disability Tables"]
["ACS Table B18005",null,"Removed Disability Tables"]
["ACS Table B18006",null,"Removed Disability Tables"]
["ACS Table B18007",null,"Removed Disability Tables"]
["ACS Table B18008",null,"Removed Disability Tables"]
["ACS Table B19001","x"]
["ACS Table B19037 ","x"]
["ACS Table B19049 ","x"]
["ACS Table B19101& B19113 ","s"]
["ACS Table B19201 & B19202","s"]
["ACS Table B25001, B25003 & B25004 ","x"]
["ACS Table B25008","x"]
["ACS Table B25010","x"]
["ACS Table B25024","x"]
["ACS Table B25032","x"]
["ACS Table B25034 & B25041 ","x"]
["ACS Table B25063 & B25064","x"]
["ACS Table B25070 & B25074","x"]
["ACS Table B25075 & B25077","x"]
["ACS Table B25088","x"]
["ACS Table B25091","x"]
["ACS Table B25118 & B25119","x"]
[]
[]
[]
[]
[]
[]
["Tables Removed from 5 Year Estimates"]
["ACS Table C19001 ","x","May have to consolidate this table from Table B19001. This has already been done. For 5 year estimates remove worksheet."]
["ACS Table B25094","x","No Comparison Table for B25094 Removed"]
["ACS Table B25101",null,"No Comparison Table for B25101 Removed"]
["ACS Table B25104 & B25105",null,"No Comparison Table for B25104 & B25105 Removed"]
["ACS Table B25106","x","No Comparison Table for  B25106 Removed"]

{"sheet":"CntyDataLink","index":12,"n_rows":167,"n_cols":405,"rows_kept":167,"cut":false,"hidden":true,"merged":[]}
[1,{"$f":"A1+1","v":2},{"$f":"B1+1","v":3},4,5,6,7,8,9,10,11,12,13,14,15,{"$f":"O1+1","v":16},17,18,19,20,21,22,23,24,25,26,27,28,29,30,31,32,33,34,35,36,37,38,39,40,41,42,43,44,45,46,47,48,49,50,51,52,53,54,55,56,57,58,59,60,61,62,63,64,65,66,{"$f":"BN1+1","v":67},68,69,70,71,72,73,74,75,76,77,78,79,80,81,82,83,84,85,86,87,88,89,90,91,92,93,94,95,96,97,98,99,100,101,102,103,104,105,106,107,108,109,110,111,112,113,114,115,116,117,118,119,120,121,122,123,124,125,126,127,128,129,130,{"$f":"DZ1+1","v":131},132,133,134,135,136,137,138,139,140,141,142,143,144,145,146,147,148,149,150,151,152,153,154,155,156,157,158,159,160,161,162,163,164,165,166,167,168,169,170,171,172,173,174,175,176,177,178,179,180,181,182,183,184,185,186,187,188,189,190,191,192,193,194,{"$f":"GL1+1","v":195},196,197,198,199,200,201,202,203,204,205,206,207,208,209,210,211,212,213,214,215,216,217,218,219,220,221,222,223,224,225,226,227,228,229,230,231,232,233,234,235,236,237,238,239,240,241,242,243]
[]
["Census 1990 Data -           Query Name:  DPCnty90Census"]
["CountyName","Cnty_Code","Census_Cnty_Code","LandAcres","WaterAcres","HousingUnits90Cen","Persons90Cen","Families90Cen","Households90cen","MalePop90cen","FemalePop90cen","WhitePop","BlackPop","AmerIndianPop","AsianPIPop","OtherRacePop","HispanicOrPop","AgeUnder15_90cen","Age15to24_90cen","Age25to34_90cen","Age35to44_90cen","Age45to54_90cen","Age55to64_90cen","Age65to74_90cen","Age75andOver_90cen","PersonsInHH90cen","PersonsInFamHH90cen","PersonsInGC","PersonsPerHH90cen","PersonsPerFam90Cen","SinglePersonHH90cen","MarriedCoupleHH90cen","SingleParentHH90cen","NonFamilyHH90cen","TotalHousingUnits","OccupiedHousingUnits","VacantHousingUnits","OwnerOccHU","RenterOccHU","VacantForRent90","VacantForSale90","VacantSeasonalRec","SingFamHU90cen","MultiFamHU90cen","MobileHom90cen","SingFamOwnHU90cen","MultiFamOwnHU90cen","MobileHomOwnHU90cen","SingFamRntrHU90cen","MultiFamRntrHU90cen","MobileHomRntrHU90cen","HU<5yrs90cen","HU5to20yrs90cen","HU20to50yrs90cen","HU>50yrs90cen","Units0Bedroom90cen","Units1Bedroom90cen","Units2Bedroom90cen","Units3Bedroom90cen","Units4+Bedroom90cen","HI<5K","HI5Kto10K","HI10Kto15K","HI15Kto25K","HI25Kto35K","HI35Kto50K","HI50Kto75K","HI75Kto100K","HI>100K","MedHI","HH<25HI<5K","HH<25HI5Kto10K","HH<25HI10Kto15K","HH<25HI15Kto25K","HH<25HI25Kto35K","HH<25HI35Kto50K","HH<25HI50Kto75K","HH<25HI75Kto100K","HH<25HI>100K","HH25to34HI<5K","HH25to34HI5Kto10K","HH25to34HI10Kto15K","HH25to34HI15Kto25K","HH25to34HI25Kto35K","HH25to34HI35Kto50K","HH25to34HI50Kto75K","HH25to34HI75Kto100K","HH25to34HI>100K","HH35to44HI<5K","HH35to44HI5Kto10K","HH35to44HI10Kto15K","HH35to44HI15Kto25K","HH35to44HI25Kto35K","HH35to44HI35Kto50K","HH35to44HI50Kto75K","HH35to44HI75Kto100K","HH35to44HI>100K","HH45to54HI<5K","HH45to54HI5Kto10K","HH45to54HI10Kto15K","HH45to54HI15Kto25K","HH45to54HI25Kto35K","HH45to54HI35Kto50K","HH45to54HI50Kto75K","HH45to54HI75Kto100K","HH45to54HI>100K","HH55to64HI<5K","HH55to64HI5Kto10K","HH55to64HI10Kto15K","HH55to64HI15Kto25K","HH55to64HI25Kto35K","HH55to64HI35Kto50K","HH55to64HI50Kto75K","HH55to64HI75Kto100K","HH55to64HI>100K","HH65to74HI<5K","HH65to74HI5Kto10K","HH65to74HI10Kto15K","HH65to74HI15Kto25K","HH65to74HI25Kto35K","HH65to74HI35Kto50K","HH65to74HI50Kto75K","HH65to74HI75Kto100K","HH65to74HI>100K","HH>75HI<5K","HH>75HI5Kto10K","HH>75HI10Kto15K","HH>75HI15Kto25K","HH>75HI25Kto35K","HH>75HI35Kto50K","HH>75HI50Kto75K","HH>75HI75Kto100K","HH>75HI>100K","SchoolEnrollment1thru12","Pop25andOver","HSGradorHigher","CollGradorHigher","NativePop","ForeignBornPop","BornStateOfRes","NativePop2","ForeignBornPop2","DroveAlone","CarPooled","PublicTranspt","Walked","OtherMeans","WorkedAtHome","HHInc<10K","HHInc10to15K","HHInc15to25K","HHInc25to35K","HHInc35to50K","HHInc50to75K","HHInc75to100K","HHInc100to150K","HHInc>150K"]
[{"$f":"VLOOKUP(DropDownList!$A$19,CntyQuery!$A$5:$FA$15,A1)","v":"Grafton County"},{"$f":"VLOOKUP(DropDownList!$A$19,CntyQuery!$A$5:$FA$15,B$1)","v":5},{"$f":"VLOOKUP(DropDownList!$A$19,CntyQuery!$A$5:$FA$15,C$1)","v":"009"},{"$f":"VLOOKUP(DropDownList!$A$19,CntyQuery!$A$5:$FA$15,D$1)","v":1096323.55},{"$f":"VLOOKUP(DropDownList!$A$19,CntyQuery!$A$5:$FA$15,E$1)","v":23419.8},{"$f":"VLOOKUP(DropDownList!$A$19,CntyQuery!$A$5:$FA$15,F$1)","v":42206},{"$f":"VLOOKUP(DropDownList!$A$19,CntyQuery!$A$5:$FA$15,G$1)","v":74929},{"$f":"VLOOKUP(DropDownList!$A$19,CntyQuery!$A$5:$FA$15,H$1)","v":18544},{"$f":"VLOOKUP(DropDownList!$A$19,CntyQuery!$A$5:$FA$15,I$1)","v":27542},{"$f":"VLOOKUP(DropDownList!$A$19,CntyQuery!$A$5:$FA$15,J$1)","v":36966},{"$f":"VLOOKUP(DropDownList!$A$19,CntyQuery!$A$5:$FA$15,K$1)","v":37963},{"$f":"VLOOKUP(DropDownList!$A$19,CntyQuery!$A$5:$FA$15,L$1)","v":73395},{"$f":"VLOOKUP(DropDownList!$A$19,CntyQuery!$A$5:$FA$15,M$1)","v":404},{"$f":"VLOOKUP(DropDownList!$A$19,CntyQuery!$A$5:$FA$15,N$1)","v":186},{"$f":"VLOOKUP(DropDownList!$A$19,CntyQuery!$A$5:$FA$15,O$1)","v":831},{"$f":"VLOOKUP(DropDownList!$A$19,CntyQuery!$A$5:$FA$15,P$1)","v":113},{"$f":"VLOOKUP(DropDownList!$A$19,CntyQuery!$A$5:$FA$15,Q$1)","v":599},{"$f":"VLOOKUP(DropDownList!$A$19,CntyQuery!$A$5:$FA$15,R$1)","v":14599},{"$f":"VLOOKUP(DropDownList!$A$19,CntyQuery!$A$5:$FA$15,S$1)","v":14423},{"$f":"VLOOKUP(DropDownList!$A$19,CntyQuery!$A$5:$FA$15,T$1)","v":11835},{"$f":"VLOOKUP(DropDownList!$A$19,CntyQuery!$A$5:$FA$15,U$1)","v":11550},{"$f":"VLOOKUP(DropDownList!$A$19,CntyQuery!$A$5:$FA$15,V$1)","v":7115},{"$f":"VLOOKUP(DropDownList!$A$19,CntyQuery!$A$5:$FA$15,W$1)","v":6121},{"$f":"VLOOKUP(DropDownList!$A$19,CntyQuery!$A$5:$FA$15,X$1)","v":5200},{"$f":"VLOOKUP(DropDownList!$A$19,CntyQuery!$A$5:$FA$15,Y$1)","v":4086},{"$f":"VLOOKUP(DropDownList!$A$19,CntyQuery!$A$5:$FA$15,Z$1)","v":69187},{"$f":"VLOOKUP(DropDownList!$A$19,CntyQuery!$A$5:$FA$15,AA$1)","v":56838},{"$f":"VLOOKUP(DropDownList!$A$19,CntyQuery!$A$5:$FA$15,AB$1)","v":5742},{"$f":"VLOOKUP(DropDownList!$A$19,CntyQuery!$A$5:$FA$15,AC$1)","v":2.5120543170430616},{"$f":"VLOOKUP(DropDownList!$A$19,CntyQuery!$A$5:$FA$15,AD$1)","v":3.0650345125107852},{"$f":"VLOOKUP(DropDownList!$A$19,CntyQuery!$A$5:$FA$15,AE$1)","v":6717},{"$f":"VLOOKUP(DropDownList!$A$19,CntyQuery!$A$5:$FA$15,AF$1)","v":15430},{"$f":"VLOOKUP(DropDownList!$A$19,CntyQuery!$A$5:$FA$15,AG$1)","v":3114},{"$f":"VLOOKUP(DropDownList!$A$19,CntyQuery!$A$5:$FA$15,AH$1)","v":2281},{"$f":"VLOOKUP(DropDownList!$A$19,CntyQuery!$A$5:$FA$15,AI$1)","v":42206},{"$f":"VLOOKUP(DropDownList!$A$19,CntyQuery!$A$5:$FA$15,AJ$1)","v":27542},{"$f":"VLOOKUP(DropDownList!$A$19,CntyQuery!$A$5:$FA$15,AK$1)","v":14664},{"$f":"VLOOKUP(DropDownList!$A$19,CntyQuery!$A$5:$FA$15,AL$1)","v":18500},{"$f":"VLOOKUP(DropDownList!$A$19,CntyQuery!$A$5:$FA$15,AM$1)","v":9042},{"$f":"VLOOKUP(DropDownList!$A$19,CntyQuery!$A$5:$FA$15,AN$1)","v":1388},{"$f":"VLOOKUP(DropDownList!$A$19,CntyQuery!$A$5:$FA$15,AO$1)","v":899},{"$f":"VLOOKUP(DropDownList!$A$19,CntyQuery!$A$5:$FA$15,AP$1)","v":10558},{"$f":"VLOOKUP(DropDownList!$A$19,CntyQuery!$A$5:$FA$15,AQ$1)","v":24402},{"$f":"VLOOKUP(DropDownList!$A$19,CntyQuery!$A$5:$FA$15,AR$1)","v":13249},{"$f":"VLOOKUP(DropDownList!$A$19,CntyQuery!$A$5:$FA$15,AS$1)","v":4555},{"$f":"VLOOKUP(DropDownList!$A$19,CntyQuery!$A$5:$FA$15,AT$1)","v":14707},{"$f":"VLOOKUP(DropDownList!$A$19,CntyQuery!$A$5:$FA$15,AU$1)","v":1271},{"$f":"VLOOKUP(DropDownList!$A$19,CntyQuery!$A$5:$FA$15,AV$1)","v":4555},{"$f":"VLOOKUP(DropDownList!$A$19,CntyQuery!$A$5:$FA$15,AW$1)","v":2033},{"$f":"VLOOKUP(DropDownList!$A$19,CntyQuery!$A$5:$FA$15,AX$1)","v":6411},{"$f":"VLOOKUP(DropDownList!$A$19,CntyQuery!$A$5:$FA$15,AY$1)","v":598},{"$f":"VLOOKUP(DropDownList!$A$19,CntyQuery!$A$5:$FA$15,AZ$1)","v":8171},{"$f":"VLOOKUP(DropDownList!$A$19,CntyQuery!$A$5:$FA$15,BA$1)","v":12597},{"$f":"VLOOKUP(DropDownList!$A$19,CntyQuery!$A$5:$FA$15,BB$1)","v":7599},{"$f":"VLOOKUP(DropDownList!$A$19,CntyQuery!$A$5:$FA$15,BC$1)","v":13839},{"$f":"VLOOKUP(DropDownList!$A$19,CntyQuery!$A$5:$FA$15,BD$1)","v":754},{"$f":"VLOOKUP(DropDownList!$A$19,CntyQuery!$A$5:$FA$15,BE$1)","v":5861},{"$f":"VLOOKUP(DropDownList!$A$19,CntyQuery!$A$5:$FA$15,BF$1)","v":13240},{"$f":"VLOOKUP(DropDownList!$A$19,CntyQuery!$A$5:$FA$15,BG$1)","v":15103},{"$f":"VLOOKUP(DropDownList!$A$19,CntyQuery!$A$5:$FA$15,BH$1)","v":7248},{"$f":"VLOOKUP(DropDownList!$A$19,CntyQuery!$A$5:$FA$15,BI$1)","v":1244},{"$f":"VLOOKUP(DropDownList!$A$19,CntyQuery!$A$5:$FA$15,BJ$1)","v":2515},{"$f":"VLOOKUP(DropDownList!$A$19,CntyQuery!$A$5:$FA$15,BK$1)","v":2684},{"$f":"VLOOKUP(DropDownList!$A$19,CntyQuery!$A$5:$FA$15,BL$1)","v":4912},{"$f":"VLOOKUP(DropDownList!$A$19,CntyQuery!$A$5:$FA$15,BM$1)","v":4722},{"$f":"VLOOKUP(DropDownList!$A$19,CntyQuery!$A$5:$FA$15,BN$1)","v":5427},{"$f":"VLOOKUP(DropDownList!$A$19,CntyQuery!$A$5:$FA$15,BO$1)","v":4109},{"$f":"VLOOKUP(DropDownList!$A$19,CntyQuery!$A$5:$FA$15,BP$1)","v":911},{"$f":"VLOOKUP(DropDownList!$A$19,CntyQuery!$A$5:$FA$15,BQ$1)","v":1003},{"$f":"VLOOKUP(DropDownList!$A$19,CntyQuery!$A$5:$FA$15,BR$1)","v":30065},{"$f":"VLOOKUP(DropDownList!$A$19,CntyQuery!$A$5:$FA$15,BS$1)","v":189},{"$f":"VLOOKUP(DropDownList!$A$19,CntyQuery!$A$5:$FA$15,BT$1)","v":236},{"$f":"VLOOKUP(DropDownList!$A$19,CntyQuery!$A$5:$FA$15,BU$1)","v":294},{"$f":"VLOOKUP(DropDownList!$A$19,CntyQuery!$A$5:$FA$15,BV$1)","v":572},{"$f":"VLOOKUP(DropDownList!$A$19,CntyQuery!$A$5:$FA$15,BW$1)","v":342},{"$f":"VLOOKUP(DropDownList!$A$19,CntyQuery!$A$5:$FA$15,BX$1)","v":238},{"$f":"VLOOKUP(DropDownList!$A$19,CntyQuery!$A$5:$FA$15,BY$1)","v":81},{"$f":"VLOOKUP(DropDownList!$A$19,CntyQuery!$A$5:$FA$15,BZ$1)","v":13},{"$f":"VLOOKUP(DropDownList!$A$19,CntyQuery!$A$5:$FA$15,CA$1)","v":0},{"$f":"VLOOKUP(DropDownList!$A$19,CntyQuery!$A$5:$FA$15,CB$1)","v":125},{"$f":"VLOOKUP(DropDownList!$A$19,CntyQuery!$A$5:$FA$15,CC$1)","v":224},{"$f":"VLOOKUP(DropDownList!$A$19,CntyQuery!$A$5:$FA$15,CD$1)","v":423},{"$f":"VLOOKUP(DropDownList!$A$19,CntyQuery!$A$5:$FA$15,CE$1)","v":1209},{"$f":"VLOOKUP(DropDownList!$A$19,CntyQuery!$A$5:$FA$15,CF$1)","v":1174},{"$f":"VLOOKUP(DropDownList!$A$19,CntyQuery!$A$5:$FA$15,CG$1)","v":1395},{"$f":"VLOOKUP(DropDownList!$A$19,CntyQuery!$A$5:$FA$15,CH$1)","v":810},{"$f":"VLOOKUP(DropDownList!$A$19,CntyQuery!$A$5:$FA$15,CI$1)","v":141},{"$f":"VLOOKUP(DropDownList!$A$19,CntyQuery!$A$5:$FA$15,CJ$1)","v":130},{"$f":"VLOOKUP(DropDownList!$A$19,CntyQuery!$A$5:$FA$15,CK$1)","v":121},{"$f":"VLOOKUP(DropDownList!$A$19,CntyQuery!$A$5:$FA$15,CL$1)","v":184},{"$f":"VLOOKUP(DropDownList!$A$19,CntyQuery!$A$5:$FA$15,CM$1)","v":364},{"$f":"VLOOKUP(DropDownList!$A$19,CntyQuery!$A$5:$FA$15,CN$1)","v":975},{"$f":"VLOOKUP(DropDownList!$A$19,CntyQuery!$A$5:$FA$15,CO$1)","v":1214},{"$f":"VLOOKUP(DropDownList!$A$19,CntyQuery!$A$5:$FA$15,CP$1)","v":1690},{"$f":"VLOOKUP(DropDownList!$A$19,CntyQuery!$A$5:$FA$15,CQ$1)","v":1259},{"$f":"VLOOKUP(DropDownList!$A$19,CntyQuery!$A$5:$FA$15,CR$1)","v":245},{"$f":"VLOOKUP(DropDownList!$A$19,CntyQuery!$A$5:$FA$15,CS$1)","v":319},{"$f":"VLOOKUP(DropDownList!$A$19,CntyQuery!$A$5:$FA$15,CT$1)","v":101},{"$f":"VLOOKUP(DropDownList!$A$19,CntyQuery!$A$5:$FA$15,CU$1)","v":116},{"$f":"VLOOKUP(DropDownList!$A$19,CntyQuery!$A$5:$FA$15,CV$1)","v":236},{"$f":"VLOOKUP(DropDownList!$A$19,CntyQuery!$A$5:$FA$15,CW$1)","v":461},{"$f":"VLOOKUP(DropDownList!$A$19,CntyQuery!$A$5:$FA$15,CX$1)","v":710},{"$f":"VLOOKUP(DropDownList!$A$19,CntyQuery!$A$5:$FA$15,CY$1)","v":927},{"$f":"VLOOKUP(DropDownList!$A$19,CntyQuery!$A$5:$FA$15,CZ$1)","v":894},{"$f":"VLOOKUP(DropDownList!$A$19,CntyQuery!$A$5:$FA$15,DA$1)","v":259},{"$f":"VLOOKUP(DropDownList!$A$19,CntyQuery!$A$5:$FA$15,DB$1)","v":269},{"$f":"VLOOKUP(DropDownList!$A$19,CntyQuery!$A$5:$FA$15,DC$1)","v":164},{"$f":"VLOOKUP(DropDownList!$A$19,CntyQuery!$A$5:$FA$15,DD$1)","v":235},{"$f":"VLOOKUP(DropDownList!$A$19,CntyQuery!$A$5:$FA$15,DE$1)","v":289},{"$f":"VLOOKUP(DropDownList!$A$19,CntyQuery!$A$5:$FA$15,DF$1)","v":678},{"$f":"VLOOKUP(DropDownList!$A$19,CntyQuery!$A$5:$FA$15,DG$1)","v":625},{"$f":"VLOOKUP(DropDownList!$A$19,CntyQuery!$A$5:$FA$15,DH$1)","v":555},{"$f":"VLOOKUP(DropDownList!$A$19,CntyQuery!$A$5:$FA$15,DI$1)","v":604},{"$f":"VLOOKUP(DropDownList!$A$19,CntyQuery!$A$5:$FA$15,DJ$1)","v":173},{"$f":"VLOOKUP(DropDownList!$A$19,CntyQuery!$A$5:$FA$15,DK$1)","v":184},{"$f":"VLOOKUP(DropDownList!$A$19,CntyQuery!$A$5:$FA$15,DL$1)","v":233},{"$f":"VLOOKUP(DropDownList!$A$19,CntyQuery!$A$5:$FA$15,DM$1)","v":596},{"$f":"VLOOKUP(DropDownList!$A$19,CntyQuery!$A$5:$FA$15,DN$1)","v":642},{"$f":"VLOOKUP(DropDownList!$A$19,CntyQuery!$A$5:$FA$15,DO$1)","v":614},{"$f":"VLOOKUP(DropDownList!$A$19,CntyQuery!$A$5:$FA$15,DP$1)","v":418},{"$f":"VLOOKUP(DropDownList!$A$19,CntyQuery!$A$5:$FA$15,DQ$1)","v":474},{"$f":"VLOOKUP(DropDownList!$A$19,CntyQuery!$A$5:$FA$15,DR$1)","v":337},{"$f":"VLOOKUP(DropDownList!$A$19,CntyQuery!$A$5:$FA$15,DS$1)","v":55},{"$f":"VLOOKUP(DropDownList!$A$19,CntyQuery!$A$5:$FA$15,DT$1)","v":78},{"$f":"VLOOKUP(DropDownList!$A$19,CntyQuery!$A$5:$FA$15,DU$1)","v":311},{"$f":"VLOOKUP(DropDownList!$A$19,CntyQuery!$A$5:$FA$15,DV$1)","v":924},{"$f":"VLOOKUP(DropDownList!$A$19,CntyQuery!$A$5:$FA$15,DW$1)","v":436},{"$f":"VLOOKUP(DropDownList!$A$19,CntyQuery!$A$5:$FA$15,DX$1)","v":403},{"$f":"VLOOKUP(DropDownList!$A$19,CntyQuery!$A$5:$FA$15,DY$1)","v":239},{"$f":"VLOOKUP(DropDownList!$A$19,CntyQuery!$A$5:$FA$15,DZ$1)","v":148},{"$f":"VLOOKUP(DropDownList!$A$19,CntyQuery!$A$5:$FA$15,EA$1)","v":124},{"$f":"VLOOKUP(DropDownList!$A$19,CntyQuery!$A$5:$FA$15,EB$1)","v":25},{"$f":"VLOOKUP(DropDownList!$A$19,CntyQuery!$A$5:$FA$15,EC$1)","v":23},{"$f":"VLOOKUP(DropDownList!$A$19,CntyQuery!$A$5:$FA$15,ED$1)","v":11188},{"$f":"VLOOKUP(DropDownList!$A$19,CntyQuery!$A$5:$FA$15,EE$1)","v":45960},{"$f":"VLOOKUP(DropDownList!$A$19,CntyQuery!$A$5:$FA$15,EF$1)","v":37390},{"$f":"VLOOKUP(DropDownList!$A$19,CntyQuery!$A$5:$FA$15,EG$1)","v":12123},{"$f":"VLOOKUP(DropDownList!$A$19,CntyQuery!$A$5:$FA$15,EH$1)","v":72572},{"$f":"VLOOKUP(DropDownList!$A$19,CntyQuery!$A$5:$FA$15,EI$1)","v":2357},{"$f":"VLOOKUP(DropDownList!$A$19,CntyQuery!$A$5:$FA$15,EJ$1)","v":35079},{"$f":"VLOOKUP(DropDownList!$A$19,CntyQuery!$A$5:$FA$15,EK$1)","v":72572},{"$f":"VLOOKUP(DropDownList!$A$19,CntyQuery!$A$5:$FA$15,EL$1)","v":2357},{"$f":"VLOOKUP(DropDownList!$A$19,CntyQuery!$A$5:$FA$15,EM$1)","v":25347},{"$f":"VLOOKUP(DropDownList!$A$19,CntyQuery!$A$5:$FA$15,EN$1)","v":4602},{"$f":"VLOOKUP(DropDownList!$A$19,CntyQuery!$A$5:$FA$15,EO$1)","v":218},{"$f":"VLOOKUP(DropDownList!$A$19,CntyQuery!$A$5:$FA$15,EP$1)","v":3704},{"$f":"VLOOKUP(DropDownList!$A$19,CntyQuery!$A$5:$FA$15,EQ$1)","v":593},{"$f":"VLOOKUP(DropDownList!$A$19,CntyQuery!$A$5:$FA$15,ER$1)","v":1671},{"$f":"VLOOKUP(DropDownList!$A$19,CntyQuery!$A$5:$FA$15,ES$1)","v":3759},{"$f":"VLOOKUP(DropDownList!$A$19,CntyQuery!$A$5:$FA$15,ET$1)","v":2684},{"$f":"VLOOKUP(DropDownList!$A$19,CntyQuery!$A$5:$FA$15,EU$1)","v":4912},{"$f":"VLOOKUP(DropDownList!$A$19,CntyQuery!$A$5:$FA$15,EV$1)","v":4722},{"$f":"VLOOKUP(DropDownList!$A$19,CntyQuery!$A$5:$FA$15,EW$1)","v":5427},{"$f":"VLOOKUP(DropDownList!$A$19,CntyQuery!$A$5:$FA$15,EX$1)","v":4109},{"$f":"VLOOKUP(DropDownList!$A$19,CntyQuery!$A$5:$FA$15,EY$1)","v":911},{"$f":"VLOOKUP(DropDownList!$A$19,CntyQuery!$A$5:$FA$15,EZ$1)","v":737},{"$f":"VLOOKUP(DropDownList!$A$19,CntyQuery!$A$5:$FA$15,FA$1)","v":266}]
[]
[]
["Census 1990 Data -    Query Name:  CountySTF1Qry1"]
["NAME","COUSUBFP","Census_Cnty_Code","FIPS","LandAcres","WaterAcres","HousingUnits90Cen","P01Persons90Cen","P02Families90Cen","P03Households90cen","P05MalePop90cen","P05FemalePop90cen","P06WhitePop","P06BlackPop","P06AmerIndianPop","P06AsianPIPop","P06OtherRacePop","P08HispanicOrPop","P11AgeUnder15_90cen","P11Age15to24_90cen","P11Age25to34_90cen","P11Age35to44_90cen","P11Age45to54_90cen","P11Age55to64_90cen","P11Age65to74_90cen","P11Age75andOver_90cen","P15PersonsInHH90cen","P15PersonsInFamHH90cen","P15PersonsInGC","PersonsPerHH90cen","PersonsPerFam90Cen","P16SinglePersonHH90cen","P16MarriedCoupleHH90cen","P16SingleParentHH90cen","P16NonFamilyHH90cen","H01TotalHousingUnits","H02OccupiedHousingUnits","H02VacantHousingUnits","H03OwnerOccHU","H03RenterOccHU","H05VacantForRent90","H05VacantForSale90","H05VacantSeasonalRec","H23OOHUVal<15k","H23OOHUVal15to19k","H23OOHUVal20to24k","H23OOHUVal25to29k","H23OOHUVal30to34k","H23OOHUVal35to39k","H23OOHUVal40to44k","H23OOHUVal45to49k","H23OOHUVal50to59k","H23OOHUVal60to74k","H23OOHUVal75to99k","H23OOHUVal100to124k","H23OOHUVal125to149k","H23OOHUVal150to174k","H23OOHUVal175to199k","H23OOHUVal200to249k","H23OOHUVal250to299k","H23OOHUVal300to399k","H23OOHUVal400to499k","H23OOHUVal500kOrMore","H23BOOHUMedVal","H41SingFamHU90cen","H41MultiFamHU90cen","H41MobileHom90cen","H43SingFamOwnHU90cen","H43MultiFamOwnHU90cen","H43MobileHomOwnHU90cen","H43SingFamRntrHU90cen","H43MultiFamRntrHU90cen","H43MobileHomRntrHU90cen","H41HU1UnitDet","H41HU1UnitAtt","H41HU2Unit","H41HU3to4Unit","H41HU5to9Unit","H41HU10to19Unit","H41HU20to49Unit","H41HU50PlusUnit","H41HUMobilH","H41HUOther"]
[{"$f":"VLOOKUP(DropDownList!$A$19,CntyQuery!$A$20:$CE$30,A$1)","v":"Grafton County"},{"$f":"VLOOKUP(DropDownList!$A$19,CntyQuery!$A$20:$CE$30,B$1)","v":"00005"},{"$f":"VLOOKUP(DropDownList!$A$19,CntyQuery!$A$20:$CE$30,C$1)","v":"009"},{"$f":"VLOOKUP(DropDownList!$A$19,CntyQuery!$A$20:$CE$30,D$1)","v":9000},{"$f":"VLOOKUP(DropDownList!$A$19,CntyQuery!$A$20:$CE$30,E$1)","v":1096323.55},{"$f":"VLOOKUP(DropDownList!$A$19,CntyQuery!$A$20:$CE$30,F$1)","v":23419.8},{"$f":"VLOOKUP(DropDownList!$A$19,CntyQuery!$A$20:$CE$30,G$1)","v":42206},{"$f":"VLOOKUP(DropDownList!$A$19,CntyQuery!$A$20:$CE$30,H$1)","v":74929},{"$f":"VLOOKUP(DropDownList!$A$19,CntyQuery!$A$20:$CE$30,I$1)","v":18544},{"$f":"VLOOKUP(DropDownList!$A$19,CntyQuery!$A$20:$CE$30,J$1)","v":27542},{"$f":"VLOOKUP(DropDownList!$A$19,CntyQuery!$A$20:$CE$30,K$1)","v":36966},{"$f":"VLOOKUP(DropDownList!$A$19,CntyQuery!$A$20:$CE$30,L$1)","v":37963},{"$f":"VLOOKUP(DropDownList!$A$19,CntyQuery!$A$20:$CE$30,M$1)","v":73395},{"$f":"VLOOKUP(DropDownList!$A$19,CntyQuery!$A$20:$CE$30,N$1)","v":404},{"$f":"VLOOKUP(DropDownList!$A$19,CntyQuery!$A$20:$CE$30,O$1)","v":186},{"$f":"VLOOKUP(DropDownList!$A$19,CntyQuery!$A$20:$CE$30,P$1)","v":831},{"$f":"VLOOKUP(DropDownList!$A$19,CntyQuery!$A$20:$CE$30,Q$1)","v":113},{"$f":"VLOOKUP(DropDownList!$A$19,CntyQuery!$A$20:$CE$30,R$1)","v":599},{"$f":"VLOOKUP(DropDownList!$A$19,CntyQuery!$A$20:$CE$30,S$1)","v":14599},{"$f":"VLOOKUP(DropDownList!$A$19,CntyQuery!$A$20:$CE$30,T$1)","v":14423},{"$f":"VLOOKUP(DropDownList!$A$19,CntyQuery!$A$20:$CE$30,U$1)","v":11835},{"$f":"VLOOKUP(DropDownList!$A$19,CntyQuery!$A$20:$CE$30,V$1)","v":11550},{"$f":"VLOOKUP(DropDownList!$A$19,CntyQuery!$A$20:$CE$30,W$1)","v":7115},{"$f":"VLOOKUP(DropDownList!$A$19,CntyQuery!$A$20:$CE$30,X$1)","v":6121},{"$f":"VLOOKUP(DropDownList!$A$19,CntyQuery!$A$20:$CE$30,Y$1)","v":5200},{"$f":"VLOOKUP(DropDownList!$A$19,CntyQuery!$A$20:$CE$30,Z$1)","v":4086},{"$f":"VLOOKUP(DropDownList!$A$19,CntyQuery!$A$20:$CE$30,AA$1)","v":69187},{"$f":"VLOOKUP(DropDownList!$A$19,CntyQuery!$A$20:$CE$30,AB$1)","v":56838},{"$f":"VLOOKUP(DropDownList!$A$19,CntyQuery!$A$20:$CE$30,AC$1)","v":5742},{"$f":"VLOOKUP(DropDownList!$A$19,CntyQuery!$A$20:$CE$30,AD$1)","v":2.5120543170430616},{"$f":"VLOOKUP(DropDownList!$A$19,CntyQuery!$A$20:$CE$30,AE$1)","v":3.0650345125107852},{"$f":"VLOOKUP(DropDownList!$A$19,CntyQuery!$A$20:$CE$30,AF$1)","v":6717},{"$f":"VLOOKUP(DropDownList!$A$19,CntyQuery!$A$20:$CE$30,AG$1)","v":15430},{"$f":"VLOOKUP(DropDownList!$A$19,CntyQuery!$A$20:$CE$30,AH$1)","v":3114},{"$f":"VLOOKUP(DropDownList!$A$19,CntyQuery!$A$20:$CE$30,AI$1)","v":2281},{"$f":"VLOOKUP(DropDownList!$A$19,CntyQuery!$A$20:$CE$30,AJ$1)","v":42206},{"$f":"VLOOKUP(DropDownList!$A$19,CntyQuery!$A$20:$CE$30,AK$1)","v":27542},{"$f":"VLOOKUP(DropDownList!$A$19,CntyQuery!$A$20:$CE$30,AL$1)","v":14664},{"$f":"VLOOKUP(DropDownList!$A$19,CntyQuery!$A$20:$CE$30,AM$1)","v":18500},{"$f":"VLOOKUP(DropDownList!$A$19,CntyQuery!$A$20:$CE$30,AN$1)","v":9042},{"$f":"VLOOKUP(DropDownList!$A$19,CntyQuery!$A$20:$CE$30,AO$1)","v":1388},{"$f":"VLOOKUP(DropDownList!$A$19,CntyQuery!$A$20:$CE$30,AP$1)","v":899},{"$f":"VLOOKUP(DropDownList!$A$19,CntyQuery!$A$20:$CE$30,AQ$1)","v":10558},{"$f":"VLOOKUP(DropDownList!$A$19,CntyQuery!$A$20:$CE$30,AR$1)","v":58},{"$f":"VLOOKUP(DropDownList!$A$19,CntyQuery!$A$20:$CE$30,AS$1)","v":50},{"$f":"VLOOKUP(DropDownList!$A$19,CntyQuery!$A$20:$CE$30,AT$1)","v":58},{"$f":"VLOOKUP(DropDownList!$A$19,CntyQuery!$A$20:$CE$30,AU$1)","v":87},{"$f":"VLOOKUP(DropDownList!$A$19,CntyQuery!$A$20:$CE$30,AV$1)","v":112},{"$f":"VLOOKUP(DropDownList!$A$19,CntyQuery!$A$20:$CE$30,AW$1)","v":119},{"$f":"VLOOKUP(DropDownList!$A$19,CntyQuery!$A$20:$CE$30,AX$1)","v":197},{"$f":"VLOOKUP(DropDownList!$A$19,CntyQuery!$A$20:$CE$30,AY$1)","v":177},{"$f":"VLOOKUP(DropDownList!$A$19,CntyQuery!$A$20:$CE$30,AZ$1)","v":556},{"$f":"VLOOKUP(DropDownList!$A$19,CntyQuery!$A$20:$CE$30,BA$1)","v":1166},{"$f":"VLOOKUP(DropDownList!$A$19,CntyQuery!$A$20:$CE$30,BB$1)","v":2834},{"$f":"VLOOKUP(DropDownList!$A$19,CntyQuery!$A$20:$CE$30,BC$1)","v":2020},{"$f":"VLOOKUP(DropDownList!$A$19,CntyQuery!$A$20:$CE$30,BD$1)","v":1420},{"$f":"VLOOKUP(DropDownList!$A$19,CntyQuery!$A$20:$CE$30,BE$1)","v":968},{"$f":"VLOOKUP(DropDownList!$A$19,CntyQuery!$A$20:$CE$30,BF$1)","v":525},{"$f":"VLOOKUP(DropDownList!$A$19,CntyQuery!$A$20:$CE$30,BG$1)","v":599},{"$f":"VLOOKUP(DropDownList!$A$19,CntyQuery!$A$20:$CE$30,BH$1)","v":314},{"$f":"VLOOKUP(DropDownList!$A$19,CntyQuery!$A$20:$CE$30,BI$1)","v":276},{"$f":"VLOOKUP(DropDownList!$A$19,CntyQuery!$A$20:$CE$30,BJ$1)","v":113},{"$f":"VLOOKUP(DropDownList!$A$19,CntyQuery!$A$20:$CE$30,BK$1)","v":96},{"$f":"VLOOKUP(DropDownList!$A$19,CntyQuery!$A$20:$CE$30,BL$1)","v":105700},{"$f":"VLOOKUP(DropDownList!$A$19,CntyQuery!$A$20:$CE$30,BM$1)","v":24402},{"$f":"VLOOKUP(DropDownList!$A$19,CntyQuery!$A$20:$CE$30,BN$1)","v":13249},{"$f":"VLOOKUP(DropDownList!$A$19,CntyQuery!$A$20:$CE$30,BO$1)","v":4555},{"$f":"VLOOKUP(DropDownList!$A$19,CntyQuery!$A$20:$CE$30,BP$1)","v":14707},{"$f":"VLOOKUP(DropDownList!$A$19,CntyQuery!$A$20:$CE$30,BQ$1)","v":1271},{"$f":"VLOOKUP(DropDownList!$A$19,CntyQuery!$A$20:$CE$30,BR$1)","v":2522},{"$f":"VLOOKUP(DropDownList!$A$19,CntyQuery!$A$20:$CE$30,BS$1)","v":2033},{"$f":"VLOOKUP(DropDownList!$A$19,CntyQuery!$A$20:$CE$30,BT$1)","v":6411},{"$f":"VLOOKUP(DropDownList!$A$19,CntyQuery!$A$20:$CE$30,BU$1)","v":598},{"$f":"VLOOKUP(DropDownList!$A$19,CntyQuery!$A$20:$CE$30,BV$1)","v":24402},{"$f":"VLOOKUP(DropDownList!$A$19,CntyQuery!$A$20:$CE$30,BW$1)","v":1797},{"$f":"VLOOKUP(DropDownList!$A$19,CntyQuery!$A$20:$CE$30,BX$1)","v":2565},{"$f":"VLOOKUP(DropDownList!$A$19,CntyQuery!$A$20:$CE$30,BY$1)","v":2633},{"$f":"VLOOKUP(DropDownList!$A$19,CntyQuery!$A$20:$CE$30,BZ$1)","v":3120},{"$f":"VLOOKUP(DropDownList!$A$19,CntyQuery!$A$20:$CE$30,CA$1)","v":1832},{"$f":"VLOOKUP(DropDownList!$A$19,CntyQuery!$A$20:$CE$30,CB$1)","v":863},{"$f":"VLOOKUP(DropDownList!$A$19,CntyQuery!$A$20:$CE$30,CC$1)","v":439},{"$f":"VLOOKUP(DropDownList!$A$19,CntyQuery!$A$20:$CE$30,CD$1)","v":3732},{"$f":"VLOOKUP(DropDownList!$A$19,CntyQuery!$A$20:$CE$30,CE$1)","v":823}]
[]
[]
["Census 1990 Data -          Query Name: CountySTF3Qry1"]
["NAME","FIPS","COUSUBFP","LandAcres","WaterAcres","HousingUnits90Cen","P01Persons90Cen","P02Families90Cen","P03Households90cen","H25HU<5yrs90cen","H25HU5to20yrs90cen","H25HU20to50yrs90cen","H25HU>50yrs90cen","H31Units0Bedroom90cen","H31Units1Bedroom90cen","H31Units2Bedroom90cen","H31Units3Bedroom90cen","H31Units4Bedroom90cen","H31Units5+Bedroom90cen","P80HI<5K","P80HI5Kto10K","P80HI10Kto15K","P80HI15Kto25K","P80HI25Kto35K","P80HI35Kto50K","P80HI50Kto75K","P80HI75Kto100K","P80HI>100K","P80AMedHI","P86HH<25HI<5K","P86HH<25HI5Kto10K","P86HH<25HI10Kto15K","P86HH<25HI15Kto25K","P86HH<25HI25Kto35K","P86HH<25HI35Kto50K","P86HH<25HI50Kto75K","P86HH<25HI75Kto100K","P86HH<25HI>100K","P86HH25to34HI<5K","P86HH25to34HI5Kto10K","P86HH25to34HI10Kto15K","P86HH25to34HI15Kto25K","P86HH25to34HI25Kto35K","P86HH25to34HI35Kto50K","P86HH25to34HI50Kto75K","P86HH25to34HI75Kto100K","P86HH25to34HI>100K","P86HH35to44HI<5K","P86HH35to44HI5Kto10K","P86HH35to44HI10Kto15K","P86HH35to44HI15Kto25K","P86HH35to44HI25Kto35K","P86HH35to44HI35Kto50K","P86HH35to44HI50Kto75K","P86HH35to44HI75Kto100K","P86HH35to44HI>100K","P86HH45to54HI<5K","P86HH45to54HI5Kto10K","P86HH45to54HI10Kto15K","P86HH45to54HI15Kto25K","P86HH45to54HI25Kto35K","P86HH45to54HI35Kto50K","P86HH45to54HI50Kto75K","P86HH45to54HI75Kto100K","P86HH45to54HI>100K","P86HH55to64HI<5K","P86HH55to64HI5Kto10K","P86HH55to64HI10Kto15K","P86HH55to64HI15Kto25K","P86HH55to64HI25Kto35K","P86HH55to64HI35Kto50K","P86HH55to64HI50Kto75K","P86HH55to64HI75Kto100K","P86HH55to64HI>100K","P86HH65to74HI<5K","P86HH65to74HI5Kto10K","P86HH65to74HI10Kto15K","P86HH65to74HI15Kto25K","P86HH65to74HI25Kto35K","P86HH65to74HI35Kto50K","P86HH65to74HI50Kto75K","P86HH65to74HI75Kto100K","P86HH65to74HI>100K","P86HH>75HI<5K","P86HH>75HI5Kto10K","P86HH>75HI10Kto15K","P86HH>75HI15Kto25K","P86HH>75HI25Kto35K","P86HH>75HI35Kto50K","P86HH>75HI50Kto75K","P86HH>75HI75Kto100K","P86HH>75HI>100K","P54SchlEnrlPrePrim","P54SchlEnrlElemThrHS","P54SchlEnrlCollege","P54NotEnrlInSch","P57Pop25andOver","P57LessThan9thGrade","P579thto12thNoDip","P57HSGrad","P57SomeCollege","P57AssocDeg","P57BachelDeg","P57GradorProfDeg","P57HSGradorHigher","P57CollGradorHigher","P42NativePop","P42ForeignBornPop","P42BornStateOfRes","P37NativePop2","P37ForeignBornPop2","P49DroveAlone","P49CarPooled","P49PublicTranspt","P49Walked","P49OtherMeans","P49WorkedAtHome","P80HHInc<10K","P80HHInc10to15K","P80HHInc15to25K","P80HHInc25to35K","P80HHInc35to50K","P80HHInc50to75K","P80HHInc75to100K","P80HHInc100to150K","P80HHInc>150K","H25YearStBlt89to90","H25YearStBlt85to88","H25YearStBlt80to84","H25YearStBlt70to79","H25YearStBlt60to69","H25YearStBlt50to59","H25YearStBlt40to49","H25YearStBlt39earlier","P107FamInc<10K","P107FamInc10to15K","P107FamInc15to25K","P107FamInc25to35K","P107FamInc35to50K","P107FamInc50to75K","P107FamInc75to100K","P107FamInc100to150K","P107FamInc>150K","P107AMedFamInc","P110NonFamInc<10K","P110NonFamInc10to15K","P110NonFamInc15to25K","P110NonFamInc25to35K","P110NonFamInc35to50K","P110NonFamInc50to75K","P110NonFamInc75to100K","P110NonFamInc100to150K","P110NonFamInc>150K","P110AMedNonFamInc","H16HU1Room","H16HU2Room","H16HU3Room","H16HU4Room","H16HU5Room","H16HU6Room","H16HU7Room","H16HU8Room","H16HU9+Room","H43GrossRnt<100","H43GrossRnt100to149","H43GrossRnt150to199","H43GrossRnt200to249","H43GrossRnt250to299","H43GrossRnt300to349","H43GrossRnt350to399","H43GrossRnt400to449","H43GrossRnt450to499","H43GrossRnt500to549","H43GrossRnt550to599","H43GrossRnt600to649","H43GrossRnt650to699","H43GrossRnt700to749","H43GrossRnt750to999","H43GrossRnt1000Plus","H43NoCashRent","H43MedGrossRent","H51GrossRnt<20PctHHInc","H51GrossRnt20to24PctHHInc","H51GrossRnt25to29PctHHInc","H51GrossRnt30to34PctHHInc","H51GrossRnt35PctOrMoreHHInc","H51GrossRntAsPctHHIncNotComp","H52HUwMtgMoOwnCst<200","H52HUwMtgMoOwnCst200to299","H52HUwMtgMoOwnCst300to399","H52HUwMtgMoOwnCst400to499","H52HUwMtgMoOwnCst500to599","H52HUwMtgMoOwnCst600to699","H52HUwMtgMoOwnCst700to799","H52HUwMtgMoOwnCst800to899","H52HUwMtgMoOwnCst900to999","H52HUwMtgMoOwnCst1000to1249","H52HUwMtgMoOwnCst1250to1499","H52HUwMtgMoOwnCst1500to1999","H52HUwMtgMoOwnCst2000More","H52HUwNoMtgMoOwnCst<100","H52HUwNoMtgMoOwnCst100to149","H52HUwNoMtgMoOwnCst150to199","H52HUwNoMtgMoOwnCst200to249","H52HUwNoMtgMoOwnCst250to299","H52HUwNoMtgMoOwnCst300to349","H52HUwNoMtgMoOwnCst350to399","H52HUwNoMtgMoOwnCst400More","H52AMedMoOwnCstWMortg","H52AMedMoOwnCstWNoMortg","H58HUwMtgMOC<20pHHInc","H58HUwMtgMOC20to24pHHInc","H58HUwMtgMOC25to29pHHInc","H58HUwMtgMOC30to34pHHInc","H58wMtgMOC>35pHHInc","H58HUwMtgMOCNotComp","H58HUwNoMtgMOC<20pHHInc","H58HUwNoMtgMOC20to24pHHInc","H58HUwNoMtgMOC25to29pHHInc","H58HUwNoMtgMOC30to34pHHInc","H58wNoMtgMOC>35pHHInc","H58HUwNoMtgMOCNotComp","H61OOHUVal<15k","H61OOHUVal15to19k","H61OOHUVal20to24k","H61OOHUVal25to29k","H61OOHUVal30to34k","H61OOHUVal35to39k","H61OOHUVal40to44k","H61OOHUVal45to49k","H61OOHUVal50to59k","H61OOHUVal60to74k","H61OOHUVal75to99k","H61OOHUVal100to124k","H61OOHUVal125to149k","H61OOHUVal150to174k","H61OOHUVal175to199k","H61OOHUVal200to249k","H61OOHUVal250to299k","H61OOHUVal300to399k","H61OOHUVal400to499k","H61OOHUVal500kOrMore","H61aOOHUMedVal"]
[{"$f":"VLOOKUP(DropDownList!$A$19,CntyQuery!$A$37:$CE$47,A$1)","v":"Grafton County"},{"$f":"VLOOKUP(DropDownList!$A$19,CntyQuery!$A$37:$II$47,B$1)","v":9000},{"$f":"VLOOKUP(DropDownList!$A$19,CntyQuery!$A$37:$II$47,C$1)","v":"00005"},{"$f":"VLOOKUP(DropDownList!$A$19,CntyQuery!$A$37:$II$47,D$1)","v":1096323.55},{"$f":"VLOOKUP(DropDownList!$A$19,CntyQuery!$A$37:$II$47,E$1)","v":23419.8},{"$f":"VLOOKUP(DropDownList!$A$19,CntyQuery!$A$37:$II$47,F$1)","v":42206},{"$f":"VLOOKUP(DropDownList!$A$19,CntyQuery!$A$37:$II$47,G$1)","v":74929},{"$f":"VLOOKUP(DropDownList!$A$19,CntyQuery!$A$37:$II$47,H$1)","v":18544},{"$f":"VLOOKUP(DropDownList!$A$19,CntyQuery!$A$37:$II$47,I$1)","v":27542},{"$f":"VLOOKUP(DropDownList!$A$19,CntyQuery!$A$37:$II$47,J$1)","v":8171},{"$f":"VLOOKUP(DropDownList!$A$19,CntyQuery!$A$37:$II$47,K$1)","v":12597},{"$f":"VLOOKUP(DropDownList!$A$19,CntyQuery!$A$37:$II$47,L$1)","v":7599},{"$f":"VLOOKUP(DropDownList!$A$19,CntyQuery!$A$37:$II$47,M$1)","v":13839},{"$f":"VLOOKUP(DropDownList!$A$19,CntyQuery!$A$37:$II$47,N$1)","v":754},{"$f":"VLOOKUP(DropDownList!$A$19,CntyQuery!$A$37:$II$47,O$1)","v":5861},{"$f":"VLOOKUP(DropDownList!$A$19,CntyQuery!$A$37:$II$47,P$1)","v":13240},{"$f":"VLOOKUP(DropDownList!$A$19,CntyQuery!$A$37:$II$47,Q$1)","v":15103},{"$f":"VLOOKUP(DropDownList!$A$19,CntyQuery!$A$37:$II$47,R$1)","v":5396},{"$f":"VLOOKUP(DropDownList!$A$19,CntyQuery!$A$37:$II$47,S$1)","v":1852},{"$f":"VLOOKUP(DropDownList!$A$19,CntyQuery!$A$37:$II$47,T$1)","v":1244},{"$f":"VLOOKUP(DropDownList!$A$19,CntyQuery!$A$37:$II$47,U$1)","v":2515},{"$f":"VLOOKUP(DropDownList!$A$19,CntyQuery!$A$37:$II$47,V$1)","v":2684},{"$f":"VLOOKUP(DropDownList!$A$19,CntyQuery!$A$37:$II$47,W$1)","v":4912},{"$f":"VLOOKUP(DropDownList!$A$19,CntyQuery!$A$37:$II$47,X$1)","v":4722},{"$f":"VLOOKUP(DropDownList!$A$19,CntyQuery!$A$37:$II$47,Y$1)","v":5427},{"$f":"VLOOKUP(DropDownList!$A$19,CntyQuery!$A$37:$II$47,Z$1)","v":4109},{"$f":"VLOOKUP(DropDownList!$A$19,CntyQuery!$A$37:$II$47,AA$1)","v":911},{"$f":"VLOOKUP(DropDownList!$A$19,CntyQuery!$A$37:$II$47,AB$1)","v":1003},{"$f":"VLOOKUP(DropDownList!$A$19,CntyQuery!$A$37:$II$47,AC$1)","v":30065},{"$f":"VLOOKUP(DropDownList!$A$19,CntyQuery!$A$37:$II$47,AD$1)","v":189},{"$f":"VLOOKUP(DropDownList!$A$19,CntyQuery!$A$37:$II$47,AE$1)","v":236},{"$f":"VLOOKUP(DropDownList!$A$19,CntyQuery!$A$37:$II$47,AF$1)","v":294},{"$f":"VLOOKUP(DropDownList!$A$19,CntyQuery!$A$37:$II$47,AG$1)","v":572},{"$f":"VLOOKUP(DropDownList!$A$19,CntyQuery!$A$37:$II$47,AH$1)","v":342},{"$f":"VLOOKUP(DropDownList!$A$19,CntyQuery!$A$37:$II$47,AI$1)","v":238},{"$f":"VLOOKUP(DropDownList!$A$19,CntyQuery!$A$37:$II$47,AJ$1)","v":81},{"$f":"VLOOKUP(DropDownList!$A$19,CntyQuery!$A$37:$II$47,AK$1)","v":13},{"$f":"VLOOKUP(DropDownList!$A$19,CntyQuery!$A$37:$II$47,AL$1)","v":0},{"$f":"VLOOKUP(DropDownList!$A$19,CntyQuery!$A$37:$II$47,AM$1)","v":125},{"$f":"VLOOKUP(DropDownList!$A$19,CntyQuery!$A$37:$II$47,AN$1)","v":224},{"$f":"VLOOKUP(DropDownList!$A$19,CntyQuery!$A$37:$II$47,AO$1)","v":423},{"$f":"VLOOKUP(DropDownList!$A$19,CntyQuery!$A$37:$II$47,AP$1)","v":1209},{"$f":"VLOOKUP(DropDownList!$A$19,CntyQuery!$A$37:$II$47,AQ$1)","v":1174},{"$f":"VLOOKUP(DropDownList!$A$19,CntyQuery!$A$37:$II$47,AR$1)","v":1395},{"$f":"VLOOKUP(DropDownList!$A$19,CntyQuery!$A$37:$II$47,AS$1)","v":810},{"$f":"VLOOKUP(DropDownList!$A$19,CntyQuery!$A$37:$II$47,AT$1)","v":141},{"$f":"VLOOKUP(DropDownList!$A$19,CntyQuery!$A$37:$II$47,AU$1)","v":130},{"$f":"VLOOKUP(DropDownList!$A$19,CntyQuery!$A$37:$II$47,AV$1)","v":121},{"$f":"VLOOKUP(DropDownList!$A$19,CntyQuery!$A$37:$II$47,AW$1)","v":184},{"$f":"VLOOKUP(DropDownList!$A$19,CntyQuery!$A$37:$II$47,AX$1)","v":364},{"$f":"VLOOKUP(DropDownList!$A$19,CntyQuery!$A$37:$II$47,AY$1)","v":975},{"$f":"VLOOKUP(DropDownList!$A$19,CntyQuery!$A$37:$II$47,AZ$1)","v":1214},{"$f":"VLOOKUP(DropDownList!$A$19,CntyQuery!$A$37:$II$47,BA$1)","v":1690},{"$f":"VLOOKUP(DropDownList!$A$19,CntyQuery!$A$37:$II$47,BB$1)","v":1259},{"$f":"VLOOKUP(DropDownList!$A$19,CntyQuery!$A$37:$II$47,BC$1)","v":245},{"$f":"VLOOKUP(DropDownList!$A$19,CntyQuery!$A$37:$II$47,BD$1)","v":319},{"$f":"VLOOKUP(DropDownList!$A$19,CntyQuery!$A$37:$II$47,BE$1)","v":101},{"$f":"VLOOKUP(DropDownList!$A$19,CntyQuery!$A$37:$II$47,BF$1)","v":116},{"$f":"VLOOKUP(DropDownList!$A$19,CntyQuery!$A$37:$II$47,BG$1)","v":236},{"$f":"VLOOKUP(DropDownList!$A$19,CntyQuery!$A$37:$II$47,BH$1)","v":461},{"$f":"VLOOKUP(DropDownList!$A$19,CntyQuery!$A$37:$II$47,BI$1)","v":710},{"$f":"VLOOKUP(DropDownList!$A$19,CntyQuery!$A$37:$II$47,BJ$1)","v":927},{"$f":"VLOOKUP(DropDownList!$A$19,CntyQuery!$A$37:$II$47,BK$1)","v":894},{"$f":"VLOOKUP(DropDownList!$A$19,CntyQuery!$A$37:$II$47,BL$1)","v":259},{"$f":"VLOOKUP(DropDownList!$A$19,CntyQuery!$A$37:$II$47,BM$1)","v":269},{"$f":"VLOOKUP(DropDownList!$A$19,CntyQuery!$A$37:$II$47,BN$1)","v":164},{"$f":"VLOOKUP(DropDownList!$A$19,CntyQuery!$A$37:$II$47,BO$1)","v":235},{"$f":"VLOOKUP(DropDownList!$A$19,CntyQuery!$A$37:$II$47,BP$1)","v":289},{"$f":"VLOOKUP(DropDownList!$A$19,CntyQuery!$A$37:$II$47,BQ$1)","v":678},{"$f":"VLOOKUP(DropDownList!$A$19,CntyQuery!$A$37:$II$47,BR$1)","v":625},{"$f":"VLOOKUP(DropDownList!$A$19,CntyQuery!$A$37:$II$47,BS$1)","v":555},{"$f":"VLOOKUP(DropDownList!$A$19,CntyQuery!$A$37:$II$47,BT$1)","v":604},{"$f":"VLOOKUP(DropDownList!$A$19,CntyQuery!$A$37:$II$47,BU$1)","v":173},{"$f":"VLOOKUP(DropDownList!$A$19,CntyQuery!$A$37:$II$47,BV$1)","v":184},{"$f":"VLOOKUP(DropDownList!$A$19,CntyQuery!$A$37:$II$47,BW$1)","v":233},{"$f":"VLOOKUP(DropDownList!$A$19,CntyQuery!$A$37:$II$47,BX$1)","v":596},{"$f":"VLOOKUP(DropDownList!$A$19,CntyQuery!$A$37:$II$47,BY$1)","v":642},{"$f":"VLOOKUP(DropDownList!$A$19,CntyQuery!$A$37:$II$47,BZ$1)","v":614},{"$f":"VLOOKUP(DropDownList!$A$19,CntyQuery!$A$37:$II$47,CA$1)","v":418},{"$f":"VLOOKUP(DropDownList!$A$19,CntyQuery!$A$37:$II$47,CB$1)","v":474},{"$f":"VLOOKUP(DropDownList!$A$19,CntyQuery!$A$37:$II$47,CC$1)","v":337},{"$f":"VLOOKUP(DropDownList!$A$19,CntyQuery!$A$37:$II$47,CD$1)","v":55},{"$f":"VLOOKUP(DropDownList!$A$19,CntyQuery!$A$37:$II$47,CE$1)","v":78},{"$f":"VLOOKUP(DropDownList!$A$19,CntyQuery!$A$37:$II$47,CF$1)","v":311},{"$f":"VLOOKUP(DropDownList!$A$19,CntyQuery!$A$37:$II$47,CG$1)","v":924},{"$f":"VLOOKUP(DropDownList!$A$19,CntyQuery!$A$37:$II$47,CH$1)","v":436},{"$f":"VLOOKUP(DropDownList!$A$19,CntyQuery!$A$37:$II$47,CI$1)","v":403},{"$f":"VLOOKUP(DropDownList!$A$19,CntyQuery!$A$37:$II$47,CJ$1)","v":239},{"$f":"VLOOKUP(DropDownList!$A$19,CntyQuery!$A$37:$II$47,CK$1)","v":148},{"$f":"VLOOKUP(DropDownList!$A$19,CntyQuery!$A$37:$II$47,CL$1)","v":124},{"$f":"VLOOKUP(DropDownList!$A$19,CntyQuery!$A$37:$II$47,CM$1)","v":25},{"$f":"VLOOKUP(DropDownList!$A$19,CntyQuery!$A$37:$II$47,CN$1)","v":23},{"$f":"VLOOKUP(DropDownList!$A$19,CntyQuery!$A$37:$II$47,CO$1)","v":1078},{"$f":"VLOOKUP(DropDownList!$A$19,CntyQuery!$A$37:$II$47,CP$1)","v":11188},{"$f":"VLOOKUP(DropDownList!$A$19,CntyQuery!$A$37:$II$47,CQ$1)","v":9325},{"$f":"VLOOKUP(DropDownList!$A$19,CntyQuery!$A$37:$II$47,CR$1)","v":50419},{"$f":"VLOOKUP(DropDownList!$A$19,CntyQuery!$A$37:$II$47,CS$1)","v":45960},{"$f":"VLOOKUP(DropDownList!$A$19,CntyQuery!$A$37:$II$47,CT$1)","v":3263},{"$f":"VLOOKUP(DropDownList!$A$19,CntyQuery!$A$37:$II$47,CU$1)","v":5307},{"$f":"VLOOKUP(DropDownList!$A$19,CntyQuery!$A$37:$II$47,CV$1)","v":15177},{"$f":"VLOOKUP(DropDownList!$A$19,CntyQuery!$A$37:$II$47,CW$1)","v":6932},{"$f":"VLOOKUP(DropDownList!$A$19,CntyQuery!$A$37:$II$47,CX$1)","v":3158},{"$f":"VLOOKUP(DropDownList!$A$19,CntyQuery!$A$37:$II$47,CY$1)","v":7347},{"$f":"VLOOKUP(DropDownList!$A$19,CntyQuery!$A$37:$II$47,CZ$1)","v":4776},{"$f":"VLOOKUP(DropDownList!$A$19,CntyQuery!$A$37:$II$47,DA$1)","v":37390},{"$f":"VLOOKUP(DropDownList!$A$19,CntyQuery!$A$37:$II$47,DB$1)","v":12123},{"$f":"VLOOKUP(DropDownList!$A$19,CntyQuery!$A$37:$II$47,DC$1)","v":72572},{"$f":"VLOOKUP(DropDownList!$A$19,CntyQuery!$A$37:$II$47,DD$1)","v":2357},{"$f":"VLOOKUP(DropDownList!$A$19,CntyQuery!$A$37:$II$47,DE$1)","v":35079},{"$f":"VLOOKUP(DropDownList!$A$19,CntyQuery!$A$37:$II$47,DF$1)","v":72572},{"$f":"VLOOKUP(DropDownList!$A$19,CntyQuery!$A$37:$II$47,DG$1)","v":2357},{"$f":"VLOOKUP(DropDownList!$A$19,CntyQuery!$A$37:$II$47,DH$1)","v":25347},{"$f":"VLOOKUP(DropDownList!$A$19,CntyQuery!$A$37:$II$47,DI$1)","v":4602},{"$f":"VLOOKUP(DropDownList!$A$19,CntyQuery!$A$37:$II$47,DJ$1)","v":218},{"$f":"VLOOKUP(DropDownList!$A$19,CntyQuery!$A$37:$II$47,DK$1)","v":3704},{"$f":"VLOOKUP(DropDownList!$A$19,CntyQuery!$A$37:$II$47,DL$1)","v":593},{"$f":"VLOOKUP(DropDownList!$A$19,CntyQuery!$A$37:$II$47,DM$1)","v":1671},{"$f":"VLOOKUP(DropDownList!$A$19,CntyQuery!$A$37:$II$47,DN$1)","v":3759},{"$f":"VLOOKUP(DropDownList!$A$19,CntyQuery!$A$37:$II$47,DO$1)","v":2684},{"$f":"VLOOKUP(DropDownList!$A$19,CntyQuery!$A$37:$II$47,DP$1)","v":4912},{"$f":"VLOOKUP(DropDownList!$A$19,CntyQuery!$A$37:$II$47,DQ$1)","v":4722},{"$f":"VLOOKUP(DropDownList!$A$19,CntyQuery!$A$37:$II$47,DR$1)","v":5427},{"$f":"VLOOKUP(DropDownList!$A$19,CntyQuery!$A$37:$II$47,DS$1)","v":4109},{"$f":"VLOOKUP(DropDownList!$A$19,CntyQuery!$A$37:$II$47,DT$1)","v":911},{"$f":"VLOOKUP(DropDownList!$A$19,CntyQuery!$A$37:$II$47,DU$1)","v":737},{"$f":"VLOOKUP(DropDownList!$A$19,CntyQuery!$A$37:$II$47,DV$1)","v":266},{"$f":"VLOOKUP(DropDownList!$A$19,CntyQuery!$A$37:$II$47,DW$1)","v":1918},{"$f":"VLOOKUP(DropDownList!$A$19,CntyQuery!$A$37:$II$47,DX$1)","v":6253},{"$f":"VLOOKUP(DropDownList!$A$19,CntyQuery!$A$37:$II$47,DY$1)","v":3767},{"$f":"VLOOKUP(DropDownList!$A$19,CntyQuery!$A$37:$II$47,DZ$1)","v":8830},{"$f":"VLOOKUP(DropDownList!$A$19,CntyQuery!$A$37:$II$47,EA$1)","v":3262},{"$f":"VLOOKUP(DropDownList!$A$19,CntyQuery!$A$37:$II$47,EB$1)","v":2447},{"$f":"VLOOKUP(DropDownList!$A$19,CntyQuery!$A$37:$II$47,EC$1)","v":1890},{"$f":"VLOOKUP(DropDownList!$A$19,CntyQuery!$A$37:$II$47,ED$1)","v":13839},{"$f":"VLOOKUP(DropDownList!$A$19,CntyQuery!$A$37:$II$47,EE$1)","v":1173},{"$f":"VLOOKUP(DropDownList!$A$19,CntyQuery!$A$37:$II$47,EF$1)","v":1392},{"$f":"VLOOKUP(DropDownList!$A$19,CntyQuery!$A$37:$II$47,EG$1)","v":3073},{"$f":"VLOOKUP(DropDownList!$A$19,CntyQuery!$A$37:$II$47,EH$1)","v":3473},{"$f":"VLOOKUP(DropDownList!$A$19,CntyQuery!$A$37:$II$47,EI$1)","v":4398},{"$f":"VLOOKUP(DropDownList!$A$19,CntyQuery!$A$37:$II$47,EJ$1)","v":3403},{"$f":"VLOOKUP(DropDownList!$A$19,CntyQuery!$A$37:$II$47,EK$1)","v":793},{"$f":"VLOOKUP(DropDownList!$A$19,CntyQuery!$A$37:$II$47,EL$1)","v":667},{"$f":"VLOOKUP(DropDownList!$A$19,CntyQuery!$A$37:$II$47,EM$1)","v":228},{"$f":"VLOOKUP(DropDownList!$A$19,CntyQuery!$A$37:$II$47,EN$1)","v":35489},{"$f":"VLOOKUP(DropDownList!$A$19,CntyQuery!$A$37:$II$47,EO$1)","v":2701},{"$f":"VLOOKUP(DropDownList!$A$19,CntyQuery!$A$37:$II$47,EP$1)","v":1396},{"$f":"VLOOKUP(DropDownList!$A$19,CntyQuery!$A$37:$II$47,EQ$1)","v":1904},{"$f":"VLOOKUP(DropDownList!$A$19,CntyQuery!$A$37:$II$47,ER$1)","v":1184},{"$f":"VLOOKUP(DropDownList!$A$19,CntyQuery!$A$37:$II$47,ES$1)","v":978},{"$f":"VLOOKUP(DropDownList!$A$19,CntyQuery!$A$37:$II$47,ET$1)","v":576},{"$f":"VLOOKUP(DropDownList!$A$19,CntyQuery!$A$37:$II$47,EU$1)","v":84},{"$f":"VLOOKUP(DropDownList!$A$19,CntyQuery!$A$37:$II$47,EV$1)","v":67},{"$f":"VLOOKUP(DropDownList!$A$19,CntyQuery!$A$37:$II$47,EW$1)","v":37},{"$f":"VLOOKUP(DropDownList!$A$19,CntyQuery!$A$37:$II$47,EX$1)","v":16535},{"$f":"VLOOKUP(DropDownList!$A$19,CntyQuery!$A$37:$II$47,EY$1)","v":617},{"$f":"VLOOKUP(DropDownList!$A$19,CntyQuery!$A$37:$II$47,EZ$1)","v":2028},{"$f":"VLOOKUP(DropDownList!$A$19,CntyQuery!$A$37:$II$47,FA$1)","v":4135},{"$f":"VLOOKUP(DropDownList!$A$19,CntyQuery!$A$37:$II$47,FB$1)","v":8029},{"$f":"VLOOKUP(DropDownList!$A$19,CntyQuery!$A$37:$II$47,FC$1)","v":8602},{"$f":"VLOOKUP(DropDownList!$A$19,CntyQuery!$A$37:$II$47,FD$1)","v":7386},{"$f":"VLOOKUP(DropDownList!$A$19,CntyQuery!$A$37:$II$47,FE$1)","v":5055},{"$f":"VLOOKUP(DropDownList!$A$19,CntyQuery!$A$37:$II$47,FF$1)","v":3084},{"$f":"VLOOKUP(DropDownList!$A$19,CntyQuery!$A$37:$II$47,FG$1)","v":3270},{"$f":"VLOOKUP(DropDownList!$A$19,CntyQuery!$A$37:$II$47,FH$1)","v":94},{"$f":"VLOOKUP(DropDownList!$A$19,CntyQuery!$A$37:$II$47,FI$1)","v":277},{"$f":"VLOOKUP(DropDownList!$A$19,CntyQuery!$A$37:$II$47,FJ$1)","v":217},{"$f":"VLOOKUP(DropDownList!$A$19,CntyQuery!$A$37:$II$47,FK$1)","v":229},{"$f":"VLOOKUP(DropDownList!$A$19,CntyQuery!$A$37:$II$47,FL$1)","v":413},{"$f":"VLOOKUP(DropDownList!$A$19,CntyQuery!$A$37:$II$47,FM$1)","v":571},{"$f":"VLOOKUP(DropDownList!$A$19,CntyQuery!$A$37:$II$47,FN$1)","v":806},{"$f":"VLOOKUP(DropDownList!$A$19,CntyQuery!$A$37:$II$47,FO$1)","v":961},{"$f":"VLOOKUP(DropDownList!$A$19,CntyQuery!$A$37:$II$47,FP$1)","v":935},{"$f":"VLOOKUP(DropDownList!$A$19,CntyQuery!$A$37:$II$47,FQ$1)","v":753},{"$f":"VLOOKUP(DropDownList!$A$19,CntyQuery!$A$37:$II$47,FR$1)","v":616},{"$f":"VLOOKUP(DropDownList!$A$19,CntyQuery!$A$37:$II$47,FS$1)","v":622},{"$f":"VLOOKUP(DropDownList!$A$19,CntyQuery!$A$37:$II$47,FT$1)","v":438},{"$f":"VLOOKUP(DropDownList!$A$19,CntyQuery!$A$37:$II$47,FU$1)","v":336},{"$f":"VLOOKUP(DropDownList!$A$19,CntyQuery!$A$37:$II$47,FV$1)","v":605},{"$f":"VLOOKUP(DropDownList!$A$19,CntyQuery!$A$37:$II$47,FW$1)","v":346},{"$f":"VLOOKUP(DropDownList!$A$19,CntyQuery!$A$37:$II$47,FX$1)","v":450},{"$f":"VLOOKUP(DropDownList!$A$19,CntyQuery!$A$37:$II$47,FY$1)","v":479},{"$f":"VLOOKUP(DropDownList!$A$19,CntyQuery!$A$37:$II$47,FZ$1)","v":2277},{"$f":"VLOOKUP(DropDownList!$A$19,CntyQuery!$A$37:$II$47,GA$1)","v":1273},{"$f":"VLOOKUP(DropDownList!$A$19,CntyQuery!$A$37:$II$47,GB$1)","v":1181},{"$f":"VLOOKUP(DropDownList!$A$19,CntyQuery!$A$37:$II$47,GC$1)","v":767},{"$f":"VLOOKUP(DropDownList!$A$19,CntyQuery!$A$37:$II$47,GD$1)","v":2609},{"$f":"VLOOKUP(DropDownList!$A$19,CntyQuery!$A$37:$II$47,GE$1)","v":562},{"$f":"VLOOKUP(DropDownList!$A$19,CntyQuery!$A$37:$II$47,GF$1)","v":9},{"$f":"VLOOKUP(DropDownList!$A$19,CntyQuery!$A$37:$II$47,GG$1)","v":87},{"$f":"VLOOKUP(DropDownList!$A$19,CntyQuery!$A$37:$II$47,GH$1)","v":356},{"$f":"VLOOKUP(DropDownList!$A$19,CntyQuery!$A$37:$II$47,GI$1)","v":686},{"$f":"VLOOKUP(DropDownList!$A$19,CntyQuery!$A$37:$II$47,GJ$1)","v":848},{"$f":"VLOOKUP(DropDownList!$A$19,CntyQuery!$A$37:$II$47,GK$1)","v":951},{"$f":"VLOOKUP(DropDownList!$A$19,CntyQuery!$A$37:$II$47,GL$1)","v":721},{"$f":"VLOOKUP(DropDownList!$A$19,CntyQuery!$A$37:$II$47,GM$1)","v":815},{"$f":"VLOOKUP(DropDownList!$A$19,CntyQuery!$A$37:$II$47,GN$1)","v":600},{"$f":"VLOOKUP(DropDownList!$A$19,CntyQuery!$A$37:$II$47,GO$1)","v":1002},{"$f":"VLOOKUP(DropDownList!$A$19,CntyQuery!$A$37:$II$47,GP$1)","v":569},{"$f":"VLOOKUP(DropDownList!$A$19,CntyQuery!$A$37:$II$47,GQ$1)","v":484},{"$f":"VLOOKUP(DropDownList!$A$19,CntyQuery!$A$37:$II$47,GR$1)","v":250},{"$f":"VLOOKUP(DropDownList!$A$19,CntyQuery!$A$37:$II$47,GS$1)","v":86},{"$f":"VLOOKUP(DropDownList!$A$19,CntyQuery!$A$37:$II$47,GT$1)","v":167},{"$f":"VLOOKUP(DropDownList!$A$19,CntyQuery!$A$37:$II$47,GU$1)","v":538},{"$f":"VLOOKUP(DropDownList!$A$19,CntyQuery!$A$37:$II$47,GV$1)","v":775},{"$f":"VLOOKUP(DropDownList!$A$19,CntyQuery!$A$37:$II$47,GW$1)","v":952},{"$f":"VLOOKUP(DropDownList!$A$19,CntyQuery!$A$37:$II$47,GX$1)","v":733},{"$f":"VLOOKUP(DropDownList!$A$19,CntyQuery!$A$37:$II$47,GY$1)","v":434},{"$f":"VLOOKUP(DropDownList!$A$19,CntyQuery!$A$37:$II$47,GZ$1)","v":779},{"$f":"VLOOKUP(DropDownList!$A$19,CntyQuery!$A$37:$II$47,HA$1)","v":804},{"$f":"VLOOKUP(DropDownList!$A$19,CntyQuery!$A$37:$II$47,HB$1)","v":285},{"$f":"VLOOKUP(DropDownList!$A$19,CntyQuery!$A$37:$II$47,HC$1)","v":2724},{"$f":"VLOOKUP(DropDownList!$A$19,CntyQuery!$A$37:$II$47,HD$1)","v":1424},{"$f":"VLOOKUP(DropDownList!$A$19,CntyQuery!$A$37:$II$47,HE$1)","v":1055},{"$f":"VLOOKUP(DropDownList!$A$19,CntyQuery!$A$37:$II$47,HF$1)","v":666},{"$f":"VLOOKUP(DropDownList!$A$19,CntyQuery!$A$37:$II$47,HG$1)","v":1491},{"$f":"VLOOKUP(DropDownList!$A$19,CntyQuery!$A$37:$II$47,HH$1)","v":18},{"$f":"VLOOKUP(DropDownList!$A$19,CntyQuery!$A$37:$II$47,HI$1)","v":2912},{"$f":"VLOOKUP(DropDownList!$A$19,CntyQuery!$A$37:$II$47,HJ$1)","v":329},{"$f":"VLOOKUP(DropDownList!$A$19,CntyQuery!$A$37:$II$47,HK$1)","v":293},{"$f":"VLOOKUP(DropDownList!$A$19,CntyQuery!$A$37:$II$47,HL$1)","v":194},{"$f":"VLOOKUP(DropDownList!$A$19,CntyQuery!$A$37:$II$47,HM$1)","v":709},{"$f":"VLOOKUP(DropDownList!$A$19,CntyQuery!$A$37:$II$47,HN$1)","v":27},{"$f":"VLOOKUP(DropDownList!$A$19,CntyQuery!$A$37:$II$47,HO$1)","v":65},{"$f":"VLOOKUP(DropDownList!$A$19,CntyQuery!$A$37:$II$47,HP$1)","v":41},{"$f":"VLOOKUP(DropDownList!$A$19,CntyQuery!$A$37:$II$47,HQ$1)","v":51},{"$f":"VLOOKUP(DropDownList!$A$19,CntyQuery!$A$37:$II$47,HR$1)","v":75},{"$f":"VLOOKUP(DropDownList!$A$19,CntyQuery!$A$37:$II$47,HS$1)","v":116},{"$f":"VLOOKUP(DropDownList!$A$19,CntyQuery!$A$37:$II$47,HT$1)","v":136},{"$f":"VLOOKUP(DropDownList!$A$19,CntyQuery!$A$37:$II$47,HU$1)","v":168},{"$f":"VLOOKUP(DropDownList!$A$19,CntyQuery!$A$37:$II$47,HV$1)","v":169},{"$f":"VLOOKUP(DropDownList!$A$19,CntyQuery!$A$37:$II$47,HW$1)","v":571},{"$f":"VLOOKUP(DropDownList!$A$19,CntyQuery!$A$37:$II$47,HX$1)","v":1173},{"$f":"VLOOKUP(DropDownList!$A$19,CntyQuery!$A$37:$II$47,HY$1)","v":2886},{"$f":"VLOOKUP(DropDownList!$A$19,CntyQuery!$A$37:$II$47,HZ$1)","v":2018},{"$f":"VLOOKUP(DropDownList!$A$19,CntyQuery!$A$37:$II$47,IA$1)","v":1489},{"$f":"VLOOKUP(DropDownList!$A$19,CntyQuery!$A$37:$II$47,IB$1)","v":947},{"$f":"VLOOKUP(DropDownList!$A$19,CntyQuery!$A$37:$II$47,IC$1)","v":554},{"$f":"VLOOKUP(DropDownList!$A$19,CntyQuery!$A$37:$II$47,ID$1)","v":639},{"$f":"VLOOKUP(DropDownList!$A$19,CntyQuery!$A$37:$II$47,IE$1)","v":307},{"$f":"VLOOKUP(DropDownList!$A$19,CntyQuery!$A$37:$II$47,IF$1)","v":250},{"$f":"VLOOKUP(DropDownList!$A$19,CntyQuery!$A$37:$II$47,IG$1)","v":94},{"$f":"VLOOKUP(DropDownList!$A$19,CntyQuery!$A$37:$II$47,IH$1)","v":93},{"$f":"VLOOKUP(DropDownList!$A$19,CntyQuery!$A$37:$II$47,II$1)","v":105800}]
[]
[]
[]
["AREANAME","FIPS","Cnty_Code","COUSUBFP","POP80","POP90CDCEN","POP2000CEN","POP2010CEN","POP2020CEN","POP2025-Proj","POP2030-Proj","POP2035-Proj","SF80","MF80","MH80","SF81","MF81","MH81","SF82","MF82","MH82","SF83","MF83","MH83","SF84_OSP","MF84_OSP","MH84_OSP","SF85_OSP","MF85_OSP","MH85_OSP","SF86_OSP","MF86_OSP","MH86_OSP","SF87_OSP","MF87_OSP","MH87_OSP","SF88_OSP","MF88_OSP","MH88_OSP","SF89_OSP","MF89_OSP","MH89_OSP","SF90_OSP","MF90_OSP","MH90_OSP","SF91_OSP","MF91_OSP","MH91_OSP","SF92_OSP","MF92_OSP","MH92_OSP","SF93_OSP","MF93_OSP","MH93_OSP","SF94_OSP","MF94_OSP","MH94_OSP","SF95_OSP","MF95_OSP","MH95_OSP","SF96_OSP","MF96_OSP","MH96_OSP","SF97_OSP","MF97_OSP","MH97_OSP","SF98_OSP","MF98_OSP","MH98_OSP","SF99_OSP","MF99_OSP","MH99_OSP","SF00_OSP","MF00_OSP","MH00_OSP","SF01_OSP","MF01_OSP","MH01_OSP","SF02_OSP","MF02_OSP","MH02_OSP","SF03_OSP","MF03_OSP","MH03_OSP","SF04_OSP","MF04_OSP","MH04_OSP","SF05_OSP","MF05_OSP","MH05_OSP","SF06_OSP","MF06_OSP","MH06_OSP","SF07_OSP","MF07_OSP","MH07_OSP","SF08_OSP","MF08_OSP","MH08_OSP","SF09_OSP","MF09_OSP","MH09_OSP","SF10_OSP","MF10_OSP","MH10_OSP","SF11_OSP","MF11_OSP","MH11_OSP","SF12_OSP","MF12_OSP","MH12_OSP","SF13_OSP","MF13_OSP","MH13_OSP","SF14_OSP","MF14_OSP","MH14_OSP","SF15_OSP","MF15_OSP","MH15_OSP","SF16_OSP","MF16_OSP","MH16_OSP","SF17_OSP","MF17_OSP","MH17_OSP","SF18_OSP","MF18_OSP","MH18_OSP","SF19_OSP","MF19_OSP","MH19_OSP","SF20_OSP","MF20_OSP","MH20_OSP","SF20 Census_OSP","MF20 Census OSP","MH20 Census_OSP","SF21_OSP","MF21_OSP","MH21_OSP","COMMENTS"]
[{"$f":"VLOOKUP(DropDownList!$A$19,CntyQuery!$A$53:$FZ$65,A$1)","v":"Grafton County"},{"$f":"VLOOKUP(DropDownList!$A$19,CntyQuery!$A$53:$FZ$65,B$1)","v":9000},{"$f":"VLOOKUP(DropDownList!$A$19,CntyQuery!$A$53:$FZ$65,C$1)","v":5},{"$f":"VLOOKUP(DropDownList!$A$19,CntyQuery!$A$53:$FZ$65,D$1)","v":"00005"},{"$f":"VLOOKUP(DropDownList!$A$19,CntyQuery!$A$53:$FZ$65,E$1)","v":65806},{"$f":"VLOOKUP(DropDownList!$A$19,CntyQuery!$A$53:$FZ$65,F$1)","v":74929},{"$f":"VLOOKUP(DropDownList!$A$19,CntyQuery!$A$53:$FZ$65,G$1)","v":81743},{"$f":"VLOOKUP(DropDownList!$A$19,CntyQuery!$A$53:$FZ$65,H$1)","v":89118},{"$f":"VLOOKUP(DropDownList!$A$19,CntyQuery!$A$53:$FZ$65,I$1)","v":91118},{"$f":"VLOOKUP(DropDownList!$A$19,CntyQuery!$A$53:$FZ$65,J$1)","v":94984},{"$f":"VLOOKUP(DropDownList!$A$19,CntyQuery!$A$53:$FZ$65,K$1)","v":98030},{"$f":"VLOOKUP(DropDownList!$A$19,CntyQuery!$A$53:$FZ$65,L$1)","v":99463},{"$f":"VLOOKUP(DropDownList!$A$19,CntyQuery!$A$53:$FZ$65,M$1)","v":256},{"$f":"VLOOKUP(DropDownList!$A$19,CntyQuery!$A$53:$FZ$65,N$1)","v":30},{"$f":"VLOOKUP(DropDownList!$A$19,CntyQuery!$A$53:$FZ$65,O$1)","v":61},{"$f":"VLOOKUP(DropDownList!$A$19,CntyQuery!$A$53:$FZ$65,P$1)","v":216},{"$f":"VLOOKUP(DropDownList!$A$19,CntyQuery!$A$53:$FZ$65,Q$1)","v":42},{"$f":"VLOOKUP(DropDownList!$A$19,CntyQuery!$A$53:$FZ$65,R$1)","v":51},{"$f":"VLOOKUP(DropDownList!$A$19,CntyQuery!$A$53:$FZ$65,S$1)","v":231},{"$f":"VLOOKUP(DropDownList!$A$19,CntyQuery!$A$53:$FZ$65,T$1)","v":95},{"$f":"VLOOKUP(DropDownList!$A$19,CntyQuery!$A$53:$FZ$65,U$1)","v":45},{"$f":"VLOOKUP(DropDownList!$A$19,CntyQuery!$A$53:$FZ$65,V$1)","v":273},{"$f":"VLOOKUP(DropDownList!$A$19,CntyQuery!$A$53:$FZ$65,W$1)","v":63},{"$f":"VLOOKUP(DropDownList!$A$19,CntyQuery!$A$53:$FZ$65,X$1)","v":50},{"$f":"VLOOKUP(DropDownList!$A$19,CntyQuery!$A$53:$FZ$65,Y$1)","v":271},{"$f":"VLOOKUP(DropDownList!$A$19,CntyQuery!$A$53:$FZ$65,Z$1)","v":263},{"$f":"VLOOKUP(DropDownList!$A$19,CntyQuery!$A$53:$FZ$65,AA$1)","v":69},{"$f":"VLOOKUP(DropDownList!$A$19,CntyQuery!$A$53:$FZ$65,AB$1)","v":475},{"$f":"VLOOKUP(DropDownList!$A$19,CntyQuery!$A$53:$FZ$65,AC$1)","v":148},{"$f":"VLOOKUP(DropDownList!$A$19,CntyQuery!$A$53:$FZ$65,AD$1)","v":110},{"$f":"VLOOKUP(DropDownList!$A$19,CntyQuery!$A$53:$FZ$65,AE$1)","v":1096},{"$f":"VLOOKUP(DropDownList!$A$19,CntyQuery!$A$53:$FZ$65,AF$1)","v":286},{"$f":"VLOOKUP(DropDownList!$A$19,CntyQuery!$A$53:$FZ$65,AG$1)","v":116},{"$f":"VLOOKUP(DropDownList!$A$19,CntyQuery!$A$53:$FZ$65,AH$1)","v":985},{"$f":"VLOOKUP(DropDownList!$A$19,CntyQuery!$A$53:$FZ$65,AI$1)","v":115},{"$f":"VLOOKUP(DropDownList!$A$19,CntyQuery!$A$53:$FZ$65,AJ$1)","v":120},{"$f":"VLOOKUP(DropDownList!$A$19,CntyQuery!$A$53:$FZ$65,AK$1)","v":1157},{"$f":"VLOOKUP(DropDownList!$A$19,CntyQuery!$A$53:$FZ$65,AL$1)","v":76},{"$f":"VLOOKUP(DropDownList!$A$19,CntyQuery!$A$53:$FZ$65,AM$1)","v":98},{"$f":"VLOOKUP(DropDownList!$A$19,CntyQuery!$A$53:$FZ$65,AN$1)","v":413},{"$f":"VLOOKUP(DropDownList!$A$19,CntyQuery!$A$53:$FZ$65,AO$1)","v":378},{"$f":"VLOOKUP(DropDownList!$A$19,CntyQuery!$A$53:$FZ$65,AP$1)","v":87},{"$f":"VLOOKUP(DropDownList!$A$19,CntyQuery!$A$53:$FZ$65,AQ$1)","v":202},{"$f":"VLOOKUP(DropDownList!$A$19,CntyQuery!$A$53:$FZ$65,AR$1)","v":102},{"$f":"VLOOKUP(DropDownList!$A$19,CntyQuery!$A$53:$FZ$65,AS$1)","v":54},{"$f":"VLOOKUP(DropDownList!$A$19,CntyQuery!$A$53:$FZ$65,AT$1)","v":226},{"$f":"VLOOKUP(DropDownList!$A$19,CntyQuery!$A$53:$FZ$65,AU$1)","v":41},{"$f":"VLOOKUP(DropDownList!$A$19,CntyQuery!$A$53:$FZ$65,AV$1)","v":49},{"$f":"VLOOKUP(DropDownList!$A$19,CntyQuery!$A$53:$FZ$65,AW$1)","v":192},{"$f":"VLOOKUP(DropDownList!$A$19,CntyQuery!$A$53:$FZ$65,AX$1)","v":29},{"$f":"VLOOKUP(DropDownList!$A$19,CntyQuery!$A$53:$FZ$65,AY$1)","v":48},{"$f":"VLOOKUP(DropDownList!$A$19,CntyQuery!$A$53:$FZ$65,AZ$1)","v":213},{"$f":"VLOOKUP(DropDownList!$A$19,CntyQuery!$A$53:$FZ$65,BA$1)","v":12},{"$f":"VLOOKUP(DropDownList!$A$19,CntyQuery!$A$53:$FZ$65,BB$1)","v":43},{"$f":"VLOOKUP(DropDownList!$A$19,CntyQuery!$A$53:$FZ$65,BC$1)","v":172},{"$f":"VLOOKUP(DropDownList!$A$19,CntyQuery!$A$53:$FZ$65,BD$1)","v":41},{"$f":"VLOOKUP(DropDownList!$A$19,CntyQuery!$A$53:$FZ$65,BE$1)","v":77},{"$f":"VLOOKUP(DropDownList!$A$19,CntyQuery!$A$53:$FZ$65,BF$1)","v":233},{"$f":"VLOOKUP(DropDownList!$A$19,CntyQuery!$A$53:$FZ$65,BG$1)","v":38},{"$f":"VLOOKUP(DropDownList!$A$19,CntyQuery!$A$53:$FZ$65,BH$1)","v":60},{"$f":"VLOOKUP(DropDownList!$A$19,CntyQuery!$A$53:$FZ$65,BI$1)","v":189},{"$f":"VLOOKUP(DropDownList!$A$19,CntyQuery!$A$53:$FZ$65,BJ$1)","v":85},{"$f":"VLOOKUP(DropDownList!$A$19,CntyQuery!$A$53:$FZ$65,BK$1)","v":80},{"$f":"VLOOKUP(DropDownList!$A$19,CntyQuery!$A$53:$FZ$65,BL$1)","v":205},{"$f":"VLOOKUP(DropDownList!$A$19,CntyQuery!$A$53:$FZ$65,BM$1)","v":44},{"$f":"VLOOKUP(DropDownList!$A$19,CntyQuery!$A$53:$FZ$65,BN$1)","v":62},{"$f":"VLOOKUP(DropDownList!$A$19,CntyQuery!$A$53:$FZ$65,BO$1)","v":273},{"$f":"VLOOKUP(DropDownList!$A$19,CntyQuery!$A$53:$FZ$65,BP$1)","v":72},{"$f":"VLOOKUP(DropDownList!$A$19,CntyQuery!$A$53:$FZ$65,BQ$1)","v":71},{"$f":"VLOOKUP(DropDownList!$A$19,CntyQuery!$A$53:$FZ$65,BR$1)","v":268},{"$f":"VLOOKUP(DropDownList!$A$19,CntyQuery!$A$53:$FZ$65,BS$1)","v":26},{"$f":"VLOOKUP(DropDownList!$A$19,CntyQuery!$A$53:$FZ$65,BT$1)","v":66},{"$f":"VLOOKUP(DropDownList!$A$19,CntyQuery!$A$53:$FZ$65,BU$1)","v":331},{"$f":"VLOOKUP(DropDownList!$A$19,CntyQuery!$A$53:$FZ$65,BV$1)","v":110},{"$f":"VLOOKUP(DropDownList!$A$19,CntyQuery!$A$53:$FZ$65,BW$1)","v":80},{"$f":"VLOOKUP(DropDownList!$A$19,CntyQuery!$A$53:$FZ$65,BX$1)","v":407},{"$f":"VLOOKUP(DropDownList!$A$19,CntyQuery!$A$53:$FZ$65,BY$1)","v":81},{"$f":"VLOOKUP(DropDownList!$A$19,CntyQuery!$A$53:$FZ$65,BZ$1)","v":65},{"$f":"VLOOKUP(DropDownList!$A$19,CntyQuery!$A$53:$FZ$65,CA$1)","v":482},{"$f":"VLOOKUP(DropDownList!$A$19,CntyQuery!$A$53:$FZ$65,CB$1)","v":183},{"$f":"VLOOKUP(DropDownList!$A$19,CntyQuery!$A$53:$FZ$65,CC$1)","v":75},{"$f":"VLOOKUP(DropDownList!$A$19,CntyQuery!$A$53:$FZ$65,CD$1)","v":477},{"$f":"VLOOKUP(DropDownList!$A$19,CntyQuery!$A$53:$FZ$65,CE$1)","v":270},{"$f":"VLOOKUP(DropDownList!$A$19,CntyQuery!$A$53:$FZ$65,CF$1)","v":59},{"$f":"VLOOKUP(DropDownList!$A$19,CntyQuery!$A$53:$FZ$65,CG$1)","v":552},{"$f":"VLOOKUP(DropDownList!$A$19,CntyQuery!$A$53:$FZ$65,CH$1)","v":60},{"$f":"VLOOKUP(DropDownList!$A$19,CntyQuery!$A$53:$FZ$65,CI$1)","v":71},{"$f":"VLOOKUP(DropDownList!$A$19,CntyQuery!$A$53:$FZ$65,CJ$1)","v":501},{"$f":"VLOOKUP(DropDownList!$A$19,CntyQuery!$A$53:$FZ$65,CK$1)","v":200},{"$f":"VLOOKUP(DropDownList!$A$19,CntyQuery!$A$53:$FZ$65,CL$1)","v":80},{"$f":"VLOOKUP(DropDownList!$A$19,CntyQuery!$A$53:$FZ$65,CM$1)","v":385},{"$f":"VLOOKUP(DropDownList!$A$19,CntyQuery!$A$53:$FZ$65,CN$1)","v":222},{"$f":"VLOOKUP(DropDownList!$A$19,CntyQuery!$A$53:$FZ$65,CO$1)","v":28},{"$f":"VLOOKUP(DropDownList!$A$19,CntyQuery!$A$53:$FZ$65,CP$1)","v":272},{"$f":"VLOOKUP(DropDownList!$A$19,CntyQuery!$A$53:$FZ$65,CQ$1)","v":240},{"$f":"VLOOKUP(DropDownList!$A$19,CntyQuery!$A$53:$FZ$65,CR$1)","v":35},{"$f":"VLOOKUP(DropDownList!$A$19,CntyQuery!$A$53:$FZ$65,CS$1)","v":137},{"$f":"VLOOKUP(DropDownList!$A$19,CntyQuery!$A$53:$FZ$65,CT$1)","v":128},{"$f":"VLOOKUP(DropDownList!$A$19,CntyQuery!$A$53:$FZ$65,CU$1)","v":24},{"$f":"VLOOKUP(DropDownList!$A$19,CntyQuery!$A$53:$FZ$65,CV$1)","v":138},{"$f":"VLOOKUP(DropDownList!$A$19,CntyQuery!$A$53:$FZ$65,CW$1)","v":141},{"$f":"VLOOKUP(DropDownList!$A$19,CntyQuery!$A$53:$FZ$65,CX$1)","v":10},{"$f":"VLOOKUP(DropDownList!$A$19,CntyQuery!$A$53:$FZ$65,CY$1)","v":161},{"$f":"VLOOKUP(DropDownList!$A$19,CntyQuery!$A$53:$FZ$65,CZ$1)","v":275},{"$f":"VLOOKUP(DropDownList!$A$19,CntyQuery!$A$53:$FZ$65,DA$1)","v":3},{"$f":"VLOOKUP(DropDownList!$A$19,CntyQuery!$A$53:$FZ$65,DB$1)","v":128},{"$f":"VLOOKUP(DropDownList!$A$19,CntyQuery!$A$53:$FZ$65,DC$1)","v":53},{"$f":"VLOOKUP(DropDownList!$A$19,CntyQuery!$A$53:$FZ$65,DD$1)","v":-1},{"$f":"VLOOKUP(DropDownList!$A$19,CntyQuery!$A$53:$FZ$65,DE$1)","v":70},{"$f":"VLOOKUP(DropDownList!$A$19,CntyQuery!$A$53:$FZ$65,DF$1)","v":61},{"$f":"VLOOKUP(DropDownList!$A$19,CntyQuery!$A$53:$FZ$65,DG$1)","v":4},{"$f":"VLOOKUP(DropDownList!$A$19,CntyQuery!$A$53:$FZ$65,DH$1)","v":113},{"$f":"VLOOKUP(DropDownList!$A$19,CntyQuery!$A$53:$FZ$65,DI$1)","v":42},{"$f":"VLOOKUP(DropDownList!$A$19,CntyQuery!$A$53:$FZ$65,DJ$1)","v":12},{"$f":"VLOOKUP(DropDownList!$A$19,CntyQuery!$A$53:$FZ$65,DK$1)","v":102},{"$f":"VLOOKUP(DropDownList!$A$19,CntyQuery!$A$53:$FZ$65,DL$1)","v":139},{"$f":"VLOOKUP(DropDownList!$A$19,CntyQuery!$A$53:$FZ$65,DM$1)","v":3},{"$f":"VLOOKUP(DropDownList!$A$19,CntyQuery!$A$53:$FZ$65,DN$1)","v":107},{"$f":"VLOOKUP(DropDownList!$A$19,CntyQuery!$A$53:$FZ$65,DO$1)","v":52},{"$f":"VLOOKUP(DropDownList!$A$19,CntyQuery!$A$53:$FZ$65,DP$1)","v":12},{"$f":"VLOOKUP(DropDownList!$A$19,CntyQuery!$A$53:$FZ$65,DQ$1)","v":135},{"$f":"VLOOKUP(DropDownList!$A$19,CntyQuery!$A$53:$FZ$65,DR$1)","v":37},{"$f":"VLOOKUP(DropDownList!$A$19,CntyQuery!$A$53:$FZ$65,DS$1)","v":17},{"$f":"VLOOKUP(DropDownList!$A$19,CntyQuery!$A$53:$FZ$65,DT$1)","v":140},{"$f":"VLOOKUP(DropDownList!$A$19,CntyQuery!$A$53:$FZ$65,DU$1)","v":130},{"$f":"VLOOKUP(DropDownList!$A$19,CntyQuery!$A$53:$FZ$65,DV$1)","v":18},{"$f":"VLOOKUP(DropDownList!$A$19,CntyQuery!$A$53:$FZ$65,DW$1)","v":140},{"$f":"VLOOKUP(DropDownList!$A$19,CntyQuery!$A$53:$FZ$65,DX$1)","v":180},{"$f":"VLOOKUP(DropDownList!$A$19,CntyQuery!$A$53:$FZ$65,DY$1)","v":17},{"$f":"VLOOKUP(DropDownList!$A$19,CntyQuery!$A$53:$FZ$65,DZ$1)","v":160},{"$f":"VLOOKUP(DropDownList!$A$19,CntyQuery!$A$53:$FZ$65,EA$1)","v":149},{"$f":"VLOOKUP(DropDownList!$A$19,CntyQuery!$A$53:$FZ$65,EB$1)","v":5},{"$f":"VLOOKUP(DropDownList!$A$19,CntyQuery!$A$53:$FZ$65,EC$1)","v":204},{"$f":"VLOOKUP(DropDownList!$A$19,CntyQuery!$A$53:$FZ$65,ED$1)","v":385},{"$f":"VLOOKUP(DropDownList!$A$19,CntyQuery!$A$53:$FZ$65,EE$1)","v":29},{"$f":"VLOOKUP(DropDownList!$A$19,CntyQuery!$A$53:$FZ$65,EF$1)","v":0},{"$f":"VLOOKUP(DropDownList!$A$19,CntyQuery!$A$53:$FZ$65,EG$1)","v":0},{"$f":"VLOOKUP(DropDownList!$A$19,CntyQuery!$A$53:$FZ$65,EH$1)","v":0},{"$f":"VLOOKUP(DropDownList!$A$19,CntyQuery!$A$53:$FZ$65,EI$1)","v":253},{"$f":"VLOOKUP(DropDownList!$A$19,CntyQuery!$A$53:$FZ$65,EJ$1)","v":123},{"$f":"VLOOKUP(DropDownList!$A$19,CntyQuery!$A$53:$FZ$65,EK$1)","v":21},{"$f":"VLOOKUP(DropDownList!$A$19,CntyQuery!$A$53:$FZ$65,EL$1)","v":""}]
[]
[]
["NH Employment Data","Query Name: DPQryEmploymentByCnty"]
["AreaName","COUNTYCODE","TOTP & G2001","TOT2001","GOODPRO2001","SERVICEPROMAN2001","WAGEP & G2001","WAGETOT2001","WAGEGOODPRO2001","WAGESERVICEPRO2001","TOTP & G2002","TOT2002","GOODPRO2002","SERVICEPROMAN2002","WAGEP & G2002","WAGETOT2002","WAGEGOODPRO2002","WAGESERVICEPRO2002","TOTP & G2003","TOT2003","GOODPRO2003","SERVICEPROMAN2003","WAGEP & G2003","WAGETOT2003","WAGEGOODPRO2003","WAGESERVICEPRO2003","TOTP & G2004","TOT2004","GOODPRO2004","SERVICEPROMAN2004","WAGEP & G2004","WAGETOT2004","WAGEGOODPRO2004","WAGESERVICEPRO2004","TOTP & G2005","TOT2005","GOODPRO2005","SERVICEPROMAN2005","WAGEP & G2005","WAGETOT2005","WAGEGOODPRO2005","WAGESERVICEPRO2005","TOTP & G2006","TOT2006","GOODPRO2006","SERVICEPROMAN2006","WAGEP & G2006","WAGETOT2006","WAGEGOODPRO2006","WAGESERVICEPRO2006","TOTP & G2007","TOT2007","GOODPRO2007","SERVICEPROMAN2007","WAGEP & G2007","WAGETOT2007","WAGEGOODPRO2007","WAGESERVICEPRO2007","TOTP & G2008","TOT2008","GOODPRO2008","SERVICEPROMAN2008","WAGEP & G2008","WAGETOT2008","WAGEGOODPRO2008","WAGESERVICEPRO2008","TOTP & G2009","TOT2009","GOODPRO2009","SERVICEPROMAN2009","WAGEP & G2009","WAGETOT2009","WAGEGOODPRO2009","WAGESERVICEPRO2009","TOTP & G2010","TOT2010","GOODPRO2010","SERVICEPROMAN2010","WAGEP & G2010","WAGETOT2010","WAGEGOODPRO2010","WAGESERVICEPRO2010","TOTP & G2011","TOT2011","GOODPRO2011","SERVICEPROMAN2011","WAGEP & G2011","WAGETOT2011","WAGEGOODPRO2011","WAGESERVICEPRO2011","TOTP & G2012","TOT2012","GOODPRO2012","SERVICEPROMAN2012","WAGEP & G2012","WAGETOT2012","WAGEGOODPRO2012","WAGESERVICEPRO2012","TOTP & G2013","TOT2013","GOODPRO2013","SERVICEPROMAN2013","WAGEP & G2013","WAGETOT2013","WAGEGOODPRO2013","WAGESERVICEPRO2013","TOTP & G2014","TOT2014","GOODPRO2014","SERVICEPROMAN2014","WAGEP & G2014","WAGETOT2014","WAGEGOODPRO2014","WAGESERVICEPRO2014","TOTP & G2015","TOT2015","GOODPRO2015","SERVICEPROMAN2015","WAGEP & G2015","WAGETOT2015","WAGEGOODPRO2015","WAGESERVICEPRO2015","TOTP & G2016","TOT2016","GOODPRO2016","SERVICEPROMAN2016","WAGEP & G2016","WAGETOT2016","WAGEGOODPRO2016","WAGESERVICEPRO2016","TOTP & G2017","TOT2017","GOODPRO2017","SERVICEPROMAN2017","WAGEP & G2017","WAGETOT2017","WAGEGOODPRO2017","WAGESERVICEPRO2017","TOTP & G2018","TOT2018","GOODPRO2018","SERVICEPROMAN2018","WAGEP & G2018","WAGETOT2018","WAGEGOODPRO2018","WAGESERVICEPRO2018","TOTP & G2019","TOT2019","GOODPRO2019","SERVICEPROMAN2019","WAGEP & G2019","WAGETOT2019","WAGEGOODPRO2019","WAGESERVICEPRO2019","TOTP & G2020","TOT2020","GOODPRO2020","SERVICEPROMAN2020","WAGEP & G2020","WAGETOT2020","WAGEGOODPRO2020","WAGESERVICEPRO2020","TOTP & G2021","TOT2021","GOODPRO2021","SERVICEPROMAN2021","WAGEP & G2021","WAGETOT2021","WAGEGOODPRO2021","WAGESERVICEPRO2021","TOTP & G2022","TOT2022","GOODPRO2022","SERVICEPROMAN2022","WAGEP & G2022","WAGETOT2022","WAGEGOODPRO2022","WAGESERVICEPRO2022"]
[{"$f":"VLOOKUP(DropDownList!$A$19,CntyQuery!$A$75:$GZ$85,A$1)","v":"Grafton County"},{"$f":"VLOOKUP(DropDownList!$A$19,CntyQuery!$A$75:$GZ$85,B$1)","v":5},{"$f":"VLOOKUP(DropDownList!$A$19,CntyQuery!$A$75:$GZ$85,C$1)","v":49352},{"$f":"VLOOKUP(DropDownList!$A$19,CntyQuery!$A$75:$GZ$85,D$1)","v":43256},{"$f":"VLOOKUP(DropDownList!$A$19,CntyQuery!$A$75:$GZ$85,E$1)","v":8085},{"$f":"VLOOKUP(DropDownList!$A$19,CntyQuery!$A$75:$GZ$85,F$1)","v":35171},{"$f":"VLOOKUP(DropDownList!$A$19,CntyQuery!$A$75:$GZ$85,G$1)","v":617.73},{"$f":"VLOOKUP(DropDownList!$A$19,CntyQuery!$A$75:$GZ$85,H$1)","v":624.04999999999995},{"$f":"VLOOKUP(DropDownList!$A$19,CntyQuery!$A$75:$GZ$85,I$1)","v":672.45},{"$f":"VLOOKUP(DropDownList!$A$19,CntyQuery!$A$75:$GZ$85,J$1)","v":612.92999999999995},{"$f":"VLOOKUP(DropDownList!$A$19,CntyQuery!$A$75:$GZ$85,K$1)","v":49690},{"$f":"VLOOKUP(DropDownList!$A$19,CntyQuery!$A$75:$GZ$85,L$1)","v":43362},{"$f":"VLOOKUP(DropDownList!$A$19,CntyQuery!$A$75:$GZ$85,M$1)","v":7763},{"$f":"VLOOKUP(DropDownList!$A$19,CntyQuery!$A$75:$GZ$85,N$1)","v":35599},{"$f":"VLOOKUP(DropDownList!$A$19,CntyQuery!$A$75:$GZ$85,O$1)","v":658.93},{"$f":"VLOOKUP(DropDownList!$A$19,CntyQuery!$A$75:$GZ$85,P$1)","v":668.77},{"$f":"VLOOKUP(DropDownList!$A$19,CntyQuery!$A$75:$GZ$85,Q$1)","v":701.81},{"$f":"VLOOKUP(DropDownList!$A$19,CntyQuery!$A$75:$GZ$85,R$1)","v":661.56},{"$f":"VLOOKUP(DropDownList!$A$19,CntyQuery!$A$75:$GZ$85,S$1)","v":50615},{"$f":"VLOOKUP(DropDownList!$A$19,CntyQuery!$A$75:$GZ$85,T$1)","v":44009},{"$f":"VLOOKUP(DropDownList!$A$19,CntyQuery!$A$75:$GZ$85,U$1)","v":7790},{"$f":"VLOOKUP(DropDownList!$A$19,CntyQuery!$A$75:$GZ$85,V$1)","v":36220},{"$f":"VLOOKUP(DropDownList!$A$19,CntyQuery!$A$75:$GZ$85,W$1)","v":704.15},{"$f":"VLOOKUP(DropDownList!$A$19,CntyQuery!$A$75:$GZ$85,X$1)","v":717.01},{"$f":"VLOOKUP(DropDownList!$A$19,CntyQuery!$A$75:$GZ$85,Y$1)","v":753.77},{"$f":"VLOOKUP(DropDownList!$A$19,CntyQuery!$A$75:$GZ$85,Z$1)","v":709.11},{"$f":"VLOOKUP(DropDownList!$A$19,CntyQuery!$A$75:$GZ$85,AA$1)","v":51355},{"$f":"VLOOKUP(DropDownList!$A$19,CntyQuery!$A$75:$GZ$85,AB$1)","v":44704},{"$f":"VLOOKUP(DropDownList!$A$19,CntyQuery!$A$75:$GZ$85,AC$1)","v":7636},{"$f":"VLOOKUP(DropDownList!$A$19,CntyQuery!$A$75:$GZ$85,AD$1)","v":37069},{"$f":"VLOOKUP(DropDownList!$A$19,CntyQuery!$A$75:$GZ$85,AE$1)","v":728.96},{"$f":"VLOOKUP(DropDownList!$A$19,CntyQuery!$A$75:$GZ$85,AF$1)","v":740.6},{"$f":"VLOOKUP(DropDownList!$A$19,CntyQuery!$A$75:$GZ$85,AG$1)","v":770.78},{"$f":"VLOOKUP(DropDownList!$A$19,CntyQuery!$A$75:$GZ$85,AH$1)","v":734.38},{"$f":"VLOOKUP(DropDownList!$A$19,CntyQuery!$A$75:$GZ$85,AI$1)","v":51541},{"$f":"VLOOKUP(DropDownList!$A$19,CntyQuery!$A$75:$GZ$85,AJ$1)","v":44954},{"$f":"VLOOKUP(DropDownList!$A$19,CntyQuery!$A$75:$GZ$85,AK$1)","v":7698},{"$f":"VLOOKUP(DropDownList!$A$19,CntyQuery!$A$75:$GZ$85,AL$1)","v":37256},{"$f":"VLOOKUP(DropDownList!$A$19,CntyQuery!$A$75:$GZ$85,AM$1)","v":768.82},{"$f":"VLOOKUP(DropDownList!$A$19,CntyQuery!$A$75:$GZ$85,AN$1)","v":783.94},{"$f":"VLOOKUP(DropDownList!$A$19,CntyQuery!$A$75:$GZ$85,AO$1)","v":809.26},{"$f":"VLOOKUP(DropDownList!$A$19,CntyQuery!$A$75:$GZ$85,AP$1)","v":778.7},{"$f":"VLOOKUP(DropDownList!$A$19,CntyQuery!$A$75:$GZ$85,AQ$1)","v":52267},{"$f":"VLOOKUP(DropDownList!$A$19,CntyQuery!$A$75:$GZ$85,AR$1)","v":45531},{"$f":"VLOOKUP(DropDownList!$A$19,CntyQuery!$A$75:$GZ$85,AS$1)","v":7761},{"$f":"VLOOKUP(DropDownList!$A$19,CntyQuery!$A$75:$GZ$85,AT$1)","v":37770},{"$f":"VLOOKUP(DropDownList!$A$19,CntyQuery!$A$75:$GZ$85,AU$1)","v":803.4},{"$f":"VLOOKUP(DropDownList!$A$19,CntyQuery!$A$75:$GZ$85,AV$1)","v":820.96},{"$f":"VLOOKUP(DropDownList!$A$19,CntyQuery!$A$75:$GZ$85,AW$1)","v":855.22},{"$f":"VLOOKUP(DropDownList!$A$19,CntyQuery!$A$75:$GZ$85,AX$1)","v":813.92},{"$f":"VLOOKUP(DropDownList!$A$19,CntyQuery!$A$75:$GZ$85,AY$1)","v":52729},{"$f":"VLOOKUP(DropDownList!$A$19,CntyQuery!$A$75:$GZ$85,AZ$1)","v":45992},{"$f":"VLOOKUP(DropDownList!$A$19,CntyQuery!$A$75:$GZ$85,BA$1)","v":7672},{"$f":"VLOOKUP(DropDownList!$A$19,CntyQuery!$A$75:$GZ$85,BB$1)","v":38320},{"$f":"VLOOKUP(DropDownList!$A$19,CntyQuery!$A$75:$GZ$85,BC$1)","v":843.04},{"$f":"VLOOKUP(DropDownList!$A$19,CntyQuery!$A$75:$GZ$85,BD$1)","v":860.73},{"$f":"VLOOKUP(DropDownList!$A$19,CntyQuery!$A$75:$GZ$85,BE$1)","v":901.98},{"$f":"VLOOKUP(DropDownList!$A$19,CntyQuery!$A$75:$GZ$85,BF$1)","v":852.47},{"$f":"VLOOKUP(DropDownList!$A$19,CntyQuery!$A$75:$GZ$85,BG$1)","v":52901},{"$f":"VLOOKUP(DropDownList!$A$19,CntyQuery!$A$75:$GZ$85,BH$1)","v":46166},{"$f":"VLOOKUP(DropDownList!$A$19,CntyQuery!$A$75:$GZ$85,BI$1)","v":7347},{"$f":"VLOOKUP(DropDownList!$A$19,CntyQuery!$A$75:$GZ$85,BJ$1)","v":38819},{"$f":"VLOOKUP(DropDownList!$A$19,CntyQuery!$A$75:$GZ$85,BK$1)","v":867.61},{"$f":"VLOOKUP(DropDownList!$A$19,CntyQuery!$A$75:$GZ$85,BL$1)","v":884.82},{"$f":"VLOOKUP(DropDownList!$A$19,CntyQuery!$A$75:$GZ$85,BM$1)","v":928.14},{"$f":"VLOOKUP(DropDownList!$A$19,CntyQuery!$A$75:$GZ$85,BN$1)","v":876.62},{"$f":"VLOOKUP(DropDownList!$A$19,CntyQuery!$A$75:$GZ$85,BO$1)","v":51401},{"$f":"VLOOKUP(DropDownList!$A$19,CntyQuery!$A$75:$GZ$85,BP$1)","v":44646},{"$f":"VLOOKUP(DropDownList!$A$19,CntyQuery!$A$75:$GZ$85,BQ$1)","v":6446},{"$f":"VLOOKUP(DropDownList!$A$19,CntyQuery!$A$75:$GZ$85,BR$1)","v":38200},{"$f":"VLOOKUP(DropDownList!$A$19,CntyQuery!$A$75:$GZ$85,BS$1)","v":879.4},{"$f":"VLOOKUP(DropDownList!$A$19,CntyQuery!$A$75:$GZ$85,BT$1)","v":895.26},{"$f":"VLOOKUP(DropDownList!$A$19,CntyQuery!$A$75:$GZ$85,BU$1)","v":899.95},{"$f":"VLOOKUP(DropDownList!$A$19,CntyQuery!$A$75:$GZ$85,BV$1)","v":894.47},{"$f":"VLOOKUP(DropDownList!$A$19,CntyQuery!$A$75:$GZ$85,BW$1)","v":51256},{"$f":"VLOOKUP(DropDownList!$A$19,CntyQuery!$A$75:$GZ$85,BX$1)","v":44376},{"$f":"VLOOKUP(DropDownList!$A$19,CntyQuery!$A$75:$GZ$85,BY$1)","v":6289},{"$f":"VLOOKUP(DropDownList!$A$19,CntyQuery!$A$75:$GZ$85,BZ$1)","v":38086},{"$f":"VLOOKUP(DropDownList!$A$19,CntyQuery!$A$75:$GZ$85,CA$1)","v":905.77},{"$f":"VLOOKUP(DropDownList!$A$19,CntyQuery!$A$75:$GZ$85,CB$1)","v":925.54},{"$f":"VLOOKUP(DropDownList!$A$19,CntyQuery!$A$75:$GZ$85,CC$1)","v":949.83},{"$f":"VLOOKUP(DropDownList!$A$19,CntyQuery!$A$75:$GZ$85,CD$1)","v":921.53},{"$f":"VLOOKUP(DropDownList!$A$19,CntyQuery!$A$75:$GZ$85,CE$1)","v":51663},{"$f":"VLOOKUP(DropDownList!$A$19,CntyQuery!$A$75:$GZ$85,CF$1)","v":44867},{"$f":"VLOOKUP(DropDownList!$A$19,CntyQuery!$A$75:$GZ$85,CG$1)","v":6681},{"$f":"VLOOKUP(DropDownList!$A$19,CntyQuery!$A$75:$GZ$85,CH$1)","v":38186},{"$f":"VLOOKUP(DropDownList!$A$19,CntyQuery!$A$75:$GZ$85,CI$1)","v":926.58},{"$f":"VLOOKUP(DropDownList!$A$19,CntyQuery!$A$75:$GZ$85,CJ$1)","v":946.3},{"$f":"VLOOKUP(DropDownList!$A$19,CntyQuery!$A$75:$GZ$85,CK$1)","v":981.6},{"$f":"VLOOKUP(DropDownList!$A$19,CntyQuery!$A$75:$GZ$85,CL$1)","v":940.12},{"$f":"VLOOKUP(DropDownList!$A$19,CntyQuery!$A$75:$GZ$85,CM$1)","v":52026},{"$f":"VLOOKUP(DropDownList!$A$19,CntyQuery!$A$75:$GZ$85,CN$1)","v":45246},{"$f":"VLOOKUP(DropDownList!$A$19,CntyQuery!$A$75:$GZ$85,CO$1)","v":6818},{"$f":"VLOOKUP(DropDownList!$A$19,CntyQuery!$A$75:$GZ$85,CP$1)","v":38428},{"$f":"VLOOKUP(DropDownList!$A$19,CntyQuery!$A$75:$GZ$85,CQ$1)","v":950.95},{"$f":"VLOOKUP(DropDownList!$A$19,CntyQuery!$A$75:$GZ$85,CR$1)","v":973.52},{"$f":"VLOOKUP(DropDownList!$A$19,CntyQuery!$A$75:$GZ$85,CS$1)","v":996.15},{"$f":"VLOOKUP(DropDownList!$A$19,CntyQuery!$A$75:$GZ$85,CT$1)","v":969.5},{"$f":"VLOOKUP(DropDownList!$A$19,CntyQuery!$A$75:$GZ$85,CU$1)","v":52153},{"$f":"VLOOKUP(DropDownList!$A$19,CntyQuery!$A$75:$GZ$85,CV$1)","v":45454},{"$f":"VLOOKUP(DropDownList!$A$19,CntyQuery!$A$75:$GZ$85,CW$1)","v":6717},{"$f":"VLOOKUP(DropDownList!$A$19,CntyQuery!$A$75:$GZ$85,CX$1)","v":38736},{"$f":"VLOOKUP(DropDownList!$A$19,CntyQuery!$A$75:$GZ$85,CY$1)","v":965.05},{"$f":"VLOOKUP(DropDownList!$A$19,CntyQuery!$A$75:$GZ$85,CZ$1)","v":986.68},{"$f":"VLOOKUP(DropDownList!$A$19,CntyQuery!$A$75:$GZ$85,DA$1)","v":1028.75},{"$f":"VLOOKUP(DropDownList!$A$19,CntyQuery!$A$75:$GZ$85,DB$1)","v":979.39},{"$f":"VLOOKUP(DropDownList!$A$19,CntyQuery!$A$75:$GZ$85,DC$1)","v":52226},{"$f":"VLOOKUP(DropDownList!$A$19,CntyQuery!$A$75:$GZ$85,DD$1)","v":45565},{"$f":"VLOOKUP(DropDownList!$A$19,CntyQuery!$A$75:$GZ$85,DE$1)","v":6778},{"$f":"VLOOKUP(DropDownList!$A$19,CntyQuery!$A$75:$GZ$85,DF$1)","v":38787},{"$f":"VLOOKUP(DropDownList!$A$19,CntyQuery!$A$75:$GZ$85,DG$1)","v":1004.06},{"$f":"VLOOKUP(DropDownList!$A$19,CntyQuery!$A$75:$GZ$85,DH$1)","v":1029.1500000000001},{"$f":"VLOOKUP(DropDownList!$A$19,CntyQuery!$A$75:$GZ$85,DI$1)","v":1069.54},{"$f":"VLOOKUP(DropDownList!$A$19,CntyQuery!$A$75:$GZ$85,DJ$1)","v":1022.09},{"$f":"VLOOKUP(DropDownList!$A$19,CntyQuery!$A$75:$GZ$85,DK$1)","v":52654},{"$f":"VLOOKUP(DropDownList!$A$19,CntyQuery!$A$75:$GZ$85,DL$1)","v":46056},{"$f":"VLOOKUP(DropDownList!$A$19,CntyQuery!$A$75:$GZ$85,DM$1)","v":6882},{"$f":"VLOOKUP(DropDownList!$A$19,CntyQuery!$A$75:$GZ$85,DN$1)","v":39174},{"$f":"VLOOKUP(DropDownList!$A$19,CntyQuery!$A$75:$GZ$85,DO$1)","v":1037.55},{"$f":"VLOOKUP(DropDownList!$A$19,CntyQuery!$A$75:$GZ$85,DP$1)","v":1061.83},{"$f":"VLOOKUP(DropDownList!$A$19,CntyQuery!$A$75:$GZ$85,DQ$1)","v":1078.8900000000001},{"$f":"VLOOKUP(DropDownList!$A$19,CntyQuery!$A$75:$GZ$85,DR$1)","v":1058.83},{"$f":"VLOOKUP(DropDownList!$A$19,CntyQuery!$A$75:$GZ$85,DS$1)","v":53361},{"$f":"VLOOKUP(DropDownList!$A$19,CntyQuery!$A$75:$GZ$85,DT$1)","v":46686},{"$f":"VLOOKUP(DropDownList!$A$19,CntyQuery!$A$75:$GZ$85,DU$1)","v":6801},{"$f":"VLOOKUP(DropDownList!$A$19,CntyQuery!$A$75:$GZ$85,DV$1)","v":39885},{"$f":"VLOOKUP(DropDownList!$A$19,CntyQuery!$A$75:$GZ$85,DW$1)","v":1058.5999999999999},{"$f":"VLOOKUP(DropDownList!$A$19,CntyQuery!$A$75:$GZ$85,DX$1)","v":1086.92},{"$f":"VLOOKUP(DropDownList!$A$19,CntyQuery!$A$75:$GZ$85,DY$1)","v":1082.4000000000001},{"$f":"VLOOKUP(DropDownList!$A$19,CntyQuery!$A$75:$GZ$85,DZ$1)","v":1087.69},{"$f":"VLOOKUP(DropDownList!$A$19,CntyQuery!$A$75:$GZ$85,EA$1)","v":53790},{"$f":"VLOOKUP(DropDownList!$A$19,CntyQuery!$A$75:$GZ$85,EB$1)","v":47161},{"$f":"VLOOKUP(DropDownList!$A$19,CntyQuery!$A$75:$GZ$85,EC$1)","v":6781},{"$f":"VLOOKUP(DropDownList!$A$19,CntyQuery!$A$75:$GZ$85,ED$1)","v":40380},{"$f":"VLOOKUP(DropDownList!$A$19,CntyQuery!$A$75:$GZ$85,EE$1)","v":1079.6300000000001},{"$f":"VLOOKUP(DropDownList!$A$19,CntyQuery!$A$75:$GZ$85,EF$1)","v":1108.6099999999999},{"$f":"VLOOKUP(DropDownList!$A$19,CntyQuery!$A$75:$GZ$85,EG$1)","v":1125.3},{"$f":"VLOOKUP(DropDownList!$A$19,CntyQuery!$A$75:$GZ$85,EH$1)","v":1105.81},{"$f":"VLOOKUP(DropDownList!$A$19,CntyQuery!$A$75:$GZ$85,EI$1)","v":54119},{"$f":"VLOOKUP(DropDownList!$A$19,CntyQuery!$A$75:$GZ$85,EJ$1)","v":47417},{"$f":"VLOOKUP(DropDownList!$A$19,CntyQuery!$A$75:$GZ$85,EK$1)","v":6926},{"$f":"VLOOKUP(DropDownList!$A$19,CntyQuery!$A$75:$GZ$85,EL$1)","v":40491},{"$f":"VLOOKUP(DropDownList!$A$19,CntyQuery!$A$75:$GZ$85,EM$1)","v":1105.33},{"$f":"VLOOKUP(DropDownList!$A$19,CntyQuery!$A$75:$GZ$85,EN$1)","v":1135.81},{"$f":"VLOOKUP(DropDownList!$A$19,CntyQuery!$A$75:$GZ$85,EO$1)","v":1167.74},{"$f":"VLOOKUP(DropDownList!$A$19,CntyQuery!$A$75:$GZ$85,EP$1)","v":1130.3399999999999},{"$f":"VLOOKUP(DropDownList!$A$19,CntyQuery!$A$75:$GZ$85,EQ$1)","v":54388},{"$f":"VLOOKUP(DropDownList!$A$19,CntyQuery!$A$75:$GZ$85,ER$1)","v":47685},{"$f":"VLOOKUP(DropDownList!$A$19,CntyQuery!$A$75:$GZ$85,ES$1)","v":6855},{"$f":"VLOOKUP(DropDownList!$A$19,CntyQuery!$A$75:$GZ$85,ET$1)","v":40830},{"$f":"VLOOKUP(DropDownList!$A$19,CntyQuery!$A$75:$GZ$85,EU$1)","v":1142.8},{"$f":"VLOOKUP(DropDownList!$A$19,CntyQuery!$A$75:$GZ$85,EV$1)","v":1174.8},{"$f":"VLOOKUP(DropDownList!$A$19,CntyQuery!$A$75:$GZ$85,EW$1)","v":1156.02},{"$f":"VLOOKUP(DropDownList!$A$19,CntyQuery!$A$75:$GZ$85,EX$1)","v":1177.95},{"$f":"VLOOKUP(DropDownList!$A$19,CntyQuery!$A$75:$GZ$85,EY$1)","v":50622},{"$f":"VLOOKUP(DropDownList!$A$19,CntyQuery!$A$75:$GZ$85,EZ$1)","v":44208},{"$f":"VLOOKUP(DropDownList!$A$19,CntyQuery!$A$75:$GZ$85,FA$1)","v":6338},{"$f":"VLOOKUP(DropDownList!$A$19,CntyQuery!$A$75:$GZ$85,FB$1)","v":37870},{"$f":"VLOOKUP(DropDownList!$A$19,CntyQuery!$A$75:$GZ$85,FC$1)","v":1251.72},{"$f":"VLOOKUP(DropDownList!$A$19,CntyQuery!$A$75:$GZ$85,FD$1)","v":1287.53},{"$f":"VLOOKUP(DropDownList!$A$19,CntyQuery!$A$75:$GZ$85,FE$1)","v":1194.47},{"$f":"VLOOKUP(DropDownList!$A$19,CntyQuery!$A$75:$GZ$85,FF$1)","v":1303.1099999999999},{"$f":"VLOOKUP(DropDownList!$A$19,CntyQuery!$A$75:$GZ$85,FG$1)","v":52299},{"$f":"VLOOKUP(DropDownList!$A$19,CntyQuery!$A$75:$GZ$85,FH$1)","v":45834},{"$f":"VLOOKUP(DropDownList!$A$19,CntyQuery!$A$75:$GZ$85,FI$1)","v":6526},{"$f":"VLOOKUP(DropDownList!$A$19,CntyQuery!$A$75:$GZ$85,FJ$1)","v":39308},{"$f":"VLOOKUP(DropDownList!$A$19,CntyQuery!$A$75:$GZ$85,FK$1)","v":1284.3900000000001},{"$f":"VLOOKUP(DropDownList!$A$19,CntyQuery!$A$75:$GZ$85,FL$1)","v":1324},{"$f":"VLOOKUP(DropDownList!$A$19,CntyQuery!$A$75:$GZ$85,FM$1)","v":1309.54},{"$f":"VLOOKUP(DropDownList!$A$19,CntyQuery!$A$75:$GZ$85,FN$1)","v":1326.4},{"$f":"VLOOKUP(DropDownList!$A$19,CntyQuery!$A$75:$GZ$85,FO$1)","v":53193},{"$f":"VLOOKUP(DropDownList!$A$19,CntyQuery!$A$75:$GZ$85,FP$1)","v":47047},{"$f":"VLOOKUP(DropDownList!$A$19,CntyQuery!$A$75:$GZ$85,FQ$1)","v":6756},{"$f":"VLOOKUP(DropDownList!$A$19,CntyQuery!$A$75:$GZ$85,FR$1)","v":40292},{"$f":"VLOOKUP(DropDownList!$A$19,CntyQuery!$A$75:$GZ$85,FS$1)","v":1320},{"$f":"VLOOKUP(DropDownList!$A$19,CntyQuery!$A$75:$GZ$85,FT$1)","v":1356},{"$f":"VLOOKUP(DropDownList!$A$19,CntyQuery!$A$75:$GZ$85,FU$1)","v":1348},{"$f":"VLOOKUP(DropDownList!$A$19,CntyQuery!$A$75:$GZ$85,FV$1)","v":1358}]
[]
[]
["Labor Force and Unemployment Rate","Query Name: DPQryUnempByCnty"]
[null,"LaborForce1990","LaborForce1991","LaborForce1992","LaborForce1993","LaborForce1994","LaborForce1995","LaborForce1996","LaborForce1997","LaborForce1998","LaborForce1999","LaborForce2000","LaborForce2001","LaborForce2002","LaborForce2003","NumberEmployed1990","NumberEmployed1991","NumberEmployed1992","NumberEmployed1993","NumberEmployed1994","NumberEmployed1995","NumberEmployed1996","NumberEmployed1997","NumberEmployed1998","NumberEmployed1999","NumberEmployed2000","NumberEmployed2001","NumberEmployed2002","NumberEmployed2003","UnempRate1990","UnempRate1991","UnempRate1992","UnempRate1993","UnempRate1994","UnempRate1995","UnempRate1996","UnempRate1997","UnempRate1998","UnempRate1999","UnempRate2000","UnempRate2001","UnempRate2002","UnempRate2003","NumbUnEmployed1990","NumbUnEmployed1991","NumbUnEmployed1992","NumbUnEmployed1993","NumbUnEmployed1994","NumbUnEmployed1995","NumbUnEmployed1996","NumbUnEmployed1997","NumbUnEmployed1998","NumbUnEmployed1999","NumbUnEmployed2000","NumbUnEmployed2001","NumbUnEmployed2002","NumbUnEmployed2003","LaborForce2004","NumberEmployed2004","UnempRate2004","NumbUnEmployed2004","LaborForce2005","NumberEmployed2005","NumbUnEmp2005","UnempRate2005","LaborForce2006","NumberEmployed2006","NumbUnEmp2006","UnempRate2006","LaborForce2007","NumberEmployed2007","NumbUnEmp2007","UnempRate2007","LaborForce2008","NumberEmployed2008","NumbUnEmp2008","UnempRate2008","LaborForce2009","NumberEmployed2009","NumbUnEmp2009","UnempRate2009","LaborForce2010","NumbEmployed2010","NumbUnEmp2010","UnempRate2010","LaborForce2011","NumbEmployed2011","NumbUnEmp2011","UnempRate2011","LaborForce2012","NumbEmployed2012","NumbUnEmp2012","UnempRate2012","LaborForce2013","NumbEmployed2013","NumbUnEmp2013","UnempRate2013","LaborForce2014","NumbEmployed2014","NumbUnEmp2014","UnempRate2014","LaborForce2015","NumbEmployed2015","NumbUnEmp2015","UnempRate2015","LaborForce2016","NumbEmployed2016","NumbUnEmp2016","UnempRate2016","LaborForce2017","NumbEmployed2017","NumbUnEmp2017","UnempRate2017","LaborForce2018","NumbEmployed2018","NumbUnEmp2018","UnempRate2018","LaborForce2019","NumbEmployed2019","NumbUnEmp2019","UnempRate2019","LaborForce2020","NumbEmployed2020","NumbUnEmp2020","UnempRate2020","LaborForce2021","NumbEmployed2021","NumbUnEmp2021","UnempRate2021","LaborForce2022","NumbEmployed2022","NumbUnEmp2022","UnempRate2022"]
[{"$f":"VLOOKUP(DropDownList!$A$19,CntyQuery!$A$94:$FZ$105,A$1)","v":"Grafton County"},{"$f":"VLOOKUP(DropDownList!$A$19,CntyQuery!$A$94:$FZ$105,B$1)","v":40114},{"$f":"VLOOKUP(DropDownList!$A$19,CntyQuery!$A$94:$FZ$105,C$1)","v":40615},{"$f":"VLOOKUP(DropDownList!$A$19,CntyQuery!$A$94:$FZ$105,D$1)","v":40202},{"$f":"VLOOKUP(DropDownList!$A$19,CntyQuery!$A$94:$FZ$105,E$1)","v":40214},{"$f":"VLOOKUP(DropDownList!$A$19,CntyQuery!$A$94:$FZ$105,F$1)","v":41480},{"$f":"VLOOKUP(DropDownList!$A$19,CntyQuery!$A$94:$FZ$105,G$1)","v":42160},{"$f":"VLOOKUP(DropDownList!$A$19,CntyQuery!$A$94:$FZ$105,H$1)","v":41465},{"$f":"VLOOKUP(DropDownList!$A$19,CntyQuery!$A$94:$FZ$105,I$1)","v":42872},{"$f":"VLOOKUP(DropDownList!$A$19,CntyQuery!$A$94:$FZ$105,J$1)","v":43915},{"$f":"VLOOKUP(DropDownList!$A$19,CntyQuery!$A$94:$FZ$105,K$1)","v":44610},{"$f":"VLOOKUP(DropDownList!$A$19,CntyQuery!$A$94:$FZ$105,L$1)","v":44860},{"$f":"VLOOKUP(DropDownList!$A$19,CntyQuery!$A$94:$FZ$105,M$1)","v":45010},{"$f":"VLOOKUP(DropDownList!$A$19,CntyQuery!$A$94:$FZ$105,N$1)","v":45440},{"$f":"VLOOKUP(DropDownList!$A$19,CntyQuery!$A$94:$FZ$105,O$1)","v":45680},{"$f":"VLOOKUP(DropDownList!$A$19,CntyQuery!$A$94:$FZ$105,P$1)","v":37935},{"$f":"VLOOKUP(DropDownList!$A$19,CntyQuery!$A$94:$FZ$105,Q$1)","v":37753},{"$f":"VLOOKUP(DropDownList!$A$19,CntyQuery!$A$94:$FZ$105,R$1)","v":37788},{"$f":"VLOOKUP(DropDownList!$A$19,CntyQuery!$A$94:$FZ$105,S$1)","v":38153},{"$f":"VLOOKUP(DropDownList!$A$19,CntyQuery!$A$94:$FZ$105,T$1)","v":40169},{"$f":"VLOOKUP(DropDownList!$A$19,CntyQuery!$A$94:$FZ$105,U$1)","v":40853},{"$f":"VLOOKUP(DropDownList!$A$19,CntyQuery!$A$94:$FZ$105,V$1)","v":40117},{"$f":"VLOOKUP(DropDownList!$A$19,CntyQuery!$A$94:$FZ$105,W$1)","v":41781},{"$f":"VLOOKUP(DropDownList!$A$19,CntyQuery!$A$94:$FZ$105,X$1)","v":42942},{"$f":"VLOOKUP(DropDownList!$A$19,CntyQuery!$A$94:$FZ$105,Y$1)","v":43752},{"$f":"VLOOKUP(DropDownList!$A$19,CntyQuery!$A$94:$FZ$105,Z$1)","v":43800},{"$f":"VLOOKUP(DropDownList!$A$19,CntyQuery!$A$94:$FZ$105,AA$1)","v":43800},{"$f":"VLOOKUP(DropDownList!$A$19,CntyQuery!$A$94:$FZ$105,AB$1)","v":44110},{"$f":"VLOOKUP(DropDownList!$A$19,CntyQuery!$A$94:$FZ$105,AC$1)","v":44300},{"$f":"VLOOKUP(DropDownList!$A$19,CntyQuery!$A$94:$FZ$105,AD$1)","v":5.4},{"$f":"VLOOKUP(DropDownList!$A$19,CntyQuery!$A$94:$FZ$105,AE$1)","v":7},{"$f":"VLOOKUP(DropDownList!$A$19,CntyQuery!$A$94:$FZ$105,AF$1)","v":6},{"$f":"VLOOKUP(DropDownList!$A$19,CntyQuery!$A$94:$FZ$105,AG$1)","v":5.1000000000000005},{"$f":"VLOOKUP(DropDownList!$A$19,CntyQuery!$A$94:$FZ$105,AH$1)","v":3.2},{"$f":"VLOOKUP(DropDownList!$A$19,CntyQuery!$A$94:$FZ$105,AI$1)","v":3.1},{"$f":"VLOOKUP(DropDownList!$A$19,CntyQuery!$A$94:$FZ$105,AJ$1)","v":3.3000000000000003},{"$f":"VLOOKUP(DropDownList!$A$19,CntyQuery!$A$94:$FZ$105,AK$1)","v":2.5},{"$f":"VLOOKUP(DropDownList!$A$19,CntyQuery!$A$94:$FZ$105,AL$1)","v":2.2000000000000002},{"$f":"VLOOKUP(DropDownList!$A$19,CntyQuery!$A$94:$FZ$105,AM$1)","v":1.9000000000000001},{"$f":"VLOOKUP(DropDownList!$A$19,CntyQuery!$A$94:$FZ$105,AN$1)","v":2.4},{"$f":"VLOOKUP(DropDownList!$A$19,CntyQuery!$A$94:$FZ$105,AO$1)","v":2.7},{"$f":"VLOOKUP(DropDownList!$A$19,CntyQuery!$A$94:$FZ$105,AP$1)","v":2.9},{"$f":"VLOOKUP(DropDownList!$A$19,CntyQuery!$A$94:$FZ$105,AQ$1)","v":3},{"$f":"VLOOKUP(DropDownList!$A$19,CntyQuery!$A$94:$FZ$105,AR$1)","v":2179},{"$f":"VLOOKUP(DropDownList!$A$19,CntyQuery!$A$94:$FZ$105,AS$1)","v":2862},{"$f":"VLOOKUP(DropDownList!$A$19,CntyQuery!$A$94:$FZ$105,AT$1)","v":2414},{"$f":"VLOOKUP(DropDownList!$A$19,CntyQuery!$A$94:$FZ$105,AU$1)","v":2061},{"$f":"VLOOKUP(DropDownList!$A$19,CntyQuery!$A$94:$FZ$105,AV$1)","v":1311},{"$f":"VLOOKUP(DropDownList!$A$19,CntyQuery!$A$94:$FZ$105,AW$1)","v":1307},{"$f":"VLOOKUP(DropDownList!$A$19,CntyQuery!$A$94:$FZ$105,AX$1)","v":1348},{"$f":"VLOOKUP(DropDownList!$A$19,CntyQuery!$A$94:$FZ$105,AY$1)","v":1091},{"$f":"VLOOKUP(DropDownList!$A$19,CntyQuery!$A$94:$FZ$105,AZ$1)","v":973},{"$f":"VLOOKUP(DropDownList!$A$19,CntyQuery!$A$94:$FZ$105,BA$1)","v":858},{"$f":"VLOOKUP(DropDownList!$A$19,CntyQuery!$A$94:$FZ$105,BB$1)","v":1060},{"$f":"VLOOKUP(DropDownList!$A$19,CntyQuery!$A$94:$FZ$105,BC$1)","v":1210},{"$f":"VLOOKUP(DropDownList!$A$19,CntyQuery!$A$94:$FZ$105,BD$1)","v":1330},{"$f":"VLOOKUP(DropDownList!$A$19,CntyQuery!$A$94:$FZ$105,BE$1)","v":1380},{"$f":"VLOOKUP(DropDownList!$A$19,CntyQuery!$A$94:$FZ$105,BF$1)","v":46400},{"$f":"VLOOKUP(DropDownList!$A$19,CntyQuery!$A$94:$FZ$105,BG$1)","v":45110},{"$f":"VLOOKUP(DropDownList!$A$19,CntyQuery!$A$94:$FZ$105,BH$1)","v":2.8},{"$f":"VLOOKUP(DropDownList!$A$19,CntyQuery!$A$94:$FZ$105,BI$1)","v":1290},{"$f":"VLOOKUP(DropDownList!$A$19,CntyQuery!$A$94:$FZ$105,BJ$1)","v":46770},{"$f":"VLOOKUP(DropDownList!$A$19,CntyQuery!$A$94:$FZ$105,BK$1)","v":45450},{"$f":"VLOOKUP(DropDownList!$A$19,CntyQuery!$A$94:$FZ$105,BL$1)","v":1320},{"$f":"VLOOKUP(DropDownList!$A$19,CntyQuery!$A$94:$FZ$105,BM$1)","v":2.8},{"$f":"VLOOKUP(DropDownList!$A$19,CntyQuery!$A$94:$FZ$105,BN$1)","v":47850},{"$f":"VLOOKUP(DropDownList!$A$19,CntyQuery!$A$94:$FZ$105,BO$1)","v":46480},{"$f":"VLOOKUP(DropDownList!$A$19,CntyQuery!$A$94:$FZ$105,BP$1)","v":1370},{"$f":"VLOOKUP(DropDownList!$A$19,CntyQuery!$A$94:$FZ$105,BQ$1)","v":2.9},{"$f":"VLOOKUP(DropDownList!$A$19,CntyQuery!$A$94:$FZ$105,BR$1)","v":48290},{"$f":"VLOOKUP(DropDownList!$A$19,CntyQuery!$A$94:$FZ$105,BS$1)","v":46860},{"$f":"VLOOKUP(DropDownList!$A$19,CntyQuery!$A$94:$FZ$105,BT$1)","v":1430},{"$f":"VLOOKUP(DropDownList!$A$19,CntyQuery!$A$94:$FZ$105,BU$1)","v":3},{"$f":"VLOOKUP(DropDownList!$A$19,CntyQuery!$A$94:$FZ$105,BV$1)","v":48800},{"$f":"VLOOKUP(DropDownList!$A$19,CntyQuery!$A$94:$FZ$105,BW$1)","v":47260},{"$f":"VLOOKUP(DropDownList!$A$19,CntyQuery!$A$94:$FZ$105,BX$1)","v":1540},{"$f":"VLOOKUP(DropDownList!$A$19,CntyQuery!$A$94:$FZ$105,BY$1)","v":3.1},{"$f":"VLOOKUP(DropDownList!$A$19,CntyQuery!$A$94:$FZ$105,BZ$1)","v":48890},{"$f":"VLOOKUP(DropDownList!$A$19,CntyQuery!$A$94:$FZ$105,CA$1)","v":46380},{"$f":"VLOOKUP(DropDownList!$A$19,CntyQuery!$A$94:$FZ$105,CB$1)","v":2510},{"$f":"VLOOKUP(DropDownList!$A$19,CntyQuery!$A$94:$FZ$105,CC$1)","v":5.0999999999999996},{"$f":"VLOOKUP(DropDownList!$A$19,CntyQuery!$A$94:$FZ$105,CD$1)","v":48330},{"$f":"VLOOKUP(DropDownList!$A$19,CntyQuery!$A$94:$FZ$105,CE$1)","v":46010},{"$f":"VLOOKUP(DropDownList!$A$19,CntyQuery!$A$94:$FZ$105,CF$1)","v":2320},{"$f":"VLOOKUP(DropDownList!$A$19,CntyQuery!$A$94:$FZ$105,CG$1)","v":4.8},{"$f":"VLOOKUP(DropDownList!$A$19,CntyQuery!$A$94:$FZ$105,CH$1)","v":48730},{"$f":"VLOOKUP(DropDownList!$A$19,CntyQuery!$A$94:$FZ$105,CI$1)","v":46560},{"$f":"VLOOKUP(DropDownList!$A$19,CntyQuery!$A$94:$FZ$105,CJ$1)","v":2170},{"$f":"VLOOKUP(DropDownList!$A$19,CntyQuery!$A$94:$FZ$105,CK$1)","v":4.5},{"$f":"VLOOKUP(DropDownList!$A$19,CntyQuery!$A$94:$FZ$105,CL$1)","v":48730},{"$f":"VLOOKUP(DropDownList!$A$19,CntyQuery!$A$94:$FZ$105,CM$1)","v":46560},{"$f":"VLOOKUP(DropDownList!$A$19,CntyQuery!$A$94:$FZ$105,CN$1)","v":2170},{"$f":"VLOOKUP(DropDownList!$A$19,CntyQuery!$A$94:$FZ$105,CO$1)","v":4.4000000000000004},{"$f":"VLOOKUP(DropDownList!$A$19,CntyQuery!$A$94:$FZ$105,CP$1)","v":48360},{"$f":"VLOOKUP(DropDownList!$A$19,CntyQuery!$A$94:$FZ$105,CQ$1)","v":46320},{"$f":"VLOOKUP(DropDownList!$A$19,CntyQuery!$A$94:$FZ$105,CR$1)","v":2040},{"$f":"VLOOKUP(DropDownList!$A$19,CntyQuery!$A$94:$FZ$105,CS$1)","v":4.2},{"$f":"VLOOKUP(DropDownList!$A$19,CntyQuery!$A$94:$FZ$105,CT$1)","v":48550},{"$f":"VLOOKUP(DropDownList!$A$19,CntyQuery!$A$94:$FZ$105,CU$1)","v":46880},{"$f":"VLOOKUP(DropDownList!$A$19,CntyQuery!$A$94:$FZ$105,CV$1)","v":1670},{"$f":"VLOOKUP(DropDownList!$A$19,CntyQuery!$A$94:$FZ$105,CW$1)","v":3.4000000000000004},{"$f":"VLOOKUP(DropDownList!$A$19,CntyQuery!$A$94:$FZ$105,CX$1)","v":48690},{"$f":"VLOOKUP(DropDownList!$A$19,CntyQuery!$A$94:$FZ$105,CY$1)","v":47360},{"$f":"VLOOKUP(DropDownList!$A$19,CntyQuery!$A$94:$FZ$105,CZ$1)","v":1330},{"$f":"VLOOKUP(DropDownList!$A$19,CntyQuery!$A$94:$FZ$105,DA$1)","v":2.7},{"$f":"VLOOKUP(DropDownList!$A$19,CntyQuery!$A$94:$FZ$105,DB$1)","v":48810},{"$f":"VLOOKUP(DropDownList!$A$19,CntyQuery!$A$94:$FZ$105,DC$1)","v":47660},{"$f":"VLOOKUP(DropDownList!$A$19,CntyQuery!$A$94:$FZ$105,DD$1)","v":1150},{"$f":"VLOOKUP(DropDownList!$A$19,CntyQuery!$A$94:$FZ$105,DE$1)","v":2.4},{"$f":"VLOOKUP(DropDownList!$A$19,CntyQuery!$A$94:$FZ$105,DF$1)","v":49340},{"$f":"VLOOKUP(DropDownList!$A$19,CntyQuery!$A$94:$FZ$105,DG$1)","v":48210},{"$f":"VLOOKUP(DropDownList!$A$19,CntyQuery!$A$94:$FZ$105,DH$1)","v":1130},{"$f":"VLOOKUP(DropDownList!$A$19,CntyQuery!$A$94:$FZ$105,DI$1)","v":2.2999999999999998},{"$f":"VLOOKUP(DropDownList!$A$19,CntyQuery!$A$94:$FZ$105,DJ$1)","v":49860},{"$f":"VLOOKUP(DropDownList!$A$19,CntyQuery!$A$94:$FZ$105,DK$1)","v":48780},{"$f":"VLOOKUP(DropDownList!$A$19,CntyQuery!$A$94:$FZ$105,DL$1)","v":1080},{"$f":"VLOOKUP(DropDownList!$A$19,CntyQuery!$A$94:$FZ$105,DM$1)","v":2.2999999999999998},{"$f":"VLOOKUP(DropDownList!$A$19,CntyQuery!$A$94:$FZ$105,DN$1)","v":50040},{"$f":"VLOOKUP(DropDownList!$A$19,CntyQuery!$A$94:$FZ$105,DO$1)","v":48930},{"$f":"VLOOKUP(DropDownList!$A$19,CntyQuery!$A$94:$FZ$105,DP$1)","v":1110},{"$f":"VLOOKUP(DropDownList!$A$19,CntyQuery!$A$94:$FZ$105,DQ$1)","v":2.2999999999999998},{"$f":"VLOOKUP(DropDownList!$A$19,CntyQuery!$A$94:$FZ$105,DR$1)","v":47860},{"$f":"VLOOKUP(DropDownList!$A$19,CntyQuery!$A$94:$FZ$105,DS$1)","v":45030},{"$f":"VLOOKUP(DropDownList!$A$19,CntyQuery!$A$94:$FZ$105,DT$1)","v":2830},{"$f":"VLOOKUP(DropDownList!$A$19,CntyQuery!$A$94:$FZ$105,DU$1)","v":5.9},{"$f":"VLOOKUP(DropDownList!$A$19,CntyQuery!$A$94:$FZ$105,DV$1)","v":48470},{"$f":"VLOOKUP(DropDownList!$A$19,CntyQuery!$A$94:$FZ$105,DW$1)","v":46900},{"$f":"VLOOKUP(DropDownList!$A$19,CntyQuery!$A$94:$FZ$105,DX$1)","v":1570},{"$f":"VLOOKUP(DropDownList!$A$19,CntyQuery!$A$94:$FZ$105,DY$1)","v":3.2},{"$f":"VLOOKUP(DropDownList!$A$19,CntyQuery!$A$94:$FZ$105,DZ$1)","v":48940},{"$f":"VLOOKUP(DropDownList!$A$19,CntyQuery!$A$94:$FZ$105,EA$1)","v":47800},{"$f":"VLOOKUP(DropDownList!$A$19,CntyQuery!$A$94:$FZ$105,EB$1)","v":1140},{"$f":"VLOOKUP(DropDownList!$A$19,CntyQuery!$A$94:$FZ$105,EC$1)","v":2.2999999999999998}]
[]
[null,null,null,null,null,null,null,null,null,null,null,null,{"$f":"IF((CntyDataLink!$BL$25)=\"n\",NA(),IF(VALUE(CntyDataLink!$BL$25)=\"\",NA(),VALUE(CntyDataLink!$BL$25)))","v":884.82}]
["Census 2000 Data   -           Query Name:  CountyQuery3",2,{"$f":"B33+1","v":3},{"$f":"C33+1","v":4},5,6,7,8,9,10,11,12,13,14,15,16,17,18,19,20,21,22,23,24,25,26,27,28,29,30,31,32,33,34,35,36,37,38,39,40,41,42,43,44,45,46,47,48,49,50,51,52,53,54,55,56,57,58,59,60,61,62,63,64,65,66,67,{"$f":"BO33+1","v":68},69,70,71,72,73,74,75,76,77,78,79,80,81,82,83,84,85,86,87,88,89,90,91,92,93,94,95,96,97,98,99,100,101,102,103]
["NAME","COUNTY","LOGRECNO","COUSUB","TRACT","AREALAND","AREAWATR","POP100","HU100","2000Population","PopOfOneRace","PopWhite","PopBlack","PopAmIndian","PopAsian","PopHawaiian","PopOtherRace","Pop2orMoreRaces","PopHispanicLatino","PopNotHispanicLatino","PopMale","PopMale<15","PopMale15to24","PopMale25to34","PopMale35to44","PopMale45to54","PopMale55to64","PopMale65to74","PopMale75to84","PopMale85andOver","PopFemale","PopFemale<15","PopFemale15to24","PopFemale25to34","PopFemale35t44","PopFemale45to54","PopFemale55to64","PopFemale65to74","PopFemale75to84","PopFemale85andOver","Households2000","PopInHH","AvgHHSize","HHs1Person","HHs2orMorePerson","HHsFamily","HHMarriedCoupleFam","HHSingleParentFam","HHsNonFamily","Families","PopInFam","AvgFamSize","TotHsUnits","OccHsUnits","OwnerOccHU","RenterOccHU","VctHsUnits","VctHUForRent","VctHUForSale","VctHUSeasonal","PopInOccHU","PopInOwnOccHU","PopInRntOccHU","AvgHHSize2","AvgHHSizOwnOcc","AvgHHSizRntOcc","OwnOccWhtHsHldr","OwnOccBlkHsHldr","OwnOccAmIHsHldr","OwnOccAsnHsHldr","OwnOccPIsHsHldr","OwnOccORHsHldr","OwnOcc2RcHsHldr","RntOccWhtHsHldr","RntOccBlkHsHldr","RntOccAmIHsHldr","RntOccAsnHsHldr","RntOccPIsHsHldr","RntOccORHsHldr","RntOcc2RcHsHldr","OwnOccHH15to24","OwnOccHH25to34","OwnOccHH35to44","OwnOccHH45to54","OwnOccHH55to64","OwnOccHH65to74","OwnOccHH75to84","OwnOccHH85Over","RntOccHH15to24","RntOccHH25to34","RntOccHH35to44","RntOccHH45to54","RntOccHH55to64","RntOccHH65to74","RntOccHH75to84","RntOccHH85Over","P27TotalPop","P27PopInHseHlds","P27PopInGrpQtrs","SUMLEV","Median Age Total","Median Age (Male)","Median Age (Female)"]
[{"$f":"VLOOKUP(DropDownList!$A$19,CntyQuery!$A$20:$CE$30,A$1)","v":"Grafton County"},{"$f":"VLOOKUP(DropDownList!$A$19,CntyQryCensus!$A$5:$CY$15,B1)","v":"009"},{"$f":"VLOOKUP(DropDownList!$A$19,CntyQryCensus!$A$5:$CY$15,C1)","v":"0010321"},{"$f":"VLOOKUP(DropDownList!$A$19,CntyQryCensus!$A$5:$CY$15,D1)","v":""},{"$f":"VLOOKUP(DropDownList!$A$19,CntyQryCensus!$A$5:$CY$15,E1)","v":""},{"$f":"VLOOKUP(DropDownList!$A$19,CntyQryCensus!$A$5:$CY$15,F1)","v":"    4437509185"},{"$f":"VLOOKUP(DropDownList!$A$19,CntyQryCensus!$A$5:$CY$15,G1)","v":"      95176279"},{"$f":"VLOOKUP(DropDownList!$A$19,CntyQryCensus!$A$5:$CY$15,H1)","v":81743},{"$f":"VLOOKUP(DropDownList!$A$19,CntyQryCensus!$A$5:$CY$15,I1)","v":"    43729"},{"$f":"VLOOKUP(DropDownList!$A$19,CntyQryCensus!$A$5:$CY$15,J1)","v":81743},{"$f":"VLOOKUP(DropDownList!$A$19,CntyQryCensus!$A$5:$CY$15,K1)","v":80717},{"$f":"VLOOKUP(DropDownList!$A$19,CntyQryCensus!$A$5:$CY$15,L1)","v":78276},{"$f":"VLOOKUP(DropDownList!$A$19,CntyQryCensus!$A$5:$CY$15,M1)","v":435},{"$f":"VLOOKUP(DropDownList!$A$19,CntyQryCensus!$A$5:$CY$15,N1)","v":255},{"$f":"VLOOKUP(DropDownList!$A$19,CntyQryCensus!$A$5:$CY$15,O1)","v":1414},{"$f":"VLOOKUP(DropDownList!$A$19,CntyQryCensus!$A$5:$CY$15,P1)","v":22},{"$f":"VLOOKUP(DropDownList!$A$19,CntyQryCensus!$A$5:$CY$15,Q1)","v":315},{"$f":"VLOOKUP(DropDownList!$A$19,CntyQryCensus!$A$5:$CY$15,R1)","v":1026},{"$f":"VLOOKUP(DropDownList!$A$19,CntyQryCensus!$A$5:$CY$15,S1)","v":914},{"$f":"VLOOKUP(DropDownList!$A$19,CntyQryCensus!$A$5:$CY$15,T1)","v":80829},{"$f":"VLOOKUP(DropDownList!$A$19,CntyQryCensus!$A$5:$CY$15,U1)","v":40186},{"$f":"VLOOKUP(DropDownList!$A$19,CntyQryCensus!$A$5:$CY$15,V1)","v":7446},{"$f":"VLOOKUP(DropDownList!$A$19,CntyQryCensus!$A$5:$CY$15,W1)","v":7414},{"$f":"VLOOKUP(DropDownList!$A$19,CntyQryCensus!$A$5:$CY$15,X1)","v":4802},{"$f":"VLOOKUP(DropDownList!$A$19,CntyQryCensus!$A$5:$CY$15,Y1)","v":5991},{"$f":"VLOOKUP(DropDownList!$A$19,CntyQryCensus!$A$5:$CY$15,Z1)","v":5983},{"$f":"VLOOKUP(DropDownList!$A$19,CntyQryCensus!$A$5:$CY$15,AA1)","v":3794},{"$f":"VLOOKUP(DropDownList!$A$19,CntyQryCensus!$A$5:$CY$15,AB1)","v":2739},{"$f":"VLOOKUP(DropDownList!$A$19,CntyQryCensus!$A$5:$CY$15,AC1)","v":1622},{"$f":"VLOOKUP(DropDownList!$A$19,CntyQryCensus!$A$5:$CY$15,AD1)","v":395},{"$f":"VLOOKUP(DropDownList!$A$19,CntyQryCensus!$A$5:$CY$15,AE1)","v":41557},{"$f":"VLOOKUP(DropDownList!$A$19,CntyQryCensus!$A$5:$CY$15,AF1)","v":7141},{"$f":"VLOOKUP(DropDownList!$A$19,CntyQryCensus!$A$5:$CY$15,AG1)","v":6942},{"$f":"VLOOKUP(DropDownList!$A$19,CntyQryCensus!$A$5:$CY$15,AH1)","v":4890},{"$f":"VLOOKUP(DropDownList!$A$19,CntyQryCensus!$A$5:$CY$15,AI1)","v":6383},{"$f":"VLOOKUP(DropDownList!$A$19,CntyQryCensus!$A$5:$CY$15,AJ1)","v":6128},{"$f":"VLOOKUP(DropDownList!$A$19,CntyQryCensus!$A$5:$CY$15,AK1)","v":3856},{"$f":"VLOOKUP(DropDownList!$A$19,CntyQryCensus!$A$5:$CY$15,AL1)","v":2962},{"$f":"VLOOKUP(DropDownList!$A$19,CntyQryCensus!$A$5:$CY$15,AM1)","v":2267},{"$f":"VLOOKUP(DropDownList!$A$19,CntyQryCensus!$A$5:$CY$15,AN1)","v":988},{"$f":"VLOOKUP(DropDownList!$A$19,CntyQryCensus!$A$5:$CY$15,AO1)","v":31598},{"$f":"VLOOKUP(DropDownList!$A$19,CntyQryCensus!$A$5:$CY$15,AP1)","v":75355},{"$f":"VLOOKUP(DropDownList!$A$19,CntyQryCensus!$A$5:$CY$15,AQ1)","v":2.38},{"$f":"VLOOKUP(DropDownList!$A$19,CntyQryCensus!$A$5:$CY$15,AR1)","v":8644},{"$f":"VLOOKUP(DropDownList!$A$19,CntyQryCensus!$A$5:$CY$15,AS1)","v":22954},{"$f":"VLOOKUP(DropDownList!$A$19,CntyQryCensus!$A$5:$CY$15,AT1)","v":20266},{"$f":"VLOOKUP(DropDownList!$A$19,CntyQryCensus!$A$5:$CY$15,AU1)","v":16543},{"$f":"VLOOKUP(DropDownList!$A$19,CntyQryCensus!$A$5:$CY$15,AV1)","v":3723},{"$f":"VLOOKUP(DropDownList!$A$19,CntyQryCensus!$A$5:$CY$15,AW1)","v":2688},{"$f":"VLOOKUP(DropDownList!$A$19,CntyQryCensus!$A$5:$CY$15,AX1)","v":20266},{"$f":"VLOOKUP(DropDownList!$A$19,CntyQryCensus!$A$5:$CY$15,AY1)","v":58780},{"$f":"VLOOKUP(DropDownList!$A$19,CntyQryCensus!$A$5:$CY$15,AZ1)","v":2.9},{"$f":"VLOOKUP(DropDownList!$A$19,CntyQryCensus!$A$5:$CY$15,BA1)","v":43729},{"$f":"VLOOKUP(DropDownList!$A$19,CntyQryCensus!$A$5:$CY$15,BB1)","v":31598},{"$f":"VLOOKUP(DropDownList!$A$19,CntyQryCensus!$A$5:$CY$15,BC1)","v":21677},{"$f":"VLOOKUP(DropDownList!$A$19,CntyQryCensus!$A$5:$CY$15,BD1)","v":9921},{"$f":"VLOOKUP(DropDownList!$A$19,CntyQryCensus!$A$5:$CY$15,BE1)","v":12131},{"$f":"VLOOKUP(DropDownList!$A$19,CntyQryCensus!$A$5:$CY$15,BF1)","v":386},{"$f":"VLOOKUP(DropDownList!$A$19,CntyQryCensus!$A$5:$CY$15,BG1)","v":433},{"$f":"VLOOKUP(DropDownList!$A$19,CntyQryCensus!$A$5:$CY$15,BH1)","v":10428},{"$f":"VLOOKUP(DropDownList!$A$19,CntyQryCensus!$A$5:$CY$15,BI1)","v":75355},{"$f":"VLOOKUP(DropDownList!$A$19,CntyQryCensus!$A$5:$CY$15,BJ1)","v":54413},{"$f":"VLOOKUP(DropDownList!$A$19,CntyQryCensus!$A$5:$CY$15,BK1)","v":20942},{"$f":"VLOOKUP(DropDownList!$A$19,CntyQryCensus!$A$5:$CY$15,BL1)","v":2.38},{"$f":"VLOOKUP(DropDownList!$A$19,CntyQryCensus!$A$5:$CY$15,BM1)","v":2.5099999999999998},{"$f":"VLOOKUP(DropDownList!$A$19,CntyQryCensus!$A$5:$CY$15,BN1)","v":2.11},{"$f":"VLOOKUP(DropDownList!$A$19,CntyQryCensus!$A$5:$CY$15,BO1)","v":21285},{"$f":"VLOOKUP(DropDownList!$A$19,CntyQryCensus!$A$5:$CY$15,BP1)","v":36},{"$f":"VLOOKUP(DropDownList!$A$19,CntyQryCensus!$A$5:$CY$15,BQ1)","v":42},{"$f":"VLOOKUP(DropDownList!$A$19,CntyQryCensus!$A$5:$CY$15,BR1)","v":135},{"$f":"VLOOKUP(DropDownList!$A$19,CntyQryCensus!$A$5:$CY$15,BS1)","v":4},{"$f":"VLOOKUP(DropDownList!$A$19,CntyQryCensus!$A$5:$CY$15,BT1)","v":35},{"$f":"VLOOKUP(DropDownList!$A$19,CntyQryCensus!$A$5:$CY$15,BU1)","v":140},{"$f":"VLOOKUP(DropDownList!$A$19,CntyQryCensus!$A$5:$CY$15,BV1)","v":9342},{"$f":"VLOOKUP(DropDownList!$A$19,CntyQryCensus!$A$5:$CY$15,BW1)","v":88},{"$f":"VLOOKUP(DropDownList!$A$19,CntyQryCensus!$A$5:$CY$15,BX1)","v":64},{"$f":"VLOOKUP(DropDownList!$A$19,CntyQryCensus!$A$5:$CY$15,BY1)","v":222},{"$f":"VLOOKUP(DropDownList!$A$19,CntyQryCensus!$A$5:$CY$15,BZ1)","v":4},{"$f":"VLOOKUP(DropDownList!$A$19,CntyQryCensus!$A$5:$CY$15,CA1)","v":58},{"$f":"VLOOKUP(DropDownList!$A$19,CntyQryCensus!$A$5:$CY$15,CB1)","v":143},{"$f":"VLOOKUP(DropDownList!$A$19,CntyQryCensus!$A$5:$CY$15,CC1)","v":186},{"$f":"VLOOKUP(DropDownList!$A$19,CntyQryCensus!$A$5:$CY$15,CD1)","v":2060},{"$f":"VLOOKUP(DropDownList!$A$19,CntyQryCensus!$A$5:$CY$15,CE1)","v":4718},{"$f":"VLOOKUP(DropDownList!$A$19,CntyQryCensus!$A$5:$CY$15,CF1)","v":5539},{"$f":"VLOOKUP(DropDownList!$A$19,CntyQryCensus!$A$5:$CY$15,CG1)","v":3758},{"$f":"VLOOKUP(DropDownList!$A$19,CntyQryCensus!$A$5:$CY$15,CH1)","v":3004},{"$f":"VLOOKUP(DropDownList!$A$19,CntyQryCensus!$A$5:$CY$15,CI1)","v":1905},{"$f":"VLOOKUP(DropDownList!$A$19,CntyQryCensus!$A$5:$CY$15,CJ1)","v":507},{"$f":"VLOOKUP(DropDownList!$A$19,CntyQryCensus!$A$5:$CY$15,CK1)","v":1516},{"$f":"VLOOKUP(DropDownList!$A$19,CntyQryCensus!$A$5:$CY$15,CL1)","v":2755},{"$f":"VLOOKUP(DropDownList!$A$19,CntyQryCensus!$A$5:$CY$15,CM1)","v":2089},{"$f":"VLOOKUP(DropDownList!$A$19,CntyQryCensus!$A$5:$CY$15,CN1)","v":1444},{"$f":"VLOOKUP(DropDownList!$A$19,CntyQryCensus!$A$5:$CY$15,CO1)","v":775},{"$f":"VLOOKUP(DropDownList!$A$19,CntyQryCensus!$A$5:$CY$15,CP1)","v":584},{"$f":"VLOOKUP(DropDownList!$A$19,CntyQryCensus!$A$5:$CY$15,CQ1)","v":548},{"$f":"VLOOKUP(DropDownList!$A$19,CntyQryCensus!$A$5:$CY$15,CR1)","v":210},{"$f":"VLOOKUP(DropDownList!$A$19,CntyQryCensus!$A$5:$CY$15,CS1)","v":81743},{"$f":"VLOOKUP(DropDownList!$A$19,CntyQryCensus!$A$5:$CY$15,CT1)","v":75355},{"$f":"VLOOKUP(DropDownList!$A$19,CntyQryCensus!$A$5:$CY$15,CU1)","v":6388},{"$f":"VLOOKUP(DropDownList!$A$19,CntyQryCensus!$A$5:$CY$15,CV1)","v":0},{"$f":"VLOOKUP(DropDownList!$A$19,CntyQryCensus!$A$5:$CY$15,CW1)","v":37},{"$f":"VLOOKUP(DropDownList!$A$19,CntyQryCensus!$A$5:$CY$15,CX1)","v":35.799999999999997},{"$f":"VLOOKUP(DropDownList!$A$19,CntyQryCensus!$A$5:$CY$15,CY1)","v":38.1}]
[]
[]
["Census 2000 DemoProfile Sample Data Tables 2&3   -  DPTab23CountyQry"]
["NAME","COUSUB","AREANAME","PopInSchool","Preschool","Kindergarten","Elementary","HighSchool","College","Pop25andOver","HighSchoolGrad","SomeCollege","AssocDegree","BachelDegree","GradDegree","HSGradorHigher","CollegeGradorHigher","Pop5to20yrs","Pop5to20wDis","Pop21to64","Pop21to64wDis","Pop65over","Pop65overwDis","Pop5yrsOver","SameHUin95","DiffHUinUSin95","HUinSameCountyin95","HUinSameStatein95","TotalPop","NativePop","NatPopBornUS","NatPopBornInStatRes","NatPopBornDiffState","NatPopBornOutUS","FornBornPop","FornPopEnt90to00","FornPopNatCit","FornPopNotCit","Households","HHIncLessThn10k","HHInc10to15K","HHInc15to25K","HHInc25to35K","HHInc35to50K","HHInc50to75K","HHInc75to100K","HHInc100to150K","HHInc150to200K","HHIncOver200K","MedianHHInc","HHwithPubAssistInc","MeanPubAssist","FamilyHH","FHHIncLessThn10k","FHHInc10to15K","FHHInc15to25K","FHHInc25to35K","FHHInc35to50K","FHHInc50to75K","FHHInc75to100K","FHHInc100to150K","FHHInc150to200K","FHHIncOver200K","MedianFHHInc","PerCapitaInc","PovStatFamilies","PovStatFHHwChilUnd18","PovStatFHHwChilUnd5","PovStFmalHH","DP3088","DP3089","PovStatIndiv","PovStatIndiv18yrOver","PovStatIndiv65yrOver","DP3093","DP3094","DP3095"]
[{"$f":"VLOOKUP(DropDownList!$A$19,CntyQuery!$A$20:$CE$30,A$1)","v":"Grafton County"},{"$f":"VLOOKUP(DropDownList!$A$19,CntyQryCensus!$A$21:$BY$31,B$1)","v":"00005"},{"$f":"VLOOKUP(DropDownList!$A$19,CntyQryCensus!$A$21:$BY$31,C$1)","v":"Grafton County, New Hampshire"},{"$f":"VLOOKUP(DropDownList!$A$19,CntyQryCensus!$A$21:$BY$31,D$1)","v":24139},{"$f":"VLOOKUP(DropDownList!$A$19,CntyQryCensus!$A$21:$BY$31,E$1)","v":1043},{"$f":"VLOOKUP(DropDownList!$A$19,CntyQryCensus!$A$21:$BY$31,F$1)","v":883},{"$f":"VLOOKUP(DropDownList!$A$19,CntyQryCensus!$A$21:$BY$31,G$1)","v":8565},{"$f":"VLOOKUP(DropDownList!$A$19,CntyQryCensus!$A$21:$BY$31,H$1)","v":4476},{"$f":"VLOOKUP(DropDownList!$A$19,CntyQryCensus!$A$21:$BY$31,I$1)","v":9172},{"$f":"VLOOKUP(DropDownList!$A$19,CntyQryCensus!$A$21:$BY$31,J$1)","v":52795},{"$f":"VLOOKUP(DropDownList!$A$19,CntyQryCensus!$A$21:$BY$31,K$1)","v":16355},{"$f":"VLOOKUP(DropDownList!$A$19,CntyQryCensus!$A$21:$BY$31,L$1)","v":8932},{"$f":"VLOOKUP(DropDownList!$A$19,CntyQryCensus!$A$21:$BY$31,M$1)","v":3754},{"$f":"VLOOKUP(DropDownList!$A$19,CntyQryCensus!$A$21:$BY$31,N$1)","v":9736},{"$f":"VLOOKUP(DropDownList!$A$19,CntyQryCensus!$A$21:$BY$31,O$1)","v":7511},{"$f":"VLOOKUP(DropDownList!$A$19,CntyQryCensus!$A$21:$BY$31,P$1)","v":46288},{"$f":"VLOOKUP(DropDownList!$A$19,CntyQryCensus!$A$21:$BY$31,Q$1)","v":17247},{"$f":"VLOOKUP(DropDownList!$A$19,CntyQryCensus!$A$21:$BY$31,R$1)","v":19647},{"$f":"VLOOKUP(DropDownList!$A$19,CntyQryCensus!$A$21:$BY$31,S$1)","v":1542},{"$f":"VLOOKUP(DropDownList!$A$19,CntyQryCensus!$A$21:$BY$31,T$1)","v":46659},{"$f":"VLOOKUP(DropDownList!$A$19,CntyQryCensus!$A$21:$BY$31,U$1)","v":6917},{"$f":"VLOOKUP(DropDownList!$A$19,CntyQryCensus!$A$21:$BY$31,V$1)","v":10187},{"$f":"VLOOKUP(DropDownList!$A$19,CntyQryCensus!$A$21:$BY$31,W$1)","v":3876},{"$f":"VLOOKUP(DropDownList!$A$19,CntyQryCensus!$A$21:$BY$31,X$1)","v":77524},{"$f":"VLOOKUP(DropDownList!$A$19,CntyQryCensus!$A$21:$BY$31,Y$1)","v":42233},{"$f":"VLOOKUP(DropDownList!$A$19,CntyQryCensus!$A$21:$BY$31,Z$1)","v":34231},{"$f":"VLOOKUP(DropDownList!$A$19,CntyQryCensus!$A$21:$BY$31,AA$1)","v":15297},{"$f":"VLOOKUP(DropDownList!$A$19,CntyQryCensus!$A$21:$BY$31,AB$1)","v":18934},{"$f":"VLOOKUP(DropDownList!$A$19,CntyQryCensus!$A$21:$BY$31,AC$1)","v":81743},{"$f":"VLOOKUP(DropDownList!$A$19,CntyQryCensus!$A$21:$BY$31,AD$1)","v":78552},{"$f":"VLOOKUP(DropDownList!$A$19,CntyQryCensus!$A$21:$BY$31,AE$1)","v":77848},{"$f":"VLOOKUP(DropDownList!$A$19,CntyQryCensus!$A$21:$BY$31,AF$1)","v":36964},{"$f":"VLOOKUP(DropDownList!$A$19,CntyQryCensus!$A$21:$BY$31,AG$1)","v":40884},{"$f":"VLOOKUP(DropDownList!$A$19,CntyQryCensus!$A$21:$BY$31,AH$1)","v":704},{"$f":"VLOOKUP(DropDownList!$A$19,CntyQryCensus!$A$21:$BY$31,AI$1)","v":3191},{"$f":"VLOOKUP(DropDownList!$A$19,CntyQryCensus!$A$21:$BY$31,AJ$1)","v":1209},{"$f":"VLOOKUP(DropDownList!$A$19,CntyQryCensus!$A$21:$BY$31,AK$1)","v":1527},{"$f":"VLOOKUP(DropDownList!$A$19,CntyQryCensus!$A$21:$BY$31,AL$1)","v":1664},{"$f":"VLOOKUP(DropDownList!$A$19,CntyQryCensus!$A$21:$BY$31,AM$1)","v":31608},{"$f":"VLOOKUP(DropDownList!$A$19,CntyQryCensus!$A$21:$BY$31,AN$1)","v":2486},{"$f":"VLOOKUP(DropDownList!$A$19,CntyQryCensus!$A$21:$BY$31,AO$1)","v":1738},{"$f":"VLOOKUP(DropDownList!$A$19,CntyQryCensus!$A$21:$BY$31,AP$1)","v":4278},{"$f":"VLOOKUP(DropDownList!$A$19,CntyQryCensus!$A$21:$BY$31,AQ$1)","v":4246},{"$f":"VLOOKUP(DropDownList!$A$19,CntyQryCensus!$A$21:$BY$31,AR$1)","v":6123},{"$f":"VLOOKUP(DropDownList!$A$19,CntyQryCensus!$A$21:$BY$31,AS$1)","v":6587},{"$f":"VLOOKUP(DropDownList!$A$19,CntyQryCensus!$A$21:$BY$31,AT$1)","v":2947},{"$f":"VLOOKUP(DropDownList!$A$19,CntyQryCensus!$A$21:$BY$31,AU$1)","v":1905},{"$f":"VLOOKUP(DropDownList!$A$19,CntyQryCensus!$A$21:$BY$31,AV$1)","v":708},{"$f":"VLOOKUP(DropDownList!$A$19,CntyQryCensus!$A$21:$BY$31,AW$1)","v":590},{"$f":"VLOOKUP(DropDownList!$A$19,CntyQryCensus!$A$21:$BY$31,AX$1)","v":41962},{"$f":"VLOOKUP(DropDownList!$A$19,CntyQryCensus!$A$21:$BY$31,AY$1)","v":923},{"$f":"VLOOKUP(DropDownList!$A$19,CntyQryCensus!$A$21:$BY$31,AZ$1)","v":2370},{"$f":"VLOOKUP(DropDownList!$A$19,CntyQryCensus!$A$21:$BY$31,BA$1)","v":20415},{"$f":"VLOOKUP(DropDownList!$A$19,CntyQryCensus!$A$21:$BY$31,BB$1)","v":679},{"$f":"VLOOKUP(DropDownList!$A$19,CntyQryCensus!$A$21:$BY$31,BC$1)","v":627},{"$f":"VLOOKUP(DropDownList!$A$19,CntyQryCensus!$A$21:$BY$31,BD$1)","v":2036},{"$f":"VLOOKUP(DropDownList!$A$19,CntyQryCensus!$A$21:$BY$31,BE$1)","v":2517},{"$f":"VLOOKUP(DropDownList!$A$19,CntyQryCensus!$A$21:$BY$31,BF$1)","v":4215},{"$f":"VLOOKUP(DropDownList!$A$19,CntyQryCensus!$A$21:$BY$31,BG$1)","v":5191},{"$f":"VLOOKUP(DropDownList!$A$19,CntyQryCensus!$A$21:$BY$31,BH$1)","v":2524},{"$f":"VLOOKUP(DropDownList!$A$19,CntyQryCensus!$A$21:$BY$31,BI$1)","v":1534},{"$f":"VLOOKUP(DropDownList!$A$19,CntyQryCensus!$A$21:$BY$31,BJ$1)","v":605},{"$f":"VLOOKUP(DropDownList!$A$19,CntyQryCensus!$A$21:$BY$31,BK$1)","v":487},{"$f":"VLOOKUP(DropDownList!$A$19,CntyQryCensus!$A$21:$BY$31,BL$1)","v":50424},{"$f":"VLOOKUP(DropDownList!$A$19,CntyQryCensus!$A$21:$BY$31,BM$1)","v":22227},{"$f":"VLOOKUP(DropDownList!$A$19,CntyQryCensus!$A$21:$BY$31,BN$1)","v":1033},{"$f":"VLOOKUP(DropDownList!$A$19,CntyQryCensus!$A$21:$BY$31,BO$1)","v":754},{"$f":"VLOOKUP(DropDownList!$A$19,CntyQryCensus!$A$21:$BY$31,BP$1)","v":341},{"$f":"VLOOKUP(DropDownList!$A$19,CntyQryCensus!$A$21:$BY$31,BQ$1)","v":495},{"$f":"VLOOKUP(DropDownList!$A$19,CntyQryCensus!$A$21:$BY$31,BR$1)","v":450},{"$f":"VLOOKUP(DropDownList!$A$19,CntyQryCensus!$A$21:$BY$31,BS$1)","v":201},{"$f":"VLOOKUP(DropDownList!$A$19,CntyQryCensus!$A$21:$BY$31,BT$1)","v":6462},{"$f":"VLOOKUP(DropDownList!$A$19,CntyQryCensus!$A$21:$BY$31,BU$1)","v":4786},{"$f":"VLOOKUP(DropDownList!$A$19,CntyQryCensus!$A$21:$BY$31,BV$1)","v":759},{"$f":"VLOOKUP(DropDownList!$A$19,CntyQryCensus!$A$21:$BY$31,BW$1)","v":1489},{"$f":"VLOOKUP(DropDownList!$A$19,CntyQryCensus!$A$21:$BY$31,BX$1)","v":1043},{"$f":"VLOOKUP(DropDownList!$A$19,CntyQryCensus!$A$21:$BY$31,BY$1)","v":3350}]
[]
[]
["Census 2000 DemoProfile Sample Data Table 4   -  DPTab4CountyQry"]
["NAME","COUSUB","TotHousingUnits","1UnitDet","1UnitAtt","2Units","3to4Units","5to9Units","10to19Units","20orMoreUnits","MobileHomes","BoatRvVan","SingleFamilyUnits","MultiFamUnits","MobileHomeUnits","YearBuilt99to00","YearBuilt95to98","YearBUilt90to94","YearBuilt80to89","YearBuilt70to79","YearBuilt60to69","YearBuilt40to59","YearBuilt39orEarlier","Rooms1","Rooms2","Rooms3","Rooms4","Rooms5","Rooms6","Rooms7","Rooms8","Rooms9orMore","MedianRooms","OccHU1","YrHHMvdIn99to00","YrHHMvdIn95to98","YrHHMvdIn90to94","YrHHMvdIn80to89","YrHHMvdIn70to79","YrHHMvdIn69orBefore","HeatFuelNatGas","HeatFuelBotGas","HeatFuelElectric","HeatFuelOil","HeatFuelCoal","HeatFuelWood","HeatFuelSolar","HeatFuelOther","HeatFuelNone","LackCompPlumb","LackCompKit","NoTelephone","OccHU","OccPerRm1orLess","OccPerRm1to1_5","OccPerRm1_5orMore","SpecOwnOccUnits","Value<50K","Value50to100K","Value100to150K","Value150to200K","Value200to300K","Value300to500K","Value500Kto1mil","Value1MilorMore","MedianValue","WithMortg","MnthOwnCst<300","MnthOwnCst300to500","MnthOwnCst500to700","MnthOwnCst700to1000","MnthOwnCst1000to1500","MnthOwnCst1500to2000","MnthOwnCst2000orMore","MediMnthOwnCst","NotMrtg","NotMrtgMediMnthOwnCst","OwnCst%HHInc<15","OwnCst%HHInc15to20","OwnCst%HHInc20to25","OwnCst%HHInc25to30","OwnCst%HHInc30to35","OwnCst%HHInc35orMor","NotComputed","SpecRntOccUnits","Rnt<200","Rnt200to300","Rnt300to500","Rnt500to750","Rnt750to1000","Rnt1000to1500","Rnt1500orMore","NoRent","MedianRent","Rnt%HHInc<15","Rnt%HHInc15to20","Rnt%HHInc20to25","Rnt%HHInc25to30","Rnt%HHInc30to35","Rnt%HHInc35orMore","Rnt%NotCompute"]
[{"$f":"VLOOKUP(DropDownList!$A$19,CntyQuery!$A$20:$CE$30,A$1)","v":"Grafton County"},{"$f":"VLOOKUP(DropDownList!$A$19,CntyQryCensus!$A$37:$CW$47,B$1)","v":"00005"},{"$f":"VLOOKUP(DropDownList!$A$19,CntyQryCensus!$A$37:$CW$47,C$1)","v":43729},{"$f":"VLOOKUP(DropDownList!$A$19,CntyQryCensus!$A$37:$CW$47,D$1)","v":26879},{"$f":"VLOOKUP(DropDownList!$A$19,CntyQryCensus!$A$37:$CW$47,E$1)","v":2429},{"$f":"VLOOKUP(DropDownList!$A$19,CntyQryCensus!$A$37:$CW$47,F$1)","v":2152},{"$f":"VLOOKUP(DropDownList!$A$19,CntyQryCensus!$A$37:$CW$47,G$1)","v":2707},{"$f":"VLOOKUP(DropDownList!$A$19,CntyQryCensus!$A$37:$CW$47,H$1)","v":2605},{"$f":"VLOOKUP(DropDownList!$A$19,CntyQryCensus!$A$37:$CW$47,I$1)","v":1615},{"$f":"VLOOKUP(DropDownList!$A$19,CntyQryCensus!$A$37:$CW$47,J$1)","v":1594},{"$f":"VLOOKUP(DropDownList!$A$19,CntyQryCensus!$A$37:$CW$47,K$1)","v":3661},{"$f":"VLOOKUP(DropDownList!$A$19,CntyQryCensus!$A$37:$CW$47,L$1)","v":87},{"$f":"VLOOKUP(DropDownList!$A$19,CntyQryCensus!$A$37:$CW$47,M$1)","v":26879},{"$f":"VLOOKUP(DropDownList!$A$19,CntyQryCensus!$A$37:$CW$47,N$1)","v":13102},{"$f":"VLOOKUP(DropDownList!$A$19,CntyQryCensus!$A$37:$CW$47,O$1)","v":3748},{"$f":"VLOOKUP(DropDownList!$A$19,CntyQryCensus!$A$37:$CW$47,P$1)","v":538},{"$f":"VLOOKUP(DropDownList!$A$19,CntyQryCensus!$A$37:$CW$47,Q$1)","v":1906},{"$f":"VLOOKUP(DropDownList!$A$19,CntyQryCensus!$A$37:$CW$47,R$1)","v":2903},{"$f":"VLOOKUP(DropDownList!$A$19,CntyQryCensus!$A$37:$CW$47,S$1)","v":10408},{"$f":"VLOOKUP(DropDownList!$A$19,CntyQryCensus!$A$37:$CW$47,T$1)","v":6914},{"$f":"VLOOKUP(DropDownList!$A$19,CntyQryCensus!$A$37:$CW$47,U$1)","v":3909},{"$f":"VLOOKUP(DropDownList!$A$19,CntyQryCensus!$A$37:$CW$47,V$1)","v":4925},{"$f":"VLOOKUP(DropDownList!$A$19,CntyQryCensus!$A$37:$CW$47,W$1)","v":12226},{"$f":"VLOOKUP(DropDownList!$A$19,CntyQryCensus!$A$37:$CW$47,X$1)","v":582},{"$f":"VLOOKUP(DropDownList!$A$19,CntyQryCensus!$A$37:$CW$47,Y$1)","v":2103},{"$f":"VLOOKUP(DropDownList!$A$19,CntyQryCensus!$A$37:$CW$47,Z$1)","v":4290},{"$f":"VLOOKUP(DropDownList!$A$19,CntyQryCensus!$A$37:$CW$47,AA$1)","v":7818},{"$f":"VLOOKUP(DropDownList!$A$19,CntyQryCensus!$A$37:$CW$47,AB$1)","v":8872},{"$f":"VLOOKUP(DropDownList!$A$19,CntyQryCensus!$A$37:$CW$47,AC$1)","v":7556},{"$f":"VLOOKUP(DropDownList!$A$19,CntyQryCensus!$A$37:$CW$47,AD$1)","v":5388},{"$f":"VLOOKUP(DropDownList!$A$19,CntyQryCensus!$A$37:$CW$47,AE$1)","v":3567},{"$f":"VLOOKUP(DropDownList!$A$19,CntyQryCensus!$A$37:$CW$47,AF$1)","v":3553},{"$f":"VLOOKUP(DropDownList!$A$19,CntyQryCensus!$A$37:$CW$47,AG$1)","v":5.3},{"$f":"VLOOKUP(DropDownList!$A$19,CntyQryCensus!$A$37:$CW$47,AH$1)","v":31598},{"$f":"VLOOKUP(DropDownList!$A$19,CntyQryCensus!$A$37:$CW$47,AI$1)","v":5982},{"$f":"VLOOKUP(DropDownList!$A$19,CntyQryCensus!$A$37:$CW$47,AJ$1)","v":8462},{"$f":"VLOOKUP(DropDownList!$A$19,CntyQryCensus!$A$37:$CW$47,AK$1)","v":4852},{"$f":"VLOOKUP(DropDownList!$A$19,CntyQryCensus!$A$37:$CW$47,AL$1)","v":6354},{"$f":"VLOOKUP(DropDownList!$A$19,CntyQryCensus!$A$37:$CW$47,AM$1)","v":3183},{"$f":"VLOOKUP(DropDownList!$A$19,CntyQryCensus!$A$37:$CW$47,AN$1)","v":2765},{"$f":"VLOOKUP(DropDownList!$A$19,CntyQryCensus!$A$37:$CW$47,AO$1)","v":487},{"$f":"VLOOKUP(DropDownList!$A$19,CntyQryCensus!$A$37:$CW$47,AP$1)","v":4580},{"$f":"VLOOKUP(DropDownList!$A$19,CntyQryCensus!$A$37:$CW$47,AQ$1)","v":2608},{"$f":"VLOOKUP(DropDownList!$A$19,CntyQryCensus!$A$37:$CW$47,AR$1)","v":20768},{"$f":"VLOOKUP(DropDownList!$A$19,CntyQryCensus!$A$37:$CW$47,AS$1)","v":42},{"$f":"VLOOKUP(DropDownList!$A$19,CntyQryCensus!$A$37:$CW$47,AT$1)","v":2950},{"$f":"VLOOKUP(DropDownList!$A$19,CntyQryCensus!$A$37:$CW$47,AU$1)","v":11},{"$f":"VLOOKUP(DropDownList!$A$19,CntyQryCensus!$A$37:$CW$47,AV$1)","v":115},{"$f":"VLOOKUP(DropDownList!$A$19,CntyQryCensus!$A$37:$CW$47,AW$1)","v":37},{"$f":"VLOOKUP(DropDownList!$A$19,CntyQryCensus!$A$37:$CW$47,AX$1)","v":217},{"$f":"VLOOKUP(DropDownList!$A$19,CntyQryCensus!$A$37:$CW$47,AY$1)","v":179},{"$f":"VLOOKUP(DropDownList!$A$19,CntyQryCensus!$A$37:$CW$47,AZ$1)","v":457},{"$f":"VLOOKUP(DropDownList!$A$19,CntyQryCensus!$A$37:$CW$47,BA$1)","v":31598},{"$f":"VLOOKUP(DropDownList!$A$19,CntyQryCensus!$A$37:$CW$47,BB$1)","v":31187},{"$f":"VLOOKUP(DropDownList!$A$19,CntyQryCensus!$A$37:$CW$47,BC$1)","v":331},{"$f":"VLOOKUP(DropDownList!$A$19,CntyQryCensus!$A$37:$CW$47,BD$1)","v":80},{"$f":"VLOOKUP(DropDownList!$A$19,CntyQryCensus!$A$37:$CW$47,BE$1)","v":14515},{"$f":"VLOOKUP(DropDownList!$A$19,CntyQryCensus!$A$37:$CW$47,BF$1)","v":723},{"$f":"VLOOKUP(DropDownList!$A$19,CntyQryCensus!$A$37:$CW$47,BG$1)","v":5577},{"$f":"VLOOKUP(DropDownList!$A$19,CntyQryCensus!$A$37:$CW$47,BH$1)","v":4325},{"$f":"VLOOKUP(DropDownList!$A$19,CntyQryCensus!$A$37:$CW$47,BI$1)","v":1682},{"$f":"VLOOKUP(DropDownList!$A$19,CntyQryCensus!$A$37:$CW$47,BJ$1)","v":1282},{"$f":"VLOOKUP(DropDownList!$A$19,CntyQryCensus!$A$37:$CW$47,BK$1)","v":759},{"$f":"VLOOKUP(DropDownList!$A$19,CntyQryCensus!$A$37:$CW$47,BL$1)","v":156},{"$f":"VLOOKUP(DropDownList!$A$19,CntyQryCensus!$A$37:$CW$47,BM$1)","v":11},{"$f":"VLOOKUP(DropDownList!$A$19,CntyQryCensus!$A$37:$CW$47,BN$1)","v":109500},{"$f":"VLOOKUP(DropDownList!$A$19,CntyQryCensus!$A$37:$CW$47,BO$1)","v":9590},{"$f":"VLOOKUP(DropDownList!$A$19,CntyQryCensus!$A$37:$CW$47,BP$1)","v":13},{"$f":"VLOOKUP(DropDownList!$A$19,CntyQryCensus!$A$37:$CW$47,BQ$1)","v":414},{"$f":"VLOOKUP(DropDownList!$A$19,CntyQryCensus!$A$37:$CW$47,BR$1)","v":1391},{"$f":"VLOOKUP(DropDownList!$A$19,CntyQryCensus!$A$37:$CW$47,BS$1)","v":3054},{"$f":"VLOOKUP(DropDownList!$A$19,CntyQryCensus!$A$37:$CW$47,BT$1)","v":3156},{"$f":"VLOOKUP(DropDownList!$A$19,CntyQryCensus!$A$37:$CW$47,BU$1)","v":856},{"$f":"VLOOKUP(DropDownList!$A$19,CntyQryCensus!$A$37:$CW$47,BV$1)","v":706},{"$f":"VLOOKUP(DropDownList!$A$19,CntyQryCensus!$A$37:$CW$47,BW$1)","v":992},{"$f":"VLOOKUP(DropDownList!$A$19,CntyQryCensus!$A$37:$CW$47,BX$1)","v":4925},{"$f":"VLOOKUP(DropDownList!$A$19,CntyQryCensus!$A$37:$CW$47,BY$1)","v":405},{"$f":"VLOOKUP(DropDownList!$A$19,CntyQryCensus!$A$37:$CW$47,BZ$1)","v":5158},{"$f":"VLOOKUP(DropDownList!$A$19,CntyQryCensus!$A$37:$CW$47,CA$1)","v":2740},{"$f":"VLOOKUP(DropDownList!$A$19,CntyQryCensus!$A$37:$CW$47,CB$1)","v":2231},{"$f":"VLOOKUP(DropDownList!$A$19,CntyQryCensus!$A$37:$CW$47,CC$1)","v":1458},{"$f":"VLOOKUP(DropDownList!$A$19,CntyQryCensus!$A$37:$CW$47,CD$1)","v":883},{"$f":"VLOOKUP(DropDownList!$A$19,CntyQryCensus!$A$37:$CW$47,CE$1)","v":1969},{"$f":"VLOOKUP(DropDownList!$A$19,CntyQryCensus!$A$37:$CW$47,CF$1)","v":76},{"$f":"VLOOKUP(DropDownList!$A$19,CntyQryCensus!$A$37:$CW$47,CG$1)","v":9552},{"$f":"VLOOKUP(DropDownList!$A$19,CntyQryCensus!$A$37:$CW$47,CH$1)","v":481},{"$f":"VLOOKUP(DropDownList!$A$19,CntyQryCensus!$A$37:$CW$47,CI$1)","v":535},{"$f":"VLOOKUP(DropDownList!$A$19,CntyQryCensus!$A$37:$CW$47,CJ$1)","v":2497},{"$f":"VLOOKUP(DropDownList!$A$19,CntyQryCensus!$A$37:$CW$47,CK$1)","v":3651},{"$f":"VLOOKUP(DropDownList!$A$19,CntyQryCensus!$A$37:$CW$47,CL$1)","v":1171},{"$f":"VLOOKUP(DropDownList!$A$19,CntyQryCensus!$A$37:$CW$47,CM$1)","v":501},{"$f":"VLOOKUP(DropDownList!$A$19,CntyQryCensus!$A$37:$CW$47,CN$1)","v":160},{"$f":"VLOOKUP(DropDownList!$A$19,CntyQryCensus!$A$37:$CW$47,CO$1)","v":556},{"$f":"VLOOKUP(DropDownList!$A$19,CntyQryCensus!$A$37:$CW$47,CP$1)","v":560},{"$f":"VLOOKUP(DropDownList!$A$19,CntyQryCensus!$A$37:$CW$47,CQ$1)","v":1678},{"$f":"VLOOKUP(DropDownList!$A$19,CntyQryCensus!$A$37:$CW$47,CR$1)","v":1504},{"$f":"VLOOKUP(DropDownList!$A$19,CntyQryCensus!$A$37:$CW$47,CS$1)","v":1414},{"$f":"VLOOKUP(DropDownList!$A$19,CntyQryCensus!$A$37:$CW$47,CT$1)","v":1160},{"$f":"VLOOKUP(DropDownList!$A$19,CntyQryCensus!$A$37:$CW$47,CU$1)","v":722},{"$f":"VLOOKUP(DropDownList!$A$19,CntyQryCensus!$A$37:$CW$47,CV$1)","v":2354},{"$f":"VLOOKUP(DropDownList!$A$19,CntyQryCensus!$A$37:$CW$47,CW$1)","v":720}]
[]
[]
["Census 2000 SummaryFile3 Sample Data  -  SF3CountyQry1SocialChar"]
["NAME","LOGRECNO","COUNTY","P01TotalPopulation","P02SampleCountOfPop","P03Pop100pctCount","P05UrbanPopulation","P05RuralPopulation","P06WhiteAlone","P06BlackOrAfAm","P06AmIndAlone","P06AsianAlone","P06HawaiianOrPI","P06OtherRace","P06TwoPlusRaces","P07NotHispanicOrLatino","P07HispanicOrLatino","P08MalePop","P08FemalePop","P09PopInHouseholds","P09PopInFamHH","P09PopInNonFamHH","P09PopInGroupQtr","P13TotalHH","P13FamilyHH","P13FamHHolder15to24yrs","P13FamHHolder25to34yrs","P13FamHHolder35to44yrs","P13FamHHolder45to54yrs","P13FamHHolder55to64yrs","P13FamHHolder65to74yrs","P13FamHHolder75to84yrs","P13FamHHolder85yrsOver","P13NonFamilyHH","P13NonFamHHolder15to24yrs","P13NonFamHHolder25to34yrs","P13NonFamHHolder35to44yrs","P13NonFamHHolder45to54yrs","P13NonFamHHolder55to64yrs","P13NonFamHHolder65to74yrs","P13NonFamHHolder75to84yrs","P13NonFamHHolder85yrsOver","P18Pop15yrsOver","P18MaritalStatNeverMarried","P18MaritalStatNowMarried","P18MaritalStatSeparated","P18MaritalStatWidowed","P18MaritalStatWidowFemale","P18MaritalStatDivorced","P18MaritalStatDivorcedFemale","P21NativeBornPop","P21NatPopBornInState","P21NatPopBornOtherState","P021005","P021006","P021007","P021008","P21NatPopBornOutUS","P21ForeignBornPop","P021014","P021015","P24Pop5YrsPlus","P24ResSameHouseIn95","P24ResDiffHouseIn95","P24ResDiffHouseInUSIn95","P24ResDiffHouseSameCountyIn95","P24ResDiffHouseDiffCountyIn95","P24ResDiffHouseDiffCntySamStIn95","P24ResDiffHouseDiffCntyDifStIn95","P24ResDiffHouseDiffCntyNEStIn95","P24ResDiffHouseDiffCntyMWStIn95","P24ResDiffHouseDiffCntySoStIn95","P24ResDiffHouseDiffCntyWstStIn95","P24ResDiffInPR","P24ResDiffElsewhereIn95","P26Workers16yrsOver","P26WorkedInState","P26WorkedInCnty","P26WorkedOutsideCnty","P26WorkedOutsideState","P30Workers16Over","P30TranspToWrkCar","P30TranspToWrkPublic","P30TranspToWrkOther","P30WrkdAtHome","P31WrkrsNotWrkAtHom","P31TravTim<5min","P31TravTim5to9Min","P31TravTim10to14Min","P31TravTim15to19Min","P31TravTim20to24Min","P31TravTim25to29Min","P31TravTim30to34Min","P31TravTim35to39Min","P31TravTim40to44Min","P31TravTim45to59Min","P31TravTim60to89Min","P31TravTim90MinMore","P31WorkAtHome","P36SchEnrlPop3yrOver","P36NurserSchEnrl","P36KinderSchEnrl","P36ElemSchEnrl","P36HighSchEnrl","P36CollGradSchEnrl","P37Pop25yrsOver","P37EduAtain<9grd","P37EduAtainHSnoDip","P37EduAtainHSgrad","P37EduAtainCollNoDeg","P37EduAtainAssocDeg","P37EduAtainBachDeg","P37EduAtainGradProfDeg","P42NIPop5to15","P42NIPop5to15wDisabl","P42NIPop16to20","P42NIPop16to20wDisab","P42NIPop16to20wDisEmp","P42NIPop16to21NoDis","P42NIPop16to21NoDisEmpl","P42NIPop21to64","P42NIPop21to64wDis","P42NIPop21to64wDisEmp","P42NIPop21to64NoDis","P42NIPop21to64NoDisEmp","P42NIPop65to74","P42NIPop65to74wDis","P42NIPop75Over","P42NIPop75OverwDis","P43Pop16YrsOver","P43Pop16OvrInLaborForce","P43Pop16OvrCivlLabFrc","P43Pop16OvrCivlLbrFrcEmp","P48Families","P48MarriedFam","P48MarrFamNoWorkers","P48MarrFam1Worker","P48MarrFam2Worker","P48MarrFamHusbspouseWorked","P48MarrFamOther","P48MarrFam3PlusWorker","P48MarrFam3WorkHsbWif","P48MarrFam3PlsWrkOther","P48OtherFam","P48MaleHHNoWif","P48MaleHHNoWifNoWorker","P48MaleHHNoWif1Worker","P48MaleHHNoWif2Worker","P48MaleHHNoWif3PlusWorker","P48FemaleHHNoHsb","P48FemaleHHNoHsbNoWorker","P48FemaleHHNoHsb1Worker","P48FemaleHHNoHsb2Worker","P48FemaleHHNoHsb3Worker","P49EmpCivPop16YrOver","P49IndustAgricult","P49IndustConst","P49IndustMnftg","P49IndustWhlslTrd","P49IndustRtlTrd","P49IndustTrspWrhsUtlt","P49IndustInfrm","P49IndustFinInsRE","P49IndustPrfsScntfMngmt","P49IndustEduHlthSocSrv","P49IndustArtsEntRec","P49IndustOthrSrvc","P49IndustPubAdm","P50OccupMngmtProfs","P50OccupService","P50OccupSalesOff","P50OccupFarmFishForest","P50OccupConstExtrctMaint","P50OccupPrdctTrnspMatMv"]
[{"$f":"VLOOKUP(DropDownList!$A$19,CntyQuery!$A$20:$CE$30,A$1)","v":"Grafton County"},{"$f":"VLOOKUP(DropDownList!$A$19,CntyQryCensus!$A$55:$FR$65,B$1)","v":"0001145"},{"$f":"VLOOKUP(DropDownList!$A$19,CntyQryCensus!$A$55:$FR$65,C$1)","v":"009"},{"$f":"VLOOKUP(DropDownList!$A$19,CntyQryCensus!$A$55:$FR$65,D$1)","v":81743},{"$f":"VLOOKUP(DropDownList!$A$19,CntyQryCensus!$A$55:$FR$65,E$1)","v":20541},{"$f":"VLOOKUP(DropDownList!$A$19,CntyQryCensus!$A$55:$FR$65,F$1)","v":81743},{"$f":"VLOOKUP(DropDownList!$A$19,CntyQryCensus!$A$55:$FR$65,G$1)","v":28746},{"$f":"VLOOKUP(DropDownList!$A$19,CntyQryCensus!$A$55:$FR$65,H$1)","v":52997},{"$f":"VLOOKUP(DropDownList!$A$19,CntyQryCensus!$A$55:$FR$65,I$1)","v":78213},{"$f":"VLOOKUP(DropDownList!$A$19,CntyQryCensus!$A$55:$FR$65,J$1)","v":470},{"$f":"VLOOKUP(DropDownList!$A$19,CntyQryCensus!$A$55:$FR$65,K$1)","v":306},{"$f":"VLOOKUP(DropDownList!$A$19,CntyQryCensus!$A$55:$FR$65,L$1)","v":1251},{"$f":"VLOOKUP(DropDownList!$A$19,CntyQryCensus!$A$55:$FR$65,M$1)","v":12},{"$f":"VLOOKUP(DropDownList!$A$19,CntyQryCensus!$A$55:$FR$65,N$1)","v":294},{"$f":"VLOOKUP(DropDownList!$A$19,CntyQryCensus!$A$55:$FR$65,O$1)","v":1197},{"$f":"VLOOKUP(DropDownList!$A$19,CntyQryCensus!$A$55:$FR$65,P$1)","v":80789},{"$f":"VLOOKUP(DropDownList!$A$19,CntyQryCensus!$A$55:$FR$65,Q$1)","v":954},{"$f":"VLOOKUP(DropDownList!$A$19,CntyQryCensus!$A$55:$FR$65,R$1)","v":40105},{"$f":"VLOOKUP(DropDownList!$A$19,CntyQryCensus!$A$55:$FR$65,S$1)","v":41638},{"$f":"VLOOKUP(DropDownList!$A$19,CntyQryCensus!$A$55:$FR$65,T$1)","v":75316},{"$f":"VLOOKUP(DropDownList!$A$19,CntyQryCensus!$A$55:$FR$65,U$1)","v":60719},{"$f":"VLOOKUP(DropDownList!$A$19,CntyQryCensus!$A$55:$FR$65,V$1)","v":14597},{"$f":"VLOOKUP(DropDownList!$A$19,CntyQryCensus!$A$55:$FR$65,W$1)","v":6427},{"$f":"VLOOKUP(DropDownList!$A$19,CntyQryCensus!$A$55:$FR$65,X$1)","v":31608},{"$f":"VLOOKUP(DropDownList!$A$19,CntyQryCensus!$A$55:$FR$65,Y$1)","v":20415},{"$f":"VLOOKUP(DropDownList!$A$19,CntyQryCensus!$A$55:$FR$65,Z$1)","v":431},{"$f":"VLOOKUP(DropDownList!$A$19,CntyQryCensus!$A$55:$FR$65,AA$1)","v":3145},{"$f":"VLOOKUP(DropDownList!$A$19,CntyQryCensus!$A$55:$FR$65,AB$1)","v":5143},{"$f":"VLOOKUP(DropDownList!$A$19,CntyQryCensus!$A$55:$FR$65,AC$1)","v":5099},{"$f":"VLOOKUP(DropDownList!$A$19,CntyQryCensus!$A$55:$FR$65,AD$1)","v":2958},{"$f":"VLOOKUP(DropDownList!$A$19,CntyQryCensus!$A$55:$FR$65,AE$1)","v":2240},{"$f":"VLOOKUP(DropDownList!$A$19,CntyQryCensus!$A$55:$FR$65,AF$1)","v":1188},{"$f":"VLOOKUP(DropDownList!$A$19,CntyQryCensus!$A$55:$FR$65,AG$1)","v":211},{"$f":"VLOOKUP(DropDownList!$A$19,CntyQryCensus!$A$55:$FR$65,AH$1)","v":11193},{"$f":"VLOOKUP(DropDownList!$A$19,CntyQryCensus!$A$55:$FR$65,AI$1)","v":1116},{"$f":"VLOOKUP(DropDownList!$A$19,CntyQryCensus!$A$55:$FR$65,AJ$1)","v":1752},{"$f":"VLOOKUP(DropDownList!$A$19,CntyQryCensus!$A$55:$FR$65,AK$1)","v":1578},{"$f":"VLOOKUP(DropDownList!$A$19,CntyQryCensus!$A$55:$FR$65,AL$1)","v":1946},{"$f":"VLOOKUP(DropDownList!$A$19,CntyQryCensus!$A$55:$FR$65,AM$1)","v":1596},{"$f":"VLOOKUP(DropDownList!$A$19,CntyQryCensus!$A$55:$FR$65,AN$1)","v":1375},{"$f":"VLOOKUP(DropDownList!$A$19,CntyQryCensus!$A$55:$FR$65,AO$1)","v":1250},{"$f":"VLOOKUP(DropDownList!$A$19,CntyQryCensus!$A$55:$FR$65,AP$1)","v":580},{"$f":"VLOOKUP(DropDownList!$A$19,CntyQryCensus!$A$55:$FR$65,AQ$1)","v":67226},{"$f":"VLOOKUP(DropDownList!$A$19,CntyQryCensus!$A$55:$FR$65,AR$1)","v":19685},{"$f":"VLOOKUP(DropDownList!$A$19,CntyQryCensus!$A$55:$FR$65,AS$1)","v":35685},{"$f":"VLOOKUP(DropDownList!$A$19,CntyQryCensus!$A$55:$FR$65,AT$1)","v":675},{"$f":"VLOOKUP(DropDownList!$A$19,CntyQryCensus!$A$55:$FR$65,AU$1)","v":4119},{"$f":"VLOOKUP(DropDownList!$A$19,CntyQryCensus!$A$55:$FR$65,AV$1)","v":3397},{"$f":"VLOOKUP(DropDownList!$A$19,CntyQryCensus!$A$55:$FR$65,AW$1)","v":7062},{"$f":"VLOOKUP(DropDownList!$A$19,CntyQryCensus!$A$55:$FR$65,AX$1)","v":3838},{"$f":"VLOOKUP(DropDownList!$A$19,CntyQryCensus!$A$55:$FR$65,AY$1)","v":78552},{"$f":"VLOOKUP(DropDownList!$A$19,CntyQryCensus!$A$55:$FR$65,AZ$1)","v":36964},{"$f":"VLOOKUP(DropDownList!$A$19,CntyQryCensus!$A$55:$FR$65,BA$1)","v":40884},{"$f":"VLOOKUP(DropDownList!$A$19,CntyQryCensus!$A$55:$FR$65,BB$1)","v":31013},{"$f":"VLOOKUP(DropDownList!$A$19,CntyQryCensus!$A$55:$FR$65,BC$1)","v":3650},{"$f":"VLOOKUP(DropDownList!$A$19,CntyQryCensus!$A$55:$FR$65,BD$1)","v":3563},{"$f":"VLOOKUP(DropDownList!$A$19,CntyQryCensus!$A$55:$FR$65,BE$1)","v":2658},{"$f":"VLOOKUP(DropDownList!$A$19,CntyQryCensus!$A$55:$FR$65,BF$1)","v":704},{"$f":"VLOOKUP(DropDownList!$A$19,CntyQryCensus!$A$55:$FR$65,BG$1)","v":3191},{"$f":"VLOOKUP(DropDownList!$A$19,CntyQryCensus!$A$55:$FR$65,BH$1)","v":1527},{"$f":"VLOOKUP(DropDownList!$A$19,CntyQryCensus!$A$55:$FR$65,BI$1)","v":1664},{"$f":"VLOOKUP(DropDownList!$A$19,CntyQryCensus!$A$55:$FR$65,BJ$1)","v":77524},{"$f":"VLOOKUP(DropDownList!$A$19,CntyQryCensus!$A$55:$FR$65,BK$1)","v":42233},{"$f":"VLOOKUP(DropDownList!$A$19,CntyQryCensus!$A$55:$FR$65,BL$1)","v":35291},{"$f":"VLOOKUP(DropDownList!$A$19,CntyQryCensus!$A$55:$FR$65,BM$1)","v":34231},{"$f":"VLOOKUP(DropDownList!$A$19,CntyQryCensus!$A$55:$FR$65,BN$1)","v":15297},{"$f":"VLOOKUP(DropDownList!$A$19,CntyQryCensus!$A$55:$FR$65,BO$1)","v":18934},{"$f":"VLOOKUP(DropDownList!$A$19,CntyQryCensus!$A$55:$FR$65,BP$1)","v":4855},{"$f":"VLOOKUP(DropDownList!$A$19,CntyQryCensus!$A$55:$FR$65,BQ$1)","v":14079},{"$f":"VLOOKUP(DropDownList!$A$19,CntyQryCensus!$A$55:$FR$65,BR$1)","v":8926},{"$f":"VLOOKUP(DropDownList!$A$19,CntyQryCensus!$A$55:$FR$65,BS$1)","v":1405},{"$f":"VLOOKUP(DropDownList!$A$19,CntyQryCensus!$A$55:$FR$65,BT$1)","v":2024},{"$f":"VLOOKUP(DropDownList!$A$19,CntyQryCensus!$A$55:$FR$65,BU$1)","v":1724},{"$f":"VLOOKUP(DropDownList!$A$19,CntyQryCensus!$A$55:$FR$65,BV$1)","v":10},{"$f":"VLOOKUP(DropDownList!$A$19,CntyQryCensus!$A$55:$FR$65,BW$1)","v":1050},{"$f":"VLOOKUP(DropDownList!$A$19,CntyQryCensus!$A$55:$FR$65,BX$1)","v":41333},{"$f":"VLOOKUP(DropDownList!$A$19,CntyQryCensus!$A$55:$FR$65,BY$1)","v":38337},{"$f":"VLOOKUP(DropDownList!$A$19,CntyQryCensus!$A$55:$FR$65,BZ$1)","v":33872},{"$f":"VLOOKUP(DropDownList!$A$19,CntyQryCensus!$A$55:$FR$65,CA$1)","v":4465},{"$f":"VLOOKUP(DropDownList!$A$19,CntyQryCensus!$A$55:$FR$65,CB$1)","v":2996},{"$f":"VLOOKUP(DropDownList!$A$19,CntyQryCensus!$A$55:$FR$65,CC$1)","v":41333},{"$f":"VLOOKUP(DropDownList!$A$19,CntyQryCensus!$A$55:$FR$65,CD$1)","v":35125},{"$f":"VLOOKUP(DropDownList!$A$19,CntyQryCensus!$A$55:$FR$65,CE$1)","v":287},{"$f":"VLOOKUP(DropDownList!$A$19,CntyQryCensus!$A$55:$FR$65,CF$1)","v":263},{"$f":"VLOOKUP(DropDownList!$A$19,CntyQryCensus!$A$55:$FR$65,CG$1)","v":2200},{"$f":"VLOOKUP(DropDownList!$A$19,CntyQryCensus!$A$55:$FR$65,CH$1)","v":39133},{"$f":"VLOOKUP(DropDownList!$A$19,CntyQryCensus!$A$55:$FR$65,CI$1)","v":2815},{"$f":"VLOOKUP(DropDownList!$A$19,CntyQryCensus!$A$55:$FR$65,CJ$1)","v":6566},{"$f":"VLOOKUP(DropDownList!$A$19,CntyQryCensus!$A$55:$FR$65,CK$1)","v":6937},{"$f":"VLOOKUP(DropDownList!$A$19,CntyQryCensus!$A$55:$FR$65,CL$1)","v":6386},{"$f":"VLOOKUP(DropDownList!$A$19,CntyQryCensus!$A$55:$FR$65,CM$1)","v":4711},{"$f":"VLOOKUP(DropDownList!$A$19,CntyQryCensus!$A$55:$FR$65,CN$1)","v":1960},{"$f":"VLOOKUP(DropDownList!$A$19,CntyQryCensus!$A$55:$FR$65,CO$1)","v":4020},{"$f":"VLOOKUP(DropDownList!$A$19,CntyQryCensus!$A$55:$FR$65,CP$1)","v":663},{"$f":"VLOOKUP(DropDownList!$A$19,CntyQryCensus!$A$55:$FR$65,CQ$1)","v":986},{"$f":"VLOOKUP(DropDownList!$A$19,CntyQryCensus!$A$55:$FR$65,CR$1)","v":1877},{"$f":"VLOOKUP(DropDownList!$A$19,CntyQryCensus!$A$55:$FR$65,CS$1)","v":1234},{"$f":"VLOOKUP(DropDownList!$A$19,CntyQryCensus!$A$55:$FR$65,CT$1)","v":978},{"$f":"VLOOKUP(DropDownList!$A$19,CntyQryCensus!$A$55:$FR$65,CU$1)","v":2200},{"$f":"VLOOKUP(DropDownList!$A$19,CntyQryCensus!$A$55:$FR$65,CV$1)","v":79314},{"$f":"VLOOKUP(DropDownList!$A$19,CntyQryCensus!$A$55:$FR$65,CW$1)","v":1043},{"$f":"VLOOKUP(DropDownList!$A$19,CntyQryCensus!$A$55:$FR$65,CX$1)","v":883},{"$f":"VLOOKUP(DropDownList!$A$19,CntyQryCensus!$A$55:$FR$65,CY$1)","v":8565},{"$f":"VLOOKUP(DropDownList!$A$19,CntyQryCensus!$A$55:$FR$65,CZ$1)","v":4476},{"$f":"VLOOKUP(DropDownList!$A$19,CntyQryCensus!$A$55:$FR$65,DA$1)","v":9172},{"$f":"VLOOKUP(DropDownList!$A$19,CntyQryCensus!$A$55:$FR$65,DB$1)","v":52795},{"$f":"VLOOKUP(DropDownList!$A$19,CntyQryCensus!$A$55:$FR$65,DC$1)","v":1951},{"$f":"VLOOKUP(DropDownList!$A$19,CntyQryCensus!$A$55:$FR$65,DD$1)","v":4556},{"$f":"VLOOKUP(DropDownList!$A$19,CntyQryCensus!$A$55:$FR$65,DE$1)","v":16355},{"$f":"VLOOKUP(DropDownList!$A$19,CntyQryCensus!$A$55:$FR$65,DF$1)","v":8932},{"$f":"VLOOKUP(DropDownList!$A$19,CntyQryCensus!$A$55:$FR$65,DG$1)","v":3754},{"$f":"VLOOKUP(DropDownList!$A$19,CntyQryCensus!$A$55:$FR$65,DH$1)","v":9736},{"$f":"VLOOKUP(DropDownList!$A$19,CntyQryCensus!$A$55:$FR$65,DI$1)","v":7511},{"$f":"VLOOKUP(DropDownList!$A$19,CntyQryCensus!$A$55:$FR$65,DJ$1)","v":11286},{"$f":"VLOOKUP(DropDownList!$A$19,CntyQryCensus!$A$55:$FR$65,DK$1)","v":825},{"$f":"VLOOKUP(DropDownList!$A$19,CntyQryCensus!$A$55:$FR$65,DL$1)","v":8361},{"$f":"VLOOKUP(DropDownList!$A$19,CntyQryCensus!$A$55:$FR$65,DM$1)","v":717},{"$f":"VLOOKUP(DropDownList!$A$19,CntyQryCensus!$A$55:$FR$65,DN$1)","v":360},{"$f":"VLOOKUP(DropDownList!$A$19,CntyQryCensus!$A$55:$FR$65,DO$1)","v":7644},{"$f":"VLOOKUP(DropDownList!$A$19,CntyQryCensus!$A$55:$FR$65,DP$1)","v":3519},{"$f":"VLOOKUP(DropDownList!$A$19,CntyQryCensus!$A$55:$FR$65,DQ$1)","v":46659},{"$f":"VLOOKUP(DropDownList!$A$19,CntyQryCensus!$A$55:$FR$65,DR$1)","v":6917},{"$f":"VLOOKUP(DropDownList!$A$19,CntyQryCensus!$A$55:$FR$65,DS$1)","v":4511},{"$f":"VLOOKUP(DropDownList!$A$19,CntyQryCensus!$A$55:$FR$65,DT$1)","v":39742},{"$f":"VLOOKUP(DropDownList!$A$19,CntyQryCensus!$A$55:$FR$65,DU$1)","v":32312},{"$f":"VLOOKUP(DropDownList!$A$19,CntyQryCensus!$A$55:$FR$65,DV$1)","v":5617},{"$f":"VLOOKUP(DropDownList!$A$19,CntyQryCensus!$A$55:$FR$65,DW$1)","v":1543},{"$f":"VLOOKUP(DropDownList!$A$19,CntyQryCensus!$A$55:$FR$65,DX$1)","v":4570},{"$f":"VLOOKUP(DropDownList!$A$19,CntyQryCensus!$A$55:$FR$65,DY$1)","v":2333},{"$f":"VLOOKUP(DropDownList!$A$19,CntyQryCensus!$A$55:$FR$65,DZ$1)","v":66228},{"$f":"VLOOKUP(DropDownList!$A$19,CntyQryCensus!$A$55:$FR$65,EA$1)","v":44513},{"$f":"VLOOKUP(DropDownList!$A$19,CntyQryCensus!$A$55:$FR$65,EB$1)","v":44478},{"$f":"VLOOKUP(DropDownList!$A$19,CntyQryCensus!$A$55:$FR$65,EC$1)","v":42329},{"$f":"VLOOKUP(DropDownList!$A$19,CntyQryCensus!$A$55:$FR$65,ED$1)","v":20415},{"$f":"VLOOKUP(DropDownList!$A$19,CntyQryCensus!$A$55:$FR$65,EE$1)","v":16759},{"$f":"VLOOKUP(DropDownList!$A$19,CntyQryCensus!$A$55:$FR$65,EF$1)","v":1855},{"$f":"VLOOKUP(DropDownList!$A$19,CntyQryCensus!$A$55:$FR$65,EG$1)","v":3143},{"$f":"VLOOKUP(DropDownList!$A$19,CntyQryCensus!$A$55:$FR$65,EH$1)","v":9456},{"$f":"VLOOKUP(DropDownList!$A$19,CntyQryCensus!$A$55:$FR$65,EI$1)","v":9085},{"$f":"VLOOKUP(DropDownList!$A$19,CntyQryCensus!$A$55:$FR$65,EJ$1)","v":371},{"$f":"VLOOKUP(DropDownList!$A$19,CntyQryCensus!$A$55:$FR$65,EK$1)","v":2305},{"$f":"VLOOKUP(DropDownList!$A$19,CntyQryCensus!$A$55:$FR$65,EL$1)","v":2220},{"$f":"VLOOKUP(DropDownList!$A$19,CntyQryCensus!$A$55:$FR$65,EM$1)","v":85},{"$f":"VLOOKUP(DropDownList!$A$19,CntyQryCensus!$A$55:$FR$65,EN$1)","v":3656},{"$f":"VLOOKUP(DropDownList!$A$19,CntyQryCensus!$A$55:$FR$65,EO$1)","v":1021},{"$f":"VLOOKUP(DropDownList!$A$19,CntyQryCensus!$A$55:$FR$65,EP$1)","v":71},{"$f":"VLOOKUP(DropDownList!$A$19,CntyQryCensus!$A$55:$FR$65,EQ$1)","v":640},{"$f":"VLOOKUP(DropDownList!$A$19,CntyQryCensus!$A$55:$FR$65,ER$1)","v":259},{"$f":"VLOOKUP(DropDownList!$A$19,CntyQryCensus!$A$55:$FR$65,ES$1)","v":51},{"$f":"VLOOKUP(DropDownList!$A$19,CntyQryCensus!$A$55:$FR$65,ET$1)","v":2635},{"$f":"VLOOKUP(DropDownList!$A$19,CntyQryCensus!$A$55:$FR$65,EU$1)","v":303},{"$f":"VLOOKUP(DropDownList!$A$19,CntyQryCensus!$A$55:$FR$65,EV$1)","v":1466},{"$f":"VLOOKUP(DropDownList!$A$19,CntyQryCensus!$A$55:$FR$65,EW$1)","v":736},{"$f":"VLOOKUP(DropDownList!$A$19,CntyQryCensus!$A$55:$FR$65,EX$1)","v":130},{"$f":"VLOOKUP(DropDownList!$A$19,CntyQryCensus!$A$55:$FR$65,EY$1)","v":42329},{"$f":"VLOOKUP(DropDownList!$A$19,CntyQryCensus!$A$55:$FR$65,EZ$1)","v":761},{"$f":"VLOOKUP(DropDownList!$A$19,CntyQryCensus!$A$55:$FR$65,FA$1)","v":2857},{"$f":"VLOOKUP(DropDownList!$A$19,CntyQryCensus!$A$55:$FR$65,FB$1)","v":5376},{"$f":"VLOOKUP(DropDownList!$A$19,CntyQryCensus!$A$55:$FR$65,FC$1)","v":883},{"$f":"VLOOKUP(DropDownList!$A$19,CntyQryCensus!$A$55:$FR$65,FD$1)","v":5418},{"$f":"VLOOKUP(DropDownList!$A$19,CntyQryCensus!$A$55:$FR$65,FE$1)","v":1520},{"$f":"VLOOKUP(DropDownList!$A$19,CntyQryCensus!$A$55:$FR$65,FF$1)","v":1035},{"$f":"VLOOKUP(DropDownList!$A$19,CntyQryCensus!$A$55:$FR$65,FG$1)","v":1725},{"$f":"VLOOKUP(DropDownList!$A$19,CntyQryCensus!$A$55:$FR$65,FH$1)","v":2620},{"$f":"VLOOKUP(DropDownList!$A$19,CntyQryCensus!$A$55:$FR$65,FI$1)","v":12828},{"$f":"VLOOKUP(DropDownList!$A$19,CntyQryCensus!$A$55:$FR$65,FJ$1)","v":4401},{"$f":"VLOOKUP(DropDownList!$A$19,CntyQryCensus!$A$55:$FR$65,FK$1)","v":1676},{"$f":"VLOOKUP(DropDownList!$A$19,CntyQryCensus!$A$55:$FR$65,FL$1)","v":1229},{"$f":"VLOOKUP(DropDownList!$A$19,CntyQryCensus!$A$55:$FR$65,FM$1)","v":15473},{"$f":"VLOOKUP(DropDownList!$A$19,CntyQryCensus!$A$55:$FR$65,FN$1)","v":6789},{"$f":"VLOOKUP(DropDownList!$A$19,CntyQryCensus!$A$55:$FR$65,FO$1)","v":9991},{"$f":"VLOOKUP(DropDownList!$A$19,CntyQryCensus!$A$55:$FR$65,FP$1)","v":435},{"$f":"VLOOKUP(DropDownList!$A$19,CntyQryCensus!$A$55:$FR$65,FQ$1)","v":3959},{"$f":"VLOOKUP(DropDownList!$A$19,CntyQryCensus!$A$55:$FR$65,FR$1)","v":5682}]
[]
[]
["Census 2000 SummaryFile3 Sample Data  -  SF3CountyQry2aIncomeChar"]
["NAME","LOGRECNO","COUNTY","TotalPop","P52Households1","P52HHInc<10K","P52HHInc10to15K","P52HHInc15to20K","P52HHInc20to25K","P52HHInc25to30K","P52HHInc30to35K","P52HHInc35to40K","P52HHInc40to45K","P52HHInc45to50K","P52HHInc50to60K","P52HHInc60to75K","P52HHInc75to100K","P52HHInc100to125K","P52HHInc125to150K","P52HHInc150to200K","P52HHInc>200K","P53MedianHHInc","P54AggregHHInc","P55Households2","P55HHUnder25yrs","P55HH<25HHInc<10K","P55HH<25HHInc10to15K","P55HH<25HHInc15to20K","P55HH<25HHInc20to25K","P55HH<25HHInc25to30K","P55HH<25HHInc30to35K","P55HH<25HHInc35to40K","P55HH<25HHInc40to45K","P55HH<25HHInc45to50K","P55HH<25HHInc50to60K","P55HH<25HHInc60to75K","P55HH<25HHInc75to100K","P55HH<25HHInc100to125K","P55HH<25HHInc125to150K","P55HH<25HHInc150to200K","P55HH<25HHInc>200K","P55HH25to34yrs","P55HH25to34HHInc<10K","P55HH25to34HHInc10to15K","P55HH25to34HHInc15to20K","P55HH25to34HHInc20to25K","P55HH25to34HHInc25to30K","P55HH25to34HHInc30to35K","P55HH25to34HHInc35to40K","P55HH25to34HHInc40to45K","P55HH25to34HHInc45to50K","P55HH25to34HHInc50to60K","P55HH25to34HHInc60to75K","P55HH25to34HHInc75to100K","P55HH25to34HHInc100to125K","P55HH25to34HHInc125to150K","P55HH25to34HHInc150to200K","P55HH25to34HHInc>200K","P55HH35to44yrs","P55HH35to44HHInc<10K","P55HH35to44HHInc10to15K","P55HH35to44HHInc15to20K","P55HH35to44HHInc20to25K","P55HH35to44HHInc25to30K","P55HH35to44HHInc30to35K","P55HH35to44HHInc35to40K","P55HH35to44HHInc40to45K","P55HH35to44HHInc45to50K","P55HH35to44HHInc50to60K","P55HH35to44HHInc60to75K","P55HH35to44HHInc75to100K","P55HH35to44HHInc100to125K","P55HH35to44HHInc125to150K","P55HH35to44HHInc150to200K","P55HH35to44HHInc>200K","P55HH45to54yrs","P55HH45to55HHInc<10K","P55HH45to55HHInc10to15K","P55HH45to55HHInc15to20K","P55HH45to55HHInc20to25K","P55HH45to55HHInc25to30K","P55HH45to55HHInc30to35K","P55HH45to55HHInc35to40K","P55HH45to55HHInc40to45K","P55HH45to55HHInc45to50K","P55HH45to55HHInc50to60K","P55HH45to55HHInc60to75K","P55HH45to55HHInc75to100K","P55HH45to55HHInc100to125K","P55HH45to55HHInc125to150K","P55HH45to55HHInc150to200K","P55HH45to55HHInc>200K","P55HH55to64yrs","P55HH55to64HHInc<10K","P55HH55to64HHInc10to15K","P55HH55to64HHInc15to20K","P55HH55to64HHInc20to25K","P55HH55to64HHInc25to30K","P55HH55to64HHInc30to35K","P55HH55to64HHInc35to40K","P55HH55to64HHInc40to45K","P55HH55to64HHInc45to50K","P55HH55to64HHInc50to60K","P55HH55to64HHInc60to75K","P55HH55to64HHInc75to100K","P55HH55to64HHInc100to125K","P55HH55to64HHInc125to150K","P55HH55to64HHInc150to200K","P55HH55to64HHInc>200K","P55HH65to74yrs","P55HH65to74HHInc<10K","P55HH65to74HHInc10to15K","P55HH65to74HHInc15to20K","P55HH65to74HHInc20to25K","P55HH65to74HHInc25to30K","P55HH65to74HHInc30to35K","P55HH65to74HHInc35to40K","P55HH65to74HHInc40to45K","P55HH65to74HHInc45to50K","P55HH65to74HHInc50to60K","P55HH65to74HHInc60to75K","P55HH65to74HHInc75to100K","P55HH65to74HHInc100to125K","P55HH65to74HHInc125to150K","P55HH65to74HHInc150to200K","P55HH65to74HHInc>200K","P55HH>75yrs","P55HH>75HHInc<10K","P55HH>75HHInc10to15K","P55HH>75HHInc15to20K","P55HH>75HHInc20to25K","P55HH>75HHInc25to30K","P55HH>75HHInc30to35K","P55HH>75HHInc35to40K","P55HH>75HHInc40to45K","P55HH>75HHInc45to50K","P55HH>75HHInc50to60K","P55HH>75HHInc60to75K","P55HH>75HHInc75to100K","P55HH>75HHInc100to125K","P55HH>75HHInc125to150K","P55HH>75HHInc150to200K","P55HH>75HHInc>200K","P56MedHHInc","P56MedHHIncHH<25y","P56MedHHIncHH25to34y","P56MedHHIncHH35to44y","P56MedHHIncHH45to54y","P56MedHHIncHH55to64y","P56MedHHIncHH65to74y","P56MedHHIncHH>75y","P58Households3","P58HHwithEarnings","P58HHNoEarnings","P59HHwWageSalInc","P59HHNoWageSalInc","P60HHwSelfEmpInc","P60HHNoSelfEmpInc","P61HHwIndDivInc","P61HHNoIndDivInc","P62HHwSocSecInc","P62HHNoSocSecInc","P63HHwSSI","P63HHNoSSI","P64HHwPubAssInc","P64HHNoPubAssInc","P65HHwRetInc","P65HHNoRetInc","P66HHwOtherTypInc","P66HHNoOtherTypInc","P67AggregEarnings","P68AggregWageSalInc","P69AggregSelfEmpInc","P70AggregIntDivInc","P71AggregSocSecInc","P72AggregSSIInc","P73AggregPublicAssInc","P74AggregRetireInc","P76Families1","P76FamInc<10K","P76FamInc10to15K","P76FamInc15to20K","P76FamInc20to25K","P76FamInc25to30K","P76FamInc30to35K","P76FamInc35to40K","P76FamInc40to45K","P76FamInc45to50K","P76FamInc50to60K","P76FamInc60to75K","P76FamInc75to100K","P76FamInc100to125K","P76FamInc125to150K","P76FamInc150to200K","P76FamInc>200K","P77MedFamInc","P78AggregFamInc","P79NonFamHH","P79NonFamHHwInc<10K","P79NonFamHHwInc10to15K","P79NonFamHHwInc15to20K","P79NonFamHHwInc20to25K","P79NonFamHHwInc25to30K","P79NonFamHHwInc30to35K","P79NonFamHHwInc35to40K","P79NonFamHHwInc40to45K","P79NonFamHHwInc45to50K","P79NonFamHHwInc50to60K","P79NonFamHHwInc60to75K","P79NonFamHHwInc75to100K","P79NonFamHHwInc100to125K","P79NonFamHHwInc125to150K","P79NonFamHHwInc150to200K","P79NonFamHHwInc200KorMore","P80MedNonFamInc","P82PerCapitaInc"]
[{"$f":"VLOOKUP(DropDownList!$A$19,CntyQuery!$A$20:$CE$30,A$1)","v":"Grafton County"},{"$f":"VLOOKUP(DropDownList!$A$19,CntyQryCensus!$A$71:$IK$81,B$1)","v":"0001145"},{"$f":"VLOOKUP(DropDownList!$A$19,CntyQryCensus!$A$71:$IK$81,C$1)","v":"009"},{"$f":"VLOOKUP(DropDownList!$A$19,CntyQryCensus!$A$71:$IK$81,D$1)","v":81743},{"$f":"VLOOKUP(DropDownList!$A$19,CntyQryCensus!$A$71:$IK$81,E$1)","v":31608},{"$f":"VLOOKUP(DropDownList!$A$19,CntyQryCensus!$A$71:$IK$81,F$1)","v":2486},{"$f":"VLOOKUP(DropDownList!$A$19,CntyQryCensus!$A$71:$IK$81,G$1)","v":1738},{"$f":"VLOOKUP(DropDownList!$A$19,CntyQryCensus!$A$71:$IK$81,H$1)","v":2196},{"$f":"VLOOKUP(DropDownList!$A$19,CntyQryCensus!$A$71:$IK$81,I$1)","v":2082},{"$f":"VLOOKUP(DropDownList!$A$19,CntyQryCensus!$A$71:$IK$81,J$1)","v":2155},{"$f":"VLOOKUP(DropDownList!$A$19,CntyQryCensus!$A$71:$IK$81,K$1)","v":2091},{"$f":"VLOOKUP(DropDownList!$A$19,CntyQryCensus!$A$71:$IK$81,L$1)","v":2087},{"$f":"VLOOKUP(DropDownList!$A$19,CntyQryCensus!$A$71:$IK$81,M$1)","v":2160},{"$f":"VLOOKUP(DropDownList!$A$19,CntyQryCensus!$A$71:$IK$81,N$1)","v":1876},{"$f":"VLOOKUP(DropDownList!$A$19,CntyQryCensus!$A$71:$IK$81,O$1)","v":3387},{"$f":"VLOOKUP(DropDownList!$A$19,CntyQryCensus!$A$71:$IK$81,P$1)","v":3200},{"$f":"VLOOKUP(DropDownList!$A$19,CntyQryCensus!$A$71:$IK$81,Q$1)","v":2947},{"$f":"VLOOKUP(DropDownList!$A$19,CntyQryCensus!$A$71:$IK$81,R$1)","v":1264},{"$f":"VLOOKUP(DropDownList!$A$19,CntyQryCensus!$A$71:$IK$81,S$1)","v":641},{"$f":"VLOOKUP(DropDownList!$A$19,CntyQryCensus!$A$71:$IK$81,T$1)","v":708},{"$f":"VLOOKUP(DropDownList!$A$19,CntyQryCensus!$A$71:$IK$81,U$1)","v":590},{"$f":"VLOOKUP(DropDownList!$A$19,CntyQryCensus!$A$71:$IK$81,V$1)","v":41962},{"$f":"VLOOKUP(DropDownList!$A$19,CntyQryCensus!$A$71:$IK$81,W$1)","v":1725250600},{"$f":"VLOOKUP(DropDownList!$A$19,CntyQryCensus!$A$71:$IK$81,X$1)","v":31608},{"$f":"VLOOKUP(DropDownList!$A$19,CntyQryCensus!$A$71:$IK$81,Y$1)","v":1547},{"$f":"VLOOKUP(DropDownList!$A$19,CntyQryCensus!$A$71:$IK$81,Z$1)","v":379},{"$f":"VLOOKUP(DropDownList!$A$19,CntyQryCensus!$A$71:$IK$81,AA$1)","v":152},{"$f":"VLOOKUP(DropDownList!$A$19,CntyQryCensus!$A$71:$IK$81,AB$1)","v":139},{"$f":"VLOOKUP(DropDownList!$A$19,CntyQryCensus!$A$71:$IK$81,AC$1)","v":211},{"$f":"VLOOKUP(DropDownList!$A$19,CntyQryCensus!$A$71:$IK$81,AD$1)","v":178},{"$f":"VLOOKUP(DropDownList!$A$19,CntyQryCensus!$A$71:$IK$81,AE$1)","v":72},{"$f":"VLOOKUP(DropDownList!$A$19,CntyQryCensus!$A$71:$IK$81,AF$1)","v":115},{"$f":"VLOOKUP(DropDownList!$A$19,CntyQryCensus!$A$71:$IK$81,AG$1)","v":92},{"$f":"VLOOKUP(DropDownList!$A$19,CntyQryCensus!$A$71:$IK$81,AH$1)","v":55},{"$f":"VLOOKUP(DropDownList!$A$19,CntyQryCensus!$A$71:$IK$81,AI$1)","v":80},{"$f":"VLOOKUP(DropDownList!$A$19,CntyQryCensus!$A$71:$IK$81,AJ$1)","v":48},{"$f":"VLOOKUP(DropDownList!$A$19,CntyQryCensus!$A$71:$IK$81,AK$1)","v":18},{"$f":"VLOOKUP(DropDownList!$A$19,CntyQryCensus!$A$71:$IK$81,AL$1)","v":3},{"$f":"VLOOKUP(DropDownList!$A$19,CntyQryCensus!$A$71:$IK$81,AM$1)","v":0},{"$f":"VLOOKUP(DropDownList!$A$19,CntyQryCensus!$A$71:$IK$81,AN$1)","v":0},{"$f":"VLOOKUP(DropDownList!$A$19,CntyQryCensus!$A$71:$IK$81,AO$1)","v":5},{"$f":"VLOOKUP(DropDownList!$A$19,CntyQryCensus!$A$71:$IK$81,AP$1)","v":4897},{"$f":"VLOOKUP(DropDownList!$A$19,CntyQryCensus!$A$71:$IK$81,AQ$1)","v":272},{"$f":"VLOOKUP(DropDownList!$A$19,CntyQryCensus!$A$71:$IK$81,AR$1)","v":133},{"$f":"VLOOKUP(DropDownList!$A$19,CntyQryCensus!$A$71:$IK$81,AS$1)","v":352},{"$f":"VLOOKUP(DropDownList!$A$19,CntyQryCensus!$A$71:$IK$81,AT$1)","v":406},{"$f":"VLOOKUP(DropDownList!$A$19,CntyQryCensus!$A$71:$IK$81,AU$1)","v":415},{"$f":"VLOOKUP(DropDownList!$A$19,CntyQryCensus!$A$71:$IK$81,AV$1)","v":437},{"$f":"VLOOKUP(DropDownList!$A$19,CntyQryCensus!$A$71:$IK$81,AW$1)","v":411},{"$f":"VLOOKUP(DropDownList!$A$19,CntyQryCensus!$A$71:$IK$81,AX$1)","v":455},{"$f":"VLOOKUP(DropDownList!$A$19,CntyQryCensus!$A$71:$IK$81,AY$1)","v":442},{"$f":"VLOOKUP(DropDownList!$A$19,CntyQryCensus!$A$71:$IK$81,AZ$1)","v":671},{"$f":"VLOOKUP(DropDownList!$A$19,CntyQryCensus!$A$71:$IK$81,BA$1)","v":432},{"$f":"VLOOKUP(DropDownList!$A$19,CntyQryCensus!$A$71:$IK$81,BB$1)","v":338},{"$f":"VLOOKUP(DropDownList!$A$19,CntyQryCensus!$A$71:$IK$81,BC$1)","v":94},{"$f":"VLOOKUP(DropDownList!$A$19,CntyQryCensus!$A$71:$IK$81,BD$1)","v":14},{"$f":"VLOOKUP(DropDownList!$A$19,CntyQryCensus!$A$71:$IK$81,BE$1)","v":14},{"$f":"VLOOKUP(DropDownList!$A$19,CntyQryCensus!$A$71:$IK$81,BF$1)","v":11},{"$f":"VLOOKUP(DropDownList!$A$19,CntyQryCensus!$A$71:$IK$81,BG$1)","v":6721},{"$f":"VLOOKUP(DropDownList!$A$19,CntyQryCensus!$A$71:$IK$81,BH$1)","v":253},{"$f":"VLOOKUP(DropDownList!$A$19,CntyQryCensus!$A$71:$IK$81,BI$1)","v":223},{"$f":"VLOOKUP(DropDownList!$A$19,CntyQryCensus!$A$71:$IK$81,BJ$1)","v":347},{"$f":"VLOOKUP(DropDownList!$A$19,CntyQryCensus!$A$71:$IK$81,BK$1)","v":323},{"$f":"VLOOKUP(DropDownList!$A$19,CntyQryCensus!$A$71:$IK$81,BL$1)","v":441},{"$f":"VLOOKUP(DropDownList!$A$19,CntyQryCensus!$A$71:$IK$81,BM$1)","v":490},{"$f":"VLOOKUP(DropDownList!$A$19,CntyQryCensus!$A$71:$IK$81,BN$1)","v":454},{"$f":"VLOOKUP(DropDownList!$A$19,CntyQryCensus!$A$71:$IK$81,BO$1)","v":650},{"$f":"VLOOKUP(DropDownList!$A$19,CntyQryCensus!$A$71:$IK$81,BP$1)","v":447},{"$f":"VLOOKUP(DropDownList!$A$19,CntyQryCensus!$A$71:$IK$81,BQ$1)","v":783},{"$f":"VLOOKUP(DropDownList!$A$19,CntyQryCensus!$A$71:$IK$81,BR$1)","v":855},{"$f":"VLOOKUP(DropDownList!$A$19,CntyQryCensus!$A$71:$IK$81,BS$1)","v":738},{"$f":"VLOOKUP(DropDownList!$A$19,CntyQryCensus!$A$71:$IK$81,BT$1)","v":291},{"$f":"VLOOKUP(DropDownList!$A$19,CntyQryCensus!$A$71:$IK$81,BU$1)","v":140},{"$f":"VLOOKUP(DropDownList!$A$19,CntyQryCensus!$A$71:$IK$81,BV$1)","v":143},{"$f":"VLOOKUP(DropDownList!$A$19,CntyQryCensus!$A$71:$IK$81,BW$1)","v":143},{"$f":"VLOOKUP(DropDownList!$A$19,CntyQryCensus!$A$71:$IK$81,BX$1)","v":7045},{"$f":"VLOOKUP(DropDownList!$A$19,CntyQryCensus!$A$71:$IK$81,BY$1)","v":267},{"$f":"VLOOKUP(DropDownList!$A$19,CntyQryCensus!$A$71:$IK$81,BZ$1)","v":223},{"$f":"VLOOKUP(DropDownList!$A$19,CntyQryCensus!$A$71:$IK$81,CA$1)","v":263},{"$f":"VLOOKUP(DropDownList!$A$19,CntyQryCensus!$A$71:$IK$81,CB$1)","v":377},{"$f":"VLOOKUP(DropDownList!$A$19,CntyQryCensus!$A$71:$IK$81,CC$1)","v":404},{"$f":"VLOOKUP(DropDownList!$A$19,CntyQryCensus!$A$71:$IK$81,CD$1)","v":435},{"$f":"VLOOKUP(DropDownList!$A$19,CntyQryCensus!$A$71:$IK$81,CE$1)","v":364},{"$f":"VLOOKUP(DropDownList!$A$19,CntyQryCensus!$A$71:$IK$81,CF$1)","v":441},{"$f":"VLOOKUP(DropDownList!$A$19,CntyQryCensus!$A$71:$IK$81,CG$1)","v":419},{"$f":"VLOOKUP(DropDownList!$A$19,CntyQryCensus!$A$71:$IK$81,CH$1)","v":801},{"$f":"VLOOKUP(DropDownList!$A$19,CntyQryCensus!$A$71:$IK$81,CI$1)","v":974},{"$f":"VLOOKUP(DropDownList!$A$19,CntyQryCensus!$A$71:$IK$81,CJ$1)","v":952},{"$f":"VLOOKUP(DropDownList!$A$19,CntyQryCensus!$A$71:$IK$81,CK$1)","v":437},{"$f":"VLOOKUP(DropDownList!$A$19,CntyQryCensus!$A$71:$IK$81,CL$1)","v":243},{"$f":"VLOOKUP(DropDownList!$A$19,CntyQryCensus!$A$71:$IK$81,CM$1)","v":262},{"$f":"VLOOKUP(DropDownList!$A$19,CntyQryCensus!$A$71:$IK$81,CN$1)","v":183},{"$f":"VLOOKUP(DropDownList!$A$19,CntyQryCensus!$A$71:$IK$81,CO$1)","v":4554},{"$f":"VLOOKUP(DropDownList!$A$19,CntyQryCensus!$A$71:$IK$81,CP$1)","v":311},{"$f":"VLOOKUP(DropDownList!$A$19,CntyQryCensus!$A$71:$IK$81,CQ$1)","v":192},{"$f":"VLOOKUP(DropDownList!$A$19,CntyQryCensus!$A$71:$IK$81,CR$1)","v":238},{"$f":"VLOOKUP(DropDownList!$A$19,CntyQryCensus!$A$71:$IK$81,CS$1)","v":250},{"$f":"VLOOKUP(DropDownList!$A$19,CntyQryCensus!$A$71:$IK$81,CT$1)","v":300},{"$f":"VLOOKUP(DropDownList!$A$19,CntyQryCensus!$A$71:$IK$81,CU$1)","v":308},{"$f":"VLOOKUP(DropDownList!$A$19,CntyQryCensus!$A$71:$IK$81,CV$1)","v":379},{"$f":"VLOOKUP(DropDownList!$A$19,CntyQryCensus!$A$71:$IK$81,CW$1)","v":212},{"$f":"VLOOKUP(DropDownList!$A$19,CntyQryCensus!$A$71:$IK$81,CX$1)","v":254},{"$f":"VLOOKUP(DropDownList!$A$19,CntyQryCensus!$A$71:$IK$81,CY$1)","v":468},{"$f":"VLOOKUP(DropDownList!$A$19,CntyQryCensus!$A$71:$IK$81,CZ$1)","v":497},{"$f":"VLOOKUP(DropDownList!$A$19,CntyQryCensus!$A$71:$IK$81,DA$1)","v":491},{"$f":"VLOOKUP(DropDownList!$A$19,CntyQryCensus!$A$71:$IK$81,DB$1)","v":236},{"$f":"VLOOKUP(DropDownList!$A$19,CntyQryCensus!$A$71:$IK$81,DC$1)","v":114},{"$f":"VLOOKUP(DropDownList!$A$19,CntyQryCensus!$A$71:$IK$81,DD$1)","v":174},{"$f":"VLOOKUP(DropDownList!$A$19,CntyQryCensus!$A$71:$IK$81,DE$1)","v":130},{"$f":"VLOOKUP(DropDownList!$A$19,CntyQryCensus!$A$71:$IK$81,DF$1)","v":3615},{"$f":"VLOOKUP(DropDownList!$A$19,CntyQryCensus!$A$71:$IK$81,DG$1)","v":357},{"$f":"VLOOKUP(DropDownList!$A$19,CntyQryCensus!$A$71:$IK$81,DH$1)","v":321},{"$f":"VLOOKUP(DropDownList!$A$19,CntyQryCensus!$A$71:$IK$81,DI$1)","v":425},{"$f":"VLOOKUP(DropDownList!$A$19,CntyQryCensus!$A$71:$IK$81,DJ$1)","v":274},{"$f":"VLOOKUP(DropDownList!$A$19,CntyQryCensus!$A$71:$IK$81,DK$1)","v":221},{"$f":"VLOOKUP(DropDownList!$A$19,CntyQryCensus!$A$71:$IK$81,DL$1)","v":191},{"$f":"VLOOKUP(DropDownList!$A$19,CntyQryCensus!$A$71:$IK$81,DM$1)","v":227},{"$f":"VLOOKUP(DropDownList!$A$19,CntyQryCensus!$A$71:$IK$81,DN$1)","v":177},{"$f":"VLOOKUP(DropDownList!$A$19,CntyQryCensus!$A$71:$IK$81,DO$1)","v":193},{"$f":"VLOOKUP(DropDownList!$A$19,CntyQryCensus!$A$71:$IK$81,DP$1)","v":358},{"$f":"VLOOKUP(DropDownList!$A$19,CntyQryCensus!$A$71:$IK$81,DQ$1)","v":258},{"$f":"VLOOKUP(DropDownList!$A$19,CntyQryCensus!$A$71:$IK$81,DR$1)","v":251},{"$f":"VLOOKUP(DropDownList!$A$19,CntyQryCensus!$A$71:$IK$81,DS$1)","v":137},{"$f":"VLOOKUP(DropDownList!$A$19,CntyQryCensus!$A$71:$IK$81,DT$1)","v":64},{"$f":"VLOOKUP(DropDownList!$A$19,CntyQryCensus!$A$71:$IK$81,DU$1)","v":76},{"$f":"VLOOKUP(DropDownList!$A$19,CntyQryCensus!$A$71:$IK$81,DV$1)","v":85},{"$f":"VLOOKUP(DropDownList!$A$19,CntyQryCensus!$A$71:$IK$81,DW$1)","v":3229},{"$f":"VLOOKUP(DropDownList!$A$19,CntyQryCensus!$A$71:$IK$81,DX$1)","v":647},{"$f":"VLOOKUP(DropDownList!$A$19,CntyQryCensus!$A$71:$IK$81,DY$1)","v":494},{"$f":"VLOOKUP(DropDownList!$A$19,CntyQryCensus!$A$71:$IK$81,DZ$1)","v":432},{"$f":"VLOOKUP(DropDownList!$A$19,CntyQryCensus!$A$71:$IK$81,EA$1)","v":241},{"$f":"VLOOKUP(DropDownList!$A$19,CntyQryCensus!$A$71:$IK$81,EB$1)","v":196},{"$f":"VLOOKUP(DropDownList!$A$19,CntyQryCensus!$A$71:$IK$81,EC$1)","v":158},{"$f":"VLOOKUP(DropDownList!$A$19,CntyQryCensus!$A$71:$IK$81,ED$1)","v":137},{"$f":"VLOOKUP(DropDownList!$A$19,CntyQryCensus!$A$71:$IK$81,EE$1)","v":133},{"$f":"VLOOKUP(DropDownList!$A$19,CntyQryCensus!$A$71:$IK$81,EF$1)","v":66},{"$f":"VLOOKUP(DropDownList!$A$19,CntyQryCensus!$A$71:$IK$81,EG$1)","v":226},{"$f":"VLOOKUP(DropDownList!$A$19,CntyQryCensus!$A$71:$IK$81,EH$1)","v":136},{"$f":"VLOOKUP(DropDownList!$A$19,CntyQryCensus!$A$71:$IK$81,EI$1)","v":159},{"$f":"VLOOKUP(DropDownList!$A$19,CntyQryCensus!$A$71:$IK$81,EJ$1)","v":66},{"$f":"VLOOKUP(DropDownList!$A$19,CntyQryCensus!$A$71:$IK$81,EK$1)","v":66},{"$f":"VLOOKUP(DropDownList!$A$19,CntyQryCensus!$A$71:$IK$81,EL$1)","v":39},{"$f":"VLOOKUP(DropDownList!$A$19,CntyQryCensus!$A$71:$IK$81,EM$1)","v":33},{"$f":"VLOOKUP(DropDownList!$A$19,CntyQryCensus!$A$71:$IK$81,EN$1)","v":41962},{"$f":"VLOOKUP(DropDownList!$A$19,CntyQryCensus!$A$71:$IK$81,EO$1)","v":22779},{"$f":"VLOOKUP(DropDownList!$A$19,CntyQryCensus!$A$71:$IK$81,EP$1)","v":40188},{"$f":"VLOOKUP(DropDownList!$A$19,CntyQryCensus!$A$71:$IK$81,EQ$1)","v":47049},{"$f":"VLOOKUP(DropDownList!$A$19,CntyQryCensus!$A$71:$IK$81,ER$1)","v":53690},{"$f":"VLOOKUP(DropDownList!$A$19,CntyQryCensus!$A$71:$IK$81,ES$1)","v":46713},{"$f":"VLOOKUP(DropDownList!$A$19,CntyQryCensus!$A$71:$IK$81,ET$1)","v":35379},{"$f":"VLOOKUP(DropDownList!$A$19,CntyQryCensus!$A$71:$IK$81,EU$1)","v":20857},{"$f":"VLOOKUP(DropDownList!$A$19,CntyQryCensus!$A$71:$IK$81,EV$1)","v":31608},{"$f":"VLOOKUP(DropDownList!$A$19,CntyQryCensus!$A$71:$IK$81,EW$1)","v":26017},{"$f":"VLOOKUP(DropDownList!$A$19,CntyQryCensus!$A$71:$IK$81,EX$1)","v":5591},{"$f":"VLOOKUP(DropDownList!$A$19,CntyQryCensus!$A$71:$IK$81,EY$1)","v":24743},{"$f":"VLOOKUP(DropDownList!$A$19,CntyQryCensus!$A$71:$IK$81,EZ$1)","v":6865},{"$f":"VLOOKUP(DropDownList!$A$19,CntyQryCensus!$A$71:$IK$81,FA$1)","v":5402},{"$f":"VLOOKUP(DropDownList!$A$19,CntyQryCensus!$A$71:$IK$81,FB$1)","v":26206},{"$f":"VLOOKUP(DropDownList!$A$19,CntyQryCensus!$A$71:$IK$81,FC$1)","v":13369},{"$f":"VLOOKUP(DropDownList!$A$19,CntyQryCensus!$A$71:$IK$81,FD$1)","v":18239},{"$f":"VLOOKUP(DropDownList!$A$19,CntyQryCensus!$A$71:$IK$81,FE$1)","v":8565},{"$f":"VLOOKUP(DropDownList!$A$19,CntyQryCensus!$A$71:$IK$81,FF$1)","v":23043},{"$f":"VLOOKUP(DropDownList!$A$19,CntyQryCensus!$A$71:$IK$81,FG$1)","v":880},{"$f":"VLOOKUP(DropDownList!$A$19,CntyQryCensus!$A$71:$IK$81,FH$1)","v":30728},{"$f":"VLOOKUP(DropDownList!$A$19,CntyQryCensus!$A$71:$IK$81,FI$1)","v":923},{"$f":"VLOOKUP(DropDownList!$A$19,CntyQryCensus!$A$71:$IK$81,FJ$1)","v":30685},{"$f":"VLOOKUP(DropDownList!$A$19,CntyQryCensus!$A$71:$IK$81,FK$1)","v":5150},{"$f":"VLOOKUP(DropDownList!$A$19,CntyQryCensus!$A$71:$IK$81,FL$1)","v":26458},{"$f":"VLOOKUP(DropDownList!$A$19,CntyQryCensus!$A$71:$IK$81,FM$1)","v":4117},{"$f":"VLOOKUP(DropDownList!$A$19,CntyQryCensus!$A$71:$IK$81,FN$1)","v":27491},{"$f":"VLOOKUP(DropDownList!$A$19,CntyQryCensus!$A$71:$IK$81,FO$1)","v":1331352600},{"$f":"VLOOKUP(DropDownList!$A$19,CntyQryCensus!$A$71:$IK$81,FP$1)","v":1196952900},{"$f":"VLOOKUP(DropDownList!$A$19,CntyQryCensus!$A$71:$IK$81,FQ$1)","v":134399700},{"$f":"VLOOKUP(DropDownList!$A$19,CntyQryCensus!$A$71:$IK$81,FR$1)","v":146511100},{"$f":"VLOOKUP(DropDownList!$A$19,CntyQryCensus!$A$71:$IK$81,FS$1)","v":98975900},{"$f":"VLOOKUP(DropDownList!$A$19,CntyQryCensus!$A$71:$IK$81,FT$1)","v":6140600},{"$f":"VLOOKUP(DropDownList!$A$19,CntyQryCensus!$A$71:$IK$81,FU$1)","v":2188000},{"$f":"VLOOKUP(DropDownList!$A$19,CntyQryCensus!$A$71:$IK$81,FV$1)","v":108612300},{"$f":"VLOOKUP(DropDownList!$A$19,CntyQryCensus!$A$71:$IK$81,FW$1)","v":20415},{"$f":"VLOOKUP(DropDownList!$A$19,CntyQryCensus!$A$71:$IK$81,FX$1)","v":679},{"$f":"VLOOKUP(DropDownList!$A$19,CntyQryCensus!$A$71:$IK$81,FY$1)","v":627},{"$f":"VLOOKUP(DropDownList!$A$19,CntyQryCensus!$A$71:$IK$81,FZ$1)","v":943},{"$f":"VLOOKUP(DropDownList!$A$19,CntyQryCensus!$A$71:$IK$81,GA$1)","v":1093},{"$f":"VLOOKUP(DropDownList!$A$19,CntyQryCensus!$A$71:$IK$81,GB$1)","v":1226},{"$f":"VLOOKUP(DropDownList!$A$19,CntyQryCensus!$A$71:$IK$81,GC$1)","v":1291},{"$f":"VLOOKUP(DropDownList!$A$19,CntyQryCensus!$A$71:$IK$81,GD$1)","v":1325},{"$f":"VLOOKUP(DropDownList!$A$19,CntyQryCensus!$A$71:$IK$81,GE$1)","v":1500},{"$f":"VLOOKUP(DropDownList!$A$19,CntyQryCensus!$A$71:$IK$81,GF$1)","v":1390},{"$f":"VLOOKUP(DropDownList!$A$19,CntyQryCensus!$A$71:$IK$81,GG$1)","v":2637},{"$f":"VLOOKUP(DropDownList!$A$19,CntyQryCensus!$A$71:$IK$81,GH$1)","v":2554},{"$f":"VLOOKUP(DropDownList!$A$19,CntyQryCensus!$A$71:$IK$81,GI$1)","v":2524},{"$f":"VLOOKUP(DropDownList!$A$19,CntyQryCensus!$A$71:$IK$81,GJ$1)","v":1013},{"$f":"VLOOKUP(DropDownList!$A$19,CntyQryCensus!$A$71:$IK$81,GK$1)","v":521},{"$f":"VLOOKUP(DropDownList!$A$19,CntyQryCensus!$A$71:$IK$81,GL$1)","v":605},{"$f":"VLOOKUP(DropDownList!$A$19,CntyQryCensus!$A$71:$IK$81,GM$1)","v":487},{"$f":"VLOOKUP(DropDownList!$A$19,CntyQryCensus!$A$71:$IK$81,GN$1)","v":50424},{"$f":"VLOOKUP(DropDownList!$A$19,CntyQryCensus!$A$71:$IK$81,GO$1)","v":1294920900},{"$f":"VLOOKUP(DropDownList!$A$19,CntyQryCensus!$A$71:$IK$81,GP$1)","v":11193},{"$f":"VLOOKUP(DropDownList!$A$19,CntyQryCensus!$A$71:$IK$81,GQ$1)","v":1919},{"$f":"VLOOKUP(DropDownList!$A$19,CntyQryCensus!$A$71:$IK$81,GR$1)","v":1161},{"$f":"VLOOKUP(DropDownList!$A$19,CntyQryCensus!$A$71:$IK$81,GS$1)","v":1373},{"$f":"VLOOKUP(DropDownList!$A$19,CntyQryCensus!$A$71:$IK$81,GT$1)","v":1090},{"$f":"VLOOKUP(DropDownList!$A$19,CntyQryCensus!$A$71:$IK$81,GU$1)","v":957},{"$f":"VLOOKUP(DropDownList!$A$19,CntyQryCensus!$A$71:$IK$81,GV$1)","v":830},{"$f":"VLOOKUP(DropDownList!$A$19,CntyQryCensus!$A$71:$IK$81,GW$1)","v":756},{"$f":"VLOOKUP(DropDownList!$A$19,CntyQryCensus!$A$71:$IK$81,GX$1)","v":592},{"$f":"VLOOKUP(DropDownList!$A$19,CntyQryCensus!$A$71:$IK$81,GY$1)","v":429},{"$f":"VLOOKUP(DropDownList!$A$19,CntyQryCensus!$A$71:$IK$81,GZ$1)","v":639},{"$f":"VLOOKUP(DropDownList!$A$19,CntyQryCensus!$A$71:$IK$81,HA$1)","v":574},{"$f":"VLOOKUP(DropDownList!$A$19,CntyQryCensus!$A$71:$IK$81,HB$1)","v":394},{"$f":"VLOOKUP(DropDownList!$A$19,CntyQryCensus!$A$71:$IK$81,HC$1)","v":211},{"$f":"VLOOKUP(DropDownList!$A$19,CntyQryCensus!$A$71:$IK$81,HD$1)","v":95},{"$f":"VLOOKUP(DropDownList!$A$19,CntyQryCensus!$A$71:$IK$81,HE$1)","v":88},{"$f":"VLOOKUP(DropDownList!$A$19,CntyQryCensus!$A$71:$IK$81,HF$1)","v":85},{"$f":"VLOOKUP(DropDownList!$A$19,CntyQryCensus!$A$71:$IK$81,HG$1)","v":25251},{"$f":"VLOOKUP(DropDownList!$A$19,CntyQryCensus!$A$71:$IK$81,HH$1)","v":22227}]
[]
[]
["Census 2000 SummaryFile3 Sample Data  -  SF3CountyQry2bPovertyChar"]
["NAME","LOGRECNO","COUNTY","TotalPop","P52Households1","P82PerCapitaInc","P87PopForPovStatus","P87PopWIncBelowPovStatus","P87PopUnder5yrBelowPoverty","P87Pop5yrBelowPoverty","P87Pop5to11yrBelowPoverty","P87Pop12to17yrBelowPoverty","P87Pop18to64yrBelowPoverty","P87Pop65to74yrBelowPoverty","P87PopOver75yrBelowPoverty","P87PopWIncAbovePovStatus","P87PopUnder5yrAbovePoverty","P87Pop5yrAbovePoverty","P87Pop5to11yrAbovePoverty","P87Pop12to17yrAbovePoverty","P87Pop18to64yrAbovePoverty","P87Pop65to74yrAbovePoverty","P87PopOver75yrAbovePoverty","P90Families","P90FamWIncBelowPov","P90MarCupFamWIncBelowPov","P90MCFamWRltdChld<18WIncBelowPov","P90MCFamWRltdChld<5WIncBelowPov","P90MaleHhlrWIncBelowPov","P90MaleHhlrWRltdChld<18yrWIncBelowPov","P90MaleHhlrWRltdChld<5yrWIncBelowPov","P90FemaleHhlrWIncBelowPov","P90FemaleHhlrWRltdChld<18yWIncBelowPov","P90FemaleHhlrWRltdChld<5yWIncBelowPov","P90FamWIncAbovePov","P90MarCupFamWIncAbovePov","P90MCFamWRltdChld<18WIncAbovePov","P90MCFamWRltdChld<5WIncAbovePov","P90MaleHhlrWIncAbovePov","P90MaleHhlrWRltdChld<18yrWIncAbovePov","P90MaleHhlrWRltdChld<5yrWIncAbovePov","P90FemaleHhlrWIncAbovePov","P90FemaleHhlrWRltdChld<18yWIncAbovePov","P90FemaleHhlrWRltdChld<5yWIncAbovePov","P92Households","P92HHwIncBelowPov","P92FamHHwIncBelowPov","P92MCFamHHwIncBelowPov","P92MaleFamHHwIncBelowPov","P92FemaleFamHHwIncBelowPov","P92NonFamHHwIncBelowPov","P92NonFamMaleHHwIncBelowPov","P92NonFamFemaleHHwIncBelowPov","P92HHwIncAbovePov","P92FamHHwIncAbovePov","P92MCFamHHwIncAbovePov","P92MaleFamHHwIncAbovePov","P92FemaleFamHHwIncAbovePov","P92NonFamHHwIncAbovePov","P92NonFamMaleHHwIncAbovePov","P92NonFamFemaleHHwIncAbovePov"]
[{"$f":"VLOOKUP(DropDownList!$A$19,CntyQuery!$A$20:$CE$30,A$1)","v":"Grafton County"},{"$f":"VLOOKUP(DropDownList!$A$19,CntyQryCensus!$A$87:$FZ$97,B$1)","v":"0001145"},{"$f":"VLOOKUP(DropDownList!$A$19,CntyQryCensus!$A$87:$FZ$97,C$1)","v":"009"},{"$f":"VLOOKUP(DropDownList!$A$19,CntyQryCensus!$A$87:$FZ$97,D$1)","v":81743},{"$f":"VLOOKUP(DropDownList!$A$19,CntyQryCensus!$A$87:$FZ$97,E$1)","v":31608},{"$f":"VLOOKUP(DropDownList!$A$19,CntyQryCensus!$A$87:$FZ$97,F$1)","v":22227},{"$f":"VLOOKUP(DropDownList!$A$19,CntyQryCensus!$A$87:$FZ$97,G$1)","v":75374},{"$f":"VLOOKUP(DropDownList!$A$19,CntyQryCensus!$A$87:$FZ$97,H$1)","v":6462},{"$f":"VLOOKUP(DropDownList!$A$19,CntyQryCensus!$A$87:$FZ$97,I$1)","v":446},{"$f":"VLOOKUP(DropDownList!$A$19,CntyQryCensus!$A$87:$FZ$97,J$1)","v":81},{"$f":"VLOOKUP(DropDownList!$A$19,CntyQryCensus!$A$87:$FZ$97,K$1)","v":509},{"$f":"VLOOKUP(DropDownList!$A$19,CntyQryCensus!$A$87:$FZ$97,L$1)","v":640},{"$f":"VLOOKUP(DropDownList!$A$19,CntyQryCensus!$A$87:$FZ$97,M$1)","v":4027},{"$f":"VLOOKUP(DropDownList!$A$19,CntyQryCensus!$A$87:$FZ$97,N$1)","v":303},{"$f":"VLOOKUP(DropDownList!$A$19,CntyQryCensus!$A$87:$FZ$97,O$1)","v":456},{"$f":"VLOOKUP(DropDownList!$A$19,CntyQryCensus!$A$87:$FZ$97,P$1)","v":68912},{"$f":"VLOOKUP(DropDownList!$A$19,CntyQryCensus!$A$87:$FZ$97,Q$1)","v":3695},{"$f":"VLOOKUP(DropDownList!$A$19,CntyQryCensus!$A$87:$FZ$97,R$1)","v":689},{"$f":"VLOOKUP(DropDownList!$A$19,CntyQryCensus!$A$87:$FZ$97,S$1)","v":5580},{"$f":"VLOOKUP(DropDownList!$A$19,CntyQryCensus!$A$87:$FZ$97,T$1)","v":5900},{"$f":"VLOOKUP(DropDownList!$A$19,CntyQryCensus!$A$87:$FZ$97,U$1)","v":43620},{"$f":"VLOOKUP(DropDownList!$A$19,CntyQryCensus!$A$87:$FZ$97,V$1)","v":5314},{"$f":"VLOOKUP(DropDownList!$A$19,CntyQryCensus!$A$87:$FZ$97,W$1)","v":4114},{"$f":"VLOOKUP(DropDownList!$A$19,CntyQryCensus!$A$87:$FZ$97,X$1)","v":20415},{"$f":"VLOOKUP(DropDownList!$A$19,CntyQryCensus!$A$87:$FZ$97,Y$1)","v":1033},{"$f":"VLOOKUP(DropDownList!$A$19,CntyQryCensus!$A$87:$FZ$97,Z$1)","v":442},{"$f":"VLOOKUP(DropDownList!$A$19,CntyQryCensus!$A$87:$FZ$97,AA$1)","v":219},{"$f":"VLOOKUP(DropDownList!$A$19,CntyQryCensus!$A$87:$FZ$97,AB$1)","v":28},{"$f":"VLOOKUP(DropDownList!$A$19,CntyQryCensus!$A$87:$FZ$97,AC$1)","v":96},{"$f":"VLOOKUP(DropDownList!$A$19,CntyQryCensus!$A$87:$FZ$97,AD$1)","v":85},{"$f":"VLOOKUP(DropDownList!$A$19,CntyQryCensus!$A$87:$FZ$97,AE$1)","v":16},{"$f":"VLOOKUP(DropDownList!$A$19,CntyQryCensus!$A$87:$FZ$97,AF$1)","v":495},{"$f":"VLOOKUP(DropDownList!$A$19,CntyQryCensus!$A$87:$FZ$97,AG$1)","v":450},{"$f":"VLOOKUP(DropDownList!$A$19,CntyQryCensus!$A$87:$FZ$97,AH$1)","v":138},{"$f":"VLOOKUP(DropDownList!$A$19,CntyQryCensus!$A$87:$FZ$97,AI$1)","v":19382},{"$f":"VLOOKUP(DropDownList!$A$19,CntyQryCensus!$A$87:$FZ$97,AJ$1)","v":16317},{"$f":"VLOOKUP(DropDownList!$A$19,CntyQryCensus!$A$87:$FZ$97,AK$1)","v":7098},{"$f":"VLOOKUP(DropDownList!$A$19,CntyQryCensus!$A$87:$FZ$97,AL$1)","v":1267},{"$f":"VLOOKUP(DropDownList!$A$19,CntyQryCensus!$A$87:$FZ$97,AM$1)","v":925},{"$f":"VLOOKUP(DropDownList!$A$19,CntyQryCensus!$A$87:$FZ$97,AN$1)","v":641},{"$f":"VLOOKUP(DropDownList!$A$19,CntyQryCensus!$A$87:$FZ$97,AO$1)","v":128},{"$f":"VLOOKUP(DropDownList!$A$19,CntyQryCensus!$A$87:$FZ$97,AP$1)","v":2140},{"$f":"VLOOKUP(DropDownList!$A$19,CntyQryCensus!$A$87:$FZ$97,AQ$1)","v":1352},{"$f":"VLOOKUP(DropDownList!$A$19,CntyQryCensus!$A$87:$FZ$97,AR$1)","v":245},{"$f":"VLOOKUP(DropDownList!$A$19,CntyQryCensus!$A$87:$FZ$97,AS$1)","v":31608},{"$f":"VLOOKUP(DropDownList!$A$19,CntyQryCensus!$A$87:$FZ$97,AT$1)","v":2649},{"$f":"VLOOKUP(DropDownList!$A$19,CntyQryCensus!$A$87:$FZ$97,AU$1)","v":1033},{"$f":"VLOOKUP(DropDownList!$A$19,CntyQryCensus!$A$87:$FZ$97,AV$1)","v":442},{"$f":"VLOOKUP(DropDownList!$A$19,CntyQryCensus!$A$87:$FZ$97,AW$1)","v":96},{"$f":"VLOOKUP(DropDownList!$A$19,CntyQryCensus!$A$87:$FZ$97,AX$1)","v":495},{"$f":"VLOOKUP(DropDownList!$A$19,CntyQryCensus!$A$87:$FZ$97,AY$1)","v":1616},{"$f":"VLOOKUP(DropDownList!$A$19,CntyQryCensus!$A$87:$FZ$97,AZ$1)","v":625},{"$f":"VLOOKUP(DropDownList!$A$19,CntyQryCensus!$A$87:$FZ$97,BA$1)","v":991},{"$f":"VLOOKUP(DropDownList!$A$19,CntyQryCensus!$A$87:$FZ$97,BB$1)","v":28959},{"$f":"VLOOKUP(DropDownList!$A$19,CntyQryCensus!$A$87:$FZ$97,BC$1)","v":19382},{"$f":"VLOOKUP(DropDownList!$A$19,CntyQryCensus!$A$87:$FZ$97,BD$1)","v":16317},{"$f":"VLOOKUP(DropDownList!$A$19,CntyQryCensus!$A$87:$FZ$97,BE$1)","v":925},{"$f":"VLOOKUP(DropDownList!$A$19,CntyQryCensus!$A$87:$FZ$97,BF$1)","v":2140},{"$f":"VLOOKUP(DropDownList!$A$19,CntyQryCensus!$A$87:$FZ$97,BG$1)","v":9577},{"$f":"VLOOKUP(DropDownList!$A$19,CntyQryCensus!$A$87:$FZ$97,BH$1)","v":4737},{"$f":"VLOOKUP(DropDownList!$A$19,CntyQryCensus!$A$87:$FZ$97,BI$1)","v":4840}]
[null,null,null,null,null,null,null,null,null,null,null,null,null,null,null,null,null,null,{"$f":"SUM(R60:T60)","v":12169}]
[]
["Census 2000 SummaryFile3 Sample Data  -  SF3CountyQry7HousingA"]
["NAME","LOGRECNO","COUNTY","TotalPop","H1HousingUnitsTotal","H2SampleHU","H2SampleOccHU","H2SampleVacHU","H3HU100pctCount","H5HUTotal","H5HUUrban","H5HUUrbanInUrbanAreas","H5HUUrbanInUrbanClusters","H5HURural","H5HURuralFarm","H5HURuralNonFarm","H7HUOcc","H7HUOwnrOcc","H7HURentrOcc","H8HUVacant","H8HUVacantForRent","H8HUVacantForSale","H8HUVacRentedorSold","H8HUVacSeasonal","H8HUVacForMigrantWrkrs","H8HUOtherVacant","H14OccHUa","H14OwnerOccHU","H14OwnOccHuHh15to24","H14OwnOccHuHh25to34","H14OwnOccHuHh35to44","H14OwnOccHuHh45to54","H14OwnOccHuHh55to59","H14OwnOccHuHh60to64","H14OwnOccHuHh65to74","H14OwnOccHuHh75to84","H14OwnOccHuHh85Over","H14RenterOccHU1","H14RntrOccHuHh15to24","H14RntrOccHuHh25to34","H14RntrOccHuHh35to44","H14RntrOccHuHh45to54","H14RntrOccHuHh55to59","H14RntrOccHuHh60to64","H14RntrOccHuHh65to74","H14RntrOccHuHh75to84","H14RntrOccHuHh85Over","H15PopInOccHU","H15PopInOwnOccHU1","H15PopInRentOccHU1","H17OccupHUb","H17OwnOccHU2","H17OwnOccHU1PersonHH","H17OwnOccHU2PersonHH","H17OwnOccHU3PersonHH","H17OwnOccHU4PersonHH","H17OwnOccHU5PersonHH","H17OwnOccHU6PersonHH","H17OwnOccHU7PlusPersonHH","H17RentOccHU2","H17RntOccHU1PersonHH","H17RntOccHU2PersonHH","H17RntOccHU3PersonHH","H17RntOccHU4PersonHH","H17RntOccHU5PersonHH","H17RntOccHU6PersonHH","H17RntOccHU7PlusPersonHH","H18AvgHHSize","H18AvgHHSizeOwnOcc","H18AvgHHSizeRentOcc","H23TotHU","H23HU1Room","H23HU2Room","H23HU3Room","H23HU4Room","H23HU5Room","H23HU6Room","H23HU7Room","H23HU8Room","H23HU9orMoreRoom","H24MedianNumRooms","H25AggregNumRooms","H30TotalHU","H30Det1HU","H30Att1HU","H30Units2","H30Units3or4","H30Units5to9","H30Units10to19","H30Units20to49","H30Units50orMore","H30UnitsMobileHome","H30UnitsBoatRv","H32OccHUcTotal","H32OwnerOccHU3","H32OwnOccHU1Det","H32OwnOccHU1Att","H32OwnOccHU2Unit","H32OwnOccHU3to4Unit","H32OwnOccHU5to9Unit","H32OwnOccHU10to19Unit","H32OwnOccHU20to49Unit","H32OwnOccHU50plusUnit","H32OwnOccHUMobHom","H32OwnOccHUBoatRVOth","H32RentrOccHU3","H32RntrOccHU1Det","H32RntrOccHU1Att","H32RntrOccHU2Unit","H32RntrOccHU3to4Unit","H32RntrOccHU5to9Unit","H32RntrOccHU10to19Unit","H32RntrOccHU20to49Unit","H32RntrOccHU50PlusUnit","H32RntrOccHUMobHom","H32RntrOccHUBoatRVOth","H33TotPopInOccHU","H33PopInOwnOccHU2","H33PopInOOHU1Det","H33PopInOOHU1Att","H33PopInOOHU2unit","H33PopInOOHU3to4Unit","H33PopInOOHU5to9Unit","H33PopInOOHU10to19Unit","H33PopInOOHU20to49Unit","H33PopInOOHU50PlusUnit","H33PopInOOHUMobilHome","H33PopInOOHUOtherUnit","H33PopInRentOccHU2","H33PopInROHU1Det","H33PopInROHU1Att","H33PopInROHU2Unit","H33PopInROHU3to4Unit","H33PopInROHU5to9Unit","H33PopInROHU10to19Unit","H33PopInROHU20to49Unit","H33PopInROHU50PlusUnit","H33PopInROHUMobilHome","H33PopInROHUOtherUnit","H36OccHousingUnitsdTotal","H36OwnerOccHU4","H36OOHUBuilt99to0300","H36OOHUBuilt95to98","H36OOHUBuilt90to94","H36OOHUBuilt80to89","H36OOHUBuilt70to79","H36OOHUBuilt60to69","H36OOHUBuilt50to59","H36OOHUBuilt40to49","H36OOHUBuilt39Earlier","H36RentOccHU4","H36ROHUBuilt99to0300","H36ROHUBuilt95to98","H36ROHUBuilt90to94","H36ROHUBuilt80to89","H36ROHUBuilt70to79","H36ROHUBuilt60to69","H36ROHUBuilt50to59","H36ROHUBuilt40to49","H36ROHUBuilt39Earlier","H40OccupHousUnitse","H40HeatFuelUtilGas","H40HeatFuelBotGas","H40HeatFuelElect","H40HeatFuelOilKero","H40HeatFuelCoal","H40HeatFuelWood","H40HeatFuelSolar","H40HeatFuelOther","H40HeatFuelNone","H41TotalHU","H41HUNoBdrm","H41HU1Bdrm","H41HU2Bdrm","H41HU3Bdrm","H41HU4Bdrm","H41HU5MoreBdrm","H42OccuHousUnitf","H42OwnerOccHU5","H42OOHUNoBdrm","H42OOHU1Bdrm","H42OOHU2Bdrm","H42OOHU3Bdrm","H42OOHU4Bdrm","H42OOHU5PlusBdrm","H42RentOccHU5","H42ROHUNoBdrm","H42ROHU1Bdrm","H42ROHU2Bdrm","H42ROHU3Bdrm","H42ROHU4Bdrm","H42ROHU5PlusBdrm","H48OccupHousUnitsg","H48OwnerOccHU6","H48OOHUwCompltPlumFacil","H48OOHULackCompltPlumFacil","H48RentOccHU6","H48ROHUwCompltPlumFacil","H48ROHULackCompltPlumFacil","H51OccupHousUnitf","H51OwnerOccHU7","H51OOHUwCompleteKitFacil","H51OOHULackCompleteKitFacil","H51RenterOccHU7","H51ROHUwCompleteKitFacil","H51ROHULackCompleteKitFacil"]
[{"$f":"VLOOKUP(DropDownList!$A$19,CntyQuery!$A$20:$CE$30,A$1)","v":"Grafton County"},{"$f":"VLOOKUP(DropDownList!$A$19,CntyQryCensus!$A$103:$GX$113,B$1)","v":"0001145"},{"$f":"VLOOKUP(DropDownList!$A$19,CntyQryCensus!$A$103:$GX$113,C$1)","v":"009"},{"$f":"VLOOKUP(DropDownList!$A$19,CntyQryCensus!$A$103:$GX$113,D$1)","v":81743},{"$f":"VLOOKUP(DropDownList!$A$19,CntyQryCensus!$A$103:$GX$113,E$1)","v":43729},{"$f":"VLOOKUP(DropDownList!$A$19,CntyQryCensus!$A$103:$GX$113,F$1)","v":12874},{"$f":"VLOOKUP(DropDownList!$A$19,CntyQryCensus!$A$103:$GX$113,G$1)","v":8167},{"$f":"VLOOKUP(DropDownList!$A$19,CntyQryCensus!$A$103:$GX$113,H$1)","v":4707},{"$f":"VLOOKUP(DropDownList!$A$19,CntyQryCensus!$A$103:$GX$113,I$1)","v":43729},{"$f":"VLOOKUP(DropDownList!$A$19,CntyQryCensus!$A$103:$GX$113,J$1)","v":43729},{"$f":"VLOOKUP(DropDownList!$A$19,CntyQryCensus!$A$103:$GX$113,K$1)","v":10662},{"$f":"VLOOKUP(DropDownList!$A$19,CntyQryCensus!$A$103:$GX$113,L$1)","v":0},{"$f":"VLOOKUP(DropDownList!$A$19,CntyQryCensus!$A$103:$GX$113,M$1)","v":10662},{"$f":"VLOOKUP(DropDownList!$A$19,CntyQryCensus!$A$103:$GX$113,N$1)","v":33067},{"$f":"VLOOKUP(DropDownList!$A$19,CntyQryCensus!$A$103:$GX$113,O$1)","v":265},{"$f":"VLOOKUP(DropDownList!$A$19,CntyQryCensus!$A$103:$GX$113,P$1)","v":32802},{"$f":"VLOOKUP(DropDownList!$A$19,CntyQryCensus!$A$103:$GX$113,Q$1)","v":31598},{"$f":"VLOOKUP(DropDownList!$A$19,CntyQryCensus!$A$103:$GX$113,R$1)","v":21687},{"$f":"VLOOKUP(DropDownList!$A$19,CntyQryCensus!$A$103:$GX$113,S$1)","v":9911},{"$f":"VLOOKUP(DropDownList!$A$19,CntyQryCensus!$A$103:$GX$113,T$1)","v":12131},{"$f":"VLOOKUP(DropDownList!$A$19,CntyQryCensus!$A$103:$GX$113,U$1)","v":381},{"$f":"VLOOKUP(DropDownList!$A$19,CntyQryCensus!$A$103:$GX$113,V$1)","v":445},{"$f":"VLOOKUP(DropDownList!$A$19,CntyQryCensus!$A$103:$GX$113,W$1)","v":198},{"$f":"VLOOKUP(DropDownList!$A$19,CntyQryCensus!$A$103:$GX$113,X$1)","v":10583},{"$f":"VLOOKUP(DropDownList!$A$19,CntyQryCensus!$A$103:$GX$113,Y$1)","v":4},{"$f":"VLOOKUP(DropDownList!$A$19,CntyQryCensus!$A$103:$GX$113,Z$1)","v":520},{"$f":"VLOOKUP(DropDownList!$A$19,CntyQryCensus!$A$103:$GX$113,AA$1)","v":31598},{"$f":"VLOOKUP(DropDownList!$A$19,CntyQryCensus!$A$103:$GX$113,AB$1)","v":21687},{"$f":"VLOOKUP(DropDownList!$A$19,CntyQryCensus!$A$103:$GX$113,AC$1)","v":123},{"$f":"VLOOKUP(DropDownList!$A$19,CntyQryCensus!$A$103:$GX$113,AD$1)","v":1893},{"$f":"VLOOKUP(DropDownList!$A$19,CntyQryCensus!$A$103:$GX$113,AE$1)","v":4589},{"$f":"VLOOKUP(DropDownList!$A$19,CntyQryCensus!$A$103:$GX$113,AF$1)","v":5775},{"$f":"VLOOKUP(DropDownList!$A$19,CntyQryCensus!$A$103:$GX$113,AG$1)","v":2133},{"$f":"VLOOKUP(DropDownList!$A$19,CntyQryCensus!$A$103:$GX$113,AH$1)","v":1686},{"$f":"VLOOKUP(DropDownList!$A$19,CntyQryCensus!$A$103:$GX$113,AI$1)","v":3076},{"$f":"VLOOKUP(DropDownList!$A$19,CntyQryCensus!$A$103:$GX$113,AJ$1)","v":1898},{"$f":"VLOOKUP(DropDownList!$A$19,CntyQryCensus!$A$103:$GX$113,AK$1)","v":514},{"$f":"VLOOKUP(DropDownList!$A$19,CntyQryCensus!$A$103:$GX$113,AL$1)","v":9911},{"$f":"VLOOKUP(DropDownList!$A$19,CntyQryCensus!$A$103:$GX$113,AM$1)","v":1487},{"$f":"VLOOKUP(DropDownList!$A$19,CntyQryCensus!$A$103:$GX$113,AN$1)","v":2755},{"$f":"VLOOKUP(DropDownList!$A$19,CntyQryCensus!$A$103:$GX$113,AO$1)","v":2131},{"$f":"VLOOKUP(DropDownList!$A$19,CntyQryCensus!$A$103:$GX$113,AP$1)","v":1405},{"$f":"VLOOKUP(DropDownList!$A$19,CntyQryCensus!$A$103:$GX$113,AQ$1)","v":403},{"$f":"VLOOKUP(DropDownList!$A$19,CntyQryCensus!$A$103:$GX$113,AR$1)","v":312},{"$f":"VLOOKUP(DropDownList!$A$19,CntyQryCensus!$A$103:$GX$113,AS$1)","v":530},{"$f":"VLOOKUP(DropDownList!$A$19,CntyQryCensus!$A$103:$GX$113,AT$1)","v":611},{"$f":"VLOOKUP(DropDownList!$A$19,CntyQryCensus!$A$103:$GX$113,AU$1)","v":277},{"$f":"VLOOKUP(DropDownList!$A$19,CntyQryCensus!$A$103:$GX$113,AV$1)","v":75316},{"$f":"VLOOKUP(DropDownList!$A$19,CntyQryCensus!$A$103:$GX$113,AW$1)","v":54700},{"$f":"VLOOKUP(DropDownList!$A$19,CntyQryCensus!$A$103:$GX$113,AX$1)","v":20616},{"$f":"VLOOKUP(DropDownList!$A$19,CntyQryCensus!$A$103:$GX$113,AY$1)","v":31598},{"$f":"VLOOKUP(DropDownList!$A$19,CntyQryCensus!$A$103:$GX$113,AZ$1)","v":21687},{"$f":"VLOOKUP(DropDownList!$A$19,CntyQryCensus!$A$103:$GX$113,BA$1)","v":4587},{"$f":"VLOOKUP(DropDownList!$A$19,CntyQryCensus!$A$103:$GX$113,BB$1)","v":8752},{"$f":"VLOOKUP(DropDownList!$A$19,CntyQryCensus!$A$103:$GX$113,BC$1)","v":3390},{"$f":"VLOOKUP(DropDownList!$A$19,CntyQryCensus!$A$103:$GX$113,BD$1)","v":3224},{"$f":"VLOOKUP(DropDownList!$A$19,CntyQryCensus!$A$103:$GX$113,BE$1)","v":1263},{"$f":"VLOOKUP(DropDownList!$A$19,CntyQryCensus!$A$103:$GX$113,BF$1)","v":335},{"$f":"VLOOKUP(DropDownList!$A$19,CntyQryCensus!$A$103:$GX$113,BG$1)","v":136},{"$f":"VLOOKUP(DropDownList!$A$19,CntyQryCensus!$A$103:$GX$113,BH$1)","v":9911},{"$f":"VLOOKUP(DropDownList!$A$19,CntyQryCensus!$A$103:$GX$113,BI$1)","v":4084},{"$f":"VLOOKUP(DropDownList!$A$19,CntyQryCensus!$A$103:$GX$113,BJ$1)","v":2967},{"$f":"VLOOKUP(DropDownList!$A$19,CntyQryCensus!$A$103:$GX$113,BK$1)","v":1422},{"$f":"VLOOKUP(DropDownList!$A$19,CntyQryCensus!$A$103:$GX$113,BL$1)","v":991},{"$f":"VLOOKUP(DropDownList!$A$19,CntyQryCensus!$A$103:$GX$113,BM$1)","v":292},{"$f":"VLOOKUP(DropDownList!$A$19,CntyQryCensus!$A$103:$GX$113,BN$1)","v":82},{"$f":"VLOOKUP(DropDownList!$A$19,CntyQryCensus!$A$103:$GX$113,BO$1)","v":73},{"$f":"VLOOKUP(DropDownList!$A$19,CntyQryCensus!$A$103:$GX$113,BP$1)","v":2},{"$f":"VLOOKUP(DropDownList!$A$19,CntyQryCensus!$A$103:$GX$113,BQ$1)","v":3},{"$f":"VLOOKUP(DropDownList!$A$19,CntyQryCensus!$A$103:$GX$113,BR$1)","v":2},{"$f":"VLOOKUP(DropDownList!$A$19,CntyQryCensus!$A$103:$GX$113,BS$1)","v":43729},{"$f":"VLOOKUP(DropDownList!$A$19,CntyQryCensus!$A$103:$GX$113,BT$1)","v":582},{"$f":"VLOOKUP(DropDownList!$A$19,CntyQryCensus!$A$103:$GX$113,BU$1)","v":2103},{"$f":"VLOOKUP(DropDownList!$A$19,CntyQryCensus!$A$103:$GX$113,BV$1)","v":4290},{"$f":"VLOOKUP(DropDownList!$A$19,CntyQryCensus!$A$103:$GX$113,BW$1)","v":7818},{"$f":"VLOOKUP(DropDownList!$A$19,CntyQryCensus!$A$103:$GX$113,BX$1)","v":8872},{"$f":"VLOOKUP(DropDownList!$A$19,CntyQryCensus!$A$103:$GX$113,BY$1)","v":7556},{"$f":"VLOOKUP(DropDownList!$A$19,CntyQryCensus!$A$103:$GX$113,BZ$1)","v":5388},{"$f":"VLOOKUP(DropDownList!$A$19,CntyQryCensus!$A$103:$GX$113,CA$1)","v":3567},{"$f":"VLOOKUP(DropDownList!$A$19,CntyQryCensus!$A$103:$GX$113,CB$1)","v":3553},{"$f":"VLOOKUP(DropDownList!$A$19,CntyQryCensus!$A$103:$GX$113,CC$1)","v":5},{"$f":"VLOOKUP(DropDownList!$A$19,CntyQryCensus!$A$103:$GX$113,CD$1)","v":240408},{"$f":"VLOOKUP(DropDownList!$A$19,CntyQryCensus!$A$103:$GX$113,CE$1)","v":43729},{"$f":"VLOOKUP(DropDownList!$A$19,CntyQryCensus!$A$103:$GX$113,CF$1)","v":26879},{"$f":"VLOOKUP(DropDownList!$A$19,CntyQryCensus!$A$103:$GX$113,CG$1)","v":2429},{"$f":"VLOOKUP(DropDownList!$A$19,CntyQryCensus!$A$103:$GX$113,CH$1)","v":2152},{"$f":"VLOOKUP(DropDownList!$A$19,CntyQryCensus!$A$103:$GX$113,CI$1)","v":2707},{"$f":"VLOOKUP(DropDownList!$A$19,CntyQryCensus!$A$103:$GX$113,CJ$1)","v":2605},{"$f":"VLOOKUP(DropDownList!$A$19,CntyQryCensus!$A$103:$GX$113,CK$1)","v":1615},{"$f":"VLOOKUP(DropDownList!$A$19,CntyQryCensus!$A$103:$GX$113,CL$1)","v":795},{"$f":"VLOOKUP(DropDownList!$A$19,CntyQryCensus!$A$103:$GX$113,CM$1)","v":799},{"$f":"VLOOKUP(DropDownList!$A$19,CntyQryCensus!$A$103:$GX$113,CN$1)","v":3661},{"$f":"VLOOKUP(DropDownList!$A$19,CntyQryCensus!$A$103:$GX$113,CO$1)","v":87},{"$f":"VLOOKUP(DropDownList!$A$19,CntyQryCensus!$A$103:$GX$113,CP$1)","v":31598},{"$f":"VLOOKUP(DropDownList!$A$19,CntyQryCensus!$A$103:$GX$113,CQ$1)","v":21687},{"$f":"VLOOKUP(DropDownList!$A$19,CntyQryCensus!$A$103:$GX$113,CR$1)","v":17609},{"$f":"VLOOKUP(DropDownList!$A$19,CntyQryCensus!$A$103:$GX$113,CS$1)","v":508},{"$f":"VLOOKUP(DropDownList!$A$19,CntyQryCensus!$A$103:$GX$113,CT$1)","v":614},{"$f":"VLOOKUP(DropDownList!$A$19,CntyQryCensus!$A$103:$GX$113,CU$1)","v":246},{"$f":"VLOOKUP(DropDownList!$A$19,CntyQryCensus!$A$103:$GX$113,CV$1)","v":159},{"$f":"VLOOKUP(DropDownList!$A$19,CntyQryCensus!$A$103:$GX$113,CW$1)","v":133},{"$f":"VLOOKUP(DropDownList!$A$19,CntyQryCensus!$A$103:$GX$113,CX$1)","v":33},{"$f":"VLOOKUP(DropDownList!$A$19,CntyQryCensus!$A$103:$GX$113,CY$1)","v":24},{"$f":"VLOOKUP(DropDownList!$A$19,CntyQryCensus!$A$103:$GX$113,CZ$1)","v":2356},{"$f":"VLOOKUP(DropDownList!$A$19,CntyQryCensus!$A$103:$GX$113,DA$1)","v":5},{"$f":"VLOOKUP(DropDownList!$A$19,CntyQryCensus!$A$103:$GX$113,DB$1)","v":9911},{"$f":"VLOOKUP(DropDownList!$A$19,CntyQryCensus!$A$103:$GX$113,DC$1)","v":2634},{"$f":"VLOOKUP(DropDownList!$A$19,CntyQryCensus!$A$103:$GX$113,DD$1)","v":319},{"$f":"VLOOKUP(DropDownList!$A$19,CntyQryCensus!$A$103:$GX$113,DE$1)","v":1269},{"$f":"VLOOKUP(DropDownList!$A$19,CntyQryCensus!$A$103:$GX$113,DF$1)","v":1828},{"$f":"VLOOKUP(DropDownList!$A$19,CntyQryCensus!$A$103:$GX$113,DG$1)","v":1580},{"$f":"VLOOKUP(DropDownList!$A$19,CntyQryCensus!$A$103:$GX$113,DH$1)","v":923},{"$f":"VLOOKUP(DropDownList!$A$19,CntyQryCensus!$A$103:$GX$113,DI$1)","v":609},{"$f":"VLOOKUP(DropDownList!$A$19,CntyQryCensus!$A$103:$GX$113,DJ$1)","v":225},{"$f":"VLOOKUP(DropDownList!$A$19,CntyQryCensus!$A$103:$GX$113,DK$1)","v":517},{"$f":"VLOOKUP(DropDownList!$A$19,CntyQryCensus!$A$103:$GX$113,DL$1)","v":7},{"$f":"VLOOKUP(DropDownList!$A$19,CntyQryCensus!$A$103:$GX$113,DM$1)","v":75316},{"$f":"VLOOKUP(DropDownList!$A$19,CntyQryCensus!$A$103:$GX$113,DN$1)","v":54700},{"$f":"VLOOKUP(DropDownList!$A$19,CntyQryCensus!$A$103:$GX$113,DO$1)","v":45641},{"$f":"VLOOKUP(DropDownList!$A$19,CntyQryCensus!$A$103:$GX$113,DP$1)","v":1149},{"$f":"VLOOKUP(DropDownList!$A$19,CntyQryCensus!$A$103:$GX$113,DQ$1)","v":1435},{"$f":"VLOOKUP(DropDownList!$A$19,CntyQryCensus!$A$103:$GX$113,DR$1)","v":527},{"$f":"VLOOKUP(DropDownList!$A$19,CntyQryCensus!$A$103:$GX$113,DS$1)","v":255},{"$f":"VLOOKUP(DropDownList!$A$19,CntyQryCensus!$A$103:$GX$113,DT$1)","v":278},{"$f":"VLOOKUP(DropDownList!$A$19,CntyQryCensus!$A$103:$GX$113,DU$1)","v":33},{"$f":"VLOOKUP(DropDownList!$A$19,CntyQryCensus!$A$103:$GX$113,DV$1)","v":35},{"$f":"VLOOKUP(DropDownList!$A$19,CntyQryCensus!$A$103:$GX$113,DW$1)","v":5336},{"$f":"VLOOKUP(DropDownList!$A$19,CntyQryCensus!$A$103:$GX$113,DX$1)","v":11},{"$f":"VLOOKUP(DropDownList!$A$19,CntyQryCensus!$A$103:$GX$113,DY$1)","v":20616},{"$f":"VLOOKUP(DropDownList!$A$19,CntyQryCensus!$A$103:$GX$113,DZ$1)","v":6743},{"$f":"VLOOKUP(DropDownList!$A$19,CntyQryCensus!$A$103:$GX$113,EA$1)","v":673},{"$f":"VLOOKUP(DropDownList!$A$19,CntyQryCensus!$A$103:$GX$113,EB$1)","v":2788},{"$f":"VLOOKUP(DropDownList!$A$19,CntyQryCensus!$A$103:$GX$113,EC$1)","v":3408},{"$f":"VLOOKUP(DropDownList!$A$19,CntyQryCensus!$A$103:$GX$113,ED$1)","v":2895},{"$f":"VLOOKUP(DropDownList!$A$19,CntyQryCensus!$A$103:$GX$113,EE$1)","v":1524},{"$f":"VLOOKUP(DropDownList!$A$19,CntyQryCensus!$A$103:$GX$113,EF$1)","v":1060},{"$f":"VLOOKUP(DropDownList!$A$19,CntyQryCensus!$A$103:$GX$113,EG$1)","v":350},{"$f":"VLOOKUP(DropDownList!$A$19,CntyQryCensus!$A$103:$GX$113,EH$1)","v":1166},{"$f":"VLOOKUP(DropDownList!$A$19,CntyQryCensus!$A$103:$GX$113,EI$1)","v":9},{"$f":"VLOOKUP(DropDownList!$A$19,CntyQryCensus!$A$103:$GX$113,EJ$1)","v":31598},{"$f":"VLOOKUP(DropDownList!$A$19,CntyQryCensus!$A$103:$GX$113,EK$1)","v":21687},{"$f":"VLOOKUP(DropDownList!$A$19,CntyQryCensus!$A$103:$GX$113,EL$1)","v":313},{"$f":"VLOOKUP(DropDownList!$A$19,CntyQryCensus!$A$103:$GX$113,EM$1)","v":1227},{"$f":"VLOOKUP(DropDownList!$A$19,CntyQryCensus!$A$103:$GX$113,EN$1)","v":1542},{"$f":"VLOOKUP(DropDownList!$A$19,CntyQryCensus!$A$103:$GX$113,EO$1)","v":4421},{"$f":"VLOOKUP(DropDownList!$A$19,CntyQryCensus!$A$103:$GX$113,EP$1)","v":3858},{"$f":"VLOOKUP(DropDownList!$A$19,CntyQryCensus!$A$103:$GX$113,EQ$1)","v":1861},{"$f":"VLOOKUP(DropDownList!$A$19,CntyQryCensus!$A$103:$GX$113,ER$1)","v":1381},{"$f":"VLOOKUP(DropDownList!$A$19,CntyQryCensus!$A$103:$GX$113,ES$1)","v":984},{"$f":"VLOOKUP(DropDownList!$A$19,CntyQryCensus!$A$103:$GX$113,ET$1)","v":6100},{"$f":"VLOOKUP(DropDownList!$A$19,CntyQryCensus!$A$103:$GX$113,EU$1)","v":9911},{"$f":"VLOOKUP(DropDownList!$A$19,CntyQryCensus!$A$103:$GX$113,EV$1)","v":43},{"$f":"VLOOKUP(DropDownList!$A$19,CntyQryCensus!$A$103:$GX$113,EW$1)","v":214},{"$f":"VLOOKUP(DropDownList!$A$19,CntyQryCensus!$A$103:$GX$113,EX$1)","v":283},{"$f":"VLOOKUP(DropDownList!$A$19,CntyQryCensus!$A$103:$GX$113,EY$1)","v":1828},{"$f":"VLOOKUP(DropDownList!$A$19,CntyQryCensus!$A$103:$GX$113,EZ$1)","v":1443},{"$f":"VLOOKUP(DropDownList!$A$19,CntyQryCensus!$A$103:$GX$113,FA$1)","v":930},{"$f":"VLOOKUP(DropDownList!$A$19,CntyQryCensus!$A$103:$GX$113,FB$1)","v":803},{"$f":"VLOOKUP(DropDownList!$A$19,CntyQryCensus!$A$103:$GX$113,FC$1)","v":523},{"$f":"VLOOKUP(DropDownList!$A$19,CntyQryCensus!$A$103:$GX$113,FD$1)","v":3844},{"$f":"VLOOKUP(DropDownList!$A$19,CntyQryCensus!$A$103:$GX$113,FE$1)","v":31598},{"$f":"VLOOKUP(DropDownList!$A$19,CntyQryCensus!$A$103:$GX$113,FF$1)","v":487},{"$f":"VLOOKUP(DropDownList!$A$19,CntyQryCensus!$A$103:$GX$113,FG$1)","v":4580},{"$f":"VLOOKUP(DropDownList!$A$19,CntyQryCensus!$A$103:$GX$113,FH$1)","v":2608},{"$f":"VLOOKUP(DropDownList!$A$19,CntyQryCensus!$A$103:$GX$113,FI$1)","v":20768},{"$f":"VLOOKUP(DropDownList!$A$19,CntyQryCensus!$A$103:$GX$113,FJ$1)","v":42},{"$f":"VLOOKUP(DropDownList!$A$19,CntyQryCensus!$A$103:$GX$113,FK$1)","v":2950},{"$f":"VLOOKUP(DropDownList!$A$19,CntyQryCensus!$A$103:$GX$113,FL$1)","v":11},{"$f":"VLOOKUP(DropDownList!$A$19,CntyQryCensus!$A$103:$GX$113,FM$1)","v":115},{"$f":"VLOOKUP(DropDownList!$A$19,CntyQryCensus!$A$103:$GX$113,FN$1)","v":37},{"$f":"VLOOKUP(DropDownList!$A$19,CntyQryCensus!$A$103:$GX$113,FO$1)","v":43729},{"$f":"VLOOKUP(DropDownList!$A$19,CntyQryCensus!$A$103:$GX$113,FP$1)","v":759},{"$f":"VLOOKUP(DropDownList!$A$19,CntyQryCensus!$A$103:$GX$113,FQ$1)","v":5958},{"$f":"VLOOKUP(DropDownList!$A$19,CntyQryCensus!$A$103:$GX$113,FR$1)","v":13787},{"$f":"VLOOKUP(DropDownList!$A$19,CntyQryCensus!$A$103:$GX$113,FS$1)","v":15746},{"$f":"VLOOKUP(DropDownList!$A$19,CntyQryCensus!$A$103:$GX$113,FT$1)","v":5735},{"$f":"VLOOKUP(DropDownList!$A$19,CntyQryCensus!$A$103:$GX$113,FU$1)","v":1744},{"$f":"VLOOKUP(DropDownList!$A$19,CntyQryCensus!$A$103:$GX$113,FV$1)","v":31598},{"$f":"VLOOKUP(DropDownList!$A$19,CntyQryCensus!$A$103:$GX$113,FW$1)","v":21687},{"$f":"VLOOKUP(DropDownList!$A$19,CntyQryCensus!$A$103:$GX$113,FX$1)","v":75},{"$f":"VLOOKUP(DropDownList!$A$19,CntyQryCensus!$A$103:$GX$113,FY$1)","v":925},{"$f":"VLOOKUP(DropDownList!$A$19,CntyQryCensus!$A$103:$GX$113,FZ$1)","v":5582},{"$f":"VLOOKUP(DropDownList!$A$19,CntyQryCensus!$A$103:$GX$113,GA$1)","v":9925},{"$f":"VLOOKUP(DropDownList!$A$19,CntyQryCensus!$A$103:$GX$113,GB$1)","v":4070},{"$f":"VLOOKUP(DropDownList!$A$19,CntyQryCensus!$A$103:$GX$113,GC$1)","v":1110},{"$f":"VLOOKUP(DropDownList!$A$19,CntyQryCensus!$A$103:$GX$113,GD$1)","v":9911},{"$f":"VLOOKUP(DropDownList!$A$19,CntyQryCensus!$A$103:$GX$113,GE$1)","v":327},{"$f":"VLOOKUP(DropDownList!$A$19,CntyQryCensus!$A$103:$GX$113,GF$1)","v":3171},{"$f":"VLOOKUP(DropDownList!$A$19,CntyQryCensus!$A$103:$GX$113,GG$1)","v":3899},{"$f":"VLOOKUP(DropDownList!$A$19,CntyQryCensus!$A$103:$GX$113,GH$1)","v":1801},{"$f":"VLOOKUP(DropDownList!$A$19,CntyQryCensus!$A$103:$GX$113,GI$1)","v":546},{"$f":"VLOOKUP(DropDownList!$A$19,CntyQryCensus!$A$103:$GX$113,GJ$1)","v":167},{"$f":"VLOOKUP(DropDownList!$A$19,CntyQryCensus!$A$103:$GX$113,GK$1)","v":31598},{"$f":"VLOOKUP(DropDownList!$A$19,CntyQryCensus!$A$103:$GX$113,GL$1)","v":21687},{"$f":"VLOOKUP(DropDownList!$A$19,CntyQryCensus!$A$103:$GX$113,GM$1)","v":21517},{"$f":"VLOOKUP(DropDownList!$A$19,CntyQryCensus!$A$103:$GX$113,GN$1)","v":170},{"$f":"VLOOKUP(DropDownList!$A$19,CntyQryCensus!$A$103:$GX$113,GO$1)","v":9911},{"$f":"VLOOKUP(DropDownList!$A$19,CntyQryCensus!$A$103:$GX$113,GP$1)","v":9864},{"$f":"VLOOKUP(DropDownList!$A$19,CntyQryCensus!$A$103:$GX$113,GQ$1)","v":47},{"$f":"VLOOKUP(DropDownList!$A$19,CntyQryCensus!$A$103:$GX$113,GR$1)","v":31598},{"$f":"VLOOKUP(DropDownList!$A$19,CntyQryCensus!$A$103:$GX$113,GS$1)","v":21687},{"$f":"VLOOKUP(DropDownList!$A$19,CntyQryCensus!$A$103:$GX$113,GT$1)","v":21560},{"$f":"VLOOKUP(DropDownList!$A$19,CntyQryCensus!$A$103:$GX$113,GU$1)","v":127},{"$f":"VLOOKUP(DropDownList!$A$19,CntyQryCensus!$A$103:$GX$113,GV$1)","v":9911},{"$f":"VLOOKUP(DropDownList!$A$19,CntyQryCensus!$A$103:$GX$113,GW$1)","v":9859},{"$f":"VLOOKUP(DropDownList!$A$19,CntyQryCensus!$A$103:$GX$113,GX$1)","v":52}]
[]
[]
["Census 2000 SummaryFile3 Sample Data  -  SF3CountyQry8HousingCostA"]
["NAME","LOGRECNO","COUNTY","TotalPop","H62RntrOccHU","H62RntrOccHUwRent","H62ROHUGRent<100","H62ROHUGRent100to149","H62ROHUGRent150to199","H62ROHUGRent200to249","H62ROHUGRent250to299","H62ROHUGRent300to349","H62ROHUGRent350to399","H62ROHUGRent400to449","H62ROHUGRent450to499","H62ROHUGRent500to549","H62ROHUGRent550to599","H62ROHUGRent600to649","H62ROHUGRent650to699","H62ROHUGRent700to749","H62ROHUGRent750to799","H62ROHUGRent800to899","H62ROHUGRent900to999","H62ROHUGRent1000to1249","H62ROHUGRent1250to1499","H62ROHUGRent1500to1999","H62ROHUGRent2000>","H62ROHUNoGRent","H63MedianGrossRnt","H69RenterOccHsU","H69GRnt<10PctHHInc","H69GRnt10to15PctHHInc","H69GRnt15to20PctHHInc","H69GRnt20to25PctHHInc","H69GRnt25to30PctHHInc","H69GRnt30to35PctHHInc","H69GRnt35to40PctHHInc","H69GRnt40to50PctHHInc","H69GRnt>50PctHHInc","H69GRntPctNotcomputed","H73RenterOccHU","H73ROHUHhInc<10k","H73ROHUHhInc<10kRnt<20pct","H73ROHUHhInc<10kRnt20to25pct","H73ROHUHhInc<10kRnt25to30pct","H73ROHUHhInc<10kRnt30to35pct","H73ROHUHhInc<10kRnt>35pct","H73ROHUHhInc<10kPctNotComput","H73ROHUHhInc10to20k","H73ROHUHhInc10to20kRnt<20pct","H73ROHUHhInc10to20kRnt20to25pct","H73ROHUHhInc10to20kRnt25to30pct","H73ROHUHhInc10to20kRnt30to35pct","H73ROHUHhInc10to20kRnt>35pct","H73ROHUHhInc10to20kRntPctNC","H73ROHUHhInc20to35k","H73ROHUHhInc20to35kRnt<20pct","H73ROHUHhInc20to35kRnt20to25pct","H73ROHUHhInc20to35kRnt25to30pct","H73ROHUHhInc20to35kRnt30to35pct","H73ROHUHhInc20to35kRnt>35pct","H73ROHUHhInc20to35kRntPctNC","H73ROHUHhInc35to40k","H73ROHUHhInc35to40kRnt<20pct","H73ROHUHhInc35to40kRnt20to25pct","H73ROHUHhInc35to40kRnt25to30pct","H73ROHUHhInc35to40kRnt30to35pct","H73ROHUHhInc35to40kRnt>35pct","H73ROHUHhInc35to40kRntPctNC","H73ROHUHhInc50to75k","H73ROHUHhInc50to75kRnt<20pct","H73ROHUHhInc50to75kRnt20to25pct","H73ROHUHhInc50to75kRnt25to30pct","H73ROHUHhInc50to75kRnt30to35pct","H73ROHUHhInc50to75kRnt>35pct","H73ROHUHhInc50to75kRntPctNC","H73ROHUHhInc75to100k","H73ROHUHhInc75to100kRnt<20pct","H73ROHUHhInc75to100kRnt20to25pct","H73ROHUHhInc75to100kRnt25to30pct","H73ROHUHhInc75to100kRnt30to35pct","H73ROHUHhInc75to100kRnt>35pct","H73ROHUHhInc75to100kRntPctNC","H73ROHUHhInc>100k","H73ROHUHhInc>100kRnt<20pct","H73ROHUHhInc>100kRnt20to25pct","H73ROHUHhInc>100kRnt25to30pct","H73ROHUHhInc>100kRnt30to35pct","H73ROHUHhInc>100kRnt>35pct","H73ROHUHhInc>100kRntPctNC"]
[{"$f":"VLOOKUP(DropDownList!$A$19,CntyQuery!$A$20:$CE$30,A$1)","v":"Grafton County"},{"$f":"VLOOKUP(DropDownList!$A$19,CntyQryCensus!$A$119:$CL$129,B$1)","v":"0001145"},{"$f":"VLOOKUP(DropDownList!$A$19,CntyQryCensus!$A$119:$CL$129,C$1)","v":"009"},{"$f":"VLOOKUP(DropDownList!$A$19,CntyQryCensus!$A$119:$CL$129,D$1)","v":81743},{"$f":"VLOOKUP(DropDownList!$A$19,CntyQryCensus!$A$119:$CL$129,E$1)","v":9552},{"$f":"VLOOKUP(DropDownList!$A$19,CntyQryCensus!$A$119:$CL$129,F$1)","v":8996},{"$f":"VLOOKUP(DropDownList!$A$19,CntyQryCensus!$A$119:$CL$129,G$1)","v":19},{"$f":"VLOOKUP(DropDownList!$A$19,CntyQryCensus!$A$119:$CL$129,H$1)","v":118},{"$f":"VLOOKUP(DropDownList!$A$19,CntyQryCensus!$A$119:$CL$129,I$1)","v":344},{"$f":"VLOOKUP(DropDownList!$A$19,CntyQryCensus!$A$119:$CL$129,J$1)","v":245},{"$f":"VLOOKUP(DropDownList!$A$19,CntyQryCensus!$A$119:$CL$129,K$1)","v":290},{"$f":"VLOOKUP(DropDownList!$A$19,CntyQryCensus!$A$119:$CL$129,L$1)","v":388},{"$f":"VLOOKUP(DropDownList!$A$19,CntyQryCensus!$A$119:$CL$129,M$1)","v":524},{"$f":"VLOOKUP(DropDownList!$A$19,CntyQryCensus!$A$119:$CL$129,N$1)","v":774},{"$f":"VLOOKUP(DropDownList!$A$19,CntyQryCensus!$A$119:$CL$129,O$1)","v":811},{"$f":"VLOOKUP(DropDownList!$A$19,CntyQryCensus!$A$119:$CL$129,P$1)","v":800},{"$f":"VLOOKUP(DropDownList!$A$19,CntyQryCensus!$A$119:$CL$129,Q$1)","v":894},{"$f":"VLOOKUP(DropDownList!$A$19,CntyQryCensus!$A$119:$CL$129,R$1)","v":646},{"$f":"VLOOKUP(DropDownList!$A$19,CntyQryCensus!$A$119:$CL$129,S$1)","v":691},{"$f":"VLOOKUP(DropDownList!$A$19,CntyQryCensus!$A$119:$CL$129,T$1)","v":620},{"$f":"VLOOKUP(DropDownList!$A$19,CntyQryCensus!$A$119:$CL$129,U$1)","v":388},{"$f":"VLOOKUP(DropDownList!$A$19,CntyQryCensus!$A$119:$CL$129,V$1)","v":461},{"$f":"VLOOKUP(DropDownList!$A$19,CntyQryCensus!$A$119:$CL$129,W$1)","v":322},{"$f":"VLOOKUP(DropDownList!$A$19,CntyQryCensus!$A$119:$CL$129,X$1)","v":364},{"$f":"VLOOKUP(DropDownList!$A$19,CntyQryCensus!$A$119:$CL$129,Y$1)","v":137},{"$f":"VLOOKUP(DropDownList!$A$19,CntyQryCensus!$A$119:$CL$129,Z$1)","v":104},{"$f":"VLOOKUP(DropDownList!$A$19,CntyQryCensus!$A$119:$CL$129,AA$1)","v":56},{"$f":"VLOOKUP(DropDownList!$A$19,CntyQryCensus!$A$119:$CL$129,AB$1)","v":556},{"$f":"VLOOKUP(DropDownList!$A$19,CntyQryCensus!$A$119:$CL$129,AC$1)","v":560},{"$f":"VLOOKUP(DropDownList!$A$19,CntyQryCensus!$A$119:$CL$129,AD$1)","v":9552},{"$f":"VLOOKUP(DropDownList!$A$19,CntyQryCensus!$A$119:$CL$129,AE$1)","v":564},{"$f":"VLOOKUP(DropDownList!$A$19,CntyQryCensus!$A$119:$CL$129,AF$1)","v":1114},{"$f":"VLOOKUP(DropDownList!$A$19,CntyQryCensus!$A$119:$CL$129,AG$1)","v":1504},{"$f":"VLOOKUP(DropDownList!$A$19,CntyQryCensus!$A$119:$CL$129,AH$1)","v":1414},{"$f":"VLOOKUP(DropDownList!$A$19,CntyQryCensus!$A$119:$CL$129,AI$1)","v":1160},{"$f":"VLOOKUP(DropDownList!$A$19,CntyQryCensus!$A$119:$CL$129,AJ$1)","v":722},{"$f":"VLOOKUP(DropDownList!$A$19,CntyQryCensus!$A$119:$CL$129,AK$1)","v":450},{"$f":"VLOOKUP(DropDownList!$A$19,CntyQryCensus!$A$119:$CL$129,AL$1)","v":574},{"$f":"VLOOKUP(DropDownList!$A$19,CntyQryCensus!$A$119:$CL$129,AM$1)","v":1330},{"$f":"VLOOKUP(DropDownList!$A$19,CntyQryCensus!$A$119:$CL$129,AN$1)","v":720},{"$f":"VLOOKUP(DropDownList!$A$19,CntyQryCensus!$A$119:$CL$129,AO$1)","v":9552},{"$f":"VLOOKUP(DropDownList!$A$19,CntyQryCensus!$A$119:$CL$129,AP$1)","v":1564},{"$f":"VLOOKUP(DropDownList!$A$19,CntyQryCensus!$A$119:$CL$129,AQ$1)","v":27},{"$f":"VLOOKUP(DropDownList!$A$19,CntyQryCensus!$A$119:$CL$129,AR$1)","v":105},{"$f":"VLOOKUP(DropDownList!$A$19,CntyQryCensus!$A$119:$CL$129,AS$1)","v":167},{"$f":"VLOOKUP(DropDownList!$A$19,CntyQryCensus!$A$119:$CL$129,AT$1)","v":74},{"$f":"VLOOKUP(DropDownList!$A$19,CntyQryCensus!$A$119:$CL$129,AU$1)","v":911},{"$f":"VLOOKUP(DropDownList!$A$19,CntyQryCensus!$A$119:$CL$129,AV$1)","v":280},{"$f":"VLOOKUP(DropDownList!$A$19,CntyQryCensus!$A$119:$CL$129,AW$1)","v":1885},{"$f":"VLOOKUP(DropDownList!$A$19,CntyQryCensus!$A$119:$CL$129,AX$1)","v":114},{"$f":"VLOOKUP(DropDownList!$A$19,CntyQryCensus!$A$119:$CL$129,AY$1)","v":176},{"$f":"VLOOKUP(DropDownList!$A$19,CntyQryCensus!$A$119:$CL$129,AZ$1)","v":254},{"$f":"VLOOKUP(DropDownList!$A$19,CntyQryCensus!$A$119:$CL$129,BA$1)","v":246},{"$f":"VLOOKUP(DropDownList!$A$19,CntyQryCensus!$A$119:$CL$129,BB$1)","v":960},{"$f":"VLOOKUP(DropDownList!$A$19,CntyQryCensus!$A$119:$CL$129,BC$1)","v":135},{"$f":"VLOOKUP(DropDownList!$A$19,CntyQryCensus!$A$119:$CL$129,BD$1)","v":2572},{"$f":"VLOOKUP(DropDownList!$A$19,CntyQryCensus!$A$119:$CL$129,BE$1)","v":520},{"$f":"VLOOKUP(DropDownList!$A$19,CntyQryCensus!$A$119:$CL$129,BF$1)","v":587},{"$f":"VLOOKUP(DropDownList!$A$19,CntyQryCensus!$A$119:$CL$129,BG$1)","v":580},{"$f":"VLOOKUP(DropDownList!$A$19,CntyQryCensus!$A$119:$CL$129,BH$1)","v":323},{"$f":"VLOOKUP(DropDownList!$A$19,CntyQryCensus!$A$119:$CL$129,BI$1)","v":392},{"$f":"VLOOKUP(DropDownList!$A$19,CntyQryCensus!$A$119:$CL$129,BJ$1)","v":170},{"$f":"VLOOKUP(DropDownList!$A$19,CntyQryCensus!$A$119:$CL$129,BK$1)","v":1784},{"$f":"VLOOKUP(DropDownList!$A$19,CntyQryCensus!$A$119:$CL$129,BL$1)","v":1035},{"$f":"VLOOKUP(DropDownList!$A$19,CntyQryCensus!$A$119:$CL$129,BM$1)","v":419},{"$f":"VLOOKUP(DropDownList!$A$19,CntyQryCensus!$A$119:$CL$129,BN$1)","v":128},{"$f":"VLOOKUP(DropDownList!$A$19,CntyQryCensus!$A$119:$CL$129,BO$1)","v":60},{"$f":"VLOOKUP(DropDownList!$A$19,CntyQryCensus!$A$119:$CL$129,BP$1)","v":72},{"$f":"VLOOKUP(DropDownList!$A$19,CntyQryCensus!$A$119:$CL$129,BQ$1)","v":70},{"$f":"VLOOKUP(DropDownList!$A$19,CntyQryCensus!$A$119:$CL$129,BR$1)","v":1152},{"$f":"VLOOKUP(DropDownList!$A$19,CntyQryCensus!$A$119:$CL$129,BS$1)","v":964},{"$f":"VLOOKUP(DropDownList!$A$19,CntyQryCensus!$A$119:$CL$129,BT$1)","v":97},{"$f":"VLOOKUP(DropDownList!$A$19,CntyQryCensus!$A$119:$CL$129,BU$1)","v":28},{"$f":"VLOOKUP(DropDownList!$A$19,CntyQryCensus!$A$119:$CL$129,BV$1)","v":11},{"$f":"VLOOKUP(DropDownList!$A$19,CntyQryCensus!$A$119:$CL$129,BW$1)","v":19},{"$f":"VLOOKUP(DropDownList!$A$19,CntyQryCensus!$A$119:$CL$129,BX$1)","v":33},{"$f":"VLOOKUP(DropDownList!$A$19,CntyQryCensus!$A$119:$CL$129,BY$1)","v":349},{"$f":"VLOOKUP(DropDownList!$A$19,CntyQryCensus!$A$119:$CL$129,BZ$1)","v":298},{"$f":"VLOOKUP(DropDownList!$A$19,CntyQryCensus!$A$119:$CL$129,CA$1)","v":30},{"$f":"VLOOKUP(DropDownList!$A$19,CntyQryCensus!$A$119:$CL$129,CB$1)","v":0},{"$f":"VLOOKUP(DropDownList!$A$19,CntyQryCensus!$A$119:$CL$129,CC$1)","v":8},{"$f":"VLOOKUP(DropDownList!$A$19,CntyQryCensus!$A$119:$CL$129,CD$1)","v":0},{"$f":"VLOOKUP(DropDownList!$A$19,CntyQryCensus!$A$119:$CL$129,CE$1)","v":13},{"$f":"VLOOKUP(DropDownList!$A$19,CntyQryCensus!$A$119:$CL$129,CF$1)","v":246},{"$f":"VLOOKUP(DropDownList!$A$19,CntyQryCensus!$A$119:$CL$129,CG$1)","v":224},{"$f":"VLOOKUP(DropDownList!$A$19,CntyQryCensus!$A$119:$CL$129,CH$1)","v":0},{"$f":"VLOOKUP(DropDownList!$A$19,CntyQryCensus!$A$119:$CL$129,CI$1)","v":3},{"$f":"VLOOKUP(DropDownList!$A$19,CntyQryCensus!$A$119:$CL$129,CJ$1)","v":0},{"$f":"VLOOKUP(DropDownList!$A$19,CntyQryCensus!$A$119:$CL$129,CK$1)","v":0},{"$f":"VLOOKUP(DropDownList!$A$19,CntyQryCensus!$A$119:$CL$129,CL$1)","v":19}]
[]
[]
["Census 2000 SummaryFile3 Sample Data  -  SF3CountyQry8HousingCostB"]
["NAME","LOGRECNO","COUNTY","TotalPop","H74SpecOwnerOccHU","H74OOHU<10k","H74OOHU10to15k","H74OOHU15to20k","H74OOHU20to25k","H74OOHU25to30k","H74OOHU30to35k","H74OOHU35to40k","H74OOHU40to50k","H74OOHU50to60k","H74OOHU60to70k","H74OOHU70to80k","H74OOHU80to90k","H74OOHU90to100k","H74OOHU100to125k","H74OOHU125to150k","H74OOHU150to175k","H74OOHU175to200k","H74OOHU200to250k","H74OOHU250to300k","H74OOHU300to400k","H74OOHU400to500k","H74OOHU500to750k","H74OOHU750to1000k","H74OOHU1000kmore","H76OOHUMedianVal","H84OwnerOccHU","H84AllOOHU<10k","H84AllOOHU10to15k","H84AllOOHU15to20k","H84AllOOHU20to25k","H84AllOOHU25to30k","H84AllOOHU30to35k","H84AllOOHU35to40k","H84AllOOHU40to50k","H84AllOOHU50to60k","H84AllOOHU60to70k","H84AllOOHU70to80k","H84AllOOHU80to90k","H84AllOOHU90to100k","H84AllOOHU100to125k","H84AllOOHU125to150k","H84AllOOHU150to175k","H84AllOOHU175to200k","H84AllOOHU200to250k","H84AllOOHU250to300k","H84AllOOHU300to400k","H84AllOOHU400to500k","H84AllOOHU500to750k","H84AllOOHU750to1000k","H84AllOOHU1000kmore","H85OOHUMedVal","H90SOOHU","H90HUwMorgt","H90HUwMtgHC<200","H90HUwMtgHC200to300","H90HUwMtgHC300to400","H90HUwMtgHC400to500","H90HUwMtgHC500to600","H90HUwMtgHC600to700","H90HUwMtgHC700to800","H90HUwMtgHC800to900","H90HUwMtgHC900to1000","H90HUwMtgHC1000to1250","H90HUwMtgHC1250to1500","H90HUwMtgHC1500to2000","H90HUwMtgHC2000to2500","H90HUwMtgHC2500to3000","H90HUwMtgHC3000orMore","H90HUwOutMorgt","H90HUwOutMtgHC<100","H90HUwOutMtgHC100to150","H90HUwOutMtgHC150to200","H90HUwOutMtgHC200to250","H90HUwOutMtgHC250to300","H90HUwOutMtgHC300to350","H90HUwOutMtgHC350to400","H90HUwOutMtgHC400to500","H90HUwOutMtgHC500to600","H90HUwOutMtgHC600to700","H90HUwOutMtgHC700to800","H90HUwOutMtgHC800to900","H90HUwOutMtgHC900to1000","H90HUwOutMtgHC1000orMore","H91MedianOCHUwMtg","H91MedianOCHUwOutMtg","H94SpecOOHU","H94HUwMortg","H94HUwMtgHC<10pct","H94HUwMtgHC10to15pct","H94HUwMtgHC15to20pct","H94HUwMtgHC20to25pct","H94HUwMtgHC25to30pct","H94HUwMtgHC30to35pct","H94HUwMtgHC35to40pct","H94HUwMtgHC40to50pct","H94HUwMtgHC50pctOrMore","H94HUwMtgHCpctNotComp","H94HUWOutMortg","H94HUWOutMortgHC<10pct","H94HUWOutMortgHC10to15pct","H94HUWOutMortgHC15to20pct","H94HUWOutMortgHC20to25pct","H94HUWOutMortgHC25to30pct","H94HUWOutMortgHC30to35pct","H94HUWOutMortgHC35to40pct","H94HUWOutMortgHC40to50pct","H94HUWOutMortgHC50pctOrMore","H94HUWOutMortgHCpctNotComp","H97SpecifOwnOccHU","H97SOOHUInc<10k","H97SOOHUInc<10kHC<20pct","H97SOOHUInc<10kHC20to25pct","H97SOOHUInc<10kHC25to30pct","H97SOOHUInc<10kHC30to35pct","H97SOOHUInc<10kHC>35pct","H97SOOHUInc<10kHCpctNotComput","H97SOOHUInc10to20k","H97SOOHUInc10to20kHC<20pct","H97SOOHUInc10to20kHC20to25pct","H97SOOHUInc10to20kHC25to30pct","H97SOOHUInc10to20kHC30to35pct","H97SOOHUInc10to20kHC>35pct","H97SOOHUInc10to20kHCpctNotComput","H97SOOHUInc20to35k","H97SOOHUInc20to35kRC<20pct","H97SOOHUInc20to35kRC20to25pct","H97SOOHUInc20to35kRC25to30pct","H97SOOHUInc20to35kRC30to35pct","H97SOOHUInc20to35kRC>35pct","H97SOOHUInc20to35kRCpctNotComput","H97SOOHUInc35to50k","H97SOOHUInc35to50kRC<20pct","H97SOOHUInc35to50kRC20to25pct","H97SOOHUInc35to50kRC25to30pct","H97SOOHUInc35to50kRC30to35pct","H97SOOHUInc35to50kRC>35pct","H97SOOHUInc35to50kRCpctNotCompute","H97SOOHUInc50to75k","H97SOOHUInc50to75kRC<20pct","H97SOOHUInc50to75kRC20to25pct","H97SOOHUInc50to75kRC25to30pct","H97SOOHUInc50to75kRC30to35pct","H97SOOHUInc50to75kRC>35pct","H97SOOHUInc50to75kRCpctNotComput","H97SOOHUInc75to100k","H97SOOHUInc75to100kRC<20pct","H97SOOHUInc75to100kRC20to25pct","H97SOOHUInc75to100kRC25to30pct","H97SOOHUInc75to100kRC30to35pct","H97SOOHUInc75to100kRC>35pct","H97SOOHUInc75to100kRCpctNotCompute","H97SOOHUInc100to150k","H97SOOHUInc100to150kRC<20pct","H97SOOHUInc100to150kRC20to25pct","H97SOOHUInc100to150kRC25to30pct","H97SOOHUInc100to150kRC30to35pct","H97SOOHUInc100to150kRC>35pct","H97SOOHUInc100to150kRCpctNotCompute","H97SOOHUInc>150k","H97SOOHUInc>150kRC<20pct","H97SOOHUInc>150kRC20to25pct","H97SOOHUInc>150kRC25to30pct","H97SOOHUInc>150kRC30to35pct","H97SOOHUInc>150kRC>35pct","H97SOOHUInc>150kRCpctNotCompute"]
[{"$f":"VLOOKUP(DropDownList!$A$19,CntyQuery!$A$20:$CE$30,A$1)","v":"Grafton County"},{"$f":"VLOOKUP(DropDownList!$A$19,CntyQryCensus!$A$135:$FN$145,B$1)","v":"0001145"},{"$f":"VLOOKUP(DropDownList!$A$19,CntyQryCensus!$A$135:$FN$145,C$1)","v":"009"},{"$f":"VLOOKUP(DropDownList!$A$19,CntyQryCensus!$A$135:$FN$145,D$1)","v":81743},{"$f":"VLOOKUP(DropDownList!$A$19,CntyQryCensus!$A$135:$FN$145,E$1)","v":14515},{"$f":"VLOOKUP(DropDownList!$A$19,CntyQryCensus!$A$135:$FN$145,F$1)","v":24},{"$f":"VLOOKUP(DropDownList!$A$19,CntyQryCensus!$A$135:$FN$145,G$1)","v":14},{"$f":"VLOOKUP(DropDownList!$A$19,CntyQryCensus!$A$135:$FN$145,H$1)","v":25},{"$f":"VLOOKUP(DropDownList!$A$19,CntyQryCensus!$A$135:$FN$145,I$1)","v":26},{"$f":"VLOOKUP(DropDownList!$A$19,CntyQryCensus!$A$135:$FN$145,J$1)","v":31},{"$f":"VLOOKUP(DropDownList!$A$19,CntyQryCensus!$A$135:$FN$145,K$1)","v":97},{"$f":"VLOOKUP(DropDownList!$A$19,CntyQryCensus!$A$135:$FN$145,L$1)","v":150},{"$f":"VLOOKUP(DropDownList!$A$19,CntyQryCensus!$A$135:$FN$145,M$1)","v":356},{"$f":"VLOOKUP(DropDownList!$A$19,CntyQryCensus!$A$135:$FN$145,N$1)","v":593},{"$f":"VLOOKUP(DropDownList!$A$19,CntyQryCensus!$A$135:$FN$145,O$1)","v":906},{"$f":"VLOOKUP(DropDownList!$A$19,CntyQryCensus!$A$135:$FN$145,P$1)","v":1195},{"$f":"VLOOKUP(DropDownList!$A$19,CntyQryCensus!$A$135:$FN$145,Q$1)","v":1551},{"$f":"VLOOKUP(DropDownList!$A$19,CntyQryCensus!$A$135:$FN$145,R$1)","v":1332},{"$f":"VLOOKUP(DropDownList!$A$19,CntyQryCensus!$A$135:$FN$145,S$1)","v":2522},{"$f":"VLOOKUP(DropDownList!$A$19,CntyQryCensus!$A$135:$FN$145,T$1)","v":1803},{"$f":"VLOOKUP(DropDownList!$A$19,CntyQryCensus!$A$135:$FN$145,U$1)","v":1063},{"$f":"VLOOKUP(DropDownList!$A$19,CntyQryCensus!$A$135:$FN$145,V$1)","v":619},{"$f":"VLOOKUP(DropDownList!$A$19,CntyQryCensus!$A$135:$FN$145,W$1)","v":870},{"$f":"VLOOKUP(DropDownList!$A$19,CntyQryCensus!$A$135:$FN$145,X$1)","v":412},{"$f":"VLOOKUP(DropDownList!$A$19,CntyQryCensus!$A$135:$FN$145,Y$1)","v":421},{"$f":"VLOOKUP(DropDownList!$A$19,CntyQryCensus!$A$135:$FN$145,Z$1)","v":338},{"$f":"VLOOKUP(DropDownList!$A$19,CntyQryCensus!$A$135:$FN$145,AA$1)","v":108},{"$f":"VLOOKUP(DropDownList!$A$19,CntyQryCensus!$A$135:$FN$145,AB$1)","v":48},{"$f":"VLOOKUP(DropDownList!$A$19,CntyQryCensus!$A$135:$FN$145,AC$1)","v":11},{"$f":"VLOOKUP(DropDownList!$A$19,CntyQryCensus!$A$135:$FN$145,AD$1)","v":109500},{"$f":"VLOOKUP(DropDownList!$A$19,CntyQryCensus!$A$135:$FN$145,AE$1)","v":21687},{"$f":"VLOOKUP(DropDownList!$A$19,CntyQryCensus!$A$135:$FN$145,AF$1)","v":209},{"$f":"VLOOKUP(DropDownList!$A$19,CntyQryCensus!$A$135:$FN$145,AG$1)","v":212},{"$f":"VLOOKUP(DropDownList!$A$19,CntyQryCensus!$A$135:$FN$145,AH$1)","v":240},{"$f":"VLOOKUP(DropDownList!$A$19,CntyQryCensus!$A$135:$FN$145,AI$1)","v":234},{"$f":"VLOOKUP(DropDownList!$A$19,CntyQryCensus!$A$135:$FN$145,AJ$1)","v":228},{"$f":"VLOOKUP(DropDownList!$A$19,CntyQryCensus!$A$135:$FN$145,AK$1)","v":270},{"$f":"VLOOKUP(DropDownList!$A$19,CntyQryCensus!$A$135:$FN$145,AL$1)","v":370},{"$f":"VLOOKUP(DropDownList!$A$19,CntyQryCensus!$A$135:$FN$145,AM$1)","v":728},{"$f":"VLOOKUP(DropDownList!$A$19,CntyQryCensus!$A$135:$FN$145,AN$1)","v":886},{"$f":"VLOOKUP(DropDownList!$A$19,CntyQryCensus!$A$135:$FN$145,AO$1)","v":1300},{"$f":"VLOOKUP(DropDownList!$A$19,CntyQryCensus!$A$135:$FN$145,AP$1)","v":1602},{"$f":"VLOOKUP(DropDownList!$A$19,CntyQryCensus!$A$135:$FN$145,AQ$1)","v":2045},{"$f":"VLOOKUP(DropDownList!$A$19,CntyQryCensus!$A$135:$FN$145,AR$1)","v":1739},{"$f":"VLOOKUP(DropDownList!$A$19,CntyQryCensus!$A$135:$FN$145,AS$1)","v":3242},{"$f":"VLOOKUP(DropDownList!$A$19,CntyQryCensus!$A$135:$FN$145,AT$1)","v":2547},{"$f":"VLOOKUP(DropDownList!$A$19,CntyQryCensus!$A$135:$FN$145,AU$1)","v":1542},{"$f":"VLOOKUP(DropDownList!$A$19,CntyQryCensus!$A$135:$FN$145,AV$1)","v":882},{"$f":"VLOOKUP(DropDownList!$A$19,CntyQryCensus!$A$135:$FN$145,AW$1)","v":1286},{"$f":"VLOOKUP(DropDownList!$A$19,CntyQryCensus!$A$135:$FN$145,AX$1)","v":635},{"$f":"VLOOKUP(DropDownList!$A$19,CntyQryCensus!$A$135:$FN$145,AY$1)","v":631},{"$f":"VLOOKUP(DropDownList!$A$19,CntyQryCensus!$A$135:$FN$145,AZ$1)","v":477},{"$f":"VLOOKUP(DropDownList!$A$19,CntyQryCensus!$A$135:$FN$145,BA$1)","v":224},{"$f":"VLOOKUP(DropDownList!$A$19,CntyQryCensus!$A$135:$FN$145,BB$1)","v":83},{"$f":"VLOOKUP(DropDownList!$A$19,CntyQryCensus!$A$135:$FN$145,BC$1)","v":75},{"$f":"VLOOKUP(DropDownList!$A$19,CntyQryCensus!$A$135:$FN$145,BD$1)","v":106000},{"$f":"VLOOKUP(DropDownList!$A$19,CntyQryCensus!$A$135:$FN$145,BE$1)","v":14515},{"$f":"VLOOKUP(DropDownList!$A$19,CntyQryCensus!$A$135:$FN$145,BF$1)","v":9590},{"$f":"VLOOKUP(DropDownList!$A$19,CntyQryCensus!$A$135:$FN$145,BG$1)","v":3},{"$f":"VLOOKUP(DropDownList!$A$19,CntyQryCensus!$A$135:$FN$145,BH$1)","v":10},{"$f":"VLOOKUP(DropDownList!$A$19,CntyQryCensus!$A$135:$FN$145,BI$1)","v":86},{"$f":"VLOOKUP(DropDownList!$A$19,CntyQryCensus!$A$135:$FN$145,BJ$1)","v":328},{"$f":"VLOOKUP(DropDownList!$A$19,CntyQryCensus!$A$135:$FN$145,BK$1)","v":628},{"$f":"VLOOKUP(DropDownList!$A$19,CntyQryCensus!$A$135:$FN$145,BL$1)","v":763},{"$f":"VLOOKUP(DropDownList!$A$19,CntyQryCensus!$A$135:$FN$145,BM$1)","v":1022},{"$f":"VLOOKUP(DropDownList!$A$19,CntyQryCensus!$A$135:$FN$145,BN$1)","v":1097},{"$f":"VLOOKUP(DropDownList!$A$19,CntyQryCensus!$A$135:$FN$145,BO$1)","v":935},{"$f":"VLOOKUP(DropDownList!$A$19,CntyQryCensus!$A$135:$FN$145,BP$1)","v":2035},{"$f":"VLOOKUP(DropDownList!$A$19,CntyQryCensus!$A$135:$FN$145,BQ$1)","v":1121},{"$f":"VLOOKUP(DropDownList!$A$19,CntyQryCensus!$A$135:$FN$145,BR$1)","v":856},{"$f":"VLOOKUP(DropDownList!$A$19,CntyQryCensus!$A$135:$FN$145,BS$1)","v":393},{"$f":"VLOOKUP(DropDownList!$A$19,CntyQryCensus!$A$135:$FN$145,BT$1)","v":170},{"$f":"VLOOKUP(DropDownList!$A$19,CntyQryCensus!$A$135:$FN$145,BU$1)","v":143},{"$f":"VLOOKUP(DropDownList!$A$19,CntyQryCensus!$A$135:$FN$145,BV$1)","v":4925},{"$f":"VLOOKUP(DropDownList!$A$19,CntyQryCensus!$A$135:$FN$145,BW$1)","v":14},{"$f":"VLOOKUP(DropDownList!$A$19,CntyQryCensus!$A$135:$FN$145,BX$1)","v":56},{"$f":"VLOOKUP(DropDownList!$A$19,CntyQryCensus!$A$135:$FN$145,BY$1)","v":139},{"$f":"VLOOKUP(DropDownList!$A$19,CntyQryCensus!$A$135:$FN$145,BZ$1)","v":341},{"$f":"VLOOKUP(DropDownList!$A$19,CntyQryCensus!$A$135:$FN$145,CA$1)","v":517},{"$f":"VLOOKUP(DropDownList!$A$19,CntyQryCensus!$A$135:$FN$145,CB$1)","v":608},{"$f":"VLOOKUP(DropDownList!$A$19,CntyQryCensus!$A$135:$FN$145,CC$1)","v":733},{"$f":"VLOOKUP(DropDownList!$A$19,CntyQryCensus!$A$135:$FN$145,CD$1)","v":1056},{"$f":"VLOOKUP(DropDownList!$A$19,CntyQryCensus!$A$135:$FN$145,CE$1)","v":530},{"$f":"VLOOKUP(DropDownList!$A$19,CntyQryCensus!$A$135:$FN$145,CF$1)","v":377},{"$f":"VLOOKUP(DropDownList!$A$19,CntyQryCensus!$A$135:$FN$145,CG$1)","v":215},{"$f":"VLOOKUP(DropDownList!$A$19,CntyQryCensus!$A$135:$FN$145,CH$1)","v":130},{"$f":"VLOOKUP(DropDownList!$A$19,CntyQryCensus!$A$135:$FN$145,CI$1)","v":67},{"$f":"VLOOKUP(DropDownList!$A$19,CntyQryCensus!$A$135:$FN$145,CJ$1)","v":142},{"$f":"VLOOKUP(DropDownList!$A$19,CntyQryCensus!$A$135:$FN$145,CK$1)","v":992},{"$f":"VLOOKUP(DropDownList!$A$19,CntyQryCensus!$A$135:$FN$145,CL$1)","v":405},{"$f":"VLOOKUP(DropDownList!$A$19,CntyQryCensus!$A$135:$FN$145,CM$1)","v":14515},{"$f":"VLOOKUP(DropDownList!$A$19,CntyQryCensus!$A$135:$FN$145,CN$1)","v":9590},{"$f":"VLOOKUP(DropDownList!$A$19,CntyQryCensus!$A$135:$FN$145,CO$1)","v":639},{"$f":"VLOOKUP(DropDownList!$A$19,CntyQryCensus!$A$135:$FN$145,CP$1)","v":1541},{"$f":"VLOOKUP(DropDownList!$A$19,CntyQryCensus!$A$135:$FN$145,CQ$1)","v":2136},{"$f":"VLOOKUP(DropDownList!$A$19,CntyQryCensus!$A$135:$FN$145,CR$1)","v":1827},{"$f":"VLOOKUP(DropDownList!$A$19,CntyQryCensus!$A$135:$FN$145,CS$1)","v":1186},{"$f":"VLOOKUP(DropDownList!$A$19,CntyQryCensus!$A$135:$FN$145,CT$1)","v":701},{"$f":"VLOOKUP(DropDownList!$A$19,CntyQryCensus!$A$135:$FN$145,CU$1)","v":482},{"$f":"VLOOKUP(DropDownList!$A$19,CntyQryCensus!$A$135:$FN$145,CV$1)","v":384},{"$f":"VLOOKUP(DropDownList!$A$19,CntyQryCensus!$A$135:$FN$145,CW$1)","v":662},{"$f":"VLOOKUP(DropDownList!$A$19,CntyQryCensus!$A$135:$FN$145,CX$1)","v":32},{"$f":"VLOOKUP(DropDownList!$A$19,CntyQryCensus!$A$135:$FN$145,CY$1)","v":4925},{"$f":"VLOOKUP(DropDownList!$A$19,CntyQryCensus!$A$135:$FN$145,CZ$1)","v":1830},{"$f":"VLOOKUP(DropDownList!$A$19,CntyQryCensus!$A$135:$FN$145,DA$1)","v":1148},{"$f":"VLOOKUP(DropDownList!$A$19,CntyQryCensus!$A$135:$FN$145,DB$1)","v":604},{"$f":"VLOOKUP(DropDownList!$A$19,CntyQryCensus!$A$135:$FN$145,DC$1)","v":404},{"$f":"VLOOKUP(DropDownList!$A$19,CntyQryCensus!$A$135:$FN$145,DD$1)","v":272},{"$f":"VLOOKUP(DropDownList!$A$19,CntyQryCensus!$A$135:$FN$145,DE$1)","v":182},{"$f":"VLOOKUP(DropDownList!$A$19,CntyQryCensus!$A$135:$FN$145,DF$1)","v":89},{"$f":"VLOOKUP(DropDownList!$A$19,CntyQryCensus!$A$135:$FN$145,DG$1)","v":113},{"$f":"VLOOKUP(DropDownList!$A$19,CntyQryCensus!$A$135:$FN$145,DH$1)","v":239},{"$f":"VLOOKUP(DropDownList!$A$19,CntyQryCensus!$A$135:$FN$145,DI$1)","v":44},{"$f":"VLOOKUP(DropDownList!$A$19,CntyQryCensus!$A$135:$FN$145,DJ$1)","v":14515},{"$f":"VLOOKUP(DropDownList!$A$19,CntyQryCensus!$A$135:$FN$145,DK$1)","v":464},{"$f":"VLOOKUP(DropDownList!$A$19,CntyQryCensus!$A$135:$FN$145,DL$1)","v":7},{"$f":"VLOOKUP(DropDownList!$A$19,CntyQryCensus!$A$135:$FN$145,DM$1)","v":14},{"$f":"VLOOKUP(DropDownList!$A$19,CntyQryCensus!$A$135:$FN$145,DN$1)","v":21},{"$f":"VLOOKUP(DropDownList!$A$19,CntyQryCensus!$A$135:$FN$145,DO$1)","v":22},{"$f":"VLOOKUP(DropDownList!$A$19,CntyQryCensus!$A$135:$FN$145,DP$1)","v":327},{"$f":"VLOOKUP(DropDownList!$A$19,CntyQryCensus!$A$135:$FN$145,DQ$1)","v":73},{"$f":"VLOOKUP(DropDownList!$A$19,CntyQryCensus!$A$135:$FN$145,DR$1)","v":1155},{"$f":"VLOOKUP(DropDownList!$A$19,CntyQryCensus!$A$135:$FN$145,DS$1)","v":165},{"$f":"VLOOKUP(DropDownList!$A$19,CntyQryCensus!$A$135:$FN$145,DT$1)","v":150},{"$f":"VLOOKUP(DropDownList!$A$19,CntyQryCensus!$A$135:$FN$145,DU$1)","v":172},{"$f":"VLOOKUP(DropDownList!$A$19,CntyQryCensus!$A$135:$FN$145,DV$1)","v":132},{"$f":"VLOOKUP(DropDownList!$A$19,CntyQryCensus!$A$135:$FN$145,DW$1)","v":536},{"$f":"VLOOKUP(DropDownList!$A$19,CntyQryCensus!$A$135:$FN$145,DX$1)","v":0},{"$f":"VLOOKUP(DropDownList!$A$19,CntyQryCensus!$A$135:$FN$145,DY$1)","v":2339},{"$f":"VLOOKUP(DropDownList!$A$19,CntyQryCensus!$A$135:$FN$145,DZ$1)","v":747},{"$f":"VLOOKUP(DropDownList!$A$19,CntyQryCensus!$A$135:$FN$145,EA$1)","v":351},{"$f":"VLOOKUP(DropDownList!$A$19,CntyQryCensus!$A$135:$FN$145,EB$1)","v":312},{"$f":"VLOOKUP(DropDownList!$A$19,CntyQryCensus!$A$135:$FN$145,EC$1)","v":300},{"$f":"VLOOKUP(DropDownList!$A$19,CntyQryCensus!$A$135:$FN$145,ED$1)","v":629},{"$f":"VLOOKUP(DropDownList!$A$19,CntyQryCensus!$A$135:$FN$145,EE$1)","v":0},{"$f":"VLOOKUP(DropDownList!$A$19,CntyQryCensus!$A$135:$FN$145,EF$1)","v":2659},{"$f":"VLOOKUP(DropDownList!$A$19,CntyQryCensus!$A$135:$FN$145,EG$1)","v":1236},{"$f":"VLOOKUP(DropDownList!$A$19,CntyQryCensus!$A$135:$FN$145,EH$1)","v":569},{"$f":"VLOOKUP(DropDownList!$A$19,CntyQryCensus!$A$135:$FN$145,EI$1)","v":380},{"$f":"VLOOKUP(DropDownList!$A$19,CntyQryCensus!$A$135:$FN$145,EJ$1)","v":207},{"$f":"VLOOKUP(DropDownList!$A$19,CntyQryCensus!$A$135:$FN$145,EK$1)","v":267},{"$f":"VLOOKUP(DropDownList!$A$19,CntyQryCensus!$A$135:$FN$145,EL$1)","v":0},{"$f":"VLOOKUP(DropDownList!$A$19,CntyQryCensus!$A$135:$FN$145,EM$1)","v":3845},{"$f":"VLOOKUP(DropDownList!$A$19,CntyQryCensus!$A$135:$FN$145,EN$1)","v":2398},{"$f":"VLOOKUP(DropDownList!$A$19,CntyQryCensus!$A$135:$FN$145,EO$1)","v":694},{"$f":"VLOOKUP(DropDownList!$A$19,CntyQryCensus!$A$135:$FN$145,EP$1)","v":447},{"$f":"VLOOKUP(DropDownList!$A$19,CntyQryCensus!$A$135:$FN$145,EQ$1)","v":146},{"$f":"VLOOKUP(DropDownList!$A$19,CntyQryCensus!$A$135:$FN$145,ER$1)","v":160},{"$f":"VLOOKUP(DropDownList!$A$19,CntyQryCensus!$A$135:$FN$145,ES$1)","v":0},{"$f":"VLOOKUP(DropDownList!$A$19,CntyQryCensus!$A$135:$FN$145,ET$1)","v":1810},{"$f":"VLOOKUP(DropDownList!$A$19,CntyQryCensus!$A$135:$FN$145,EU$1)","v":1362},{"$f":"VLOOKUP(DropDownList!$A$19,CntyQryCensus!$A$135:$FN$145,EV$1)","v":293},{"$f":"VLOOKUP(DropDownList!$A$19,CntyQryCensus!$A$135:$FN$145,EW$1)","v":78},{"$f":"VLOOKUP(DropDownList!$A$19,CntyQryCensus!$A$135:$FN$145,EX$1)","v":49},{"$f":"VLOOKUP(DropDownList!$A$19,CntyQryCensus!$A$135:$FN$145,EY$1)","v":28},{"$f":"VLOOKUP(DropDownList!$A$19,CntyQryCensus!$A$135:$FN$145,EZ$1)","v":0},{"$f":"VLOOKUP(DropDownList!$A$19,CntyQryCensus!$A$135:$FN$145,FA$1)","v":1349},{"$f":"VLOOKUP(DropDownList!$A$19,CntyQryCensus!$A$135:$FN$145,FB$1)","v":1141},{"$f":"VLOOKUP(DropDownList!$A$19,CntyQryCensus!$A$135:$FN$145,FC$1)","v":129},{"$f":"VLOOKUP(DropDownList!$A$19,CntyQryCensus!$A$135:$FN$145,FD$1)","v":41},{"$f":"VLOOKUP(DropDownList!$A$19,CntyQryCensus!$A$135:$FN$145,FE$1)","v":27},{"$f":"VLOOKUP(DropDownList!$A$19,CntyQryCensus!$A$135:$FN$145,FF$1)","v":11},{"$f":"VLOOKUP(DropDownList!$A$19,CntyQryCensus!$A$135:$FN$145,FG$1)","v":0},{"$f":"VLOOKUP(DropDownList!$A$19,CntyQryCensus!$A$135:$FN$145,FH$1)","v":894},{"$f":"VLOOKUP(DropDownList!$A$19,CntyQryCensus!$A$135:$FN$145,FI$1)","v":842},{"$f":"VLOOKUP(DropDownList!$A$19,CntyQryCensus!$A$135:$FN$145,FJ$1)","v":31},{"$f":"VLOOKUP(DropDownList!$A$19,CntyQryCensus!$A$135:$FN$145,FK$1)","v":7},{"$f":"VLOOKUP(DropDownList!$A$19,CntyQryCensus!$A$135:$FN$145,FL$1)","v":0},{"$f":"VLOOKUP(DropDownList!$A$19,CntyQryCensus!$A$135:$FN$145,FM$1)","v":11},{"$f":"VLOOKUP(DropDownList!$A$19,CntyQryCensus!$A$135:$FN$145,FN$1)","v":3}]
[]
[]
["Census 2000 SummaryFile3 Sample Data  -  SF3CountyQry9HHIncomeByTenure"]
["NAME","LOGRECNO","COUNTY","TotalPop","HCT11OccHU","HCT11OwnOccHU","HCT11OOHUInc<5K","HCT11OOHUInc5to10K","HCT11OOHUInc10to15K","HCT11OOHUInc15to20K","HCT11OOHUInc20to25K","HCT11OOHUInc25to35K","HCT11OOHUInc35to50K","HCT11OOHUInc50to75K","HCT11OOHUInc75to100K","HCT11OOHUInc100to150K","HCT11OOHUInc>150K","HCT11RentOccHU","HCT11ROHUInc<5K","HCT11ROHUInc5to10K","HCT11ROHUInc10to15K","HCT11ROHUInc15to20K","HCT11ROHUInc20to25K","HCT11ROHUInc25to35K","HCT11ROHUInc35to50K","HCT11ROHUInc50to75K","HCT11ROHUInc75to100K","HCT11ROHUInc100to150K","HCT11ROHUInc>150K","HCT12MedHHInc","HCT12MedOwnOccHHInc","HCT12MedRentOccHHInc"]
[{"$f":"VLOOKUP(DropDownList!$A$19,CntyQuery!$A$20:$CE$30,A$1)","v":"Grafton County"},{"$f":"VLOOKUP(DropDownList!$A$19,CntyQryCensus!$A$151:$AZ$161,B$1)","v":"0001145"},{"$f":"VLOOKUP(DropDownList!$A$19,CntyQryCensus!$A$151:$AZ$161,C$1)","v":"009"},{"$f":"VLOOKUP(DropDownList!$A$19,CntyQryCensus!$A$151:$AZ$161,D$1)","v":81743},{"$f":"VLOOKUP(DropDownList!$A$19,CntyQryCensus!$A$151:$AZ$161,E$1)","v":31598},{"$f":"VLOOKUP(DropDownList!$A$19,CntyQryCensus!$A$151:$AZ$161,F$1)","v":21687},{"$f":"VLOOKUP(DropDownList!$A$19,CntyQryCensus!$A$151:$AZ$161,G$1)","v":276},{"$f":"VLOOKUP(DropDownList!$A$19,CntyQryCensus!$A$151:$AZ$161,H$1)","v":629},{"$f":"VLOOKUP(DropDownList!$A$19,CntyQryCensus!$A$151:$AZ$161,I$1)","v":829},{"$f":"VLOOKUP(DropDownList!$A$19,CntyQryCensus!$A$151:$AZ$161,J$1)","v":1240},{"$f":"VLOOKUP(DropDownList!$A$19,CntyQryCensus!$A$151:$AZ$161,K$1)","v":1117},{"$f":"VLOOKUP(DropDownList!$A$19,CntyQryCensus!$A$151:$AZ$161,L$1)","v":2571},{"$f":"VLOOKUP(DropDownList!$A$19,CntyQryCensus!$A$151:$AZ$161,M$1)","v":4194},{"$f":"VLOOKUP(DropDownList!$A$19,CntyQryCensus!$A$151:$AZ$161,N$1)","v":5324},{"$f":"VLOOKUP(DropDownList!$A$19,CntyQryCensus!$A$151:$AZ$161,O$1)","v":2546},{"$f":"VLOOKUP(DropDownList!$A$19,CntyQryCensus!$A$151:$AZ$161,P$1)","v":1773},{"$f":"VLOOKUP(DropDownList!$A$19,CntyQryCensus!$A$151:$AZ$161,Q$1)","v":1188},{"$f":"VLOOKUP(DropDownList!$A$19,CntyQryCensus!$A$151:$AZ$161,R$1)","v":9911},{"$f":"VLOOKUP(DropDownList!$A$19,CntyQryCensus!$A$151:$AZ$161,S$1)","v":421},{"$f":"VLOOKUP(DropDownList!$A$19,CntyQryCensus!$A$151:$AZ$161,T$1)","v":1181},{"$f":"VLOOKUP(DropDownList!$A$19,CntyQryCensus!$A$151:$AZ$161,U$1)","v":960},{"$f":"VLOOKUP(DropDownList!$A$19,CntyQryCensus!$A$151:$AZ$161,V$1)","v":974},{"$f":"VLOOKUP(DropDownList!$A$19,CntyQryCensus!$A$151:$AZ$161,W$1)","v":983},{"$f":"VLOOKUP(DropDownList!$A$19,CntyQryCensus!$A$151:$AZ$161,X$1)","v":1684},{"$f":"VLOOKUP(DropDownList!$A$19,CntyQryCensus!$A$151:$AZ$161,Y$1)","v":1838},{"$f":"VLOOKUP(DropDownList!$A$19,CntyQryCensus!$A$151:$AZ$161,Z$1)","v":1220},{"$f":"VLOOKUP(DropDownList!$A$19,CntyQryCensus!$A$151:$AZ$161,AA$1)","v":378},{"$f":"VLOOKUP(DropDownList!$A$19,CntyQryCensus!$A$151:$AZ$161,AB$1)","v":156},{"$f":"VLOOKUP(DropDownList!$A$19,CntyQryCensus!$A$151:$AZ$161,AC$1)","v":116},{"$f":"VLOOKUP(DropDownList!$A$19,CntyQryCensus!$A$151:$AZ$161,AD$1)","v":41869},{"$f":"VLOOKUP(DropDownList!$A$19,CntyQryCensus!$A$151:$AZ$161,AE$1)","v":49950},{"$f":"VLOOKUP(DropDownList!$A$19,CntyQryCensus!$A$151:$AZ$161,AF$1)","v":27312}]
[]
[]
[]
["Census 1990 Data -          Query Name: CountySTF3Qry2Poverty"]
["NAME","FIPS","COUSUBFP","HousingUnits90Cen","P01Persons90Cen","P02Families90Cen","P03Households90cen","P1Persons","P2UnweightedSample","P3Count100pct","P3APctPersons","P4TotFamilies","P5TotHouseholds","P117AbvPovertyPop<5","P117AbvPovertyPop5yrs","P117AbvPovertyPop6to11yrs","P117AbvPovertyPop12to17yrs","P117AbvPovertyPop18to24yrs","P117AbvPovertyPop25to34yrs","P117AbvPovertyPop35to44yrs","P117AbvPovertyPop45to54yrs","P117AbvPovertyPop55to59yrs","P117AbvPovertyPop60to64yrs","P117AbvPovertyPop65to74yrs","P117AbvPovertyPop75yrsPlus","P117BlwPovertyPop<5","P117BlwPovertyPop5yrs","P117BlwPovertyPop6to11yrs","P117BlwPovertyPop12to17yrs","P117BlwPovertyPop18to24yrs","P117BlwPovertyPop25to34yrs","P117BlwPovertyPop35to44yrs","P117BlwPovertyPop45to54yrs","P117BlwPovertyPop55to59yrs","P117BlwPovertyPop60to64yrs","P117BlwPovertyPop65to74yrs","P117BlwPovertyPop75yrsPlus","P1230001","P1230002","P1230003","P1230004","P1230005","P1230006","P1230007","P1230008","P1230009","P1230010","P1230011","P1230012","P1230013","P1230014","P1230015","P1230016","P1230017","P1230018","P1230019","P1230020","P1230021","P1230022","P1230023","P1230024","P1270001","P1270002","P1270003","P1270004","P1270005","P1270006","P1270007","P1270008","P1270009","P1270010","P1270011","P1270012","P1270013","P1270014","P1270015","P1270016","P1270017","P1270018","P1270019","P1270020","P1270021","P1270022","P1270023","P1270024","P1270025","P1270026","P1270027","P1270028","P1270029","P1270030"]
[{"$f":"VLOOKUP(DropDownList!$A$19,CntyQuery!$A$20:$CE$30,A$1)","v":"Grafton County"},{"$f":"VLOOKUP(DropDownList!$A$19,CntyQuery!$A$110:$CM$120,B$1)","v":9000},{"$f":"VLOOKUP(DropDownList!$A$19,CntyQuery!$A$110:$CM$120,C$1)","v":"00005"},{"$f":"VLOOKUP(DropDownList!$A$19,CntyQuery!$A$110:$CM$120,D$1)","v":42206},{"$f":"VLOOKUP(DropDownList!$A$19,CntyQuery!$A$110:$CM$120,E$1)","v":74929},{"$f":"VLOOKUP(DropDownList!$A$19,CntyQuery!$A$110:$CM$120,F$1)","v":18544},{"$f":"VLOOKUP(DropDownList!$A$19,CntyQuery!$A$110:$CM$120,G$1)","v":27542},{"$f":"VLOOKUP(DropDownList!$A$19,CntyQuery!$A$110:$CM$120,H$1)","v":74929},{"$f":"VLOOKUP(DropDownList!$A$19,CntyQuery!$A$110:$CM$120,I$1)","v":18754},{"$f":"VLOOKUP(DropDownList!$A$19,CntyQuery!$A$110:$CM$120,J$1)","v":74929},{"$f":"VLOOKUP(DropDownList!$A$19,CntyQuery!$A$110:$CM$120,K$1)","v":25},{"$f":"VLOOKUP(DropDownList!$A$19,CntyQuery!$A$110:$CM$120,L$1)","v":18600},{"$f":"VLOOKUP(DropDownList!$A$19,CntyQuery!$A$110:$CM$120,M$1)","v":27527},{"$f":"VLOOKUP(DropDownList!$A$19,CntyQuery!$A$110:$CM$120,N$1)","v":4384},{"$f":"VLOOKUP(DropDownList!$A$19,CntyQuery!$A$110:$CM$120,O$1)","v":889},{"$f":"VLOOKUP(DropDownList!$A$19,CntyQuery!$A$110:$CM$120,P$1)","v":5301},{"$f":"VLOOKUP(DropDownList!$A$19,CntyQuery!$A$110:$CM$120,Q$1)","v":4651},{"$f":"VLOOKUP(DropDownList!$A$19,CntyQuery!$A$110:$CM$120,R$1)","v":5210},{"$f":"VLOOKUP(DropDownList!$A$19,CntyQuery!$A$110:$CM$120,S$1)","v":10796},{"$f":"VLOOKUP(DropDownList!$A$19,CntyQuery!$A$110:$CM$120,T$1)","v":11103},{"$f":"VLOOKUP(DropDownList!$A$19,CntyQuery!$A$110:$CM$120,U$1)","v":6732},{"$f":"VLOOKUP(DropDownList!$A$19,CntyQuery!$A$110:$CM$120,V$1)","v":2860},{"$f":"VLOOKUP(DropDownList!$A$19,CntyQuery!$A$110:$CM$120,W$1)","v":2852},{"$f":"VLOOKUP(DropDownList!$A$19,CntyQuery!$A$110:$CM$120,X$1)","v":4650},{"$f":"VLOOKUP(DropDownList!$A$19,CntyQuery!$A$110:$CM$120,Y$1)","v":2930},{"$f":"VLOOKUP(DropDownList!$A$19,CntyQuery!$A$110:$CM$120,Z$1)","v":527},{"$f":"VLOOKUP(DropDownList!$A$19,CntyQuery!$A$110:$CM$120,AA$1)","v":109},{"$f":"VLOOKUP(DropDownList!$A$19,CntyQuery!$A$110:$CM$120,AB$1)","v":442},{"$f":"VLOOKUP(DropDownList!$A$19,CntyQuery!$A$110:$CM$120,AC$1)","v":499},{"$f":"VLOOKUP(DropDownList!$A$19,CntyQuery!$A$110:$CM$120,AD$1)","v":1747},{"$f":"VLOOKUP(DropDownList!$A$19,CntyQuery!$A$110:$CM$120,AE$1)","v":929},{"$f":"VLOOKUP(DropDownList!$A$19,CntyQuery!$A$110:$CM$120,AF$1)","v":513},{"$f":"VLOOKUP(DropDownList!$A$19,CntyQuery!$A$110:$CM$120,AG$1)","v":308},{"$f":"VLOOKUP(DropDownList!$A$19,CntyQuery!$A$110:$CM$120,AH$1)","v":142},{"$f":"VLOOKUP(DropDownList!$A$19,CntyQuery!$A$110:$CM$120,AI$1)","v":260},{"$f":"VLOOKUP(DropDownList!$A$19,CntyQuery!$A$110:$CM$120,AJ$1)","v":520},{"$f":"VLOOKUP(DropDownList!$A$19,CntyQuery!$A$110:$CM$120,AK$1)","v":641},{"$f":"VLOOKUP(DropDownList!$A$19,CntyQuery!$A$110:$CM$120,AL$1)","v":1584},{"$f":"VLOOKUP(DropDownList!$A$19,CntyQuery!$A$110:$CM$120,AM$1)","v":4146},{"$f":"VLOOKUP(DropDownList!$A$19,CntyQuery!$A$110:$CM$120,AN$1)","v":1409},{"$f":"VLOOKUP(DropDownList!$A$19,CntyQuery!$A$110:$CM$120,AO$1)","v":7909},{"$f":"VLOOKUP(DropDownList!$A$19,CntyQuery!$A$110:$CM$120,AP$1)","v":138},{"$f":"VLOOKUP(DropDownList!$A$19,CntyQuery!$A$110:$CM$120,AQ$1)","v":289},{"$f":"VLOOKUP(DropDownList!$A$19,CntyQuery!$A$110:$CM$120,AR$1)","v":58},{"$f":"VLOOKUP(DropDownList!$A$19,CntyQuery!$A$110:$CM$120,AS$1)","v":330},{"$f":"VLOOKUP(DropDownList!$A$19,CntyQuery!$A$110:$CM$120,AT$1)","v":131},{"$f":"VLOOKUP(DropDownList!$A$19,CntyQuery!$A$110:$CM$120,AU$1)","v":799},{"$f":"VLOOKUP(DropDownList!$A$19,CntyQuery!$A$110:$CM$120,AV$1)","v":79},{"$f":"VLOOKUP(DropDownList!$A$19,CntyQuery!$A$110:$CM$120,AW$1)","v":674},{"$f":"VLOOKUP(DropDownList!$A$19,CntyQuery!$A$110:$CM$120,AX$1)","v":61},{"$f":"VLOOKUP(DropDownList!$A$19,CntyQuery!$A$110:$CM$120,AY$1)","v":137},{"$f":"VLOOKUP(DropDownList!$A$19,CntyQuery!$A$110:$CM$120,AZ$1)","v":139},{"$f":"VLOOKUP(DropDownList!$A$19,CntyQuery!$A$110:$CM$120,BA$1)","v":274},{"$f":"VLOOKUP(DropDownList!$A$19,CntyQuery!$A$110:$CM$120,BB$1)","v":12},{"$f":"VLOOKUP(DropDownList!$A$19,CntyQuery!$A$110:$CM$120,BC$1)","v":41},{"$f":"VLOOKUP(DropDownList!$A$19,CntyQuery!$A$110:$CM$120,BD$1)","v":6},{"$f":"VLOOKUP(DropDownList!$A$19,CntyQuery!$A$110:$CM$120,BE$1)","v":21},{"$f":"VLOOKUP(DropDownList!$A$19,CntyQuery!$A$110:$CM$120,BF$1)","v":95},{"$f":"VLOOKUP(DropDownList!$A$19,CntyQuery!$A$110:$CM$120,BG$1)","v":163},{"$f":"VLOOKUP(DropDownList!$A$19,CntyQuery!$A$110:$CM$120,BH$1)","v":72},{"$f":"VLOOKUP(DropDownList!$A$19,CntyQuery!$A$110:$CM$120,BI$1)","v":33},{"$f":"VLOOKUP(DropDownList!$A$19,CntyQuery!$A$110:$CM$120,BJ$1)","v":12562},{"$f":"VLOOKUP(DropDownList!$A$19,CntyQuery!$A$110:$CM$120,BK$1)","v":724},{"$f":"VLOOKUP(DropDownList!$A$19,CntyQuery!$A$110:$CM$120,BL$1)","v":1359},{"$f":"VLOOKUP(DropDownList!$A$19,CntyQuery!$A$110:$CM$120,BM$1)","v":3351},{"$f":"VLOOKUP(DropDownList!$A$19,CntyQuery!$A$110:$CM$120,BN$1)","v":1593},{"$f":"VLOOKUP(DropDownList!$A$19,CntyQuery!$A$110:$CM$120,BO$1)","v":1798},{"$f":"VLOOKUP(DropDownList!$A$19,CntyQuery!$A$110:$CM$120,BP$1)","v":70},{"$f":"VLOOKUP(DropDownList!$A$19,CntyQuery!$A$110:$CM$120,BQ$1)","v":181},{"$f":"VLOOKUP(DropDownList!$A$19,CntyQuery!$A$110:$CM$120,BR$1)","v":925},{"$f":"VLOOKUP(DropDownList!$A$19,CntyQuery!$A$110:$CM$120,BS$1)","v":50},{"$f":"VLOOKUP(DropDownList!$A$19,CntyQuery!$A$110:$CM$120,BT$1)","v":688},{"$f":"VLOOKUP(DropDownList!$A$19,CntyQuery!$A$110:$CM$120,BU$1)","v":21},{"$f":"VLOOKUP(DropDownList!$A$19,CntyQuery!$A$110:$CM$120,BV$1)","v":143},{"$f":"VLOOKUP(DropDownList!$A$19,CntyQuery!$A$110:$CM$120,BW$1)","v":1184},{"$f":"VLOOKUP(DropDownList!$A$19,CntyQuery!$A$110:$CM$120,BX$1)","v":49},{"$f":"VLOOKUP(DropDownList!$A$19,CntyQuery!$A$110:$CM$120,BY$1)","v":450},{"$f":"VLOOKUP(DropDownList!$A$19,CntyQuery!$A$110:$CM$120,BZ$1)","v":72},{"$f":"VLOOKUP(DropDownList!$A$19,CntyQuery!$A$110:$CM$120,CA$1)","v":347},{"$f":"VLOOKUP(DropDownList!$A$19,CntyQuery!$A$110:$CM$120,CB$1)","v":485},{"$f":"VLOOKUP(DropDownList!$A$19,CntyQuery!$A$110:$CM$120,CC$1)","v":504},{"$f":"VLOOKUP(DropDownList!$A$19,CntyQuery!$A$110:$CM$120,CD$1)","v":106},{"$f":"VLOOKUP(DropDownList!$A$19,CntyQuery!$A$110:$CM$120,CE$1)","v":2},{"$f":"VLOOKUP(DropDownList!$A$19,CntyQuery!$A$110:$CM$120,CF$1)","v":6},{"$f":"VLOOKUP(DropDownList!$A$19,CntyQuery!$A$110:$CM$120,CG$1)","v":292},{"$f":"VLOOKUP(DropDownList!$A$19,CntyQuery!$A$110:$CM$120,CH$1)","v":17},{"$f":"VLOOKUP(DropDownList!$A$19,CntyQuery!$A$110:$CM$120,CI$1)","v":55},{"$f":"VLOOKUP(DropDownList!$A$19,CntyQuery!$A$110:$CM$120,CJ$1)","v":6},{"$f":"VLOOKUP(DropDownList!$A$19,CntyQuery!$A$110:$CM$120,CK$1)","v":10},{"$f":"VLOOKUP(DropDownList!$A$19,CntyQuery!$A$110:$CM$120,CL$1)","v":460},{"$f":"VLOOKUP(DropDownList!$A$19,CntyQuery!$A$110:$CM$120,CM$1)","v":17},{"$f":"VLOOKUP(DropDownList!$A$19,CntyQuery!$A$110:$CM$120,CN$1)","v":{"$error":"#REF!"}}]
[null,null,null,null,null,null,null,null,null,null,null,null,null,null,null,null,null,null,null,null,null,null,null,null,null,null,null,null,null,null,null,null,null,null,null,null,null,null,null,null,null,null,null,null,null,null,null,null,null,{"$f":"SUM(AX86:BI86)","v":1054},null,null,null,null,null,null,null,null,null,null,null,null,null,null,null,null,null,null,null,null,null,null,null,null,null,null,{"$f":"BY86+BZ86+CA86+CD86+CE86+CF86+CI86+CJ86+CK86","v":1054}]
[]
["Census 1990 Data -          Query Name: CountySTF3QryTableP42_P43"]
["NAME","FIPS","COUSUBFP","HousingUnits90Cen","Persons90Cen","Families90Cen","Households90cen","P01Persons","P02SampleCount","P03_100PctCount","P03APctPersonsInCount","P0420001","P0420002","P0420003","P0420004","P0420005","P0420006","P0420007","P0420008","P0420009","P0430001","P0430002","P0430003","P0430004","P0430005","P0430006","P0430007","P0430008","P0430009","P0430010"]
[{"$f":"VLOOKUP(DropDownList!$A$19,CntyQuery!$A$20:$CE$30,A$1)","v":"Grafton County"},{"$f":"VLOOKUP(DropDownList!$A$19,CntyQuery!$A$126:$AD$136,B$1)","v":9000},{"$f":"VLOOKUP(DropDownList!$A$19,CntyQuery!$A$126:$AD$136,C$1)","v":"00005"},{"$f":"VLOOKUP(DropDownList!$A$19,CntyQuery!$A$126:$AD$136,D$1)","v":42206},{"$f":"VLOOKUP(DropDownList!$A$19,CntyQuery!$A$126:$AD$136,E$1)","v":74929},{"$f":"VLOOKUP(DropDownList!$A$19,CntyQuery!$A$126:$AD$136,F$1)","v":18544},{"$f":"VLOOKUP(DropDownList!$A$19,CntyQuery!$A$126:$AD$136,G$1)","v":27542},{"$f":"VLOOKUP(DropDownList!$A$19,CntyQuery!$A$126:$AD$136,H$1)","v":74929},{"$f":"VLOOKUP(DropDownList!$A$19,CntyQuery!$A$126:$AD$136,I$1)","v":18754},{"$f":"VLOOKUP(DropDownList!$A$19,CntyQuery!$A$126:$AD$136,J$1)","v":74929},{"$f":"VLOOKUP(DropDownList!$A$19,CntyQuery!$A$126:$AD$136,K$1)","v":25},{"$f":"VLOOKUP(DropDownList!$A$19,CntyQuery!$A$126:$AD$136,L$1)","v":35079},{"$f":"VLOOKUP(DropDownList!$A$19,CntyQuery!$A$126:$AD$136,M$1)","v":28365},{"$f":"VLOOKUP(DropDownList!$A$19,CntyQuery!$A$126:$AD$136,N$1)","v":3280},{"$f":"VLOOKUP(DropDownList!$A$19,CntyQuery!$A$126:$AD$136,O$1)","v":2835},{"$f":"VLOOKUP(DropDownList!$A$19,CntyQuery!$A$126:$AD$136,P$1)","v":2311},{"$f":"VLOOKUP(DropDownList!$A$19,CntyQuery!$A$126:$AD$136,Q$1)","v":20},{"$f":"VLOOKUP(DropDownList!$A$19,CntyQuery!$A$126:$AD$136,R$1)","v":10},{"$f":"VLOOKUP(DropDownList!$A$19,CntyQuery!$A$126:$AD$136,S$1)","v":672},{"$f":"VLOOKUP(DropDownList!$A$19,CntyQuery!$A$126:$AD$136,T$1)","v":2357},{"$f":"VLOOKUP(DropDownList!$A$19,CntyQuery!$A$126:$AD$136,U$1)","v":32257},{"$f":"VLOOKUP(DropDownList!$A$19,CntyQuery!$A$126:$AD$136,V$1)","v":15473},{"$f":"VLOOKUP(DropDownList!$A$19,CntyQuery!$A$126:$AD$136,W$1)","v":5224},{"$f":"VLOOKUP(DropDownList!$A$19,CntyQuery!$A$126:$AD$136,X$1)","v":11321},{"$f":"VLOOKUP(DropDownList!$A$19,CntyQuery!$A$126:$AD$136,Y$1)","v":1081},{"$f":"VLOOKUP(DropDownList!$A$19,CntyQuery!$A$126:$AD$136,Z$1)","v":1839},{"$f":"VLOOKUP(DropDownList!$A$19,CntyQuery!$A$126:$AD$136,AA$1)","v":2074},{"$f":"VLOOKUP(DropDownList!$A$19,CntyQuery!$A$126:$AD$136,AB$1)","v":0},{"$f":"VLOOKUP(DropDownList!$A$19,CntyQuery!$A$126:$AD$136,AC$1)","v":7},{"$f":"VLOOKUP(DropDownList!$A$19,CntyQuery!$A$126:$AD$136,AD$1)","v":707}]
[]
[]
["Census 2000 SummaryFile3 Sample Data - SF3CountyQry10Disabil"]
["NAME","LOGRECNO","COUNTY","TotalPop","PCT026001-NonInstPop5yrs+","PCT026002-MaleNonInstPop5yrs+","PCT026003","PCT026004","PCT026005","PCT026006","PCT026007","PCT026008","PCT026009","PCT026010","PCT026011","PCT026012","PCT026013","PCT026014","PCT026015","PCT026016","PCT026017","PCT026018","PCT026019","PCT026020","PCT026021","PCT026022","PCT026023","PCT026024","PCT026025","PCT026026","PCT026027","PCT026028","PCT026029","PCT026030","PCT026031","PCT026032","PCT026033","PCT026034","PCT026035","PCT026036","PCT026037","PCT026038","PCT026039","PCT026040","PCT026041","PCT026042","PCT026043","PCT026044","PCT026045","PCT026046","PCT026047","PCT026048","PCT026049","PCT026050","PCT026051","PCT026052","PCT026053","PCT026054","PCT026055","PCT026056","PCT026057","PCT026058","PCT026059","PCT026060","PCT026061","PCT026062","PCT026063","PCT026064","PCT026065","PCT026066","PCT026067","PCT026068","PCT026069","PCT026070","PCT026071","PCT026072","PCT026073","PCT026074","PCT026075","PCT026076","PCT026077","PCT026078","PCT026079","PCT026080","PCT026081","PCT026082","PCT026083","PCT026084","PCT026085","PCT026086","PCT026087","PCT026088","PCT026089","PCT026090","PCT026091","PCT026092","PCT026093","PCT026094","PCT026095","PCT026096","PCT026097","PCT026098","PCT026099","PCT026100","PCT026101"]
[{"$f":"VLOOKUP(DropDownList!$A$19,CntyQuery!$A$20:$CE$30,A$1)","v":"Grafton County"},{"$f":"VLOOKUP(DropDownList!$A$19,CntyQryCensus!$A$168:$DA$178,B$1)","v":"0001145"},{"$f":"VLOOKUP(DropDownList!$A$19,CntyQryCensus!$A$168:$DA$178,C$1)","v":"009"},{"$f":"VLOOKUP(DropDownList!$A$19,CntyQryCensus!$A$168:$DA$178,D$1)","v":81743},{"$f":"VLOOKUP(DropDownList!$A$19,CntyQryCensus!$A$168:$DA$178,E$1)","v":76493},{"$f":"VLOOKUP(DropDownList!$A$19,CntyQryCensus!$A$168:$DA$178,F$1)","v":37568},{"$f":"VLOOKUP(DropDownList!$A$19,CntyQryCensus!$A$168:$DA$178,G$1)","v":5787},{"$f":"VLOOKUP(DropDownList!$A$19,CntyQryCensus!$A$168:$DA$178,H$1)","v":403},{"$f":"VLOOKUP(DropDownList!$A$19,CntyQryCensus!$A$168:$DA$178,I$1)","v":19},{"$f":"VLOOKUP(DropDownList!$A$19,CntyQryCensus!$A$168:$DA$178,J$1)","v":5},{"$f":"VLOOKUP(DropDownList!$A$19,CntyQryCensus!$A$168:$DA$178,K$1)","v":379},{"$f":"VLOOKUP(DropDownList!$A$19,CntyQryCensus!$A$168:$DA$178,L$1)","v":0},{"$f":"VLOOKUP(DropDownList!$A$19,CntyQryCensus!$A$168:$DA$178,M$1)","v":132},{"$f":"VLOOKUP(DropDownList!$A$19,CntyQryCensus!$A$168:$DA$178,N$1)","v":90},{"$f":"VLOOKUP(DropDownList!$A$19,CntyQryCensus!$A$168:$DA$178,O$1)","v":42},{"$f":"VLOOKUP(DropDownList!$A$19,CntyQryCensus!$A$168:$DA$178,P$1)","v":5252},{"$f":"VLOOKUP(DropDownList!$A$19,CntyQryCensus!$A$168:$DA$178,Q$1)","v":4101},{"$f":"VLOOKUP(DropDownList!$A$19,CntyQryCensus!$A$168:$DA$178,R$1)","v":205},{"$f":"VLOOKUP(DropDownList!$A$19,CntyQryCensus!$A$168:$DA$178,S$1)","v":18},{"$f":"VLOOKUP(DropDownList!$A$19,CntyQryCensus!$A$168:$DA$178,T$1)","v":9},{"$f":"VLOOKUP(DropDownList!$A$19,CntyQryCensus!$A$168:$DA$178,U$1)","v":109},{"$f":"VLOOKUP(DropDownList!$A$19,CntyQryCensus!$A$168:$DA$178,V$1)","v":0},{"$f":"VLOOKUP(DropDownList!$A$19,CntyQryCensus!$A$168:$DA$178,W$1)","v":5},{"$f":"VLOOKUP(DropDownList!$A$19,CntyQryCensus!$A$168:$DA$178,X$1)","v":64},{"$f":"VLOOKUP(DropDownList!$A$19,CntyQryCensus!$A$168:$DA$178,Y$1)","v":141},{"$f":"VLOOKUP(DropDownList!$A$19,CntyQryCensus!$A$168:$DA$178,Z$1)","v":27},{"$f":"VLOOKUP(DropDownList!$A$19,CntyQryCensus!$A$168:$DA$178,AA$1)","v":114},{"$f":"VLOOKUP(DropDownList!$A$19,CntyQryCensus!$A$168:$DA$178,AB$1)","v":29},{"$f":"VLOOKUP(DropDownList!$A$19,CntyQryCensus!$A$168:$DA$178,AC$1)","v":85},{"$f":"VLOOKUP(DropDownList!$A$19,CntyQryCensus!$A$168:$DA$178,AD$1)","v":3755},{"$f":"VLOOKUP(DropDownList!$A$19,CntyQryCensus!$A$168:$DA$178,AE$1)","v":23167},{"$f":"VLOOKUP(DropDownList!$A$19,CntyQryCensus!$A$168:$DA$178,AF$1)","v":2242},{"$f":"VLOOKUP(DropDownList!$A$19,CntyQryCensus!$A$168:$DA$178,AG$1)","v":416},{"$f":"VLOOKUP(DropDownList!$A$19,CntyQryCensus!$A$168:$DA$178,AH$1)","v":413},{"$f":"VLOOKUP(DropDownList!$A$19,CntyQryCensus!$A$168:$DA$178,AI$1)","v":242},{"$f":"VLOOKUP(DropDownList!$A$19,CntyQryCensus!$A$168:$DA$178,AJ$1)","v":3},{"$f":"VLOOKUP(DropDownList!$A$19,CntyQryCensus!$A$168:$DA$178,AK$1)","v":41},{"$f":"VLOOKUP(DropDownList!$A$19,CntyQryCensus!$A$168:$DA$178,AL$1)","v":1127},{"$f":"VLOOKUP(DropDownList!$A$19,CntyQryCensus!$A$168:$DA$178,AM$1)","v":1329},{"$f":"VLOOKUP(DropDownList!$A$19,CntyQryCensus!$A$168:$DA$178,AN$1)","v":243},{"$f":"VLOOKUP(DropDownList!$A$19,CntyQryCensus!$A$168:$DA$178,AO$1)","v":1086},{"$f":"VLOOKUP(DropDownList!$A$19,CntyQryCensus!$A$168:$DA$178,AP$1)","v":183},{"$f":"VLOOKUP(DropDownList!$A$19,CntyQryCensus!$A$168:$DA$178,AQ$1)","v":903},{"$f":"VLOOKUP(DropDownList!$A$19,CntyQryCensus!$A$168:$DA$178,AR$1)","v":19596},{"$f":"VLOOKUP(DropDownList!$A$19,CntyQryCensus!$A$168:$DA$178,AS$1)","v":4513},{"$f":"VLOOKUP(DropDownList!$A$19,CntyQryCensus!$A$168:$DA$178,AT$1)","v":977},{"$f":"VLOOKUP(DropDownList!$A$19,CntyQryCensus!$A$168:$DA$178,AU$1)","v":419},{"$f":"VLOOKUP(DropDownList!$A$19,CntyQryCensus!$A$168:$DA$178,AV$1)","v":396},{"$f":"VLOOKUP(DropDownList!$A$19,CntyQryCensus!$A$168:$DA$178,AW$1)","v":67},{"$f":"VLOOKUP(DropDownList!$A$19,CntyQryCensus!$A$168:$DA$178,AX$1)","v":0},{"$f":"VLOOKUP(DropDownList!$A$19,CntyQryCensus!$A$168:$DA$178,AY$1)","v":95},{"$f":"VLOOKUP(DropDownList!$A$19,CntyQryCensus!$A$168:$DA$178,AZ$1)","v":758},{"$f":"VLOOKUP(DropDownList!$A$19,CntyQryCensus!$A$168:$DA$178,BA$1)","v":303},{"$f":"VLOOKUP(DropDownList!$A$19,CntyQryCensus!$A$168:$DA$178,BB$1)","v":455},{"$f":"VLOOKUP(DropDownList!$A$19,CntyQryCensus!$A$168:$DA$178,BC$1)","v":2778},{"$f":"VLOOKUP(DropDownList!$A$19,CntyQryCensus!$A$168:$DA$178,BD$1)","v":38925},{"$f":"VLOOKUP(DropDownList!$A$19,CntyQryCensus!$A$168:$DA$178,BE$1)","v":5499},{"$f":"VLOOKUP(DropDownList!$A$19,CntyQryCensus!$A$168:$DA$178,BF$1)","v":240},{"$f":"VLOOKUP(DropDownList!$A$19,CntyQryCensus!$A$168:$DA$178,BG$1)","v":80},{"$f":"VLOOKUP(DropDownList!$A$19,CntyQryCensus!$A$168:$DA$178,BH$1)","v":15},{"$f":"VLOOKUP(DropDownList!$A$19,CntyQryCensus!$A$168:$DA$178,BI$1)","v":144},{"$f":"VLOOKUP(DropDownList!$A$19,CntyQryCensus!$A$168:$DA$178,BJ$1)","v":1},{"$f":"VLOOKUP(DropDownList!$A$19,CntyQryCensus!$A$168:$DA$178,BK$1)","v":50},{"$f":"VLOOKUP(DropDownList!$A$19,CntyQryCensus!$A$168:$DA$178,BL$1)","v":37},{"$f":"VLOOKUP(DropDownList!$A$19,CntyQryCensus!$A$168:$DA$178,BM$1)","v":13},{"$f":"VLOOKUP(DropDownList!$A$19,CntyQryCensus!$A$168:$DA$178,BN$1)","v":5209},{"$f":"VLOOKUP(DropDownList!$A$19,CntyQryCensus!$A$168:$DA$178,BO$1)","v":4260},{"$f":"VLOOKUP(DropDownList!$A$19,CntyQryCensus!$A$168:$DA$178,BP$1)","v":318},{"$f":"VLOOKUP(DropDownList!$A$19,CntyQryCensus!$A$168:$DA$178,BQ$1)","v":42},{"$f":"VLOOKUP(DropDownList!$A$19,CntyQryCensus!$A$168:$DA$178,BR$1)","v":52},{"$f":"VLOOKUP(DropDownList!$A$19,CntyQryCensus!$A$168:$DA$178,BS$1)","v":108},{"$f":"VLOOKUP(DropDownList!$A$19,CntyQryCensus!$A$168:$DA$178,BT$1)","v":0},{"$f":"VLOOKUP(DropDownList!$A$19,CntyQryCensus!$A$168:$DA$178,BU$1)","v":21},{"$f":"VLOOKUP(DropDownList!$A$19,CntyQryCensus!$A$168:$DA$178,BV$1)","v":95},{"$f":"VLOOKUP(DropDownList!$A$19,CntyQryCensus!$A$168:$DA$178,BW$1)","v":53},{"$f":"VLOOKUP(DropDownList!$A$19,CntyQryCensus!$A$168:$DA$178,BX$1)","v":12},{"$f":"VLOOKUP(DropDownList!$A$19,CntyQryCensus!$A$168:$DA$178,BY$1)","v":41},{"$f":"VLOOKUP(DropDownList!$A$19,CntyQryCensus!$A$168:$DA$178,BZ$1)","v":10},{"$f":"VLOOKUP(DropDownList!$A$19,CntyQryCensus!$A$168:$DA$178,CA$1)","v":31},{"$f":"VLOOKUP(DropDownList!$A$19,CntyQryCensus!$A$168:$DA$178,CB$1)","v":3889},{"$f":"VLOOKUP(DropDownList!$A$19,CntyQryCensus!$A$168:$DA$178,CC$1)","v":23492},{"$f":"VLOOKUP(DropDownList!$A$19,CntyQryCensus!$A$168:$DA$178,CD$1)","v":1887},{"$f":"VLOOKUP(DropDownList!$A$19,CntyQryCensus!$A$168:$DA$178,CE$1)","v":244},{"$f":"VLOOKUP(DropDownList!$A$19,CntyQryCensus!$A$168:$DA$178,CF$1)","v":406},{"$f":"VLOOKUP(DropDownList!$A$19,CntyQryCensus!$A$168:$DA$178,CG$1)","v":144},{"$f":"VLOOKUP(DropDownList!$A$19,CntyQryCensus!$A$168:$DA$178,CH$1)","v":2},{"$f":"VLOOKUP(DropDownList!$A$19,CntyQryCensus!$A$168:$DA$178,CI$1)","v":54},{"$f":"VLOOKUP(DropDownList!$A$19,CntyQryCensus!$A$168:$DA$178,CJ$1)","v":1037},{"$f":"VLOOKUP(DropDownList!$A$19,CntyQryCensus!$A$168:$DA$178,CK$1)","v":1459},{"$f":"VLOOKUP(DropDownList!$A$19,CntyQryCensus!$A$168:$DA$178,CL$1)","v":376},{"$f":"VLOOKUP(DropDownList!$A$19,CntyQryCensus!$A$168:$DA$178,CM$1)","v":1083},{"$f":"VLOOKUP(DropDownList!$A$19,CntyQryCensus!$A$168:$DA$178,CN$1)","v":141},{"$f":"VLOOKUP(DropDownList!$A$19,CntyQryCensus!$A$168:$DA$178,CO$1)","v":942},{"$f":"VLOOKUP(DropDownList!$A$19,CntyQryCensus!$A$168:$DA$178,CP$1)","v":20146},{"$f":"VLOOKUP(DropDownList!$A$19,CntyQryCensus!$A$168:$DA$178,CQ$1)","v":5674},{"$f":"VLOOKUP(DropDownList!$A$19,CntyQryCensus!$A$168:$DA$178,CR$1)","v":1014},{"$f":"VLOOKUP(DropDownList!$A$19,CntyQryCensus!$A$168:$DA$178,CS$1)","v":265},{"$f":"VLOOKUP(DropDownList!$A$19,CntyQryCensus!$A$168:$DA$178,CT$1)","v":531},{"$f":"VLOOKUP(DropDownList!$A$19,CntyQryCensus!$A$168:$DA$178,CU$1)","v":72},{"$f":"VLOOKUP(DropDownList!$A$19,CntyQryCensus!$A$168:$DA$178,CV$1)","v":5},{"$f":"VLOOKUP(DropDownList!$A$19,CntyQryCensus!$A$168:$DA$178,CW$1)","v":141},{"$f":"VLOOKUP(DropDownList!$A$19,CntyQryCensus!$A$168:$DA$178,CX$1)","v":1127},{"$f":"VLOOKUP(DropDownList!$A$19,CntyQryCensus!$A$168:$DA$178,CY$1)","v":490},{"$f":"VLOOKUP(DropDownList!$A$19,CntyQryCensus!$A$168:$DA$178,CZ$1)","v":637},{"$f":"VLOOKUP(DropDownList!$A$19,CntyQryCensus!$A$168:$DA$178,DA$1)","v":3533}]
[]
[]
["OSP PopProjections2002"]
["NAME","FIPS","CNTY_CODE","COUSUB","Pop2005Age<15","Pop2005Age15to24","Pop2005Age25to34","Pop2005Age35to44","Pop2005Age45to54","Pop2005Age55to64","Pop2005Age65to74","Pop2005Age75+","Pop2010Age<15","Pop2010Age15to24","Pop2010Age25to34","Pop2010Age35to44","Pop2010Age45to54","Pop2010Age55to64","Pop2010Age65to74","Pop2010Age75+","Pop2015Age<15","Pop2015Age15to24","Pop2015Age25to34","Pop2015Age35to44","Pop2015Age45to54","Pop2015Age55to64","Pop2015Age65to74","Pop2015Age75+","Pop2020Age<15","Pop2020Age15to24","Pop2020Age25to34","Pop2020Age35to44","Pop2020Age45to54","Pop2020Age55to64","Pop2020Age65to74","Pop2020Age75+"]
[{"$f":"VLOOKUP(DropDownList!$A$19,CntyQuery!$A$20:$CE$30,A$1)","v":"Grafton County"},{"$f":"VLOOKUP(DropDownList!$A$19,CntyQuery!$A$142:$AJ$152,B$1)","v":9000},{"$f":"VLOOKUP(DropDownList!$A$19,CntyQuery!$A$142:$AJ$152,C$1)","v":5},{"$f":"VLOOKUP(DropDownList!$A$19,CntyQuery!$A$142:$AJ$152,D$1)","v":"00005"},{"$f":"VLOOKUP(DropDownList!$A$19,CntyQuery!$A$142:$AJ$152,E$1)","v":8610},{"$f":"VLOOKUP(DropDownList!$A$19,CntyQuery!$A$142:$AJ$152,F$1)","v":14553},{"$f":"VLOOKUP(DropDownList!$A$19,CntyQuery!$A$142:$AJ$152,G$1)","v":47683},{"$f":"VLOOKUP(DropDownList!$A$19,CntyQuery!$A$142:$AJ$152,H$1)","v":14069},{"$f":"VLOOKUP(DropDownList!$A$19,CntyQuery!$A$142:$AJ$152,I$1)","v":8383},{"$f":"VLOOKUP(DropDownList!$A$19,CntyQuery!$A$142:$AJ$152,J$1)","v":13668},{"$f":"VLOOKUP(DropDownList!$A$19,CntyQuery!$A$142:$AJ$152,K$1)","v":47881},{"$f":"VLOOKUP(DropDownList!$A$19,CntyQuery!$A$142:$AJ$152,L$1)","v":18355},{"$f":"VLOOKUP(DropDownList!$A$19,CntyQuery!$A$142:$AJ$152,M$1)","v":8705},{"$f":"VLOOKUP(DropDownList!$A$19,CntyQuery!$A$142:$AJ$152,N$1)","v":13008},{"$f":"VLOOKUP(DropDownList!$A$19,CntyQuery!$A$142:$AJ$152,O$1)","v":45689},{"$f":"VLOOKUP(DropDownList!$A$19,CntyQuery!$A$142:$AJ$152,P$1)","v":23555},{"$f":"VLOOKUP(DropDownList!$A$19,CntyQuery!$A$142:$AJ$152,Q$1)","v":9032},{"$f":"VLOOKUP(DropDownList!$A$19,CntyQuery!$A$142:$AJ$152,R$1)","v":12889},{"$f":"VLOOKUP(DropDownList!$A$19,CntyQuery!$A$142:$AJ$152,S$1)","v":43208},{"$f":"VLOOKUP(DropDownList!$A$19,CntyQuery!$A$142:$AJ$152,T$1)","v":28667},{"$f":"VLOOKUP(DropDownList!$A$19,CntyQuery!$A$142:$AJ$152,U$1)","v":9075},{"$f":"VLOOKUP(DropDownList!$A$19,CntyQuery!$A$142:$AJ$152,V$1)","v":13475},{"$f":"VLOOKUP(DropDownList!$A$19,CntyQuery!$A$142:$AJ$152,W$1)","v":42675},{"$f":"VLOOKUP(DropDownList!$A$19,CntyQuery!$A$142:$AJ$152,X$1)","v":31609},{"$f":"VLOOKUP(DropDownList!$A$19,CntyQuery!$A$142:$AJ$152,Y$1)","v":0},{"$f":"VLOOKUP(DropDownList!$A$19,CntyQuery!$A$142:$AJ$152,Z$1)","v":0},{"$f":"VLOOKUP(DropDownList!$A$19,CntyQuery!$A$142:$AJ$152,AA$1)","v":0},{"$f":"VLOOKUP(DropDownList!$A$19,CntyQuery!$A$142:$AJ$152,AB$1)","v":0},{"$f":"VLOOKUP(DropDownList!$A$19,CntyQuery!$A$142:$AJ$152,AC$1)","v":0},{"$f":"VLOOKUP(DropDownList!$A$19,CntyQuery!$A$142:$AJ$152,AD$1)","v":0},{"$f":"VLOOKUP(DropDownList!$A$19,CntyQuery!$A$142:$AJ$152,AE$1)","v":0},{"$f":"VLOOKUP(DropDownList!$A$19,CntyQuery!$A$142:$AJ$152,AF$1)","v":0},{"$f":"VLOOKUP(DropDownList!$A$19,CntyQuery!$A$142:$AJ$152,AG$1)","v":0},{"$f":"VLOOKUP(DropDownList!$A$19,CntyQuery!$A$142:$AJ$152,AH$1)","v":0},{"$f":"VLOOKUP(DropDownList!$A$19,CntyQuery!$A$142:$AJ$152,AI$1)","v":0},{"$f":"VLOOKUP(DropDownList!$A$19,CntyQuery!$A$142:$AJ$152,AJ$1)","v":0}]
[]
[]
[]
["ACS",2,{"$f":"B105+1","v":3},{"$f":"C105+1","v":4},5,6,7,8,9,10,11,{"$f":"K105+1","v":12},13,14,15,{"$f":"O105+1","v":16},17,18,19,20,21,22,23,24,25,26,27,28,29,30,31,32,33,34,35,36,37,38,39,40,41,42,43,44,45,46,47,48,49,50,51,52,53,54,55,56,57,58,59,60,61,62,63,64,65,66,67,{"$f":"BO105+1","v":68},69,70,71,72,73,74,75,76,77,78,79,80,81,82,83,84,85,86,87,88,89,90,91,92,93,94,95,96,97,98,99,100,101,102,103,104,105,106,107,108,109,110,111,112,113,114,115,116,117,118,119,120,121,122,123,124,125]
["Househould Data (Housing Unit Type)"]
["NAME","TotalHU",{"$f":"\"MOE \"&B107","v":"MOE TotalHU"},"TotalOccHU",{"$f":"\"MOE \"&D107","v":"MOE TotalOccHU"},"TotalOwnerOccUn",{"$f":"\"MOE \"&F107","v":"MOE TotalOwnerOccUn"},"TotalRenterOccn",{"$f":"\"MOE \"&H107","v":"MOE TotalRenterOccn"},"TotalVacantUntis",{"$f":"\"MOE \"&J107","v":"MOE TotalVacantUntis"},"VacantUnitsForRent",{"$f":"\"MOE \"&L107","v":"MOE VacantUnitsForRent"},"VacantUnitRentedNotOcc",{"$f":"\"MOE \"&N107","v":"MOE VacantUnitRentedNotOcc"},"VacantUnitForSale",{"$f":"\"MOE \"&P107","v":"MOE VacantUnitForSale"},"VacantUnitSoldNotOcc",{"$f":"\"MOE \"&R107","v":"MOE VacantUnitSoldNotOcc"},"VacantUnitSeasonalRec",{"$f":"\"MOE \"&T107","v":"MOE VacantUnitSeasonalRec"},"TotalPopInHousingUnits",{"$f":"\"MOE \"&V107","v":"MOE TotalPopInHousingUnits"},"OwnerOccPopHousingUnits",{"$f":"\"MOE \"&X107","v":"MOE OwnerOccPopHousingUnits"},"RenterOccPopHousingUnits",{"$f":"\"MOE \"&Z107","v":"MOE RenterOccPopHousingUnits"},"TotalUntis",{"$f":"\"MOE \"&AB107","v":"MOE TotalUntis"},"TotalOwnerOccUnits",{"$f":"\"MOE \"&AD107","v":"MOE TotalOwnerOccUnits"},"SigFamOwnerOcc",{"$f":"\"MOE \"&AF107","v":"MOE SigFamOwnerOcc"},"MultiFamOwnerOcc",{"$f":"\"MOE \"&AH107","v":"MOE MultiFamOwnerOcc"},"MobileOwnerOcc",{"$f":"\"MOE \"&AJ107","v":"MOE MobileOwnerOcc"},"TotalRenterOccUnits",{"$f":"\"MOE \"&AL107","v":"MOE TotalRenterOccUnits"},"SigFamRenterOcc",{"$f":"\"MOE \"&AN107","v":"MOE SigFamRenterOcc"},"MultiFamRenterOcc",{"$f":"\"MOE \"&AP107","v":"MOE MultiFamRenterOcc"},"MobileRenterOcc",{"$f":"\"MOE \"&AR107","v":"MOE MobileRenterOcc"},"TotalSigFamilyUnits",{"$f":"\"MOE \"&AT107","v":"MOE TotalSigFamilyUnits"},"TotalMultiFamilyUnits",{"$f":"\"MOE \"&AV107","v":"MOE TotalMultiFamilyUnits"},"TotalMobileUnits",{"$f":"\"MOE \"&AX107","v":"MOE TotalMobileUnits"},"YrHouseBuilt2014Later",{"$f":"\"MOE \"&AZ107","v":"MOE YrHouseBuilt2014Later"},"YrHouseBuilt2010-2013",{"$f":"\"MOE \"&BB107","v":"MOE YrHouseBuilt2010-2013"},"YrHouseBuilt2000-2009",{"$f":"\"MOE \"&BD107","v":"MOE YrHouseBuilt2000-2009"},"YrHouseBuilt1990-1999",{"$f":"\"MOE \"&BF107","v":"MOE YrHouseBuilt1990-1999"},"YrHouseBuilt1980-1989",{"$f":"\"MOE \"&BH107","v":"MOE YrHouseBuilt1980-1989"},"YrHouseBuilt1970-1979",{"$f":"\"MOE \"&BJ107","v":"MOE YrHouseBuilt1970-1979"},"YrHouseBuilt1960-1969",{"$f":"\"MOE \"&BL107","v":"MOE YrHouseBuilt1960-1969"},"YrHouseBuilt1950-1959",{"$f":"\"MOE \"&BN107","v":"MOE YrHouseBuilt1950-1959"},"YrHouseBuilt1940-1949",{"$f":"\"MOE \"&BP107","v":"MOE YrHouseBuilt1940-1949"},"YrHouseBuilt1939orEarlier",{"$f":"\"MOE \"&BR107","v":"MOE YrHouseBuilt1939orEarlier"},"NoBedrooms",{"$f":"\"MOE \"&BT107","v":"MOE NoBedrooms"},"1Bedroom",{"$f":"\"MOE \"&BV107","v":"MOE 1Bedroom"},"2Bedroom",{"$f":"\"MOE \"&BX107","v":"MOE 2Bedroom"},"3Bedroom",{"$f":"\"MOE \"&BZ107","v":"MOE 3Bedroom"},"4+Bedroom",{"$f":"\"MOE \"&CB107","v":"MOE 4+Bedroom"}]
[{"$f":"VLOOKUP(DropDownList!$A$19,CntyQuery!$A$20:$CE$30,A$1)","v":"Grafton County"},636480,184,540498,1974,387149,2619,153349,1981,95982,1935,6271,787,2805,482,2866,477,1917,430,67649,1396,1332094,"*****",1010733,4988,321361,4990,540498,1974,387149,2619,317587,2675,45353,1671.6213686119233,24209,1034.4950459040392,153349,1981,22859,1057,126869,2753.8738170075985,3621,456.00548242318314,403000,2705,198955,3296.689854990912,34525,1065.7964158318416,691,296,31709,1342,73390,1991,66653,1850,123115,2522,95004,2008,54907,1705,43168,1859,22789,1306,125054,2093,12498,920,70365,1841,189796,3044,240436,3110,123385,2412.7461532453017]
[]
["Disability Data"]
["NAME","TotalPop",{"$f":"\"MOE \"&B111","v":"MOE TotalPop"},"PopUnder 5 years:",{"$f":"\"MOE \"&D111","v":"MOE PopUnder 5 years:"},{"$f":"D$111&\"-WithDisability\"","v":"PopUnder 5 years:-WithDisability"},{"$f":"\"MOE \"&F111","v":"MOE PopUnder 5 years:-WithDisability"},{"$f":"D111&\"-NoDisability\"","v":"PopUnder 5 years:-NoDisability"},{"$f":"\"MOE \"&H111","v":"MOE PopUnder 5 years:-NoDisability"},"PopUnder 5 to 17years:",{"$f":"\"MOE \"&J111","v":"MOE PopUnder 5 to 17years:"},{"$f":"J$111&\"-WithDisability\"","v":"PopUnder 5 to 17years:-WithDisability"},{"$f":"\"MOE \"&L111","v":"MOE PopUnder 5 to 17years:-WithDisability"},{"$f":"J111&\"-NoDisability\"","v":"PopUnder 5 to 17years:-NoDisability"},{"$f":"\"MOE \"&N111","v":"MOE PopUnder 5 to 17years:-NoDisability"},"PopUnder 18 to 34 years:",{"$f":"\"MOE \"&P111","v":"MOE PopUnder 18 to 34 years:"},{"$f":"P$111&\"-WithDisability\"","v":"PopUnder 18 to 34 years:-WithDisability"},{"$f":"\"MOE \"&R111","v":"MOE PopUnder 18 to 34 years:-WithDisability"},{"$f":"P111&\"-NoDisability\"","v":"PopUnder 18 to 34 years:-NoDisability"},{"$f":"\"MOE \"&T111","v":"MOE PopUnder 18 to 34 years:-NoDisability"},"Pop 35 years to 64:",{"$f":"\"MOE \"&V111","v":"MOE Pop 35 years to 64:"},{"$f":"$V$111&\"-WithDisability\"","v":"Pop 35 years to 64:-WithDisability"},{"$f":"\"MOE \"&X111","v":"MOE Pop 35 years to 64:-WithDisability"},{"$f":"$V$111&\"-NoDisability\"","v":"Pop 35 years to 64:-NoDisability"},{"$f":"\"MOE \"&Z111","v":"MOE Pop 35 years to 64:-NoDisability"},"Pop 65 years to 74:",{"$f":"\"MOE \"&AB111","v":"MOE Pop 65 years to 74:"},{"$f":"$AB$111&\"-WithDisability\"","v":"Pop 65 years to 74:-WithDisability"},{"$f":"\"MOE \"&AD111","v":"MOE Pop 65 years to 74:-WithDisability"},{"$f":"$AB$111&\"-NoDisability\"","v":"Pop 65 years to 74:-NoDisability"},{"$f":"\"MOE \"&AF111","v":"MOE Pop 65 years to 74:-NoDisability"},"Pop 75 and older:",{"$f":"\"MOE \"&AH111","v":"MOE Pop 75 and older:"},{"$f":"$AH$111&\"-WithDisability\"","v":"Pop 75 and older:-WithDisability"},{"$f":"\"MOE \"&AJ111","v":"MOE Pop 75 and older:-WithDisability"},{"$f":"$AH$111&\"-NoDisability\"","v":"Pop 75 and older:-NoDisability"},{"$f":"\"MOE \"&AL111","v":"MOE Pop 75 and older:-NoDisability"},"TotalPopUnder5_HearingDisability",{"$f":"\"MOE \"&AN111","v":"MOE TotalPopUnder5_HearingDisability"},"TotalUnder5_HearingDisability",{"$f":"\"MOE \"&AP111","v":"MOE TotalUnder5_HearingDisability"},"TotalPop18To34_HearingDisability",{"$f":"\"MOE \"&AR111","v":"MOE TotalPop18To34_HearingDisability"},"TotalPop35To64_HearingDisability",{"$f":"\"MOE \"&AT111","v":"MOE TotalPop35To64_HearingDisability"},"TotalPop65To74_HearingDisability",{"$f":"\"MOE \"&AV111","v":"MOE TotalPop65To74_HearingDisability"},"TotalPop75andOlder_HearingDisability",{"$f":"\"MOE \"&AX111","v":"MOE TotalPop75andOlder_HearingDisability"},"TotalUnder5_VisionDisability",{"$f":"\"MOE \"&AZ111","v":"MOE TotalUnder5_VisionDisability"},"Total5To17_VisionDisability",{"$f":"\"MOE \"&BB111","v":"MOE Total5To17_VisionDisability"},"Total18To34_VisionDisability",{"$f":"\"MOE \"&BD111","v":"MOE Total18To34_VisionDisability"},"Total35To64_VisionDisability",{"$f":"\"MOE \"&BF111","v":"MOE Total35To64_VisionDisability"},"Total65To74_VisionDisability",{"$f":"\"MOE \"&BH111","v":"MOE Total65To74_VisionDisability"},"Total75andOlder_VisionDisability",{"$f":"\"MOE \"&BJ111","v":"MOE Total75andOlder_VisionDisability"},"Total5To17_CongnitiveDisability",{"$f":"\"MOE \"&BL111","v":"MOE Total5To17_CongnitiveDisability"},"Total18To34_CongnitiveDisability",{"$f":"\"MOE \"&BN111","v":"MOE Total18To34_CongnitiveDisability"},"Total35To64_CongnitiveDisability",{"$f":"\"MOE \"&BP111","v":"MOE Total35To64_CongnitiveDisability"},"Total65To74_CongnitiveDisability",{"$f":"\"MOE \"&BR111","v":"MOE Total65To74_CongnitiveDisability"},"Total75andOlder_CongnitiveDisability",{"$f":"\"MOE \"&BT111","v":"MOE Total75andOlder_CongnitiveDisability"},"Total5To17_AmbulatoryDisability",{"$f":"\"MOE \"&BV111","v":"MOE Total5To17_AmbulatoryDisability"},"Total18To34_AmbulatoryDisability",{"$f":"\"MOE \"&BX111","v":"MOE Total18To34_AmbulatoryDisability"},"Total35To64_AmbulatoryDisability",{"$f":"\"MOE \"&BZ111","v":"MOE Total35To64_AmbulatoryDisability"},"Total65To74_AmbulatoryDisability",{"$f":"\"MOE \"&CB111","v":"MOE Total65To74_AmbulatoryDisability"},"Total75andOlder_AmbulatoryDisability",{"$f":"\"MOE \"&CD111","v":"MOE Total75andOlder_AmbulatoryDisability"},"Total5To17_SelfCareDisability",{"$f":"\"MOE \"&CF111","v":"MOE Total5To17_SelfCareDisability"},"Total18To34_SelfCareDisability",{"$f":"\"MOE \"&CH111","v":"MOE Total18To34_SelfCareDisability"},"Total35To64_SelfCareDisability",{"$f":"\"MOE \"&CJ111","v":"MOE Total35To64_SelfCareDisability"},"Total65To74_SelfCareDisability",{"$f":"\"MOE \"&CL111","v":"MOE Total65To74_SelfCareDisability"},"Total75andOlder_SelfCareDisability",{"$f":"\"MOE \"&CN111","v":"MOE Total75andOlder_SelfCareDisability"},"Total18To34_IndependantLivingDisability",{"$f":"\"MOE \"&CP111","v":"MOE Total18To34_IndependantLivingDisability"},"Total35To64_IndependantLivingDisability",{"$f":"\"MOE \"&CR111","v":"MOE Total35To64_IndependantLivingDisability"},"Total65To74_IndependantLivingDisability",{"$f":"\"MOE \"&CT111","v":"MOE Total65To74_IndependantLivingDisability"},"Total75andOlder_IndependantLivingDisability",{"$f":"\"MOE \"&CV111","v":"MOE Total75andOlder_IndependantLivingDisability"},"TotalUnder18_OneDisability",{"$f":"\"MOE \"&CX111","v":"MOE TotalUnder18_OneDisability"},"TotalUnder18_TwoDisability",{"$f":"\"MOE \"&CZ111","v":"MOE TotalUnder18_TwoDisability"},"18to6YearWIthOneDisability",{"$f":"\"MOE \"&DB111","v":"MOE 18to6YearWIthOneDisability"},"18to64YearWIthTwoOrMoreDisability",{"$f":"\"MOE \"&DD111","v":"MOE 18to64YearWIthTwoOrMoreDisability"},"Over64YearsWIthOneDisability",{"$f":"\"MOE \"&DF111","v":"MOE Over64YearsWIthOneDisability"},"Over64YearsWIthTwoOrMoreDisability",{"$f":"\"MOE \"&DH111","v":"MOE Over64YearsWIthTwoOrMoreDisability"}]
[{"$f":"VLOOKUP(DropDownList!$A$19,CntyQuery!$A$20:$CE$30,A$1)","v":"Grafton County"},89948,32,3573,130.3572015655445,0,39.597979746446661,3573,130.3572015655445,10922,95.963534741067136,429,114.56002793295748,10493,144.01388821915754,21913,162.40997506310995,1958,343.91859501922835,19955,375.53295461250804,34151,196.59603251337501,4455,459.57915531494683,29696,476.03466260347051,11544,169.24833824885843,2188,281.85812033716536,9356,278.68979170396608,7845,160.01562423713506,3280,317.97012438277909,4565,329.00455923892605,0,39.597979746446661,36,34.014702703389901,217,94.36630754670864,1277,258.0096897405212,1040,181.81859090863068,1710,286.68100739323489,0,39.597979746446661,44,36.345563690772494,245,110.6752004741803,651,199.60210419732553,182,77.466121627457255,671,225.03777460684239,352,100.40916292848975,1585,300.56280541677143,2073,335.5979737721907,532,218.52459815773602,785,196.88829320200833,63,47.169905660283021,203,93.941471140279674,1911,302.72429700967183,1070,224.16288720481811,1755,288.20999288713085,130,75.179784516850006,242,129.49517365523704,885,236.34931774811622,370,173.36666346215469,818,214.94650497274898,947,247.09512338368802,1933,334.0134727821619,622,206.93235609734887,1500,260.77193100485334,264,89,165,83,3282,473,3131,441,2727,320,2741,320,1176,134.97036711811967,424,99.478640923567099,752,131.36970731489052]
[]
[]
["NAME","TotalHouseholds",{"$f":"\"MOE \"&B115","v":"MOE TotalHouseholds"},"HHInc<10K",{"$f":"\"MOE \"&D115","v":"MOE HHInc<10K"},"HHInc10to15K",{"$f":"\"MOE \"&F115","v":"MOE HHInc10to15K"},"HHInc15to20K",{"$f":"\"MOE \"&H115","v":"MOE HHInc15to20K"},"HHInc20to25K",{"$f":"\"MOE \"&J115","v":"MOE HHInc20to25K"},"HHInc25to30K",{"$f":"\"MOE \"&L115","v":"MOE HHInc25to30K"},"HHInc30to35K",{"$f":"\"MOE \"&N115","v":"MOE HHInc30to35K"},"HHInc35to40K",{"$f":"\"MOE \"&P115","v":"MOE HHInc35to40K"},"HHInc40to45K",{"$f":"\"MOE \"&R115","v":"MOE HHInc40to45K"},"HHInc45to50K",{"$f":"\"MOE \"&T115","v":"MOE HHInc45to50K"},"HHInc50to60K",{"$f":"\"MOE \"&V115","v":"MOE HHInc50to60K"},"HHInc60to75K",{"$f":"\"MOE \"&X115","v":"MOE HHInc60to75K"},"HHInc75to100K",{"$f":"\"MOE \"&Z115","v":"MOE HHInc75to100K"},"HHInc100to125K",{"$f":"\"MOE \"&AB115","v":"MOE HHInc100to125K"},"HHInc125to150K",{"$f":"\"MOE \"&AD115","v":"MOE HHInc125to150K"},"HHInc150to200K",{"$f":"\"MOE \"&AF115","v":"MOE HHInc150to200K"},"HHInc>200K",{"$f":"\"MOE \"&AH115","v":"MOE HHInc>200K"},"TotalHH",{"$f":"\"MOE \"&AJ115","v":"MOE TotalHH"},"HHAgeHHUnder25yrs",{"$f":"\"MOE \"&AL115","v":"MOE HHAgeHHUnder25yrs"},"HHAgeHH<25HHInc<10K",{"$f":"\"MOE \"&AN115","v":"MOE HHAgeHH<25HHInc<10K"},"HHAgeHH<25HHInc10to15K",{"$f":"\"MOE \"&AP115","v":"MOE HHAgeHH<25HHInc10to15K"},"HHAgeHH<25HHInc15to20K",{"$f":"\"MOE \"&AR115","v":"MOE HHAgeHH<25HHInc15to20K"},"HHAgeHH<25HHInc20to25K",{"$f":"\"MOE \"&AT115","v":"MOE HHAgeHH<25HHInc20to25K"},"HHAgeHH<25HHInc25to30K",{"$f":"\"MOE \"&AV115","v":"MOE HHAgeHH<25HHInc25to30K"},"HHAgeHH<25HHInc30to35K",{"$f":"\"MOE \"&AX115","v":"MOE HHAgeHH<25HHInc30to35K"},"HHAgeHH<25HHInc35to40K",{"$f":"\"MOE \"&AZ115","v":"MOE HHAgeHH<25HHInc35to40K"},"HHAgeHH<25HHInc40to45K",{"$f":"\"MOE \"&BB115","v":"MOE HHAgeHH<25HHInc40to45K"},"HHAgeHH<25HHInc45to50K",{"$f":"\"MOE \"&BD115","v":"MOE HHAgeHH<25HHInc45to50K"},"HHAgeHH<25HHInc50to60K",{"$f":"\"MOE \"&BF115","v":"MOE HHAgeHH<25HHInc50to60K"},"HHAgeHH<25HHInc60to75K",{"$f":"\"MOE \"&BH115","v":"MOE HHAgeHH<25HHInc60to75K"},"HHAgeHH<25HHInc75to100K",{"$f":"\"MOE \"&BJ115","v":"MOE HHAgeHH<25HHInc75to100K"},"HHAgeHH<25HHInc100to125K",{"$f":"\"MOE \"&BL115","v":"MOE HHAgeHH<25HHInc100to125K"},"HHAgeHH<25HHInc125to150K",{"$f":"\"MOE \"&BN115","v":"MOE HHAgeHH<25HHInc125to150K"},"HHAgeHH<25HHInc150to200K",{"$f":"\"MOE \"&BP115","v":"MOE HHAgeHH<25HHInc150to200K"},"HHAge<25HHInc>200K",{"$f":"\"MOE \"&BR115","v":"MOE HHAge<25HHInc>200K"},"HHAgeHH25to44yrs",{"$f":"\"MOE \"&BT115","v":"MOE HHAgeHH25to44yrs"},"HHAgeHH25To44yrsHHInc<10K",{"$f":"\"MOE \"&BV115","v":"MOE HHAgeHH25To44yrsHHInc<10K"},"HHAgeHH25To44yrsHHInc10to15K",{"$f":"\"MOE \"&BX115","v":"MOE HHAgeHH25To44yrsHHInc10to15K"},"HHAgeHH25To44yrsHHInc15to20K",{"$f":"\"MOE \"&BZ115","v":"MOE HHAgeHH25To44yrsHHInc15to20K"},"HHAgeHH25To44yrsHHInc20to25K",{"$f":"\"MOE \"&CB115","v":"MOE HHAgeHH25To44yrsHHInc20to25K"},"HHAgeHH25To44yrsHHInc25to30K",{"$f":"\"MOE \"&CD115","v":"MOE HHAgeHH25To44yrsHHInc25to30K"},"HHAgeHH25To44yrsHHInc30to35K",{"$f":"\"MOE \"&CF115","v":"MOE HHAgeHH25To44yrsHHInc30to35K"},"HHAgeHH25To44yrsHHInc35to40K",{"$f":"\"MOE \"&CH115","v":"MOE HHAgeHH25To44yrsHHInc35to40K"},"HHAgeHH25To44yrsHHInc40to45K",{"$f":"\"MOE \"&CJ115","v":"MOE HHAgeHH25To44yrsHHInc40to45K"},"HHAgeHH25To44yrsHHInc45to50K",{"$f":"\"MOE \"&CL115","v":"MOE HHAgeHH25To44yrsHHInc45to50K"},"HHAgeHH25To44yrsHHInc50to60K",{"$f":"\"MOE \"&CN115","v":"MOE HHAgeHH25To44yrsHHInc50to60K"},"HHAgeHH25To44yrsHHInc60to75K",{"$f":"\"MOE \"&CP115","v":"MOE HHAgeHH25To44yrsHHInc60to75K"},"HHAgeHH25To44yrsHHInc75to100K",{"$f":"\"MOE \"&CR115","v":"MOE HHAgeHH25To44yrsHHInc75to100K"},"HHAgeHH25To44yrsHHInc100to125K",{"$f":"\"MOE \"&CT115","v":"MOE HHAgeHH25To44yrsHHInc100to125K"},"HHAgeHH25To44yrsHHInc125to150K",{"$f":"\"MOE \"&CV115","v":"MOE HHAgeHH25To44yrsHHInc125to150K"},"HHAgeHH25To44yrsHHInc150to200K",{"$f":"\"MOE \"&CX115","v":"MOE HHAgeHH25To44yrsHHInc150to200K"},"HHAge25To44yrsHHInc>200K",{"$f":"\"MOE \"&CZ115","v":"MOE HHAge25To44yrsHHInc>200K"},"HHAgeHH45To64yrs",{"$f":"\"MOE \"&DB115","v":"MOE HHAgeHH45To64yrs"},"HHAgeHH45To64yrsHHInc<10K",{"$f":"\"MOE \"&DD115","v":"MOE HHAgeHH45To64yrsHHInc<10K"},"HHAgeHH45To64yrsHHInc10to15K",{"$f":"\"MOE \"&DF115","v":"MOE HHAgeHH45To64yrsHHInc10to15K"},"HHAgeHH45To64yrsHHInc15to20K",{"$f":"\"MOE \"&DH115","v":"MOE HHAgeHH45To64yrsHHInc15to20K"},"HHAgeHH45To64yrsHHInc20to25K",{"$f":"\"MOE \"&DJ115","v":"MOE HHAgeHH45To64yrsHHInc20to25K"},"HHAgeHH45To64yrsHHInc25to30K",{"$f":"\"MOE \"&DL115","v":"MOE HHAgeHH45To64yrsHHInc25to30K"},"HHAgeHH45To64yrsHHInc30to35K",{"$f":"\"MOE \"&DN115","v":"MOE HHAgeHH45To64yrsHHInc30to35K"},"HHAgeHH45To64yrsHHInc35to40K",{"$f":"\"MOE \"&DP115","v":"MOE HHAgeHH45To64yrsHHInc35to40K"},"HHAgeHH45To64yrsHHInc40to45K",{"$f":"\"MOE \"&DR115","v":"MOE HHAgeHH45To64yrsHHInc40to45K"},"HHAgeHH45To64yrsHHInc45to50K",{"$f":"\"MOE \"&DT115","v":"MOE HHAgeHH45To64yrsHHInc45to50K"},"HHAgeHH45To64yrsHHInc50to60K",{"$f":"\"MOE \"&DV115","v":"MOE HHAgeHH45To64yrsHHInc50to60K"},"HHAgeHH45To64yrsHHInc60to75K",{"$f":"\"MOE \"&DX115","v":"MOE HHAgeHH45To64yrsHHInc60to75K"},"HHAgeHH45To64yrsHHInc75to100K",{"$f":"\"MOE \"&DZ115","v":"MOE HHAgeHH45To64yrsHHInc75to100K"},"HHAgeHH45To64yrsHHInc100to125K",{"$f":"\"MOE \"&EB115","v":"MOE HHAgeHH45To64yrsHHInc100to125K"},"HHAgeHH45To64yrsHHInc125to150K",{"$f":"\"MOE \"&ED115","v":"MOE HHAgeHH45To64yrsHHInc125to150K"},"HHAgeHH45To64yrsHHInc150to200K",{"$f":"\"MOE \"&EF115","v":"MOE HHAgeHH45To64yrsHHInc150to200K"},"HHAge45To64yrsHHInc>200K",{"$f":"\"MOE \"&EH115","v":"MOE HHAge45To64yrsHHInc>200K"},"HHAgeHH65yrsorOlder",{"$f":"\"MOE \"&EJ115","v":"MOE HHAgeHH65yrsorOlder"},"HHAgeHH65yrsorOlderHHInc<10K",{"$f":"\"MOE \"&EL115","v":"MOE HHAgeHH65yrsorOlderHHInc<10K"},"HHAgeHH65yrsorOlderHHInc10to15K",{"$f":"\"MOE \"&EN115","v":"MOE HHAgeHH65yrsorOlderHHInc10to15K"},"HHAgeHH65yrsorOlderHHInc15to20K",{"$f":"\"MOE \"&EP115","v":"MOE HHAgeHH65yrsorOlderHHInc15to20K"},"HHAgeHH65yrsorOlderHHInc20to25K",{"$f":"\"MOE \"&ER115","v":"MOE HHAgeHH65yrsorOlderHHInc20to25K"},"HHAgeHH65yrsorOlderHHInc25to30K",{"$f":"\"MOE \"&ET115","v":"MOE HHAgeHH65yrsorOlderHHInc25to30K"},"HHAgeHH65yrsorOlderHHInc30to35K",{"$f":"\"MOE \"&EV115","v":"MOE HHAgeHH65yrsorOlderHHInc30to35K"},"HHAgeHH65yrsorOlderHHInc35to40K",{"$f":"\"MOE \"&EX115","v":"MOE HHAgeHH65yrsorOlderHHInc35to40K"},"HHAgeHH65yrsorOlderHHInc40to45K",{"$f":"\"MOE \"&EZ115","v":"MOE HHAgeHH65yrsorOlderHHInc40to45K"},"HHAgeHH65yrsorOlderHHInc45to50K",{"$f":"\"MOE \"&FB115","v":"MOE HHAgeHH65yrsorOlderHHInc45to50K"},"HHAgeHH65yrsorOlderHHInc50to60K",{"$f":"\"MOE \"&FD115","v":"MOE HHAgeHH65yrsorOlderHHInc50to60K"},"HHAgeHH65yrsorOlderHHInc60to75K",{"$f":"\"MOE \"&FF115","v":"MOE HHAgeHH65yrsorOlderHHInc60to75K"},"HHAgeHH65yrsorOlderHHInc75to100K",{"$f":"\"MOE \"&FH115","v":"MOE HHAgeHH65yrsorOlderHHInc75to100K"},"HHAgeHH65yrsorOlderHHInc100to125K",{"$f":"\"MOE \"&FJ115","v":"MOE HHAgeHH65yrsorOlderHHInc100to125K"},"HHAgeHH65yrsorOlderHHInc125to150K",{"$f":"\"MOE \"&FL115","v":"MOE HHAgeHH65yrsorOlderHHInc125to150K"},"HHAgeHH65yrsorOlderHHInc150to200K",{"$f":"\"MOE \"&FN115","v":"MOE HHAgeHH65yrsorOlderHHInc150to200K"},"HHAge65yrsorOlderHHInc>200K",{"$f":"\"MOE \"&FP115","v":"MOE HHAge65yrsorOlderHHInc>200K"},"MedianHHInc",{"$f":"\"MOE \"&FR115","v":"MOE MedianHHInc"},"HH under 25 years",{"$f":"\"MOE \"&FT115","v":"MOE HH under 25 years"},"Householder 25 to 44 years",{"$f":"\"MOE \"&FV115","v":"MOE Householder 25 to 44 years"},"Householder 45 to 64 years",{"$f":"\"MOE \"&FX115","v":"MOE Householder 45 to 64 years"},"Householder 65 years and over",{"$f":"\"MOE \"&FZ115","v":"MOE Householder 65 years and over"}]
[{"$f":"VLOOKUP(DropDownList!$A$19,CntyQuery!$A$20:$CE$30,A$1)","v":"Grafton County"},34357,620,1581,321,1325,302,1362,293,1344,268,1431,261,1275,233,1188,264,1392,284,1185,204,2100,302,3374,373,5066,459,3652,373,2123,315,2546,362,3413,289,34357,620,1008,251,190,133,58,56,53,52,66,60,47,39,36,36,18,15,21,26,96,75,82,75,164,156,55,42,45,78,44,59,0,28,33,42,8461,477,408,194,124,97,285,158,243,109,220,134,327,132,373,150,376,168,206,91,467,142,944,215,1500,240,1140,220,539,162,582,180,727,171,13618,435,427,155,475,205,317,90,437,159,438,167,408,124,382,154,575,170,514,141,588,136,1252,216,1812,253,1731,264,957,173,1418,222,1887,218,11270,394,556,202,668,196,707,203,598,163,726,151,504,134,415,137,420,94,369,119,963,212,1014,166,1699,277,736,167,583,173,546,165,766,147,73755,2014,47500,20223,77820,3849,90013,6207,57421,3034,712,181.10770276274835,745,221.00904958847272,1127,230.60355591360684,1421,221.92115717073935,774,188,765,195.25624189766637,157,83,159,75]
[]
["Number of Households by Income"]
["NAME","HHIncLessThn10k",{"$f":"\"MOE \"&B119","v":"MOE HHIncLessThn10k"},"HHInc10to15K",{"$f":"\"MOE \"&D119","v":"MOE HHInc10to15K"},"HHInc15to25K",{"$f":"\"MOE \"&F119","v":"MOE HHInc15to25K"},"HHInc25to35K",{"$f":"\"MOE \"&H119","v":"MOE HHInc25to35K"},"HHInc35to50K",{"$f":"\"MOE \"&J119","v":"MOE HHInc35to50K"},"HHInc50to75K",{"$f":"\"MOE \"&L119","v":"MOE HHInc50to75K"},"HHInc75to100K",{"$f":"\"MOE \"&N119","v":"MOE HHInc75to100K"},"HHInc100to150K",{"$f":"\"MOE \"&P119","v":"MOE HHInc100to150K"},"HHInc150to200K",{"$f":"\"MOE \"&R119","v":"MOE HHInc150to200K"},"HHIncOver200K",{"$f":"\"MOE \"&T119","v":"MOE HHIncOver200K"}]
[{"$f":"VLOOKUP(DropDownList!$A$19,CntyQuery!$A$20:$CE$30,A$1)","v":"Grafton County"},1581,321,1325,302,2706,397.08059635293188,2706,349.87140494758927,3765,438.14152964538755,5474,479.93020325876552,5066,459,5775,488.21511652139571,2546,362,3413,289,null,null,null,null,null,null,null,null,null,null,null,null,null,null,null,null,null,null,null,null,null,null,null,null,null,null,null,null,null,null,null,null,null,null,null,null,null,null,null,null,null,null,null,null,null,null,null,null,null,null,null,null,null,null,null,null,null,null,null,null,null,null,null,null,null,null,null,null,null,null,null,null,null,null,null,null,null,null,null,null,null,null,null,null,null,null,null,null,null,null,null,null,null,null,null,null,"Laconia",null,"Households","Margin of Error",6938,301,null,null,640,173,438,157,367,124,345,132,410,178,335,131,438,151,389,136,300,109,669,168,752,145,774,188,456,150,309,125,157,83,159,75,null,null,null,null,null,null,null,null,null,null,null,null,null,null,"Laconia",null,"Households","Margin of Error",6938,301,null,null,640,173,438,157,712,181.10770276274835,745,221.00904958847272,1127,230.60355591360684,1421,221.92115717073935,774,188,765,195.25624189766637,157,83,159,75]
[]
["Poverty Data"]
["NAME","TotalPop",{"$f":"\"MOE \"&B123","v":"MOE TotalPop"},"Total Individuals living in Poverty",{"$f":"\"MOE \"&D123","v":"MOE Total Individuals living in Poverty"},"Under 5 yrs.",{"$f":"\"MOE \"&F123","v":"MOE Under 5 yrs."},"5 to 17 yrs.",{"$f":"\"MOE \"&H123","v":"MOE 5 to 17 yrs."},"18 to 64 yrs.",{"$f":"\"MOE \"&J123","v":"MOE 18 to 64 yrs."},"65 to 74 yrs.",{"$f":"\"MOE \"&L123","v":"MOE 65 to 74 yrs."},"75 yrs. & Over",{"$f":"\"MOE \"&N123","v":"MOE 75 yrs. & Over"},"Total Individuals  Not living Poverty",{"$f":"\"MOE \"&P123","v":"MOE Total Individuals  Not living Poverty"},"Under 5 yrs.",{"$f":"\"MOE \"&R123","v":"MOE Under 5 yrs."},"5 to 17 yrs.",{"$f":"\"MOE \"&T123","v":"MOE 5 to 17 yrs."},"18 to 64 yrs.",{"$f":"\"MOE \"&V123","v":"MOE 18 to 64 yrs."},"65 to 74 yrs.",{"$f":"\"MOE \"&X123","v":"MOE 65 to 74 yrs."},"75 yrs. & Over",{"$f":"\"MOE \"&Z123","v":"MOE 75 yrs. & Over"},"Total HH",{"$f":"\"MOE \"&AB123","v":"MOE Total HH"},"Total Households Below Poverty",{"$f":"\"MOE \"&AD123","v":"MOE Total Households Below Poverty"},"Family Households in Poverty",{"$f":"\"MOE \"&AF123","v":"MOE Family Households in Poverty"},"Married Couple Fam HH",{"$f":"\"MOE \"&AH123","v":"MOE Married Couple Fam HH"},"Other Family",{"$f":"\"MOE \"&AJ123","v":"MOE Other Family"},"Male Head of Family HH no wife",{"$f":"\"MOE \"&AL123","v":"MOE Male Head of Family HH no wife"},"Female Head of Family HH no husband",{"$f":"\"MOE \"&AN123","v":"MOE Female Head of Family HH no husband"},"Non-Family HH",{"$f":"\"MOE \"&AP123","v":"MOE Non-Family HH"},"Non-Family Male HH",{"$f":"\"MOE \"&AR123","v":"MOE Non-Family Male HH"},"Non-Family Female HH",{"$f":"\"MOE \"&AT123","v":"MOE Non-Family Female HH"},"Total Households at or Above Poverty",{"$f":"\"MOE \"&AV123","v":"MOE Total Households at or Above Poverty"},"Family Households above Poverty",{"$f":"\"MOE \"&AX123","v":"MOE Family Households above Poverty"},"Married Couple Fam HH",{"$f":"\"MOE \"&AZ123","v":"MOE Married Couple Fam HH"},"Other Family",{"$f":"\"MOE \"&BB123","v":"MOE Other Family"},"Male Head of Family HH no wife",{"$f":"\"MOE \"&BD123","v":"MOE Male Head of Family HH no wife"},"Female Head of Family HH no husband",{"$f":"\"MOE \"&BF123","v":"MOE Female Head of Family HH no husband"},"Non-Family HH",{"$f":"\"MOE \"&BH123","v":"MOE Non-Family HH"},"Non-Family Male HH",{"$f":"\"MOE \"&BJ123","v":"MOE Non-Family Male HH"},"Non-Family Female HH",{"$f":"\"MOE \"&BL123","v":"MOE Non-Family Female HH"},"Married Couple with Children Below Poverty",{"$f":"\"MOE \"&BN123","v":"MOE Married Couple with Children Below Poverty"},"Male HH with children below poverty",{"$f":"\"MOE \"&BP123","v":"MOE Male HH with children below poverty"},"Female HH with children below poverty",{"$f":"\"MOE \"&BR123","v":"MOE Female HH with children below poverty"},"Married Couple with Children At or Above Poverty",{"$f":"\"MOE \"&BT123","v":"MOE Married Couple with Children At or Above Poverty"},"Male HH with children at or above poverty",{"$f":"\"MOE \"&BV123","v":"MOE Male HH with children at or above poverty"},"Female HH with children at or above poverty",{"$f":"\"MOE \"&BX123","v":"MOE Female HH with children at or above poverty"}]
[{"$f":"VLOOKUP(DropDownList!$A$19,CntyQuery!$A$20:$CE$30,A$1)","v":"Grafton County"},1330682,681,98429,3847,6022,799.46231931217369,17633,1121.1480722901858,58919,2000.9995002498126,8685,782.74389170404902,7170,649.60372535877593,1232253,3957,56106,751.08055493402298,175444,2704.1305441860604,773852,2275.5140078672334,143862,872.52105991775352,82989,776.60929687971156,540498,1974,42173,1636,16505,1130,5897,668,10608,876,2535,388,8073,798,25668,1215,10619,711,15049,1072,498325,2747,335705,2844,276045,2881,59660,1717,21705,1259,37955,1468,162620,2559,79394,2178,83226,2058,2109,425,2067,373,7355,786,99488,2069,11659,970,21048,1214]
[]
["Household Income By Tenure"]
["NAME","TotalOccHU",{"$f":"\"MOE \"&B127","v":"MOE TotalOccHU"},"OwnOccHU",{"$f":"\"MOE \"&D127","v":"MOE OwnOccHU"},"OOHUInc<5K",{"$f":"\"MOE \"&F127","v":"MOE OOHUInc<5K"},"OOHUInc5to10K",{"$f":"\"MOE \"&H127","v":"MOE OOHUInc5to10K"},"OOHUInc10to15K",{"$f":"\"MOE \"&J127","v":"MOE OOHUInc10to15K"},"OOHUInc15to20K",{"$f":"\"MOE \"&L127","v":"MOE OOHUInc15to20K"},"OOHUInc20to25K",{"$f":"\"MOE \"&N127","v":"MOE OOHUInc20to25K"},"OOHUInc25to35K",{"$f":"\"MOE \"&P127","v":"MOE OOHUInc25to35K"},"OOHUInc35to50K",{"$f":"\"MOE \"&R127","v":"MOE OOHUInc35to50K"},"OOHUInc50to75K",{"$f":"\"MOE \"&T127","v":"MOE OOHUInc50to75K"},"OOHUInc75to100K",{"$f":"\"MOE \"&V127","v":"MOE OOHUInc75to100K"},"OOHUInc100to150K",{"$f":"\"MOE \"&X127","v":"MOE OOHUInc100to150K"},"OOHUInc>150K",{"$f":"\"MOE \"&Z127","v":"MOE OOHUInc>150K"},"RentOccHU",{"$f":"\"MOE \"&AB127","v":"MOE RentOccHU"},"ROHUInc<5K",{"$f":"\"MOE \"&AD127","v":"MOE ROHUInc<5K"},"ROHUInc5to10K",{"$f":"\"MOE \"&AF127","v":"MOE ROHUInc5to10K"},"ROHUInc10to15K",{"$f":"\"MOE \"&AH127","v":"MOE ROHUInc10to15K"},"ROHUInc15to20K",{"$f":"\"MOE \"&AJ127","v":"MOE ROHUInc15to20K"},"ROHUInc20to25K",{"$f":"\"MOE \"&AL127","v":"MOE ROHUInc20to25K"},"ROHUInc25to35K",{"$f":"\"MOE \"&AN127","v":"MOE ROHUInc25to35K"},"ROHUInc35to50K",{"$f":"\"MOE \"&AP127","v":"MOE ROHUInc35to50K"},"ROHUInc50to75K",{"$f":"\"MOE \"&AR127","v":"MOE ROHUInc50to75K"},"ROHUInc75to100K",{"$f":"\"MOE \"&AT127","v":"MOE ROHUInc75to100K"},"ROHUInc100to150K",{"$f":"\"MOE \"&AV127","v":"MOE ROHUInc100to150K"},"ROHUInc>150K",{"$f":"\"MOE \"&AX127","v":"MOE ROHUInc>150K"},"Total OCC HUInc<5K",{"$f":"\"MOE \"&AZ127","v":"MOE Total OCC HUInc<5K"},"Total OCC HUInc5to10K",{"$f":"\"MOE \"&BB127","v":"MOE Total OCC HUInc5to10K"},"Total OCC HUInc10to15K",{"$f":"\"MOE \"&BD127","v":"MOE Total OCC HUInc10to15K"},"Total OCC HUInc15to20K",{"$f":"\"MOE \"&BF127","v":"MOE Total OCC HUInc15to20K"},"Total OCC HUInc20to25K",{"$f":"\"MOE \"&BH127","v":"MOE Total OCC HUInc20to25K"},"Total OCC HUInc25to35K",{"$f":"\"MOE \"&BJ127","v":"MOE Total OCC HUInc25to35K"},"Total OCC HUInc35to50K",{"$f":"\"MOE \"&BL127","v":"MOE Total OCC HUInc35to50K"},"Total OCC HUInc50to75K",{"$f":"\"MOE \"&BN127","v":"MOE Total OCC HUInc50to75K"},"Total OCC HUInc75to100K",{"$f":"\"MOE \"&BP127","v":"MOE Total OCC HUInc75to100K"},"Total OCC HUInc100to150K",{"$f":"\"MOE \"&BR127","v":"MOE Total OCC HUInc100to150K"},"Total OCC HUInc>150K",{"$f":"\"MOE \"&BT127","v":"MOE Total OCC HUInc>150K"},"MedHHInc",{"$f":"\"MOE \"&BV127","v":"MOE MedHHInc"},"MedOwnOccHHInc",{"$f":"\"MOE \"&BX127","v":"MOE MedOwnOccHHInc"},"MedRentOccHHInc",{"$f":"\"MOE \"&BZ127","v":"MOE MedRentOccHHInc"}]
[{"$f":"VLOOKUP(DropDownList!$A$19,CntyQuery!$A$20:$CE$30,A$1)","v":"Grafton County"},35084,684,24776,629,464,207,179,64,622,214,729,243,642,189,1322,202,1966,248,3680,332,3476,428,5282,403,6414,379,10308,707,552,190,315,143,741,313,589,167,568,143,1252,265,1151,228,1795,370,1274,234,1365,280,706,172,1016,280.97864687552328,494,156.66843970627906,1363,379.16355310076943,1318,294.85250550063159,1210,237.00210969525145,2574,333.21014390321312,3117,336.87980052238214,5475,497.11568070218829,4750,487.79093882523074,6647,490.72293608511922,7120,416.20307543313515,79949,2014,93718,3675,49804,4603]
[]
["Population Data"]
["NAME","Total Population","MOE Total Population","Under 15 Years","MOE Under 15 yrs.","15 to 24 yrs.","MOE 15 to 24 yrs.","25 to 34 yrs.","MOE 25 to 34 yrs.","35 to 44 yrs.","MOE 35 to 44 yrs.","45 to 54 yrs.","MOE 45 to 54 yrs.","55 to 64 yrs.","MOE 55 to 64 yrs.","65 to 74 yrs.","MOE 65 to 74 yrs.","Over 74 yrs. ","MOE Over 74 yrs. ","TotalHH","MOE TotalHH","FamilyHH","MOE FamilyHH","MarriedFamilyHH","MOE MarriedFamilyHH","SingleFamilyHH","MOE SingleFamilyHH","Sfamily-MaleHH","MOE Sfamily-MaleHH","Sfamily-FemaleHH","MOE Sfamily-FemaleHH","NonFamilyHH","MOE NonFamilyHH","NonFamilyHH-LivingAlone","MOE NonFamilyHH-LivingAlone","NonFamilyHH-NotLivingAlone","MOE NonFamilyHH-NotLivingAlone","PopRaceWhite","MOE PopRaceWhite","PopRaceBlack","MOE PopRaceBlack","PopRaceAmerican Indian","MOE PopRaceAmerican Indian","PopRaceAsian &Pacific Is.","MOE PopRaceAsian &Pacific Is.","PopRaceOther*","MOE PopRaceOther*","PopRaceHispanic or Latino:","MOE PopRaceHispanic or Latino:","MedianAgeTotalPop","MOE MedianAgeTotalPop","MedianAgeMale","MOE MedianAgeMale","MedianAgeFemale","MOE MedianAgeFemale","AvgHHSizeTotal","MOE AvgHHSizeTotal","AvgHHSizeFamilyHH","MOE AvgHHSizeFamilyHH","AvgHHSizeNonFamilyHH","MOE AvgHHSizeNonFamilyHH"]
[{"$f":"VLOOKUP(DropDownList!$A$19,CntyQuery!$A$20:$CE$30,A$1)","v":"Grafton County"},1372175,"*****",211268,2321.9771747370819,174801,2121.7415016914761,171559,664.72400287638175,160635,2332.6744307768281,187228,508.23026277466005,216548,2758.4272692967638,154122,2305.7337227008675,96014,1862.2703885311607,540498,1974,352210,2642,281942,2816,70268,1940,24240,1340,46028,1715,188288,2658,144294,2567,43994,1639,1220505,1545,18705,973,1452,253,36909,953.5711824504765,38689,1873.692877715022,55915,"*****",43,0.1,41.9,0.2,44.1,0.1,2.4645678614906994,0.01,3.0827262144743193,2.5985338886396987E-2,1.3082458786539768,2.8861196144244455E-2,null,null,null,null,null,null,null,null,null,null,null,null,null,null,null,null,null,null,null,null,null,null,null,null,null,null,null,null,null,null,null,null,null,null,null,null,null,null,null,null,null,null,null,null,null,null,null,null,null,null,null,null,null,null,null,null,null,null,null,null,null,null,null,null,null,null,null,null,null,null,null,null,null,null,null,null,null,null,null,null,null,null,null,null,null,null,null,null,null,null,null,null,null,null,null,null,null,null,null,null,null,null,null,null,null,null,null,null,null,null,null,null,null,null,null,null,null,null,null,null,null,null,null,null,null,null,null,null,null,null,null,null,null,null,null,null,null,null,null,null,"Gilmanton",null,"Estimate","Margin of Error",3778,15,705,142.55875981503206,430,123.30855606972291,267,81.394102980498531,526,113.24751652906124,436,103.15522284402279,762,153.19595294915595,442,120.68968472906042,210,94.413982015377357,null,null,null,null,null,null,null,null,null,null,null,null,null,null,null,null,null,null,null,null,null,null,null,null,null,null,null,null,null,null,null,null,null,null,null,null,null,null,null,null,null,null,null,null,null,null,null,null,null,null,null,null,null,null,null,null,null,null,null,null,null,null,null,null,null,null,null,null,null,null,null,null,null,null,null,null,null,null,null,null,null,null,null,null,null,null,null,null,null,null,null,null,null,null,null,null,null,null,null,null,null,null,null,null,null,null,null,null,null,null,null,null,null,null,null,null,null,null,null,null,null,null,null,null,null,null,null,null,null,null,null,null,null,null,null,null,null,null,null,null,null,null,null,null,null,null,null,null,null,null,null,null,null,null,null,null,null,null,null,null,"Gilmanton",null,"Estimate","Margin of Error",3503,16,728,161.55184926208676,549,186.72975124494758,280,94.371605899232208,625,128.16395749195638,556,124.64750298341319,436,110.18166816671456,193,76.602872008822231,136,54.74486277268398]
[]
["Nativity and Prior Place of Residence"]
["NAME","TotalPop",{"$f":"\"MOE \"&B135","v":"MOE TotalPop"},"Native:",{"$f":"\"MOE \"&D135","v":"MOE Native:"},"NatBornInStateOfResidence",{"$f":"\"MOE \"&F135","v":"MOE NatBornInStateOfResidence"},"Born in other state in the United States:",{"$f":"\"MOE \"&H135","v":"MOE Born in other state in the United States:"},"Northeast",{"$f":"\"MOE \"&J135","v":"MOE Northeast"},"Midwest",{"$f":"\"MOE \"&L135","v":"MOE Midwest"},"South",{"$f":"\"MOE \"&N135","v":"MOE South"},"West",{"$f":"\"MOE \"&P135","v":"MOE West"},"Born outside the United States:",{"$f":"\"MOE \"&R135","v":"MOE Born outside the United States:"},"Puerto Rico",{"$f":"\"MOE \"&T135","v":"MOE Puerto Rico"},"U.S. Island Areas",{"$f":"\"MOE \"&V135","v":"MOE U.S. Island Areas"},"Born abroad of American parent(s)",{"$f":"\"MOE \"&X135","v":"MOE Born abroad of American parent(s)"},"Foreign born:",{"$f":"\"MOE \"&Z135","v":"MOE Foreign born:"},"Naturalized U.S. citizen",{"$f":"\"MOE \"&AB135","v":"MOE Naturalized U.S. citizen"},"Not a U.S. citizen",{"$f":"\"MOE \"&AD135","v":"MOE Not a U.S. citizen"},"CurrentResidenceTotal:",{"$f":"\"MOE \"&AF135","v":"MOE CurrentResidenceTotal:"},"SameHouse:",{"$f":"\"MOE \"&AH135","v":"MOE SameHouse:"},"DifferentHouse:",{"$f":"\"MOE \"&AJ135","v":"MOE DifferentHouse:"},"DiffHouseInNH",{"$f":"\"MOE \"&AL135","v":"MOE DiffHouseInNH"},"DiffHouseInNHSameCnty",{"$f":"\"MOE \"&AN135","v":"MOE DiffHouseInNHSameCnty"},"DiffHouseInNHDiffCnty",{"$f":"\"MOE \"&AP135","v":"MOE DiffHouseInNHDiffCnty"},"DiffHouseInDiffState",{"$f":"\"MOE \"&AR135","v":"MOE DiffHouseInDiffState"},"DiffHouseInElsewhere",{"$f":"\"MOE \"&AT135","v":"MOE DiffHouseInElsewhere"}]
[{"$f":"VLOOKUP(DropDownList!$A$19,CntyQuery!$A$20:$CE$30,A$1)","v":"Grafton County"},1372175,"*****",1289280,2314,564199,5161,707438,5447,560052,5671,46570,1653,61053,2276,39763,1673,17643,1067,5195,731,370,196,12078,972,82895,2315,47589,1739,35306,2028,1361045,713,1187011,4230,174034,4425.8777660482219,116088,3640.8055427336408,83584,3264,32504,1613,52297,2273,5649,1080]
[]
["School Enrollment - Education"]
["NAME","Total Pop 3 Years and Older","MOE Total Pop 3 Years and Older","SchEnrlPop3yrOver",{"$f":"\"MOE \"&D139","v":"MOE SchEnrlPop3yrOver"},"TotalEnrollNursy&Kinder",{"$f":"\"MOE \"&F139","v":"MOE TotalEnrollNursy&Kinder"},"NurserSchEnrl",{"$f":"\"MOE \"&H139","v":"MOE NurserSchEnrl"},"KinderSchEnrl",{"$f":"\"MOE \"&J139","v":"MOE KinderSchEnrl"},"ElemSchEnrl (1-8)",{"$f":"\"MOE \"&L139","v":"MOE ElemSchEnrl (1-8)"},"HighSchEnrl(9-12)",{"$f":"\"MOE \"&N139","v":"MOE HighSchEnrl(9-12)"},"TotalElementry&HSEnroll",{"$f":"\"MOE \"&P139","v":"MOE TotalElementry&HSEnroll"},"CollGradSchEnrl",{"$f":"\"MOE \"&R139","v":"MOE CollGradSchEnrl"},"PopNotEnrolled","MOE PopNotEnrolled","Pop25yrsOver",{"$f":"\"MOE \"&V139","v":"MOE Pop25yrsOver"},"EduAtain<9grd",{"$f":"\"MOE \"&X139","v":"MOE EduAtain<9grd"},"EduAtainHSnoDip",{"$f":"\"MOE \"&Z139","v":"MOE EduAtainHSnoDip"},"EduAtainHSgrad",{"$f":"\"MOE \"&AB139","v":"MOE EduAtainHSgrad"},"EduAtainCollNoDeg",{"$f":"\"MOE \"&AD139","v":"MOE EduAtainCollNoDeg"},"EduAtainAssocDeg",{"$f":"\"MOE \"&AF139","v":"MOE EduAtainAssocDeg"},"EduAtainBachDeg",{"$f":"\"MOE \"&AH139","v":"MOE EduAtainBachDeg"},"EduAtainGradProfDeg",{"$f":"\"MOE \"&AJ139","v":"MOE EduAtainGradProfDeg"}]
[{"$f":"VLOOKUP(DropDownList!$A$19,CntyQuery!$A$20:$CE$30,A$1)","v":"Grafton County"},1336082,833,302247,2637,31170,1260.3019479473955,17867,925,13303,856,117702,2195.9319206204914,65344,1104,183046,2457.8309543172409,88031,2333.1785186736142,1033835,2732,986106,521,13811,1029.3488232858674,41913,1623.2273408244453,269342,3601.2021603903327,175537,3463.6083785555202,101383,2294.3035980445134,230314,3386.8429252033525,146721,2642.3156510909139,10,17,4,7]
[]
["Occupied Owner Housing Value"]
["NAME","Estimate; Total:","Margin of Error; Total:","Estimate; Total: - Less than $10,000","Margin of Error; Total: - Less than $10,000","Estimate; Total: - $10,000 to $14,999","Margin of Error; Total: - $10,000 to $14,999","Estimate; Total: - $15,000 to $19,999","Margin of Error; Total: - $15,000 to $19,999","Estimate; Total: - $20,000 to $24,999","Margin of Error; Total: - $20,000 to $24,999","Estimate; Total: - $25,000 to $29,999","Margin of Error; Total: - $25,000 to $29,999","Estimate; Total: - $30,000 to $34,999","Margin of Error; Total: - $30,000 to $34,999","Estimate; Total: - $35,000 to $39,999","Margin of Error; Total: - $35,000 to $39,999","Estimate; Total: - $40,000 to $49,999","Margin of Error; Total: - $40,000 to $49,999","Estimate; Total: - $50,000 to $59,999","Margin of Error; Total: - $50,000 to $59,999","Estimate; Total: - $60,000 to $69,999","Margin of Error; Total: - $60,000 to $69,999","Estimate; Total: - $70,000 to $79,999","Margin of Error; Total: - $70,000 to $79,999","Estimate; Total: - $80,000 to $89,999","Margin of Error; Total: - $80,000 to $89,999","Estimate; Total: - $90,000 to $99,999","Margin of Error; Total: - $90,000 to $99,999","Estimate; Total: - $100,000 to $124,999","Margin of Error; Total: - $100,000 to $124,999","Estimate; Total: - $125,000 to $149,999","Margin of Error; Total: - $125,000 to $149,999","Estimate; Total: - $150,000 to $174,999","Margin of Error; Total: - $150,000 to $174,999","Estimate; Total: - $175,000 to $199,999","Margin of Error; Total: - $175,000 to $199,999","Estimate; Total: - $200,000 to $249,999","Margin of Error; Total: - $200,000 to $249,999","Estimate; Total: - $250,000 to $299,999","Margin of Error; Total: - $250,000 to $299,999","Estimate; Total: - $300,000 to $399,999","Margin of Error; Total: - $300,000 to $399,999","Estimate; Total: - $400,000 to $499,999","Margin of Error; Total: - $400,000 to $499,999","Estimate; Total: - $500,000 to $749,999","Margin of Error; Total: - $500,000 to $749,999","Estimate; Total: - $750,000 to $999,999","Margin of Error; Total: - $750,000 to $999,999","Estimate; Total: - $1,000,000 to $1,499,999","Margin of Error; Total: - $1,000,000 to $1,499,999","Estimate; Total: - $1,500,000 to $1,999,999","Margin of Error; Total: - $1,500,000 to $1,999,999","Estimate; Total: - $2,000,000 or more","Margin of Error; Total: - $2,000,000 or more","MedianOwnOCCHomeValue","MOE MedianOwnOCCHomeValue","OnwerOccHsU","MOE OnwerOccHsU","OwnerCosts>20PctHHInc","MOE OwnerCosts>20PctHHInc","OwnerCosts20to29.9PctHHInc","MOE OwnerCosts20to29.9PctHHInc","OwnerCosts<30PctHHInc","MOE OwnerCosts<30PctHHInc","OwnerCosts>30PctHHInc","MOE OwnerCosts>30PctHHInc","OwnerCosts30to34.9PctHHInc","MOE OwnerCosts30to34.9PctHHInc","OwnerCosts<35PctHHInc","MOE OwnerCosts<35PctHHInc","OwnerCosts>35PctHHInc","MOE OwnerCosts>35PctHHInc","OwnerCosts>50PctHHInc","MOE OwnerCosts>50PctHHInc","OwnerCostsPctNotcomputed","MOE OwnerCostsPctNotcomputed","OwnerOHUHhInc<20k","MOE OwnerOHUHhInc<20k","OwnerOHUHhInc<20kHCosts<20pct","MOE OwnerOHUHhInc<20kHCosts<20pct","OwnerOHUHhInc<20kHCosts20to29pct","MOE OwnerOHUHhInc<20kHCosts20to29pct","OwnerOHUHhInc>20kHCosts30pct","MOE OwnerOHUHhInc>20kHCosts30pct","OwnerOHUHhInc20kTo34999","MOE OwnerOHUHhInc20kTo34999","OwnerOHUHhInc20kTo34999HCosts<20pct","MOE OwnerOHUHhInc20kTo34999HCosts<20pct","OwnerOHUHhInc20kTo34999HCosts20to29pct","MOE OwnerOHUHhInc20kTo34999HCosts20to29pct","OwnerOHUHhInc20kTo34999HCosts30pct","MOE OwnerOHUHhInc20kTo34999HCosts30pct","OwnerOHUHhInc35kTo49999","MOE OwnerOHUHhInc35kTo49999","OwnerOHUHhInc35kTo49999HCosts<20pct","MOE OwnerOHUHhInc35kTo49999HCosts<20pct","OwnerOHUHhInc35kTo49999HCosts20to29pct","MOE OwnerOHUHhInc35kTo49999HCosts20to29pct","OwnerOHUHhInc35kTo49999HCosts30pct","MOE OwnerOHUHhInc35kTo49999HCosts30pct","OwnerOHUHhInc50kTo74999","MOE OwnerOHUHhInc50kTo74999","OwnerOHUHhInc50kTo74999HCosts<20pct","MOE OwnerOHUHhInc50kTo74999HCosts<20pct","OwnerOHUHhInc50kTo74999HCosts20to29pct","MOE OwnerOHUHhInc50kTo74999HCosts20to29pct","OwnerOHUHhInc50kTo74999HCosts30pct","MOE OwnerOHUHhInc50kTo74999HCosts30pct","OwnerOHUHhInc>75000","MOE OwnerOHUHhInc>75000","OwnerOHUHhInc>75000HCosts<20pct","MOE OwnerOHUHhInc>75000HCosts<20pct","OwnerOHUHhInc>75000HCosts20to29pct","MOE OwnerOHUHhInc>75000HCosts20to29pct","OwnerOHUHhInc>75000HCosts30pct","MOE OwnerOHUHhInc>75000HCosts30pct","ZeroOrNegativeIncome","MOE ZeroOrNegativeIncome"]
[{"$f":"VLOOKUP(DropDownList!$A$19,CntyQuery!$A$20:$CE$30,A$1)","v":"Grafton County"},383839,2913,2227,345,1694,323,1688,284,1958,295,1556,295,2106,346,1312,260,2776,399,3664,552,2953,408,3973,513,3553,408,3366,428,12494,897,15021,882,24410,1207,25315,1210,55585,1650,58982,1629,80082,1827,37912,1408,28569,951,6803,577,3092,435,1104,197,1644,304,272300,1600,387149,2619,195187,3317.8167520223296,94180,2264.1446508560362,289367,4016.7473159261585,95852,2390.2732061419256,25773,1151.5176941758211,315140,4178.5466372890942,70079,2094.6152391310438,34685,1508.9420134650636,1930,348.60005737234178,18493,1146,858,248,717,282,16918,1129,27544,1188,2900,412,5354,664,19290,1075,30558,1297,5772,555,8783,818,16003,878,57067,1615,19753,971,14934,892,22380,1200,251557,2633,165904,2605,64392,1800,21261,1170,1930,347,null,null,null,null,null,null,null,null,null,null,null,null,null,null,null,null,null,null,null,null,null,null,null,null,null,null,null,null,null,null,null,null,null,null,null,null,null,null,null,null,null,null,null,null,null,null,null,null,null,null,null,null,null,null,null,null,null,null,null,null,null,null,null,null,null,null,null,null,205900,19123]
[]
["Occupied Rental Housing Value",null,null,null,null,null,null,null,null,null,null,null,null,null,null,null,null,null,null,null,null,null,null,null,null,null,null,null,null,null,null,null,null,null,null,null,null,null,null,null,null,null,null,null,null,null,null,null,null,"$3,500 or more"]
["NAME","RntrOccHU","MOE RntrOccHU","RntrOccHUwRent","MOE RntrOccHUwRent","ROHUGRent<100","MOE ROHUGRent<100","ROHUGRent100to149","MOE ROHUGRent100to149","ROHUGRent150to199","MOE ROHUGRent150to199","ROHUGRent200to249","MOE ROHUGRent200to249","ROHUGRent250to299","MOE ROHUGRent250to299","ROHUGRent300to349","MOE ROHUGRent300to349","ROHUGRent350to399","MOE ROHUGRent350to399","ROHUGRent400to449","MOE ROHUGRent400to449","ROHUGRent450to499","MOE ROHUGRent450to499","ROHUGRent500to549","MOE ROHUGRent500to549","ROHUGRent550to599","MOE ROHUGRent550to599","ROHUGRent600to649","MOE ROHUGRent600to649","ROHUGRent650to699","MOE ROHUGRent650to699","ROHUGRent700to749","MOE ROHUGRent700to749","ROHUGRent750to799","MOE ROHUGRent750to799","ROHUGRent800to899","MOE ROHUGRent800to899","ROHUGRent900to999","MOE ROHUGRent900to999","ROHUGRent1000to1249","MOE ROHUGRent1000to1249","ROHUGRent1250to1499","MOE ROHUGRent1250to1499","ROHUGRent1500to1999","MOE ROHUGRent1500to1999","ROHUGRent$2,000 to $2,499","MOE ROHUGRent$2,000 to $2,499","ROHUGRent$2,500 to $2,999","MOE ROHUGRent$2,500 to $2,999","ROHUGRent$3,000 to $3,499","MOE ROHUGRent$3,000 to $3,499","ROHUGRent$3,500 or more","MOE ROHUGRent$3,500 or more","ROHUNoGRent","MOE ROHUNoGRent","MedianGrossRnt","MOE MedianGrossRnt","H73RenterOccHU","MOE H73RenterOccHU","H73ROHUHhInc<10k","MOE H73ROHUHhInc<10k","H73ROHUHhInc<10kRnt<20pct","MOE H73ROHUHhInc<10kRnt<20pct","H73ROHUHhInc<10kRnt20to25pct","MOE H73ROHUHhInc<10kRnt20to25pct","H73ROHUHhInc<10kRnt25to30pct","MOE H73ROHUHhInc<10kRnt25to30pct","H73ROHUHhInc<10kRnt30to35pct","MOE H73ROHUHhInc<10kRnt30to35pct","H73ROHUHhInc<10kRnt35to39.9","MOE H73ROHUHhInc<10kRnt35to39.9","H73ROHUHhInc<10kRnt40to49.9","MOE H73ROHUHhInc<10kRnt40to49.9","H73ROHUHhInc<10kRnt>50pct","MOE H73ROHUHhInc<10kRnt>50pct","H73ROHUHhInc<10kPctNotComput","MOE H73ROHUHhInc<10kPctNotComput","H73ROHUHhInc10to20k","MOE H73ROHUHhInc10to20k","H73ROHUHhInc10to20kRnt<20pct","MOE H73ROHUHhInc10to20kRnt<20pct","H73ROHUHhInc10to20kRnt20to25pct","MOE H73ROHUHhInc10to20kRnt20to25pct","H73ROHUHhInc10to20kRnt25to30pct","MOE H73ROHUHhInc10to20kRnt25to30pct","H73ROHUHhInc10to20kRnt30to35pct","MOE H73ROHUHhInc10to20kRnt30to35pct","H73ROHUHhInc10to20kRnt35to39.9","MOE H73ROHUHhInc10to20kRnt35to39.9","H73ROHUHhInc10to20kRnt40to49.9","MOE H73ROHUHhInc10to20kRnt40to49.9","H73ROHUHhInc10to20kRnt>50pct","MOE H73ROHUHhInc10to20kRnt>50pct","H73ROHUHhInc10to20kRntPctNC","MOE H73ROHUHhInc10to20kRntPctNC","H73ROHUHhInc20to34.9k","MOE H73ROHUHhInc20to34.9k","H73ROHUHhInc20to34.9kRnt<20pct","MOE H73ROHUHhInc20to34.9kRnt<20pct","H73ROHUHhInc20to34.9kRnt20to25pct","MOE H73ROHUHhInc20to34.9kRnt20to25pct","H73ROHUHhInc20to34.9kRnt25to30pct","MOE H73ROHUHhInc20to34.9kRnt25to30pct","H73ROHUHhInc20to34.9kRnt30to35pct","MOE H73ROHUHhInc20to34.9kRnt30to35pct","H73ROHUHhInc20to34.9kRnt35to39.9","MOE H73ROHUHhInc20to34.9kRnt35to39.9","H73ROHUHhInc20to34.9kRnt40to49.9","MOE H73ROHUHhInc20to34.9kRnt40to49.9","H73ROHUHhInc20to34.9kRnt>50pct","MOE H73ROHUHhInc20to34.9kRnt>50pct","H73ROHUHhInc20to34.9kRntPctNC","MOE H73ROHUHhInc20to34.9kRntPctNC","H73ROHUHhInc35to49.9k","MOE H73ROHUHhInc35to49.9k","H73ROHUHhInc35to49.9kRnt<20pct","MOE H73ROHUHhInc35to49.9kRnt<20pct","H73ROHUHhInc35to49.9kRnt20to25pct","MOE H73ROHUHhInc35to49.9kRnt20to25pct","H73ROHUHhInc35to49.9kRnt25to30pct","MOE H73ROHUHhInc35to49.9kRnt25to30pct","H73ROHUHhInc35to49.9kRnt30to35pct","MOE H73ROHUHhInc35to49.9kRnt30to35pct","H73ROHUHhInc35to49.9kRnt35to39.9","MOE H73ROHUHhInc35to49.9kRnt35to39.9","H73ROHUHhInc35to49.9kRnt40to49.9","MOE H73ROHUHhInc35to49.9kRnt40to49.9","H73ROHUHhInc35to49.9kRnt>50pct","MOE H73ROHUHhInc35to49.9kRnt>50pct","H73ROHUHhInc35to49.9kRntPctNC","MOE H73ROHUHhInc35to49.9kRntPctNC","H73ROHUHhInc50to74.9k","MOE H73ROHUHhInc50to74.9k","H73ROHUHhInc50to74.9kRnt<20pct","MOE H73ROHUHhInc50to74.9kRnt<20pct","H73ROHUHhInc50to74.9kRnt20to25pct","MOE H73ROHUHhInc50to74.9kRnt20to25pct","H73ROHUHhInc50to74.9kRnt25to30pct","MOE H73ROHUHhInc50to74.9kRnt25to30pct","H73ROHUHhInc50to74.9kRnt30to35pct","MOE H73ROHUHhInc50to74.9kRnt30to35pct","H73ROHUHhInc50to74.9kRnt35to39.9","MOE H73ROHUHhInc50to74.9kRnt35to39.9","H73ROHUHhInc50to74.9kRnt40to49.9","MOE H73ROHUHhInc50to74.9kRnt40to49.9","H73ROHUHhInc50to74.9kRnt>50pct","MOE H73ROHUHhInc50to74.9kRnt>50pct","H73ROHUHhInc50to74.9kRntPctNC","MOE H73ROHUHhInc50to74.9kRntPctNC","H73ROHUHhInc75to99.9k","MOE H73ROHUHhInc75to99.9k","H73ROHUHhInc75to99.9kRnt<20pct","MOE H73ROHUHhInc75to99.9kRnt<20pct","H73ROHUHhInc75to99.9kRnt20to25pct","MOE H73ROHUHhInc75to99.9kRnt20to25pct","H73ROHUHhInc75to99.9kRnt25to30pct","MOE H73ROHUHhInc75to99.9kRnt25to30pct","H73ROHUHhInc75to99.9kRnt30to35pct","MOE H73ROHUHhInc75to99.9kRnt30to35pct","H73ROHUHhInc75to99.9kRnt35to39.9","MOE H73ROHUHhInc75to99.9kRnt35to39.9","H73ROHUHhInc75to99.9kRnt40to49.9","MOE H73ROHUHhInc75to99.9kRnt40to49.9","H73ROHUHhInc75to99.9kRnt>50pct","MOE H73ROHUHhInc75to99.9kRnt>50pct","H73ROHUHhInc75to99.9kRntPctNC","MOE H73ROHUHhInc75to99.9kRntPctNC","H73ROHUHhInc>100k","MOE H73ROHUHhInc>100k","H73ROHUHhInc>100kRnt<20pct","MOE H73ROHUHhInc>100kRnt<20pct","H73ROHUHhInc>100kRnt20to25pct","MOE H73ROHUHhInc>100kRnt20to25pct","H73ROHUHhInc>100kRnt25to30pct","MOE H73ROHUHhInc>100kRnt25to30pct","H73ROHUHhInc>100kRnt30to35pct","MOE H73ROHUHhInc>100kRnt30to35pct","H73ROHUHhInc>100kRnt35to39.9","MOE H73ROHUHhInc>100kRnt35to39.9","H73ROHUHhInc>100kRnt40to49.9","MOE H73ROHUHhInc>100kRnt40to49.9","H73ROHUHhInc>100kRnt>50pct","MOE H73ROHUHhInc>100kRnt>50pct","H73ROHUHhInc>100kRntPctNC","MOE H73ROHUHhInc>100kRntPctNC"]
[{"$f":"VLOOKUP(DropDownList!$A$19,CntyQuery!$A$20:$CE$30,A$1)","v":"Grafton County"},153349,1981,147400,2047,316,145,444,200,888,323,1985,376,1792,370,1838,333,1640,285,1694,297,1622,349,1415,298,1606,302,1663,291,2249,498,3070,476,3769,427,9130,787,11162,857,32364,1597,25464,1205,30219,1314,8690,787,2774,455,827,272,779,211,5949,633,1212,12,154406,2224,13365,779,253,128,194,84,795,206,296,133,304,150,397,176,8828,638,2298,322,22478,1006,828,195,925,179,2170,264,1472,282,688,178,1727,305,13397,789,1271,260,30250,1325,1398,293,1266,248,3021,440,3754,398,3870,506,7218,577,8672,684,1051,163,24826,1105,2165,282,3824,434,5666,639,5107,568,3026,395,2761,447,1457,309,820,175,29465,1271,8834,767,9003,693,5693,525,2757,380,1093,241,754,202,425,144,906,187,17063,1104,9785,948,4356,482,1509,279,435,121,180,93,71,44,25,30,702,190,16959,999,14007,942,1737,304,332,152,63,45,17,23,0,27,0,27,803,164]
[]
[]
[null,43.9,45,43.2,3.2,5,6.3]
[]
[]
["Occupied Rental Housing Cost Burdern All Incomes"]
["NAME","RntrOccHU","MOE RntrOccHU","RntrOccHUwRent","MOE RntrOccHUwRent","ROHUGRent<100","MOE ROHUGRent<100","ROHUGRent100to149","MOE ROHUGRent100to149","ROHUGRent150to199","MOE ROHUGRent150to199","ROHUGRent200to249","MOE ROHUGRent200to249","ROHUGRent250to299","MOE ROHUGRent250to299","ROHUGRent300to349","MOE ROHUGRent300to349","ROHUGRent350to399","MOE ROHUGRent350to399","ROHUGRent400to449","MOE ROHUGRent400to449","ROHUGRent450to499","MOE ROHUGRent450to499","ROHUGRent500to549","MOE ROHUGRent500to549","ROHUGRent550to599","MOE ROHUGRent550to599","ROHUGRent600to649","MOE ROHUGRent600to649","ROHUGRent650to699","MOE ROHUGRent650to699","ROHUGRent700to749","MOE ROHUGRent700to749","ROHUGRent750to799","MOE ROHUGRent750to799","ROHUGRent800to899","MOE ROHUGRent800to899","ROHUGRent900to999","MOE ROHUGRent900to999","ROHUGRent1000to1249","MOE ROHUGRent1000to1249","ROHUGRent1250to1499","MOE ROHUGRent1250to1499","ROHUGRent1500to1999","MOE ROHUGRent1500to1999","ROHUGRent2000-2499","MOE ROHUGRent2000-2499","ROHUGRent2500-2999","MOE ROHUGRent2500-2999","ROHUGRent3000-3499","MOE ROHUGRent3000-3499","ROHUGRent3500<","MOE ROHUGRent3500<","ROHUNoGRent","MOE ROHUNoGRent","MedianGrossRnt","MOE MedianGrossRnt","H73RenterOccHU","MOE H73RenterOccHU","H73ROHUHhInc<10k","MOE H73ROHUHhInc<10k","H73ROHUHhInc<10kRnt<20pct","MOE H73ROHUHhInc<10kRnt<20pct","H73ROHUHhInc<10kRnt20to25pct","MOE H73ROHUHhInc<10kRnt20to25pct","H73ROHUHhInc<10kRnt25to30pct","MOE H73ROHUHhInc<10kRnt25to30pct","H73ROHUHhInc<10kRnt30to35pct","MOE H73ROHUHhInc<10kRnt30to35pct","H73ROHUHhInc<10kRnt35to39.9","MOE H73ROHUHhInc<10kRnt35to39.9","H73ROHUHhInc<10kRnt40to49.9","MOE H73ROHUHhInc<10kRnt40to49.9","H73ROHUHhInc<10kRnt>50pct","MOE H73ROHUHhInc<10kRnt>50pct","H73ROHUHhInc<10kPctNotComput","MOE H73ROHUHhInc<10kPctNotComput","H73ROHUHhInc10to20k","MOE H73ROHUHhInc10to20k","H73ROHUHhInc10to20kRnt<20pct","MOE H73ROHUHhInc10to20kRnt<20pct","H73ROHUHhInc10to20kRnt20to25pct","MOE H73ROHUHhInc10to20kRnt20to25pct","H73ROHUHhInc10to20kRnt25to30pct","MOE H73ROHUHhInc10to20kRnt25to30pct","H73ROHUHhInc10to20kRnt30to35pct","MOE H73ROHUHhInc10to20kRnt30to35pct","H73ROHUHhInc10to20kRnt35to39.9","MOE H73ROHUHhInc10to20kRnt35to39.9","H73ROHUHhInc10to20kRnt40to49.9","MOE H73ROHUHhInc10to20kRnt40to49.9","H73ROHUHhInc10to20kRnt>50pct","MOE H73ROHUHhInc10to20kRnt>50pct","H73ROHUHhInc10to20kRntPctNC","MOE H73ROHUHhInc10to20kRntPctNC","H73ROHUHhInc20to34.9k","MOE H73ROHUHhInc20to34.9k","H73ROHUHhInc20to34.9kRnt<20pct","MOE H73ROHUHhInc20to34.9kRnt<20pct","H73ROHUHhInc20to34.9kRnt20to25pct","MOE H73ROHUHhInc20to34.9kRnt20to25pct","H73ROHUHhInc20to34.9kRnt25to30pct","MOE H73ROHUHhInc20to34.9kRnt25to30pct","H73ROHUHhInc20to34.9kRnt30to35pct","MOE H73ROHUHhInc20to34.9kRnt30to35pct","H73ROHUHhInc20to34.9kRnt35to39.9","MOE H73ROHUHhInc20to34.9kRnt35to39.9","H73ROHUHhInc20to34.9kRnt40to49.9","MOE H73ROHUHhInc20to34.9kRnt40to49.9","H73ROHUHhInc20to34.9kRnt>50pct","MOE H73ROHUHhInc20to34.9kRnt>50pct","H73ROHUHhInc20to34.9kRntPctNC","MOE H73ROHUHhInc20to34.9kRntPctNC","H73ROHUHhInc35to49.9k","MOE H73ROHUHhInc35to49.9k","H73ROHUHhInc35to49.9kRnt<20pct","MOE H73ROHUHhInc35to49.9kRnt<20pct","H73ROHUHhInc35to49.9kRnt20to25pct","MOE H73ROHUHhInc35to49.9kRnt20to25pct","H73ROHUHhInc35to49.9kRnt25to30pct","MOE H73ROHUHhInc35to49.9kRnt25to30pct","H73ROHUHhInc35to49.9kRnt30to35pct","MOE H73ROHUHhInc35to49.9kRnt30to35pct","H73ROHUHhInc35to49.9kRnt35to39.9","MOE H73ROHUHhInc35to49.9kRnt35to39.9","H73ROHUHhInc35to49.9kRnt40to49.9","MOE H73ROHUHhInc35to49.9kRnt40to49.9","H73ROHUHhInc35to49.9kRnt>50pct","MOE H73ROHUHhInc35to49.9kRnt>50pct","H73ROHUHhInc35to49.9kRntPctNC","MOE H73ROHUHhInc35to49.9kRntPctNC","H73ROHUHhInc50to74.9k","MOE H73ROHUHhInc50to74.9k","H73ROHUHhInc50to74.9kRnt<20pct","MOE H73ROHUHhInc50to74.9kRnt<20pct","H73ROHUHhInc50to74.9kRnt20to25pct","MOE H73ROHUHhInc50to74.9kRnt20to25pct","H73ROHUHhInc50to74.9kRnt25to30pct","MOE H73ROHUHhInc50to74.9kRnt25to30pct","H73ROHUHhInc50to74.9kRnt30to35pct","MOE H73ROHUHhInc50to74.9kRnt30to35pct","H73ROHUHhInc50to74.9kRnt35to39.9","MOE H73ROHUHhInc50to74.9kRnt35to39.9","H73ROHUHhInc50to74.9kRnt40to49.9","MOE H73ROHUHhInc50to74.9kRnt40to49.9","H73ROHUHhInc50to74.9kRnt>50pct","MOE H73ROHUHhInc50to74.9kRnt>50pct","H73ROHUHhInc50to74.9kRntPctNC","MOE H73ROHUHhInc50to74.9kRntPctNC","H73ROHUHhInc75to99.9k","MOE H73ROHUHhInc75to99.9k","H73ROHUHhInc75to99.9kRnt<20pct","MOE H73ROHUHhInc75to99.9kRnt<20pct","H73ROHUHhInc75to99.9kRnt20to25pct","MOE H73ROHUHhInc75to99.9kRnt20to25pct","H73ROHUHhInc75to99.9kRnt25to30pct","MOE H73ROHUHhInc75to99.9kRnt25to30pct","H73ROHUHhInc75to99.9kRnt30to35pct","MOE H73ROHUHhInc75to99.9kRnt30to35pct","H73ROHUHhInc75to99.9kRnt35to39.9","MOE H73ROHUHhInc75to99.9kRnt35to39.9","H73ROHUHhInc75to99.9kRnt40to49.9","MOE H73ROHUHhInc75to99.9kRnt40to49.9","H73ROHUHhInc75to99.9kRnt>50pct","MOE H73ROHUHhInc75to99.9kRnt>50pct","H73ROHUHhInc75to99.9kRntPctNC","MOE H73ROHUHhInc75to99.9kRntPctNC","H73ROHUHhInc>100k","MOE H73ROHUHhInc>100k","H73ROHUHhInc>100kRnt<20pct","MOE H73ROHUHhInc>100kRnt<20pct","H73ROHUHhInc>100kRnt20to25pct","MOE H73ROHUHhInc>100kRnt20to25pct","H73ROHUHhInc>100kRnt25to30pct","MOE H73ROHUHhInc>100kRnt25to30pct","H73ROHUHhInc>100kRnt30to35pct","MOE H73ROHUHhInc>100kRnt30to35pct","H73ROHUHhInc>100kRnt35to39.9","MOE H73ROHUHhInc>100kRnt35to39.9","H73ROHUHhInc>100kRnt40to49.9","MOE H73ROHUHhInc>100kRnt40to49.9","H73ROHUHhInc>100kRnt>50pct","MOE H73ROHUHhInc>100kRnt>50pct","H73ROHUHhInc>100kRntPctNC","MOE H73ROHUHhInc>100kRntPctNC"]
[{"$f":"VLOOKUP(DropDownList!$A$19,CntyQuery!$A$20:$CE$30,A$1)","v":"Grafton County"},153349,1981,38656,1657.3849884682797,20156,1013,19434,1003,78246,2186.115962157543,67205,2194.7824493557441,13909,994,92155,2401.4868311110931,53296,1956.7917620431665,30411,1433,7898,718]
[]
["Income By Household Type and Tenure"]
["NAME","RntrOccHU","MOE RntrOccHU","RntrOccHUwRent","MOE RntrOccHUwRent","ROHUGRent<100","MOE ROHUGRent<100","ROHUGRent100to149","MOE ROHUGRent100to149","ROHUGRent150to199","MOE ROHUGRent150to199","ROHUGRent200to249","MOE ROHUGRent200to249","ROHUGRent250to299","MOE ROHUGRent250to299","ROHUGRent300to349","MOE ROHUGRent300to349","ROHUGRent350to399","MOE ROHUGRent350to399","ROHUGRent400to449","MOE ROHUGRent400to449","ROHUGRent450to499","MOE ROHUGRent450to499","ROHUGRent500to549","MOE ROHUGRent500to549","ROHUGRent550to599","MOE ROHUGRent550to599","ROHUGRent600to649","MOE ROHUGRent600to649","ROHUGRent650to699","MOE ROHUGRent650to699","ROHUGRent700to749","MOE ROHUGRent700to749","ROHUGRent750to799","MOE ROHUGRent750to799","ROHUGRent800to899","MOE ROHUGRent800to899","ROHUGRent900to999","MOE ROHUGRent900to999","ROHUGRent1000to1249","MOE ROHUGRent1000to1249","ROHUGRent1250to1499","MOE ROHUGRent1250to1499","ROHUGRent1500to1999","MOE ROHUGRent1500to1999","ROHUGRent2000-2499","MOE ROHUGRent2000-2499","ROHUGRent2500-2999","MOE ROHUGRent2500-2999","ROHUGRent3000-3499","MOE ROHUGRent3000-3499","ROHUGRent3500<","MOE ROHUGRent3500<","ROHUNoGRent","MOE ROHUNoGRent","MedianGrossRnt","MOE MedianGrossRnt","H73RenterOccHU","MOE H73RenterOccHU","H73ROHUHhInc<10k","MOE H73ROHUHhInc<10k","H73ROHUHhInc<10kRnt<20pct","MOE H73ROHUHhInc<10kRnt<20pct","H73ROHUHhInc<10kRnt20to25pct","MOE H73ROHUHhInc<10kRnt20to25pct","H73ROHUHhInc<10kRnt25to30pct","MOE H73ROHUHhInc<10kRnt25to30pct","H73ROHUHhInc<10kRnt30to35pct","MOE H73ROHUHhInc<10kRnt30to35pct","H73ROHUHhInc<10kRnt35to39.9","MOE H73ROHUHhInc<10kRnt35to39.9","H73ROHUHhInc<10kRnt40to49.9","MOE H73ROHUHhInc<10kRnt40to49.9","H73ROHUHhInc<10kRnt>50pct","MOE H73ROHUHhInc<10kRnt>50pct","H73ROHUHhInc<10kPctNotComput","MOE H73ROHUHhInc<10kPctNotComput","H73ROHUHhInc10to20k","MOE H73ROHUHhInc10to20k","H73ROHUHhInc10to20kRnt<20pct","MOE H73ROHUHhInc10to20kRnt<20pct","H73ROHUHhInc10to20kRnt20to25pct","MOE H73ROHUHhInc10to20kRnt20to25pct","H73ROHUHhInc10to20kRnt25to30pct","MOE H73ROHUHhInc10to20kRnt25to30pct","H73ROHUHhInc10to20kRnt30to35pct","MOE H73ROHUHhInc10to20kRnt30to35pct","H73ROHUHhInc10to20kRnt35to39.9","MOE H73ROHUHhInc10to20kRnt35to39.9","H73ROHUHhInc10to20kRnt40to49.9","MOE H73ROHUHhInc10to20kRnt40to49.9","H73ROHUHhInc10to20kRnt>50pct","MOE H73ROHUHhInc10to20kRnt>50pct","H73ROHUHhInc10to20kRntPctNC","MOE H73ROHUHhInc10to20kRntPctNC","H73ROHUHhInc20to34.9k","MOE H73ROHUHhInc20to34.9k","H73ROHUHhInc20to34.9kRnt<20pct","MOE H73ROHUHhInc20to34.9kRnt<20pct","H73ROHUHhInc20to34.9kRnt20to25pct","MOE H73ROHUHhInc20to34.9kRnt20to25pct","H73ROHUHhInc20to34.9kRnt25to30pct","MOE H73ROHUHhInc20to34.9kRnt25to30pct","H73ROHUHhInc20to34.9kRnt30to35pct","MOE H73ROHUHhInc20to34.9kRnt30to35pct","H73ROHUHhInc20to34.9kRnt35to39.9","MOE H73ROHUHhInc20to34.9kRnt35to39.9","H73ROHUHhInc20to34.9kRnt40to49.9","MOE H73ROHUHhInc20to34.9kRnt40to49.9","H73ROHUHhInc20to34.9kRnt>50pct","MOE H73ROHUHhInc20to34.9kRnt>50pct","H73ROHUHhInc20to34.9kRntPctNC","MOE H73ROHUHhInc20to34.9kRntPctNC","H73ROHUHhInc35to49.9k","MOE H73ROHUHhInc35to49.9k","H73ROHUHhInc35to49.9kRnt<20pct","MOE H73ROHUHhInc35to49.9kRnt<20pct","H73ROHUHhInc35to49.9kRnt20to25pct","MOE H73ROHUHhInc35to49.9kRnt20to25pct","H73ROHUHhInc35to49.9kRnt25to30pct","MOE H73ROHUHhInc35to49.9kRnt25to30pct","H73ROHUHhInc35to49.9kRnt30to35pct","MOE H73ROHUHhInc35to49.9kRnt30to35pct","H73ROHUHhInc35to49.9kRnt35to39.9","MOE H73ROHUHhInc35to49.9kRnt35to39.9","H73ROHUHhInc35to49.9kRnt40to49.9","MOE H73ROHUHhInc35to49.9kRnt40to49.9","H73ROHUHhInc35to49.9kRnt>50pct","MOE H73ROHUHhInc35to49.9kRnt>50pct","H73ROHUHhInc35to49.9kRntPctNC","MOE H73ROHUHhInc35to49.9kRntPctNC","H73ROHUHhInc50to74.9k","MOE H73ROHUHhInc50to74.9k","H73ROHUHhInc50to74.9kRnt<20pct","MOE H73ROHUHhInc50to74.9kRnt<20pct","H73ROHUHhInc50to74.9kRnt20to25pct","MOE H73ROHUHhInc50to74.9kRnt20to25pct","H73ROHUHhInc50to74.9kRnt25to30pct","MOE H73ROHUHhInc50to74.9kRnt25to30pct","H73ROHUHhInc50to74.9kRnt30to35pct","MOE H73ROHUHhInc50to74.9kRnt30to35pct","H73ROHUHhInc50to74.9kRnt35to39.9","MOE H73ROHUHhInc50to74.9kRnt35to39.9","H73ROHUHhInc50to74.9kRnt40to49.9","MOE H73ROHUHhInc50to74.9kRnt40to49.9","H73ROHUHhInc50to74.9kRnt>50pct","MOE H73ROHUHhInc50to74.9kRnt>50pct","H73ROHUHhInc50to74.9kRntPctNC","MOE H73ROHUHhInc50to74.9kRntPctNC","H73ROHUHhInc75to99.9k","MOE H73ROHUHhInc75to99.9k","H73ROHUHhInc75to99.9kRnt<20pct","MOE H73ROHUHhInc75to99.9kRnt<20pct","H73ROHUHhInc75to99.9kRnt20to25pct","MOE H73ROHUHhInc75to99.9kRnt20to25pct","H73ROHUHhInc75to99.9kRnt25to30pct","MOE H73ROHUHhInc75to99.9kRnt25to30pct","H73ROHUHhInc75to99.9kRnt30to35pct","MOE H73ROHUHhInc75to99.9kRnt30to35pct","H73ROHUHhInc75to99.9kRnt35to39.9","MOE H73ROHUHhInc75to99.9kRnt35to39.9","H73ROHUHhInc75to99.9kRnt40to49.9","MOE H73ROHUHhInc75to99.9kRnt40to49.9","H73ROHUHhInc75to99.9kRnt>50pct","MOE H73ROHUHhInc75to99.9kRnt>50pct","H73ROHUHhInc75to99.9kRntPctNC","MOE H73ROHUHhInc75to99.9kRntPctNC","H73ROHUHhInc>100k","MOE H73ROHUHhInc>100k","H73ROHUHhInc>100kRnt<20pct","MOE H73ROHUHhInc>100kRnt<20pct","H73ROHUHhInc>100kRnt20to25pct","MOE H73ROHUHhInc>100kRnt20to25pct","H73ROHUHhInc>100kRnt25to30pct","MOE H73ROHUHhInc>100kRnt25to30pct","H73ROHUHhInc>100kRnt30to35pct","MOE H73ROHUHhInc>100kRnt30to35pct","H73ROHUHhInc>100kRnt35to39.9","MOE H73ROHUHhInc>100kRnt35to39.9","H73ROHUHhInc>100kRnt40to49.9","MOE H73ROHUHhInc>100kRnt40to49.9","H73ROHUHhInc>100kRnt>50pct","MOE H73ROHUHhInc>100kRnt>50pct","H73ROHUHhInc>100kRntPctNC","MOE H73ROHUHhInc>100kRntPctNC"]
[{"$f":"VLOOKUP(DropDownList!$A$19,CntyQuery!$A$20:$CE$30,A$1)","v":"Grafton County"},20991,668,609,223,349,194,306,170,627,208,490,155,565,157,550,141,777,197,654,150,1175,215,2095,293,3425,406,2824,312,1726,256,1915,281,2904,268,92986,2792,13366,763,1037,212,1000,250,1060,275,798,189,945,201,778,189,649,213,638,184,516,131,935,216,1400,275,1538,288,779,220,361,149,502,176,430,127,43769,2539,30635,5289]
[]
[]
[]
["2010 Census"]
[]
["TownName","LOGRECNO","COUNTY","TotalPop","TotalPop1Race","TotalPopWhite","TotalPopAfricanAmerican","TotalPopAmericanIndAlaska","TotalPopAsian","TotalPopNativeHawaiianPIsland","TotalPopSomeOtherRace","TotalPopTwoOrMoreRaces","TotalPopHispanicLatino","TotalNonHispanicLatino","TotPopUnder15yrs","TotPop15to24yrs","TotPop25to34yrs","TotPop35to44yrs","TotPop45to54yrs","TotPop55to64yrs","TotPop65to74yrs","TotPopOver74yrs","MedianAge","MedianAgeMale","MedianAgeFemale","TotalHH","TotalPopInHouseholds","TotalPopInFamilyHH","TotalPopInNonFamilyHH","AvgHHSize","TotalFamilyHH","TotalFamilyHHSpouse","TotalSingleParentHH","TotalNonFamilyHH","AvgFamilyHHSize","AvgNonFamilyHHSize","AverageHHSizeOwnerOccupied","AverageHHSizeRentalOccupied","TotalHousingUnits","TotalOccupiedHU","TotalOwnerOccupiedHUs","TotalRentalOccupiedHU","TotalVacantHU","VacantHUForRent","VacantHURentNotOccupied","VacantHUForSale","VacantHUsSoldNotOccupied","VacantHUSeasonalRecreational","VacantHUsAllOtherVacants","HomeOwnerVacancyRate","HomeRentalVacancyRate","Total HH","Total Single Family HU","Total Multi-Family HU","Total Manufacture HU"]
[{"$f":"VLOOKUP(DropDownList!$A$19,CntyQryCensus!$A$184:$BC$194,A$1)","v":"Grafton County"},{"$f":"VLOOKUP(DropDownList!$A$19,CntyQryCensus!$A$184:$BC$194,B$1)","v":"0000083"},{"$f":"VLOOKUP(DropDownList!$A$19,CntyQryCensus!$A$184:$BC$194,C$1)","v":"009"},{"$f":"VLOOKUP(DropDownList!$A$19,CntyQryCensus!$A$184:$BC$194,D$1)","v":89118},{"$f":"VLOOKUP(DropDownList!$A$19,CntyQryCensus!$A$184:$BC$194,E$1)","v":87558},{"$f":"VLOOKUP(DropDownList!$A$19,CntyQryCensus!$A$184:$BC$194,F$1)","v":83386},{"$f":"VLOOKUP(DropDownList!$A$19,CntyQryCensus!$A$184:$BC$194,G$1)","v":828},{"$f":"VLOOKUP(DropDownList!$A$19,CntyQryCensus!$A$184:$BC$194,H$1)","v":329},{"$f":"VLOOKUP(DropDownList!$A$19,CntyQryCensus!$A$184:$BC$194,I$1)","v":2633},{"$f":"VLOOKUP(DropDownList!$A$19,CntyQryCensus!$A$184:$BC$194,J$1)","v":16},{"$f":"VLOOKUP(DropDownList!$A$19,CntyQryCensus!$A$184:$BC$194,K$1)","v":366},{"$f":"VLOOKUP(DropDownList!$A$19,CntyQryCensus!$A$184:$BC$194,L$1)","v":1560},{"$f":"VLOOKUP(DropDownList!$A$19,CntyQryCensus!$A$184:$BC$194,M$1)","v":1600},{"$f":"VLOOKUP(DropDownList!$A$19,CntyQryCensus!$A$184:$BC$194,N$1)","v":87518},{"$f":"VLOOKUP(DropDownList!$A$19,CntyQryCensus!$A$184:$BC$194,O$1)","v":13199},{"$f":"VLOOKUP(DropDownList!$A$19,CntyQryCensus!$A$184:$BC$194,P$1)","v":15900},{"$f":"VLOOKUP(DropDownList!$A$19,CntyQryCensus!$A$184:$BC$194,Q$1)","v":9448},{"$f":"VLOOKUP(DropDownList!$A$19,CntyQryCensus!$A$184:$BC$194,R$1)","v":10150},{"$f":"VLOOKUP(DropDownList!$A$19,CntyQryCensus!$A$184:$BC$194,S$1)","v":13873},{"$f":"VLOOKUP(DropDownList!$A$19,CntyQryCensus!$A$184:$BC$194,T$1)","v":12737},{"$f":"VLOOKUP(DropDownList!$A$19,CntyQryCensus!$A$184:$BC$194,U$1)","v":7437},{"$f":"VLOOKUP(DropDownList!$A$19,CntyQryCensus!$A$184:$BC$194,V$1)","v":6374},{"$f":"VLOOKUP(DropDownList!$A$19,CntyQryCensus!$A$184:$BC$194,W$1)","v":41.2},{"$f":"VLOOKUP(DropDownList!$A$19,CntyQryCensus!$A$184:$BC$194,X$1)","v":40},{"$f":"VLOOKUP(DropDownList!$A$19,CntyQryCensus!$A$184:$BC$194,Y$1)","v":42.4},{"$f":"VLOOKUP(DropDownList!$A$19,CntyQryCensus!$A$184:$BC$194,Z$1)","v":35986},{"$f":"VLOOKUP(DropDownList!$A$19,CntyQryCensus!$A$184:$BC$194,AA$1)","v":82117},{"$f":"VLOOKUP(DropDownList!$A$19,CntyQryCensus!$A$184:$BC$194,AB$1)","v":39638},{"$f":"VLOOKUP(DropDownList!$A$19,CntyQryCensus!$A$184:$BC$194,AC$1)","v":42479},{"$f":"VLOOKUP(DropDownList!$A$19,CntyQryCensus!$A$184:$BC$194,AD$1)","v":2.2799999999999998},{"$f":"VLOOKUP(DropDownList!$A$19,CntyQryCensus!$A$184:$BC$194,AE$1)","v":22074},{"$f":"VLOOKUP(DropDownList!$A$19,CntyQryCensus!$A$184:$BC$194,AF$1)","v":17631},{"$f":"VLOOKUP(DropDownList!$A$19,CntyQryCensus!$A$184:$BC$194,AG$1)","v":4443},{"$f":"VLOOKUP(DropDownList!$A$19,CntyQryCensus!$A$184:$BC$194,AH$1)","v":13912},{"$f":"VLOOKUP(DropDownList!$A$19,CntyQryCensus!$A$184:$BC$194,AI$1)","v":2.8},{"$f":"VLOOKUP(DropDownList!$A$19,CntyQryCensus!$A$184:$BC$194,AJ$1)","v":3.0534071305347901},{"$f":"VLOOKUP(DropDownList!$A$19,CntyQryCensus!$A$184:$BC$194,AK$1)","v":2.39},{"$f":"VLOOKUP(DropDownList!$A$19,CntyQryCensus!$A$184:$BC$194,AL$1)","v":2.0499999999999998},{"$f":"VLOOKUP(DropDownList!$A$19,CntyQryCensus!$A$184:$BC$194,AM$1)","v":51120},{"$f":"VLOOKUP(DropDownList!$A$19,CntyQryCensus!$A$184:$BC$194,AN$1)","v":35986},{"$f":"VLOOKUP(DropDownList!$A$19,CntyQryCensus!$A$184:$BC$194,AO$1)","v":24544},{"$f":"VLOOKUP(DropDownList!$A$19,CntyQryCensus!$A$184:$BC$194,AP$1)","v":11442},{"$f":"VLOOKUP(DropDownList!$A$19,CntyQryCensus!$A$184:$BC$194,AQ$1)","v":15134},{"$f":"VLOOKUP(DropDownList!$A$19,CntyQryCensus!$A$184:$BC$194,AR$1)","v":1038},{"$f":"VLOOKUP(DropDownList!$A$19,CntyQryCensus!$A$184:$BC$194,AS$1)","v":56},{"$f":"VLOOKUP(DropDownList!$A$19,CntyQryCensus!$A$184:$BC$194,AT$1)","v":620},{"$f":"VLOOKUP(DropDownList!$A$19,CntyQryCensus!$A$184:$BC$194,AU$1)","v":123},{"$f":"VLOOKUP(DropDownList!$A$19,CntyQryCensus!$A$184:$BC$194,AV$1)","v":12389},{"$f":"VLOOKUP(DropDownList!$A$19,CntyQryCensus!$A$184:$BC$194,AW$1)","v":908},{"$f":"VLOOKUP(DropDownList!$A$19,CntyQryCensus!$A$184:$BC$194,AX$1)","v":2.5},{"$f":"VLOOKUP(DropDownList!$A$19,CntyQryCensus!$A$184:$BC$194,AY$1)","v":8.3000000000000007},{"$f":"VLOOKUP(DropDownList!$A$19,CntyQryCensus!$A$184:$BC$194,AZ$1)","v":51120},{"$f":"VLOOKUP(DropDownList!$A$19,CntyQryCensus!$A$184:$BC$194,BA$1)","v":31687},{"$f":"VLOOKUP(DropDownList!$A$19,CntyQryCensus!$A$184:$BC$194,BB$1)","v":15353},{"$f":"VLOOKUP(DropDownList!$A$19,CntyQryCensus!$A$184:$BC$194,BC$1)","v":4084}]

{"sheet":"CntyQuery","index":13,"n_rows":167,"n_cols":243,"rows_kept":167,"cut":false,"hidden":true,"merged":[]}
[]
["Census 1990 Data -           Query Name:  DPCnty90Census"]
[]
["CountyName","Cnty_Code","Census_Cnty_Code","LandAcres","WaterAcres","HousingUnits90Cen","Persons90Cen","Families90Cen","Households90cen","MalePop90cen","FemalePop90cen","WhitePop","BlackPop","AmerIndianPop","AsianPIPop","OtherRacePop","HispanicOrPop","AgeUnder15_90cen","Age15to24_90cen","Age25to34_90cen","Age35to44_90cen","Age45to54_90cen","Age55to64_90cen","Age65to74_90cen","Age75andOver_90cen","PersonsInHH90cen","PersonsInFamHH90cen","PersonsInGC","PersonsPerHH90cen","PersonsPerFam90Cen","SinglePersonHH90cen","MarriedCoupleHH90cen","SingleParentHH90cen","NonFamilyHH90cen","TotalHousingUnits","OccupiedHousingUnits","VacantHousingUnits","OwnerOccHU","RenterOccHU","VacantForRent90","VacantForSale90","VacantSeasonalRec","SingFamHU90cen","MultiFamHU90cen","MobileHom90cen","SingFamOwnHU90cen","MultiFamOwnHU90cen","MobileHomOwnHU90cen","SingFamRntrHU90cen","MultiFamRntrHU90cen","MobileHomRntrHU90cen","HU<5yrs90cen","HU5to20yrs90cen","HU20to50yrs90cen","HU>50yrs90cen","Units0Bedroom90cen","Units1Bedroom90cen","Units2Bedroom90cen","Units3Bedroom90cen","Units4+Bedroom90cen","HI<5K","HI5Kto10K","HI10Kto15K","HI15Kto25K","HI25Kto35K","HI35Kto50K","HI50Kto75K","HI75Kto100K","HI>100K","MedHI","HH<25HI<5K","HH<25HI5Kto10K","HH<25HI10Kto15K","HH<25HI15Kto25K","HH<25HI25Kto35K","HH<25HI35Kto50K","HH<25HI50Kto75K","HH<25HI75Kto100K","HH<25HI>100K","HH25to34HI<5K","HH25to34HI5Kto10K","HH25to34HI10Kto15K","HH25to34HI15Kto25K","HH25to34HI25Kto35K","HH25to34HI35Kto50K","HH25to34HI50Kto75K","HH25to34HI75Kto100K","HH25to34HI>100K","HH35to44HI<5K","HH35to44HI5Kto10K","HH35to44HI10Kto15K","HH35to44HI15Kto25K","HH35to44HI25Kto35K","HH35to44HI35Kto50K","HH35to44HI50Kto75K","HH35to44HI75Kto100K","HH35to44HI>100K","HH45to54HI<5K","HH45to54HI5Kto10K","HH45to54HI10Kto15K","HH45to54HI15Kto25K","HH45to54HI25Kto35K","HH45to54HI35Kto50K","HH45to54HI50Kto75K","HH45to54HI75Kto100K","HH45to54HI>100K","HH55to64HI<5K","HH55to64HI5Kto10K","HH55to64HI10Kto15K","HH55to64HI15Kto25K","HH55to64HI25Kto35K","HH55to64HI35Kto50K","HH55to64HI50Kto75K","HH55to64HI75Kto100K","HH55to64HI>100K","HH65to74HI<5K","HH65to74HI5Kto10K","HH65to74HI10Kto15K","HH65to74HI15Kto25K","HH65to74HI25Kto35K","HH65to74HI35Kto50K","HH65to74HI50Kto75K","HH65to74HI75Kto100K","HH65to74HI>100K","HH>75HI<5K","HH>75HI5Kto10K","HH>75HI10Kto15K","HH>75HI15Kto25K","HH>75HI25Kto35K","HH>75HI35Kto50K","HH>75HI50Kto75K","HH>75HI75Kto100K","HH>75HI>100K","SchoolEnrollment1thru12","Pop25andOver","HSGradorHigher","CollGradorHigher","NativePop","ForeignBornPop","BornStateOfRes","NativePop2","ForeignBornPop2","DroveAlone","CarPooled","PublicTranspt","Walked","OtherMeans","WorkedAtHome","HHInc<10K","HHInc10to15K","HHInc15to25K","HHInc25to35K","HHInc35to50K","HHInc50to75K","HHInc75to100K","HHInc100to150K","HHInc>150K"]
["Belknap County",1,"001",257726.29,43059.57,30306,49216,13334,18839,24049,25167,48788,67,108,216,37,245,10646,5850,8129,8172,5171,4505,3998,2745,48516,41511,700,2.5752959286586337,3.1131693415329234,4290,11146,2188,1215,30306,18839,11467,13475,5364,926,509,9319,20663,6611,3032,10929,908,3032,1320,3673,371,5753,9987,6299,8267,260,3171,10370,12116,4389,612,1464,1495,3626,3287,4037,3131,625,613,31474,56,92,100,210,143,153,44,9,2,98,171,189,739,932,1025,607,78,50,38,88,192,729,893,1256,1051,217,179,44,69,120,432,442,650,733,149,211,108,168,207,499,404,530,429,119,100,94,388,314,634,358,353,199,47,46,174,488,373,383,115,70,68,6,25,8363,32809,26372,6716,48051,1165,27389,48051,1165,18623,2995,71,814,161,1125,2076,1495,3626,3287,4037,3131,625,403,210]
["Carroll County",2,"003",598386.76,37431.300000000003,32146,35410,9866,14253,17242,18168,35150,66,60,106,28,132,7252,3601,5663,5935,3649,3611,3367,2332,34971,29480,439,2.453588718164597,2.9880397324143524,3465,8422,1444,922,32146,14253,17893,10739,3514,979,526,15310,23628,5225,3293,8998,461,3293,1357,1738,419,7085,10093,6703,8265,424,2726,10993,12646,5357,601,1105,1529,2996,2688,2503,1922,537,402,28145,23,34,52,139,155,46,32,0,2,52,149,241,714,704,566,263,41,75,84,92,300,640,605,765,596,192,86,100,54,111,345,348,425,447,98,92,87,147,164,406,378,340,273,127,93,108,316,421,483,340,275,194,61,38,147,313,240,269,158,86,117,18,16,5555,24618,20566,5754,34591,819,14271,34591,819,12691,1790,64,744,150,1160,1706,1529,2996,2688,2503,1922,537,249,153]
["Cheshire County",3,"005",452910.77,13603.12,30350,70121,18155,25856,33874,36247,69404,207,147,300,63,334,14499,11465,10959,10899,7127,5984,5166,4022,66435,56360,3686,2.5694229579207919,3.1043789589644728,5908,15104,3051,1793,30350,25856,4494,18215,7641,496,409,2832,20069,7535,2746,15087,1209,2746,1597,5601,443,4054,7995,7270,11031,419,3799,9203,11711,5218,875,2137,2201,4441,4752,5215,4493,1025,740,31648,91,99,215,339,359,236,84,8,0,96,254,280,905,1232,1384,834,88,52,114,130,243,782,1108,1612,1562,238,241,114,106,124,520,617,871,1087,364,164,97,164,268,687,655,591,603,210,191,163,565,567,708,466,336,230,96,86,200,819,504,500,315,185,93,21,6,11397,44193,35699,10557,68501,1620,31002,68501,1620,27144,4004,107,2092,480,1401,3012,2201,4441,4752,5215,4493,1025,543,197]
["Coos County",4,"007",1152946.79,19021.89,18712,34828,9608,13799,16884,17944,34563,37,62,130,36,150,7054,4368,5285,5107,3599,3663,3269,2483,34266,29251,562,2.4832234219871006,3.044442131557036,3539,8070,1538,652,18712,13799,4913,9698,4101,480,214,3613,11208,5115,2389,7496,968,2389,614,3219,268,2140,4173,4180,8219,424,2516,6270,6773,2729,888,1605,1572,2616,2335,2768,1539,292,205,25897,90,88,140,177,176,78,11,2,7,81,132,155,621,569,719,217,24,27,80,74,190,453,472,814,601,87,78,85,147,127,253,371,478,382,82,46,118,148,183,380,376,484,240,83,34,180,454,429,521,265,150,78,12,13,254,562,348,211,106,45,10,2,0,5875,23406,16378,2567,33046,1782,23627,33046,1782,10869,2039,55,1307,247,540,2493,1572,2616,2335,2768,1539,292,150,55]
["Grafton County",5,"009",1096323.55,23419.8,42206,74929,18544,27542,36966,37963,73395,404,186,831,113,599,14599,14423,11835,11550,7115,6121,5200,4086,69187,56838,5742,2.5120543170430616,3.0650345125107852,6717,15430,3114,2281,42206,27542,14664,18500,9042,1388,899,10558,24402,13249,4555,14707,1271,4555,2033,6411,598,8171,12597,7599,13839,754,5861,13240,15103,7248,1244,2515,2684,4912,4722,5427,4109,911,1003,30065,189,236,294,572,342,238,81,13,0,125,224,423,1209,1174,1395,810,141,130,121,184,364,975,1214,1690,1259,245,319,101,116,236,461,710,927,894,259,269,164,235,289,678,625,555,604,173,184,233,596,642,614,418,474,337,55,78,311,924,436,403,239,148,124,25,23,11188,45960,37390,12123,72572,2357,35079,72572,2357,25347,4602,218,3704,593,1671,3759,2684,4912,4722,5427,4109,911,737,266]
["Hillsborough County",6,"011",561351.43999999994,9800.68,135622,336073,88473,124567,164450,171623,326821,3001,612,3816,1823,5696,73174,47337,66344,55519,33981,25289,19787,14642,329270,282448,6803,2.6433164481764835,3.192476800831892,27495,73455,15018,8599,135622,124567,11055,79363,45204,5649,1807,1877,71819,59104,4699,63858,12070,4699,4521,39938,745,22533,42139,36390,34560,1638,17599,43790,48219,24376,3962,7570,6375,15943,17547,28210,27845,10261,6979,40404,352,483,578,1467,1298,1487,590,106,62,697,919,1082,3881,5138,9609,8379,1976,752,459,572,688,2873,3910,7385,8668,3447,2083,370,346,403,1528,2219,3935,5597,2808,2268,527,753,640,1881,2104,3302,3039,1370,1276,719,1846,1609,2644,2024,1774,1142,360,450,838,2651,1375,1669,854,718,430,194,88,53454,215914,177465,56957,318272,17801,152227,318272,17801,142026,21258,1634,5381,1605,5151,11532,6375,15943,17547,28210,27845,10261,5075,1904]
["Merrimack County",7,"013",597481.36,13666.33,50870,120005,31801,44595,58743,61262,118580,451,224,595,155,780,25842,15682,22030,20282,11952,9640,7736,6841,115708,99494,4297,2.5946406547819261,3.1286437533410898,10049,26641,5160,2745,50870,44595,6275,31088,13507,1927,764,2772,30516,15704,4650,24807,2761,4650,2167,10731,609,9625,15067,11317,14861,614,6442,16226,18775,8813,1371,2754,2969,7067,7444,9996,8591,2400,1879,35801,146,215,168,425,427,439,122,9,0,204,336,358,1678,2188,2905,2001,404,191,169,144,227,1220,1805,3124,3019,744,658,134,162,271,841,879,1494,1751,592,537,123,175,415,923,929,1066,1141,417,285,214,717,787,1115,756,649,376,162,168,381,1005,743,865,460,319,181,72,40,19658,78633,65407,19952,116998,3007,66971,116998,3007,47459,7473,355,2306,475,2378,4125,2969,7067,7444,9996,8591,2400,1266,613]
["New Hampshire",0,"",5742660.1600000001,197882.72,503904,1109252,292601,411186,543544,565708,1087433,7198,2134,9343,3144,11333,236931,159426,204823,182632,112215,88196,71471,53558,1077101,921929,32151,2.6194982319436946,3.1508060464591714,90364,245307,47294,28221,503904,411186,92718,280372,130814,17435,7648,57135,297777,164184,41943,222953,29421,41943,20252,105000,5562,87665,155241,124270,136728,6901,60650,165943,184755,85655,13747,27508,27574,61818,65472,89834,81270,25773,18391,36329,1334,1942,2239,5147,4462,4024,1508,227,102,1832,3134,3979,14701,19036,27603,21100,4452,2234,1565,1872,3138,11339,15375,25993,26832,8522,5642,1359,1484,2045,6458,8499,13465,16969,7176,5668,1848,2699,3332,8013,8139,10326,9769,3741,3188,2398,6862,7055,10120,6843,5992,3641,1225,1217,3411,9515,5786,6040,3118,2431,1451,430,340,177433,713894,586471,173941,1068059,41193,488894,1068059,41193,443317,69904,4067,23137,5989,20175,41255,27574,61818,65472,89834,81270,25773,13118,5273]
["Rockingham County",8,"015",446221.18,18969.439999999999,101773,245845,65939,89118,121947,123898,240203,2326,395,2266,655,2395,54611,31587,49114,44045,26099,17789,13208,9392,242781,212093,3064,2.7242644583585807,3.2165031316823125,17236,56520,9419,5943,101773,89118,12655,64324,24794,3420,1634,5830,61147,31688,8938,50555,7034,8938,4106,19460,1228,18842,35527,28056,19348,1508,10301,34410,37529,18025,2254,4308,4345,11012,13016,19869,21555,7585,5315,41881,135,225,244,789,906,746,443,54,16,264,502,547,2617,4094,6472,6059,1411,842,277,300,468,2080,3221,5872,7478,2703,1697,216,245,327,1277,1725,2918,4245,2202,1625,389,542,599,1289,1451,2097,2281,849,796,365,1095,1145,1956,1069,1257,721,304,233,608,1399,1015,1004,550,507,328,62,106,40101,159886,137833,41457,237544,8301,65120,237544,8301,106748,15194,855,2976,1415,4388,6562,4345,11012,13016,19869,21555,7585,3828,1487]
["Strafford County",9,"017",235092.87,9767.73,42387,104233,26231,37744,50468,53765,102308,575,212,937,201,837,21004,20283,19439,14907,9520,8001,6417,4662,97839,81570,6394,2.592173590504451,3.1096793869848653,8265,21659,4572,3248,42387,37744,4643,24453,13291,1572,657,1794,22073,14883,5431,18197,2062,5431,1721,10983,587,6774,12110,11655,11848,612,5836,15131,14517,6291,1211,2634,3031,6519,6780,8588,6174,1748,1003,32812,181,413,344,868,475,501,89,20,13,141,261,495,1730,2239,2788,1599,254,99,109,197,309,1072,1469,2410,1901,507,251,97,175,239,574,810,1218,1460,501,358,167,210,406,814,743,937,855,338,185,176,531,742,986,826,446,202,113,66,340,847,496,475,218,288,68,15,31,15228,62963,50233,13655,101053,3180,52612,101053,3180,38678,8012,651,3098,563,1533,3845,3031,6519,6780,8588,6174,1748,686,317]
["Sullivan County",10,"019",344219.12,9142.81,19532,38592,10650,14873,18921,19671,38221,64,128,146,33,165,8250,4830,6025,6216,4002,3593,3323,2353,38128,32884,464,2.5635715726484234,3.0876995305164319,3400,8860,1790,823,19532,14873,4659,10517,4356,598,229,3230,12252,5070,2210,8319,677,2210,816,3246,294,2688,5553,4801,6490,248,2399,6310,7366,3209,729,1416,1373,2686,2901,3221,1911,389,252,29053,71,57,104,161,181,100,12,6,0,74,186,209,607,766,740,331,35,16,114,91,157,515,678,1065,697,142,50,98,64,87,227,378,549,373,121,98,68,157,161,456,474,424,304,55,44,146,354,399,459,321,278,162,15,39,158,507,256,261,103,65,32,15,5,6614,25512,19128,4203,37431,1161,20596,37431,1161,13732,2537,57,715,300,828,2145,1373,2686,2901,3221,1911,389,181,71]
[]
[]
["Census 1990 Data -    Query Name:  CountySTF1Qry1"]
["NAME","COUSUBFP","Census_Cnty_Code","FIPS","LandAcres","WaterAcres","HousingUnits90Cen","P01Persons90Cen","P02Families90Cen","P03Households90cen","P05MalePop90cen","P05FemalePop90cen","P06WhitePop","P06BlackPop","P06AmerIndianPop","P06AsianPIPop","P06OtherRacePop","P08HispanicOrPop","P11AgeUnder15_90cen","P11Age15to24_90cen","P11Age25to34_90cen","P11Age35to44_90cen","P11Age45to54_90cen","P11Age55to64_90cen","P11Age65to74_90cen","P11Age75andOver_90cen","P15PersonsInHH90cen","P15PersonsInFamHH90cen","P15PersonsInGC","PersonsPerHH90cen","PersonsPerFam90Cen","P16SinglePersonHH90cen","P16MarriedCoupleHH90cen","P16SingleParentHH90cen","P16NonFamilyHH90cen","H01TotalHousingUnits","H02OccupiedHousingUnits","H02VacantHousingUnits","H03OwnerOccHU","H03RenterOccHU","H05VacantForRent90","H05VacantForSale90","H05VacantSeasonalRec","H23OOHUVal<15k","H23OOHUVal15to19k","H23OOHUVal20to24k","H23OOHUVal25to29k","H23OOHUVal30to34k","H23OOHUVal35to39k","H23OOHUVal40to44k","H23OOHUVal45to49k","H23OOHUVal50to59k","H23OOHUVal60to74k","H23OOHUVal75to99k","H23OOHUVal100to124k","H23OOHUVal125to149k","H23OOHUVal150to174k","H23OOHUVal175to199k","H23OOHUVal200to249k","H23OOHUVal250to299k","H23OOHUVal300to399k","H23OOHUVal400to499k","H23OOHUVal500kOrMore","H23BOOHUMedVal","H41SingFamHU90cen","H41MultiFamHU90cen","H41MobileHom90cen","H43SingFamOwnHU90cen","H43MultiFamOwnHU90cen","H43MobileHomOwnHU90cen","H43SingFamRntrHU90cen","H43MultiFamRntrHU90cen","H43MobileHomRntrHU90cen","H41HU1UnitDet","H41HU1UnitAtt","H41HU2Unit","H41HU3to4Unit","H41HU5to9Unit","H41HU10to19Unit","H41HU20to49Unit","H41HU50PlusUnit","H41HUMobilH","H41HUOther"]
["Belknap County","00001","001",1000,257726.29,43059.57,30306,49216,13334,18839,24049,25167,48788,67,108,216,37,245,10646,5850,8129,8172,5171,4505,3998,2745,48516,41511,700,2.5752959286586337,3.1131693415329234,4290,11146,2188,1215,30306,18839,11467,13475,5364,926,509,9319,21,18,19,21,31,33,61,61,217,600,2462,1945,1285,854,494,481,233,221,92,113,114000,20663,6611,3032,10929,908,1638,1320,3673,371,20663,1060,1594,1434,1105,686,577,155,2680,352]
["Carroll County","00002","003",3000,598386.76,37431.300000000003,32146,35410,9866,14253,17242,18168,35150,66,60,106,28,132,7252,3601,5663,5935,3649,3611,3367,2332,34971,29480,439,2.453588718164597,2.9880397324143524,3465,8422,1444,922,32146,14253,17893,10739,3514,979,526,15310,39,7,38,23,32,46,65,81,214,517,1576,1302,1067,712,438,465,257,176,81,121,119000,23628,5225,3293,8998,461,1280,1357,1738,419,23628,1680,808,1038,1092,350,257,0,2570,723]
["Cheshire County","00003","005",5000,452910.77,13603.12,30350,70121,18155,25856,33874,36247,69404,207,147,300,63,334,14499,11465,10959,10899,7127,5984,5166,4022,66435,56360,3686,2.5694229579207919,3.1043789589644728,5908,15104,3051,1793,30350,25856,4494,18215,7641,496,409,2832,37,23,37,44,66,73,103,111,359,890,3171,2979,1827,1081,541,564,236,128,41,36,110600,20069,7535,2746,15087,1209,1919,1597,5601,443,20069,556,2244,1675,1455,937,513,155,2408,338]
["Coos County","00004","007",7000,1152946.79,19021.89,18712,34828,9608,13799,16884,17944,34563,37,62,130,36,150,7054,4368,5285,5107,3599,3663,3269,2483,34266,29251,562,2.4832234219871006,3.044442131557036,3539,8070,1538,652,18712,13799,4913,9698,4101,480,214,3613,94,81,110,191,216,216,301,275,667,1260,1636,561,282,185,82,68,15,4,4,4,71600,11208,5115,2389,7496,968,1234,614,3219,268,11208,351,1833,1467,982,261,160,61,1989,400]
["Grafton County","00005","009",9000,1096323.55,23419.8,42206,74929,18544,27542,36966,37963,73395,404,186,831,113,599,14599,14423,11835,11550,7115,6121,5200,4086,69187,56838,5742,2.5120543170430616,3.0650345125107852,6717,15430,3114,2281,42206,27542,14664,18500,9042,1388,899,10558,58,50,58,87,112,119,197,177,556,1166,2834,2020,1420,968,525,599,314,276,113,96,105700,24402,13249,4555,14707,1271,2522,2033,6411,598,24402,1797,2565,2633,3120,1832,863,439,3732,823]
["Hillsborough County","00006","011",11000,561351.43999999994,9800.68,135622,336073,88473,124567,164450,171623,326821,3001,612,3816,1823,5696,73174,47337,66344,55519,33981,25289,19787,14642,329270,282448,6803,2.6433164481764835,3.192476800831892,27495,73455,15018,8599,135622,124567,11055,79363,45204,5649,1807,1877,100,65,65,76,80,85,120,151,423,1237,6588,13971,15005,8933,5089,4976,2118,1266,318,248,137500,71819,59104,4699,63858,12070,3435,4521,39938,745,71819,6984,12826,11345,8831,6559,10571,1988,3409,1290]
["Merrimack County","00007","013",13000,597481.36,13666.33,50870,120005,31801,44595,58743,61262,118580,451,224,595,155,780,25842,15682,22030,20282,11952,9640,7736,6841,115708,99494,4297,2.5946406547819261,3.1286437533410898,10049,26641,5160,2745,50870,44595,6275,31088,13507,1927,764,2772,58,33,50,59,73,78,108,124,421,1151,4642,5301,3523,2079,1240,1169,511,344,76,96,117800,30516,15704,4650,24807,2761,3520,2167,10731,609,30516,1650,3692,3052,2420,1918,2529,443,4072,578]
["New Hampshire","00000","",0,5742660.1600000001,197882.72,503904,1109252,292601,411186,543544,565708,1087433,7198,2134,9343,3144,11333,236931,159426,204823,182632,112215,88196,71471,53558,1077101,921929,32151,2.6194982319436946,3.1508060464591714,90364,245307,47294,28221,503904,411186,92718,280372,130814,17435,7648,57135,575,353,489,623,782,861,1269,1310,3848,9375,32371,41022,38883,25281,14656,14723,6365,4028,1254,1290,129400,297777,164184,41943,222953,29421,27998,20252,105000,5562,297777,23072,35672,32433,26985,18595,22036,5391,35334,6609]
["Rockingham County","00008","015",15000,446221.18,18969.439999999999,101773,245845,65939,89118,121947,123898,240203,2326,395,2266,655,2395,54611,31587,49114,44045,26099,17789,13208,9392,242781,212093,3064,2.7242644583585807,3.2165031316823125,17236,56520,9419,5943,101773,89118,12655,64324,24794,3420,1634,5830,77,29,31,37,48,48,87,79,303,725,3636,7717,11085,8479,5187,5399,2254,1421,450,491,149800,61147,31688,8938,50555,7034,6735,4106,19460,1228,61147,7105,5445,4615,4437,4336,4732,1018,7722,1216]
["Strafford County","00009","017",17000,235092.87,9767.73,42387,104233,26231,37744,50468,53765,102308,575,212,937,201,837,21004,20283,19439,14907,9520,8001,6417,4662,97839,81570,6394,2.592173590504451,3.1096793869848653,8265,21659,4572,3248,42387,37744,4643,24453,13291,1572,657,1794,55,23,47,43,52,91,98,129,273,817,3766,4219,2808,1642,846,821,350,150,42,48,116400,22073,14883,5431,18197,2062,4194,1721,10983,587,22073,1229,3418,3861,2679,1407,1434,855,4843,588]
["Sullivan County","00010","019",19000,344219.12,9142.81,19532,38592,10650,14873,18921,19671,38221,64,128,146,33,165,8250,4830,6025,6216,4002,3593,3323,2353,38128,32884,464,2.5635715726484234,3.0876995305164319,3400,8860,1790,823,19532,14873,4659,10517,4356,598,229,3230,36,24,34,42,72,72,129,122,415,1012,2060,1007,581,348,214,181,77,42,37,37,90900,12252,5070,2210,8319,677,1521,816,3246,294,12252,660,1247,1313,864,309,400,277,1909,301]
[]
[null,null,null,null,null,null,null,null,null,null,null,null,5281]
[null,null,null,null,null,null,null,null,null,null,null,16926,17095]
["Census 1990 Data -          Query Name: CountySTF3Qry1"]
[]
["NAME","FIPS","COUSUBFP","LandAcres","WaterAcres","HousingUnits90Cen","P01Persons90Cen","P02Families90Cen","P03Households90cen","H25HU<5yrs90cen","H25HU5to20yrs90cen","H25HU20to50yrs90cen","H25HU>50yrs90cen","H31Units0Bedroom90cen","H31Units1Bedroom90cen","H31Units2Bedroom90cen","H31Units3Bedroom90cen","H31Units4Bedroom90cen","H31Units5+Bedroom90cen","P80HI<5K","P80HI5Kto10K","P80HI10Kto15K","P80HI15Kto25K","P80HI25Kto35K","P80HI35Kto50K","P80HI50Kto75K","P80HI75Kto100K","P80HI>100K","P80AMedHI","P86HH<25HI<5K","P86HH<25HI5Kto10K","P86HH<25HI10Kto15K","P86HH<25HI15Kto25K","P86HH<25HI25Kto35K","P86HH<25HI35Kto50K","P86HH<25HI50Kto75K","P86HH<25HI75Kto100K","P86HH<25HI>100K","P86HH25to34HI<5K","P86HH25to34HI5Kto10K","P86HH25to34HI10Kto15K","P86HH25to34HI15Kto25K","P86HH25to34HI25Kto35K","P86HH25to34HI35Kto50K","P86HH25to34HI50Kto75K","P86HH25to34HI75Kto100K","P86HH25to34HI>100K","P86HH35to44HI<5K","P86HH35to44HI5Kto10K","P86HH35to44HI10Kto15K","P86HH35to44HI15Kto25K","P86HH35to44HI25Kto35K","P86HH35to44HI35Kto50K","P86HH35to44HI50Kto75K","P86HH35to44HI75Kto100K","P86HH35to44HI>100K","P86HH45to54HI<5K","P86HH45to54HI5Kto10K","P86HH45to54HI10Kto15K","P86HH45to54HI15Kto25K","P86HH45to54HI25Kto35K","P86HH45to54HI35Kto50K","P86HH45to54HI50Kto75K","P86HH45to54HI75Kto100K","P86HH45to54HI>100K","P86HH55to64HI<5K","P86HH55to64HI5Kto10K","P86HH55to64HI10Kto15K","P86HH55to64HI15Kto25K","P86HH55to64HI25Kto35K","P86HH55to64HI35Kto50K","P86HH55to64HI50Kto75K","P86HH55to64HI75Kto100K","P86HH55to64HI>100K","P86HH65to74HI<5K","P86HH65to74HI5Kto10K","P86HH65to74HI10Kto15K","P86HH65to74HI15Kto25K","P86HH65to74HI25Kto35K","P86HH65to74HI35Kto50K","P86HH65to74HI50Kto75K","P86HH65to74HI75Kto100K","P86HH65to74HI>100K","P86HH>75HI<5K","P86HH>75HI5Kto10K","P86HH>75HI10Kto15K","P86HH>75HI15Kto25K","P86HH>75HI25Kto35K","P86HH>75HI35Kto50K","P86HH>75HI50Kto75K","P86HH>75HI75Kto100K","P86HH>75HI>100K","P54SchlEnrlPrePrim","P54SchlEnrlElemThrHS","P54SchlEnrlCollege","P54NotEnrlInSch","P57Pop25andOver","P57LessThan9thGrade","P579thto12thNoDip","P57HSGrad","P57SomeCollege","P57AssocDeg","P57BachelDeg","P57GradorProfDeg","P57HSGradorHigher","P57CollGradorHigher","P42NativePop","P42ForeignBornPop","P42BornStateOfRes","P37NativePop2","P37ForeignBornPop2","P49DroveAlone","P49CarPooled","P49PublicTranspt","P49Walked","P49OtherMeans","P49WorkedAtHome","P80HHInc<10K","P80HHInc10to15K","P80HHInc15to25K","P80HHInc25to35K","P80HHInc35to50K","P80HHInc50to75K","P80HHInc75to100K","P80HHInc100to150K","P80HHInc>150K","H25YearStBlt89to90","H25YearStBlt85to88","H25YearStBlt80to84","H25YearStBlt70to79","H25YearStBlt60to69","H25YearStBlt50to59","H25YearStBlt40to49","H25YearStBlt39earlier","P107FamInc<10K","P107FamInc10to15K","P107FamInc15to25K","P107FamInc25to35K","P107FamInc35to50K","P107FamInc50to75K","P107FamInc75to100K","P107FamInc100to150K","P107FamInc>150K","P107AMedFamInc","P110NonFamInc<10K","P110NonFamInc10to15K","P110NonFamInc15to25K","P110NonFamInc25to35K","P110NonFamInc35to50K","P110NonFamInc50to75K","P110NonFamInc75to100K","P110NonFamInc100to150K","P110NonFamInc>150K","P110AMedNonFamInc","H16HU1Room","H16HU2Room","H16HU3Room","H16HU4Room","H16HU5Room","H16HU6Room","H16HU7Room","H16HU8Room","H16HU9+Room","H43GrossRnt<100","H43GrossRnt100to149","H43GrossRnt150to199","H43GrossRnt200to249","H43GrossRnt250to299","H43GrossRnt300to349","H43GrossRnt350to399","H43GrossRnt400to449","H43GrossRnt450to499","H43GrossRnt500to549","H43GrossRnt550to599","H43GrossRnt600to649","H43GrossRnt650to699","H43GrossRnt700to749","H43GrossRnt750to999","H43GrossRnt1000Plus","H43NoCashRent","H43MedGrossRent","H51GrossRnt<20PctHHInc","H51GrossRnt20to24PctHHInc","H51GrossRnt25to29PctHHInc","H51GrossRnt30to34PctHHInc","H51GrossRnt35PctOrMoreHHInc","H51GrossRntAsPctHHIncNotComp","H52HUwMtgMoOwnCst<200","H52HUwMtgMoOwnCst200to299","H52HUwMtgMoOwnCst300to399","H52HUwMtgMoOwnCst400to499","H52HUwMtgMoOwnCst500to599","H52HUwMtgMoOwnCst600to699","H52HUwMtgMoOwnCst700to799","H52HUwMtgMoOwnCst800to899","H52HUwMtgMoOwnCst900to999","H52HUwMtgMoOwnCst1000to1249","H52HUwMtgMoOwnCst1250to1499","H52HUwMtgMoOwnCst1500to1999","H52HUwMtgMoOwnCst2000More","H52HUwNoMtgMoOwnCst<100","H52HUwNoMtgMoOwnCst100to149","H52HUwNoMtgMoOwnCst150to199","H52HUwNoMtgMoOwnCst200to249","H52HUwNoMtgMoOwnCst250to299","H52HUwNoMtgMoOwnCst300to349","H52HUwNoMtgMoOwnCst350to399","H52HUwNoMtgMoOwnCst400More","H52AMedMoOwnCstWMortg","H52AMedMoOwnCstWNoMortg","H58HUwMtgMOC<20pHHInc","H58HUwMtgMOC20to24pHHInc","H58HUwMtgMOC25to29pHHInc","H58HUwMtgMOC30to34pHHInc","H58wMtgMOC>35pHHInc","H58HUwMtgMOCNotComp","H58HUwNoMtgMOC<20pHHInc","H58HUwNoMtgMOC20to24pHHInc","H58HUwNoMtgMOC25to29pHHInc","H58HUwNoMtgMOC30to34pHHInc","H58wNoMtgMOC>35pHHInc","H58HUwNoMtgMOCNotComp","H61OOHUVal<15k","H61OOHUVal15to19k","H61OOHUVal20to24k","H61OOHUVal25to29k","H61OOHUVal30to34k","H61OOHUVal35to39k","H61OOHUVal40to44k","H61OOHUVal45to49k","H61OOHUVal50to59k","H61OOHUVal60to74k","H61OOHUVal75to99k","H61OOHUVal100to124k","H61OOHUVal125to149k","H61OOHUVal150to174k","H61OOHUVal175to199k","H61OOHUVal200to249k","H61OOHUVal250to299k","H61OOHUVal300to399k","H61OOHUVal400to499k","H61OOHUVal500kOrMore","H61aOOHUMedVal"]
["Belknap County",1000,"00001",257726.29,43059.57,30306,49216,13334,18839,5753,9987,6299,8267,260,3171,10370,12116,3388,1001,612,1464,1495,3626,3287,4037,3131,625,613,31474,56,92,100,210,143,153,44,9,2,98,171,189,739,932,1025,607,78,50,38,88,192,729,893,1256,1051,217,179,44,69,120,432,442,650,733,149,211,108,168,207,499,404,530,429,119,100,94,388,314,634,358,353,199,47,46,174,488,373,383,115,70,68,6,25,997,8363,2048,35692,32809,2181,4256,11253,5739,2664,4700,2016,26372,6716,48051,1165,27389,48051,1165,18623,2995,71,814,161,1125,2076,1495,3626,3287,4037,3131,625,403,210,680,5073,3845,6142,2839,1970,1490,8267,633,802,2328,2582,3350,2693,530,341,189,36260,1483,729,1434,727,574,345,67,64,19,18421,217,853,2656,6089,6969,5768,3521,2103,2130,40,180,126,194,117,241,444,456,530,543,465,357,329,245,448,149,364,510,1329,715,756,508,1511,409,10,95,283,450,524,724,763,665,566,1086,528,294,217,35,118,336,623,718,427,297,596,838,282,2134,1211,954,562,1339,5,2143,271,189,131,364,52,12,39,15,26,28,58,86,31,236,573,2547,1910,1308,910,476,493,190,195,130,92,113400]
["Carroll County",3000,"00002",598386.76,37431.300000000003,32146,35410,9866,14253,7085,10093,6703,8265,424,2726,10993,12646,3915,1442,601,1105,1529,2996,2688,2503,1922,537,402,28145,23,34,52,139,155,46,32,0,2,52,149,241,714,704,566,263,41,75,84,92,300,640,605,765,596,192,86,100,54,111,345,348,425,447,98,92,87,147,164,406,378,340,273,127,93,108,316,421,483,340,275,194,61,38,147,313,240,269,158,86,117,18,16,729,5555,1139,26622,24618,1348,2704,8077,4555,2180,4135,1619,20566,5754,34591,819,14271,34591,819,12691,1790,64,744,150,1160,1706,1529,2996,2688,2503,1922,537,249,153,972,6113,3193,6900,3442,1637,1624,8265,608,892,1944,1997,1995,1646,448,227,132,32308,1163,656,1070,680,488,238,56,24,19,17423,358,969,2392,6443,7404,5733,3993,2245,2609,12,71,59,132,124,170,216,248,270,390,328,190,183,197,285,59,377,521,734,454,475,291,966,391,11,70,295,385,628,560,485,391,269,571,241,185,161,54,195,459,622,550,415,296,410,736,265,1334,689,655,417,1124,33,2029,302,153,64,431,22,20,3,35,16,32,30,50,87,229,546,1609,1296,1069,595,463,563,241,206,62,101,118700]
["Cheshire County",5000,"00003",452910.77,13603.12,30350,70121,18155,25856,4054,7995,7270,11031,419,3799,9203,11711,3903,1315,875,2137,2201,4441,4752,5215,4493,1025,740,31648,91,99,215,339,359,236,84,8,0,96,254,280,905,1232,1384,834,88,52,114,130,243,782,1108,1612,1562,238,241,114,106,124,520,617,871,1087,364,164,97,164,268,687,655,591,603,210,191,163,565,567,708,466,336,230,96,86,200,819,504,500,315,185,93,21,6,1360,11397,6219,48204,44193,3095,5399,15090,7037,3015,6972,3585,35699,10557,68501,1620,31002,68501,1620,27144,4004,107,2092,480,1401,3012,2201,4441,4752,5215,4493,1025,543,197,1006,3048,2600,5395,3569,2265,1436,11031,1044,1083,2855,3592,4339,3839,886,486,158,36556,2083,1151,1645,1220,797,518,114,49,20,18272,354,1015,2720,5574,6573,5682,3792,2181,2459,74,253,272,236,260,369,420,654,638,881,741,600,612,283,395,242,356,516,1762,1070,1011,789,2241,413,21,83,351,618,907,884,977,844,746,1397,780,427,142,32,130,329,551,863,820,528,907,829,311,2988,1380,1270,757,1756,26,2679,343,283,164,648,43,46,12,35,48,89,62,92,131,299,880,3171,2965,1888,1078,493,602,233,139,29,45,111000]
["Coos County",7000,"00004",1152946.79,19021.89,18712,34828,9608,13799,2140,4173,4180,8219,424,2516,6270,6773,1947,782,888,1605,1572,2616,2335,2768,1539,292,205,25897,90,88,140,177,176,78,11,2,7,81,132,155,621,569,719,217,24,27,80,74,190,453,472,814,601,87,78,85,147,127,253,371,478,382,82,46,118,148,183,380,376,484,240,83,34,180,454,429,521,265,150,78,12,13,254,562,348,211,106,45,10,2,0,610,5875,1175,25893,23406,3191,3837,9699,2603,1509,1722,845,16378,2567,33046,1782,23627,33046,1782,10869,2039,55,1307,247,540,2493,1572,2616,2335,2768,1539,292,150,55,464,1676,1048,3125,1540,1631,1009,8219,783,982,1842,1854,2418,1357,290,120,47,31593,1777,661,761,449,328,123,3,23,2,11952,388,692,2213,4088,4380,3112,1611,1082,1146,100,215,220,325,479,653,692,340,352,107,120,33,10,17,43,10,260,340,1127,512,506,336,1214,281,13,100,320,664,602,690,413,284,139,188,65,36,19,26,148,386,605,669,464,253,232,610,267,1703,601,419,219,573,18,1890,291,143,88,345,26,81,87,90,215,222,234,305,275,674,1234,1663,582,296,164,85,81,13,13,0,2,71900]
["Grafton County",9000,"00005",1096323.55,23419.8,42206,74929,18544,27542,8171,12597,7599,13839,754,5861,13240,15103,5396,1852,1244,2515,2684,4912,4722,5427,4109,911,1003,30065,189,236,294,572,342,238,81,13,0,125,224,423,1209,1174,1395,810,141,130,121,184,364,975,1214,1690,1259,245,319,101,116,236,461,710,927,894,259,269,164,235,289,678,625,555,604,173,184,233,596,642,614,418,474,337,55,78,311,924,436,403,239,148,124,25,23,1078,11188,9325,50419,45960,3263,5307,15177,6932,3158,7347,4776,37390,12123,72572,2357,35079,72572,2357,25347,4602,218,3704,593,1671,3759,2684,4912,4722,5427,4109,911,737,266,1918,6253,3767,8830,3262,2447,1890,13839,1173,1392,3073,3473,4398,3403,793,667,228,35489,2701,1396,1904,1184,978,576,84,67,37,16535,617,2028,4135,8029,8602,7386,5055,3084,3270,94,277,217,229,413,571,806,961,935,753,616,622,438,336,605,346,450,479,2277,1273,1181,767,2609,562,9,87,356,686,848,951,721,815,600,1002,569,484,250,86,167,538,775,952,733,434,779,804,285,2724,1424,1055,666,1491,18,2912,329,293,194,709,27,65,41,51,75,116,136,168,169,571,1173,2886,2018,1489,947,554,639,307,250,94,93,105800]
["Hillsborough County",11000,"00006",561351.43999999994,9800.68,135622,336073,88473,124567,22533,42139,36390,34560,1638,17599,43790,48219,20299,4077,3962,7570,6375,15943,17547,28210,27845,10261,6979,40404,352,483,578,1467,1298,1487,590,106,62,697,919,1082,3881,5138,9609,8379,1976,752,459,572,688,2873,3910,7385,8668,3447,2083,370,346,403,1528,2219,3935,5597,2808,2268,527,753,640,1881,2104,3302,3039,1370,1276,719,1846,1609,2644,2024,1774,1142,360,450,838,2651,1375,1669,854,718,430,194,88,7084,53454,22047,237188,215914,15387,23062,61722,40723,18063,39030,17927,177465,56957,318272,17801,152227,318272,17801,142026,21258,1634,5381,1605,5151,11532,6375,15943,17547,28210,27845,10261,5075,1904,2673,19860,15386,26753,17142,12188,7060,34560,3617,3127,9342,12020,21766,24249,8896,4559,1705,46249,8235,3489,6977,5716,6104,3289,1041,408,152,23404,1255,3803,13195,26399,27897,23951,17505,11842,9775,304,1269,841,1205,742,1318,1880,3182,3506,4123,4689,4239,3771,3306,6636,2766,869,588,12614,7789,6319,4148,12437,1339,36,130,706,1825,2709,2936,3211,3637,3712,10516,8382,6604,2649,65,281,522,1458,2558,2935,2588,4146,1110,341,16197,8786,7565,5155,9291,59,9832,1439,783,414,1931,154,122,100,93,76,78,84,152,174,369,1307,6808,14152,15070,8992,5274,4870,2085,1257,281,262,137100]
["Merrimack County",13000,"00007",597481.36,13666.33,50870,120005,31801,44595,9625,15067,11317,14861,614,6442,16226,18775,7157,1656,1371,2754,2969,7067,7444,9996,8591,2400,1879,35801,146,215,168,425,427,439,122,9,0,204,336,358,1678,2188,2905,2001,404,191,169,144,227,1220,1805,3124,3019,744,658,134,162,271,841,879,1494,1751,592,537,123,175,415,923,929,1066,1141,417,285,214,717,787,1115,756,649,376,162,168,381,1005,743,865,460,319,181,72,40,2571,19658,7206,85404,78633,4836,8390,25210,13906,6339,13118,6834,65407,19952,116998,3007,66971,116998,3007,47459,7473,355,2306,475,2378,4125,2969,7067,7444,9996,8591,2400,1266,613,923,8702,4968,10099,5712,3315,2290,14861,1303,1351,4371,5436,8168,7500,2159,1136,527,41018,2960,1678,2942,2073,1590,922,163,108,84,20011,508,1394,5039,9916,9659,9457,6771,4036,4090,74,335,358,355,313,555,736,1079,1528,1494,1407,1250,941,622,1296,354,391,534,3499,2310,1991,1247,3559,482,24,51,384,931,1117,1114,1496,1860,1413,3191,1672,1146,595,18,147,316,718,1011,1150,1024,1596,937,334,4943,2893,2345,1660,3113,40,3974,579,387,264,735,41,40,43,32,41,86,83,127,106,360,1150,4707,5312,3384,2147,1145,1208,521,341,57,84,117500]
["New Hampshire",0,"00000",5742660.1600000001,197882.72,503904,1109252,292601,411186,87665,155241,124270,136728,6901,60650,165943,184755,68226,17429,13747,27508,27574,61818,65472,89834,81270,25773,18391,36329,1334,1942,2239,5147,4462,4024,1508,227,102,1832,3134,3979,14701,19036,27603,21100,4452,2234,1565,1872,3138,11339,15375,25993,26832,8522,5642,1359,1484,2045,6458,8499,13465,16969,7176,5668,1848,2699,3332,8013,8139,10326,9769,3741,3188,2398,6862,7055,10120,6843,5992,3641,1225,1217,3411,9515,5786,6040,3118,2431,1451,430,340,22212,177433,77120,782047,713894,47691,79732,226267,128695,57568,117260,56681,586471,173941,1068059,41193,488894,1068059,41193,443317,69904,4067,23137,5989,20175,41255,27574,61818,65472,89834,81270,25773,13118,5273,12471,75194,51765,103476,57736,41061,25473,136728,13609,14067,38214,47195,72174,70362,22711,11525,4681,41628,29020,14339,24871,18624,16530,9362,2428,1194,481,20790,5655,15628,46483,102341,104388,89328,62499,39722,37860,1032,3647,3023,3655,3424,5202,7066,10211,11438,12749,12157,10732,8927,7677,15023,6458,5361,549,34494,21120,17970,11788,36014,6396,195,941,3646,7831,10897,12054,12212,12582,11935,28856,20146,16243,7016,386,1494,3764,7316,10474,10482,8474,13275,1000,321,48556,26728,22630,15621,30661,358,37404,5108,3189,1961,7503,500,570,455,405,682,842,900,1224,1327,3715,9321,32832,41114,39088,25696,14764,14784,6076,4008,1199,1217,129300]
["Rockingham County",15000,"00008",446221.18,18969.439999999999,101773,245845,65939,89118,18842,35527,28056,19348,1508,10301,34410,37529,14836,3189,2254,4308,4345,11012,13016,19869,21555,7585,5315,41881,135,225,244,789,906,746,443,54,16,264,502,547,2617,4094,6472,6059,1411,842,277,300,468,2080,3221,5872,7478,2703,1697,216,245,327,1277,1725,2918,4245,2202,1625,389,542,599,1289,1451,2097,2281,849,796,365,1095,1145,1956,1069,1257,721,304,233,608,1399,1015,1004,550,507,328,62,106,5404,40101,14107,174323,159886,6836,15217,49824,32477,14075,28586,12871,137833,41457,237544,8301,65120,237544,8301,106748,15194,855,2976,1415,4388,6562,4345,11012,13016,19869,21555,7585,3828,1487,2257,16585,12034,23493,13138,9754,5164,19348,2347,2038,6797,9118,15955,18666,6834,3294,1350,46942,4410,2471,4398,4076,3823,2487,739,345,111,25302,1284,2883,7654,21712,20114,17145,13382,8979,8620,126,468,354,383,305,466,835,1545,1754,2411,2038,2084,1786,1941,4052,1980,1796,614,6773,4143,3270,2227,6001,1910,43,209,492,1190,2033,2629,2517,2565,3015,7833,6435,6132,2610,46,123,459,905,1570,2051,1885,3020,1133,347,11507,6911,5960,4595,8626,104,6946,905,472,316,1323,97,96,54,10,54,46,45,96,83,238,735,3564,7605,11336,8909,5146,5290,2133,1444,478,400,149800]
["Strafford County",17000,"00009",235092.87,9767.73,42387,104233,26231,37744,6774,12110,11655,11848,612,5836,15131,14517,4887,1404,1211,2634,3031,6519,6780,8588,6174,1748,1003,32812,181,413,344,868,475,501,89,20,13,141,261,495,1730,2239,2788,1599,254,99,109,197,309,1072,1469,2410,1901,507,251,97,175,239,574,810,1218,1460,501,358,167,210,406,814,743,937,855,338,185,176,531,742,986,826,446,202,113,66,340,847,496,475,218,288,68,15,31,1845,15228,12585,69855,62963,5056,7674,20649,11241,4688,8869,4786,50233,13655,101053,3180,52612,101053,3180,38678,8012,651,3098,563,1533,3845,3031,6519,6780,8588,6174,1748,686,317,908,5866,3488,8622,5254,4084,2317,11848,1302,1669,3759,4868,7017,5335,1538,557,280,38148,2768,1452,2919,1827,1434,721,125,84,33,20365,492,1460,4551,10004,8685,7335,4520,2976,2364,107,398,356,455,497,583,662,1117,1519,1604,1393,1146,742,675,1048,502,297,522,3393,2117,1891,1226,4104,370,15,55,258,695,870,1016,1019,1089,1179,2559,1295,849,323,10,115,254,599,1062,1091,731,1134,950,321,3607,2063,1757,1190,2571,34,3425,400,324,211,609,27,74,35,23,79,25,94,51,130,306,760,3833,4213,2689,1589,934,864,292,118,24,85,116000]
["Sullivan County",19000,"00010",344219.12,9142.81,19532,38592,10650,14873,2688,5553,4801,6490,248,2399,6310,7366,2498,711,729,1416,1373,2686,2901,3221,1911,389,252,29053,71,57,104,161,181,100,12,6,0,74,186,209,607,766,740,331,35,16,114,91,157,515,678,1065,697,142,50,98,64,87,227,378,549,373,121,98,68,157,161,456,474,424,304,55,44,146,354,399,459,321,278,162,15,39,158,507,256,261,103,65,32,15,5,534,6614,1269,28447,25512,2498,3886,9566,3482,1877,2781,1422,19128,4203,37431,1161,20596,37431,1161,13732,2537,57,715,300,828,2145,1373,2686,2901,3221,1911,389,181,71,670,2018,1436,4117,1838,1770,1193,6490,799,731,1903,2255,2768,1674,337,138,65,33306,1440,656,821,672,414,143,36,22,4,15071,182,531,1928,4087,4105,3759,2349,1194,1397,101,181,220,141,174,276,375,629,406,443,360,211,115,55,215,50,201,440,986,737,570,249,1372,239,13,61,201,387,659,550,610,432,296,513,179,86,50,14,70,165,460,521,396,438,455,724,304,1419,770,650,400,777,21,1574,249,162,115,408,11,14,41,21,52,120,74,97,141,433,963,2044,1061,559,365,194,174,61,45,44,53,91200]
[]
[]
[]
[]
[]
["Other Demo Data.xlsm -             Query Name: DPQryCountyAndState-ACSSheet",null,null,"2023-01-26"]
["AREANAME","FIPS","Cnty_Code","COUSUBFP","POP80","POP90CDCEN","POP2000CEN","POP2010CEN","POP2020CEN","POP2025-Proj","POP2030-Proj","POP2035-Proj","SF80","MF80","MH80","SF81","MF81","MH81","SF82","MF82","MH82","SF83","MF83","MH83","SF84_OSP","MF84_OSP","MH84_OSP","SF85_OSP","MF85_OSP","MH85_OSP","SF86_OSP","MF86_OSP","MH86_OSP","SF87_OSP","MF87_OSP","MH87_OSP","SF88_OSP","MF88_OSP","MH88_OSP","SF89_OSP","MF89_OSP","MH89_OSP","SF90_OSP","MF90_OSP","MH90_OSP","SF91_OSP","MF91_OSP","MH91_OSP","SF92_OSP","MF92_OSP","MH92_OSP","SF93_OSP","MF93_OSP","MH93_OSP","SF94_OSP","MF94_OSP","MH94_OSP","SF95_OSP","MF95_OSP","MH95_OSP","SF96_OSP","MF96_OSP","MH96_OSP","SF97_OSP","MF97_OSP","MH97_OSP","SF98_OSP","MF98_OSP","MH98_OSP","SF99_OSP","MF99_OSP","MH99_OSP","SF00_OSP","MF00_OSP","MH00_OSP","SF01_OSP","MF01_OSP","MH01_OSP","SF02_OSP","MF02_OSP","MH02_OSP","SF03_OSP","MF03_OSP","MH03_OSP","SF04_OSP","MF04_OSP","MH04_OSP","SF05_OSP","MF05_OSP","MH05_OSP","SF06_OSP","MF06_OSP","MH06_OSP","SF07_OSP","MF07_OSP","MH07_OSP","SF08_OSP","MF08_OSP","MH08_OSP","SF09_OSP","MF09_OSP","MH09_OSP","SF10_OSP","MF10_OSP","MH10_OSP","SF11_OSP","MF11_OSP","MH11_OSP","SF12_OSP","MF12_OSP","MH12_OSP","SF13_OSP","MF13_OSP","MH13_OSP","SF14_OSP","MF14_OSP","MH14_OSP","SF15_OSP","MF15_OSP","MH15_OSP","SF16_OSP","MF16_OSP","MH16_OSP","SF17_OSP","MF17_OSP","MH17_OSP","SF18_OSP","MF18_OSP","MH18_OSP","SF19_OSP","MF19_OSP","MH19_OSP","SF20_OSP","MF20_OSP","MH20_OSP","SF20 Census_OSP","MF20 Census OSP","MH20 Census_OSP","SF21_OSP","MF21_OSP","MH21_OSP","COMMENTS"]
["Belknap County",1000,1,"00001",42884,49216,56325,60088,63705,66371,68635,69872,279,55,60,264,173,67,221,237,66,249,48,65,393,147,84,531,352,95,756,405,88,710,160,54,595,186,27,297,60,24,186,33,28,176,-1,23,184,30,23,171,55,59,203,15,71,150,10,68,195,-2,64,212,17,92,233,-1,57,289,9,76,408,33,77,453,8,40,550,28,67,578,26,13,586,15,18,386,140,19,322,146,16,265,45,2,169,80,11,91,3,2,107,6,3,80,15,4,74,22,-7,54,55,24,106,67,3,120,138,9,136,15,21,130,21,31,130,19,3,114,31,17,198,73,34,null,null,null,188,86,14,""]
["Carroll County",3000,2,"00002",27929,35410,43666,47818,50107,52293,54023,54939,262,26,24,151,18,16,166,38,26,327,33,34,449,70,15,553,51,132,880,80,118,974,74,32,638,56,46,348,67,30,252,23,31,213,31,28,285,101,25,244,197,16,218,23,32,236,25,39,252,27,49,219,-2,46,328,26,36,329,31,30,410,16,68,462,18,71,572,24,65,630,23,49,646,18,54,575,70,24,378,4,14,303,4,10,198,-1,-15,103,3,0,109,1,-7,119,32,1,118,24,-10,90,23,10,154,-6,5,127,7,2,153,24,22,182,4,15,201,11,7,200,54,7,177,28,19,null,null,null,286,50,19,""]
["Cheshire County",5000,3,"00003",62116,70121,73825,77117,76458,77722,78340,78080,233,46,39,198,2,22,166,56,41,263,162,37,295,175,39,396,200,73,602,76,44,514,75,60,575,125,42,379,24,40,211,114,24,155,-1,11,155,39,36,133,32,34,140,8,31,113,6,35,151,6,44,138,85,30,180,33,18,225,81,27,228,31,31,248,2,13,311,31,16,250,91,36,303,167,49,266,6,69,252,34,13,144,8,13,103,10,6,70,68,3,71,69,4,43,73,12,36,26,4,41,43,1,40,85,0,40,17,29,61,61,11,88,157,12,73,138,6,111,9,5,106,17,8,null,null,null,111,30,9,""]
["Coos County",7000,4,"00004",35014,34828,33111,33055,31268,31274,31047,30490,74,47,17,46,-4,16,35,-2,39,59,-12,22,54,-18,47,98,23,31,211,24,42,161,6,90,223,34,70,142,56,88,87,-7,35,39,-4,24,54,24,39,47,7,38,45,28,31,28,-5,36,48,10,27,38,-3,30,56,9,25,77,8,32,76,-4,22,76,9,36,150,12,26,133,-6,39,167,11,38,150,10,23,103,5,8,82,-29,11,62,-12,7,28,-15,0,50,-31,4,14,-6,1,29,-36,-3,16,-60,2,49,-19,1,38,-3,9,43,-1,5,52,15,10,77,9,13,59,11,-4,58,-1,4,null,null,null,91,4,4,""]
["Grafton County",9000,5,"00005",65806,74929,81743,89118,91118,94984,98030,99463,256,30,61,216,42,51,231,95,45,273,63,50,271,263,69,475,148,110,1096,286,116,985,115,120,1157,76,98,413,378,87,202,102,54,226,41,49,192,29,48,213,12,43,172,41,77,233,38,60,189,85,80,205,44,62,273,72,71,268,26,66,331,110,80,407,81,65,482,183,75,477,270,59,552,60,71,501,200,80,385,222,28,272,240,35,137,128,24,138,141,10,161,275,3,128,53,-1,70,61,4,113,42,12,102,139,3,107,52,12,135,37,17,140,130,18,140,180,17,160,149,5,204,385,29,null,null,null,253,123,21,""]
["Hillsborough County",11000,6,"00006",276608,336073,380841,400721,422937,440881,454896,464900,1172,1010,62,955,573,79,982,876,146,1835,1214,59,2269,2088,242,3854,2857,49,4455,1747,29,2860,935,42,1962,1137,98,1337,388,52,829,509,11,942,-40,21,1068,-11,36,1054,-105,30,1196,111,31,1093,70,42,1197,373,52,1244,655,41,1559,272,44,1497,244,54,1486,320,62,1342,383,43,1617,786,26,1523,655,28,1518,591,33,1176,609,5,831,518,9,574,461,13,307,373,-8,309,184,-7,292,150,-14,240,307,-7,286,504,2,385,283,7,379,477,11,463,653,-2,578,409,13,616,359,1,585,489,5,537,765,1,595,414,6,null,null,null,456,1188,8,""]
["Merrimack County",13000,7,"00007",98302,120005,136225,146445,153808,159385,164072,167214,450,107,25,301,82,13,269,112,18,528,164,50,537,632,68,1346,1658,46,2014,846,98,1326,533,73,1024,170,73,502,262,72,335,78,54,318,23,25,285,39,27,305,43,15,352,12,47,372,27,82,411,93,94,429,84,88,534,62,103,600,238,129,665,64,74,786,23,60,862,208,44,784,253,28,748,148,54,583,148,30,426,144,53,368,138,39,206,114,23,126,53,13,157,81,12,96,44,3,107,191,13,162,-22,12,175,116,-15,183,149,20,184,146,53,228,34,22,194,46,6,290,82,30,272,147,15,null,null,null,294,167,25,""]
["New Hampshire",null,0,"00000",920475,1109252,1235786,1316470,1377529,1430601,1473286,1501045,4051,1752,537,3254,1293,475,3163,1948,642,5624,2528,700,6836,4685,876,10751,7907,1121,14299,5132,1109,12295,2766,988,9057,2491,820,5299,1682,649,3264,1051,430,3118,297,302,3592,394,348,3612,602,433,3848,363,520,3734,189,549,3933,629,638,4229,1176,587,5261,741,651,5639,948,699,5903,940,701,5710,811,558,6440,1927,531,6099,2779,385,6529,2044,497,5289,2003,410,3849,1626,253,3038,1138,207,1817,1082,89,1385,719,56,1546,740,42,1307,765,29,1368,1174,85,1579,794,121,1828,1457,46,1862,1565,112,2070,1298,229,2234,1476,183,2219,1901,137,2259,2121,103,2631,1635,180,null,null,null,2603,2204,130,""]
["Rockingham County",15000,8,"00008",190345,245845,277359,295223,314176,327586,339248,347444,922,279,141,770,326,114,849,430,170,1563,696,235,2044,1106,162,2632,2091,266,2911,1191,173,3010,643,169,1702,484,88,1141,341,50,811,171,66,724,238,20,1077,135,22,1173,279,43,1172,134,41,1167,24,48,1161,67,58,1374,206,66,1633,143,97,1763,196,102,1619,331,114,1310,211,55,1182,365,32,1004,1030,37,1082,846,91,787,724,72,591,297,56,573,134,26,373,254,8,331,97,4,403,121,16,395,112,13,470,335,29,569,239,39,635,397,28,562,452,19,577,497,46,540,523,20,559,534,17,579,696,15,742,398,26,null,null,null,637,343,2,""]
["Strafford County",17000,9,"00009",85408,104233,112233,123143,130889,136162,140565,144214,207,90,55,162,34,42,159,86,46,401,172,96,386,251,110,733,499,253,1119,445,327,1466,201,236,764,195,166,535,32,135,261,29,83,219,0,60,220,5,54,193,83,102,251,51,101,245,17,75,238,12,125,269,81,104,358,118,157,472,92,123,529,67,113,505,74,136,514,294,151,497,437,64,667,165,61,650,91,64,383,247,46,267,95,21,184,132,21,141,170,7,159,63,8,164,133,-3,144,41,48,116,190,7,151,200,7,174,99,3,169,104,30,236,232,41,225,471,51,169,313,20,209,154,30,null,null,null,209,202,24,""]
["Sullivan County",19000,10,"00010",36063,38592,40458,43742,43063,43943,44429,44429,196,62,53,191,47,55,85,20,45,126,-12,52,138,-29,40,133,28,66,255,32,74,289,24,112,417,28,112,205,74,71,90,-1,44,106,10,41,72,3,38,79,-1,53,99,-60,58,97,-23,64,91,-42,45,101,9,28,107,7,43,119,23,60,151,-28,60,121,2,39,200,-4,29,223,0,32,260,23,28,215,5,24,178,9,10,190,32,37,80,4,12,48,15,24,37,5,13,28,2,6,34,6,5,33,1,7,37,1,3,48,1,11,34,6,11,22,1,13,35,4,12,40,11,7,54,17,8,null,null,null,78,11,4,""]
[]
[]
[]
[]
[]
[]
["NH Employment Data","Query Name: DPQryEmploymentByCnty-Good-Serv-Total","Updated:","2023-10-24"]
[]
["AreaName","COUNTYCODE","TOTP & G2001","TOT2001","GOODPRO2001","SERVICEPROMAN2001","WAGEP & G2001","WAGETOT2001","WAGEGOODPRO2001","WAGESERVICEPRO2001","TOTP & G2002","TOT2002","GOODPRO2002","SERVICEPROMAN2002","WAGEP & G2002","WAGETOT2002","WAGEGOODPRO2002","WAGESERVICEPRO2002","TOTP & G2003","TOT2003","GOODPRO2003","SERVICEPROMAN2003","WAGEP & G2003","WAGETOT2003","WAGEGOODPRO2003","WAGESERVICEPRO2003","TOTP & G2004","TOT2004","GOODPRO2004","SERVICEPROMAN2004","WAGEP & G2004","WAGETOT2004","WAGEGOODPRO2004","WAGESERVICEPRO2004","TOTP & G2005","TOT2005","GOODPRO2005","SERVICEPROMAN2005","WAGEP & G2005","WAGETOT2005","WAGEGOODPRO2005","WAGESERVICEPRO2005","TOTP & G2006","TOT2006","GOODPRO2006","SERVICEPROMAN2006","WAGEP & G2006","WAGETOT2006","WAGEGOODPRO2006","WAGESERVICEPRO2006","TOTP & G2007","TOT2007","GOODPRO2007","SERVICEPROMAN2007","WAGEP & G2007","WAGETOT2007","WAGEGOODPRO2007","WAGESERVICEPRO2007","TOTP & G2008","TOT2008","GOODPRO2008","SERVICEPROMAN2008","WAGEP & G2008","WAGETOT2008","WAGEGOODPRO2008","WAGESERVICEPRO2008","TOTP & G2009","TOT2009","GOODPRO2009","SERVICEPROMAN2009","WAGEP & G2009","WAGETOT2009","WAGEGOODPRO2009","WAGESERVICEPRO2009","TOTP & G2010","TOT2010","GOODPRO2010","SERVICEPROMAN2010","WAGEP & G2010","WAGETOT2010","WAGEGOODPRO2010","WAGESERVICEPRO2010","TOTP & G2011","TOT2011","GOODPRO2011","SERVICEPROMAN2011","WAGEP & G2011","WAGETOT2011","WAGEGOODPRO2011","WAGESERVICEPRO2011","TOTP & G2012","TOT2012","GOODPRO2012","SERVICEPROMAN2012","WAGEP & G2012","WAGETOT2012","WAGEGOODPRO2012","WAGESERVICEPRO2012","TOTP & G2013","TOT2013","GOODPRO2013","SERVICEPROMAN2013","WAGEP & G2013","WAGETOT2013","WAGEGOODPRO2013","WAGESERVICEPRO2013","TOTP & G2014","TOT2014","GOODPRO2014","SERVICEPROMAN2014","WAGEP & G2014","WAGETOT2014","WAGEGOODPRO2014","WAGESERVICEPRO2014","TOTP & G2015","TOT2015","GOODPRO2015","SERVICEPROMAN2015","WAGEP & G2015","WAGETOT2015","WAGEGOODPRO2015","WAGESERVICEPRO2015","TOTP & G2016","TOT2016","GOODPRO2016","SERVICEPROMAN2016","WAGEP & G2016","WAGETOT2016","WAGEGOODPRO2016","WAGESERVICEPRO2016","TOTP & G2017","TOT2017","GOODPRO2017","SERVICEPROMAN2017","WAGEP & G2017","WAGETOT2017","WAGEGOODPRO2017","WAGESERVICEPRO2017","TOTP & G2018","TOT2018","GOODPRO2018","SERVICEPROMAN2018","WAGEP & G2018","WAGETOT2018","WAGEGOODPRO2018","WAGESERVICEPRO2018","TOTP & G2019","TOT2019","GOODPRO2019","SERVICEPROMAN2019","WAGEP & G2019","WAGETOT2019","WAGEGOODPRO2019","WAGESERVICEPRO2019","TOTP & G2020","TOT2020","GOODPRO2020","SERVICEPROMAN2020","WAGEP & G2020","WAGETOT2020","WAGEGOODPRO2020","WAGESERVICEPRO2020","TOTP & G2021","TOT2021","GOODPRO2021","SERVICEPROMAN2021","WAGEP & G2021","WAGETOT2021","WAGEGOODPRO2021","WAGESERVICEPRO2021","TOTP & G2022","TOT2022","GOODPRO2022","SERVICEPROMAN2022","WAGEP & G2022","WAGETOT2022","WAGEGOODPRO2022","WAGESERVICEPRO2022","PlaceTownIDNumber","COUNTYCODE"]
["Belknap County",1,26173,22708,6138,16570,541.07000000000005,538.34,689.88,482.21,26052,22334,5408,16926,561.11,555.84,731.15,499.83,26286,22376,5281,17095,579.91,573.04,754.28,517.04999999999995,26931,23030,5431,17599,610.04,602.01,777.41,547.89,26940,22891,5467,17424,636.41999999999996,634.14,819.42,576,27237,23042,5133,17909,657.93,655.07000000000005,862.32,595.66999999999996,27266,23032,4820,18212,674.29,668.31,921.91,601.17999999999995,26793,22507,4572,17935,689.74,680.53,938.61,614.74,25570,21280,3944,17337,692.98,680.87,934.72,623.12,24943,20713,3480,17234,698.61,690.71,945.91,639.19000000000005,24953,20748,3411,17337,706.01,697.17,959.24,645.61,25196,20972,3400,17572,708.66,703.81,960.55,654.13,25517,21311,3517,17794,718.36,714.81,997.67,658.89,25490,21315,3554,17761,748.41,745.98,1036.05,687.93,25584,21457,3597,17859,776.57,774.35,1066.24,715.55,25708,21577,3626,17951,797.95,796.89,1088.81,737.93,25829,21725,3676,18049,823.13,823.31,1139.79,758.85,25898,21803,3774,18029,851.06,851.82,1167.98,785.64,26080,22008,3799,18209,854.12,849.87,1177.3,781.56,23895,20018,3578,16439,949.48,948,1212.92,890.34,24938,21021,3619,17402,965.32,969.25,1287.7,903.02,25226,21338,3632,17706,1005,1007,1332,941,1016,1]
["Carroll County",2,19495,16938,2563,14374,467.52,460.32,627.98,430.42,19756,17153,2497,14656,481.01,472.65,645.74,443.16,20167,17534,2567,14967,492.28,481.72,647.55999999999995,453.27,20405,17701,2526,15175,519.72,511.1,687.06,481.81,20205,17448,2541,14906,533.86,524.08000000000004,703.81,493.43,20294,17504,2588,14916,575.59,568.1,737.84,538.66,20402,17510,2544,14966,573.29999999999995,562.55999999999995,760.1,528.99,20584,17636,2552,15084,584.17999999999995,570.32000000000005,770.38,536.47,19942,16904,2265,14639,587.36,570.99,765.31,540.91999999999996,19810,16754,2124,14630,600.19000000000005,586.5,775.97,558.99,19997,17005,2189,14816,617.28,603.41999999999996,798.39,574.61,20082,17083,2162,14921,627.16999999999996,615.41,800.29,588.62,19971,16958,2084,14874,645.66999999999996,633.79,805.62,609.71,20015,16952,2024,14928,640.24,627.02,843.7,597.64,19806,16828,1996,14832,667.3,653.87,884.26,622.86,19997,17053,2030,15023,686.74,674.21,909.04,642.48,20005,17047,2057,14991,692.33,677.15,941.62,640.87,20015,17037,2078,14959,710.33,694.81,905.58,665.54,20228,17268,2128,15140,735.27,721.26,942.12,690.22,17882,15000,2074,12926,841.07,832.06,1019.76,801.94,18856,16033,2145,13888,872.88,865.29,1033.17,839.36,19410,16536,2187,14349,918,915,1060,893,1017,2]
["Cheshire County",3,32349,27819,"n","n",571.92999999999995,577.30999999999995,"n","n",32369,27595,7795,19800,584.33000000000004,590.97,743.2,531.04,32548,27626,7754,19873,598.89,603.04,763.11,540.59,33075,28132,7648,20484,631.09,634.67999999999995,807.42,570.17999999999995,33995,28886,8110,20776,656.03,666.98,828.9,603.78,34194,29151,7889,21262,723.95,741.43,987.42,650.15,33638,28601,7473,21128,707.44,717.07,867.3,663.94,33220,28351,7351,21000,746.75,752.8,902.94,700.24,32207,27212,6761,20451,742.41,745.7,870.79,704.34,31527,26585,6300,20286,754.45,756.21,900.6,711.38,31690,26854,6240,20614,768.13,768.69,935.64,718.15,32021,27158,6245,20914,790.24,793.9,933.87,752.11,31923,27008,6032,20975,796.52,797.61,965.3,749.39,31904,26935,6025,20910,810.83,815.88,993.69,764.64,32067,27097,6073,21024,830.63,834.25,1010.79,783.25,32005,27109,6177,20932,838.96,843.47,1028.03,789.01,31743,26953,6194,20759,867.06,873.07,1043.75,822.14,31642,26825,6445,20380,895.81,907.01,1090.07,849.12,31737,26923,6652,20272,913.17,927.09,1100.44,870.2,29801,25226,6410,18816,1000.19,1013.03,1159.32,963.2,30189,26304,6689,19615,1014.16,1025.44,1193.71,968.06,31326,26866,7145,19722,1081,1104,1278,1041,1018,3]
["Coos County",4,13872,11234,"n","n",489.02,487.7,"n","n",13737,11021,2332,8689,490.8,484.33,650.88,439.63,13946,11225,2578,8647,525.08000000000004,519.66,703.37,464.89,14103,11341,2590,8751,542.98,540.59,726.42,485.6,14026,11222,2533,8689,556.04,552.64,754.89,493.68,13898,10991,2334,8657,572.86,571.41999999999996,766.73,518.76,13876,11050,2184,8866,583.63,572.30999999999995,758.88,526.34,13566,10747,1988,8759,602.53,587.51,755.51,549.38,13002,10134,1720,8414,609.67999999999995,592.77,751.35,560.36,12832,9977,1593,8384,608.57000000000005,589.54,744.88,560.02,12555,9785,1473,8312,620.23,600.46,757.95,572.54,12371,9564,1568,7995,640.94000000000005,622.74,825.56,582.97,12515,9564,1649,7915,667.37,647.75,855.89,604.39,12064,9083,1293,7789,675.59,651.58000000000004,777.89,630.61,11974,9046,1222,7824,694.46,666.94,788.97,647.89,11990,9038,1167,7870,706.62,682.98,853.55,657.68,11999,9070,1223,7846,729.45,705.37,867.99,680.02,11970,9060,1296,7764,749.69,723.06,852.68,701.43,12083,9226,1304,7921,766.79,735.31,914.39,705.82,10860,8144,1260,6884,857.08,825.46,905.94,810.72,11341,8617,1357,7260,875.17,849.5,872.32,845.23,11633,8928,1393,7535,954,944,1180,900,1019,4]
["Grafton County",5,49352,43256,8085,35171,617.73,624.04999999999995,672.45,612.92999999999995,49690,43362,7763,35599,658.93,668.77,701.81,661.56,50615,44009,7790,36220,704.15,717.01,753.77,709.11,51355,44704,7636,37069,728.96,740.6,770.78,734.38,51541,44954,7698,37256,768.82,783.94,809.26,778.7,52267,45531,7761,37770,803.4,820.96,855.22,813.92,52729,45992,7672,38320,843.04,860.73,901.98,852.47,52901,46166,7347,38819,867.61,884.82,928.14,876.62,51401,44646,6446,38200,879.4,895.26,899.95,894.47,51256,44376,6289,38086,905.77,925.54,949.83,921.53,51663,44867,6681,38186,926.58,946.3,981.6,940.12,52026,45246,6818,38428,950.95,973.52,996.15,969.5,52153,45454,6717,38736,965.05,986.68,1028.75,979.39,52226,45565,6778,38787,1004.06,1029.1500000000001,1069.54,1022.09,52654,46056,6882,39174,1037.55,1061.83,1078.8900000000001,1058.83,53361,46686,6801,39885,1058.5999999999999,1086.92,1082.4000000000001,1087.69,53790,47161,6781,40380,1079.6300000000001,1108.6099999999999,1125.3,1105.81,54119,47417,6926,40491,1105.33,1135.81,1167.74,1130.3399999999999,54388,47685,6855,40830,1142.8,1174.8,1156.02,1177.95,50622,44208,6338,37870,1251.72,1287.53,1194.47,1303.1099999999999,52299,45834,6526,39308,1284.3900000000001,1324,1309.54,1326.4,53193,47047,6756,40292,1320,1356,1348,1358,1020,5]
["Hillsborough County",6,192842,173003,47169,125834,756.14,762.49,941.37,695.43,188573,168164,42086,126078,768.52,773.3,968.23,708.23,190864,169969,41006,128962,801.91,806.79,1014.82,740.64,193543,172567,40910,131656,839.56,844.4,1064.01,776.16,196190,174854,40181,134673,866.71,873.18,1101.58,805.03,196502,175094,39123,135971,897.24,904,1171.1600000000001,827.13,197183,175821,38588,137233,946.54,951.14,1248.82,867.44,195976,174253,36628,137625,973.54,979.17,1267.17,902.52,187240,165260,33003,132257,959.3,962.96,1236.24,894.76,184628,162829,32117,130712,980.99,986.25,1287.9100000000001,912.12,186437,165030,32694,132336,1013.7,1018.86,1329.81,942.03,188425,167133,31642,135492,1029.82,1035.95,1325.69,968.28,190568,169383,30861,138522,1038.74,1045.24,1365.43,973.9,193565,172574,31422,141152,1092.9000000000001,1101.22,1393.55,1036.1500000000001,196842,175848,31842,144005,1099.51,1106.52,1401.46,1041.3,199729,178867,32654,146213,1118.6300000000001,1126.21,1436.51,1056.9100000000001,201740,180839,33513,147327,1147.78,1156.08,1490.14,1080.0899999999999,203961,182874,34296,148577,1182,1189.98,1525.57,1112.51,205989,184819,35047,149772,1219.73,1229.8399999999999,1558.29,1152.98,192746,172283,33774,138510,1350.41,1366.74,1698.45,1285.8599999999999,196932,176563,33764,142800,1406.98,1425.94,1745.36,1350.42,200919,180392,34516,145876,1452,1472,1832,1386,1021,6]
["Merrimack County",7,71543,56168,12137,44031,631.86,633.92999999999995,772.48,595.74,71850,56025,11403,44622,653.27,655.12,799.93,618.12,72840,56631,11036,45595,667.06,666.91,826.68,628.24,72381,56515,10742,45773,690.51,689.4,845.49,652.77,72963,56979,11012,45967,710.07,710.67,861.87,674.44,74077,57818,10760,47058,739.28,739.89,906.79,701.73,74070,57629,10051,47579,774.05,772.96,972.47,730.82,73959,57295,9822,47472,795.3,789.49,978.78,750.33,72134,55582,8724,46857,810.16,788.36,966.04,755.28,71882,55306,8662,46645,821.15,806.64,998.67,770.98,72140,55913,9059,46854,835.3,821.63,1012.78,784.67,72901,56946,9282,47664,850.4,842.26,1036.72,804.39,73510,57805,9457,48348,866.04,857.51,1050.8699999999999,819.69,74884,58800,9698,49103,892.44,882.46,1086.78,842.11,75670,59563,9801,49762,929.04,918.53,1114.06,880.02,76413,60219,9936,50283,946.35,937.29,1126.3800000000001,899.92,76803,60570,10042,50528,980.03,971.23,1164.72,932.78,77469,61326,10142,51184,1012.33,1004.39,1186.1199999999999,968.39,77816,61536,10313,51222,1038.6300000000001,1030.98,1209.32,995.07,73101,57299,9711,47587,1132,1126.1500000000001,1268.4000000000001,1097.1199999999999,73335,57980,9834,48146,1169.23,1172.8,1298.8699999999999,1147.05,75215,59610,10148,49462,1250,1269,1360,1250,1022,7]
["New Hampshire",1026,610446,531225,127190,404035,682.38,691.51,842.11,644.1,603100,521320,115244,406076,695.8,703.84,868.13,657.22,604198,520362,111472,408890,717.94,724.91,888.81,680.22,613327,529515,111893,417622,753.7,760.58,928.63,715.56,620909,536173,112033,424140,779.84,788.93,958.48,744.15,627301,541435,110189,431246,816.3,827.48,1013.11,780.04,630171,543800,107673,436127,843.46,852.45,1054.1600000000001,802.65,628819,541768,104441,437326,863.66,870.64,1074.5999999999999,821.93,604915,517658,92952,424706,864.05,867.37,1066.42,823.81,600540,513386,89428,423957,883.88,890.13,1119.47,841.75,605864,520338,90996,429342,909.31,916.27,1140.95,868.65,612432,527263,90404,436858,928.33,938.02,1152.07,893.72,618756,534106,90890,443216,941.75,950.79,1173.1099999999999,905.2,626567,541441,92176,449265,983.96,996.35,1200.71,954.42,636798,552276,93968,458308,1010.64,1021.89,1224.55,980.34,647375,562836,96138,466699,1030.04,1042.6300000000001,1251.03,999.7,653496,569023,97995,471029,1060.3399999999999,1073.99,1294.46,1028.1199999999999,658816,574044,100089,473955,1091.97,1106.44,1317.59,1061.8499999999999,665374,580394,101907,478487,1128.27,1145.04,1346.98,1102.03,624442,542824,97843,444981,1247.45,1269.51,1431.08,1233.99,647978,567574,99578,467996,1386.82,1425,1483.75,1412.5,670634,589201,102750,486451,1389,1423,1549,1396,1026]
["Rockingham County",8,130960,117604,24384,93220,704.6,714.62,913.02,662.73,130242,116589,22286,94302,712.56,720.57,945.47,667.42,130329,116466,21075,95392,725.68,731.51,920.38,689.79,133803,119786,21944,97841,774.11,781.14,964.22,740.08,136154,122028,22051,99976,796.86,803.2,996.54,760.55,138063,123549,22274,101275,842.13,851.8,1013.05,816.33,138382,123679,22407,101273,849.04,856.27,1052.77,812.8,137191,122378,22407,99970,839.01,841.86,1081.82,788.07,131375,116492,19644,96848,839.06,840.45,1104.3599999999999,786.93,131892,117079,18689,98391,862.17,865.32,1199.72,801.8,133444,119079,18941,100138,880.6,883.65,1146.49,833.93,135396,121125,18942,102183,907.06,912.95,1200.98,859.56,137505,123255,19558,103698,919.22,924.42,1204.8699999999999,871.53,139972,125705,20107,105598,967.99,976.63,1214.5999999999999,931.32,143650,129571,20954,108617,999.45,1007.52,1260.8800000000001,958.65,146926,132843,21711,111132,1008.63,1016.49,1289.1199999999999,963.24,149059,134948,22384,112564,1040.5999999999999,1049.82,1335.62,992.99,149817,135525,22957,112568,1068.69,1079.1600000000001,1345.67,1024.8,151694,137342,23611,113731,1110.28,1122.81,1388.53,1067.6400000000001,141876,128387,23301,105086,1204.1600000000001,1216.3900000000001,1435.04,1167.9100000000001,147153,133559,23930,109629,1266.5,1282.33,1480.19,1239.1400000000001,151310,137387,24619,112767,1327,1345,1543,1301,1023,8]
["Strafford County",9,43645,34821,9068,25753,655.37,655.92,770.85,615.45000000000005,42874,33684,7630,26054,655.35,652.99,800.21,609.88,43046,33530,7366,26164,668.52,656.47,806.84,614.13,43436,33873,7230,26643,693.72,673.65,820.17,633.9,43773,34267,7211,27056,709.03,692.76,828.02,656.71,44557,35064,7140,27925,723.22,705.71,858.22,666.71,45570,35960,6960,29000,746.96,729.16,880.17,692.91,46580,36991,6754,30237,803.35,784.14,900.05,758.25,44375,35115,5981,29133,822.2,798.7,916.04,774.61,44144,34793,5960,28833,843.68,824.98,964.85,796.07,44154,34870,6008,28863,879.87,868.02,1098.93,819.95,45017,35667,6036,29631,875.8,864.35,1039.17,828.73,45379,36187,6365,29822,896.63,880.93,1050.44,844.76,46249,36899,6431,30469,915.86,906.58,1082.2,869.52,46826,37517,6657,30860,954.37,941.53,1121.8,902.65,47632,38313,6879,31434,967.61,953.88,1119.03,917.74,48165,38780,6935,31845,990.95,980.7,1148.01,944.26,48371,39036,6997,32039,1004.47,991.1,1131.83,960.36,48714,39366,7127,32239,1034.79,1028.5999999999999,1146.21,1002.6,45799,36761,6439,30321,1109.92,1099.0999999999999,1214.9000000000001,1074.5,46804,37871,6556,31316,1140.3699999999999,1132.99,1259.19,1106.57,47470,38529,6974,31554,1186,1184,1296,1159,1024,9]
["Sullivan County",10,14086,11544,"n","n",536.78,549.33000000000004,"n","n",13793,11231,4452,6779,561.15,569.74,685.65,493.64,13370,10809,4059,6750,577.41,588.45000000000005,688.92,528.03,13551,11127,4066,7061,602.70000000000005,607.34,721.67,541.5,13862,11386,4086,7300,615.79,621.85,741.34,554.98,13826,11306,3928,7377,642.61,650.96,800.27,571.45000000000005,13873,11351,3958,7393,676.8,687.32,843.22,603.85,13799,11227,3909,7318,687.34,698.53,866.24,608.95000000000005,13185,10586,3466,7121,698.02,705.82,887.35,617.47,13076,10479,3303,7176,714.38,723.66,917.55,634.42999999999995,13190,10617,3204,7413,723.57,732.12,955.94,635.39,13597,11070,3448,7622,757.15,771.77,1038.8399999999999,650.94000000000005,13793,11373,3704,7670,768.35,784.88,1012.65,674.88,13873,11439,3932,7507,795.94,816.28,1039.17,699.53,14090,11709,3948,7761,803.2,815.31,1021.57,710.37,14204,11783,4061,7722,810.76,830.28,1066.2,706.22,13997,11636,4031,7605,821.95,836.22,1048.48,723.72,13966,11628,3919,7708,836.09,849.04,1063.6199999999999,739.94,13735,11390,3818,7573,854.16,864.16,1081.23,754.74,13162,10897,3666,7231,933.76,950.68,1145.6400000000001,851.82,13487,11250,3748,7502,996.61,1021.24,1258.53,902.68,13460,11234,3901,7333,1031,1058,1256,952,1025,10]
[]
[]
[]
[]
[]
[]
["Labor Force and Unemployment Rate","Query Name: DPQryUnempByCnty & DPQryUnempByState",null,null,null,"2021-07-14"]
[]
["PlaceName","LaborForce1990","LaborForce1991","LaborForce1992","LaborForce1993","LaborForce1994","LaborForce1995","LaborForce1996","LaborForce1997","LaborForce1998","LaborForce1999","LaborForce2000","LaborForce2001","LaborForce2002","LaborForce2003","NumberEmployed1990","NumberEmployed1991","NumberEmployed1992","NumberEmployed1993","NumberEmployed1994","NumberEmployed1995","NumberEmployed1996","NumberEmployed1997","NumberEmployed1998","NumberEmployed1999","NumberEmployed2000","NumberEmployed2001","NumberEmployed2002","NumberEmployed2003","UnempRate1990","UnempRate1991","UnempRate1992","UnempRate1993","UnempRate1994","UnempRate1995","UnempRate1996","UnempRate1997","UnempRate1998","UnempRate1999","UnempRate2000","UnempRate2001","UnempRate2002","UnempRate2003","NumbUnEmployed1990","NumbUnEmployed1991","NumbUnEmployed1992","NumbUnEmployed1993","NumbUnEmployed1994","NumbUnEmployed1995","NumbUnEmployed1996","NumbUnEmployed1997","NumbUnEmployed1998","NumbUnEmployed1999","NumbUnEmployed2000","NumbUnEmployed2001","NumbUnEmployed2002","NumbUnEmployed2003","LaborForce2004","NumberEmployed2004","UnempRate2004","NumbUnEmployed2004","LaborForce2005","NumberEmployed2005","NumbUnEmp2005","UnempRate2005","LaborForce2006","NumberEmployed2006","NumbUnEmp2006","UnempRate2006","LaborForce2007","NumberEmployed2007","NumbUnEmp2007","UnempRate2007","LaborForce2008","NumberEmployed2008","NumbUnEmp2008","UnempRate2008","LaborForce2009","NumberEmployed2009","NumbUnEmp2009","UnempRate2009","LaborForce2010","NumbEmployed2010","NumbUnEmp2010","UnempRate2010","LaborForce2011","NumbEmployed2011","NumbUnEmp2011","UnempRate2011","LaborForce2012","NumbEmployed2012","NumbUnEmp2012","UnempRate2012","LaborForce2013","NumbEmployed2013","NumbUnEmp2013","UnempRate2013","LaborForce2014","NumbEmployed2014","NumbUnEmp2014","UnempRate2014","LaborForce2015","NumbEmployed2015","NumbUnEmp2015","UnempRate2015","LaborForce2016","NumbEmployed2016","NumbUnEmp2016","UnempRate2016","LaborForce2017","NumbEmployed2017","NumbUnEmp2017","UnempRate2017","LaborForce2018","NumbEmployed2018","NumbUnEmp2018","UnempRate2018","LaborForce2019","NumbEmployed2019","NumbUnEmp2019","UnempRate2019","LaborForce2020","NumbEmployed2020","NumbUnEmp2020","UnempRate2020","LaborForce2021","NumbEmployed2021","NumbUnEmp2021","UnempRate2021","LaborForce2022","NumbEmployed2022","NumbUnEmp2022","UnempRate2022"]
["Belknap County",26619,26520,26408,26623,27572,27616,28480,29594,30760,30439,30960,31390,31670,31540,25000,24372,24252,24846,26311,26592,27445,28730,29987,29698,30200,30450,30440,30320,6.1000000000000005,8.1,8.1999999999999993,6.7,4.6000000000000005,3.7,3.6,2.9,2.5,2.4,2.4,3,3.9,3.9,1619,2148,2156,1777,1261,1024,1035,864,773,741,760,940,1230,1220,31680,30570,3.5000000000000004,1110,31920,30860,1060,3.3000000000000003,32520,31440,1080,3.3000000000000003,32410,31250,1160,3.6000000000000005,32650,31310,1340,4.0999999999999996,32540,30370,2170,6.7,32321,30166,2155,6.7,32069,30286,1783,5.6,32041,30321,1720,5.4,32065,30409,1656,5.2,31687,30358,1329,4.2,31644,30578,1066,3.4000000000000004,31425,30534,891,2.8,31264,30404,860,2.8,31570,30750,820,2.5,31860,31050,810,2.5,30920,28750,2170,7.0000000000000009,31060,29950,1110,3.6000000000000005,31110,30320,790,2.5]
["Carroll County",19324,18897,18852,18996,19567,19855,20981,21505,22123,21678,23640,23920,24250,24400,18361,17657,17635,17968,18767,19122,20149,20819,21552,21119,23010,23180,23380,23540,5,6.6000000000000005,6.5,5.4,4.0999999999999996,3.7,4,3.2,2.6,2.6,2.7,3.1,3.6000000000000005,3.5000000000000004,963,1240,1217,1028,800,733,832,686,571,559,630,740,870,860,24790,24000,3.2,790,24950,24110,840,3.4000000000000004,25330,24510,820,3.2,25500,24620,880,3.4000000000000004,25910,24980,930,3.6000000000000005,25870,24420,1450,5.6,24978,23495,1483,5.9,24777,23415,1362,5.5,24657,23372,1285,5.2,24484,23244,1240,5.0999999999999996,24229,23205,1024,4.2,23831,22995,836,3.5000000000000004,23700,23001,699,2.9,23673,23017,656,2.8,23940,23310,630,2.6,24210,23590,620,2.6,22990,21210,1780,7.7,23220,22360,860,3.7000000000000006,23350,22740,610,2.6]
["Cheshire County",38410,38311,38329,38523,38955,38976,38787,38174,39489,39308,39900,40180,40340,40090,36711,36037,35991,36592,37381,37634,37535,36858,38288,38226,38860,38970,38920,38670,4.4000000000000004,5.9,6.1000000000000005,5,4,3.4,3.2,3.4,3,2.8000000000000003,2.6,3,3.5000000000000004,3.5000000000000004,1699,2274,2338,1931,1574,1342,1252,1316,1201,1082,1040,1210,1420,1420,40910,39540,3.3000000000000003,1370,41900,40570,1330,3.2,42480,41110,1370,3.2,42090,40600,1490,3.5000000000000004,42150,40610,1540,3.7000000000000006,42040,39630,2410,5.7,42682,40207,2475,5.8,42570,40412,2158,5.0999999999999996,42599,40454,2145,5,42041,39986,2055,4.9000000000000004,42124,40412,1712,4.0999999999999996,41608,40278,1330,3.2,41455,40320,1135,2.7,41171,40062,1109,2.7,41140,40060,1080,2.6,41080,40000,1080,2.6,39590,37130,2460,6.2,39500,38030,1470,3.7000000000000006,39370,38310,1060,2.7]
["Coos County",17316,17562,17691,17474,17190,16840,16932,16758,17345,16954,17130,17070,16780,16520,16173,16077,15763,15823,15986,15760,15851,15916,16647,16238,16510,16170,15670,15660,6.6000000000000005,8.5,10.9,9.4,7,6.4,6.4,5,4,4.2,3.6000000000000005,5.3,6.6000000000000005,5.2,1143,1485,1928,1651,1204,1080,1081,842,698,716,620,900,1110,860,16510,15760,4.5,750,16660,15980,680,4.0999999999999996,16820,16120,700,4.0999999999999996,16700,15930,770,4.5999999999999996,16500,15650,850,5.2,16390,15090,1300,7.9,16590,15370,1220,7.4000000000000012,16350,15160,1190,7.3,16090,14900,1190,7.4000000000000012,15930,14960,970,6.1,15180,14320,860,5.7,14820,14180,640,4.3,14660,14110,550,3.8,14480,13960,520,3.6000000000000005,14740,14250,490,3.1,14850,14370,480,3.1,14230,13090,1140,8,14350,13730,620,4.3,14420,13940,480,3.3000000000000003]
["Grafton County",40114,40615,40202,40214,41480,42160,41465,42872,43915,44610,44860,45010,45440,45680,37935,37753,37788,38153,40169,40853,40117,41781,42942,43752,43800,43800,44110,44300,5.4,7,6,5.1000000000000005,3.2,3.1,3.3000000000000003,2.5,2.2000000000000002,1.9000000000000001,2.4,2.7,2.9,3,2179,2862,2414,2061,1311,1307,1348,1091,973,858,1060,1210,1330,1380,46400,45110,2.8,1290,46770,45450,1320,2.8,47850,46480,1370,2.9,48290,46860,1430,3,48800,47260,1540,3.1,48890,46380,2510,5.0999999999999996,48330,46010,2320,4.8,48730,46560,2170,4.5,48730,46560,2170,4.4000000000000004,48360,46320,2040,4.2,48550,46880,1670,3.4000000000000004,48690,47360,1330,2.7,48810,47660,1150,2.4,49340,48210,1130,2.2999999999999998,49860,48780,1080,2.2999999999999998,50040,48930,1110,2.2999999999999998,47860,45030,2830,5.9,48470,46900,1570,3.2,48940,47800,1140,2.2999999999999998]
["Hillsborough County",198164,189890,190456,190604,188801,191601,195500,201780,205929,209122,212570,216250,216670,219660,187400,176384,175915,178170,179148,183552,188683,196133,200444,203336,207150,208620,206320,209650,5.4,7.1000000000000005,7.6000000000000005,6.5,5.1000000000000005,4.2,3.5,2.8000000000000003,2.7,2.8000000000000003,2.5,3.5000000000000004,4.8,4.5999999999999996,10764,13506,14541,12434,9653,8049,6817,5647,5485,5786,5420,7630,10350,10010,223190,214540,3.9,8650,226190,217990,8200,3.6000000000000005,226540,218490,8050,3.6000000000000005,228220,220130,8090,3.5000000000000004,229000,220160,8840,3.9,229680,214830,14850,6.5,226150,212240,13910,6.2,225080,212340,12740,5.7,226900,213780,13120,5.8,227770,215530,12240,5.4,229070,218780,10290,4.5,229930,221740,8190,3.6000000000000005,232310,225270,7040,3,234250,227290,6960,3,240520,233980,6540,2.8,245020,238540,6480,2.8,239780,222900,16880,7.0000000000000009,237390,229100,8290,3.5000000000000004,241300,235080,6220,2.6]
["Merrimack County",60263,65585,66290,66666,69983,71079,71419,72912,75415,75893,74790,76070,77020,77330,57132,61167,62035,63545,67602,69099,69490,71047,73647,74264,73010,73900,74390,74600,5.2,6.7,6.4,4.7,3.4,2.8000000000000003,2.7,2.6,2.3000000000000003,2.1,2.4,2.8,3.4000000000000004,3.5000000000000004,3131,4418,4255,3121,2381,1980,1929,1865,1768,1629,1780,2170,2630,2730,77130,74700,3.2,2430,78130,75670,2460,3.1,79560,77070,2490,3.1,80320,77660,2660,3.3000000000000003,81100,78140,2960,3.6000000000000005,81730,77120,4610,5.6,81400,77050,4350,5.3,81100,77110,3990,4.9000000000000004,81160,77140,4020,4.9000000000000004,80880,77140,3740,4.5999999999999996,81050,77950,3100,3.8,81370,78870,2500,3.1,82030,79940,2090,2.6,82120,80090,2030,2.5,83800,81880,1920,2.2999999999999998,84570,82650,1920,2.2999999999999998,82370,77540,4830,5.9,81530,78990,2540,3.1,82630,80740,1890,2.2999999999999998]
["New Hampshire",620037,614452,615648,619307,624566,631050,641246,656094,670560,684904,687910,697760,702280,707520,585032,569621,568909,580137,594935,605929,617629,635469,651292,666066,669620,673780,670880,677030,5.6000000000000005,7.3,7.6000000000000005,6.3,4.7,4,3.7,3.1,2.9,2.8000000000000003,2.7,3.4000000000000004,4.5,4.3,35005,44831,46739,39170,29631,25121,23617,20625,19268,18838,18290,23980,31400,30490,716190,689150,3.8,27040,725850,700030,25820,3.6000000000000005,731860,706780,25080,3.4000000000000004,737940,712010,25930,3.5000000000000004,742780,714100,28680,3.9,744230,697800,46430,6.2,739340,694132,45208,6.1,736785,696591,40194,5.5,740796,700448,40348,5.4,743036,704023,39013,5.3,743756,711740,32016,4.3,746317,720832,25485,3.4000000000000004,752478,731002,21476,2.9,758133,736918,21215,2.8,770470,750290,20180,2.6,780540,760520,20020,2.6,759770,708570,51200,6.7,756860,731120,25740,3.4000000000000004,766670,747340,19330,2.5]
["Rockingham County",142104,139032,141005,142966,143631,145349,149229,152776,155665,166617,160550,163720,165150,166410,133279,128005,128734,132204,135218,138531,142657,146942,150092,161203,155770,157160,156130,157690,6.2,7.9,8.7000000000000011,7.5,5.9,4.7,4.4000000000000004,3.8000000000000003,3.6,3.2,3,4,5.5,5.2,8825,11027,12271,10762,8413,6818,6572,5834,5573,5414,4780,6560,9020,8720,168380,160630,4.5999999999999996,7750,170880,163840,7040,4.0999999999999996,171540,165100,6440,3.8,173680,167110,6570,3.8,174270,166880,7390,4.2,174580,163080,11500,6.6000000000000005,172614,161814,10800,6.3,172241,162491,9750,5.7,174692,164620,10072,5.8,176165,166287,9878,5.6,177064,168840,8224,4.5999999999999996,179033,172531,6502,3.6000000000000005,181940,176425,5515,3,184036,178453,5583,3,187200,181850,5350,2.7,190350,185140,5210,2.7,185900,172690,13210,7.1,185310,179100,6210,3.4000000000000004,188660,183770,4890,2.6]
["Strafford County",57148,58093,56919,57516,56837,56813,57427,58489,58418,58546,61810,62520,63500,64900,53769,53786,52695,54172,54547,54625,55244,56626,56777,57105,60150,60480,60740,62330,5.9,7.4,7.4,5.8,4,3.9,3.8000000000000003,3.2,2.8000000000000003,2.5,2.7,3.3000000000000003,4.3,4,3379,4307,4224,3344,2290,2188,2183,1863,1641,1441,1660,2040,2760,2570,65950,63730,3.4000000000000004,2220,66510,64270,2240,3.4000000000000004,66850,64740,2110,3.2,68210,65980,2230,3.3000000000000003,69670,67150,2520,3.6000000000000005,69750,65430,4320,6.2,69674,65540,4134,5.9,69659,65933,3726,5.3,70029,66274,3755,5.4,70313,66775,3538,5,70787,67940,2847,4,71357,69107,2250,3.2,72510,70662,1848,2.5,72874,71055,1819,2.5,74300,72540,1760,2.4,75190,73410,1780,2.4,73210,68570,4640,6.3,73060,70730,2330,3.2,74090,72370,1720,2.2999999999999998]
["Sullivan County",20576,19947,19495,19727,20552,20761,21028,21231,21496,21735,21700,21660,21460,21000,19273,18384,18102,18664,19808,20161,20459,20618,20914,21126,21160,21070,20780,20270,6.3,7.8,7.1000000000000005,5.4,3.6,2.9,2.7,2.9,2.7,2.8000000000000003,2.5,2.7,3.2,3.5000000000000004,1303,1563,1393,1063,744,600,569,613,582,609,540,590,680,730,21270,20590,3.2,680,21950,21300,650,2.9,22370,21720,650,2.9,22550,21880,670,3,22750,21980,770,3.4000000000000004,22800,21490,1310,5.8,24068,22762,1306,5.4,23965,22857,1108,4.5999999999999996,24035,22966,1069,4.4000000000000004,24141,23116,1025,4.2,23789,22945,844,3.5000000000000004,23713,23056,657,2.8,23625,23074,551,2.2999999999999998,23355,22816,539,2.2999999999999998,23390,22880,510,2.2999999999999998,23380,22840,540,2.2999999999999998,22910,21660,1250,5.5,22970,22230,740,3.2,22810,22270,540,2.4]
[]
[]
["Census 1990 Data -          Query Name: CountySTF3Qry2Poverty"]
["NAME","FIPS","COUSUBFP","HousingUnits90Cen","P01Persons90Cen","P02Families90Cen","P03Households90cen","P1Persons","P2UnweightedSample","P3Count100pct","P3APctPersons","P4TotFamilies","P5TotHouseholds","P117AbvPovertyPop<5","P117AbvPovertyPop5yrs","P117AbvPovertyPop6to11yrs","P117AbvPovertyPop12to17yrs","P117AbvPovertyPop18to24yrs","P117AbvPovertyPop25to34yrs","P117AbvPovertyPop35to44yrs","P117AbvPovertyPop45to54yrs","P117AbvPovertyPop55to59yrs","P117AbvPovertyPop60to64yrs","P117AbvPovertyPop65to74yrs","P117AbvPovertyPop75yrsPlus","P117BlwPovertyPop<5","P117BlwPovertyPop5yrs","P117BlwPovertyPop6to11yrs","P117BlwPovertyPop12to17yrs","P117BlwPovertyPop18to24yrs","P117BlwPovertyPop25to34yrs","P117BlwPovertyPop35to44yrs","P117BlwPovertyPop45to54yrs","P117BlwPovertyPop55to59yrs","P117BlwPovertyPop60to64yrs","P117BlwPovertyPop65to74yrs","P117BlwPovertyPop75yrsPlus","P1230001","P1230002","P1230003","P1230004","P1230005","P1230006","P1230007","P1230008","P1230009","P1230010","P1230011","P1230012","P1230013","P1230014","P1230015","P1230016","P1230017","P1230018","P1230019","P1230020","P1230021","P1230022","P1230023","P1230024","P1270001","P1270002","P1270003","P1270004","P1270005","P1270006","P1270007","P1270008","P1270009","P1270010","P1270011","P1270012","P1270013","P1270014","P1270015","P1270016","P1270017","P1270018","P1270019","P1270020","P1270021","P1270022","P1270023","P1270024","P1270025","P1270026","P1270027","P1270028","P1270029","P1270030"]
["Belknap County",1000,"00001",30306,49216,13334,18839,49216,8099,49216,16.5,13448,18890,3012,701,4110,3700,3330,7628,8076,4824,1772,2444,3613,2113,405,120,266,189,365,543,257,176,92,159,292,285,1236,3082,944,5756,71,194,34,228,100,516,121,589,69,65,76,125,0,14,8,6,86,66,55,7,9071,452,1094,2287,977,1408,27,134,582,75,539,48,98,730,36,289,28,208,275,74,15,0,0,172,20,31,0,6,214,0]
["Carroll County",3000,"00002",32146,35410,9866,14253,35410,9351,35410,26.4,9889,14283,2041,392,2689,2177,2083,5195,5631,3338,1668,1684,3083,1786,328,68,380,237,221,525,432,169,98,140,274,265,711,2051,686,4611,26,65,37,158,47,423,85,374,28,89,107,182,13,13,2,3,35,101,33,9,6279,236,739,1788,755,1272,15,139,588,38,508,35,51,523,21,326,31,173,264,92,67,0,3,112,2,13,0,2,209,2]
["Cheshire County",5000,"00003",30350,70121,18155,25856,70121,14214,70121,20.3,18282,25879,4427,859,5448,4725,5128,10212,10558,6670,2675,2979,4775,3143,431,76,572,377,713,725,427,323,91,204,329,404,1633,3978,1601,7654,102,187,46,265,195,675,129,867,35,109,72,191,13,24,28,15,113,241,83,26,12287,529,1498,2924,1392,1775,34,131,936,68,804,37,237,1189,50,321,80,454,343,191,36,0,4,219,14,50,0,5,254,17]
["Coos County",7000,"00004",18712,34828,9608,13799,34828,9787,34828,28.1,9693,13820,1866,442,2600,2525,2437,4845,4794,3389,1778,1559,2792,1721,344,87,298,290,364,440,290,218,145,175,415,395,686,2243,719,4200,45,101,13,188,47,376,63,298,33,83,49,214,9,12,2,8,84,129,73,18,6378,280,642,1362,512,979,42,66,683,27,491,25,76,577,15,245,29,298,368,66,98,2,6,192,7,36,0,0,314,4]
["Grafton County",9000,"00005",42206,74929,18544,27542,74929,18754,74929,25,18600,27527,4384,889,5301,4651,5210,10796,11103,6732,2860,2852,4650,2930,527,109,442,499,1747,929,513,308,142,260,520,641,1584,4146,1409,7909,138,289,58,330,131,799,79,674,61,137,139,274,12,41,6,21,95,163,72,33,12562,724,1359,3351,1593,1798,70,181,925,50,688,21,143,1184,49,450,72,347,485,504,106,2,6,292,17,55,6,10,460,17]
["Hillsborough County",11000,"00006",135622,336073,88473,124567,336073,49460,336073,14.7,89281,124692,24313,4535,26066,23326,29027,63237,53419,33022,11939,11922,18142,10787,2328,465,2057,1458,2403,3078,1816,1117,560,741,1539,1699,10093,20108,7762,35695,542,963,156,1896,673,3653,421,3738,166,341,365,627,75,46,69,45,562,617,489,179,64698,3145,7052,15752,7161,6505,234,804,3669,156,2455,178,629,4049,128,1200,220,1723,1865,491,213,0,34,898,55,86,15,90,1180,7]
["Merrimack County",13000,"00007",50870,120005,31801,44595,120005,21504,120005,17.899999999999999,31951,44471,8204,1598,9651,8730,8524,20497,19447,11357,4558,4480,7008,5131,650,64,698,448,925,1006,586,402,167,246,510,697,3187,7665,2511,13255,197,415,79,459,236,1440,173,1175,57,164,72,283,36,31,34,0,128,196,129,29,22802,1035,2529,5246,2108,2510,54,252,1603,115,1306,61,243,1792,80,435,101,446,575,184,83,0,24,272,31,58,0,12,498,16]
["New Hampshire",0,"00000",503904,1109252,292601,411186,1109252,193338,1109252,17.399999999999999,294538,411387,76254,14546,86505,76957,87257,193590,176568,106933,41710,41012,65269,39998,7106,1384,6834,5116,10945,10415,6494,4091,1867,2952,5428,6472,30533,67299,24220,121213,1651,3235,669,5519,2188,11855,1572,11742,633,1364,1283,2855,235,308,169,135,1627,2290,1390,553,209630,9732,22701,49354,22449,23893,781,2504,13263,746,9742,561,2152,14150,561,4697,808,5556,5851,2734,855,18,114,3005,174,583,21,190,4478,84]
["Rockingham County",15000,"00008",101773,245845,65939,89118,245845,38116,245845,15.5,66399,89259,18845,3613,20053,18039,19816,47393,43182,25034,9006,7643,12158,7284,942,153,1024,829,1370,1691,1078,742,310,622,818,1114,7929,15922,5915,26479,325,584,151,1352,390,2429,272,2537,90,202,240,504,5,91,2,28,292,363,163,134,50302,2129,4758,10344,4986,4207,193,497,2532,111,1736,90,373,2368,86,748,112,897,906,353,122,14,22,441,6,166,0,33,706,21]
["Strafford County",17000,"00009",42387,104233,26231,37744,104233,15727,104233,15.1,26325,37688,6824,1131,7718,6208,9028,18230,14222,9154,3818,3755,6029,3379,744,159,707,435,2404,1026,707,362,179,237,437,583,2575,5550,2097,11105,128,287,41,458,264,1195,165,1125,37,72,119,297,52,6,0,7,172,285,210,78,18328,808,2326,4671,2288,2242,73,212,1170,73,757,33,211,1217,57,409,65,706,512,709,71,0,12,218,17,45,0,27,431,0]
["Sullivan County",19000,"00010",19532,38592,10650,14873,38592,8326,38592,21.6,10670,14878,2338,386,2869,2876,2674,5557,6136,3413,1636,1694,3019,1724,407,83,390,354,433,452,388,274,83,168,294,389,899,2554,576,4549,77,150,54,185,105,349,64,365,57,102,44,158,20,30,18,2,60,129,83,40,6923,394,704,1629,677,1197,39,88,575,33,458,33,91,521,39,274,70,304,258,70,44,0,3,189,5,43,0,5,212,0]
[]
[]
[]
["Census 1990 Data -          Query Name: CountySTF3QryTableP42_P43"]
["NAME","FIPS","COUSUBFP","HousingUnits90Cen","Persons90Cen","Families90Cen","Households90cen","P01Persons","P02SampleCount","P03_100PctCount","P03APctPersonsInCount","P0420001","P0420002","P0420003","P0420004","P0420005","P0420006","P0420007","P0420008","P0420009","P0430001","P0430002","P0430003","P0430004","P0430005","P0430006","P0430007","P0430008","P0430009","P0430010"]
["Belknap County",1000,"00001",30306,49216,13334,18839,49216,8099,49216,16.5,27389,16696,1531,1355,785,9,2,284,1165,23257,11411,5334,4162,238,755,450,0,0,141]
["Carroll County",3000,"00002",32146,35410,9866,14253,35410,9351,35410,26.4,14271,17004,1036,1320,732,2,6,220,819,16444,7355,2461,5074,294,704,467,0,7,178]
["Cheshire County",5000,"00003",30350,70121,18155,25856,70121,14214,70121,20.3,31002,30834,2641,2208,1254,33,2,527,1620,33307,16129,3273,8618,589,1742,963,10,0,546]
["Coos County",7000,"00004",18712,34828,9608,13799,34828,9787,34828,28.1,23627,7623,484,700,385,1,2,224,1782,19857,7402,1993,2264,136,515,272,1,0,144]
["Grafton County",9000,"00005",42206,74929,18544,27542,74929,18754,74929,25,35079,28365,3280,2835,2311,20,10,672,2357,32257,15473,5224,11321,1081,1839,2074,0,7,707]
["Hillsborough County",11000,"00006",135622,336073,88473,124567,336073,49460,336073,14.7,152227,129035,13541,12948,6728,947,116,2730,17801,158162,76971,13696,38886,4269,7691,4578,434,56,4208]
["Merrimack County",13000,"00007",50870,120005,31801,44595,120005,21504,120005,17.899999999999999,66971,38707,3914,3967,2444,89,22,884,3007,56486,24886,14525,9536,997,2327,1620,13,15,643]
["New Hampshire",0,"00000",503904,1109252,292601,411186,1109252,193338,1109252,17.399999999999999,488894,463621,41623,39984,22831,1440,373,9293,41193,519551,232452,69950,138516,12426,24513,15675,613,229,10696]
["Rockingham County",15000,"00008",101773,245845,65939,89118,245845,38116,245845,15.5,65120,145394,9950,9371,5000,296,121,2292,8301,117247,40750,10431,42573,3148,5571,3408,149,105,2467]
["Strafford County",17000,"00009",42387,104233,26231,37744,104233,15727,104233,15.1,52612,35872,4396,4209,2650,41,82,1191,3180,44702,22054,10494,12442,1346,2598,1435,6,27,1440]
["Sullivan County",19000,"00010",19532,38592,10650,14873,38592,8326,38592,21.6,20596,14091,850,1071,542,2,10,269,1161,17832,10021,2519,3640,328,771,408,0,12,222]
[]
[]
[]
["OSP PopProjections2006"]
["NAME","FIPS","CNTY_CODE","COUSUB","Pop2010Age<15","Pop2010Age15to24","Pop2010Age35to64","Pop2010Age65+","Pop2015Age<15","Pop2015Age15to24","Pop2015Age35to64","Pop2015Age65+","Pop2020Age<15","Pop2020Age15to24","Pop2020Age35to64","Pop2020Age65+","Pop2025Age<15","Pop2025Age15to24","Pop2025Age35to64","Pop2025Age65+","Pop2030Age<15","Pop2030Age15to24","Pop2030Age35to64","Pop2030Age65+"]
["Belknap County",1000,1,"00001",7194,6446,36872,11242,7193,5944,36145,14993,7421,5690,34124,19526,7596,5919,31796,24132,7586,6312,30414,27081]
["Carroll County",3000,2,"00002",4853,4589,28286,10648,4798,4142,27894,14701,4967,3971,26389,19631,5203,4077,24073,24426,5341,4359,23087,26957]
["Cheshire County",5000,3,"00003",7970,12766,42019,12190,7883,11622,43061,15101,8461,10760,42810,18614,8877,10788,41520,22253,8908,11546,41176,24610]
["Coos County",7000,4,"00004",3694,3136,18055,6685,3605,2862,17819,7531,3477,2736,16773,9010,3378,2850,15672,11484,3223,2912,15151,13321]
["Grafton County",9000,5,"00005",8610,14553,47683,14069,8383,13668,47881,18355,8705,13008,45689,23555,9032,12889,43208,28667,9075,13475,42675,31609]
["Hillsborough County",11000,6,"00006",60229,55229,228403,49539,57642,57240,231345,61783,57749,55500,232006,74996,60649,53163,230163,89186,64077,53939,227502,101143]
["Merrimack County",13000,7,"00007",18958,19797,85944,21429,18475,19188,87838,27586,19371,18293,86716,35945,20473,18202,82962,46045,20867,19221,80172,53087]
["New Hampshire",0,0,"00000",{"$f":"SUM(E142:E148)+E150+E152+E151","v":173685},178722,751538,191403,165788,176843,759294,245952,166365,169023,748822,311144,173111,163524,724970,383087,179308,167319,706558,437194]
["Rockingham County",15000,8,"00008",42840,36713,171467,42004,39114,37392,171357,57217,37296,35290,167552,74761,38733,32365,160050,93882,41045,31825,152240,109869]
["Strafford County",17000,9,"00009",14231,21085,67664,15243,13701,20645,70767,18045,13946,19830,72363,21705,14218,19329,72183,26864,14288,19681,71156,31515]
["Sullivan County",19000,10,"00010",5106,4408,25145,8354,4994,4140,25187,10640,4972,3945,24400,13401,4952,3942,23343,16148,4898,4049,22985,18002]
[]
[]
["OSP Occupied HouseHoldEstimates (QryHouseHoldEstimatesCounty and QryHouseHoldEstimatesState) OtherDemoData.mdb  "]
["TOWN","FIPS","COUNTYCODE","COUSUBFP","NumHH95","NumHH00","NumHH01","NumHH02","NumHH03","NumHH04","NumHH05","NumHH06"]
["Belknap County",1000,1,"00001",19451,22459,22812,23156,23595,24018,24441,24806]
["Carroll County",3000,2,"00002",14846,18322,18573,18858,19199,19570,19950,20307]
["Cheshire County",5000,3,"00003",26479,28299,28549,28772,29081,29406,29858,30148]
["Coos County",7000,4,"00004",13987,13902,13951,14029,14142,14244,14374,14483]
["Grafton County",9000,5,"00005",28458,31597,31975,32389,32935,33532,33974,34531]
["Hillsborough County",11000,6,"00006",129535,144455,146259,147956,150287,152407,154453,156161]
["Merrimack County",13000,7,"00007",46017,51843,52576,53373,54379,55347,56210,56908]
["New Hampshire",-1,-1,"00000",425766,474517,481043,487134,494730,502672,510311,516743]
["Rockingham County",15000,8,"00008",92387,104529,106456,107933,109391,111320,113188,114653]
["Strafford County",17000,9,"00009",39406,42581,43226,43881,44769,45696,46507,47214]
["Sullivan County",19000,10,"00010",15203,16530,16663,16781,16947,17128,17357,17532]

{"sheet":"CntyDataLinkPrior5YearEstimates","index":14,"n_rows":160,"n_cols":185,"rows_kept":160,"cut":false,"hidden":true,"merged":[]}
[1,{"$f":"A1+1","v":2},3,4,5,6,7,8,9,10,11,12,13,14,15,16,17,18,19,20,21,22,23,24,25,26,27,28,29,30,31,32,33,34,35,36,37,38,39,40,41,42,43,44,45,46,47,48,49,50,51,52,53,54,55,56,57,58,59,60,61,62,63,64,65,{"$f":"BM1+1","v":66},67,68,69,70,71,72,73,74,75,76,77,78,79,80,81,82,83,84,85,86,87,88,89,90,91,92,93,94,95,96,97,98,99,100,101,102,103,104,105,106,107,108,109,110,111,112,113,114,115,116,117,118,119,120,121,122,123,124,125,126,127,128,129,{"$f":"DY1+1","v":130},131,132,133,134,135,136,137,138,139,140,141,142,143,144,145,146,147,148,149,150,151,152,153,154,155,156,157,158,159,160,161,162,163,164,165,166,167,168,169,170,171,172,173,174,175,176,177,178,179,180,181,182,183]
[]
[]
[]
[]
[]
[]
[]
[]
[]
[]
[]
[]
[]
[]
[]
[]
[]
[]
[]
[]
[]
[]
[]
[]
[]
[]
[]
[]
[]
[]
[]
[]
[]
[]
[]
[]
[]
[]
[]
[]
[]
[]
[]
[]
[]
[]
[]
[]
[]
[]
[]
[]
[]
[]
[]
[]
[]
[]
[]
[]
[]
[]
[]
[]
[]
[]
[]
[]
[]
[]
[]
[]
[]
[]
[]
[]
[]
[]
[]
[]
[]
[]
[]
[]
[]
[]
[]
[]
[]
[]
[]
[null,null,null,null,{"$f":"PovertyCharacteristics!#REF!-PovertyCharacteristics!#REF!","v":{"$error":"#REF!"}}]
[]
[]
[]
[]
[]
[]
[]
[]
[]
[]
[]
["ACS"]
["Househould Data (Housing Unit Type)"]
["NAME","TotalHU",{"$f":"\"MOE \"&B107","v":"MOE TotalHU"},"TotalOccHU",{"$f":"\"MOE \"&D107","v":"MOE TotalOccHU"},"TotalOwnerOccUn",{"$f":"\"MOE \"&F107","v":"MOE TotalOwnerOccUn"},"TotalRenterOccn",{"$f":"\"MOE \"&H107","v":"MOE TotalRenterOccn"},"TotalVacantUntis",{"$f":"\"MOE \"&J107","v":"MOE TotalVacantUntis"},"VacantUnitsForRent",{"$f":"\"MOE \"&L107","v":"MOE VacantUnitsForRent"},"VacantUnitRentedNotOcc",{"$f":"\"MOE \"&N107","v":"MOE VacantUnitRentedNotOcc"},"VacantUnitForSale",{"$f":"\"MOE \"&P107","v":"MOE VacantUnitForSale"},"VacantUnitSoldNotOcc",{"$f":"\"MOE \"&R107","v":"MOE VacantUnitSoldNotOcc"},"VacantUnitSeasonalRec",{"$f":"\"MOE \"&T107","v":"MOE VacantUnitSeasonalRec"},"TotalPopInHousingUnits",{"$f":"\"MOE \"&V107","v":"MOE TotalPopInHousingUnits"},"OwnerOccPopHousingUnits",{"$f":"\"MOE \"&X107","v":"MOE OwnerOccPopHousingUnits"},"RenterOccPopHousingUnits",{"$f":"\"MOE \"&Z107","v":"MOE RenterOccPopHousingUnits"},"TotalUntis",{"$f":"\"MOE \"&AB107","v":"MOE TotalUntis"},"TotalOwnerOccUnits",{"$f":"\"MOE \"&AD107","v":"MOE TotalOwnerOccUnits"},"SigFamOwnerOcc",{"$f":"\"MOE \"&AF107","v":"MOE SigFamOwnerOcc"},"MultiFamOwnerOcc",{"$f":"\"MOE \"&AH107","v":"MOE MultiFamOwnerOcc"},"MobileOwnerOcc",{"$f":"\"MOE \"&AJ107","v":"MOE MobileOwnerOcc"},"TotalRenterOccUnits",{"$f":"\"MOE \"&AL107","v":"MOE TotalRenterOccUnits"},"SigFamRenterOcc",{"$f":"\"MOE \"&AN107","v":"MOE SigFamRenterOcc"},"MultiFamRenterOcc",{"$f":"\"MOE \"&AP107","v":"MOE MultiFamRenterOcc"},"MobileRenterOcc",{"$f":"\"MOE \"&AR107","v":"MOE MobileRenterOcc"},"TotalSigFamilyUnits",{"$f":"\"MOE \"&AT107","v":"MOE TotalSigFamilyUnits"},"TotalMultiFamilyUnits",{"$f":"\"MOE \"&AV107","v":"MOE TotalMultiFamilyUnits"},"TotalMobileUnits",{"$f":"\"MOE \"&AX107","v":"MOE TotalMobileUnits"},"YrHouseBuilt2005Later",{"$f":"\"MOE \"&AZ107","v":"MOE YrHouseBuilt2005Later"},"YrHouseBuilt2000-2004",{"$f":"\"MOE \"&BB107","v":"MOE YrHouseBuilt2000-2004"},"YrHouseBuilt1990-1999",{"$f":"\"MOE \"&BD107","v":"MOE YrHouseBuilt1990-1999"},"YrHouseBuilt1980-1989",{"$f":"\"MOE \"&BF107","v":"MOE YrHouseBuilt1980-1989"},"YrHouseBuilt1970-1979",{"$f":"\"MOE \"&BH107","v":"MOE YrHouseBuilt1970-1979"},"YrHouseBuilt1960-1969",{"$f":"\"MOE \"&BJ107","v":"MOE YrHouseBuilt1960-1969"},"YrHouseBuilt1950-1959",{"$f":"\"MOE \"&BL107","v":"MOE YrHouseBuilt1950-1959"},"YrHouseBuilt1940-1949",{"$f":"\"MOE \"&BN107","v":"MOE YrHouseBuilt1940-1949"},"YrHouseBuilt1939orEarlier",{"$f":"\"MOE \"&BP107","v":"MOE YrHouseBuilt1939orEarlier"},"NoBedrooms",{"$f":"\"MOE \"&BR107","v":"MOE NoBedrooms"},"1Bedroom",{"$f":"\"MOE \"&BT107","v":"MOE 1Bedroom"},"2Bedroom",{"$f":"\"MOE \"&BV107","v":"MOE 2Bedroom"},"3Bedroom",{"$f":"\"MOE \"&BX107","v":"MOE 3Bedroom"},"4+Bedroom",{"$f":"\"MOE \"&BZ107","v":"MOE 4+Bedroom"}]
[{"$f":"VLOOKUP(DropDownList!$A$19,CntyQuery!$A$37:$II$47,A$1)","v":"Grafton County"},620729,282,521373,2113,368553,2832,152820,2219,99356,2051,7288,657,2015,442,5192,538,1376,263,66969,1283,1285615,"*****",951429,5931,334186,5931,521373,2113,368553,2832,303561,2951,40926,1257.0688127544968,24066,744.42259503591106,152820,2219,27273,1068,121078,2356.2181562834967,4469,490.25809529267337,394161,2299,190441,2929.5989486617445,36127,1088.8824546295159,1645,267,8202,617,74798,1478,67096,1596,126914,1818,93121,1665,54005,1387,44493,1383,22993,1041,12127,798,66476,1479,187719,2334,236923,2464,95787,1695]
[]
["Disability Data","Can't do comparisons until 2017"]
["NAME","TotalPop",{"$f":"\"MOE \"&B111","v":"MOE TotalPop"},"PopUnder 5 years:",{"$f":"\"MOE \"&D111","v":"MOE PopUnder 5 years:"},{"$f":"D$111&\"-WithDisability\"","v":"PopUnder 5 years:-WithDisability"},{"$f":"\"MOE \"&F111","v":"MOE PopUnder 5 years:-WithDisability"},{"$f":"D111&\"-NoDisability\"","v":"PopUnder 5 years:-NoDisability"},{"$f":"\"MOE \"&H111","v":"MOE PopUnder 5 years:-NoDisability"},"PopUnder 5 to 17years:",{"$f":"\"MOE \"&J111","v":"MOE PopUnder 5 to 17years:"},{"$f":"J$111&\"-WithDisability\"","v":"PopUnder 5 to 17years:-WithDisability"},{"$f":"\"MOE \"&L111","v":"MOE PopUnder 5 to 17years:-WithDisability"},{"$f":"J111&\"-NoDisability\"","v":"PopUnder 5 to 17years:-NoDisability"},{"$f":"\"MOE \"&N111","v":"MOE PopUnder 5 to 17years:-NoDisability"},"PopUnder 18 to 34 years:",{"$f":"\"MOE \"&P111","v":"MOE PopUnder 18 to 34 years:"},{"$f":"P$111&\"-WithDisability\"","v":"PopUnder 18 to 34 years:-WithDisability"},{"$f":"\"MOE \"&R111","v":"MOE PopUnder 18 to 34 years:-WithDisability"},{"$f":"P111&\"-NoDisability\"","v":"PopUnder 18 to 34 years:-NoDisability"},{"$f":"\"MOE \"&T111","v":"MOE PopUnder 18 to 34 years:-NoDisability"},"Pop 35 years to 64:",{"$f":"\"MOE \"&V111","v":"MOE Pop 35 years to 64:"},{"$f":"$V$111&\"-WithDisability\"","v":"Pop 35 years to 64:-WithDisability"},{"$f":"\"MOE \"&X111","v":"MOE Pop 35 years to 64:-WithDisability"},{"$f":"$V$111&\"-NoDisability\"","v":"Pop 35 years to 64:-NoDisability"},{"$f":"\"MOE \"&Z111","v":"MOE Pop 35 years to 64:-NoDisability"},"Pop 65 years to 74:",{"$f":"\"MOE \"&AB111","v":"MOE Pop 65 years to 74:"},{"$f":"$AB$111&\"-WithDisability\"","v":"Pop 65 years to 74:-WithDisability"},{"$f":"\"MOE \"&AD111","v":"MOE Pop 65 years to 74:-WithDisability"},{"$f":"$AB$111&\"-NoDisability\"","v":"Pop 65 years to 74:-NoDisability"},{"$f":"\"MOE \"&AF111","v":"MOE Pop 65 years to 74:-NoDisability"},"Pop 75 and older:",{"$f":"\"MOE \"&AH111","v":"MOE Pop 75 and older:"},{"$f":"$AH$111&\"-WithDisability\"","v":"Pop 75 and older:-WithDisability"},{"$f":"\"MOE \"&AJ111","v":"MOE Pop 75 and older:-WithDisability"},{"$f":"$AH$111&\"-NoDisability\"","v":"Pop 75 and older:-NoDisability"},{"$f":"\"MOE \"&AL111","v":"MOE Pop 75 and older:-NoDisability"},"TotalPopUnder5_HearingDisability",{"$f":"\"MOE \"&AN111","v":"MOE TotalPopUnder5_HearingDisability"},"TotalPopUnder5_HearingDisability",{"$f":"\"MOE \"&AP111","v":"MOE TotalPopUnder5_HearingDisability"},"TotalPop18To34_HearingDisability",{"$f":"\"MOE \"&AR111","v":"MOE TotalPop18To34_HearingDisability"},"TotalPop35To64_HearingDisability",{"$f":"\"MOE \"&AT111","v":"MOE TotalPop35To64_HearingDisability"},"TotalPop65To74_HearingDisability",{"$f":"\"MOE \"&AV111","v":"MOE TotalPop65To74_HearingDisability"},"TotalPop75andOlder_HearingDisability",{"$f":"\"MOE \"&AX111","v":"MOE TotalPop75andOlder_HearingDisability"},"TotalPopUnder5_VisionDisability",{"$f":"\"MOE \"&AZ111","v":"MOE TotalPopUnder5_VisionDisability"},"TotalPop5To17_VisionDisability",{"$f":"\"MOE \"&BB111","v":"MOE TotalPop5To17_VisionDisability"},"TotalPop18To34_VisionDisability",{"$f":"\"MOE \"&BD111","v":"MOE TotalPop18To34_VisionDisability"},"TotalPop35To64_VisionDisability",{"$f":"\"MOE \"&BF111","v":"MOE TotalPop35To64_VisionDisability"},"TotalPop65To74_VisionDisability",{"$f":"\"MOE \"&BH111","v":"MOE TotalPop65To74_VisionDisability"},"TotalPop75andOlder_VisionDisability",{"$f":"\"MOE \"&BJ111","v":"MOE TotalPop75andOlder_VisionDisability"},"TotalPop5To17_CongnitiveDisability",{"$f":"\"MOE \"&BL111","v":"MOE TotalPop5To17_CongnitiveDisability"},"TotalPop18To34_CongnitiveDisability",{"$f":"\"MOE \"&BN111","v":"MOE TotalPop18To34_CongnitiveDisability"},"TotalPop35To64_CongnitiveDisability",{"$f":"\"MOE \"&BP111","v":"MOE TotalPop35To64_CongnitiveDisability"},"TotalPop65To74_CongnitiveDisability",{"$f":"\"MOE \"&BR111","v":"MOE TotalPop65To74_CongnitiveDisability"},"TotalPop75andOlder_CongnitiveDisability",{"$f":"\"MOE \"&BT111","v":"MOE TotalPop75andOlder_CongnitiveDisability"},"TotalPop5To17_AmbulatoryDisability",{"$f":"\"MOE \"&BV111","v":"MOE TotalPop5To17_AmbulatoryDisability"},"TotalPop18To34_AmbulatoryDisability",{"$f":"\"MOE \"&BX111","v":"MOE TotalPop18To34_AmbulatoryDisability"},"TotalPop35To64_AmbulatoryDisability",{"$f":"\"MOE \"&BZ111","v":"MOE TotalPop35To64_AmbulatoryDisability"},"TotalPop65To74_AmbulatoryDisability",{"$f":"\"MOE \"&CB111","v":"MOE TotalPop65To74_AmbulatoryDisability"},"TotalPop75andOlder_AmbulatoryDisability",{"$f":"\"MOE \"&CD111","v":"MOE TotalPop75andOlder_AmbulatoryDisability"},"TotalPop5To17_SelfCareDisability",{"$f":"\"MOE \"&CF111","v":"MOE TotalPop5To17_SelfCareDisability"},"TotalPop18To34_SelfCareDisability",{"$f":"\"MOE \"&CH111","v":"MOE TotalPop18To34_SelfCareDisability"},"TotalPop35To64_SelfCareDisability",{"$f":"\"MOE \"&CJ111","v":"MOE TotalPop35To64_SelfCareDisability"},"TotalPop65To74_SelfCareDisability",{"$f":"\"MOE \"&CL111","v":"MOE TotalPop65To74_SelfCareDisability"},"TotalPop75andOlder_SelfCareDisability",{"$f":"\"MOE \"&CN111","v":"MOE TotalPop75andOlder_SelfCareDisability"},"TotalPop18To34_IndependantLivingDisability",{"$f":"\"MOE \"&CP111","v":"MOE TotalPop18To34_IndependantLivingDisability"},"TotalPop35To64_IndependantLivingDisability",{"$f":"\"MOE \"&CR111","v":"MOE TotalPop35To64_IndependantLivingDisability"},"TotalPop65To74_IndependantLivingDisability",{"$f":"\"MOE \"&CT111","v":"MOE TotalPop65To74_IndependantLivingDisability"},"TotalPop75andOlder_IndependantLivingDisability",{"$f":"\"MOE \"&CV111","v":"MOE TotalPop75andOlder_IndependantLivingDisability"},"TotalUnder5_HearingorVisionDisability",{"$f":"\"MOE \"&CX111","v":"MOE TotalUnder5_HearingorVisionDisability"},"TotalUnder5_HearingandVisionDisability",{"$f":"\"MOE \"&CZ111","v":"MOE TotalUnder5_HearingandVisionDisability"},"5to17YearWIthOneDisability",{"$f":"\"MOE \"&DB111","v":"MOE 5to17YearWIthOneDisability"},"5to17YearWIthTwoOrMoreDisability",{"$f":"\"MOE \"&DD111","v":"MOE 5to17YearWIthTwoOrMoreDisability"},"18to34YearWIthOneDisability",{"$f":"\"MOE \"&DF111","v":"MOE 18to34YearWIthOneDisability"},"18to34YearWIthTwoOrMoreDisability",{"$f":"\"MOE \"&DH111","v":"MOE 18to34YearWIthTwoOrMoreDisability"},"35to64YearWIthOneDisability",{"$f":"\"MOE \"&DJ111","v":"MOE 35to64YearWIthOneDisability"},"35to64YearWIthTwoOrMoreDisability",{"$f":"\"MOE \"&DL111","v":"MOE 35to64YearWIthTwoOrMoreDisability"},"65to74YearWIthOneDisability",{"$f":"\"MOE \"&DN111","v":"MOE 65to74YearWIthOneDisability"},"65to74YearWIthTwoOrMoreDisability",{"$f":"\"MOE \"&DP111","v":"MOE 65to74YearWIthTwoOrMoreDisability"},"75AndOlderWIthOneDisability",{"$f":"\"MOE \"&DR111","v":"MOE 75AndOlderWIthOneDisability"},"75AndOlderWIthTwoOrMoreDisability",{"$f":"\"MOE \"&DT111","v":"MOE 75AndOlderWIthTwoOrMoreDisability"}]
[{"$f":"VLOOKUP(DropDownList!$A$19,CntyQuery!$A$37:$II$47,A$1)","v":"Grafton County"},88326,216,3746,74.411020689142546,6,28.160255680657446,3740,73.109506905736964,11303,109.04127658827184,833,228.82744590629858,10470,246.40008116881779,22426,131.82184947875675,1326,258.78562556679998,21100,301.62393804205925,34702,196.32880583347927,4713,436.16510635308737,29989,463.8933066988572,9565,98.488578017961046,2246,234.43975772040031,7319,250.6671099286861,6584,166.20770138594662,3231,258.23438965405052,3353,267.37987957211737,0,38.183766184073569,47,29.732137494637012,148,94.413982015377357,1156,220.05681084665386,1098,177.73013250431114,1902,246.75899173079793,6,28.160255680657446,131,72.180329730474355,174,103.4456378974,611,136.23509092741122,259,83.354663936698827,632,189.80516325959101,687,215.92822881689185,806,197.20040567909589,1726,283.27018904219341,386,102.41581909060729,716,171.42053552593984,108,61.294371682887821,326,128.70120434556935,2464,318.27660925679095,1218,190,1851,237.26145915424192,121,75.006666370396701,182,100.72239075796404,875,193.19679086361657,279,87.114866699088736,599,167.2423391369542,616,187.64061394058589,1714,298.67038688159226,498,128.70508925446578,1320,250.69702830308938,556,176,159,75,3171,364,2761,353,2788,352,2629,292,30797,817,2327,431,43164,915,682,248,5484,400,1300,240]
[]
["Househould Income By Age"]
["NAME","TotalHouseholds",{"$f":"\"MOE \"&B115","v":"MOE TotalHouseholds"},"HHInc<10K",{"$f":"\"MOE \"&D115","v":"MOE HHInc<10K"},"HHInc10to15K",{"$f":"\"MOE \"&F115","v":"MOE HHInc10to15K"},"HHInc15to20K",{"$f":"\"MOE \"&H115","v":"MOE HHInc15to20K"},"HHInc20to25K",{"$f":"\"MOE \"&J115","v":"MOE HHInc20to25K"},"HHInc25to30K",{"$f":"\"MOE \"&L115","v":"MOE HHInc25to30K"},"HHInc30to35K",{"$f":"\"MOE \"&N115","v":"MOE HHInc30to35K"},"HHInc35to40K",{"$f":"\"MOE \"&P115","v":"MOE HHInc35to40K"},"HHInc40to45K",{"$f":"\"MOE \"&R115","v":"MOE HHInc40to45K"},"HHInc45to50K",{"$f":"\"MOE \"&T115","v":"MOE HHInc45to50K"},"HHInc50to60K",{"$f":"\"MOE \"&V115","v":"MOE HHInc50to60K"},"HHInc60to75K",{"$f":"\"MOE \"&X115","v":"MOE HHInc60to75K"},"HHInc75to100K",{"$f":"\"MOE \"&Z115","v":"MOE HHInc75to100K"},"HHInc100to125K",{"$f":"\"MOE \"&AB115","v":"MOE HHInc100to125K"},"HHInc125to150K",{"$f":"\"MOE \"&AD115","v":"MOE HHInc125to150K"},"HHInc150to200K",{"$f":"\"MOE \"&AF115","v":"MOE HHInc150to200K"},"HHInc>200K",{"$f":"\"MOE \"&AH115","v":"MOE HHInc>200K"},"TotalHH",{"$f":"\"MOE \"&AJ115","v":"MOE TotalHH"},"HHAgeHHUnder25yrs",{"$f":"\"MOE \"&AL115","v":"MOE HHAgeHHUnder25yrs"},"HHAgeHH<25HHInc<10K",{"$f":"\"MOE \"&AN115","v":"MOE HHAgeHH<25HHInc<10K"},"HHAgeHH<25HHInc10to15K",{"$f":"\"MOE \"&AP115","v":"MOE HHAgeHH<25HHInc10to15K"},"HHAgeHH<25HHInc15to20K",{"$f":"\"MOE \"&AR115","v":"MOE HHAgeHH<25HHInc15to20K"},"HHAgeHH<25HHInc20to25K",{"$f":"\"MOE \"&AT115","v":"MOE HHAgeHH<25HHInc20to25K"},"HHAgeHH<25HHInc25to30K",{"$f":"\"MOE \"&AV115","v":"MOE HHAgeHH<25HHInc25to30K"},"HHAgeHH<25HHInc30to35K",{"$f":"\"MOE \"&AX115","v":"MOE HHAgeHH<25HHInc30to35K"},"HHAgeHH<25HHInc35to40K",{"$f":"\"MOE \"&AZ115","v":"MOE HHAgeHH<25HHInc35to40K"},"HHAgeHH<25HHInc40to45K",{"$f":"\"MOE \"&BB115","v":"MOE HHAgeHH<25HHInc40to45K"},"HHAgeHH<25HHInc45to50K",{"$f":"\"MOE \"&BD115","v":"MOE HHAgeHH<25HHInc45to50K"},"HHAgeHH<25HHInc50to60K",{"$f":"\"MOE \"&BF115","v":"MOE HHAgeHH<25HHInc50to60K"},"HHAgeHH<25HHInc60to75K",{"$f":"\"MOE \"&BH115","v":"MOE HHAgeHH<25HHInc60to75K"},"HHAgeHH<25HHInc75to100K",{"$f":"\"MOE \"&BJ115","v":"MOE HHAgeHH<25HHInc75to100K"},"HHAgeHH<25HHInc100to125K",{"$f":"\"MOE \"&BL115","v":"MOE HHAgeHH<25HHInc100to125K"},"HHAgeHH<25HHInc125to150K",{"$f":"\"MOE \"&BN115","v":"MOE HHAgeHH<25HHInc125to150K"},"HHAgeHH<25HHInc150to200K",{"$f":"\"MOE \"&BP115","v":"MOE HHAgeHH<25HHInc150to200K"},"HHAge<25HHInc>200K",{"$f":"\"MOE \"&BR115","v":"MOE HHAge<25HHInc>200K"},"HHAgeHH25to44yrs",{"$f":"\"MOE \"&BT115","v":"MOE HHAgeHH25to44yrs"},"HHAgeHH25To44yrsHHInc<10K",{"$f":"\"MOE \"&BV115","v":"MOE HHAgeHH25To44yrsHHInc<10K"},"HHAgeHH25To44yrsHHInc10to15K",{"$f":"\"MOE \"&BX115","v":"MOE HHAgeHH25To44yrsHHInc10to15K"},"HHAgeHH25To44yrsHHInc15to20K",{"$f":"\"MOE \"&BZ115","v":"MOE HHAgeHH25To44yrsHHInc15to20K"},"HHAgeHH25To44yrsHHInc20to25K",{"$f":"\"MOE \"&CB115","v":"MOE HHAgeHH25To44yrsHHInc20to25K"},"HHAgeHH25To44yrsHHInc25to30K",{"$f":"\"MOE \"&CD115","v":"MOE HHAgeHH25To44yrsHHInc25to30K"},"HHAgeHH25To44yrsHHInc30to35K",{"$f":"\"MOE \"&CF115","v":"MOE HHAgeHH25To44yrsHHInc30to35K"},"HHAgeHH25To44yrsHHInc35to40K",{"$f":"\"MOE \"&CH115","v":"MOE HHAgeHH25To44yrsHHInc35to40K"},"HHAgeHH25To44yrsHHInc40to45K",{"$f":"\"MOE \"&CJ115","v":"MOE HHAgeHH25To44yrsHHInc40to45K"},"HHAgeHH25To44yrsHHInc45to50K",{"$f":"\"MOE \"&CL115","v":"MOE HHAgeHH25To44yrsHHInc45to50K"},"HHAgeHH25To44yrsHHInc50to60K",{"$f":"\"MOE \"&CN115","v":"MOE HHAgeHH25To44yrsHHInc50to60K"},"HHAgeHH25To44yrsHHInc60to75K",{"$f":"\"MOE \"&CP115","v":"MOE HHAgeHH25To44yrsHHInc60to75K"},"HHAgeHH25To44yrsHHInc75to100K",{"$f":"\"MOE \"&CR115","v":"MOE HHAgeHH25To44yrsHHInc75to100K"},"HHAgeHH25To44yrsHHInc100to125K",{"$f":"\"MOE \"&CT115","v":"MOE HHAgeHH25To44yrsHHInc100to125K"},"HHAgeHH25To44yrsHHInc125to150K",{"$f":"\"MOE \"&CV115","v":"MOE HHAgeHH25To44yrsHHInc125to150K"},"HHAgeHH25To44yrsHHInc150to200K",{"$f":"\"MOE \"&CX115","v":"MOE HHAgeHH25To44yrsHHInc150to200K"},"HHAge25To44yrsHHInc>200K",{"$f":"\"MOE \"&CZ115","v":"MOE HHAge25To44yrsHHInc>200K"},"HHAgeHH45To64yrs",{"$f":"\"MOE \"&DB115","v":"MOE HHAgeHH45To64yrs"},"HHAgeHH45To64yrsHHInc<10K",{"$f":"\"MOE \"&DD115","v":"MOE HHAgeHH45To64yrsHHInc<10K"},"HHAgeHH45To64yrsHHInc10to15K",{"$f":"\"MOE \"&DF115","v":"MOE HHAgeHH45To64yrsHHInc10to15K"},"HHAgeHH45To64yrsHHInc15to20K",{"$f":"\"MOE \"&DH115","v":"MOE HHAgeHH45To64yrsHHInc15to20K"},"HHAgeHH45To64yrsHHInc20to25K",{"$f":"\"MOE \"&DJ115","v":"MOE HHAgeHH45To64yrsHHInc20to25K"},"HHAgeHH45To64yrsHHInc25to30K",{"$f":"\"MOE \"&DL115","v":"MOE HHAgeHH45To64yrsHHInc25to30K"},"HHAgeHH45To64yrsHHInc30to35K",{"$f":"\"MOE \"&DN115","v":"MOE HHAgeHH45To64yrsHHInc30to35K"},"HHAgeHH45To64yrsHHInc35to40K",{"$f":"\"MOE \"&DP115","v":"MOE HHAgeHH45To64yrsHHInc35to40K"},"HHAgeHH45To64yrsHHInc40to45K",{"$f":"\"MOE \"&DR115","v":"MOE HHAgeHH45To64yrsHHInc40to45K"},"HHAgeHH45To64yrsHHInc45to50K",{"$f":"\"MOE \"&DT115","v":"MOE HHAgeHH45To64yrsHHInc45to50K"},"HHAgeHH45To64yrsHHInc50to60K",{"$f":"\"MOE \"&DV115","v":"MOE HHAgeHH45To64yrsHHInc50to60K"},"HHAgeHH45To64yrsHHInc60to75K",{"$f":"\"MOE \"&DX115","v":"MOE HHAgeHH45To64yrsHHInc60to75K"},"HHAgeHH45To64yrsHHInc75to100K",{"$f":"\"MOE \"&DZ115","v":"MOE HHAgeHH45To64yrsHHInc75to100K"},"HHAgeHH45To64yrsHHInc100to125K",{"$f":"\"MOE \"&EB115","v":"MOE HHAgeHH45To64yrsHHInc100to125K"},"HHAgeHH45To64yrsHHInc125to150K",{"$f":"\"MOE \"&ED115","v":"MOE HHAgeHH45To64yrsHHInc125to150K"},"HHAgeHH45To64yrsHHInc150to200K",{"$f":"\"MOE \"&EF115","v":"MOE HHAgeHH45To64yrsHHInc150to200K"},"HHAge45To64yrsHHInc>200K",{"$f":"\"MOE \"&EH115","v":"MOE HHAge45To64yrsHHInc>200K"},"HHAgeHH65yrsorOlder",{"$f":"\"MOE \"&EJ115","v":"MOE HHAgeHH65yrsorOlder"},"HHAgeHH65yrsorOlderHHInc<10K",{"$f":"\"MOE \"&EL115","v":"MOE HHAgeHH65yrsorOlderHHInc<10K"},"HHAgeHH65yrsorOlderHHInc10to15K",{"$f":"\"MOE \"&EN115","v":"MOE HHAgeHH65yrsorOlderHHInc10to15K"},"HHAgeHH65yrsorOlderHHInc15to20K",{"$f":"\"MOE \"&EP115","v":"MOE HHAgeHH65yrsorOlderHHInc15to20K"},"HHAgeHH65yrsorOlderHHInc20to25K",{"$f":"\"MOE \"&ER115","v":"MOE HHAgeHH65yrsorOlderHHInc20to25K"},"HHAgeHH65yrsorOlderHHInc25to30K",{"$f":"\"MOE \"&ET115","v":"MOE HHAgeHH65yrsorOlderHHInc25to30K"},"HHAgeHH65yrsorOlderHHInc30to35K",{"$f":"\"MOE \"&EV115","v":"MOE HHAgeHH65yrsorOlderHHInc30to35K"},"HHAgeHH65yrsorOlderHHInc35to40K",{"$f":"\"MOE \"&EX115","v":"MOE HHAgeHH65yrsorOlderHHInc35to40K"},"HHAgeHH65yrsorOlderHHInc40to45K",{"$f":"\"MOE \"&EZ115","v":"MOE HHAgeHH65yrsorOlderHHInc40to45K"},"HHAgeHH65yrsorOlderHHInc45to50K",{"$f":"\"MOE \"&FB115","v":"MOE HHAgeHH65yrsorOlderHHInc45to50K"},"HHAgeHH65yrsorOlderHHInc50to60K",{"$f":"\"MOE \"&FD115","v":"MOE HHAgeHH65yrsorOlderHHInc50to60K"},"HHAgeHH65yrsorOlderHHInc60to75K",{"$f":"\"MOE \"&FF115","v":"MOE HHAgeHH65yrsorOlderHHInc60to75K"},"HHAgeHH65yrsorOlderHHInc75to100K",{"$f":"\"MOE \"&FH115","v":"MOE HHAgeHH65yrsorOlderHHInc75to100K"},"HHAgeHH65yrsorOlderHHInc100to125K",{"$f":"\"MOE \"&FJ115","v":"MOE HHAgeHH65yrsorOlderHHInc100to125K"},"HHAgeHH65yrsorOlderHHInc125to150K",{"$f":"\"MOE \"&FL115","v":"MOE HHAgeHH65yrsorOlderHHInc125to150K"},"HHAgeHH65yrsorOlderHHInc150to200K",{"$f":"\"MOE \"&FN115","v":"MOE HHAgeHH65yrsorOlderHHInc150to200K"},"HHAge65yrsorOlderHHInc>200K",{"$f":"\"MOE \"&FP115","v":"MOE HHAge65yrsorOlderHHInc>200K"},"MedianHHInc",{"$f":"\"MOE \"&FR115","v":"MOE MedianHHInc"},"HH under 25 years",{"$f":"\"MOE \"&FT115","v":"MOE HH under 25 years"},"Householder 25 to 44 years",{"$f":"\"MOE \"&FV115","v":"MOE Householder 25 to 44 years"},"Householder 45 to 64 years",{"$f":"\"MOE \"&FX115","v":"MOE Householder 45 to 64 years"},"Householder 65 years and over",{"$f":"\"MOE \"&FZ115","v":"MOE Householder 65 years and over"}]
[{"$f":"VLOOKUP(DropDownList!$A$19,CntyQuery!$A$37:$II$47,A$1)","v":"Grafton County"},35111,637,1855,293,1740,285,1396,216,2104,309,1750,265,1818,244,1663,243,1869,236,1650,237,3124,319,3455,326,4757,342,2848,285,1556,209,1752,226,1774,235,34856,606,1189,258,215,125,172,115,25,29,207,153,129,118,66,51,73,78,50,40,11,12,48,41,88,78,58,50,23,35,0,27,20,31,4,6,9454,402,450,193,283,140,362,109,335,137,203,77,548,157,487,172,287,153,474,157,818,172,1300,212,1460,290,826,167,672,158,422,128,527,160,14476,355,641,169,463,135,553,151,637,174,416,107,752,193,517,154,562,144,474,119,1100,195,1592,253,2066,211,1368,208,866,161,1069,170,1400,197,9737,297,485,131,622,178,503,112,561,137,612,124,674,143,682,146,422,109,512,130,733,128,778,113,1154,207,598,137,328,92,474,119,599,148,61036,2543,24550,6065,65068,4202,70250,4227,48397,2065]
[]
["Number of Households by Income"]
["NAME","HHIncLessThn10k",{"$f":"\"MOE \"&B119","v":"MOE HHIncLessThn10k"},"HHInc10to15K",{"$f":"\"MOE \"&D119","v":"MOE HHInc10to15K"},"HHInc15to25K",{"$f":"\"MOE \"&F119","v":"MOE HHInc15to25K"},"HHInc25to35K",{"$f":"\"MOE \"&H119","v":"MOE HHInc25to35K"},"HHInc35to50K",{"$f":"\"MOE \"&J119","v":"MOE HHInc35to50K"},"HHInc50to75K",{"$f":"\"MOE \"&L119","v":"MOE HHInc50to75K"},"HHInc75to100K",{"$f":"\"MOE \"&N119","v":"MOE HHInc75to100K"},"HHInc100to150K",{"$f":"\"MOE \"&P119","v":"MOE HHInc100to150K"},"HHInc150to200K",{"$f":"\"MOE \"&R119","v":"MOE HHInc150to200K"},"HHIncOver200K",{"$f":"\"MOE \"&T119","v":"MOE HHIncOver200K"}]
[{"$f":"VLOOKUP(DropDownList!$A$19,CntyQuery!$A$37:$II$47,A$1)","v":"Grafton County"},1855,293,1740,285,3500,377.01060993027767,3568,360.22354170709053,5182,413.41746455610701,6579,456.11073216928366,4757,342,4404,353.42042951702723,1752,226,1774,235]
[]
["POVERTY DATA"]
["NAME","TotalPop",{"$f":"\"MOE \"&B123","v":"MOE TotalPop"},"Total Individuals living in Poverty",{"$f":"\"MOE \"&D123","v":"MOE Total Individuals living in Poverty"},"Under 5 yrs.",{"$f":"\"MOE \"&F123","v":"MOE Under 5 yrs."},"5 to 17 yrs.",{"$f":"\"MOE \"&H123","v":"MOE 5 to 17 yrs."},"18 to 64 yrs.",{"$f":"\"MOE \"&J123","v":"MOE 18 to 64 yrs."},"65 to 74 yrs.",{"$f":"\"MOE \"&L123","v":"MOE 65 to 74 yrs."},"75 yrs. & Over",{"$f":"\"MOE \"&N123","v":"MOE 75 yrs. & Over"},"Total Individuals  Not living Poverty",{"$f":"\"MOE \"&P123","v":"MOE Total Individuals  Not living Poverty"},"Under 5 yrs.",{"$f":"\"MOE \"&R123","v":"MOE Under 5 yrs."},"5 to 17 yrs.",{"$f":"\"MOE \"&T123","v":"MOE 5 to 17 yrs."},"18 to 64 yrs.",{"$f":"\"MOE \"&V123","v":"MOE 18 to 64 yrs."},"65 to 74 yrs.",{"$f":"\"MOE \"&X123","v":"MOE 65 to 74 yrs."},"75 yrs. & Over",{"$f":"\"MOE \"&Z123","v":"MOE 75 yrs. & Over"},"Total HH",{"$f":"\"MOE \"&AB123","v":"MOE Total HH"},"Total Households Below Poverty",{"$f":"\"MOE \"&AD123","v":"MOE Total Households Below Poverty"},"Family Households in Poverty",{"$f":"\"MOE \"&AF123","v":"MOE Family Households in Poverty"},"Married Couple Fam HH",{"$f":"\"MOE \"&AH123","v":"MOE Married Couple Fam HH"},"Other Family",{"$f":"\"MOE \"&AJ123","v":"MOE Other Family"},"Male Head of Family HH no wife",{"$f":"\"MOE \"&AL123","v":"MOE Male Head of Family HH no wife"},"Female Head of Family HH no husband",{"$f":"\"MOE \"&AN123","v":"MOE Female Head of Family HH no husband"},"Non-Family HH",{"$f":"\"MOE \"&AP123","v":"MOE Non-Family HH"},"Non-Family Male HH",{"$f":"\"MOE \"&AR123","v":"MOE Non-Family Male HH"},"Non-Family Female HH",{"$f":"\"MOE \"&AT123","v":"MOE Non-Family Female HH"},"Total Households at or Above Poverty",{"$f":"\"MOE \"&AV123","v":"MOE Total Households at or Above Poverty"},"Family Households above Poverty",{"$f":"\"MOE \"&AX123","v":"MOE Family Households above Poverty"},"Married Couple Fam HH",{"$f":"\"MOE \"&AZ123","v":"MOE Married Couple Fam HH"},"Other Family",{"$f":"\"MOE \"&BB123","v":"MOE Other Family"},"Male Head of Family HH no wife",{"$f":"\"MOE \"&BD123","v":"MOE Male Head of Family HH no wife"},"Female Head of Family HH no husband",{"$f":"\"MOE \"&BF123","v":"MOE Female Head of Family HH no husband"},"Non-Family HH",{"$f":"\"MOE \"&BH123","v":"MOE Non-Family HH"},"Non-Family Male HH",{"$f":"\"MOE \"&BJ123","v":"MOE Non-Family Male HH"},"Non-Family Female HH",{"$f":"\"MOE \"&BL123","v":"MOE Non-Family Female HH"},"Married Couple with Children Below Poverty",{"$f":"\"MOE \"&BN123","v":"MOE Married Couple with Children Below Poverty"},"Male HH with children below poverty",{"$f":"\"MOE \"&BP123","v":"MOE Male HH with children below poverty"},"Female HH with children below poverty",{"$f":"\"MOE \"&BR123","v":"MOE Female HH with children below poverty"},"Married Couple with Children At or Above Poverty",{"$f":"\"MOE \"&BT123","v":"MOE Married Couple with Children At or Above Poverty"},"Male HH with children at or above poverty",{"$f":"\"MOE \"&BV123","v":"MOE Male HH with children at or above poverty"},"Female HH with children at or above poverty",{"$f":"\"MOE \"&BX123","v":"MOE Female HH with children at or above poverty"}]
[{"$f":"VLOOKUP(DropDownList!$A$19,CntyQuery!$A$37:$II$47,A$1)","v":"Grafton County"},1289255,529,104470,3054,7493,670.88374551780578,18500,1072.925440093579,67054,1874.3340150570816,5491,410.21579686794121,5932,473.71088229003141,1184785,3151,55772,716.30440456554504,177336,2263.9520754644964,752265,2115.3671076198571,122642,538.34747143457446,71588,524.87046020899288,526710,2332,43453,1173,17404,784,5855,431,11549,702,2127,380,9422,580,26049,926,10765,624,15284,731,483257,2501,333254,2359,272047,2926,61207,1669,21245,1135,39962,1376,150003,2133,72494,1562,77509,1589,2666,281,1667,372,8452,576,101321,1837,11910,867,22435,879]
[]
["Household Income By Tenure"]
["NAME","TotalOccHU",{"$f":"\"MOE \"&B127","v":"MOE TotalOccHU"},"OwnOccHU",{"$f":"\"MOE \"&D127","v":"MOE OwnOccHU"},"OOHUInc<5K",{"$f":"\"MOE \"&F127","v":"MOE OOHUInc<5K"},"OOHUInc5to10K",{"$f":"\"MOE \"&H127","v":"MOE OOHUInc5to10K"},"OOHUInc10to15K",{"$f":"\"MOE \"&J127","v":"MOE OOHUInc10to15K"},"OOHUInc15to20K",{"$f":"\"MOE \"&L127","v":"MOE OOHUInc15to20K"},"OOHUInc20to25K",{"$f":"\"MOE \"&N127","v":"MOE OOHUInc20to25K"},"OOHUInc25to35K",{"$f":"\"MOE \"&P127","v":"MOE OOHUInc25to35K"},"OOHUInc35to50K",{"$f":"\"MOE \"&R127","v":"MOE OOHUInc35to50K"},"OOHUInc50to75K",{"$f":"\"MOE \"&T127","v":"MOE OOHUInc50to75K"},"OOHUInc75to100K",{"$f":"\"MOE \"&V127","v":"MOE OOHUInc75to100K"},"OOHUInc100to150K",{"$f":"\"MOE \"&X127","v":"MOE OOHUInc100to150K"},"OOHUInc>150K",{"$f":"\"MOE \"&Z127","v":"MOE OOHUInc>150K"},"RentOccHU",{"$f":"\"MOE \"&AB127","v":"MOE RentOccHU"},"ROHUInc<5K",{"$f":"\"MOE \"&AD127","v":"MOE ROHUInc<5K"},"ROHUInc5to10K",{"$f":"\"MOE \"&AF127","v":"MOE ROHUInc5to10K"},"ROHUInc10to15K",{"$f":"\"MOE \"&AH127","v":"MOE ROHUInc10to15K"},"ROHUInc15to20K",{"$f":"\"MOE \"&AJ127","v":"MOE ROHUInc15to20K"},"ROHUInc20to25K",{"$f":"\"MOE \"&AL127","v":"MOE ROHUInc20to25K"},"ROHUInc25to35K",{"$f":"\"MOE \"&AN127","v":"MOE ROHUInc25to35K"},"ROHUInc35to50K",{"$f":"\"MOE \"&AP127","v":"MOE ROHUInc35to50K"},"ROHUInc50to75K",{"$f":"\"MOE \"&AR127","v":"MOE ROHUInc50to75K"},"ROHUInc75to100K",{"$f":"\"MOE \"&AT127","v":"MOE ROHUInc75to100K"},"ROHUInc100to150K",{"$f":"\"MOE \"&AV127","v":"MOE ROHUInc100to150K"},"ROHUInc>150K",{"$f":"\"MOE \"&AX127","v":"MOE ROHUInc>150K"},"Total OCC HUInc<5K",{"$f":"\"MOE \"&AZ127","v":"MOE Total OCC HUInc<5K"},"Total OCC HUInc5to10K",{"$f":"\"MOE \"&BB127","v":"MOE Total OCC HUInc5to10K"},"Total OCC HUInc10to15K",{"$f":"\"MOE \"&BD127","v":"MOE Total OCC HUInc10to15K"},"Total OCC HUInc15to20K",{"$f":"\"MOE \"&BF127","v":"MOE Total OCC HUInc15to20K"},"Total OCC HUInc20to25K",{"$f":"\"MOE \"&BH127","v":"MOE Total OCC HUInc20to25K"},"Total OCC HUInc25to35K",{"$f":"\"MOE \"&BJ127","v":"MOE Total OCC HUInc25to35K"},"Total OCC HUInc35to50K",{"$f":"\"MOE \"&BL127","v":"MOE Total OCC HUInc35to50K"},"Total OCC HUInc50to75K",{"$f":"\"MOE \"&BN127","v":"MOE Total OCC HUInc50to75K"},"Total OCC HUInc75to100K",{"$f":"\"MOE \"&BP127","v":"MOE Total OCC HUInc75to100K"},"Total OCC HUInc100to150K",{"$f":"\"MOE \"&BR127","v":"MOE Total OCC HUInc100to150K"},"Total OCC HUInc>150K",{"$f":"\"MOE \"&BT127","v":"MOE Total OCC HUInc>150K"},"MedHHInc",{"$f":"\"MOE \"&BV127","v":"MOE MedHHInc"},"MedOwnOccHHInc",{"$f":"\"MOE \"&BX127","v":"MOE MedOwnOccHHInc"},"MedRentOccHHInc",{"$f":"\"MOE \"&BZ127","v":"MOE MedRentOccHHInc"}]
[{"$f":"VLOOKUP(DropDownList!$A$19,CntyQuery!$A$37:$II$47,A$1)","v":"Grafton County"},34856,606,23802,583,271,78,289,108,599,135,634,133,730,167,1977,248,2895,267,4632,423,3635,307,4066,369,4074,337,11054,551,482,172,749,230,941,282,809,197,1010,250,1423,268,1656,318,1825,276,1103,277,615,147,441,152,753,188.85973631242842,1038,254.09447062067289,1540,312.64836478062699,1443,237.6930794112441,1740,300.64763428305901,3400,365.14106862964621,4551,415.22644424458326,6457,505.07920170998926,4738,413.4948609112331,4681,397.20271902392614,4515,369.69311597594026,61036,2543,74338,2958,35642,2705]
[]
["Population Data"]
["NAME","Total Population","MOE Total Population","Under 15 Years","MOE Under 15 yrs.","15 to 24 yrs.","MOE 15 to 24 yrs.","25 to 34 yrs.","MOE 25 to 34 yrs.","35 to 44 yrs.","MOE 35 to 44 yrs.","45 to 54 yrs.","MOE 45 to 54 yrs.","55 to 64 yrs.","MOE 55 to 64 yrs.","65 to 74 yrs.","MOE 65 to 74 yrs.","Over 74 yrs. ","MOE Over 74 yrs. ","TotalHH","MOE TotalHH","FamilyHH","MOE FamilyHH","MarriedFamilyHH","MOE MarriedFamilyHH","SingleFamilyHH","MOE SingleFamilyHH","Sfamily-MaleHH","MOE Sfamily-MaleHH","Sfamily-FemaleHH","MOE Sfamily-FemaleHH","NonFamilyHH","MOE NonFamilyHH","NonFamilyHH-LivingAlone","MOE NonFamilyHH-LivingAlone","NonFamilyHH-NotLivingAlone","MOE NonFamilyHH-NotLivingAlone","PopRaceWhite","MOE PopRaceWhite","PopRaceBlack","MOE PopRaceBlack","PopRaceAmerican Indian","MOE PopRaceAmerican Indian","PopRaceAsian &Pacific Is.","MOE PopRaceAsian &Pacific Is.","PopRaceOther*","MOE PopRaceOther*","PopRaceHispanic or Latino:","MOE PopRaceHispanic or Latino:","MedianAgeTotalPop","MOE MedianAgeTotalPop","MedianAgeMale","MOE MedianAgeMale","MedianAgeFemale","MOE MedianAgeFemale","AvgHHSizeTotal","MOE AvgHHSizeTotal","AvgHHSizeFamilyHH","MOE AvgHHSizeFamilyHH","AvgHHSizeNonFamilyHH","MOE AvgHHSizeNonFamilyHH"]
[{"$f":"VLOOKUP(DropDownList!$A$19,CntyQuery!$A$37:$II$47,A$1)","v":"Grafton County"},1327503,"*****",216135,1757.0318722208769,179024,1776.457429830504,154495,503.34381887532902,159325,2080.4571612989293,210225,458.46701080884765,197914,2137.4938596403031,123021,1631.9218731299609,87364,1446.9288164937486,521373,2113,346476,2758,273886,2671,72590,1982,22393,1122,50197,1519,174897,2379,133879,1903,41018,1341,1211271,462,15565,783,1855,292,32064,809.246563168482,23248,1244.8200673189681,43500,"*****",42.4,0.1,41.3,0.1,43.5,0.2,2.4658258099287842,0.03,3.0518564056384858,2.6597533912272878E-2,1.3048823021549827,2.784341953785097E-2]
[]
["Nativity and Prior Place of Residence"]
["NAME","TotalPop",{"$f":"\"MOE \"&B135","v":"MOE TotalPop"},"Native:",{"$f":"\"MOE \"&D135","v":"MOE Native:"},"NatBornInStateOfResidence",{"$f":"\"MOE \"&F135","v":"MOE NatBornInStateOfResidence"},"Born in other state in the United States:",{"$f":"\"MOE \"&H135","v":"MOE Born in other state in the United States:"},"Northeast",{"$f":"\"MOE \"&J135","v":"MOE Northeast"},"Midwest",{"$f":"\"MOE \"&L135","v":"MOE Midwest"},"South",{"$f":"\"MOE \"&N135","v":"MOE South"},"West",{"$f":"\"MOE \"&P135","v":"MOE West"},"Born outside the United States:",{"$f":"\"MOE \"&R135","v":"MOE Born outside the United States:"},"Puerto Rico",{"$f":"\"MOE \"&T135","v":"MOE Puerto Rico"},"U.S. Island Areas",{"$f":"\"MOE \"&V135","v":"MOE U.S. Island Areas"},"Born abroad of American parent(s)",{"$f":"\"MOE \"&X135","v":"MOE Born abroad of American parent(s)"},"Foreign born:",{"$f":"\"MOE \"&Z135","v":"MOE Foreign born:"},"Naturalized U.S. citizen",{"$f":"\"MOE \"&AB135","v":"MOE Naturalized U.S. citizen"},"Not a U.S. citizen",{"$f":"\"MOE \"&AD135","v":"MOE Not a U.S. citizen"},"CurrentResideneTotal:",{"$f":"\"MOE \"&AF135","v":"MOE CurrentResideneTotal:"},"SameHouse:",{"$f":"\"MOE \"&AH135","v":"MOE SameHouse:"},"DifferentHouse:",{"$f":"\"MOE \"&AJ135","v":"MOE DifferentHouse:"},"DiffHouseInNH",{"$f":"\"MOE \"&AL135","v":"MOE DiffHouseInNH"},"DiffHouseInNHSameCnty",{"$f":"\"MOE \"&AN135","v":"MOE DiffHouseInNHSameCnty"},"DiffHouseInNHDiffCnty",{"$f":"\"MOE \"&AP135","v":"MOE DiffHouseInNHDiffCnty"},"DiffHouseInDiffState",{"$f":"\"MOE \"&AR135","v":"MOE DiffHouseInDiffState"},"DiffHouseInElsewhere",{"$f":"\"MOE \"&AT135","v":"MOE DiffHouseInElsewhere"}]
[{"$f":"VLOOKUP(DropDownList!$A$19,CntyQuery!$A$37:$II$47,A$1)","v":"Grafton County"},1331848,"*****",1252979,1881,558538,4595,679741,4480,544285,4266,43198,1368,57078,1982,35180,1614,14700,843,3948,590,116,64,10636,672,78869,1881,42465,1470,36404,1562,1319364,779,1132133,4519,187231,4420.5905714055898,131945,3906.9170710420767,99836,3201,32109,2240,48730,1866,6556,892]
[]
["School Attainment & Enrollment"]
["NAME","Total Pop 3 Years and Older","MOE Total Pop 3 Years and Older","P36SchEnrlPop3yrOver",{"$f":"\"MOE \"&D139","v":"MOE P36SchEnrlPop3yrOver"},"TotalEnrollNursy&Kinder",{"$f":"\"MOE \"&F139","v":"MOE TotalEnrollNursy&Kinder"},"P36NurserSchEnrl",{"$f":"\"MOE \"&H139","v":"MOE P36NurserSchEnrl"},"P36KinderSchEnrl",{"$f":"\"MOE \"&J139","v":"MOE P36KinderSchEnrl"},"P36ElemSchEnrl",{"$f":"\"MOE \"&L139","v":"MOE P36ElemSchEnrl"},"P36HighSchEnrl",{"$f":"\"MOE \"&N139","v":"MOE P36HighSchEnrl"},"TotalElementry&HSEnroll",{"$f":"\"MOE \"&P139","v":"MOE TotalElementry&HSEnroll"},"P36CollGradSchEnrl",{"$f":"\"MOE \"&R139","v":"MOE P36CollGradSchEnrl"},"PopNotEnrolled","MOE PopNotEnrolled","P37Pop25yrsOver",{"$f":"\"MOE \"&V139","v":"MOE P37Pop25yrsOver"},"P37EduAtain<9grd",{"$f":"\"MOE \"&X139","v":"MOE P37EduAtain<9grd"},"P37EduAtainHSnoDip",{"$f":"\"MOE \"&Z139","v":"MOE P37EduAtainHSnoDip"},"P37EduAtainHSgrad",{"$f":"\"MOE \"&AB139","v":"MOE P37EduAtainHSgrad"},"P37EduAtainCollNoDeg",{"$f":"\"MOE \"&AD139","v":"MOE P37EduAtainCollNoDeg"},"P37EduAtainAssocDeg",{"$f":"\"MOE \"&AF139","v":"MOE P37EduAtainAssocDeg"},"P37EduAtainBachDeg",{"$f":"\"MOE \"&AH139","v":"MOE P37EduAtainBachDeg"},"P37EduAtainGradProfDeg",{"$f":"\"MOE \"&AJ139","v":"MOE P37EduAtainGradProfDeg"}]
[{"$f":"VLOOKUP(DropDownList!$A$19,CntyQuery!$A$37:$II$47,A$1)","v":"Grafton County"},1290419,732,316403,2088,32841,1130.7612480094992,18156,810,14685,789,121256,1497.8174121033578,67875,1080,189131,1846.5798114351842,94431,1604.1271770031203,974016,1969,932344,468,16647,957.15933887728431,47217,1480.5168016608254,264372,2916.3556024600293,176695,2852.8964229358203,91327,2142.2441504179678,206061,2628.4904412989599,124615,2019.1201053924453]
[]
["Occupied Owner Housing Value"]
["NAME","Estimate; Total:","Margin of Error; Total:","Estimate; Total: - Less than $10,000","Margin of Error; Total: - Less than $10,000","Estimate; Total: - $10,000 to $14,999","Margin of Error; Total: - $10,000 to $14,999","Estimate; Total: - $15,000 to $19,999","Margin of Error; Total: - $15,000 to $19,999","Estimate; Total: - $20,000 to $24,999","Margin of Error; Total: - $20,000 to $24,999","Estimate; Total: - $25,000 to $29,999","Margin of Error; Total: - $25,000 to $29,999","Estimate; Total: - $30,000 to $34,999","Margin of Error; Total: - $30,000 to $34,999","Estimate; Total: - $35,000 to $39,999","Margin of Error; Total: - $35,000 to $39,999","Estimate; Total: - $40,000 to $49,999","Margin of Error; Total: - $40,000 to $49,999","Estimate; Total: - $50,000 to $59,999","Margin of Error; Total: - $50,000 to $59,999","Estimate; Total: - $60,000 to $69,999","Margin of Error; Total: - $60,000 to $69,999","Estimate; Total: - $70,000 to $79,999","Margin of Error; Total: - $70,000 to $79,999","Estimate; Total: - $80,000 to $89,999","Margin of Error; Total: - $80,000 to $89,999","Estimate; Total: - $90,000 to $99,999","Margin of Error; Total: - $90,000 to $99,999","Estimate; Total: - $100,000 to $124,999","Margin of Error; Total: - $100,000 to $124,999","Estimate; Total: - $125,000 to $149,999","Margin of Error; Total: - $125,000 to $149,999","Estimate; Total: - $150,000 to $174,999","Margin of Error; Total: - $150,000 to $174,999","Estimate; Total: - $175,000 to $199,999","Margin of Error; Total: - $175,000 to $199,999","Estimate; Total: - $200,000 to $249,999","Margin of Error; Total: - $200,000 to $249,999","Estimate; Total: - $250,000 to $299,999","Margin of Error; Total: - $250,000 to $299,999","Estimate; Total: - $300,000 to $399,999","Margin of Error; Total: - $300,000 to $399,999","Estimate; Total: - $400,000 to $499,999","Margin of Error; Total: - $400,000 to $499,999","Estimate; Total: - $500,000 to $749,999","Margin of Error; Total: - $500,000 to $749,999","Estimate; Total: - $750,000 to $999,999","Margin of Error; Total: - $750,000 to $999,999","Estimate; Total: - $1,000,000 to $1,499,999","Margin of Error; Total: - $1,000,000 to $1,499,999","Estimate; Total: - $1,500,000 to $1,999,999","Margin of Error; Total: - $1,500,000 to $1,999,999","Estimate; Total: - $2,000,000 or more","Margin of Error; Total: - $2,000,000 or more","MedianOwnOCCHomeValue","MOE MedianOwnOCCHomeValue","OnwerOccHsU","MOE OnwerOccHsU","OwnerCosts>20PctHHInc","MOE OwnerCosts>20PctHHInc","OwnerCosts20to29.9PctHHInc","MOE OwnerCosts20to29.9PctHHInc","OwnerCosts<30PctHHInc","MOE OwnerCosts<30PctHHInc","OwnerCosts>30PctHHInc","MOE OwnerCosts>30PctHHInc","OwnerCosts30to34.9PctHHInc","MOE OwnerCosts30to34.9PctHHInc","OwnerCosts<35PctHHInc","MOE OwnerCosts<35PctHHInc","OwnerCosts>35PctHHInc","MOE OwnerCosts>35PctHHInc","OwnerCosts>50PctHHInc","MOE OwnerCosts>50PctHHInc","OwnerCostsPctNotcomputed","MOE OwnerCostsPctNotcomputed","OwnerOHUHhInc<20k","MOE OwnerOHUHhInc<20k","OwnerOHUHhInc<20kHCosts<20pct","MOE OwnerOHUHhInc<20kHCosts<20pct","OwnerOHUHhInc<20kHCosts20to29pct","MOE OwnerOHUHhInc<20kHCosts20to29pct","OwnerOHUHhInc>20kHCosts30pct","MOE OwnerOHUHhInc>20kHCosts30pct","OwnerOHUHhInc20kTo34999","MOE OwnerOHUHhInc20kTo34999","OwnerOHUHhInc20kTo34999HCosts<20pct","MOE OwnerOHUHhInc20kTo34999HCosts<20pct","OwnerOHUHhInc20kTo34999HCosts20to29pct","MOE OwnerOHUHhInc20kTo34999HCosts20to29pct","OwnerOHUHhInc20kTo34999HCosts30pct","MOE OwnerOHUHhInc20kTo34999HCosts30pct","OwnerOHUHhInc35kTo49999","MOE OwnerOHUHhInc35kTo49999","OwnerOHUHhInc35kTo49999HCosts<20pct","MOE OwnerOHUHhInc35kTo49999HCosts<20pct","OwnerOHUHhInc35kTo49999HCosts20to29pct","MOE OwnerOHUHhInc35kTo49999HCosts20to29pct","OwnerOHUHhInc35kTo49999HCosts30pct","MOE OwnerOHUHhInc35kTo49999HCosts30pct","OwnerOHUHhInc50kTo74999","MOE OwnerOHUHhInc50kTo74999","OwnerOHUHhInc50kTo74999HCosts<20pct","MOE OwnerOHUHhInc50kTo74999HCosts<20pct","OwnerOHUHhInc50kTo74999HCosts20to29pct","MOE OwnerOHUHhInc50kTo74999HCosts20to29pct","OwnerOHUHhInc50kTo74999HCosts30pct","MOE OwnerOHUHhInc50kTo74999HCosts30pct","OwnerOHUHhInc>75000","MOE OwnerOHUHhInc>75000","OwnerOHUHhInc>75000HCosts<20pct","MOE OwnerOHUHhInc>75000HCosts<20pct","OwnerOHUHhInc>75000HCosts20to29pct","MOE OwnerOHUHhInc>75000HCosts20to29pct","OwnerOHUHhInc>75000HCosts30pct","MOE OwnerOHUHhInc>75000HCosts30pct","ZeroOrNegativeIncome","MOE ZeroOrNegativeIncome"]
[{"$f":"VLOOKUP(DropDownList!$A$19,CntyQuery!$A$37:$II$47,A$1)","v":"Grafton County"},372304,2503,3797,383,1852,320,2838,431,2178,338,1541,243,1943,285,1323,234,2905,297,2926,362,3062,374,3686,344,4490,466,3979,393,15466,817,18040,749,30347,899,29191,1080,62985,1739,58041,1253,66026,1572,26680,961,19302,753,5244,430,2363,317,710,167,1389,223,244900,1359,372304,2503,171986,2507.9675037767138,98790,1960.4504584406102,270776,3183.2792840088664,99800,2059.650698540896,26192,1070.2158660756249,296968,3358.3670138923171,73608,1759.7724284690905,35695,1252.6140666621943,1728,291.57846285348307,20982,891,835,204,1203,217,18944,834,32859,1176,3464,298,6996,474,22399,1014,35858,1201,8786,563,9279,617,17793,829,65247,1423,22741,801,20020,874,22486,903,215630,2487,136160,2366,61292,1594,18178,760,1728,306]
[]
["Occupied Rental Housing Value"]
["NAME","RntrOccHU","MOE RntrOccHU","RntrOccHUwRent","MOE RntrOccHUwRent","ROHUGRent<100","MOE ROHUGRent<100","ROHUGRent100to149","MOE ROHUGRent100to149","ROHUGRent150to199","MOE ROHUGRent150to199","ROHUGRent200to249","MOE ROHUGRent200to249","ROHUGRent250to299","MOE ROHUGRent250to299","ROHUGRent300to349","MOE ROHUGRent300to349","ROHUGRent350to399","MOE ROHUGRent350to399","ROHUGRent400to449","MOE ROHUGRent400to449","ROHUGRent450to499","MOE ROHUGRent450to499","ROHUGRent500to549","MOE ROHUGRent500to549","ROHUGRent550to599","MOE ROHUGRent550to599","ROHUGRent600to649","MOE ROHUGRent600to649","ROHUGRent650to699","MOE ROHUGRent650to699","ROHUGRent700to749","MOE ROHUGRent700to749","ROHUGRent750to799","MOE ROHUGRent750to799","ROHUGRent800to899","MOE ROHUGRent800to899","ROHUGRent900to999","MOE ROHUGRent900to999","ROHUGRent1000to1249","MOE ROHUGRent1000to1249","ROHUGRent1250to1499","MOE ROHUGRent1250to1499","ROHUGRent1500to1999","MOE ROHUGRent1500to1999","ROHUGRent$2,000 to $2,499","MOE ROHUGRent$2,000 to $2,499","ROHUGRent$2,500 to $2,999","MOE ROHUGRent$2,500 to $2,999","ROHUGRent$3,000 to $3,499","MOE ROHUGRent$3,000 to $3,499","ROHUGRent$3,500 or more","MOE ROHUGRent$3,500 or more","ROHUNoGRent","MOE ROHUNoGRent","MedianGrossRnt","MOE MedianGrossRnt","H73RenterOccHU","MOE H73RenterOccHU","H73ROHUHhInc<10k","MOE H73ROHUHhInc<10k","H73ROHUHhInc<10kRnt<20pct","MOE H73ROHUHhInc<10kRnt<20pct","H73ROHUHhInc<10kRnt20to25pct","MOE H73ROHUHhInc<10kRnt20to25pct","H73ROHUHhInc<10kRnt25to30pct","MOE H73ROHUHhInc<10kRnt25to30pct","H73ROHUHhInc<10kRnt30to35pct","MOE H73ROHUHhInc<10kRnt30to35pct","H73ROHUHhInc<10kRnt35to39.9","MOE H73ROHUHhInc<10kRnt35to39.9","H73ROHUHhInc<10kRnt40to49.9","MOE H73ROHUHhInc<10kRnt40to49.9","H73ROHUHhInc<10kRnt>50pct","MOE H73ROHUHhInc<10kRnt>50pct","H73ROHUHhInc<10kPctNotComput","MOE H73ROHUHhInc<10kPctNotComput","H73ROHUHhInc10to20k","MOE H73ROHUHhInc10to20k","H73ROHUHhInc10to20kRnt<20pct","MOE H73ROHUHhInc10to20kRnt<20pct","H73ROHUHhInc10to20kRnt20to25pct","MOE H73ROHUHhInc10to20kRnt20to25pct","H73ROHUHhInc10to20kRnt25to30pct","MOE H73ROHUHhInc10to20kRnt25to30pct","H73ROHUHhInc10to20kRnt30to35pct","MOE H73ROHUHhInc10to20kRnt30to35pct","H73ROHUHhInc10to20kRnt35to39.9","MOE H73ROHUHhInc10to20kRnt35to39.9","H73ROHUHhInc10to20kRnt40to49.9","MOE H73ROHUHhInc10to20kRnt40to49.9","H73ROHUHhInc10to20kRnt>50pct","MOE H73ROHUHhInc10to20kRnt>50pct","H73ROHUHhInc10to20kRntPctNC","MOE H73ROHUHhInc10to20kRntPctNC","H73ROHUHhInc20to34.9k","MOE H73ROHUHhInc20to34.9k","H73ROHUHhInc20to34.9kRnt<20pct","MOE H73ROHUHhInc20to34.9kRnt<20pct","H73ROHUHhInc20to34.9kRnt20to25pct","MOE H73ROHUHhInc20to34.9kRnt20to25pct","H73ROHUHhInc20to34.9kRnt25to30pct","MOE H73ROHUHhInc20to34.9kRnt25to30pct","H73ROHUHhInc20to34.9kRnt30to35pct","MOE H73ROHUHhInc20to34.9kRnt30to35pct","H73ROHUHhInc20to34.9kRnt35to39.9","MOE H73ROHUHhInc20to34.9kRnt35to39.9","H73ROHUHhInc20to34.9kRnt40to49.9","MOE H73ROHUHhInc20to34.9kRnt40to49.9","H73ROHUHhInc20to34.9kRnt>50pct","MOE H73ROHUHhInc20to34.9kRnt>50pct","H73ROHUHhInc20to34.9kRntPctNC","MOE H73ROHUHhInc20to34.9kRntPctNC","H73ROHUHhInc35to49.9k","MOE H73ROHUHhInc35to49.9k","H73ROHUHhInc35to49.9kRnt<20pct","MOE H73ROHUHhInc35to49.9kRnt<20pct","H73ROHUHhInc35to49.9kRnt20to25pct","MOE H73ROHUHhInc35to49.9kRnt20to25pct","H73ROHUHhInc35to49.9kRnt25to30pct","MOE H73ROHUHhInc35to49.9kRnt25to30pct","H73ROHUHhInc35to49.9kRnt30to35pct","MOE H73ROHUHhInc35to49.9kRnt30to35pct","H73ROHUHhInc35to49.9kRnt35to39.9","MOE H73ROHUHhInc35to49.9kRnt35to39.9","H73ROHUHhInc35to49.9kRnt40to49.9","MOE H73ROHUHhInc35to49.9kRnt40to49.9","H73ROHUHhInc35to49.9kRnt>50pct","MOE H73ROHUHhInc35to49.9kRnt>50pct","H73ROHUHhInc35to49.9kRntPctNC","MOE H73ROHUHhInc35to49.9kRntPctNC","H73ROHUHhInc50to74.9k","MOE H73ROHUHhInc50to74.9k","H73ROHUHhInc50to74.9kRnt<20pct","MOE H73ROHUHhInc50to74.9kRnt<20pct","H73ROHUHhInc50to74.9kRnt20to25pct","MOE H73ROHUHhInc50to74.9kRnt20to25pct","H73ROHUHhInc50to74.9kRnt25to30pct","MOE H73ROHUHhInc50to74.9kRnt25to30pct","H73ROHUHhInc50to74.9kRnt30to35pct","MOE H73ROHUHhInc50to74.9kRnt30to35pct","H73ROHUHhInc50to74.9kRnt35to39.9","MOE H73ROHUHhInc50to74.9kRnt35to39.9","H73ROHUHhInc50to74.9kRnt40to49.9","MOE H73ROHUHhInc50to74.9kRnt40to49.9","H73ROHUHhInc50to74.9kRnt>50pct","MOE H73ROHUHhInc50to74.9kRnt>50pct","H73ROHUHhInc50to74.9kRntPctNC","MOE H73ROHUHhInc50to74.9kRntPctNC","H73ROHUHhInc75to99.9k","MOE H73ROHUHhInc75to99.9k","H73ROHUHhInc75to99.9kRnt<20pct","MOE H73ROHUHhInc75to99.9kRnt<20pct","H73ROHUHhInc75to99.9kRnt20to25pct","MOE H73ROHUHhInc75to99.9kRnt20to25pct","H73ROHUHhInc75to99.9kRnt25to30pct","MOE H73ROHUHhInc75to99.9kRnt25to30pct","H73ROHUHhInc75to99.9kRnt30to35pct","MOE H73ROHUHhInc75to99.9kRnt30to35pct","H73ROHUHhInc75to99.9kRnt35to39.9","MOE H73ROHUHhInc75to99.9kRnt35to39.9","H73ROHUHhInc75to99.9kRnt40to49.9","MOE H73ROHUHhInc75to99.9kRnt40to49.9","H73ROHUHhInc75to99.9kRnt>50pct","MOE H73ROHUHhInc75to99.9kRnt>50pct","H73ROHUHhInc75to99.9kRntPctNC","MOE H73ROHUHhInc75to99.9kRntPctNC","H73ROHUHhInc>100k","MOE H73ROHUHhInc>100k","H73ROHUHhInc>100kRnt<20pct","MOE H73ROHUHhInc>100kRnt<20pct","H73ROHUHhInc>100kRnt20to25pct","MOE H73ROHUHhInc>100kRnt20to25pct","H73ROHUHhInc>100kRnt25to30pct","MOE H73ROHUHhInc>100kRnt25to30pct","H73ROHUHhInc>100kRnt30to35pct","MOE H73ROHUHhInc>100kRnt30to35pct","H73ROHUHhInc>100kRnt35to39.9","MOE H73ROHUHhInc>100kRnt35to39.9","H73ROHUHhInc>100kRnt40to49.9","MOE H73ROHUHhInc>100kRnt40to49.9","H73ROHUHhInc>100kRnt>50pct","MOE H73ROHUHhInc>100kRnt>50pct","H73ROHUHhInc>100kRntPctNC","MOE H73ROHUHhInc>100kRntPctNC"]
[{"$f":"VLOOKUP(DropDownList!$A$19,CntyQuery!$A$37:$II$47,A$1)","v":"Grafton County"},154406,2224,148319,2175,353,126,543,191,885,204,2289,317,1625,296,2015,315,1779,276,1922,311,1863,353,2038,348,2286,368,3321,403,3657,408,4480,550,5902,567,13931,858,18050,790,34972,1332,20597,909,19760,911,4032,473,1184,264,519,200,316,121,6087,562,1052,9,154406,2224,13365,779,253,128,194,84,795,206,296,133,304,150,397,176,8828,638,2298,322,22478,1006,828,195,925,179,2170,264,1472,282,688,178,1727,305,13397,789,1271,260,30250,1325,1398,293,1266,248,3021,440,3754,398,3870,506,7218,577,8672,684,1051,163,24826,1105,2165,282,3824,434,5666,639,5107,568,3026,395,2761,447,1457,309,820,175,29465,1271,8834,767,9003,693,5693,525,2757,380,1093,241,754,202,425,144,906,187,17063,1104,9785,948,4356,482,1509,279,435,121,180,93,71,44,25,30,702,190,16959,999,14007,942,1737,304,332,152,63,45,17,23,0,27,0,27,803,164]
[]
[]
[]
[]
[]
["Occupied Rental Housing Cost Burdern All Incomes"]
["NAME","RenterOccHsU",{"$f":"\"MOE \"&B155","v":"MOE RenterOccHsU"},"GRnt<20PctHHInc",{"$f":"\"MOE \"&D155","v":"MOE GRnt<20PctHHInc"},"GRnt20to249PctHHInc",{"$f":"\"MOE \"&F155","v":"MOE GRnt20to249PctHHInc"},"GRnt25to29.9PctHHInc",{"$f":"\"MOE \"&H155","v":"MOE GRnt25to29.9PctHHInc"},"GRnt<30PctHHInc",{"$f":"\"MOE \"&J155","v":"MOE GRnt<30PctHHInc"},"GRnt>30PctHHInc",{"$f":"\"MOE \"&L155","v":"MOE GRnt>30PctHHInc"},"GRnt30to349PctHHInc",{"$f":"\"MOE \"&N155","v":"MOE GRnt30to349PctHHInc"},"GRnt<35PctHHInc",{"$f":"\"MOE \"&P155","v":"MOE GRnt<35PctHHInc"},"GRnt>35PctHHInc",{"$f":"\"MOE \"&R155","v":"MOE GRnt>35PctHHInc"},"GRnt>50PctHHInc",{"$f":"\"MOE \"&T155","v":"MOE GRnt>50PctHHInc"},"HCB Not Calculated",{"$f":"\"MOE \"&V155","v":"MOE HCB Not Calculated"}]
[{"$f":"VLOOKUP(DropDownList!$A$19,CntyQuery!$A$37:$II$47,A$1)","v":"Grafton County"},154406,2224,4317,453,11953,845,21000,1178,21305,902,19186,930,13884,808,9178,761,12928,798,32804,1184,7851,695]
[]
["Income By Household Type and Tenure"]
["NAME","TotalFamilyHouseholds",{"$f":"\"MOE \"&B159","v":"MOE TotalFamilyHouseholds"},"FamInc<10K",{"$f":"\"MOE \"&D159","v":"MOE FamInc<10K"},"FamInc10to15K",{"$f":"\"MOE \"&F159","v":"MOE FamInc10to15K"},"FamInc15to20K",{"$f":"\"MOE \"&H159","v":"MOE FamInc15to20K"},"FamInc20to25K",{"$f":"\"MOE \"&J159","v":"MOE FamInc20to25K"},"FamInc25to30K",{"$f":"\"MOE \"&L159","v":"MOE FamInc25to30K"},"FamInc30to35K",{"$f":"\"MOE \"&N159","v":"MOE FamInc30to35K"},"FamInc35to40K",{"$f":"\"MOE \"&P159","v":"MOE FamInc35to40K"},"FamInc40to45K",{"$f":"\"MOE \"&R159","v":"MOE FamInc40to45K"},"FamInc45to50K",{"$f":"\"MOE \"&T159","v":"MOE FamInc45to50K"},"FamInc50to60K",{"$f":"\"MOE \"&V159","v":"MOE FamInc50to60K"},"FamInc60to75K",{"$f":"\"MOE \"&X159","v":"MOE FamInc60to75K"},"FamInc75to100K",{"$f":"\"MOE \"&Z159","v":"MOE FamInc75to100K"},"FamInc100to125K",{"$f":"\"MOE \"&AB159","v":"MOE FamInc100to125K"},"FamInc125to150K",{"$f":"\"MOE \"&AD159","v":"MOE FamInc125to150K"},"FamInc150to200K",{"$f":"\"MOE \"&AF159","v":"MOE FamInc150to200K"},"FamInc>200K",{"$f":"\"MOE \"&AH159","v":"MOE FamInc>200K"},"MedFamInc",{"$f":"\"MOE \"&AJ159","v":"MOE MedFamInc"},"TotalNonNonFamilyHouseholds",{"$f":"\"MOE \"&AL159","v":"MOE TotalNonNonFamilyHouseholds"},"NonFamInc<10K",{"$f":"\"MOE \"&AN159","v":"MOE NonFamInc<10K"},"NonFamInc10to15K",{"$f":"\"MOE \"&AP159","v":"MOE NonFamInc10to15K"},"NonFamInc15to20K",{"$f":"\"MOE \"&AR159","v":"MOE NonFamInc15to20K"},"NonFamInc20to25K",{"$f":"\"MOE \"&AT159","v":"MOE NonFamInc20to25K"},"NonFamInc25to30K",{"$f":"\"MOE \"&AV159","v":"MOE NonFamInc25to30K"},"NonFamInc30to35K",{"$f":"\"MOE \"&AX159","v":"MOE NonFamInc30to35K"},"NonFamInc35to40K",{"$f":"\"MOE \"&AZ159","v":"MOE NonFamInc35to40K"},"NonFamInc40to45K",{"$f":"\"MOE \"&BB159","v":"MOE NonFamInc40to45K"},"NonFamInc45to50K",{"$f":"\"MOE \"&BD159","v":"MOE NonFamInc45to50K"},"NonFamInc50to60K",{"$f":"\"MOE \"&BF159","v":"MOE NonFamInc50to60K"},"NonFamInc60to75K",{"$f":"\"MOE \"&BH159","v":"MOE NonFamInc60to75K"},"NonFamInc75to100K",{"$f":"\"MOE \"&BJ159","v":"MOE NonFamInc75to100K"},"NonFamInc100to125K",{"$f":"\"MOE \"&BL159","v":"MOE NonFamInc100to125K"},"NonFamInc125to150K",{"$f":"\"MOE \"&BN159","v":"MOE NonFamInc125to150K"},"NonFamInc150to200K",{"$f":"\"MOE \"&BP159","v":"MOE NonFamInc150to200K"},"NonFamInc>200K",{"$f":"\"MOE \"&BR159","v":"MOE NonFamInc>200K"},"MedNonFamInc",{"$f":"\"MOE \"&BT159","v":"MOE MedNonFamInc"}]
[{"$f":"VLOOKUP(DropDownList!$A$19,CntyQuery!$A$37:$II$47,A$1)","v":"Grafton County"},21412,541,464,171,384,123,735,216,632,202,579,125,1137,231,938,171,663,142,906,198,1640,208,2335,264,3425,323,2379,246,1490,234,1673,216,2032,226,77742,3100,13444,653,1401,249,1206,306,791,146,1191,247,742,146,978,192,938,231,643,210,528,126,1018,209,1345,259,1204,243,399,119,324,113,284,106,452,126,null,null,36857,1832]

{"sheet":"CntyDataLinkPrior10YearEstimate","index":15,"n_rows":160,"n_cols":185,"rows_kept":160,"cut":false,"hidden":true,"merged":[]}
[1,{"$f":"A1+1","v":2},3,4,5,6,7,8,9,10,11,12,13,14,15,16,17,18,19,20,21,22,23,24,25,26,27,28,29,30,31,32,33,34,35,36,37,38,39,40,41,42,43,44,45,46,47,48,49,50,51,52,53,54,55,56,57,58,59,60,61,62,63,64,65,{"$f":"BM1+1","v":66},67,68,69,70,71,72,73,74,75,76,77,78,79,80,81,82,83,84,85,86,87,88,89,90,91,92,93,94,95,96,97,98,99,100,101,102,103,104,105,106,107,108,109,110,111,112,113,114,115,116,117,118,119,120,121,122,123,124,125,126,127,128,129,{"$f":"DY1+1","v":130},131,132,133,134,135,136,137,138,139,140,141,142,143,144,145,146,147,148,149,150,151,152,153,154,155,156,157,158,159,160,161,162,163,164,165,166,167,168,169,170,171,172,173,174,175,176,177,178,179,180,181,182,183]
[]
[]
[]
[]
[]
[]
[]
[]
[]
[]
[]
[]
[]
[]
[]
[]
[]
[]
[]
[]
[]
[]
[]
[]
[]
[]
[]
[]
[]
[]
[]
[]
[]
[]
[]
[]
[]
[]
[]
[]
[]
[]
[]
[]
[]
[]
[]
[]
[]
[]
[]
[]
[]
[]
[]
[]
[]
[]
[]
[]
[]
[]
[]
[]
[]
[]
[]
[]
[]
[]
[]
[]
[]
[]
[]
[]
[]
[]
[]
[]
[]
[]
[]
[]
[]
[]
[]
[]
[]
[]
[]
[null,null,null,null,{"$f":"PovertyCharacteristics!#REF!-PovertyCharacteristics!#REF!","v":{"$error":"#REF!"}}]
[]
[]
[]
[]
[]
[]
[]
[]
[]
[]
[]
["ACS",2,{"$f":"B105+1","v":3},{"$f":"C105+1","v":4},5,6,7,8,9,10,11,{"$f":"K105+1","v":12},13,14,15,{"$f":"O105+1","v":16},17,18,19,20,21,22,23,24,25,26,27,28,29,30,31,32,33,34,35,36,37,38,39,40,41,42,43,44,45,46,47,48,49,50,51,52,53,54,55,56,57,58,59,60,61,62,63,64,65,66,67,{"$f":"BO105+1","v":68},69,70,71,72,73,74,75,76,77,78,79,80,81,82,83,84,85,86,87,88,89,90,91,92,93,94,95,96,97,98,99,100,101,102,103,104,105,106,107,108,109,110,111,112,113,114,115,116,117,118,119,120,121,122,123,124,125]
["Househould Data (Housing Unit Type)"]
["NAME","TotalHU",{"$f":"\"MOE \"&B107","v":"MOE TotalHU"},"TotalOccHU",{"$f":"\"MOE \"&D107","v":"MOE TotalOccHU"},"TotalOwnerOccUn",{"$f":"\"MOE \"&F107","v":"MOE TotalOwnerOccUn"},"TotalRenterOccn",{"$f":"\"MOE \"&H107","v":"MOE TotalRenterOccn"},"TotalVacantUntis",{"$f":"\"MOE \"&J107","v":"MOE TotalVacantUntis"},"VacantUnitsForRent",{"$f":"\"MOE \"&L107","v":"MOE VacantUnitsForRent"},"VacantUnitRentedNotOcc",{"$f":"\"MOE \"&N107","v":"MOE VacantUnitRentedNotOcc"},"VacantUnitForSale",{"$f":"\"MOE \"&P107","v":"MOE VacantUnitForSale"},"VacantUnitSoldNotOcc",{"$f":"\"MOE \"&R107","v":"MOE VacantUnitSoldNotOcc"},"VacantUnitSeasonalRec",{"$f":"\"MOE \"&T107","v":"MOE VacantUnitSeasonalRec"},"TotalPopInHousingUnits",{"$f":"\"MOE \"&V107","v":"MOE TotalPopInHousingUnits"},"OwnerOccPopHousingUnits",{"$f":"\"MOE \"&X107","v":"MOE OwnerOccPopHousingUnits"},"RenterOccPopHousingUnits",{"$f":"\"MOE \"&Z107","v":"MOE RenterOccPopHousingUnits"},"TotalUntis",{"$f":"\"MOE \"&AB107","v":"MOE TotalUntis"},"TotalOwnerOccUnits",{"$f":"\"MOE \"&AD107","v":"MOE TotalOwnerOccUnits"},"SigFamOwnerOcc",{"$f":"\"MOE \"&AF107","v":"MOE SigFamOwnerOcc"},"MultiFamOwnerOcc",{"$f":"\"MOE \"&AH107","v":"MOE MultiFamOwnerOcc"},"MobileOwnerOcc",{"$f":"\"MOE \"&AJ107","v":"MOE MobileOwnerOcc"},"TotalRenterOccUnits",{"$f":"\"MOE \"&AL107","v":"MOE TotalRenterOccUnits"},"SigFamRenterOcc",{"$f":"\"MOE \"&AN107","v":"MOE SigFamRenterOcc"},"MultiFamRenterOcc",{"$f":"\"MOE \"&AP107","v":"MOE MultiFamRenterOcc"},"MobileRenterOcc",{"$f":"\"MOE \"&AR107","v":"MOE MobileRenterOcc"},"TotalSigFamilyUnits",{"$f":"\"MOE \"&AT107","v":"MOE TotalSigFamilyUnits"},"TotalMultiFamilyUnits",{"$f":"\"MOE \"&AV107","v":"MOE TotalMultiFamilyUnits"},"TotalMobileUnits",{"$f":"\"MOE \"&AX107","v":"MOE TotalMobileUnits"},"YrHouseBuilt2005Later",{"$f":"\"MOE \"&AZ107","v":"MOE YrHouseBuilt2005Later"},"YrHouseBuilt2000-2004",{"$f":"\"MOE \"&BB107","v":"MOE YrHouseBuilt2000-2004"},"YrHouseBuilt1990-1999",{"$f":"\"MOE \"&BD107","v":"MOE YrHouseBuilt1990-1999"},"YrHouseBuilt1980-1989",{"$f":"\"MOE \"&BF107","v":"MOE YrHouseBuilt1980-1989"},"YrHouseBuilt1970-1979",{"$f":"\"MOE \"&BH107","v":"MOE YrHouseBuilt1970-1979"},"YrHouseBuilt1960-1969",{"$f":"\"MOE \"&BJ107","v":"MOE YrHouseBuilt1960-1969"},"YrHouseBuilt1950-1959",{"$f":"\"MOE \"&BL107","v":"MOE YrHouseBuilt1950-1959"},"YrHouseBuilt1940-1949",{"$f":"\"MOE \"&BN107","v":"MOE YrHouseBuilt1940-1949"},"YrHouseBuilt1939orEarlier",{"$f":"\"MOE \"&BP107","v":"MOE YrHouseBuilt1939orEarlier"},"NoBedrooms",{"$f":"\"MOE \"&BR107","v":"MOE NoBedrooms"},"1Bedroom",{"$f":"\"MOE \"&BT107","v":"MOE 1Bedroom"},"2Bedroom",{"$f":"\"MOE \"&BV107","v":"MOE 2Bedroom"},"3Bedroom",{"$f":"\"MOE \"&BX107","v":"MOE 3Bedroom"},"4+Bedroom",{"$f":"\"MOE \"&BZ107","v":"MOE 4+Bedroom"}]
[{"$f":"VLOOKUP(DropDownList!$A$19,CntyQuery!$A$37:$II$47,A$1)","v":"Grafton County"},611916,594,514869,1627,373342,2318,141527,1994,97047,1797,8396,906,2167,434,6769,706,1817,380,63842,1179,1276122,"*****",974408,5577,301714,5577,514869,1627,373342,2318,303896,1931,43650,1332.1020981891741,25796,878.05352911995067,141527,1994,23423,1064,113575,2457.3577273160699,4529,491.47126060432061,389227,1890,186536,2933.4428578037787,36153,1018.8881194714168,20951,929,44935,1287,65652,1574,122640,1678,95683,1772,56022,1756,45865,1593,25817,1094,134351,2311,9703,766,66974,1616,187828,2132,234199,2547,113212,1873.9103500434592]
[]
["Disability Data","Can't do comparisons until 2017"]
["NAME","TotalPop",{"$f":"\"MOE \"&B111","v":"MOE TotalPop"},"PopUnder 5 years:",{"$f":"\"MOE \"&D111","v":"MOE PopUnder 5 years:"},{"$f":"D$111&\"-WithDisability\"","v":"PopUnder 5 years:-WithDisability"},{"$f":"\"MOE \"&F111","v":"MOE PopUnder 5 years:-WithDisability"},{"$f":"D111&\"-NoDisability\"","v":"PopUnder 5 years:-NoDisability"},{"$f":"\"MOE \"&H111","v":"MOE PopUnder 5 years:-NoDisability"},"PopUnder 5 to 17years:",{"$f":"\"MOE \"&J111","v":"MOE PopUnder 5 to 17years:"},{"$f":"J$111&\"-WithDisability\"","v":"PopUnder 5 to 17years:-WithDisability"},{"$f":"\"MOE \"&L111","v":"MOE PopUnder 5 to 17years:-WithDisability"},{"$f":"J111&\"-NoDisability\"","v":"PopUnder 5 to 17years:-NoDisability"},{"$f":"\"MOE \"&N111","v":"MOE PopUnder 5 to 17years:-NoDisability"},"PopUnder 18 to 34 years:",{"$f":"\"MOE \"&P111","v":"MOE PopUnder 18 to 34 years:"},{"$f":"P$111&\"-WithDisability\"","v":"PopUnder 18 to 34 years:-WithDisability"},{"$f":"\"MOE \"&R111","v":"MOE PopUnder 18 to 34 years:-WithDisability"},{"$f":"P111&\"-NoDisability\"","v":"PopUnder 18 to 34 years:-NoDisability"},{"$f":"\"MOE \"&T111","v":"MOE PopUnder 18 to 34 years:-NoDisability"},"Pop 35 years to 64:",{"$f":"\"MOE \"&V111","v":"MOE Pop 35 years to 64:"},{"$f":"$V$111&\"-WithDisability\"","v":"Pop 35 years to 64:-WithDisability"},{"$f":"\"MOE \"&X111","v":"MOE Pop 35 years to 64:-WithDisability"},{"$f":"$V$111&\"-NoDisability\"","v":"Pop 35 years to 64:-NoDisability"},{"$f":"\"MOE \"&Z111","v":"MOE Pop 35 years to 64:-NoDisability"},"Pop 65 years to 74:",{"$f":"\"MOE \"&AB111","v":"MOE Pop 65 years to 74:"},{"$f":"$AB$111&\"-WithDisability\"","v":"Pop 65 years to 74:-WithDisability"},{"$f":"\"MOE \"&AD111","v":"MOE Pop 65 years to 74:-WithDisability"},{"$f":"$AB$111&\"-NoDisability\"","v":"Pop 65 years to 74:-NoDisability"},{"$f":"\"MOE \"&AF111","v":"MOE Pop 65 years to 74:-NoDisability"},"Pop 75 and older:",{"$f":"\"MOE \"&AH111","v":"MOE Pop 75 and older:"},{"$f":"$AH$111&\"-WithDisability\"","v":"Pop 75 and older:-WithDisability"},{"$f":"\"MOE \"&AJ111","v":"MOE Pop 75 and older:-WithDisability"},{"$f":"$AH$111&\"-NoDisability\"","v":"Pop 75 and older:-NoDisability"},{"$f":"\"MOE \"&AL111","v":"MOE Pop 75 and older:-NoDisability"},"TotalPopUnder5_HearingDisability",{"$f":"\"MOE \"&AN111","v":"MOE TotalPopUnder5_HearingDisability"},"TotalPopUnder5_HearingDisability",{"$f":"\"MOE \"&AP111","v":"MOE TotalPopUnder5_HearingDisability"},"TotalPop18To34_HearingDisability",{"$f":"\"MOE \"&AR111","v":"MOE TotalPop18To34_HearingDisability"},"TotalPop35To64_HearingDisability",{"$f":"\"MOE \"&AT111","v":"MOE TotalPop35To64_HearingDisability"},"TotalPop65To74_HearingDisability",{"$f":"\"MOE \"&AV111","v":"MOE TotalPop65To74_HearingDisability"},"TotalPop75andOlder_HearingDisability",{"$f":"\"MOE \"&AX111","v":"MOE TotalPop75andOlder_HearingDisability"},"TotalPopUnder5_VisionDisability",{"$f":"\"MOE \"&AZ111","v":"MOE TotalPopUnder5_VisionDisability"},"TotalPop5To17_VisionDisability",{"$f":"\"MOE \"&BB111","v":"MOE TotalPop5To17_VisionDisability"},"TotalPop18To34_VisionDisability",{"$f":"\"MOE \"&BD111","v":"MOE TotalPop18To34_VisionDisability"},"TotalPop35To64_VisionDisability",{"$f":"\"MOE \"&BF111","v":"MOE TotalPop35To64_VisionDisability"},"TotalPop65To74_VisionDisability",{"$f":"\"MOE \"&BH111","v":"MOE TotalPop65To74_VisionDisability"},"TotalPop75andOlder_VisionDisability",{"$f":"\"MOE \"&BJ111","v":"MOE TotalPop75andOlder_VisionDisability"},"TotalPop5To17_CongnitiveDisability",{"$f":"\"MOE \"&BL111","v":"MOE TotalPop5To17_CongnitiveDisability"},"TotalPop18To34_CongnitiveDisability",{"$f":"\"MOE \"&BN111","v":"MOE TotalPop18To34_CongnitiveDisability"},"TotalPop35To64_CongnitiveDisability",{"$f":"\"MOE \"&BP111","v":"MOE TotalPop35To64_CongnitiveDisability"},"TotalPop65To74_CongnitiveDisability",{"$f":"\"MOE \"&BR111","v":"MOE TotalPop65To74_CongnitiveDisability"},"TotalPop75andOlder_CongnitiveDisability",{"$f":"\"MOE \"&BT111","v":"MOE TotalPop75andOlder_CongnitiveDisability"},"TotalPop5To17_AmbulatoryDisability",{"$f":"\"MOE \"&BV111","v":"MOE TotalPop5To17_AmbulatoryDisability"},"TotalPop18To34_AmbulatoryDisability",{"$f":"\"MOE \"&BX111","v":"MOE TotalPop18To34_AmbulatoryDisability"},"TotalPop35To64_AmbulatoryDisability",{"$f":"\"MOE \"&BZ111","v":"MOE TotalPop35To64_AmbulatoryDisability"},"TotalPop65To74_AmbulatoryDisability",{"$f":"\"MOE \"&CB111","v":"MOE TotalPop65To74_AmbulatoryDisability"},"TotalPop75andOlder_AmbulatoryDisability",{"$f":"\"MOE \"&CD111","v":"MOE TotalPop75andOlder_AmbulatoryDisability"},"TotalPop5To17_SelfCareDisability",{"$f":"\"MOE \"&CF111","v":"MOE TotalPop5To17_SelfCareDisability"},"TotalPop18To34_SelfCareDisability",{"$f":"\"MOE \"&CH111","v":"MOE TotalPop18To34_SelfCareDisability"},"TotalPop35To64_SelfCareDisability",{"$f":"\"MOE \"&CJ111","v":"MOE TotalPop35To64_SelfCareDisability"},"TotalPop65To74_SelfCareDisability",{"$f":"\"MOE \"&CL111","v":"MOE TotalPop65To74_SelfCareDisability"},"TotalPop75andOlder_SelfCareDisability",{"$f":"\"MOE \"&CN111","v":"MOE TotalPop75andOlder_SelfCareDisability"},"TotalPop18To34_IndependantLivingDisability",{"$f":"\"MOE \"&CP111","v":"MOE TotalPop18To34_IndependantLivingDisability"},"TotalPop35To64_IndependantLivingDisability",{"$f":"\"MOE \"&CR111","v":"MOE TotalPop35To64_IndependantLivingDisability"},"TotalPop65To74_IndependantLivingDisability",{"$f":"\"MOE \"&CT111","v":"MOE TotalPop65To74_IndependantLivingDisability"},"TotalPop75andOlder_IndependantLivingDisability",{"$f":"\"MOE \"&CV111","v":"MOE TotalPop75andOlder_IndependantLivingDisability"},"TotalUnder5_HearingorVisionDisability",{"$f":"\"MOE \"&CX111","v":"MOE TotalUnder5_HearingorVisionDisability"},"TotalUnder5_HearingandVisionDisability",{"$f":"\"MOE \"&CZ111","v":"MOE TotalUnder5_HearingandVisionDisability"},"5to17YearWIthOneDisability",{"$f":"\"MOE \"&DB111","v":"MOE 5to17YearWIthOneDisability"},"5to17YearWIthTwoOrMoreDisability",{"$f":"\"MOE \"&DD111","v":"MOE 5to17YearWIthTwoOrMoreDisability"},"18to34YearWIthOneDisability",{"$f":"\"MOE \"&DF111","v":"MOE 18to34YearWIthOneDisability"},"18to34YearWIthTwoOrMoreDisability",{"$f":"\"MOE \"&DH111","v":"MOE 18to34YearWIthTwoOrMoreDisability"},"35to64YearWIthOneDisability",{"$f":"\"MOE \"&DJ111","v":"MOE 35to64YearWIthOneDisability"},"35to64YearWIthTwoOrMoreDisability",{"$f":"\"MOE \"&DL111","v":"MOE 35to64YearWIthTwoOrMoreDisability"},"65to74YearWIthOneDisability",{"$f":"\"MOE \"&DN111","v":"MOE 65to74YearWIthOneDisability"},"65to74YearWIthTwoOrMoreDisability",{"$f":"\"MOE \"&DP111","v":"MOE 65to74YearWIthTwoOrMoreDisability"},"75AndOlderWIthOneDisability",{"$f":"\"MOE \"&DR111","v":"MOE 75AndOlderWIthOneDisability"},"75AndOlderWIthTwoOrMoreDisability",{"$f":"\"MOE \"&DT111","v":"MOE 75AndOlderWIthTwoOrMoreDisability"}]
[{"$f":"VLOOKUP(DropDownList!$A$19,CntyQuery!$A$37:$II$47,A$1)","v":"Grafton County"},88381,158,4070,99.005050376230813,4,27.658633371878661,4066,99.724620831567975,12191,111.07204868912791,870,187.49133313302778,11321,210.73680267100951,22128,137.2953021774598,983,212.42410409367389,21145,238.00840321299583,36474,168.7601848778319,4198,350.22421389732608,32276,387.50483867946735,7374,65.80273550544841,1810,221.65062598603234,5564,221.46105752479374,6144,115.52056094046635,2754,210.27838690650069,3390,206.59622455408038,4,27.658633371878661,123,79.429213769242352,145,85.796270315206598,1294,219.61101975993827,779,149.56603892595405,1458,167.70509831248424,0,38.183766184073569,103,67.067130548428864,184,87.31551981177229,535,140.46351839534705,221,76.400261779656233,547,126.24579200908045,625,148.16544806398016,637,175.41379649275024,1613,229.31637534201522,370,107.64757312638311,559,112.61438629233834,91,65.145989899609319,197,98.2344135219425,2304,275.28893911670332,1074,173.24260445975753,1445,183.99184764548673,112,50.606323715519977,181,96.005208192055917,1088,213.58136622842358,286,91.35097153287424,595,129.63024338479042,437,150.86417732516887,1397,211.46394491733099,478,115.10864433221339,1199,156.23699945915499,652,176,222,84,2747,309,2434,350,2322,293,2242,222,30797,817,2327,431,43164,915,682,248,5484,400,1300,240]
[]
["Househould Income By Age"]
["NAME","TotalHouseholds",{"$f":"\"MOE \"&B115","v":"MOE TotalHouseholds"},"HHInc<10K",{"$f":"\"MOE \"&D115","v":"MOE HHInc<10K"},"HHInc10to15K",{"$f":"\"MOE \"&F115","v":"MOE HHInc10to15K"},"HHInc15to20K",{"$f":"\"MOE \"&H115","v":"MOE HHInc15to20K"},"HHInc20to25K",{"$f":"\"MOE \"&J115","v":"MOE HHInc20to25K"},"HHInc25to30K",{"$f":"\"MOE \"&L115","v":"MOE HHInc25to30K"},"HHInc30to35K",{"$f":"\"MOE \"&N115","v":"MOE HHInc30to35K"},"HHInc35to40K",{"$f":"\"MOE \"&P115","v":"MOE HHInc35to40K"},"HHInc40to45K",{"$f":"\"MOE \"&R115","v":"MOE HHInc40to45K"},"HHInc45to50K",{"$f":"\"MOE \"&T115","v":"MOE HHInc45to50K"},"HHInc50to60K",{"$f":"\"MOE \"&V115","v":"MOE HHInc50to60K"},"HHInc60to75K",{"$f":"\"MOE \"&X115","v":"MOE HHInc60to75K"},"HHInc75to100K",{"$f":"\"MOE \"&Z115","v":"MOE HHInc75to100K"},"HHInc100to125K",{"$f":"\"MOE \"&AB115","v":"MOE HHInc100to125K"},"HHInc125to150K",{"$f":"\"MOE \"&AD115","v":"MOE HHInc125to150K"},"HHInc150to200K",{"$f":"\"MOE \"&AF115","v":"MOE HHInc150to200K"},"HHInc>200K",{"$f":"\"MOE \"&AH115","v":"MOE HHInc>200K"},"TotalHH",{"$f":"\"MOE \"&AJ115","v":"MOE TotalHH"},"HHAgeHHUnder25yrs",{"$f":"\"MOE \"&AL115","v":"MOE HHAgeHHUnder25yrs"},"HHAgeHH<25HHInc<10K",{"$f":"\"MOE \"&AN115","v":"MOE HHAgeHH<25HHInc<10K"},"HHAgeHH<25HHInc10to15K",{"$f":"\"MOE \"&AP115","v":"MOE HHAgeHH<25HHInc10to15K"},"HHAgeHH<25HHInc15to20K",{"$f":"\"MOE \"&AR115","v":"MOE HHAgeHH<25HHInc15to20K"},"HHAgeHH<25HHInc20to25K",{"$f":"\"MOE \"&AT115","v":"MOE HHAgeHH<25HHInc20to25K"},"HHAgeHH<25HHInc25to30K",{"$f":"\"MOE \"&AV115","v":"MOE HHAgeHH<25HHInc25to30K"},"HHAgeHH<25HHInc30to35K",{"$f":"\"MOE \"&AX115","v":"MOE HHAgeHH<25HHInc30to35K"},"HHAgeHH<25HHInc35to40K",{"$f":"\"MOE \"&AZ115","v":"MOE HHAgeHH<25HHInc35to40K"},"HHAgeHH<25HHInc40to45K",{"$f":"\"MOE \"&BB115","v":"MOE HHAgeHH<25HHInc40to45K"},"HHAgeHH<25HHInc45to50K",{"$f":"\"MOE \"&BD115","v":"MOE HHAgeHH<25HHInc45to50K"},"HHAgeHH<25HHInc50to60K",{"$f":"\"MOE \"&BF115","v":"MOE HHAgeHH<25HHInc50to60K"},"HHAgeHH<25HHInc60to75K",{"$f":"\"MOE \"&BH115","v":"MOE HHAgeHH<25HHInc60to75K"},"HHAgeHH<25HHInc75to100K",{"$f":"\"MOE \"&BJ115","v":"MOE HHAgeHH<25HHInc75to100K"},"HHAgeHH<25HHInc100to125K",{"$f":"\"MOE \"&BL115","v":"MOE HHAgeHH<25HHInc100to125K"},"HHAgeHH<25HHInc125to150K",{"$f":"\"MOE \"&BN115","v":"MOE HHAgeHH<25HHInc125to150K"},"HHAgeHH<25HHInc150to200K",{"$f":"\"MOE \"&BP115","v":"MOE HHAgeHH<25HHInc150to200K"},"HHAge<25HHInc>200K",{"$f":"\"MOE \"&BR115","v":"MOE HHAge<25HHInc>200K"},"HHAgeHH25to44yrs",{"$f":"\"MOE \"&BT115","v":"MOE HHAgeHH25to44yrs"},"HHAgeHH25To44yrsHHInc<10K",{"$f":"\"MOE \"&BV115","v":"MOE HHAgeHH25To44yrsHHInc<10K"},"HHAgeHH25To44yrsHHInc10to15K",{"$f":"\"MOE \"&BX115","v":"MOE HHAgeHH25To44yrsHHInc10to15K"},"HHAgeHH25To44yrsHHInc15to20K",{"$f":"\"MOE \"&BZ115","v":"MOE HHAgeHH25To44yrsHHInc15to20K"},"HHAgeHH25To44yrsHHInc20to25K",{"$f":"\"MOE \"&CB115","v":"MOE HHAgeHH25To44yrsHHInc20to25K"},"HHAgeHH25To44yrsHHInc25to30K",{"$f":"\"MOE \"&CD115","v":"MOE HHAgeHH25To44yrsHHInc25to30K"},"HHAgeHH25To44yrsHHInc30to35K",{"$f":"\"MOE \"&CF115","v":"MOE HHAgeHH25To44yrsHHInc30to35K"},"HHAgeHH25To44yrsHHInc35to40K",{"$f":"\"MOE \"&CH115","v":"MOE HHAgeHH25To44yrsHHInc35to40K"},"HHAgeHH25To44yrsHHInc40to45K",{"$f":"\"MOE \"&CJ115","v":"MOE HHAgeHH25To44yrsHHInc40to45K"},"HHAgeHH25To44yrsHHInc45to50K",{"$f":"\"MOE \"&CL115","v":"MOE HHAgeHH25To44yrsHHInc45to50K"},"HHAgeHH25To44yrsHHInc50to60K",{"$f":"\"MOE \"&CN115","v":"MOE HHAgeHH25To44yrsHHInc50to60K"},"HHAgeHH25To44yrsHHInc60to75K",{"$f":"\"MOE \"&CP115","v":"MOE HHAgeHH25To44yrsHHInc60to75K"},"HHAgeHH25To44yrsHHInc75to100K",{"$f":"\"MOE \"&CR115","v":"MOE HHAgeHH25To44yrsHHInc75to100K"},"HHAgeHH25To44yrsHHInc100to125K",{"$f":"\"MOE \"&CT115","v":"MOE HHAgeHH25To44yrsHHInc100to125K"},"HHAgeHH25To44yrsHHInc125to150K",{"$f":"\"MOE \"&CV115","v":"MOE HHAgeHH25To44yrsHHInc125to150K"},"HHAgeHH25To44yrsHHInc150to200K",{"$f":"\"MOE \"&CX115","v":"MOE HHAgeHH25To44yrsHHInc150to200K"},"HHAge25To44yrsHHInc>200K",{"$f":"\"MOE \"&CZ115","v":"MOE HHAge25To44yrsHHInc>200K"},"HHAgeHH45To64yrs",{"$f":"\"MOE \"&DB115","v":"MOE HHAgeHH45To64yrs"},"HHAgeHH45To64yrsHHInc<10K",{"$f":"\"MOE \"&DD115","v":"MOE HHAgeHH45To64yrsHHInc<10K"},"HHAgeHH45To64yrsHHInc10to15K",{"$f":"\"MOE \"&DF115","v":"MOE HHAgeHH45To64yrsHHInc10to15K"},"HHAgeHH45To64yrsHHInc15to20K",{"$f":"\"MOE \"&DH115","v":"MOE HHAgeHH45To64yrsHHInc15to20K"},"HHAgeHH45To64yrsHHInc20to25K",{"$f":"\"MOE \"&DJ115","v":"MOE HHAgeHH45To64yrsHHInc20to25K"},"HHAgeHH45To64yrsHHInc25to30K",{"$f":"\"MOE \"&DL115","v":"MOE HHAgeHH45To64yrsHHInc25to30K"},"HHAgeHH45To64yrsHHInc30to35K",{"$f":"\"MOE \"&DN115","v":"MOE HHAgeHH45To64yrsHHInc30to35K"},"HHAgeHH45To64yrsHHInc35to40K",{"$f":"\"MOE \"&DP115","v":"MOE HHAgeHH45To64yrsHHInc35to40K"},"HHAgeHH45To64yrsHHInc40to45K",{"$f":"\"MOE \"&DR115","v":"MOE HHAgeHH45To64yrsHHInc40to45K"},"HHAgeHH45To64yrsHHInc45to50K",{"$f":"\"MOE \"&DT115","v":"MOE HHAgeHH45To64yrsHHInc45to50K"},"HHAgeHH45To64yrsHHInc50to60K",{"$f":"\"MOE \"&DV115","v":"MOE HHAgeHH45To64yrsHHInc50to60K"},"HHAgeHH45To64yrsHHInc60to75K",{"$f":"\"MOE \"&DX115","v":"MOE HHAgeHH45To64yrsHHInc60to75K"},"HHAgeHH45To64yrsHHInc75to100K",{"$f":"\"MOE \"&DZ115","v":"MOE HHAgeHH45To64yrsHHInc75to100K"},"HHAgeHH45To64yrsHHInc100to125K",{"$f":"\"MOE \"&EB115","v":"MOE HHAgeHH45To64yrsHHInc100to125K"},"HHAgeHH45To64yrsHHInc125to150K",{"$f":"\"MOE \"&ED115","v":"MOE HHAgeHH45To64yrsHHInc125to150K"},"HHAgeHH45To64yrsHHInc150to200K",{"$f":"\"MOE \"&EF115","v":"MOE HHAgeHH45To64yrsHHInc150to200K"},"HHAge45To64yrsHHInc>200K",{"$f":"\"MOE \"&EH115","v":"MOE HHAge45To64yrsHHInc>200K"},"HHAgeHH65yrsorOlder",{"$f":"\"MOE \"&EJ115","v":"MOE HHAgeHH65yrsorOlder"},"HHAgeHH65yrsorOlderHHInc<10K",{"$f":"\"MOE \"&EL115","v":"MOE HHAgeHH65yrsorOlderHHInc<10K"},"HHAgeHH65yrsorOlderHHInc10to15K",{"$f":"\"MOE \"&EN115","v":"MOE HHAgeHH65yrsorOlderHHInc10to15K"},"HHAgeHH65yrsorOlderHHInc15to20K",{"$f":"\"MOE \"&EP115","v":"MOE HHAgeHH65yrsorOlderHHInc15to20K"},"HHAgeHH65yrsorOlderHHInc20to25K",{"$f":"\"MOE \"&ER115","v":"MOE HHAgeHH65yrsorOlderHHInc20to25K"},"HHAgeHH65yrsorOlderHHInc25to30K",{"$f":"\"MOE \"&ET115","v":"MOE HHAgeHH65yrsorOlderHHInc25to30K"},"HHAgeHH65yrsorOlderHHInc30to35K",{"$f":"\"MOE \"&EV115","v":"MOE HHAgeHH65yrsorOlderHHInc30to35K"},"HHAgeHH65yrsorOlderHHInc35to40K",{"$f":"\"MOE \"&EX115","v":"MOE HHAgeHH65yrsorOlderHHInc35to40K"},"HHAgeHH65yrsorOlderHHInc40to45K",{"$f":"\"MOE \"&EZ115","v":"MOE HHAgeHH65yrsorOlderHHInc40to45K"},"HHAgeHH65yrsorOlderHHInc45to50K",{"$f":"\"MOE \"&FB115","v":"MOE HHAgeHH65yrsorOlderHHInc45to50K"},"HHAgeHH65yrsorOlderHHInc50to60K",{"$f":"\"MOE \"&FD115","v":"MOE HHAgeHH65yrsorOlderHHInc50to60K"},"HHAgeHH65yrsorOlderHHInc60to75K",{"$f":"\"MOE \"&FF115","v":"MOE HHAgeHH65yrsorOlderHHInc60to75K"},"HHAgeHH65yrsorOlderHHInc75to100K",{"$f":"\"MOE \"&FH115","v":"MOE HHAgeHH65yrsorOlderHHInc75to100K"},"HHAgeHH65yrsorOlderHHInc100to125K",{"$f":"\"MOE \"&FJ115","v":"MOE HHAgeHH65yrsorOlderHHInc100to125K"},"HHAgeHH65yrsorOlderHHInc125to150K",{"$f":"\"MOE \"&FL115","v":"MOE HHAgeHH65yrsorOlderHHInc125to150K"},"HHAgeHH65yrsorOlderHHInc150to200K",{"$f":"\"MOE \"&FN115","v":"MOE HHAgeHH65yrsorOlderHHInc150to200K"},"HHAge65yrsorOlderHHInc>200K",{"$f":"\"MOE \"&FP115","v":"MOE HHAge65yrsorOlderHHInc>200K"},"MedianHHInc",{"$f":"\"MOE \"&FR115","v":"MOE MedianHHInc"},"HH under 25 years",{"$f":"\"MOE \"&FT115","v":"MOE HH under 25 years"},"Householder 25 to 44 years",{"$f":"\"MOE \"&FV115","v":"MOE Householder 25 to 44 years"},"Householder 45 to 64 years",{"$f":"\"MOE \"&FX115","v":"MOE Householder 45 to 64 years"},"Householder 65 years and over",{"$f":"\"MOE \"&FZ115","v":"MOE Householder 65 years and over"}]
[{"$f":"VLOOKUP(DropDownList!$A$19,CntyQuery!$A$37:$II$47,A$1)","v":"Grafton County"},35111,637,1855,293,1740,285,3500,377.01060993027767,3568,360.22354170709053,5182,413.41746455610701,6579,456.11073216928366,4757,342,4404,353.42042951702723,1752,226,1774,235,58406,1682,75988,1509,52069,1481,31636,1124,29380,936,23011,884,34816,560,1534,300,391,183,108,73,144,121,137,96,171,116,63,59,26,31,70,59,124,95,150,129,84,54,31,32,32,44,0,27,0,27,3,5,9658,365,523,166,184,91,201,83,636,189,456,131,481,107,494,165,488,155,618,171,1055,204,968,192,1642,237,865,170,324,91,342,110,381,139,14936,355,584,127,497,136,363,123,643,155,686,167,538,121,625,120,894,202,687,151,1087,187,1670,224,2163,217,1510,262,1051,183,1024,156,914,185,8688,222,587,128,837,176,656,117,720,143,711,137,498,114,596,151,380,89,492,114,656,137,620,109,708,126,309,83,285,90,263,67,370,104,53386,1641,24430,5538,58047,1866,67729,3247,38081,1921]
[]
["Number of Households by Income"]
["NAME","HHIncLessThn10k",{"$f":"\"MOE \"&B119","v":"MOE HHIncLessThn10k"},"HHInc10to15K",{"$f":"\"MOE \"&D119","v":"MOE HHInc10to15K"},"HHInc15to25K",{"$f":"\"MOE \"&F119","v":"MOE HHInc15to25K"},"HHInc25to35K",{"$f":"\"MOE \"&H119","v":"MOE HHInc25to35K"},"HHInc35to50K",{"$f":"\"MOE \"&J119","v":"MOE HHInc35to50K"},"HHInc50to75K",{"$f":"\"MOE \"&L119","v":"MOE HHInc50to75K"},"HHInc75to100K",{"$f":"\"MOE \"&N119","v":"MOE HHInc75to100K"},"HHInc100to150K",{"$f":"\"MOE \"&P119","v":"MOE HHInc100to150K"},"HHInc150to200K",{"$f":"\"MOE \"&R119","v":"MOE HHInc150to200K"},"HHIncOver200K",{"$f":"\"MOE \"&T119","v":"MOE HHIncOver200K"}]
[{"$f":"VLOOKUP(DropDownList!$A$19,CntyQuery!$A$37:$II$47,A$1)","v":"Grafton County"},2085,281,1626,259,3500,396.40005045408355,3604,315.73406531446682,5494,468.59577462883721,6290,471.64075311618268,4544,369,4376,404.22394783090226,1629,180,1668,226,58406,1682,75988,1509,52069,1481,31636,1124,29380,936,23011,884]
[]
["POVERTY DATA"]
["NAME","TotalPop",{"$f":"\"MOE \"&B123","v":"MOE TotalPop"},"Total Individuals living in Poverty",{"$f":"\"MOE \"&D123","v":"MOE Total Individuals living in Poverty"},"Under 5 yrs.",{"$f":"\"MOE \"&F123","v":"MOE Under 5 yrs."},"5 to 17 yrs.",{"$f":"\"MOE \"&H123","v":"MOE 5 to 17 yrs."},"18 to 64 yrs.",{"$f":"\"MOE \"&J123","v":"MOE 18 to 64 yrs."},"65 to 74 yrs.",{"$f":"\"MOE \"&L123","v":"MOE 65 to 74 yrs."},"75 yrs. & Over",{"$f":"\"MOE \"&N123","v":"MOE 75 yrs. & Over"},"Total Individuals  Not living Poverty",{"$f":"\"MOE \"&P123","v":"MOE Total Individuals  Not living Poverty"},"Under 5 yrs.",{"$f":"\"MOE \"&R123","v":"MOE Under 5 yrs."},"5 to 17 yrs.",{"$f":"\"MOE \"&T123","v":"MOE 5 to 17 yrs."},"18 to 64 yrs.",{"$f":"\"MOE \"&V123","v":"MOE 18 to 64 yrs."},"65 to 74 yrs.",{"$f":"\"MOE \"&X123","v":"MOE 65 to 74 yrs."},"75 yrs. & Over",{"$f":"\"MOE \"&Z123","v":"MOE 75 yrs. & Over"},"Total HH",{"$f":"\"MOE \"&AB123","v":"MOE Total HH"},"Total Households Below Poverty",{"$f":"\"MOE \"&AD123","v":"MOE Total Households Below Poverty"},"Family Households in Poverty",{"$f":"\"MOE \"&AF123","v":"MOE Family Households in Poverty"},"Married Couple Fam HH",{"$f":"\"MOE \"&AH123","v":"MOE Married Couple Fam HH"},"Other Family",{"$f":"\"MOE \"&AJ123","v":"MOE Other Family"},"Male Head of Family HH no wife",{"$f":"\"MOE \"&AL123","v":"MOE Male Head of Family HH no wife"},"Female Head of Family HH no husband",{"$f":"\"MOE \"&AN123","v":"MOE Female Head of Family HH no husband"},"Non-Family HH",{"$f":"\"MOE \"&AP123","v":"MOE Non-Family HH"},"Non-Family Male HH",{"$f":"\"MOE \"&AR123","v":"MOE Non-Family Male HH"},"Non-Family Female HH",{"$f":"\"MOE \"&AT123","v":"MOE Non-Family Female HH"},"Total Households at or Above Poverty",{"$f":"\"MOE \"&AV123","v":"MOE Total Households at or Above Poverty"},"Family Households above Poverty",{"$f":"\"MOE \"&AX123","v":"MOE Family Households above Poverty"},"Married Couple Fam HH",{"$f":"\"MOE \"&AZ123","v":"MOE Married Couple Fam HH"},"Other Family",{"$f":"\"MOE \"&BB123","v":"MOE Other Family"},"Male Head of Family HH no wife",{"$f":"\"MOE \"&BD123","v":"MOE Male Head of Family HH no wife"},"Female Head of Family HH no husband",{"$f":"\"MOE \"&BF123","v":"MOE Female Head of Family HH no husband"},"Non-Family HH",{"$f":"\"MOE \"&BH123","v":"MOE Non-Family HH"},"Non-Family Male HH",{"$f":"\"MOE \"&BJ123","v":"MOE Non-Family Male HH"},"Non-Family Female HH",{"$f":"\"MOE \"&BL123","v":"MOE Non-Family Female HH"},"Married Couple with Children Below Poverty",{"$f":"\"MOE \"&BN123","v":"MOE Married Couple with Children Below Poverty"},"Male HH with children below poverty",{"$f":"\"MOE \"&BP123","v":"MOE Male HH with children below poverty"},"Female HH with children below poverty",{"$f":"\"MOE \"&BR123","v":"MOE Female HH with children below poverty"},"Married Couple with Children At or Above Poverty",{"$f":"\"MOE \"&BT123","v":"MOE Married Couple with Children At or Above Poverty"},"Male HH with children at or above poverty",{"$f":"\"MOE \"&BV123","v":"MOE Male HH with children at or above poverty"},"Female HH with children at or above poverty",{"$f":"\"MOE \"&BX123","v":"MOE Female HH with children at or above poverty"}]
[{"$f":"VLOOKUP(DropDownList!$A$19,CntyQuery!$A$37:$II$47,A$1)","v":"Grafton County"},1277667,434,107800,3560,9450,764.75159365639763,21307,1113.5299726545306,65484,1829.3941620110195,4983,458.11898017873045,6576,459.77820740004631,1169867,3570,59029,915.39062700029876,191702,2131.1527397162317,757603,2053.9109036177788,92481,541.67887165736863,71588,524.87046020899288,516845,1886,44672,1479,19305,1060,6385,522,12920,929,1944,357,10976,824,25367,1072,10823,777,14544,789,472173,2115,327939,2145,271030,2079,144234,2329,19028,825,37881,1251,144234,2329,69218,1458,75016,1585,3278,365,1534,283,10163,819,101321,1837,11301,679,22399,910]
[]
["Household Income By Tenure"]
["NAME","TotalOccHU",{"$f":"\"MOE \"&B127","v":"MOE TotalOccHU"},"OwnOccHU",{"$f":"\"MOE \"&D127","v":"MOE OwnOccHU"},"OOHUInc<5K",{"$f":"\"MOE \"&F127","v":"MOE OOHUInc<5K"},"OOHUInc5to10K",{"$f":"\"MOE \"&H127","v":"MOE OOHUInc5to10K"},"OOHUInc10to15K",{"$f":"\"MOE \"&J127","v":"MOE OOHUInc10to15K"},"OOHUInc15to20K",{"$f":"\"MOE \"&L127","v":"MOE OOHUInc15to20K"},"OOHUInc20to25K",{"$f":"\"MOE \"&N127","v":"MOE OOHUInc20to25K"},"OOHUInc25to35K",{"$f":"\"MOE \"&P127","v":"MOE OOHUInc25to35K"},"OOHUInc35to50K",{"$f":"\"MOE \"&R127","v":"MOE OOHUInc35to50K"},"OOHUInc50to75K",{"$f":"\"MOE \"&T127","v":"MOE OOHUInc50to75K"},"OOHUInc75to100K",{"$f":"\"MOE \"&V127","v":"MOE OOHUInc75to100K"},"OOHUInc100to150K",{"$f":"\"MOE \"&X127","v":"MOE OOHUInc100to150K"},"OOHUInc>150K",{"$f":"\"MOE \"&Z127","v":"MOE OOHUInc>150K"},"RentOccHU",{"$f":"\"MOE \"&AB127","v":"MOE RentOccHU"},"ROHUInc<5K",{"$f":"\"MOE \"&AD127","v":"MOE ROHUInc<5K"},"ROHUInc5to10K",{"$f":"\"MOE \"&AF127","v":"MOE ROHUInc5to10K"},"ROHUInc10to15K",{"$f":"\"MOE \"&AH127","v":"MOE ROHUInc10to15K"},"ROHUInc15to20K",{"$f":"\"MOE \"&AJ127","v":"MOE ROHUInc15to20K"},"ROHUInc20to25K",{"$f":"\"MOE \"&AL127","v":"MOE ROHUInc20to25K"},"ROHUInc25to35K",{"$f":"\"MOE \"&AN127","v":"MOE ROHUInc25to35K"},"ROHUInc35to50K",{"$f":"\"MOE \"&AP127","v":"MOE ROHUInc35to50K"},"ROHUInc50to75K",{"$f":"\"MOE \"&AR127","v":"MOE ROHUInc50to75K"},"ROHUInc75to100K",{"$f":"\"MOE \"&AT127","v":"MOE ROHUInc75to100K"},"ROHUInc100to150K",{"$f":"\"MOE \"&AV127","v":"MOE ROHUInc100to150K"},"ROHUInc>150K",{"$f":"\"MOE \"&AX127","v":"MOE ROHUInc>150K"},"Total OCC HUInc<5K",{"$f":"\"MOE \"&AZ127","v":"MOE Total OCC HUInc<5K"},"Total OCC HUInc5to10K",{"$f":"\"MOE \"&BB127","v":"MOE Total OCC HUInc5to10K"},"Total OCC HUInc10to15K",{"$f":"\"MOE \"&BD127","v":"MOE Total OCC HUInc10to15K"},"Total OCC HUInc15to20K",{"$f":"\"MOE \"&BF127","v":"MOE Total OCC HUInc15to20K"},"Total OCC HUInc20to25K",{"$f":"\"MOE \"&BH127","v":"MOE Total OCC HUInc20to25K"},"Total OCC HUInc25to35K",{"$f":"\"MOE \"&BJ127","v":"MOE Total OCC HUInc25to35K"},"Total OCC HUInc35to50K",{"$f":"\"MOE \"&BL127","v":"MOE Total OCC HUInc35to50K"},"Total OCC HUInc50to75K",{"$f":"\"MOE \"&BN127","v":"MOE Total OCC HUInc50to75K"},"Total OCC HUInc75to100K",{"$f":"\"MOE \"&BP127","v":"MOE Total OCC HUInc75to100K"},"Total OCC HUInc100to150K",{"$f":"\"MOE \"&BR127","v":"MOE Total OCC HUInc100to150K"},"Total OCC HUInc>150K",{"$f":"\"MOE \"&BT127","v":"MOE Total OCC HUInc>150K"},"MedHHInc",{"$f":"\"MOE \"&BV127","v":"MOE MedHHInc"},"MedOwnOccHHInc",{"$f":"\"MOE \"&BX127","v":"MOE MedOwnOccHHInc"},"MedRentOccHHInc",{"$f":"\"MOE \"&BZ127","v":"MOE MedRentOccHHInc"}]
[{"$f":"VLOOKUP(DropDownList!$A$19,CntyQuery!$A$37:$II$47,A$1)","v":"Grafton County"},34498,671,24220,555,401,103,401,105,805,181,816,147,1144,204,2184,246,3654,272,4892,361,3513,299,3808,328,2602,289,10278,620,604,174,532,161,754,141,506,166,933,236,1580,293,1843,271,1808,315,887,221,493,165,338,148,1005,202.20039564748632,933,192.21342304844373,1559,229.43844490407443,1322,221.73181999884454,2077,311.94871373352385,3764,382.57678967757573,5497,383.95963329495981,6700,479.10959080360726,4400,371.80909079795236,4301,367.16345134013545,2940,324.69216190108438,53386,1641,64499,2305,36811,2148]
[]
["Population Data"]
["NAME","Total Population","MOE Total Population","Under 15 Years","MOE Under 15 yrs.","15 to 24 yrs.","MOE 15 to 24 yrs.","25 to 34 yrs.","MOE 25 to 34 yrs.","35 to 44 yrs.","MOE 35 to 44 yrs.","45 to 54 yrs.","MOE 45 to 54 yrs.","55 to 64 yrs.","MOE 55 to 64 yrs.","65 to 74 yrs.","MOE 65 to 74 yrs.","Over 74 yrs. ","MOE Over 74 yrs. ","TotalHH","MOE TotalHH","FamilyHH","MOE FamilyHH","MarriedFamilyHH","MOE MarriedFamilyHH","SingleFamilyHH","MOE SingleFamilyHH","Sfamily-MaleHH","MOE Sfamily-MaleHH","Sfamily-FemaleHH","MOE Sfamily-FemaleHH","NonFamilyHH","MOE NonFamilyHH","NonFamilyHH-LivingAlone","MOE NonFamilyHH-LivingAlone","NonFamilyHH-NotLivingAlone","MOE NonFamilyHH-NotLivingAlone","PopRaceWhite","MOE PopRaceWhite","PopRaceBlack","MOE PopRaceBlack","PopRaceAmerican Indian","MOE PopRaceAmerican Indian","PopRaceAsian &Pacific Is.","MOE PopRaceAsian &Pacific Is.","PopRaceOther*","MOE PopRaceOther*","PopRaceHispanic or Latino:","MOE PopRaceHispanic or Latino:","MedianAgeTotalPop","MOE MedianAgeTotalPop","MedianAgeMale","MOE MedianAgeMale","MedianAgeFemale","MOE MedianAgeFemale","AvgHHSizeTotal","MOE AvgHHSizeTotal","AvgHHSizeFamilyHH","MOE AvgHHSizeFamilyHH","AvgHHSizeNonFamilyHH","MOE AvgHHSizeNonFamilyHH"]
[{"$f":"VLOOKUP(DropDownList!$A$19,CntyQuery!$A$37:$II$47,A$1)","v":"Grafton County"},1315911,"*****",235048,2140.2787201670722,179443,1753.6978074913591,144004,475.94012228430586,185779,1952.0584007657149,223299,410.42173431727514,173170,1840.2869341491289,94294,1426.8878722590644,80874,1461.854301905631,514869,1627,348040,2246,279173,2139,68867,1758,20935,1007,47932,1463,166829,2174,128449,2134,38380,1332,1216365,523,13668,528,2258,273,27940,755.24631743557677,19228,1038.7863110380306,36452,"*****",40.700000000000003,0.2,40,0.1,41.6,0.1,2.4785372589920933,0.01,3.0478278358809332,2.1713848056152642E-2,1.2908786841616267,2.5521700324385565E-2]
[]
["Nativity and Prior Place of Residence"]
["NAME","TotalPop",{"$f":"\"MOE \"&B135","v":"MOE TotalPop"},"Native:",{"$f":"\"MOE \"&D135","v":"MOE Native:"},"NatBornInStateOfResidence",{"$f":"\"MOE \"&F135","v":"MOE NatBornInStateOfResidence"},"Born in other state in the United States:",{"$f":"\"MOE \"&H135","v":"MOE Born in other state in the United States:"},"Northeast",{"$f":"\"MOE \"&J135","v":"MOE Northeast"},"Midwest",{"$f":"\"MOE \"&L135","v":"MOE Midwest"},"South",{"$f":"\"MOE \"&N135","v":"MOE South"},"West",{"$f":"\"MOE \"&P135","v":"MOE West"},"Born outside the United States:",{"$f":"\"MOE \"&R135","v":"MOE Born outside the United States:"},"Puerto Rico",{"$f":"\"MOE \"&T135","v":"MOE Puerto Rico"},"U.S. Island Areas",{"$f":"\"MOE \"&V135","v":"MOE U.S. Island Areas"},"Born abroad of American parent(s)",{"$f":"\"MOE \"&X135","v":"MOE Born abroad of American parent(s)"},"Foreign born:",{"$f":"\"MOE \"&Z135","v":"MOE Foreign born:"},"Naturalized U.S. citizen",{"$f":"\"MOE \"&AB135","v":"MOE Naturalized U.S. citizen"},"Not a U.S. citizen",{"$f":"\"MOE \"&AD135","v":"MOE Not a U.S. citizen"},"CurrentResideneTotal:",{"$f":"\"MOE \"&AF135","v":"MOE CurrentResideneTotal:"},"SameHouse:",{"$f":"\"MOE \"&AH135","v":"MOE SameHouse:"},"DifferentHouse:",{"$f":"\"MOE \"&AJ135","v":"MOE DifferentHouse:"},"DiffHouseInNH",{"$f":"\"MOE \"&AL135","v":"MOE DiffHouseInNH"},"DiffHouseInNHSameCnty",{"$f":"\"MOE \"&AN135","v":"MOE DiffHouseInNHSameCnty"},"DiffHouseInNHDiffCnty",{"$f":"\"MOE \"&AP135","v":"MOE DiffHouseInNHDiffCnty"},"DiffHouseInDiffState",{"$f":"\"MOE \"&AR135","v":"MOE DiffHouseInDiffState"},"DiffHouseInElsewhere",{"$f":"\"MOE \"&AT135","v":"MOE DiffHouseInElsewhere"}]
[{"$f":"VLOOKUP(DropDownList!$A$19,CntyQuery!$A$37:$II$47,A$1)","v":"Grafton County"},1317474,"*****",1247849,1688,555389,4234,678644,4187,545653,3913,44536,1507,54290,1626,34165,1648,13816,799,3262,495,277,100,10277,616,69625,1688,36226,1258,33399,1466,1305180,615,1131646,4092,173534,4405.3974849041715,125688,4006.0616570392422,94280,3537,31408,1881,42232,1714,5614,649]
[]
["School Attainment & Enrollment"]
["NAME","Total Pop 3 Years and Older","MOE Total Pop 3 Years and Older","P36SchEnrlPop3yrOver",{"$f":"\"MOE \"&D139","v":"MOE P36SchEnrlPop3yrOver"},"TotalEnrollNursy&Kinder",{"$f":"\"MOE \"&F139","v":"MOE TotalEnrollNursy&Kinder"},"P36NurserSchEnrl",{"$f":"\"MOE \"&H139","v":"MOE P36NurserSchEnrl"},"P36KinderSchEnrl",{"$f":"\"MOE \"&J139","v":"MOE P36KinderSchEnrl"},"P36ElemSchEnrl",{"$f":"\"MOE \"&L139","v":"MOE P36ElemSchEnrl"},"P36HighSchEnrl",{"$f":"\"MOE \"&N139","v":"MOE P36HighSchEnrl"},"TotalElementry&HSEnroll",{"$f":"\"MOE \"&P139","v":"MOE TotalElementry&HSEnroll"},"P36CollGradSchEnrl",{"$f":"\"MOE \"&R139","v":"MOE P36CollGradSchEnrl"},"PopNotEnrolled","MOE PopNotEnrolled","P37Pop25yrsOver",{"$f":"\"MOE \"&V139","v":"MOE P37Pop25yrsOver"},"P37EduAtain<9grd",{"$f":"\"MOE \"&X139","v":"MOE P37EduAtain<9grd"},"P37EduAtainHSnoDip",{"$f":"\"MOE \"&Z139","v":"MOE P37EduAtainHSnoDip"},"P37EduAtainHSgrad",{"$f":"\"MOE \"&AB139","v":"MOE P37EduAtainHSgrad"},"P37EduAtainCollNoDeg",{"$f":"\"MOE \"&AD139","v":"MOE P37EduAtainCollNoDeg"},"P37EduAtainAssocDeg",{"$f":"\"MOE \"&AF139","v":"MOE P37EduAtainAssocDeg"},"P37EduAtainBachDeg",{"$f":"\"MOE \"&AH139","v":"MOE P37EduAtainBachDeg"},"P37EduAtainGradProfDeg",{"$f":"\"MOE \"&AJ139","v":"MOE P37EduAtainGradProfDeg"}]
[{"$f":"VLOOKUP(DropDownList!$A$19,CntyQuery!$A$37:$II$47,A$1)","v":"Grafton County"},1275668,908,332571,1908,34659,1087.5890768116421,19421,711,15238,823,132395,1911.4353245663324,74394,982,206789,2148.9320603499777,91123,1691.6855499767089,943097,1861,901420,476,21345,1056.5292234481733,53236,1532.8662694442721,266108,3080.5994546516431,171847,2488.1378579170409,85948,1909.9426692966467,189486,2685.7140577507503,58215,1486.7511560446153]
[]
["Occupied Owner Housing Value"]
["NAME","Estimate; Total:","Margin of Error; Total:","Estimate; Total: - Less than $10,000","Margin of Error; Total: - Less than $10,000","Estimate; Total: - $10,000 to $14,999","Margin of Error; Total: - $10,000 to $14,999","Estimate; Total: - $15,000 to $19,999","Margin of Error; Total: - $15,000 to $19,999","Estimate; Total: - $20,000 to $24,999","Margin of Error; Total: - $20,000 to $24,999","Estimate; Total: - $25,000 to $29,999","Margin of Error; Total: - $25,000 to $29,999","Estimate; Total: - $30,000 to $34,999","Margin of Error; Total: - $30,000 to $34,999","Estimate; Total: - $35,000 to $39,999","Margin of Error; Total: - $35,000 to $39,999","Estimate; Total: - $40,000 to $49,999","Margin of Error; Total: - $40,000 to $49,999","Estimate; Total: - $50,000 to $59,999","Margin of Error; Total: - $50,000 to $59,999","Estimate; Total: - $60,000 to $69,999","Margin of Error; Total: - $60,000 to $69,999","Estimate; Total: - $70,000 to $79,999","Margin of Error; Total: - $70,000 to $79,999","Estimate; Total: - $80,000 to $89,999","Margin of Error; Total: - $80,000 to $89,999","Estimate; Total: - $90,000 to $99,999","Margin of Error; Total: - $90,000 to $99,999","Estimate; Total: - $100,000 to $124,999","Margin of Error; Total: - $100,000 to $124,999","Estimate; Total: - $125,000 to $149,999","Margin of Error; Total: - $125,000 to $149,999","Estimate; Total: - $150,000 to $174,999","Margin of Error; Total: - $150,000 to $174,999","Estimate; Total: - $175,000 to $199,999","Margin of Error; Total: - $175,000 to $199,999","Estimate; Total: - $200,000 to $249,999","Margin of Error; Total: - $200,000 to $249,999","Estimate; Total: - $250,000 to $299,999","Margin of Error; Total: - $250,000 to $299,999","Estimate; Total: - $300,000 to $399,999","Margin of Error; Total: - $300,000 to $399,999","Estimate; Total: - $400,000 to $499,999","Margin of Error; Total: - $400,000 to $499,999","Estimate; Total: - $500,000 to $749,999","Margin of Error; Total: - $500,000 to $749,999","Estimate; Total: - $750,000 to $999,999","Margin of Error; Total: - $750,000 to $999,999","Estimate; Total: - $1,000,000 to $1,499,999","Margin of Error; Total: - $1,000,000 to $1,499,999","Estimate; Total: - $1,500,000 to $1,999,999","Margin of Error; Total: - $1,500,000 to $1,999,999","Estimate; Total: - $2,000,000 or more","Margin of Error; Total: - $2,000,000 or more","MedianOwnOCCHomeValue","MOE MedianOwnOCCHomeValue","OnwerOccHsU","MOE OnwerOccHsU","OwnerCosts>20PctHHInc","MOE OwnerCosts>20PctHHInc","OwnerCosts20to29.9PctHHInc","MOE OwnerCosts20to29.9PctHHInc","OwnerCosts<30PctHHInc","MOE OwnerCosts<30PctHHInc","OwnerCosts>30PctHHInc","MOE OwnerCosts>30PctHHInc","OwnerCosts30to34.9PctHHInc","MOE OwnerCosts30to34.9PctHHInc","OwnerCosts<35PctHHInc","MOE OwnerCosts<35PctHHInc","OwnerCosts>35PctHHInc","MOE OwnerCosts>35PctHHInc","OwnerCosts>50PctHHInc","MOE OwnerCosts>50PctHHInc","OwnerCostsPctNotcomputed","MOE OwnerCostsPctNotcomputed","OwnerOHUHhInc<20k","MOE OwnerOHUHhInc<20k","OwnerOHUHhInc<20kHCosts<20pct","MOE OwnerOHUHhInc<20kHCosts<20pct","OwnerOHUHhInc<20kHCosts20to29pct","MOE OwnerOHUHhInc<20kHCosts20to29pct","OwnerOHUHhInc>20kHCosts30pct","MOE OwnerOHUHhInc>20kHCosts30pct","OwnerOHUHhInc20kTo34999","MOE OwnerOHUHhInc20kTo34999","OwnerOHUHhInc20kTo34999HCosts<20pct","MOE OwnerOHUHhInc20kTo34999HCosts<20pct","OwnerOHUHhInc20kTo34999HCosts20to29pct","MOE OwnerOHUHhInc20kTo34999HCosts20to29pct","OwnerOHUHhInc20kTo34999HCosts30pct","MOE OwnerOHUHhInc20kTo34999HCosts30pct","OwnerOHUHhInc35kTo49999","MOE OwnerOHUHhInc35kTo49999","OwnerOHUHhInc35kTo49999HCosts<20pct","MOE OwnerOHUHhInc35kTo49999HCosts<20pct","OwnerOHUHhInc35kTo49999HCosts20to29pct","MOE OwnerOHUHhInc35kTo49999HCosts20to29pct","OwnerOHUHhInc35kTo49999HCosts30pct","MOE OwnerOHUHhInc35kTo49999HCosts30pct","OwnerOHUHhInc50kTo74999","MOE OwnerOHUHhInc50kTo74999","OwnerOHUHhInc50kTo74999HCosts<20pct","MOE OwnerOHUHhInc50kTo74999HCosts<20pct","OwnerOHUHhInc50kTo74999HCosts20to29pct","MOE OwnerOHUHhInc50kTo74999HCosts20to29pct","OwnerOHUHhInc50kTo74999HCosts30pct","MOE OwnerOHUHhInc50kTo74999HCosts30pct","OwnerOHUHhInc>75000","MOE OwnerOHUHhInc>75000","OwnerOHUHhInc>75000HCosts<20pct","MOE OwnerOHUHhInc>75000HCosts<20pct","OwnerOHUHhInc>75000HCosts20to29pct","MOE OwnerOHUHhInc>75000HCosts20to29pct","OwnerOHUHhInc>75000HCosts30pct","MOE OwnerOHUHhInc>75000HCosts30pct","ZeroOrNegativeIncome","MOE ZeroOrNegativeIncome"]
[{"$f":"VLOOKUP(DropDownList!$A$19,CntyQuery!$A$37:$II$47,A$1)","v":"Grafton County"},372021,2148,1581,249,1978,261,2416,312,2509,258,2178,249,1753,281,1274,239,2961,305,2820,292,2460,337,3699,318,4545,374,4342,378,13784,674,15695,858,28275,957,30413,1205,69457,1385,61728,1460,65946,1167,25516,1049,17350,768,4779,370,4562,367,null,null,null,null,245600,1111,372021,2148,140167,2289.5359791887963,100733,1901.4447138952005,240900,2976.1496938158202,129504,2269.2333507156113,32236,1181.1134577169121,273136,3201.9519046981327,97268,1937.6250927359504,45940,1263.9481793174909,1617,284.42925306655786,23863,963,1028,233,1610,223,21225,915,36940,1186,4477,397,7666,604,24797,982,41706,1234,9533,619,10172,559,22001,842,70085,1505,21664,817,17338,800,31083,1070,197810,2111,103465,1725,63947,1367,30398,1034,1617,298,144824,1991]
[]
["Occupied Rental Housing Value"]
["NAME","RntrOccHU","MOE RntrOccHU","RntrOccHUwRent","MOE RntrOccHUwRent","ROHUGRent<100","MOE ROHUGRent<100","ROHUGRent100to149","MOE ROHUGRent100to149","ROHUGRent150to199","MOE ROHUGRent150to199","ROHUGRent200to249","MOE ROHUGRent200to249","ROHUGRent250to299","MOE ROHUGRent250to299","ROHUGRent300to349","MOE ROHUGRent300to349","ROHUGRent350to399","MOE ROHUGRent350to399","ROHUGRent400to449","MOE ROHUGRent400to449","ROHUGRent450to499","MOE ROHUGRent450to499","ROHUGRent500to549","MOE ROHUGRent500to549","ROHUGRent550to599","MOE ROHUGRent550to599","ROHUGRent600to649","MOE ROHUGRent600to649","ROHUGRent650to699","MOE ROHUGRent650to699","ROHUGRent700to749","MOE ROHUGRent700to749","ROHUGRent750to799","MOE ROHUGRent750to799","ROHUGRent800to899","MOE ROHUGRent800to899","ROHUGRent900to999","MOE ROHUGRent900to999","ROHUGRent1000to1249","MOE ROHUGRent1000to1249","ROHUGRent1250to1499","MOE ROHUGRent1250to1499","ROHUGRent1500to1999","MOE ROHUGRent1500to1999","ROHUGRent$2,000 to $2,499","MOE ROHUGRent$2,000 to $2,499","ROHUGRent$2,500 to $2,999","MOE ROHUGRent$2,500 to $2,999","ROHUGRent$3,000 to $3,499","MOE ROHUGRent$3,000 to $3,499","ROHUGRent$3,500 or more","MOE ROHUGRent$3,500 or more","ROHUNoGRent","MOE ROHUNoGRent","MedianGrossRnt","MOE MedianGrossRnt","H73RenterOccHU","MOE H73RenterOccHU","H73ROHUHhInc<10k","MOE H73ROHUHhInc<10k","H73ROHUHhInc<10kRnt<20pct","MOE H73ROHUHhInc<10kRnt<20pct","H73ROHUHhInc<10kRnt20to25pct","MOE H73ROHUHhInc<10kRnt20to25pct","H73ROHUHhInc<10kRnt25to30pct","MOE H73ROHUHhInc<10kRnt25to30pct","H73ROHUHhInc<10kRnt30to35pct","MOE H73ROHUHhInc<10kRnt30to35pct","H73ROHUHhInc<10kRnt35to39.9","MOE H73ROHUHhInc<10kRnt35to39.9","H73ROHUHhInc<10kRnt40to49.9","MOE H73ROHUHhInc<10kRnt40to49.9","H73ROHUHhInc<10kRnt>50pct","MOE H73ROHUHhInc<10kRnt>50pct","H73ROHUHhInc<10kPctNotComput","MOE H73ROHUHhInc<10kPctNotComput","H73ROHUHhInc10to20k","MOE H73ROHUHhInc10to20k","H73ROHUHhInc10to20kRnt<20pct","MOE H73ROHUHhInc10to20kRnt<20pct","H73ROHUHhInc10to20kRnt20to25pct","MOE H73ROHUHhInc10to20kRnt20to25pct","H73ROHUHhInc10to20kRnt25to30pct","MOE H73ROHUHhInc10to20kRnt25to30pct","H73ROHUHhInc10to20kRnt30to35pct","MOE H73ROHUHhInc10to20kRnt30to35pct","H73ROHUHhInc10to20kRnt35to39.9","MOE H73ROHUHhInc10to20kRnt35to39.9","H73ROHUHhInc10to20kRnt40to49.9","MOE H73ROHUHhInc10to20kRnt40to49.9","H73ROHUHhInc10to20kRnt>50pct","MOE H73ROHUHhInc10to20kRnt>50pct","H73ROHUHhInc10to20kRntPctNC","MOE H73ROHUHhInc10to20kRntPctNC","H73ROHUHhInc20to34.9k","MOE H73ROHUHhInc20to34.9k","H73ROHUHhInc20to34.9kRnt<20pct","MOE H73ROHUHhInc20to34.9kRnt<20pct","H73ROHUHhInc20to34.9kRnt20to25pct","MOE H73ROHUHhInc20to34.9kRnt20to25pct","H73ROHUHhInc20to34.9kRnt25to30pct","MOE H73ROHUHhInc20to34.9kRnt25to30pct","H73ROHUHhInc20to34.9kRnt30to35pct","MOE H73ROHUHhInc20to34.9kRnt30to35pct","H73ROHUHhInc20to34.9kRnt35to39.9","MOE H73ROHUHhInc20to34.9kRnt35to39.9","H73ROHUHhInc20to34.9kRnt40to49.9","MOE H73ROHUHhInc20to34.9kRnt40to49.9","H73ROHUHhInc20to34.9kRnt>50pct","MOE H73ROHUHhInc20to34.9kRnt>50pct","H73ROHUHhInc20to34.9kRntPctNC","MOE H73ROHUHhInc20to34.9kRntPctNC","H73ROHUHhInc35to49.9k","MOE H73ROHUHhInc35to49.9k","H73ROHUHhInc35to49.9kRnt<20pct","MOE H73ROHUHhInc35to49.9kRnt<20pct","H73ROHUHhInc35to49.9kRnt20to25pct","MOE H73ROHUHhInc35to49.9kRnt20to25pct","H73ROHUHhInc35to49.9kRnt25to30pct","MOE H73ROHUHhInc35to49.9kRnt25to30pct","H73ROHUHhInc35to49.9kRnt30to35pct","MOE H73ROHUHhInc35to49.9kRnt30to35pct","H73ROHUHhInc35to49.9kRnt35to39.9","MOE H73ROHUHhInc35to49.9kRnt35to39.9","H73ROHUHhInc35to49.9kRnt40to49.9","MOE H73ROHUHhInc35to49.9kRnt40to49.9","H73ROHUHhInc35to49.9kRnt>50pct","MOE H73ROHUHhInc35to49.9kRnt>50pct","H73ROHUHhInc35to49.9kRntPctNC","MOE H73ROHUHhInc35to49.9kRntPctNC","H73ROHUHhInc50to74.9k","MOE H73ROHUHhInc50to74.9k","H73ROHUHhInc50to74.9kRnt<20pct","MOE H73ROHUHhInc50to74.9kRnt<20pct","H73ROHUHhInc50to74.9kRnt20to25pct","MOE H73ROHUHhInc50to74.9kRnt20to25pct","H73ROHUHhInc50to74.9kRnt25to30pct","MOE H73ROHUHhInc50to74.9kRnt25to30pct","H73ROHUHhInc50to74.9kRnt30to35pct","MOE H73ROHUHhInc50to74.9kRnt30to35pct","H73ROHUHhInc50to74.9kRnt35to39.9","MOE H73ROHUHhInc50to74.9kRnt35to39.9","H73ROHUHhInc50to74.9kRnt40to49.9","MOE H73ROHUHhInc50to74.9kRnt40to49.9","H73ROHUHhInc50to74.9kRnt>50pct","MOE H73ROHUHhInc50to74.9kRnt>50pct","H73ROHUHhInc50to74.9kRntPctNC","MOE H73ROHUHhInc50to74.9kRntPctNC","H73ROHUHhInc75to99.9k","MOE H73ROHUHhInc75to99.9k","H73ROHUHhInc75to99.9kRnt<20pct","MOE H73ROHUHhInc75to99.9kRnt<20pct","H73ROHUHhInc75to99.9kRnt20to25pct","MOE H73ROHUHhInc75to99.9kRnt20to25pct","H73ROHUHhInc75to99.9kRnt25to30pct","MOE H73ROHUHhInc75to99.9kRnt25to30pct","H73ROHUHhInc75to99.9kRnt30to35pct","MOE H73ROHUHhInc75to99.9kRnt30to35pct","H73ROHUHhInc75to99.9kRnt35to39.9","MOE H73ROHUHhInc75to99.9kRnt35to39.9","H73ROHUHhInc75to99.9kRnt40to49.9","MOE H73ROHUHhInc75to99.9kRnt40to49.9","H73ROHUHhInc75to99.9kRnt>50pct","MOE H73ROHUHhInc75to99.9kRnt>50pct","H73ROHUHhInc75to99.9kRntPctNC","MOE H73ROHUHhInc75to99.9kRntPctNC","H73ROHUHhInc>100k","MOE H73ROHUHhInc>100k","H73ROHUHhInc>100kRnt<20pct","MOE H73ROHUHhInc>100kRnt<20pct","H73ROHUHhInc>100kRnt20to25pct","MOE H73ROHUHhInc>100kRnt20to25pct","H73ROHUHhInc>100kRnt25to30pct","MOE H73ROHUHhInc>100kRnt25to30pct","H73ROHUHhInc>100kRnt30to35pct","MOE H73ROHUHhInc>100kRnt30to35pct","H73ROHUHhInc>100kRnt35to39.9","MOE H73ROHUHhInc>100kRnt35to39.9","H73ROHUHhInc>100kRnt40to49.9","MOE H73ROHUHhInc>100kRnt40to49.9","H73ROHUHhInc>100kRnt>50pct","MOE H73ROHUHhInc>100kRnt>50pct","H73ROHUHhInc>100kRntPctNC","MOE H73ROHUHhInc>100kRntPctNC"]
[{"$f":"VLOOKUP(DropDownList!$A$19,CntyQuery!$A$37:$II$47,A$1)","v":"Grafton County"},141527,1994,135132,2027,408,179,377,100,2133,360,2570,331,2352,335,2365,331,1779,295,1912,325,1790,261,2651,367,2894,341,3741,524,4516,592,5656,503,7252,622,15652,879,16861,1054,30529,960,14224,952,11524,712,3946,443,null,null,null,null,null,null,6395,538,956,7,141527,1994,14734,908,242,110,287,163,1078,244,555,172,9552,777,null,null,null,null,3020,484,22816,992,1074,210,1663,279,2224,281,1497,253,15176,975,null,null,null,null,1182,214,30819,1486,1425,249,1288,249,3326,458,4714,507,18740,1051,null,null,null,null,1326,220,23961,1051,2366,427,5024,454,5584,541,4340,445,5799,542,null,null,null,null,848,177,25623,1212,9423,766,7392,677,4296,548,2103,324,1600,308,null,null,null,null,809,197,12230,713,8017,547,2374,298,877,198,350,143,165,79,null,null,null,null,447,142,11344,741,9548,707,839,209,205,98,30,47,62,47,null,null,null,null,660,172]
[]
[]
[]
[]
[]
["Occupied Rental Housing Cost Burdern All Incomes"]
["NAME","RenterOccHsU",{"$f":"\"MOE \"&B155","v":"MOE RenterOccHsU"},"GRnt<20PctHHInc",{"$f":"\"MOE \"&D155","v":"MOE GRnt<20PctHHInc"},"GRnt20to249PctHHInc",{"$f":"\"MOE \"&F155","v":"MOE GRnt20to249PctHHInc"},"GRnt25to29.9PctHHInc",{"$f":"\"MOE \"&H155","v":"MOE GRnt25to29.9PctHHInc"},"GRnt<30PctHHInc",{"$f":"\"MOE \"&J155","v":"MOE GRnt<30PctHHInc"},"GRnt>30PctHHInc",{"$f":"\"MOE \"&L155","v":"MOE GRnt>30PctHHInc"},"GRnt30to349PctHHInc",{"$f":"\"MOE \"&N155","v":"MOE GRnt30to349PctHHInc"},"GRnt<35PctHHInc",{"$f":"\"MOE \"&P155","v":"MOE GRnt<35PctHHInc"},"GRnt>35PctHHInc",{"$f":"\"MOE \"&R155","v":"MOE GRnt>35PctHHInc"},"GRnt>50PctHHInc",{"$f":"\"MOE \"&T155","v":"MOE GRnt>50PctHHInc"},"HCB Not Calculated",{"$f":"\"MOE \"&V155","v":"MOE HCB Not Calculated"}]
[{"$f":"VLOOKUP(DropDownList!$A$19,CntyQuery!$A$37:$II$47,A$1)","v":"Grafton County"},141527,1994,4190,503,10197,742,17708,1036,18867,922,17590,944,13589,854,8875,693,12387,882,29832,1075,8292,628]
[]
["Income By Household Type and Tenure"]
["NAME","TotalFamilyHouseholds",{"$f":"\"MOE \"&B159","v":"MOE TotalFamilyHouseholds"},"FamInc<10K",{"$f":"\"MOE \"&D159","v":"MOE FamInc<10K"},"FamInc10to15K",{"$f":"\"MOE \"&F159","v":"MOE FamInc10to15K"},"FamInc15to20K",{"$f":"\"MOE \"&H159","v":"MOE FamInc15to20K"},"FamInc20to25K",{"$f":"\"MOE \"&J159","v":"MOE FamInc20to25K"},"FamInc25to30K",{"$f":"\"MOE \"&L159","v":"MOE FamInc25to30K"},"FamInc30to35K",{"$f":"\"MOE \"&N159","v":"MOE FamInc30to35K"},"FamInc35to40K",{"$f":"\"MOE \"&P159","v":"MOE FamInc35to40K"},"FamInc40to45K",{"$f":"\"MOE \"&R159","v":"MOE FamInc40to45K"},"FamInc45to50K",{"$f":"\"MOE \"&T159","v":"MOE FamInc45to50K"},"FamInc50to60K",{"$f":"\"MOE \"&V159","v":"MOE FamInc50to60K"},"FamInc60to75K",{"$f":"\"MOE \"&X159","v":"MOE FamInc60to75K"},"FamInc75to100K",{"$f":"\"MOE \"&Z159","v":"MOE FamInc75to100K"},"FamInc100to125K",{"$f":"\"MOE \"&AB159","v":"MOE FamInc100to125K"},"FamInc125to150K",{"$f":"\"MOE \"&AD159","v":"MOE FamInc125to150K"},"FamInc150to200K",{"$f":"\"MOE \"&AF159","v":"MOE FamInc150to200K"},"FamInc>200K",{"$f":"\"MOE \"&AH159","v":"MOE FamInc>200K"},"MedFamInc",{"$f":"\"MOE \"&AJ159","v":"MOE MedFamInc"},"TotalNonNonFamilyHouseholds",{"$f":"\"MOE \"&AL159","v":"MOE TotalNonNonFamilyHouseholds"},"NonFamInc<10K",{"$f":"\"MOE \"&AN159","v":"MOE NonFamInc<10K"},"NonFamInc10to15K",{"$f":"\"MOE \"&AP159","v":"MOE NonFamInc10to15K"},"NonFamInc15to20K",{"$f":"\"MOE \"&AR159","v":"MOE NonFamInc15to20K"},"NonFamInc20to25K",{"$f":"\"MOE \"&AT159","v":"MOE NonFamInc20to25K"},"NonFamInc25to30K",{"$f":"\"MOE \"&AV159","v":"MOE NonFamInc25to30K"},"NonFamInc30to35K",{"$f":"\"MOE \"&AX159","v":"MOE NonFamInc30to35K"},"NonFamInc35to40K",{"$f":"\"MOE \"&AZ159","v":"MOE NonFamInc35to40K"},"NonFamInc40to45K",{"$f":"\"MOE \"&BB159","v":"MOE NonFamInc40to45K"},"NonFamInc45to50K",{"$f":"\"MOE \"&BD159","v":"MOE NonFamInc45to50K"},"NonFamInc50to60K",{"$f":"\"MOE \"&BF159","v":"MOE NonFamInc50to60K"},"NonFamInc60to75K",{"$f":"\"MOE \"&BH159","v":"MOE NonFamInc60to75K"},"NonFamInc75to100K",{"$f":"\"MOE \"&BJ159","v":"MOE NonFamInc75to100K"},"NonFamInc100to125K",{"$f":"\"MOE \"&BL159","v":"MOE NonFamInc100to125K"},"NonFamInc125to150K",{"$f":"\"MOE \"&BN159","v":"MOE NonFamInc125to150K"},"NonFamInc150to200K",{"$f":"\"MOE \"&BP159","v":"MOE NonFamInc150to200K"},"NonFamInc>200K",{"$f":"\"MOE \"&BR159","v":"MOE NonFamInc>200K"},"MedNonFamInc",{"$f":"\"MOE \"&BT159","v":"MOE MedNonFamInc"}]
[{"$f":"VLOOKUP(DropDownList!$A$19,CntyQuery!$A$37:$II$47,A$1)","v":"Grafton County"},21853,561,664,156,325,113,433,97,769,143,1149,189,795,140,1200,233,1136,218,1099,196,1832,257,2416,269,3466,311,2307,300,1444,206,1335,162,1483,216,69244,2284,12963,660,1565,255,1370,239,965,225,1394,267,1003,207,759,124,596,160,666,151,824,209,1089,233,896,196,814,190,381,120,184,82,276,109,181,65,31165,1874]

{"sheet":"Updates","index":16,"n_rows":66,"n_cols":3,"rows_kept":66,"cut":false,"hidden":false,"merged":[[61,2,61,11],[62,2,62,11],[63,2,63,11],[64,2,64,11],[65,2,65,11],[59,2,59,11],[60,2,60,11],[51,2,51,11],[52,2,52,11],[53,2,53,11],[54,2,54,11],[55,2,55,11],[57,2,57,11],[58,2,58,11],[56,2,56,11],[50,2,50,11],[36,2,36,11],[34,2,34,11],[35,2,35,11],[41,2,41,11],[40,2,40,11],[37,2,37,11],[47,2,47,11],[48,2,48,11],[38,2,38,11],[39,2,39,11],[46,2,46,11],[45,2,45,11],[49,2,49,11],[44,2,44,11],[43,2,43,11],[42,2,42,11],[26,2,26,11],[27,2,27,11],[28,2,28,11],[29,2,29,11],[30,2,30,11],[5,2,5,11],[31,2,31,11],[32,2,32,11],[33,2,33,11],[25,2,25,11],[24,2,24,11],[4,2,4,11],[23,2,23,11],[0,2,0,11],[1,2,1,11],[2,2,2,11],[3,2,3,11],[22,2,22,11],[21,2,21,11],[20,2,20,11],[19,2,19,11],[18,2,18,11],[11,2,11,11],[10,2,10,11],[8,2,8,11],[7,2,7,11],[6,2,6,11]]}
[]
["Important Notes"]
[]
["Date",null,"Task"]
["2023-12-07",null,"Updated 2018-2022 Amreican Community Survey Data. Updated CPI Adjustement Factor  factor 1.19 for 2013-2017 and 1.27 for 2008-2012"]
["2023-10-26",null,"Updated Employment and Wage Information for 2022."]
["2023-10-17",null,"Updated 2008-2012 and 2013-2017 Amreican Community Survey Data; updated error in Poverty worksheet.  Added 10 Year Disability Comparison Worksheet"]
["2023-01-26",null,"Updated Permit Data and all appropriate charts."]
["2022-12-14",null,"Updated 2017-2021 Amreican Community Survey Data."]
["2022-10-05",null,"Updated Employment and Wage Information for 2021. Updated CPI Adjustment factor 1.08 for 2012-2016 and 1.15 for 2007-2011"]
["2022-07-19",null,"Updated 2007-2011 and 2012-2016 Amreican Community Survey Data."]
["2022-03-21",null,"Updated 2016-2020 Amreican Community Survey Data."]
["2022-03-14",null,"Updated CPI Adjustement factor to adjust 2010 (1.19) and 2015 (1.09) dollars to 2020 dollars. "]
["2022-02-17",null,"Updated Permit Data and all appropriate charts."]
["2021-10-27",null,"Updated 2020 Annual Wage and Employment count for State and Counties."]
["2021-09-09",null,"Updated with 2020 Decennial Population data"]
["2021-07-14",null,"Updated with 2019 Labor Force Data. Includes revision of previous estimates"]
["2021-02-23",null,"Updated an error in the Population worksheet"]
["2020-12-18",null,"Updated 2015-2019 Amreican Community Survey Data and added 2019 NH Permit data."]
["2020-10-01",null,"Updated 2019 Employment and Wage data by industry sector"]
["2020-09-03",null,"Updated historical data 2005-2009 and 2010-2014 ACS Data"]
["2020-07-10",null,"Updated with 2019 Labor Force Data. Includes revision of previous estimates"]
["2019-12-31",null,"Updated Visual Basic Code changing the footer font from Gotham Medium to Verdana."]
["2019-12-19",null,"Updated with 2014-2018 ACS Data. Updated 2018 Permit data. Updated CPI Adjustment Factor (1.02437673) to the 2009-2013 and 2014-2018 Income Comparison Table. This factor was provided by Census"]
["2019-11-26",null,"Updated the 2009-2013 ACS data for comparison purposes."]
["2019-09-13",null,"Updated 2018 Annual Wage and Employment count for State and Counties."]
["2019-08-06",null,"Updated 2018 Labor Force and Unemployment Rate Data"]
["2018-12-20",null,"Updated 2017 Annual Employment and Wage data; updated Housing and Employment worksheet. Updated 2017 Permit data"]
["2018-12-08",null,"Updated the 2008-2012 ACS data for comparison purposes. Updated CPI Adjustment Factor (1.0676) to the 2008-2012 and 2013-2017  Income Comparison Table. This factor was provided by Census."]
["2018-12-06",null,"Updated labels in workbook to reflect 2013-2017 data set and 2008-2012 comparison data set. Updated footer text.  Updated 2013-2017 ACS data"]
["2018-08-17",null,"Updated Charts with new formatting"]
["2018-05-09",null,"Updated with 2018 Labor Force Data. Includes revision of previous estimates"]
["2017-12-13",null,"Updated 2016 NH Permit Data"]
["2017-12-07",null,"Updated Charts with 2012-2016 data; updated code to reflect additional data points in various tables. Updated CPI Adjustment Factor (1.06686838) to the 2007-2011 and 2012-2016 Income Comparison Table. This factor was provided by Census."]
["2017-11-16",null,"Updated the 2007-2011 ACS data for comparison purposes."]
["2017-10-12",null,"Updated 2016 Annual Employment and Wage data; updated Housing and Employment worksheet"]
["2017-05-15",null,"Updated 2016 Unemployment Rate and Labor Force Data to Employment, Wages, Labor Force & Unemp. Worksheet for large communities."]
["2017-01-04",null,"Verified Charts; Added 2015 Permit Data; Updated Housing and Permit data"]
["2016-12-28",null,"Updated the 2006-2010 ACS data for comparison purposes."]
["2016-12-23",null,"Updated County Employment and Housing worksheet with 2015 Employment data."]
["2016-12-20",null,"Updated Charts with 2012-2016 data; updated code to reflect additional data points in various tables. Updated CPI Adjustment Factor (1.08710584) to the 2006-2010 and 2012-2016 Income Comparison Table. This factor was provided by Census."]
["2016-12-14",null,"Updated The 2012-2016 ACS Data"]
["2016-10-28",null,"Updated 2015 Annual Employment and Wage data"]
["2016-08-09",null,"Updated 2015 Labor Force Data."]
["2016-01-14",null,"Fixed error in School Attainment worksheet - Graduate or Professional Degree data."]
["2016-01-07",null,"Fixed formula in Poverty worksheet; fixed Non-Family Persons per Household data; fixed legend of Rental Cost Charts."]
["2015-12-23",null,"Fixed Table ACS_B25074"]
["2015-12-16",null,"Updated 2012-2016 ACS Data. Updated Charts to reflect changes; updated Code to correct an error on the RentalHousingCost worksheet; updated column names on CntyDataLink; updated Code to correct an error on the OwnerHousingCost worksheet; updated column names on CntyDataLink."]
["2015-12-09",null,"Updated 2012-2016 ACS Data. "]
["2015-12-07",null,"Updated Permit Data and all appropriate charts."]
["2015-12-03",null,"Updated the CPI Adjustment Factor (1.1034264) to the 2005-2009 and 2012-2016 Income Comparison Table."]
["2015-12-02",null,"Updated RentalHousingCost and OwnerCost worksheet to eliminate a printed page. Charts were moved and reduced in size."]
["2015-11-20",null,"Updated Color scheme on charts and added correct logo to the charts"]
["2015-10-05",null,"Added County Comparison Employment and Housing data. Added Visual basic code to automatically update footer. Visual basic code will run when Ctrl-j is selected. "]
["2015-09-28",null,"Updated Employment and Employment vs. Housing data."]
["2015-09-15",null,"Updated RentalHousingCost worksheet to accommodate changes to Table B25074"]
["2015-09-03",null,"Updated Charts and code to allow for prior 5 year estimates to be update."]
["2015-09-01",null,"Updated Code to include prior 5 year estimate for Income Characteristics (Income by Age)."]
["2015-08-10",null,"Updated Owner Cost Chart and data. Added Table B25106. Housing Cost burden by Income. Updated 2005-2009 ACS Estimate data; updated Code on worksheets."]
["2015-08-06",null,"Corrected the Employment vs. Housing worksheet."]
["2015-03-17",null,"Added Labor Force Data"]
["2014-12-30",null,"Corrected Rental Cost formula."]
["2014-12-17",null,"Corrected and verified household pie charts. All Permit data and employment data has been updated through 2013."]
["2011-10-14",null,"Reformatted the code in the worksheet and corrected an error in the Income Comparison Sheet"]
["2010-12-21",null,"Added Margin of Error information on all applicable ACS Sheets"]
["2010-12-07",null,"Created a calculated Table B19001 in anticipation for the 5 year data.  Table C19001 will not be provided"]

{"sheet":"PovertyCharacteristics","index":17,"n_rows":82,"n_cols":17,"rows_kept":82,"cut":false,"hidden":true,"merged":[[21,11,21,13],[77,2,78,3],[77,6,78,9],[77,11,78,13],[21,15,21,16],[49,15,49,16],[64,15,64,16],[21,3,21,5],[21,7,21,9],[30,2,31,4],[30,7,31,9],[30,11,31,13],[49,11,49,14],[64,3,64,5],[64,7,64,9],[64,11,64,14]]}
[]
[null,null,{"$f":"CntyDataLink!A86","v":"Grafton County"}]
[null,null,"POVERTY CHARACTERISTICS"]
[]
[]
[]
[]
[]
[]
[]
[]
[]
[]
[]
[]
[]
[]
[null,null,null,null,null,null,null,null,null,null,null,null,"2012 Income (2008-2012 ACS)"]
[null,null,null,null,null,null,null,null,null,null,null,null,"2017 Income (2013-2017 ACS)"]
[null,null,null,null,null,null,null,null,null,null,null,null,"2022 Income (2018-2022 ACS)"]
[]
[null,null,null,"2012 Inc below Poverty Level",null,null,null,"2017 Inc below Poverty Level",null,null,null,"2022 Inc below Poverty Level",null,null,null,"Statistically Significant Change"]
[null,null,"Population","Estimate","Margin of Error","% of Population in Poverty",null,"Estimate","Margin of Error","% of Population in Poverty",null,"Estimate","Margin of Error","% of Population in Poverty",null,"2012-2022","2017-2022"]
[null,null," Total Individuals living Poverty",{"$f":"CntyDataLinkPrior10YearEstimate!$D$124","v":107800},{"$f":"CntyDataLinkPrior10YearEstimate!$E$124","v":3560},{"$f":"D24/CntyDataLinkPrior10YearEstimate!$B$124","v":8.4372532123002317E-2},null,{"$f":"CntyDataLinkPrior5YearEstimates!$D$124","v":104470},{"$f":"CntyDataLinkPrior5YearEstimates!$E$124","v":3054},{"$f":"H24/CntyDataLinkPrior5YearEstimates!$B$124","v":8.103129326626618E-2},null,{"$f":"CntyDataLink!$D$124","v":98429},{"$f":"CntyDataLink!$E$124","v":3847},{"$f":"L24/CntyDataLink!$B$124","v":7.3968837032439005E-2},null,{"$f":"StatisticallySignificantCalcs!$A112","v":"Y"},{"$f":"StatisticallySignificantCalcs!$J$112","v":"Y"}]
[null,null,"Under 5 yrs.",{"$f":"CntyDataLinkPrior10YearEstimate!$F$124","v":9450},{"$f":"CntyDataLinkPrior10YearEstimate!$G$124","v":764.75159365639763},{"$f":"D25/(CntyDataLinkPrior10YearEstimate!$F$124+CntyDataLinkPrior10YearEstimate!$R$124)","v":0.13799851049226769},null,{"$f":"CntyDataLinkPrior5YearEstimates!$F$124","v":7493},{"$f":"CntyDataLinkPrior5YearEstimates!$G$124","v":670.88374551780578},{"$f":"H25/(CntyDataLinkPrior5YearEstimates!$F$124+CntyDataLinkPrior5YearEstimates!$R$124)","v":0.11843831502410496},null,{"$f":"CntyDataLink!$F$124","v":6022},{"$f":"CntyDataLink!$G$124","v":799.46231931217369},{"$f":"L25/(CntyDataLink!$F$124+CntyDataLink!$R$124)","v":9.6928920937419519E-2},null,{"$f":"StatisticallySignificantCalcs!$A113","v":"Y"},{"$f":"StatisticallySignificantCalcs!$J$113","v":"Y"}]
[null,null,"5 to 17 yrs.",{"$f":"CntyDataLinkPrior10YearEstimate!$H$124","v":21307},{"$f":"CntyDataLinkPrior10YearEstimate!$I$124","v":1113.5299726545306},{"$f":"D26/(CntyDataLinkPrior10YearEstimate!$H$124+CntyDataLinkPrior10YearEstimate!$T$124)","v":0.10002863728762634},null,{"$f":"CntyDataLinkPrior5YearEstimates!$H$124","v":18500},{"$f":"CntyDataLinkPrior5YearEstimates!$I$124","v":1072.925440093579},{"$f":"H26/(CntyDataLinkPrior5YearEstimates!$H$124+CntyDataLinkPrior5YearEstimates!$T$124)","v":9.4466798749974462E-2},null,{"$f":"CntyDataLink!$H$124","v":17633},{"$f":"CntyDataLink!$I$124","v":1121.1480722901858},{"$f":"L26/(CntyDataLink!$H$124+CntyDataLink!$T$124)","v":9.1326258435753607E-2},null,{"$f":"StatisticallySignificantCalcs!$A114","v":"N"},{"$f":"StatisticallySignificantCalcs!$J$114","v":"N"}]
[null,null,"18 to 64 yrs.",{"$f":"CntyDataLinkPrior10YearEstimate!$J$124","v":65484},{"$f":"CntyDataLinkPrior10YearEstimate!$K$124","v":1829.3941620110195},{"$f":"D27/(CntyDataLinkPrior10YearEstimate!$J$124+CntyDataLinkPrior10YearEstimate!$V$124)","v":7.9559025959588719E-2},null,{"$f":"CntyDataLinkPrior5YearEstimates!$J$124","v":67054},{"$f":"CntyDataLinkPrior5YearEstimates!$K$124","v":1874.3340150570816},{"$f":"H27/(CntyDataLinkPrior5YearEstimates!$J$124+CntyDataLinkPrior5YearEstimates!$V$124)","v":8.1841138799417568E-2},null,{"$f":"CntyDataLink!$J$124","v":58919},{"$f":"CntyDataLink!$K$124","v":2000.9995002498126},{"$f":"L27/(CntyDataLink!$J$124+CntyDataLink!$V$124)","v":7.0750542466056096E-2},null,{"$f":"StatisticallySignificantCalcs!$A115","v":"Y"},{"$f":"StatisticallySignificantCalcs!$J$115","v":"Y"}]
[null,null,"65 to 74 yrs.",{"$f":"CntyDataLinkPrior10YearEstimate!$L$124","v":4983},{"$f":"CntyDataLinkPrior10YearEstimate!$M$124","v":458.11898017873045},{"$f":"D28/(CntyDataLinkPrior10YearEstimate!$L$124+CntyDataLinkPrior10YearEstimate!$X$124)","v":5.1126569810391528E-2},null,{"$f":"CntyDataLinkPrior5YearEstimates!$L$124","v":5491},{"$f":"CntyDataLinkPrior5YearEstimates!$M$124","v":410.21579686794121},{"$f":"H28/(CntyDataLinkPrior5YearEstimates!$L$124+CntyDataLinkPrior5YearEstimates!$X$124)","v":4.2853909609546333E-2},null,{"$f":"CntyDataLink!$L$124","v":8685},{"$f":"CntyDataLink!$M$124","v":782.74389170404902},{"$f":"L28/(CntyDataLink!$L$124+CntyDataLink!$X$124)","v":5.6933273024051601E-2},null,{"$f":"StatisticallySignificantCalcs!$A116","v":"Y"},{"$f":"StatisticallySignificantCalcs!$J$116","v":"Y"}]
[null,null,"75 yrs. & Over",{"$f":"CntyDataLinkPrior10YearEstimate!$N$124","v":6576},{"$f":"CntyDataLinkPrior10YearEstimate!$O$124","v":459.77820740004631},{"$f":"D29/(CntyDataLinkPrior10YearEstimate!$N$124+CntyDataLinkPrior10YearEstimate!$Z$124)","v":8.4130801903689684E-2},null,{"$f":"CntyDataLinkPrior5YearEstimates!$N$124","v":5932},{"$f":"CntyDataLinkPrior5YearEstimates!$O$124","v":473.71088229003141},{"$f":"H29/(CntyDataLinkPrior5YearEstimates!$N$124+CntyDataLinkPrior5YearEstimates!$Z$124)","v":7.6522187822497423E-2},null,{"$f":"CntyDataLink!$N$124","v":7170},{"$f":"CntyDataLink!$O$124","v":649.60372535877593},{"$f":"L29/(CntyDataLink!$N$124+CntyDataLink!$Z$124)","v":7.9526170432236379E-2},null,{"$f":"StatisticallySignificantCalcs!$A117","v":"Y"},{"$f":"StatisticallySignificantCalcs!$J$117","v":"Y"}]
[]
[null,null,"Source: 2008-2012 American Community Survey  Table B17001",null,null,null,null,"Source: 2013-2017 American Community Survey  Table B17001",null,null,null,"Source: 2018-2022 American Community Survey  Table B17001"]
[]
[]
[]
[]
[]
[]
[]
[]
[]
[]
[]
[]
[]
[]
[]
[]
[]
[]
[null,null,null,{"$f":"D22","v":"2012 Inc below Poverty Level"},null,null,null,{"$f":"H22","v":"2017 Inc below Poverty Level"},null,null,null,{"$f":"L22","v":"2022 Inc below Poverty Level"},null,null,null,"Statistically Significant Change"]
[null,null,null,"Estimate","Margin of Error","% of Family Type in Poverty",null,"Estimate","Margin of Error ","% of Family Type in Poverty",null,"Estimate","Margin of Error ","% of Family Type in Poverty",null,{"$f":"P23","v":"2012-2022"},{"$f":"Q23","v":"2017-2022"}]
[]
[]
[null,null,"Total Households",{"$f":"CntyDataLinkPrior10YearEstimate!$AD$124","v":44672},{"$f":"CntyDataLinkPrior10YearEstimate!$AE$124","v":1479},{"$f":"$D54/($D54+$D68)","v":8.6432102467857874E-2},null,{"$f":"CntyDataLinkPrior5YearEstimates!$AD$124","v":43453},{"$f":"CntyDataLinkPrior5YearEstimates!$AE$124","v":1173},{"$f":"$H54/($H54+$H68)","v":8.2498908317670067E-2},null,{"$f":"CntyDataLink!$AD$124","v":42173},{"$f":"CntyDataLink!$AE$124","v":1636},{"$f":"$L54/($L54+$L68)","v":7.802619066120503E-2},null,{"$f":"StatisticallySignificantCalcs!$A$94","v":"Y"},{"$f":"StatisticallySignificantCalcs!$J$94","v":"N"}]
[null,null,"Family Households",{"$f":"CntyDataLinkPrior10YearEstimate!$AF$124","v":19305},{"$f":"CntyDataLinkPrior10YearEstimate!$AG$124","v":1060},{"$f":"$D55/($D55+$D69)","v":5.5594913087051182E-2},null,{"$f":"CntyDataLinkPrior5YearEstimates!$AF$124","v":17404},{"$f":"CntyDataLinkPrior5YearEstimates!$AG$124","v":784},{"$f":"$H55/($H55+$H69)","v":4.9632405363630658E-2},null,{"$f":"CntyDataLink!$AF$124","v":16505},{"$f":"CntyDataLink!$AG$124","v":1130},{"$f":"$L55/($L55+$L69)","v":4.6861247551176856E-2},null,{"$f":"StatisticallySignificantCalcs!$A$95","v":"Y"},{"$f":"StatisticallySignificantCalcs!$J$95","v":"N"}]
[null,null,"Married Couple Fam HH",{"$f":"CntyDataLinkPrior10YearEstimate!$AH$124","v":6385},{"$f":"CntyDataLinkPrior10YearEstimate!$AI$124","v":522},{"$f":"$D56/($D56+$D70)","v":2.3016058973018762E-2},null,{"$f":"CntyDataLinkPrior5YearEstimates!$AH$124","v":5855},{"$f":"CntyDataLinkPrior5YearEstimates!$AI$124","v":431},2.1068578131859434E-2,null,{"$f":"CntyDataLink!$AH$124","v":5897},{"$f":"CntyDataLink!$AI$124","v":668},2.0915649317944825E-2,null,{"$f":"StatisticallySignificantCalcs!$A$96","v":"N"},{"$f":"StatisticallySignificantCalcs!$J$96","v":"N"}]
[null,null,"M C Fam HH w/Children",{"$f":"CntyDataLinkPrior10YearEstimate!$BN$124","v":3278},{"$f":"CntyDataLinkPrior10YearEstimate!$BO$124","v":365},3.1338731727836786E-2,null,{"$f":"CntyDataLinkPrior5YearEstimates!$BN$124","v":2666},{"$f":"CntyDataLinkPrior5YearEstimates!$BO$124","v":281},2.5637820112129402E-2,null,{"$f":"CntyDataLink!$BN$124","v":2109},{"$f":"CntyDataLink!$BO$124","v":425},2.0758486963197733E-2,null,{"$f":"StatisticallySignificantCalcs!$A$97","v":"Y"},{"$f":"StatisticallySignificantCalcs!$J$97","v":"Y"}]
[null,null,"Male Head of Family HH ",{"$f":"CntyDataLinkPrior10YearEstimate!$AL$124","v":1944},{"$f":"CntyDataLinkPrior10YearEstimate!$AM$124","v":357},9.2695021934007249E-2,null,{"$f":"CntyDataLinkPrior5YearEstimates!$AL$124","v":2127},{"$f":"CntyDataLinkPrior5YearEstimates!$AM$124","v":380},9.1006332363511896E-2,null,{"$f":"CntyDataLink!$AL$124","v":2535},{"$f":"CntyDataLink!$AM$124","v":388},0.10457920792079207,null,{"$f":"StatisticallySignificantCalcs!$A$98","v":"Y"},{"$f":"StatisticallySignificantCalcs!$J$98","v":"N"}]
[null,null,"Male Head of HH w/Children",{"$f":"CntyDataLinkPrior10YearEstimate!$BP$124","v":1534},{"$f":"CntyDataLinkPrior10YearEstimate!$BQ$124","v":283},0.11951694585118816,null,{"$f":"CntyDataLinkPrior5YearEstimates!$BP$124","v":1667},{"$f":"CntyDataLinkPrior5YearEstimates!$BQ$124","v":372},0.12278117404433969,null,{"$f":"CntyDataLink!$BP$124","v":2067},{"$f":"CntyDataLink!$BQ$124","v":373},0.15059012093836516,null,{"$f":"StatisticallySignificantCalcs!$A$99","v":"Y"},{"$f":"StatisticallySignificantCalcs!$J$99","v":"N"}]
[null,null,"Female Head of Family HH ",{"$f":"CntyDataLinkPrior10YearEstimate!$AN$124","v":10976},{"$f":"CntyDataLinkPrior10YearEstimate!$AO$124","v":824},0.22465562764803407,null,{"$f":"CntyDataLinkPrior5YearEstimates!$AN$124","v":9422},{"$f":"CntyDataLinkPrior5YearEstimates!$AO$124","v":580},0.19079053944597441,null,{"$f":"CntyDataLink!$AN$124","v":8073},{"$f":"CntyDataLink!$AO$124","v":798},0.17539323889806205,null,{"$f":"StatisticallySignificantCalcs!$A$100","v":"Y"},{"$f":"StatisticallySignificantCalcs!$J$100","v":"Y"}]
[null,null,"Female Head of HH w/Children",{"$f":"CntyDataLinkPrior10YearEstimate!$BR$124","v":10163},{"$f":"CntyDataLinkPrior10YearEstimate!$BS$124","v":819},0.31211227811559489,null,{"$f":"CntyDataLinkPrior5YearEstimates!$BR$124","v":8452},{"$f":"CntyDataLinkPrior5YearEstimates!$BS$124","v":576},0.27364263282287049,null,{"$f":"CntyDataLink!$BR$124","v":7355},{"$f":"CntyDataLink!$BS$124","v":786},0.25895151920571768,null,{"$f":"StatisticallySignificantCalcs!$A$101","v":"Y"},{"$f":"StatisticallySignificantCalcs!$J$101","v":"Y"}]
[null,null,"Non-Family HH ",{"$f":"CntyDataLinkPrior10YearEstimate!$AP$124","v":25367},{"$f":"CntyDataLinkPrior10YearEstimate!$AQ$124","v":1072},0.14956869358081615,null,{"$f":"CntyDataLinkPrior5YearEstimates!$AP$124","v":26049},{"$f":"CntyDataLinkPrior5YearEstimates!$AQ$124","v":926},0.14796196578283688,null,{"$f":"CntyDataLink!$AP$124","v":25668},{"$f":"CntyDataLink!$AQ$124","v":1215},0.13632307953772943,null,{"$f":"StatisticallySignificantCalcs!$A$102","v":"N"},{"$f":"StatisticallySignificantCalcs!$J$102","v":"N"}]
[]
[null,"Data from the American Community Survey are estimates."]
[null,null,null,"2012  Inc at or Above Poverty Level",null,null,null,"2017 Inc at or Above Poverty Level",null,null,null,"2022 Inc at or above Poverty Level",null,null,null,"Statistically Significant Change"]
[null,null,"Households","Estimate","Margin of Error",null,null,"Estimate","Margin of Error",null,null,"Estimate","Margin of Error",null,null,{"$f":"P51","v":"2012-2022"},{"$f":"Q51","v":"2017-2022"}]
[]
[null,null,"Total Households",{"$f":"CntyDataLinkPrior10YearEstimate!$AV$124","v":472173},{"$f":"CntyDataLinkPrior10YearEstimate!$AW$124","v":2115},{"$f":"$D68/($D68+$D54)","v":0.91356789753214218},null,{"$f":"CntyDataLinkPrior5YearEstimates!$AV$124","v":483257},{"$f":"CntyDataLinkPrior5YearEstimates!$AW$124","v":2501},{"$f":"$H68/($H68+$H54)","v":0.91750109168232996},null,{"$f":"CntyDataLink!$AV$124","v":498325},{"$f":"CntyDataLink!$AW$124","v":2747},{"$f":"$L68/($L68+$L54)","v":0.92197380933879491},null,{"$f":"StatisticallySignificantCalcs!$A$103","v":"Y"},{"$f":"StatisticallySignificantCalcs!$J$103","v":"Y"}]
[null,null,"Family Households",{"$f":"CntyDataLinkPrior10YearEstimate!$AX$124","v":327939},{"$f":"CntyDataLinkPrior10YearEstimate!$AY$124","v":2145},{"$f":"$D69/($D69+$D55)","v":0.94440508691294878},null,{"$f":"CntyDataLinkPrior5YearEstimates!$AX$124","v":333254},{"$f":"CntyDataLinkPrior5YearEstimates!$AY$124","v":2359},{"$f":"$H69/($H69+$H55)","v":0.95036759463636933},null,{"$f":"CntyDataLink!$AX$124","v":335705},{"$f":"CntyDataLink!$AY$124","v":2844},{"$f":"$L69/($L69+$L55)","v":0.95313875244882318},null,{"$f":"StatisticallySignificantCalcs!$A$104","v":"Y"},{"$f":"StatisticallySignificantCalcs!$J$104","v":"N"}]
[null,null,"Married Couple Fam HH",{"$f":"CntyDataLinkPrior10YearEstimate!$AZ$124","v":271030},{"$f":"CntyDataLinkPrior10YearEstimate!$BA$124","v":2079},{"$f":"$D70/($D70+$D56)","v":0.97698394102698127},null,{"$f":"CntyDataLinkPrior5YearEstimates!$AZ$124","v":272047},{"$f":"CntyDataLinkPrior5YearEstimates!$BA$124","v":2926},{"$f":"$H70/($H70+$H56)","v":0.97893142186814053},null,{"$f":"CntyDataLink!$AZ$124","v":276045},{"$f":"CntyDataLink!$BA$124","v":2881},0.97908435068205513,null,{"$f":"StatisticallySignificantCalcs!$A$105","v":"Y"},{"$f":"StatisticallySignificantCalcs!$J$105","v":"N"}]
[null,null,"M C Fam HH w/Children",{"$f":"CntyDataLinkPrior10YearEstimate!$BT$124","v":101321},{"$f":"CntyDataLinkPrior10YearEstimate!$BU$124","v":1837},0.96866126827216326,null,{"$f":"CntyDataLinkPrior5YearEstimates!$BT$124","v":101321},{"$f":"CntyDataLinkPrior5YearEstimates!$BU$124","v":1837},0.97436217988787055,null,{"$f":"CntyDataLink!$BT$124","v":99488},{"$f":"CntyDataLink!$BU$124","v":2069},0.97924151303680229,null,{"$f":"StatisticallySignificantCalcs!$A$106","v":"N"},{"$f":"StatisticallySignificantCalcs!$J$106","v":"N"}]
[null,null,"Male Head of Family HH ",{"$f":"CntyDataLinkPrior10YearEstimate!$BD$124","v":19028},{"$f":"CntyDataLinkPrior10YearEstimate!$BE$124","v":825},0.90730497806599275,null,{"$f":"CntyDataLinkPrior5YearEstimates!$BD$124","v":21245},{"$f":"CntyDataLinkPrior5YearEstimates!$BE$124","v":1135},0.90899366763648815,null,{"$f":"CntyDataLink!$BD$124","v":21705},{"$f":"CntyDataLink!$BE$124","v":1259},0.89542079207920788,null,{"$f":"StatisticallySignificantCalcs!$A$107","v":"Y"},{"$f":"StatisticallySignificantCalcs!$J$107","v":"N"}]
[null,null,"Male Head of HH w/Children",{"$f":"CntyDataLinkPrior10YearEstimate!$BV$124","v":11301},{"$f":"CntyDataLinkPrior10YearEstimate!$BW$124","v":679},0.88048305414881189,null,{"$f":"CntyDataLinkPrior5YearEstimates!$BV$124","v":11910},{"$f":"CntyDataLinkPrior5YearEstimates!$BW$124","v":867},0.87721882595566025,null,{"$f":"CntyDataLink!$BV$124","v":11659},{"$f":"CntyDataLink!$BW$124","v":970},0.8494098790616349,null,{"$f":"StatisticallySignificantCalcs!$A$108","v":"N"},{"$f":"StatisticallySignificantCalcs!$J$108","v":"N"}]
[null,null,"Female Head of Family HH ",{"$f":"CntyDataLinkPrior10YearEstimate!$BF$124","v":37881},{"$f":"CntyDataLinkPrior10YearEstimate!$BG$124","v":1251},0.77534437235196596,null,{"$f":"CntyDataLinkPrior5YearEstimates!$BF$124","v":39962},{"$f":"CntyDataLinkPrior5YearEstimates!$BG$124","v":1376},0.80920946055402565,null,{"$f":"CntyDataLink!$BF$124","v":37955},{"$f":"CntyDataLink!$BG$124","v":1468},0.82460676110193798,null,{"$f":"StatisticallySignificantCalcs!$A$109","v":"N"},{"$f":"StatisticallySignificantCalcs!$J$109","v":"N"}]
[null,null,"Female Head of HH w/Children",{"$f":"CntyDataLinkPrior10YearEstimate!$BX$124","v":22399},{"$f":"CntyDataLinkPrior10YearEstimate!$BY$124","v":910},0.68788772188440517,null,{"$f":"CntyDataLinkPrior5YearEstimates!$BX$124","v":22435},{"$f":"CntyDataLinkPrior5YearEstimates!$BY$124","v":879},0.72635736717712951,null,{"$f":"CntyDataLink!$BX$124","v":21048},{"$f":"CntyDataLink!$BY$124","v":1214},0.74104848079428232,null,{"$f":"StatisticallySignificantCalcs!$A$110","v":"N"},{"$f":"StatisticallySignificantCalcs!$J$110","v":"N"}]
[null,null,"Non-Family HH ",{"$f":"CntyDataLinkPrior10YearEstimate!$BH$124","v":144234},{"$f":"CntyDataLinkPrior10YearEstimate!$BI$124","v":2329},0.85043130641918385,null,{"$f":"CntyDataLinkPrior5YearEstimates!$BH$124","v":150003},{"$f":"CntyDataLinkPrior5YearEstimates!$BI$124","v":2133},0.85203803421716306,null,{"$f":"CntyDataLink!$BH$124","v":162620},{"$f":"CntyDataLink!$BI$124","v":2559},0.86367692046227051,null,{"$f":"StatisticallySignificantCalcs!$A$111","v":"Y"},{"$f":"StatisticallySignificantCalcs!$J$111","v":"Y"}]
[]
[null,null,"Source: 2008-2012 American Community Survey ",null,null,null,"Source: 2013-2017 American Community Survey",null,null,null,null,"Source: 2018-2022 American Community Survey"]
[]
[null,null,"Tables B17010; and B17017",null,null,null,"Tables B17010; and B17017",null,null,null,null,"Tables B17010; and B17017"]
[]
[null,null,"Data from the American Community Survey are estimates."]

{"sheet":"ACS_Table_B01001","index":18,"n_rows":265,"n_cols":24,"rows_kept":265,"cut":false,"hidden":true,"merged":[[65104,16,65104,17],[65104,18,65104,19],[65104,20,65104,21],[65104,22,65104,23],[65022,16,65022,17],[65022,18,65022,19],[65022,20,65022,21],[65022,22,65022,23],[65084,16,65084,17],[65084,18,65084,19],[64592,16,64592,17],[64592,18,64592,19],[64592,20,64592,21],[64592,22,64592,23],[64612,16,64612,17],[64612,18,64612,19],[64612,20,64612,21],[64612,22,64612,23],[64674,16,64674,17],[64674,18,64674,19],[64674,20,64674,21],[64674,22,64674,23],[64694,16,64694,17],[64694,18,64694,19],[64694,20,64694,21],[64694,22,64694,23],[64756,16,64756,17],[64756,18,64756,19],[64756,20,64756,21],[64756,22,64756,23],[64776,16,64776,17],[64776,18,64776,19],[64776,20,64776,21],[64776,22,64776,23],[64838,16,64838,17],[64838,18,64838,19],[64838,20,64838,21],[64838,22,64838,23],[64858,16,64858,17],[64858,18,64858,19],[64858,20,64858,21],[64858,22,64858,23],[64920,16,64920,17],[64920,18,64920,19],[64920,20,64920,21],[64920,22,64920,23],[64264,16,64264,17],[64264,18,64264,19],[64264,20,64264,21],[64264,22,64264,23],[64284,16,64284,17],[64284,18,64284,19],[64284,20,64284,21],[64284,22,64284,23],[64346,16,64346,17],[64346,18,64346,19],[64346,20,64346,21],[64346,22,64346,23],[64366,16,64366,17],[64366,18,64366,19],[64366,20,64366,21],[64366,22,64366,23],[64428,16,64428,17],[64428,18,64428,19],[64428,20,64428,21],[64428,22,64428,23],[64448,16,64448,17],[64448,18,64448,19],[64448,20,64448,21],[64448,22,64448,23],[64510,16,64510,17],[64510,18,64510,19],[64510,20,64510,21],[64510,22,64510,23],[64530,16,64530,17],[64530,18,64530,19],[64530,20,64530,21],[64530,22,64530,23],[65084,20,65084,21],[65084,22,65084,23],[64940,16,64940,17],[64940,18,64940,19],[64940,20,64940,21],[64940,22,64940,23],[65002,16,65002,17],[65002,18,65002,19],[65002,20,65002,21],[65002,22,65002,23],[63874,16,63874,17],[63874,18,63874,19],[63874,20,63874,21],[63874,22,63874,23],[63936,16,63936,17],[63936,18,63936,19],[63936,20,63936,21],[63936,22,63936,23],[63956,16,63956,17],[63956,18,63956,19],[63956,20,63956,21],[63956,22,63956,23],[64018,16,64018,17],[64018,18,64018,19],[64018,20,64018,21],[64018,22,64018,23],[64038,16,64038,17],[64038,18,64038,19],[64038,20,64038,21],[64038,22,64038,23],[64100,16,64100,17],[64100,18,64100,19],[64100,20,64100,21],[64100,22,64100,23],[64120,16,64120,17],[64120,18,64120,19],[64120,20,64120,21],[64120,22,64120,23],[64182,16,64182,17],[64182,18,64182,19],[64182,20,64182,21],[64182,22,64182,23],[64202,16,64202,17],[64202,18,64202,19],[64202,20,64202,21],[64202,22,64202,23],[63526,16,63526,17],[63526,18,63526,19],[63526,20,63526,21],[63526,22,63526,23],[63546,16,63546,17],[63546,18,63546,19],[63546,20,63546,21],[63546,22,63546,23],[63608,16,63608,17],[63608,18,63608,19],[63608,20,63608,21],[63608,22,63608,23],[63628,16,63628,17],[63628,18,63628,19],[63628,20,63628,21],[63628,22,63628,23],[63690,16,63690,17],[63690,18,63690,19],[63690,20,63690,21],[63690,22,63690,23],[63710,16,63710,17],[63710,18,63710,19],[63710,20,63710,21],[63710,22,63710,23],[63772,16,63772,17],[63772,18,63772,19],[63772,20,63772,21],[63772,22,63772,23],[63792,16,63792,17],[63792,18,63792,19],[63792,20,63792,21],[63792,22,63792,23],[63854,16,63854,17],[63854,18,63854,19],[63854,20,63854,21],[63854,22,63854,23],[63136,16,63136,17],[63136,18,63136,19],[63136,20,63136,21],[63136,22,63136,23],[63198,16,63198,17],[63198,18,63198,19],[63198,20,63198,21],[63198,22,63198,23],[63218,16,63218,17],[63218,18,63218,19],[63218,20,63218,21],[63218,22,63218,23],[63280,16,63280,17],[63280,18,63280,19],[63280,20,63280,21],[63280,22,63280,23],[63300,16,63300,17],[63300,18,63300,19],[63300,20,63300,21],[63300,22,63300,23],[63362,16,63362,17],[63362,18,63362,19],[63362,20,63362,21],[63362,22,63362,23],[63382,16,63382,17],[63382,18,63382,19],[63382,20,63382,21],[63382,22,63382,23],[63444,16,63444,17],[63444,18,63444,19],[63444,20,63444,21],[63444,22,63444,23],[63464,16,63464,17],[63464,18,63464,19],[63464,20,63464,21],[63464,22,63464,23],[62788,16,62788,17],[62788,18,62788,19],[62788,20,62788,21],[62788,22,62788,23],[62808,16,62808,17],[62808,18,62808,19],[62808,20,62808,21],[62808,22,62808,23],[62870,16,62870,17],[62870,18,62870,19],[62870,20,62870,21],[62870,22,62870,23],[62890,16,62890,17],[62890,18,62890,19],[62890,20,62890,21],[62890,22,62890,23],[62952,16,62952,17],[62952,18,62952,19],[62952,20,62952,21],[62952,22,62952,23],[62972,16,62972,17],[62972,18,62972,19],[62972,20,62972,21],[62972,22,62972,23],[63034,16,63034,17],[63034,18,63034,19],[63034,20,63034,21],[63034,22,63034,23],[63054,16,63054,17],[63054,18,63054,19],[63054,20,63054,21],[63054,22,63054,23],[63116,16,63116,17],[63116,18,63116,19],[63116,20,63116,21],[63116,22,63116,23],[62398,16,62398,17],[62398,18,62398,19],[62398,20,62398,21],[62398,22,62398,23],[62460,16,62460,17],[62460,18,62460,19],[62460,20,62460,21],[62460,22,62460,23],[62480,16,62480,17],[62480,18,62480,19],[62480,20,62480,21],[62480,22,62480,23],[62542,16,62542,17],[62542,18,62542,19],[62542,20,62542,21],[62542,22,62542,23],[62562,16,62562,17],[62562,18,62562,19],[62562,20,62562,21],[62562,22,62562,23],[62624,16,62624,17],[62624,18,62624,19],[62624,20,62624,21],[62624,22,62624,23],[62644,16,62644,17],[62644,18,62644,19],[62644,20,62644,21],[62644,22,62644,23],[62706,16,62706,17],[62706,18,62706,19],[62706,20,62706,21],[62706,22,62706,23],[62726,16,62726,17],[62726,18,62726,19],[62726,20,62726,21],[62726,22,62726,23],[62050,16,62050,17],[62050,18,62050,19],[62050,20,62050,21],[62050,22,62050,23],[62070,16,62070,17],[62070,18,62070,19],[62070,20,62070,21],[62070,22,62070,23],[62132,16,62132,17],[62132,18,62132,19],[62132,20,62132,21],[62132,22,62132,23],[62152,16,62152,17],[62152,18,62152,19],[62152,20,62152,21],[62152,22,62152,23],[62214,16,62214,17],[62214,18,62214,19],[62214,20,62214,21],[62214,22,62214,23],[62234,16,62234,17],[62234,18,62234,19],[62234,20,62234,21],[62234,22,62234,23],[62296,16,62296,17],[62296,18,62296,19],[62296,20,62296,21],[62296,22,62296,23],[62316,16,62316,17],[62316,18,62316,19],[62316,20,62316,21],[62316,22,62316,23],[62378,16,62378,17],[62378,18,62378,19],[62378,20,62378,21],[62378,22,62378,23],[61660,16,61660,17],[61660,18,61660,19],[61660,20,61660,21],[61660,22,61660,23],[61722,16,61722,17],[61722,18,61722,19],[61722,20,61722,21],[61722,22,61722,23],[61742,16,61742,17],[61742,18,61742,19],[61742,20,61742,21],[61742,22,61742,23],[61804,16,61804,17],[61804,18,61804,19],[61804,20,61804,21],[61804,22,61804,23],[61824,16,61824,17],[61824,18,61824,19],[61824,20,61824,21],[61824,22,61824,23],[61886,16,61886,17],[61886,18,61886,19],[61886,20,61886,21],[61886,22,61886,23],[61906,16,61906,17],[61906,18,61906,19],[61906,20,61906,21],[61906,22,61906,23],[61968,16,61968,17],[61968,18,61968,19],[61968,20,61968,21],[61968,22,61968,23],[61988,16,61988,17],[61988,18,61988,19],[61988,20,61988,21],[61988,22,61988,23],[61312,16,61312,17],[61312,18,61312,19],[61312,20,61312,21],[61312,22,61312,23],[61332,16,61332,17],[61332,18,61332,19],[61332,20,61332,21],[61332,22,61332,23],[61394,16,61394,17],[61394,18,61394,19],[61394,20,61394,21],[61394,22,61394,23],[61414,16,61414,17],[61414,18,61414,19],[61414,20,61414,21],[61414,22,61414,23],[61476,16,61476,17],[61476,18,61476,19],[61476,20,61476,21],[61476,22,61476,23],[61496,16,61496,17],[61496,18,61496,19],[61496,20,61496,21],[61496,22,61496,23],[61558,16,61558,17],[61558,18,61558,19],[61558,20,61558,21],[61558,22,61558,23],[61578,16,61578,17],[61578,18,61578,19],[61578,20,61578,21],[61578,22,61578,23],[61640,16,61640,17],[61640,18,61640,19],[61640,20,61640,21],[61640,22,61640,23],[60922,16,60922,17],[60922,18,60922,19],[60922,20,60922,21],[60922,22,60922,23],[60984,16,60984,17],[60984,18,60984,19],[60984,20,60984,21],[60984,22,60984,23],[61004,16,61004,17],[61004,18,61004,19],[61004,20,61004,21],[61004,22,61004,23],[61066,16,61066,17],[61066,18,61066,19],[61066,20,61066,21],[61066,22,61066,23],[61086,16,61086,17],[61086,18,61086,19],[61086,20,61086,21],[61086,22,61086,23],[61148,16,61148,17],[61148,18,61148,19],[61148,20,61148,21],[61148,22,61148,23],[61168,16,61168,17],[61168,18,61168,19],[61168,20,61168,21],[61168,22,61168,23],[61230,16,61230,17],[61230,18,61230,19],[61230,20,61230,21],[61230,22,61230,23],[61250,16,61250,17],[61250,18,61250,19],[61250,20,61250,21],[61250,22,61250,23],[60574,16,60574,17],[60574,18,60574,19],[60574,20,60574,21],[60574,22,60574,23],[60594,16,60594,17],[60594,18,60594,19],[60594,20,60594,21],[60594,22,60594,23],[60656,16,60656,17],[60656,18,60656,19],[60656,20,60656,21],[60656,22,60656,23],[60676,16,60676,17],[60676,18,60676,19],[60676,20,60676,21],[60676,22,60676,23],[60738,16,60738,17],[60738,18,60738,19],[60738,20,60738,21],[60738,22,60738,23],[60758,16,60758,17],[60758,18,60758,19],[60758,20,60758,21],[60758,22,60758,23],[60820,16,60820,17],[60820,18,60820,19],[60820,20,60820,21],[60820,22,60820,23],[60840,16,60840,17],[60840,18,60840,19],[60840,20,60840,21],[60840,22,60840,23],[60902,16,60902,17],[60902,18,60902,19],[60902,20,60902,21],[60902,22,60902,23],[60184,16,60184,17],[60184,18,60184,19],[60184,20,60184,21],[60184,22,60184,23],[60246,16,60246,17],[60246,18,60246,19],[60246,20,60246,21],[60246,22,60246,23],[60266,16,60266,17],[60266,18,60266,19],[60266,20,60266,21],[60266,22,60266,23],[60328,16,60328,17],[60328,18,60328,19],[60328,20,60328,21],[60328,22,60328,23],[60348,16,60348,17],[60348,18,60348,19],[60348,20,60348,21],[60348,22,60348,23],[60410,16,60410,17],[60410,18,60410,19],[60410,20,60410,21],[60410,22,60410,23],[60430,16,60430,17],[60430,18,60430,19],[60430,20,60430,21],[60430,22,60430,23],[60492,16,60492,17],[60492,18,60492,19],[60492,20,60492,21],[60492,22,60492,23],[60512,16,60512,17],[60512,18,60512,19],[60512,20,60512,21],[60512,22,60512,23],[59836,16,59836,17],[59836,18,59836,19],[59836,20,59836,21],[59836,22,59836,23],[59856,16,59856,17],[59856,18,59856,19],[59856,20,59856,21],[59856,22,59856,23],[59918,16,59918,17],[59918,18,59918,19],[59918,20,59918,21],[59918,22,59918,23],[59938,16,59938,17],[59938,18,59938,19],[59938,20,59938,21],[59938,22,59938,23],[60000,16,60000,17],[60000,18,60000,19],[60000,20,60000,21],[60000,22,60000,23],[60020,16,60020,17],[60020,18,60020,19],[60020,20,60020,21],[60020,22,60020,23],[60082,16,60082,17],[60082,18,60082,19],[60082,20,60082,21],[60082,22,60082,23],[60102,16,60102,17],[60102,18,60102,19],[60102,20,60102,21],[60102,22,60102,23],[60164,16,60164,17],[60164,18,60164,19],[60164,20,60164,21],[60164,22,60164,23],[59446,16,59446,17],[59446,18,59446,19],[59446,20,59446,21],[59446,22,59446,23],[59508,16,59508,17],[59508,18,59508,19],[59508,20,59508,21],[59508,22,59508,23],[59528,16,59528,17],[59528,18,59528,19],[59528,20,59528,21],[59528,22,59528,23],[59590,16,59590,17],[59590,18,59590,19],[59590,20,59590,21],[59590,22,59590,23],[59610,16,59610,17],[59610,18,59610,19],[59610,20,59610,21],[59610,22,59610,23],[59672,16,59672,17],[59672,18,59672,19],[59672,20,59672,21],[59672,22,59672,23],[59692,16,59692,17],[59692,18,59692,19],[59692,20,59692,21],[59692,22,59692,23],[59754,16,59754,17],[59754,18,59754,19],[59754,20,59754,21],[59754,22,59754,23],[59774,16,59774,17],[59774,18,59774,19],[59774,20,59774,21],[59774,22,59774,23],[59098,16,59098,17],[59098,18,59098,19],[59098,20,59098,21],[59098,22,59098,23],[59118,16,59118,17],[59118,18,59118,19],[59118,20,59118,21],[59118,22,59118,23],[59180,16,59180,17],[59180,18,59180,19],[59180,20,59180,21],[59180,22,59180,23],[59200,16,59200,17],[59200,18,59200,19],[59200,20,59200,21],[59200,22,59200,23],[59262,16,59262,17],[59262,18,59262,19],[59262,20,59262,21],[59262,22,59262,23],[59282,16,59282,17],[59282,18,59282,19],[59282,20,59282,21],[59282,22,59282,23],[59344,16,59344,17],[59344,18,59344,19],[59344,20,59344,21],[59344,22,59344,23],[59364,16,59364,17],[59364,18,59364,19],[59364,20,59364,21],[59364,22,59364,23],[59426,16,59426,17],[59426,18,59426,19],[59426,20,59426,21],[59426,22,59426,23],[58708,16,58708,17],[58708,18,58708,19],[58708,20,58708,21],[58708,22,58708,23],[58770,16,58770,17],[58770,18,58770,19],[58770,20,58770,21],[58770,22,58770,23],[58790,16,58790,17],[58790,18,58790,19],[58790,20,58790,21],[58790,22,58790,23],[58852,16,58852,17],[58852,18,58852,19],[58852,20,58852,21],[58852,22,58852,23],[58872,16,58872,17],[58872,18,58872,19],[58872,20,58872,21],[58872,22,58872,23],[58934,16,58934,17],[58934,18,58934,19],[58934,20,58934,21],[58934,22,58934,23],[58954,16,58954,17],[58954,18,58954,19],[58954,20,58954,21],[58954,22,58954,23],[59016,16,59016,17],[59016,18,59016,19],[59016,20,59016,21],[59016,22,59016,23],[59036,16,59036,17],[59036,18,59036,19],[59036,20,59036,21],[59036,22,59036,23],[58360,16,58360,17],[58360,18,58360,19],[58360,20,58360,21],[58360,22,58360,23],[58380,16,58380,17],[58380,18,58380,19],[58380,20,58380,21],[58380,22,58380,23],[58442,16,58442,17],[58442,18,58442,19],[58442,20,58442,21],[58442,22,58442,23],[58462,16,58462,17],[58462,18,58462,19],[58462,20,58462,21],[58462,22,58462,23],[58524,16,58524,17],[58524,18,58524,19],[58524,20,58524,21],[58524,22,58524,23],[58544,16,58544,17],[58544,18,58544,19],[58544,20,58544,21],[58544,22,58544,23],[58606,16,58606,17],[58606,18,58606,19],[58606,20,58606,21],[58606,22,58606,23],[58626,16,58626,17],[58626,18,58626,19],[58626,20,58626,21],[58626,22,58626,23],[58688,16,58688,17],[58688,18,58688,19],[58688,20,58688,21],[58688,22,58688,23],[57970,16,57970,17],[57970,18,57970,19],[57970,20,57970,21],[57970,22,57970,23],[58032,16,58032,17],[58032,18,58032,19],[58032,20,58032,21],[58032,22,58032,23],[58052,16,58052,17],[58052,18,58052,19],[58052,20,58052,21],[58052,22,58052,23],[58114,16,58114,17],[58114,18,58114,19],[58114,20,58114,21],[58114,22,58114,23],[58134,16,58134,17],[58134,18,58134,19],[58134,20,58134,21],[58134,22,58134,23],[58196,16,58196,17],[58196,18,58196,19],[58196,20,58196,21],[58196,22,58196,23],[58216,16,58216,17],[58216,18,58216,19],[58216,20,58216,21],[58216,22,58216,23],[58278,16,58278,17],[58278,18,58278,19],[58278,20,58278,21],[58278,22,58278,23],[58298,16,58298,17],[58298,18,58298,19],[58298,20,58298,21],[58298,22,58298,23],[57622,16,57622,17],[57622,18,57622,19],[57622,20,57622,21],[57622,22,57622,23],[57642,16,57642,17],[57642,18,57642,19],[57642,20,57642,21],[57642,22,57642,23],[57704,16,57704,17],[57704,18,57704,19],[57704,20,57704,21],[57704,22,57704,23],[57724,16,57724,17],[57724,18,57724,19],[57724,20,57724,21],[57724,22,57724,23],[57786,16,57786,17],[57786,18,57786,19],[57786,20,57786,21],[57786,22,57786,23],[57806,16,57806,17],[57806,18,57806,19],[57806,20,57806,21],[57806,22,57806,23],[57868,16,57868,17],[57868,18,57868,19],[57868,20,57868,21],[57868,22,57868,23],[57888,16,57888,17],[57888,18,57888,19],[57888,20,57888,21],[57888,22,57888,23],[57950,16,57950,17],[57950,18,57950,19],[57950,20,57950,21],[57950,22,57950,23],[57232,16,57232,17],[57232,18,57232,19],[57232,20,57232,21],[57232,22,57232,23],[57294,16,57294,17],[57294,18,57294,19],[57294,20,57294,21],[57294,22,57294,23],[57314,16,57314,17],[57314,18,57314,19],[57314,20,57314,21],[57314,22,57314,23],[57376,16,57376,17],[57376,18,57376,19],[57376,20,57376,21],[57376,22,57376,23],[57396,16,57396,17],[57396,18,57396,19],[57396,20,57396,21],[57396,22,57396,23],[57458,16,57458,17],[57458,18,57458,19],[57458,20,57458,21],[57458,22,57458,23],[57478,16,57478,17],[57478,18,57478,19],[57478,20,57478,21],[57478,22,57478,23],[57540,16,57540,17],[57540,18,57540,19],[57540,20,57540,21],[57540,22,57540,23],[57560,16,57560,17],[57560,18,57560,19],[57560,20,57560,21],[57560,22,57560,23],[56884,16,56884,17],[56884,18,56884,19],[56884,20,56884,21],[56884,22,56884,23],[56904,16,56904,17],[56904,18,56904,19],[56904,20,56904,21],[56904,22,56904,23],[56966,16,56966,17],[56966,18,56966,19],[56966,20,56966,21],[56966,22,56966,23],[56986,16,56986,17],[56986,18,56986,19],[56986,20,56986,21],[56986,22,56986,23],[57048,16,57048,17],[57048,18,57048,19],[57048,20,57048,21],[57048,22,57048,23],[57068,16,57068,17],[57068,18,57068,19],[57068,20,57068,21],[57068,22,57068,23],[57130,16,57130,17],[57130,18,57130,19],[57130,20,57130,21],[57130,22,57130,23],[57150,16,57150,17],[57150,18,57150,19],[57150,20,57150,21],[57150,22,57150,23],[57212,16,57212,17],[57212,18,57212,19],[57212,20,57212,21],[57212,22,57212,23],[56494,16,56494,17],[56494,18,56494,19],[56494,20,56494,21],[56494,22,56494,23],[56556,16,56556,17],[56556,18,56556,19],[56556,20,56556,21],[56556,22,56556,23],[56576,16,56576,17],[56576,18,56576,19],[56576,20,56576,21],[56576,22,56576,23],[56638,16,56638,17],[56638,18,56638,19],[56638,20,56638,21],[56638,22,56638,23],[56658,16,56658,17],[56658,18,56658,19],[56658,20,56658,21],[56658,22,56658,23],[56720,16,56720,17],[56720,18,56720,19],[56720,20,56720,21],[56720,22,56720,23],[56740,16,56740,17],[56740,18,56740,19],[56740,20,56740,21],[56740,22,56740,23],[56802,16,56802,17],[56802,18,56802,19],[56802,20,56802,21],[56802,22,56802,23],[56822,16,56822,17],[56822,18,56822,19],[56822,20,56822,21],[56822,22,56822,23],[56146,16,56146,17],[56146,18,56146,19],[56146,20,56146,21],[56146,22,56146,23],[56166,16,56166,17],[56166,18,56166,19],[56166,20,56166,21],[56166,22,56166,23],[56228,16,56228,17],[56228,18,56228,19],[56228,20,56228,21],[56228,22,56228,23],[56248,16,56248,17],[56248,18,56248,19],[56248,20,56248,21],[56248,22,56248,23],[56310,16,56310,17],[56310,18,56310,19],[56310,20,56310,21],[56310,22,56310,23],[56330,16,56330,17],[56330,18,56330,19],[56330,20,56330,21],[56330,22,56330,23],[56392,16,56392,17],[56392,18,56392,19],[56392,20,56392,21],[56392,22,56392,23],[56412,16,56412,17],[56412,18,56412,19],[56412,20,56412,21],[56412,22,56412,23],[56474,16,56474,17],[56474,18,56474,19],[56474,20,56474,21],[56474,22,56474,23],[55756,16,55756,17],[55756,18,55756,19],[55756,20,55756,21],[55756,22,55756,23],[55818,16,55818,17],[55818,18,55818,19],[55818,20,55818,21],[55818,22,55818,23],[55838,16,55838,17],[55838,18,55838,19],[55838,20,55838,21],[55838,22,55838,23],[55900,16,55900,17],[55900,18,55900,19],[55900,20,55900,21],[55900,22,55900,23],[55920,16,55920,17],[55920,18,55920,19],[55920,20,55920,21],[55920,22,55920,23],[55982,16,55982,17],[55982,18,55982,19],[55982,20,55982,21],[55982,22,55982,23],[56002,16,56002,17],[56002,18,56002,19],[56002,20,56002,21],[56002,22,56002,23],[56064,16,56064,17],[56064,18,56064,19],[56064,20,56064,21],[56064,22,56064,23],[56084,16,56084,17],[56084,18,56084,19],[56084,20,56084,21],[56084,22,56084,23],[55408,16,55408,17],[55408,18,55408,19],[55408,20,55408,21],[55408,22,55408,23],[55428,16,55428,17],[55428,18,55428,19],[55428,20,55428,21],[55428,22,55428,23],[55490,16,55490,17],[55490,18,55490,19],[55490,20,55490,21],[55490,22,55490,23],[55510,16,55510,17],[55510,18,55510,19],[55510,20,55510,21],[55510,22,55510,23],[55572,16,55572,17],[55572,18,55572,19],[55572,20,55572,21],[55572,22,55572,23],[55592,16,55592,17],[55592,18,55592,19],[55592,20,55592,21],[55592,22,55592,23],[55654,16,55654,17],[55654,18,55654,19],[55654,20,55654,21],[55654,22,55654,23],[55674,16,55674,17],[55674,18,55674,19],[55674,20,55674,21],[55674,22,55674,23],[55736,16,55736,17],[55736,18,55736,19],[55736,20,55736,21],[55736,22,55736,23],[55018,16,55018,17],[55018,18,55018,19],[55018,20,55018,21],[55018,22,55018,23],[55080,16,55080,17],[55080,18,55080,19],[55080,20,55080,21],[55080,22,55080,23],[55100,16,55100,17],[55100,18,55100,19],[55100,20,55100,21],[55100,22,55100,23],[55162,16,55162,17],[55162,18,55162,19],[55162,20,55162,21],[55162,22,55162,23],[55182,16,55182,17],[55182,18,55182,19],[55182,20,55182,21],[55182,22,55182,23],[55244,16,55244,17],[55244,18,55244,19],[55244,20,55244,21],[55244,22,55244,23],[55264,16,55264,17],[55264,18,55264,19],[55264,20,55264,21],[55264,22,55264,23],[55326,16,55326,17],[55326,18,55326,19],[55326,20,55326,21],[55326,22,55326,23],[55346,16,55346,17],[55346,18,55346,19],[55346,20,55346,21],[55346,22,55346,23],[54670,16,54670,17],[54670,18,54670,19],[54670,20,54670,21],[54670,22,54670,23],[54690,16,54690,17],[54690,18,54690,19],[54690,20,54690,21],[54690,22,54690,23],[54752,16,54752,17],[54752,18,54752,19],[54752,20,54752,21],[54752,22,54752,23]],"merged_total":17446,"flags":["merged_cut"]}
[null,"B01001. GENDER BY AGE"]
[null,"Universe:  TOTAL POPULATION"]
[null,"Data Set: 2018-2022 American Community Survey 5-Year Estimate"]
[]
[null,null,"New Hampshire",null,"Belknap County",null,"Carroll County",null,"Cheshire County",null,"Coos County",null,"Grafton County",null,"Hillsborough County",null,"Merrimack County",null,"Rockingham County",null,"Strafford County",null,"Sullivan County"]
[null," ","Estimate","Margin of Error","Estimate","Margin of Error","Estimate","Margin of Error","Estimate","Margin of Error","Estimate","Margin of Error","Estimate","Margin of Error","Estimate","Margin of Error","Estimate","Margin of Error","Estimate","Margin of Error","Estimate","Margin of Error","Estimate","Margin of Error"]
[null,"Total:",1379610,"*****",63914,"*****",50679,"*****",76610,"*****",31430,"*****",90836,"*****",422733,"*****",153918,"*****",315169,"*****",130965,"*****",43356,"*****"]
[null,"Male:",689725,460,31658,158,25655,114,37770,131,16638,86,45104,145,212276,44,76723,135,157222,78,64834,221,21845,133]
[null,"Under 5 years",31825,216,1274,26,899,40,1771,82,607,8,1715,73,10842,33,3537,103,7279,69,3001,98,900,47]
[null,"5 to 9 years",35533,1081,1231,277,1191,246,1831,194,584,135,2171,201,11586,749,3927,350,8433,553,3382,370,1197,164]
[null,"10 to 14 years",38723,1076,2086,272,1269,240,2171,185,837,144,2078,214,12723,744,4292,351,8742,553,3499,372,1026,151]
[null,"15 to 17 years",25159,253,1163,95,783,47,1208,45,503,22,1403,46,8046,20,2805,96,6054,51,2384,167,810,64]
[null,"18 and 19 years",19061,400,706,66,492,82,1407,100,271,6,2080,126,4981,169,2198,113,3587,146,2792,153,547,104]
[null,"20 years",9791,740,271,105,144,86,657,156,233,88,1091,374,2424,452,994,199,1786,362,1708,368,483,106]
[null,"21 years",8704,683,267,130,218,140,833,234,128,65,761,292,2519,399,1141,266,1482,342,1269,306,86,52]
[null,"22 to 24 years",26995,925,1028,186,760,143,1169,223,496,109,1887,318,9020,520,2991,283,5526,438,3531,382,587,120]
[null,"25 to 29 years",45150,296,1806,98,1230,84,2211,66,1042,92,2753,120,15379,35,5110,186,9475,100,4799,110,1345,89]
[null,"30 to 34 years",45458,290,1697,68,1223,76,2413,81,1007,52,2715,89,15323,4,5169,155,9799,174,4634,207,1478,115]
[null,"35 to 39 years",42335,1385,1786,277,1211,206,1893,249,931,132,2612,315,13292,709,4889,378,10081,634,4417,390,1223,204]
[null,"40 to 44 years",41098,1367,1701,281,1139,217,2252,233,1104,140,2363,318,13935,712,4874,333,9152,596,3457,369,1121,213]
[null,"45 to 49 years",42151,243,1892,98,1350,56,2057,96,1101,60,2366,95,13606,4,4761,90,10220,79,3456,84,1342,51]
[null,"50 to 54 years",49239,313,2186,100,1719,41,2582,113,1222,43,2773,85,15483,3,5359,115,12023,78,4297,203,1595,48]
[null,"55 to 59 years",54894,1245,2602,329,2641,257,2830,245,1428,173,3655,293,16122,802,5677,416,13564,693,4340,376,2035,280]
[null,"60 and 61 years",21938,952,1115,227,754,165,1068,170,478,117,1576,253,6806,603,2467,402,5021,452,1928,320,725,189]
[null,"62 to 64 years",31013,1064,1917,273,1281,201,1958,268,932,147,1728,199,8891,717,3367,326,7536,599,2665,346,738,165]
[null,"65 and 66 years",18148,806,752,178,1144,246,904,197,473,92,1360,175,5506,546,2318,270,3721,378,1195,269,775,152]
[null,"67 to 69 years",25469,939,1651,248,1216,201,1439,218,834,129,1800,199,6246,499,2431,261,6421,513,2231,297,1200,210]
[null,"70 to 74 years",33789,1169,2025,250,2287,244,2423,266,1065,124,2658,275,8453,559,3727,322,7633,493,2465,283,1053,184]
[null,"75 to 79 years",20672,750,1151,159,1526,185,1257,186,682,85,1652,185,5047,371,2280,207,4609,373,1483,231,985,165]
[null,"80 to 84 years",11942,610,631,133,682,164,606,131,430,85,1036,152,3170,299,1362,181,2820,358,935,159,270,103]
[null,"85 years and over",10638,634,720,171,496,120,830,209,250,60,871,169,2876,371,1047,150,2258,279,966,210,324,141]
[null,"Female:",689885,460,32256,158,25024,114,38840,131,14792,86,45732,145,210457,44,77195,135,157947,78,66131,221,21511,133]
[null,"Under 5 years",31094,235,1349,116,840,49,1691,58,584,32,1858,108,10520,42,3421,102,6939,51,2903,126,989,72]
[null,"5 to 9 years",33027,1118,1505,272,1010,193,1710,203,616,114,1782,258,10927,644,4040,327,7815,495,2626,339,996,194]
[null,"10 to 14 years",37135,1121,1793,280,1051,192,2088,213,718,116,2228,255,12026,634,3919,324,8512,491,3743,348,1057,195]
[null,"15 to 17 years",23692,184,1069,54,667,32,1225,90,458,4,1313,40,7707,33,2714,84,5791,48,2036,115,712,38]
[null,"18 and 19 years",18326,267,644,76,386,41,1502,66,244,18,1943,106,4786,60,2311,144,2910,128,3237,113,363,31]
[null,"20 years",9051,869,380,161,247,115,765,163,89,55,465,134,2655,386,1128,229,1396,277,1654,363,272,158]
[null,"21 years",8412,808,325,133,69,52,625,153,67,51,807,195,2269,413,1235,301,1343,255,1568,396,104,65]
[null,"22 to 24 years",25729,889,842,171,661,117,1397,199,484,73,2112,238,7829,413,2467,326,5578,323,3780,494,579,145]
[null,"25 to 29 years",40665,310,1551,22,1083,52,2111,66,706,37,2574,65,14039,58,4449,162,8780,95,4202,202,1170,52]
[null,"30 to 34 years",42421,285,1705,82,1169,26,2268,77,698,12,2813,95,14251,39,4648,137,9529,122,4135,206,1205,47]
[null,"35 to 39 years",40930,1153,1603,268,1409,197,2343,207,767,122,2536,260,12952,680,4231,387,10016,520,3945,324,1128,185]
[null,"40 to 44 years",39252,1157,2086,266,1051,194,1833,203,729,115,2301,296,13078,672,4859,376,8598,504,3471,319,1246,203]
[null,"45 to 49 years",41836,264,1884,94,1305,19,2086,66,865,12,2440,31,13340,78,4572,98,10179,45,3858,203,1307,55]
[null,"50 to 54 years",48458,229,2178,53,1696,49,2464,54,999,13,2848,45,15037,4,5343,106,12126,99,4285,141,1482,38]
[null,"55 to 59 years",55315,1265,2989,278,2515,264,3115,284,1251,106,3478,296,15852,637,5738,388,13406,667,5219,446,1752,230]
[null,"60 and 61 years",22960,1171,1255,229,992,177,1502,223,525,104,1637,248,6664,609,2604,313,5746,674,1519,247,516,103]
[null,"62 to 64 years",30491,1119,1483,217,1419,216,1402,219,886,112,2020,282,8898,641,3553,332,7212,511,2235,297,1383,239]
[null,"65 and 66 years",17986,801,889,167,966,209,1015,180,597,124,1488,218,4853,446,2035,318,3902,369,1647,315,594,147]
[null,"67 to 69 years",25269,977,1334,217,1164,204,1551,182,693,135,1673,209,7065,517,2835,285,5703,498,2259,352,992,200]
[null,"70 to 74 years",38153,1036,2415,246,2367,260,2480,256,972,119,2759,268,9271,557,4451,363,9208,508,2755,282,1475,224]
[null,"75 to 79 years",24445,874,1186,216,1452,208,1218,222,699,148,1914,257,6421,469,2986,284,5862,513,1771,272,936,177]
[null,"80 to 84 years",16332,864,792,148,750,188,1220,236,466,111,1036,215,4878,507,1563,251,3433,344,1670,260,524,143]
[null,"85 years and over",18906,802,999,203,755,172,1229,245,679,127,1707,283,5139,408,2093,260,3963,484,1613,239,729,171]
[]
[]
[]
[]
[]
[]
[]
[]
[]
[]
[]
[]
[]
[null,"Calculated B01001. GENDER BY AGE"]
[null,"Universe:  TOTAL POPULATION"]
[null,{"$f":"ACS_Tbl_B11001_B11002_B25010!$B$3","v":"Data Set: 2018-2022 American Community Survey 5-Year Estimate"}]
[]
[null,null,"New Hampshire",null,"Belknap County",null,"Carroll County",null,"Cheshire County",null,"Coos County",null,"Grafton County",null,"Hillsborough County",null,"Merrimack County",null,"Rockingham County",null,"Strafford County",null,"Sullivan County"]
[null," ","Estimate","Margin of Error","Estimate","Margin of Error","Estimate","Margin of Error","Estimate","Margin of Error","Estimate","Margin of Error","Estimate","Margin of Error","Estimate",null,"Estimate","Margin of Error","Estimate","Margin of Error","Estimate","Margin of Error","Estimate","Margin of Error"]
[null,"Total",{"$f":"C7","v":1379610},"*****",63914,"*****",50679,"*****",76610,"*****",31430,"*****",90836,"*****",422733,"*****",153918,"*****",315169,"*****",130965,"*****",43356,"*****"]
[null,"Under 15 yrs.",{"$f":"C9+C10+C11+C33+C34+C35","v":207337},{"$f":"SQRT((D9^2)+(D10^2)+(D11^2)+(D33^2)+(D34^2)+(D35^2))","v":2221.437147434066},{"$f":"E9+E10+E11+E33+E34+E35","v":9238},{"$f":"SQRT((F9^2)+(F10^2)+(F11^2)+(F33^2)+(F34^2)+(F35^2))","v":563.23085852960867},{"$f":"G9+G10+G11+G33+G34+G35","v":6260},{"$f":"SQRT((H9^2)+(H10^2)+(H11^2)+(H33^2)+(H34^2)+(H35^2))","v":442.97855478566908},{"$f":"I9+I10+I11+I33+I34+I35","v":11262},{"$f":"SQRT((J9^2)+(J10^2)+(J11^2)+(J33^2)+(J34^2)+(J35^2))","v":410.5204014418772},{"$f":"K9+K10+K11+K33+K34+K35","v":3946},{"$f":"SQRT((L9^2)+(L10^2)+(L11^2)+(L33^2)+(L34^2)+(L35^2))","v":257.87787807409927},{"$f":"M9+M10+M11+M33+M34+M35","v":11832},{"$f":"SQRT((N9^2)+(N10^2)+(N11^2)+(N33^2)+(N34^2)+(N35^2))","v":484.53998802988389},{"$f":"O9+O10+O11+O33+O34+O35","v":68624},{"$f":"SQRT((P9^2)+(P10^2)+(P11^2)+(P33^2)+(P34^2)+(P35^2))","v":1390.7127668932935},{"$f":"Q9+Q10+Q11+Q33+Q34+Q35","v":23136},{"$f":"SQRT((R9^2)+(R10^2)+(R11^2)+(R33^2)+(R34^2)+(R35^2))","v":691.8229542303435},{"$f":"S9+S10+S11+S33+S34+S35","v":47720},{"$f":"SQRT((T9^2)+(T10^2)+(T11^2)+(T33^2)+(T34^2)+(T35^2))","v":1051.230707314051},{"$f":"U9+U10+U11+U33+U34+U35","v":19154},{"$f":"SQRT((V9^2)+(V10^2)+(V11^2)+(V33^2)+(V34^2)+(V35^2))","v":732.65885649461711},{"$f":"W9+W10+W11+W33+W34+W35","v":6165},{"$f":"SQRT((X9^2)+(X10^2)+(X11^2)+(X33^2)+(X34^2)+(X35^2))","v":364.35010635376517}]
[null,"15 to 24 yrs.",{"$f":"C12+C13+C14+C15+C16+C36+C37+C38+C39+C40","v":174920},{"$f":"SQRT((D12^2)+(D13^2)+(D14^2)+(D15^2)+(D16^2)+(D36^2)+(D37^2)+(D38^2)+(D39^2)+(D40^2))","v":2096.9535044916947},{"$f":"E12+E13+E14+E15+E16+E36+E37+E38+E39+E40","v":6695},{"$f":"SQRT((F12^2)+(F13^2)+(F14^2)+(F15^2)+(F16^2)+(F36^2)+(F37^2)+(F38^2)+(F39^2)+(F40^2))","v":396.79339712248236},{"$f":"G12+G13+G14+G15+G16+G36+G37+G38+G39+G40","v":4427},{"$f":"SQRT((H12^2)+(H13^2)+(H14^2)+(H15^2)+(H16^2)+(H36^2)+(H37^2)+(H38^2)+(H39^2)+(H40^2))","v":297.82713106767153},{"$f":"I12+I13+I14+I15+I16+I36+I37+I38+I39+I40","v":10788},{"$f":"SQRT((J12^2)+(J13^2)+(J14^2)+(J15^2)+(J16^2)+(J36^2)+(J37^2)+(J38^2)+(J39^2)+(J40^2))","v":492.82958515089166},{"$f":"K12+K13+K14+K15+K16+K36+K37+K38+K39+K40","v":2973},{"$f":"SQRT((L12^2)+(L13^2)+(L14^2)+(L15^2)+(L16^2)+(L36^2)+(L37^2)+(L38^2)+(L39^2)+(L40^2))","v":188.85179374313606},{"$f":"M12+M13+M14+M15+M16+M36+M37+M38+M39+M40","v":13862},{"$f":"SQRT((N12^2)+(N13^2)+(N14^2)+(N15^2)+(N16^2)+(N36^2)+(N37^2)+(N38^2)+(N39^2)+(N40^2))","v":685.3590299981463},{"$f":"O12+O13+O14+O15+O16+O36+O37+O38+O39+O40","v":52236},{"$f":"SQRT((P12^2)+(P13^2)+(P14^2)+(P15^2)+(P16^2)+(P36^2)+(P37^2)+(P38^2)+(P39^2)+(P40^2))","v":1075.9595717312059},{"$f":"Q12+Q13+Q14+Q15+Q16+Q36+Q37+Q38+Q39+Q40","v":19984},{"$f":"SQRT((R12^2)+(R13^2)+(R14^2)+(R15^2)+(R16^2)+(R36^2)+(R37^2)+(R38^2)+(R39^2)+(R40^2))","v":699.67206604237106},{"$f":"S12+S13+S14+S15+S16+S36+S37+S38+S39+S40","v":35453},{"$f":"SQRT((T12^2)+(T13^2)+(T14^2)+(T15^2)+(T16^2)+(T36^2)+(T37^2)+(T38^2)+(T39^2)+(T40^2))","v":853.54554652929914},{"$f":"U12+U13+U14+U15+U16+U36+U37+U38+U39+U40","v":23959},{"$f":"SQRT((V12^2)+(V13^2)+(V14^2)+(V15^2)+(V16^2)+(V36^2)+(V37^2)+(V38^2)+(V39^2)+(V40^2))","v":992.41977005700562},{"$f":"W12+W13+W14+W15+W16+W36+W37+W38+W39+W40","v":4543},{"$f":"SQRT((X12^2)+(X13^2)+(X14^2)+(X15^2)+(X16^2)+(X36^2)+(X37^2)+(X38^2)+(X39^2)+(X40^2))","v":309.63042486164051}]
[null,"25 to 34 yrs.",{"$f":"C17+C18+C41+C42","v":173694},{"$f":"SQRT((D17^2)+(D18^2)+(D41^2)+(D42^2))","v":590.79691942324814},{"$f":"E17+E18+E41+E42","v":6759},{"$f":"SQRT((F17^2)+(F18^2)+(F41^2)+(F42^2))","v":146.41038214552955},{"$f":"G17+G18+G41+G42","v":4705},{"$f":"SQRT((H17^2)+(H18^2)+(H41^2)+(H42^2))","v":127.32635233917604},{"$f":"I17+I18+I41+I42","v":9003},{"$f":"SQRT((J17^2)+(J18^2)+(J41^2)+(J42^2))","v":145.60906565183365},{"$f":"K17+K18+K41+K42","v":3453},{"$f":"SQRT((L17^2)+(L18^2)+(L41^2)+(L42^2))","v":112.60994627474076},{"$f":"M17+M18+M41+M42","v":10855},{"$f":"SQRT((N17^2)+(N18^2)+(N41^2)+(N42^2))","v":188.6027571378531},{"$f":"O17+O18+O41+O42","v":58992},{"$f":"SQRT((P17^2)+(P18^2)+(P41^2)+(P42^2))","v":78.268767717397978},{"$f":"Q17+Q18+Q41+Q42","v":19376},{"$f":"SQRT((R17^2)+(R18^2)+(R41^2)+(R42^2))","v":321.92235088604832},{"$f":"S17+S18+S41+S42","v":37583},{"$f":"SQRT((T17^2)+(T18^2)+(T41^2)+(T42^2))","v":253.34758731829282},{"$f":"U17+U18+U41+U42","v":17770},{"$f":"SQRT((V17^2)+(V18^2)+(V41^2)+(V42^2))","v":371.7378108290842},{"$f":"W17+W18+W41+W42","v":5198},{"$f":"SQRT((X17^2)+(X18^2)+(X41^2)+(X42^2))","v":161.42800252744254}]
[null,"35 to 44 yrs.",{"$f":"C19+C20+C43+C44","v":163615},{"$f":"SQRT((D19^2)+(D20^2)+(D43^2)+(D44^2))","v":2540.663692817292},{"$f":"E19+E20+E43+E44","v":7176},{"$f":"SQRT((F19^2)+(F20^2)+(F43^2)+(F44^2))","v":546.1410074330621},{"$f":"G19+G20+G43+G44","v":4810},{"$f":"SQRT((H19^2)+(H20^2)+(H43^2)+(H44^2))","v":407.39415803371554},{"$f":"I19+I20+I43+I44","v":8321},{"$f":"SQRT((J19^2)+(J20^2)+(J43^2)+(J44^2))","v":447.60250222714348},{"$f":"K19+K20+K43+K44","v":3531},{"$f":"SQRT((L19^2)+(L20^2)+(L43^2)+(L44^2))","v":255.21167684884639},{"$f":"M19+M20+M43+M44","v":9812},{"$f":"SQRT((N19^2)+(N20^2)+(N43^2)+(N44^2))","v":596.29271335477506},{"$f":"O19+O20+O43+O44","v":53257},{"$f":"SQRT((P19^2)+(P20^2)+(P43^2)+(P44^2))","v":1386.9423203579881},{"$f":"Q19+Q20+Q43+Q44","v":18853},{"$f":"SQRT((R19^2)+(R20^2)+(R43^2)+(R44^2))","v":738.18561351464984},{"$f":"S19+S20+S43+S44","v":37847},{"$f":"SQRT((T19^2)+(T20^2)+(T43^2)+(T44^2))","v":1132.0724358449861},{"$f":"U19+U20+U43+U44","v":15290},{"$f":"SQRT((V19^2)+(V20^2)+(V43^2)+(V44^2))","v":703.56094263396972},{"$f":"W19+W20+W43+W44","v":4718},{"$f":"SQRT((X19^2)+(X20^2)+(X43^2)+(X44^2))","v":403.01240675691361}]
[null,"45 to 54 yrs.",{"$f":"C21+C22+C45+C46","v":181684},{"$f":"SQRT((D21^2)+(D22^2)+(D45^2)+(D46^2))","v":528.35120895101579},{"$f":"E21+E22+E45+E46","v":8140},{"$f":"SQRT((F21^2)+(F22^2)+(F45^2)+(F46^2))","v":176.77386684688435},{"$f":"G21+G22+G45+G46","v":6070},{"$f":"SQRT((H21^2)+(H22^2)+(H45^2)+(H46^2))","v":87.057452294447486},{"$f":"I21+I22+I45+I46","v":9189},{"$f":"SQRT((J21^2)+(J22^2)+(J45^2)+(J46^2))","v":171.04677722775136},{"$f":"K21+K22+K45+K46","v":4187},{"$f":"SQRT((L21^2)+(L22^2)+(L45^2)+(L46^2))","v":75.907838857393372},{"$f":"M21+M22+M45+M46","v":10427},{"$f":"SQRT((N21^2)+(N22^2)+(N45^2)+(N46^2))","v":138.69390758068647},{"$f":"O21+O22+O45+O46","v":57466},{"$f":"SQRT((P21^2)+(P22^2)+(P45^2)+(P46^2))","v":78.262379212492633},{"$f":"Q21+Q22+Q45+Q46","v":20035},{"$f":"SQRT((R21^2)+(R22^2)+(R45^2)+(R46^2))","v":205.34117950377123},{"$f":"S21+S22+S45+S46","v":44548},{"$f":"SQRT((T21^2)+(T22^2)+(T45^2)+(T46^2))","v":155.40592009315475},{"$f":"U21+U22+U45+U46","v":15896},{"$f":"SQRT((V21^2)+(V22^2)+(V45^2)+(V46^2))","v":330.68867534283663},{"$f":"W21+W22+W45+W46","v":5726},{"$f":"SQRT((X21^2)+(X22^2)+(X45^2)+(X46^2))","v":96.819419539677057}]
[null,"55 to 64 yrs.",{"$f":"C23+C24+C25+C47+C48+C49","v":216611},{"$f":"SQRT((D23^2)+(D24^2)+(D25^2)+(D47^2)+(D48^2)+(D49^2))","v":2795.0048300494936},{"$f":"E23+E24+E25+E47+E48+E49","v":11361},{"$f":"SQRT((F23^2)+(F24^2)+(F25^2)+(F47^2)+(F48^2)+(F49^2))","v":641.18094170054678},{"$f":"G23+G24+G25+G47+G48+G49","v":9602},{"$f":"SQRT((H23^2)+(H24^2)+(H25^2)+(H47^2)+(H48^2)+(H49^2))","v":530.43001423373471},{"$f":"I23+I24+I25+I47+I48+I49","v":11875},{"$f":"SQRT((J23^2)+(J24^2)+(J25^2)+(J47^2)+(J48^2)+(J49^2))","v":582.31864129529629},{"$f":"K23+K24+K25+K47+K48+K49","v":5500},{"$f":"SQRT((L23^2)+(L24^2)+(L25^2)+(L47^2)+(L48^2)+(L49^2))","v":315.94778049544834},{"$f":"M23+M24+M25+M47+M48+M49","v":14094},{"$f":"SQRT((N23^2)+(N24^2)+(N25^2)+(N47^2)+(N48^2)+(N49^2))","v":646.60884621229854},{"$f":"O23+O24+O25+O47+O48+O49","v":63233},{"$f":"SQRT((P23^2)+(P24^2)+(P25^2)+(P47^2)+(P48^2)+(P49^2))","v":1645.7317521394548},{"$f":"Q23+Q24+Q25+Q47+Q48+Q49","v":23406},{"$f":"SQRT((R23^2)+(R24^2)+(R25^2)+(R47^2)+(R48^2)+(R49^2))","v":894.24437375920911},{"$f":"S23+S24+S25+S47+S48+S49","v":52485},{"$f":"SQRT((T23^2)+(T24^2)+(T25^2)+(T47^2)+(T48^2)+(T49^2))","v":1484.4662340383495},{"$f":"U23+U24+U25+U47+U48+U49","v":17906},{"$f":"SQRT((V23^2)+(V24^2)+(V25^2)+(V47^2)+(V48^2)+(V49^2))","v":843.57927902479923},{"$f":"W23+W24+W25+W47+W48+W49","v":7149},{"$f":"SQRT((X23^2)+(X24^2)+(X25^2)+(X47^2)+(X48^2)+(X49^2))","v":511.83591120592547}]
[null,"65 to 74 yrs.",{"$f":"C26+C27+C28+C50+C51+C52","v":158814},{"$f":"SQRT((D26^2)+(D27^2)+(D28^2)+(D50^2)+(D51^2)+(D52^2))","v":2359.5219854877387},{"$f":"E26+E27+E28+E50+E51+E52","v":9066},{"$f":"SQRT((F26^2)+(F27^2)+(F28^2)+(F50^2)+(F51^2)+(F52^2))","v":539.61282416191705},{"$f":"G26+G27+G28+G50+G51+G52","v":9144},{"$f":"SQRT((H26^2)+(H27^2)+(H28^2)+(H50^2)+(H51^2)+(H52^2))","v":559.77674121027928},{"$f":"I26+I27+I28+I50+I51+I52","v":9812},{"$f":"SQRT((J26^2)+(J27^2)+(J28^2)+(J50^2)+(J51^2)+(J52^2))","v":536.79511920284824},{"$f":"K26+K27+K28+K50+K51+K52","v":4634},{"$f":"SQRT((L26^2)+(L27^2)+(L28^2)+(L50^2)+(L51^2)+(L52^2))","v":297.05723354262898},{"$f":"M26+M27+M28+M50+M51+M52","v":11738},{"$f":"SQRT((N26^2)+(N27^2)+(N28^2)+(N50^2)+(N51^2)+(N52^2))","v":555.76973649165177},{"$f":"O26+O27+O28+O50+O51+O52","v":41394},{"$f":"SQRT((P26^2)+(P27^2)+(P28^2)+(P50^2)+(P51^2)+(P52^2))","v":1279.0824836577194},{"$f":"Q26+Q27+Q28+Q50+Q51+Q52","v":17797},{"$f":"SQRT((R26^2)+(R27^2)+(R28^2)+(R50^2)+(R51^2)+(R52^2))","v":747.54464749605427},{"$f":"S26+S27+S28+S50+S51+S52","v":36588},{"$f":"SQRT((T26^2)+(T27^2)+(T28^2)+(T50^2)+(T51^2)+(T52^2))","v":1136.3674581753914},{"$f":"U26+U27+U28+U50+U51+U52","v":12552},{"$f":"SQRT((V26^2)+(V27^2)+(V28^2)+(V50^2)+(V51^2)+(V52^2))","v":737.0970085409383},{"$f":"W26+W27+W28+W50+W51+W52","v":6089},{"$f":"SQRT((X26^2)+(X27^2)+(X28^2)+(X50^2)+(X51^2)+(X52^2))","v":461.35127614432798}]
[null,"Over 74 yrs. ",{"$f":"C29+C30+C31+C53+C54+C55","v":102935},{"$f":"SQRT((D29^2)+(D30^2)+(D31^2)+(D53^2)+(D54^2)+(D55^2))","v":1868.1894978829102},{"$f":"E29+E30+E31+E53+E54+E55","v":5479},{"$f":"SQRT((F29^2)+(F30^2)+(F31^2)+(F53^2)+(F54^2)+(F55^2))","v":426.59113914848257},{"$f":"G29+G30+G31+G53+G54+G55","v":5661},{"$f":"SQRT((H29^2)+(H30^2)+(H31^2)+(H53^2)+(H54^2)+(H55^2))","v":428.61754513785365},{"$f":"I29+I30+I31+I53+I54+I55","v":6360},{"$f":"SQRT((J29^2)+(J30^2)+(J31^2)+(J53^2)+(J54^2)+(J55^2))","v":510.33616371956242},{"$f":"K29+K30+K31+K53+K54+K55","v":3206},{"$f":"SQRT((L29^2)+(L30^2)+(L31^2)+(L53^2)+(L54^2)+(L55^2))","v":261.54158369177168},{"$f":"M29+M30+M31+M53+M54+M55","v":8216},{"$f":"SQRT((N29^2)+(N30^2)+(N31^2)+(N53^2)+(N54^2)+(N55^2))","v":527.49691942228435},{"$f":"O29+O30+O31+O53+O54+O55","v":27531},{"$f":"SQRT((P29^2)+(P30^2)+(P31^2)+(P53^2)+(P54^2)+(P55^2))","v":1004.0702166681372},{"$f":"Q29+Q30+Q31+Q53+Q54+Q55","v":11331},{"$f":"SQRT((R29^2)+(R30^2)+(R31^2)+(R53^2)+(R54^2)+(R55^2))","v":556.20769502048427},{"$f":"S29+S30+S31+S53+S54+S55","v":22945},{"$f":"SQRT((T29^2)+(T30^2)+(T31^2)+(T53^2)+(T54^2)+(T55^2))","v":980.25251848694575},{"$f":"U29+U30+U31+U53+U54+U55","v":8438},{"$f":"SQRT((V29^2)+(V30^2)+(V31^2)+(V53^2)+(V54^2)+(V55^2))","v":566.96296175323482},{"$f":"W29+W30+W31+W53+W54+W55","v":3768},{"$f":"SQRT((X29^2)+(X30^2)+(X31^2)+(X53^2)+(X54^2)+(X55^2))","v":372.47013303082434}]
[]
[]
[]
[]
[]
[]
[]
[]
[]
[]
[]
[]
[]
[]
[]
[]
[]
[]
[]
[]
[]
[]
[]
[]
[]
[]
[]
[]
[]
[]
[]
[]
[]
[]
[]
[]
[]
[]
[]
[]
[]
[]
[]
[]
[]
[]
[]
[]
[]
[]
[]
[]
[]
[]
[]
[]
[]
[]
[]
[]
[]
[]
[]
[]
[]
[]
[]
[]
[]
[]
[]
[]
[]
[]
[]
[]
[null,"Calculated B01001. GENDER BY AGE"]
[null,"Universe:  TOTAL POPULATION"]
[null,"Data Set: 2013-2017 American Community Survey 5-Year Estimates"]
[]
[null,null,"New Hampshire",null,"Belknap County",null,"Carroll County",null,"Cheshire County",null,"Coos County",null,"Grafton County",null,"Hillsborough County",null,"Merrimack County",null,"Rockingham County",null,"Strafford County",null,"Sullivan County"]
[null," ","Estimate","Margin of Error","Estimate","Margin of Error","Estimate","Margin of Error","Estimate","Margin of Error","Estimate","Margin of Error","Estimate","Margin of Error","Estimate",null,"Estimate","Margin of Error","Estimate","Margin of Error","Estimate","Margin of Error","Estimate","Margin of Error"]
[null,"Total",1331848,"*****",60383,"*****",47524,"*****",76109,"*****",32119,"*****",89280,"*****",406371,"*****",147958,"*****",302479,"*****",126552,"*****",43073,"*****"]
[null,"Under 15 yrs.",213801,2105.655954803633,9355,438.57838524031257,6218,347.59459144238707,11418,441.80199184702644,4281,222.49943820153794,12274,423.08273422582494,70557,1250.885686223965,23635,581.65195778919201,49067,950.45883656263618,20136,634.23812562790647,6860,362.07733980463343]
[null,"15 to 24 yrs.",178576,1895.1712323692548,6559,352.68257683078139,4732,311.68253079054654,12088,577.09964477549283,3310,186.63600938725625,14703,656.41069461123197,52308,900.76689548406478,19875,616.40489939649251,35675,728.44011421667324,24653,786.46296797751381,4673,263.72144395175758]
[null,"25 to 34 yrs.",156374,515.9273204628729,6230,124.45481107614924,4051,89.26925562588724,8830,136.68577102244404,3461,120.0833044182246,10662,216.64487069856975,52187,107.12142642814275,16962,240.19991673603886,33873,170.80105386091739,15603,231.0454500742224,4515,81.172655494322711]
[null,"35 to 44 yrs.",156530,2026.139926066312,6647,417.44221156945781,4717,366.3905020603018,7849,396.77323498441774,3667,269.67943933492592,9213,492.63272323303897,50899,1275.3768070652688,17647,613.96905459477352,36411,877.23543020103784,14538,697.28043139041267,4942,366.61969396092184]
[null,"45 to 54 yrs.",205335,424.53621753626629,9088,143.37712509323097,6968,84.728979694081062,10573,97.759909983591939,4899,79.13279977354523,11850,150.70500987027606,64277,47.916594202843754,22510,205.15603817582362,51208,129.26716520447101,17479,259.58813532209058,6483,74.558701705434757]
[null,"55 to 64 yrs.",201939,2056.110405595964,10238,510.08038582168598,8816,474.58086771381755,11646,484.23961011053194,5467,250.46955902863726,13826,535.01308395215904,57623,1160.498168891274,22787,644.76507349576559,47799,979.53356246736132,16547,637.02668703909103,7190,388.36966925855575]
[null,"65 to 74 yrs.",129717,1737.9792864128158,7418,456.66289536155659,7257,439.21065560844494,8023,396.18051441230676,3971,211.8726032312814,9668,424.99294111784963,34289,966.3291364747314,14156,504.89701920292617,29588,783.09769505471024,10325,571.81290646504294,5022,335.69778074929241]
[null,"Over 74 yrs. ",89576,1588.1190131725016,4848,335.113413637831,4765,384.97792144485379,5682,380.30251116709707,3063,213.03990236573054,7084,439.90567170701496,24231,850.91245143081551,10386,491.73163412576986,18858,747.13787214944466,7271,505.82902249673259,3388,279.51923010769758]
[]
[]
[]
[]
[]
[]
[]
[]
[]
[]
[]
[]
[]
[]
[]
[]
[]
[]
[]
[]
[]
[]
[]
[]
[]
[]
[]
[]
[]
[]
[]
[]
[]
[]
[]
[]
[]
[]
[]
[]
[]
[]
[]
[]
[]
[]
[]
[]
[]
[]
[]
[]
[]
[]
[]
[]
[]
[]
[]
[]
[]
[]
[]
[]
[]
[]
[]
[]
[]
[]
[]
[]
[]
[]
[]
[]
[null,"Calculated B01001. GENDER BY AGE"]
[null,"Universe:  TOTAL POPULATION"]
[null,"Data Set: 2008-2012 American Community Survey 5-Year Estimates"]
[]
[null,null,"New Hampshire",null,"Belknap County",null,"Carroll County",null,"Cheshire County",null,"Coos County",null,"Grafton County",null,"Hillsborough County",null,"Merrimack County",null,"Rockingham County",null,"Strafford County",null,"Sullivan County"]
[null," ","Estimate","Margin of Error","Estimate","Margin of Error","Estimate","Margin of Error","Estimate","Margin of Error","Estimate","Margin of Error","Estimate","Margin of Error","Estimate",null,"Estimate","Margin of Error","Estimate","Margin of Error","Estimate","Margin of Error","Estimate","Margin of Error"]
[null,"Total",1317474,"*****",60206,"*****",47761,"*****",77106,"*****",32872,"*****",88985,"*****",401101,"*****",146742,"*****",295872,"*****",123295,"*****",43534,"*****"]
[null,"Under 15 yrs.",231082,1857.3268425347219,10000,415.26015941816524,7085,400.9214386884293,12195,467.6740317785455,4897,225.37746116237977,13190,412,76235,1106.1107539482653,25568,631.147367894377,53807,962.97767367680956,20775,613.57151172459112,7330,365.10135579041611]
[null,"15 to 24 yrs.",179054,1770.7732774130063,6728,321.09344434292024,4569,238.8283902721785,13400,690.12679994331472,3427,174.2067736914957,15715,611.38285877181738,51950,958.72206608589124,19567,552.14490851587141,35204,650.52056078190185,23723,903.48990033093344,4771,224.09373038976346]
[null,"25 to 34 yrs.",145270,534.40434129973153,6208,130.96946208945045,4036,119.7246841716444,7868,127.83192089615176,3168,70.583284140085183,9572,205.22914023110852,49524,115.39930675701653,16141,228.79029699705362,29634,177.10448893238137,14616,233.98504225697846,4503,88.76936408468859]
[null,"35 to 44 yrs.",179209,1944.0635277685758,7545,433.66000507309872,5519,412.08979603964957,9286,405.51078900566876,4170,235.40178419034976,10211,473.61059954354909,57702,1170.7728216865985,19919,669.87461513330982,43159,889.59934802134387,15986,635.38020113944378,5712,346.04334988553097]
[null,"45 to 54 yrs.",223407,451.32028538500236,10043,113.63538181394033,8300,136.38548309845882,12025,118.84022887894486,5506,71.435285398743943,13635,142.05984654363104,67838,88.667919790643566,24929,169.41074346097417,54832,203.03447983039729,19010,227.51922995650278,7289,83.036136711675113]
[null,"55 to 64 yrs.",178949,1995.6447579667079,9556,508.38174632848495,8301,538.85990758266666,10850,458.5989533350463,5292,239.80200165970257,12759,463.57955088636083,49624,1027.8200231558053,20302,588.16919334490819,41240,990.69672453279065,14344,553.03706928197857,6681,356.29201506629363]
[null,"65 to 74 yrs.",98760,1471.1940728537484,5559,354.1680392130267,5597,404.65293771329522,6221,374.70121430280955,3334,205.26324561401634,7471,368.86718476980303,26124,703.8053708234969,10782,457.83621525606731,21671,729.77873358984641,7978,437.09953099951963,4023,279.31165389220695]
[null,"Over 74 yrs. ",81743,1293.3746556972578,4567,318.700486350429,4354,356.88933859111006,5261,337.28622859523927,3078,194.32704392338189,6432,351.61911210854282,22104,669.40720043931412,9534,452.83219850182917,16325,684.21634005627197,6863,426.84891940826088,3225,244.88364584022347]

{"sheet":"ACS_Table_B01002","index":19,"n_rows":49,"n_cols":24,"rows_kept":49,"cut":false,"hidden":true,"merged":[[64829,12,64829,13],[64829,14,64829,15],[64767,2,64767,3],[64767,4,64767,5],[64767,6,64767,7],[64767,8,64767,9],[64767,10,64767,11],[64767,12,64767,13],[64849,6,64849,7],[64849,8,64849,9],[64849,10,64849,11],[64849,12,64849,13],[64767,14,64767,15],[64829,2,64829,3],[64829,4,64829,5],[64829,6,64829,7],[64829,8,64829,9],[64829,10,64829,11],[64849,14,64849,15],[64911,2,64911,3],[64911,4,64911,5],[64911,6,64911,7],[64911,8,64911,9],[64911,10,64911,11],[64911,12,64911,13],[64911,14,64911,15],[64849,2,64849,3],[64849,4,64849,5],[64931,10,64931,11],[64931,12,64931,13],[64931,14,64931,15],[64931,2,64931,3],[64931,4,64931,5],[64931,6,64931,7],[64931,8,64931,9],[64583,2,64583,3],[64583,4,64583,5],[64583,6,64583,7],[64583,8,64583,9],[64583,10,64583,11],[64583,12,64583,13],[64583,14,64583,15],[64521,2,64521,3],[64521,4,64521,5],[64665,12,64665,13],[64665,14,64665,15],[64603,2,64603,3],[64603,4,64603,5],[64603,6,64603,7],[64603,8,64603,9],[64603,10,64603,11],[64603,12,64603,13],[64685,6,64685,7],[64685,8,64685,9],[64685,10,64685,11],[64685,12,64685,13],[64603,14,64603,15],[64665,2,64665,3],[64665,4,64665,5],[64665,6,64665,7],[64665,8,64665,9],[64665,10,64665,11],[64685,14,64685,15],[64747,2,64747,3],[64747,4,64747,5],[64747,6,64747,7],[64747,8,64747,9],[64747,10,64747,11],[64747,12,64747,13],[64747,14,64747,15],[64685,2,64685,3],[64685,4,64685,5],[64357,6,64357,7],[64357,8,64357,9],[64357,10,64357,11],[64357,12,64357,13],[64275,14,64275,15],[64337,2,64337,3],[64337,4,64337,5],[64337,6,64337,7],[64337,8,64337,9],[64337,10,64337,11],[64357,14,64357,15],[64419,2,64419,3],[64419,4,64419,5],[64419,6,64419,7],[64419,8,64419,9],[64419,10,64419,11],[64419,12,64419,13],[64419,14,64419,15],[64357,2,64357,3],[64357,4,64357,5],[64501,12,64501,13],[64501,14,64501,15],[64439,2,64439,3],[64439,4,64439,5],[64439,6,64439,7],[64439,8,64439,9],[64439,10,64439,11],[64439,12,64439,13],[64521,6,64521,7],[64521,8,64521,9],[64521,10,64521,11],[64521,12,64521,13],[64439,14,64439,15],[64501,2,64501,3],[64501,4,64501,5],[64501,6,64501,7],[64501,8,64501,9],[64501,10,64501,11],[64521,14,64521,15],[64173,12,64173,13],[64173,14,64173,15],[64111,2,64111,3],[64111,4,64111,5],[64111,6,64111,7],[64111,8,64111,9],[64111,10,64111,11],[64111,12,64111,13],[64193,6,64193,7],[64193,8,64193,9],[64193,10,64193,11],[64193,12,64193,13],[64111,14,64111,15],[64173,2,64173,3],[64173,4,64173,5],[64173,6,64173,7],[64173,8,64173,9],[64173,10,64173,11],[64193,14,64193,15],[64255,2,64255,3],[64255,4,64255,5],[64255,6,64255,7],[64255,8,64255,9],[64255,10,64255,11],[64255,12,64255,13],[64255,14,64255,15],[64193,2,64193,3],[64193,4,64193,5],[64337,12,64337,13],[64337,14,64337,15],[64275,2,64275,3],[64275,4,64275,5],[64275,6,64275,7],[64275,8,64275,9],[64275,10,64275,11],[64275,12,64275,13],[63927,2,63927,3],[63927,4,63927,5],[63927,6,63927,7],[63927,8,63927,9],[63927,10,63927,11],[63927,12,63927,13],[63927,14,63927,15],[63865,2,63865,3],[63865,4,63865,5],[64009,12,64009,13],[64009,14,64009,15],[63947,2,63947,3],[63947,4,63947,5],[63947,6,63947,7],[63947,8,63947,9],[63947,10,63947,11],[63947,12,63947,13],[64029,6,64029,7],[64029,8,64029,9],[64029,10,64029,11],[64029,12,64029,13],[63947,14,63947,15],[64009,2,64009,3],[64009,4,64009,5],[64009,6,64009,7],[64009,8,64009,9],[64009,10,64009,11],[64029,14,64029,15],[64091,2,64091,3],[64091,4,64091,5],[64091,6,64091,7],[64091,8,64091,9],[64091,10,64091,11],[64091,12,64091,13],[64091,14,64091,15],[64029,2,64029,3],[64029,4,64029,5],[63701,6,63701,7],[63701,8,63701,9],[63701,10,63701,11],[63701,12,63701,13],[63619,14,63619,15],[63681,2,63681,3],[63681,4,63681,5],[63681,6,63681,7],[63681,8,63681,9],[63681,10,63681,11],[63701,14,63701,15],[63763,2,63763,3],[63763,4,63763,5],[63763,6,63763,7],[63763,8,63763,9],[63763,10,63763,11],[63763,12,63763,13],[63763,14,63763,15],[63701,2,63701,3],[63701,4,63701,5],[63845,12,63845,13],[63845,14,63845,15],[63783,2,63783,3],[63783,4,63783,5],[63783,6,63783,7],[63783,8,63783,9],[63783,10,63783,11],[63783,12,63783,13],[63865,6,63865,7],[63865,8,63865,9],[63865,10,63865,11],[63865,12,63865,13],[63783,14,63783,15],[63845,2,63845,3],[63845,4,63845,5],[63845,6,63845,7],[63845,8,63845,9],[63845,10,63845,11],[63865,14,63865,15],[63517,12,63517,13],[63517,14,63517,15],[63455,2,63455,3],[63455,4,63455,5],[63455,6,63455,7],[63455,8,63455,9],[63455,10,63455,11],[63455,12,63455,13],[63537,6,63537,7],[63537,8,63537,9],[63537,10,63537,11],[63537,12,63537,13],[63455,14,63455,15],[63517,2,63517,3],[63517,4,63517,5],[63517,6,63517,7],[63517,8,63517,9],[63517,10,63517,11],[63537,14,63537,15],[63599,2,63599,3],[63599,4,63599,5],[63599,6,63599,7],[63599,8,63599,9],[63599,10,63599,11],[63599,12,63599,13],[63599,14,63599,15],[63537,2,63537,3],[63537,4,63537,5],[63681,12,63681,13],[63681,14,63681,15],[63619,2,63619,3],[63619,4,63619,5],[63619,6,63619,7],[63619,8,63619,9],[63619,10,63619,11],[63619,12,63619,13],[63271,2,63271,3],[63271,4,63271,5],[63271,6,63271,7],[63271,8,63271,9],[63271,10,63271,11],[63271,12,63271,13],[63271,14,63271,15],[63209,2,63209,3],[63209,4,63209,5],[63353,12,63353,13],[63353,14,63353,15],[63291,2,63291,3],[63291,4,63291,5],[63291,6,63291,7],[63291,8,63291,9],[63291,10,63291,11],[63291,12,63291,13],[63373,6,63373,7],[63373,8,63373,9],[63373,10,63373,11],[63373,12,63373,13],[63291,14,63291,15],[63353,2,63353,3],[63353,4,63353,5],[63353,6,63353,7],[63353,8,63353,9],[63353,10,63353,11],[63373,14,63373,15],[63435,2,63435,3],[63435,4,63435,5],[63435,6,63435,7],[63435,8,63435,9],[63435,10,63435,11],[63435,12,63435,13],[63435,14,63435,15],[63373,2,63373,3],[63373,4,63373,5],[63045,6,63045,7],[63045,8,63045,9],[63045,10,63045,11],[63045,12,63045,13],[62963,14,62963,15],[63025,2,63025,3],[63025,4,63025,5],[63025,6,63025,7],[63025,8,63025,9],[63025,10,63025,11],[63045,14,63045,15],[63107,2,63107,3],[63107,4,63107,5],[63107,6,63107,7],[63107,8,63107,9],[63107,10,63107,11],[63107,12,63107,13],[63107,14,63107,15],[63045,2,63045,3],[63045,4,63045,5],[63189,12,63189,13],[63189,14,63189,15],[63127,2,63127,3],[63127,4,63127,5],[63127,6,63127,7],[63127,8,63127,9],[63127,10,63127,11],[63127,12,63127,13],[63209,6,63209,7],[63209,8,63209,9],[63209,10,63209,11],[63209,12,63209,13],[63127,14,63127,15],[63189,2,63189,3],[63189,4,63189,5],[63189,6,63189,7],[63189,8,63189,9],[63189,10,63189,11],[63209,14,63209,15],[62861,12,62861,13],[62861,14,62861,15],[62799,2,62799,3],[62799,4,62799,5],[62799,6,62799,7],[62799,8,62799,9],[62799,10,62799,11],[62799,12,62799,13],[62881,6,62881,7],[62881,8,62881,9],[62881,10,62881,11],[62881,12,62881,13],[62799,14,62799,15],[62861,2,62861,3],[62861,4,62861,5],[62861,6,62861,7],[62861,8,62861,9],[62861,10,62861,11],[62881,14,62881,15],[62943,2,62943,3],[62943,4,62943,5],[62943,6,62943,7],[62943,8,62943,9],[62943,10,62943,11],[62943,12,62943,13],[62943,14,62943,15],[62881,2,62881,3],[62881,4,62881,5],[63025,12,63025,13],[63025,14,63025,15],[62963,2,62963,3],[62963,4,62963,5],[62963,6,62963,7],[62963,8,62963,9],[62963,10,62963,11],[62963,12,62963,13],[62615,2,62615,3],[62615,4,62615,5],[62615,6,62615,7],[62615,8,62615,9],[62615,10,62615,11],[62615,12,62615,13],[62615,14,62615,15],[62553,2,62553,3],[62553,4,62553,5],[62697,12,62697,13],[62697,14,62697,15],[62635,2,62635,3],[62635,4,62635,5],[62635,6,62635,7],[62635,8,62635,9],[62635,10,62635,11],[62635,12,62635,13],[62717,6,62717,7],[62717,8,62717,9],[62717,10,62717,11],[62717,12,62717,13],[62635,14,62635,15],[62697,2,62697,3],[62697,4,62697,5],[62697,6,62697,7],[62697,8,62697,9],[62697,10,62697,11],[62717,14,62717,15],[62779,2,62779,3],[62779,4,62779,5],[62779,6,62779,7],[62779,8,62779,9],[62779,10,62779,11],[62779,12,62779,13],[62779,14,62779,15],[62717,2,62717,3],[62717,4,62717,5],[62389,6,62389,7],[62389,8,62389,9],[62389,10,62389,11],[62389,12,62389,13],[62307,14,62307,15],[62369,2,62369,3],[62369,4,62369,5],[62369,6,62369,7],[62369,8,62369,9],[62369,10,62369,11],[62389,14,62389,15],[62451,2,62451,3],[62451,4,62451,5],[62451,6,62451,7],[62451,8,62451,9],[62451,10,62451,11],[62451,12,62451,13],[62451,14,62451,15],[62389,2,62389,3],[62389,4,62389,5],[62533,12,62533,13],[62533,14,62533,15],[62471,2,62471,3],[62471,4,62471,5],[62471,6,62471,7],[62471,8,62471,9],[62471,10,62471,11],[62471,12,62471,13],[62553,6,62553,7],[62553,8,62553,9],[62553,10,62553,11],[62553,12,62553,13],[62471,14,62471,15],[62533,2,62533,3],[62533,4,62533,5],[62533,6,62533,7],[62533,8,62533,9],[62533,10,62533,11],[62553,14,62553,15],[62205,12,62205,13],[62205,14,62205,15],[62143,2,62143,3],[62143,4,62143,5],[62143,6,62143,7],[62143,8,62143,9],[62143,10,62143,11],[62143,12,62143,13],[62225,6,62225,7],[62225,8,62225,9],[62225,10,62225,11],[62225,12,62225,13],[62143,14,62143,15],[62205,2,62205,3],[62205,4,62205,5],[62205,6,62205,7],[62205,8,62205,9],[62205,10,62205,11],[62225,14,62225,15],[62287,2,62287,3],[62287,4,62287,5],[62287,6,62287,7],[62287,8,62287,9],[62287,10,62287,11],[62287,12,62287,13],[62287,14,62287,15],[62225,2,62225,3],[62225,4,62225,5],[62369,12,62369,13],[62369,14,62369,15],[62307,2,62307,3],[62307,4,62307,5],[62307,6,62307,7],[62307,8,62307,9],[62307,10,62307,11],[62307,12,62307,13],[61959,2,61959,3],[61959,4,61959,5],[61959,6,61959,7],[61959,8,61959,9],[61959,10,61959,11],[61959,12,61959,13],[61959,14,61959,15],[61897,2,61897,3],[61897,4,61897,5],[62041,12,62041,13],[62041,14,62041,15],[61979,2,61979,3],[61979,4,61979,5],[61979,6,61979,7],[61979,8,61979,9],[61979,10,61979,11],[61979,12,61979,13],[62061,6,62061,7],[62061,8,62061,9],[62061,10,62061,11],[62061,12,62061,13],[61979,14,61979,15],[62041,2,62041,3],[62041,4,62041,5],[62041,6,62041,7],[62041,8,62041,9],[62041,10,62041,11],[62061,14,62061,15],[62123,2,62123,3],[62123,4,62123,5],[62123,6,62123,7],[62123,8,62123,9],[62123,10,62123,11],[62123,12,62123,13],[62123,14,62123,15],[62061,2,62061,3],[62061,4,62061,5],[61733,6,61733,7],[61733,8,61733,9],[61733,10,61733,11],[61733,12,61733,13],[61651,14,61651,15],[61713,2,61713,3],[61713,4,61713,5],[61713,6,61713,7],[61713,8,61713,9],[61713,10,61713,11],[61733,14,61733,15],[61795,2,61795,3],[61795,4,61795,5],[61795,6,61795,7],[61795,8,61795,9],[61795,10,61795,11],[61795,12,61795,13],[61795,14,61795,15],[61733,2,61733,3],[61733,4,61733,5],[61877,12,61877,13],[61877,14,61877,15],[61815,2,61815,3],[61815,4,61815,5],[61815,6,61815,7],[61815,8,61815,9],[61815,10,61815,11],[61815,12,61815,13],[61897,6,61897,7],[61897,8,61897,9],[61897,10,61897,11],[61897,12,61897,13],[61815,14,61815,15],[61877,2,61877,3],[61877,4,61877,5],[61877,6,61877,7],[61877,8,61877,9],[61877,10,61877,11],[61897,14,61897,15],[61549,12,61549,13],[61549,14,61549,15],[61487,2,61487,3],[61487,4,61487,5],[61487,6,61487,7],[61487,8,61487,9],[61487,10,61487,11],[61487,12,61487,13],[61569,6,61569,7],[61569,8,61569,9],[61569,10,61569,11],[61569,12,61569,13],[61487,14,61487,15],[61549,2,61549,3],[61549,4,61549,5],[61549,6,61549,7],[61549,8,61549,9],[61549,10,61549,11],[61569,14,61569,15],[61631,2,61631,3],[61631,4,61631,5],[61631,6,61631,7],[61631,8,61631,9],[61631,10,61631,11],[61631,12,61631,13],[61631,14,61631,15],[61569,2,61569,3],[61569,4,61569,5],[61713,12,61713,13],[61713,14,61713,15],[61651,2,61651,3],[61651,4,61651,5],[61651,6,61651,7],[61651,8,61651,9],[61651,10,61651,11],[61651,12,61651,13],[61303,2,61303,3],[61303,4,61303,5],[61303,6,61303,7],[61303,8,61303,9],[61303,10,61303,11],[61303,12,61303,13],[61303,14,61303,15],[61241,2,61241,3],[61241,4,61241,5],[61385,12,61385,13],[61385,14,61385,15],[61323,2,61323,3],[61323,4,61323,5],[61323,6,61323,7],[61323,8,61323,9],[61323,10,61323,11],[61323,12,61323,13],[61405,6,61405,7],[61405,8,61405,9],[61405,10,61405,11],[61405,12,61405,13],[61323,14,61323,15],[61385,2,61385,3],[61385,4,61385,5],[61385,6,61385,7],[61385,8,61385,9],[61385,10,61385,11],[61405,14,61405,15],[61467,2,61467,3],[61467,4,61467,5],[61467,6,61467,7],[61467,8,61467,9],[61467,10,61467,11],[61467,12,61467,13],[61467,14,61467,15],[61405,2,61405,3],[61405,4,61405,5],[61077,6,61077,7],[61077,8,61077,9],[61077,10,61077,11],[61077,12,61077,13],[60995,14,60995,15],[61057,2,61057,3],[61057,4,61057,5],[61057,6,61057,7],[61057,8,61057,9],[61057,10,61057,11],[61077,14,61077,15],[61139,2,61139,3],[61139,4,61139,5],[61139,6,61139,7],[61139,8,61139,9],[61139,10,61139,11],[61139,12,61139,13],[61139,14,61139,15],[61077,2,61077,3],[61077,4,61077,5],[61221,12,61221,13],[61221,14,61221,15],[61159,2,61159,3],[61159,4,61159,5],[61159,6,61159,7],[61159,8,61159,9],[61159,10,61159,11],[61159,12,61159,13],[61241,6,61241,7],[61241,8,61241,9],[61241,10,61241,11],[61241,12,61241,13],[61159,14,61159,15],[61221,2,61221,3],[61221,4,61221,5],[61221,6,61221,7],[61221,8,61221,9],[61221,10,61221,11],[61241,14,61241,15],[60893,12,60893,13],[60893,14,60893,15],[60831,2,60831,3],[60831,4,60831,5],[60831,6,60831,7],[60831,8,60831,9],[60831,10,60831,11],[60831,12,60831,13],[60913,6,60913,7],[60913,8,60913,9],[60913,10,60913,11],[60913,12,60913,13],[60831,14,60831,15],[60893,2,60893,3],[60893,4,60893,5],[60893,6,60893,7],[60893,8,60893,9],[60893,10,60893,11],[60913,14,60913,15],[60975,2,60975,3],[60975,4,60975,5],[60975,6,60975,7],[60975,8,60975,9],[60975,10,60975,11],[60975,12,60975,13],[60975,14,60975,15],[60913,2,60913,3],[60913,4,60913,5],[61057,12,61057,13],[61057,14,61057,15],[60995,2,60995,3],[60995,4,60995,5],[60995,6,60995,7],[60995,8,60995,9],[60995,10,60995,11],[60995,12,60995,13],[60647,2,60647,3],[60647,4,60647,5],[60647,6,60647,7],[60647,8,60647,9],[60647,10,60647,11],[60647,12,60647,13],[60647,14,60647,15],[60585,2,60585,3],[60585,4,60585,5],[60729,12,60729,13],[60729,14,60729,15],[60667,2,60667,3],[60667,4,60667,5],[60667,6,60667,7],[60667,8,60667,9],[60667,10,60667,11],[60667,12,60667,13],[60749,6,60749,7],[60749,8,60749,9],[60749,10,60749,11],[60749,12,60749,13],[60667,14,60667,15],[60729,2,60729,3],[60729,4,60729,5],[60729,6,60729,7],[60729,8,60729,9],[60729,10,60729,11],[60749,14,60749,15],[60811,2,60811,3],[60811,4,60811,5],[60811,6,60811,7],[60811,8,60811,9],[60811,10,60811,11],[60811,12,60811,13],[60811,14,60811,15],[60749,2,60749,3],[60749,4,60749,5],[60421,6,60421,7],[60421,8,60421,9],[60421,10,60421,11],[60421,12,60421,13],[60339,14,60339,15],[60401,2,60401,3],[60401,4,60401,5],[60401,6,60401,7],[60401,8,60401,9],[60401,10,60401,11],[60421,14,60421,15],[60483,2,60483,3],[60483,4,60483,5],[60483,6,60483,7],[60483,8,60483,9],[60483,10,60483,11],[60483,12,60483,13],[60483,14,60483,15],[60421,2,60421,3],[60421,4,60421,5],[60565,12,60565,13],[60565,14,60565,15],[60503,2,60503,3],[60503,4,60503,5],[60503,6,60503,7],[60503,8,60503,9],[60503,10,60503,11],[60503,12,60503,13],[60585,6,60585,7],[60585,8,60585,9],[60585,10,60585,11],[60585,12,60585,13],[60503,14,60503,15],[60565,2,60565,3],[60565,4,60565,5],[60565,6,60565,7],[60565,8,60565,9],[60565,10,60565,11],[60585,14,60585,15],[60237,12,60237,13],[60237,14,60237,15],[60175,2,60175,3],[60175,4,60175,5],[60175,6,60175,7],[60175,8,60175,9],[60175,10,60175,11],[60175,12,60175,13],[60257,6,60257,7],[60257,8,60257,9],[60257,10,60257,11],[60257,12,60257,13],[60175,14,60175,15],[60237,2,60237,3],[60237,4,60237,5],[60237,6,60237,7],[60237,8,60237,9],[60237,10,60237,11],[60257,14,60257,15],[60319,2,60319,3],[60319,4,60319,5],[60319,6,60319,7],[60319,8,60319,9],[60319,10,60319,11],[60319,12,60319,13],[60319,14,60319,15],[60257,2,60257,3],[60257,4,60257,5],[60401,12,60401,13],[60401,14,60401,15],[60339,2,60339,3],[60339,4,60339,5],[60339,6,60339,7],[60339,8,60339,9],[60339,10,60339,11],[60339,12,60339,13],[59991,2,59991,3],[59991,4,59991,5],[59991,6,59991,7],[59991,8,59991,9],[59991,10,59991,11],[59991,12,59991,13],[59991,14,59991,15],[59929,2,59929,3],[59929,4,59929,5],[60073,12,60073,13],[60073,14,60073,15],[60011,2,60011,3],[60011,4,60011,5],[60011,6,60011,7],[60011,8,60011,9],[60011,10,60011,11],[60011,12,60011,13],[60093,6,60093,7],[60093,8,60093,9],[60093,10,60093,11],[60093,12,60093,13],[60011,14,60011,15],[60073,2,60073,3],[60073,4,60073,5],[60073,6,60073,7],[60073,8,60073,9],[60073,10,60073,11],[60093,14,60093,15],[60155,2,60155,3],[60155,4,60155,5],[60155,6,60155,7],[60155,8,60155,9],[60155,10,60155,11],[60155,12,60155,13],[60155,14,60155,15],[60093,2,60093,3],[60093,4,60093,5],[59765,6,59765,7],[59765,8,59765,9],[59765,10,59765,11],[59765,12,59765,13],[59683,14,59683,15],[59745,2,59745,3],[59745,4,59745,5],[59745,6,59745,7],[59745,8,59745,9],[59745,10,59745,11],[59765,14,59765,15],[59827,2,59827,3],[59827,4,59827,5],[59827,6,59827,7],[59827,8,59827,9],[59827,10,59827,11],[59827,12,59827,13],[59827,14,59827,15],[59765,2,59765,3],[59765,4,59765,5],[59909,12,59909,13],[59909,14,59909,15],[59847,2,59847,3],[59847,4,59847,5],[59847,6,59847,7],[59847,8,59847,9],[59847,10,59847,11],[59847,12,59847,13],[59929,6,59929,7],[59929,8,59929,9],[59929,10,59929,11],[59929,12,59929,13],[59847,14,59847,15],[59909,2,59909,3],[59909,4,59909,5],[59909,6,59909,7],[59909,8,59909,9],[59909,10,59909,11],[59929,14,59929,15],[59581,12,59581,13],[59581,14,59581,15],[59519,2,59519,3],[59519,4,59519,5],[59519,6,59519,7],[59519,8,59519,9],[59519,10,59519,11],[59519,12,59519,13],[59601,6,59601,7],[59601,8,59601,9],[59601,10,59601,11],[59601,12,59601,13],[59519,14,59519,15],[59581,2,59581,3],[59581,4,59581,5],[59581,6,59581,7],[59581,8,59581,9],[59581,10,59581,11],[59601,14,59601,15],[59663,2,59663,3],[59663,4,59663,5],[59663,6,59663,7],[59663,8,59663,9],[59663,10,59663,11],[59663,12,59663,13],[59663,14,59663,15],[59601,2,59601,3],[59601,4,59601,5],[59745,12,59745,13],[59745,14,59745,15],[59683,2,59683,3],[59683,4,59683,5],[59683,6,59683,7],[59683,8,59683,9],[59683,10,59683,11],[59683,12,59683,13],[59335,2,59335,3],[59335,4,59335,5],[59335,6,59335,7],[59335,8,59335,9],[59335,10,59335,11],[59335,12,59335,13],[59335,14,59335,15],[59273,2,59273,3],[59273,4,59273,5],[59417,12,59417,13],[59417,14,59417,15],[59355,2,59355,3],[59355,4,59355,5],[59355,6,59355,7],[59355,8,59355,9],[59355,10,59355,11],[59355,12,59355,13],[59437,6,59437,7],[59437,8,59437,9],[59437,10,59437,11],[59437,12,59437,13],[59355,14,59355,15],[59417,2,59417,3],[59417,4,59417,5],[59417,6,59417,7],[59417,8,59417,9],[59417,10,59417,11],[59437,14,59437,15],[59499,2,59499,3],[59499,4,59499,5],[59499,6,59499,7],[59499,8,59499,9],[59499,10,59499,11],[59499,12,59499,13],[59499,14,59499,15],[59437,2,59437,3],[59437,4,59437,5],[59109,6,59109,7],[59109,8,59109,9],[59109,10,59109,11],[59109,12,59109,13],[59027,14,59027,15],[59089,2,59089,3],[59089,4,59089,5],[59089,6,59089,7],[59089,8,59089,9],[59089,10,59089,11],[59109,14,59109,15],[59171,2,59171,3],[59171,4,59171,5],[59171,6,59171,7],[59171,8,59171,9],[59171,10,59171,11],[59171,12,59171,13],[59171,14,59171,15],[59109,2,59109,3],[59109,4,59109,5],[59253,12,59253,13],[59253,14,59253,15],[59191,2,59191,3],[59191,4,59191,5],[59191,6,59191,7],[59191,8,59191,9],[59191,10,59191,11],[59191,12,59191,13],[59273,6,59273,7],[59273,8,59273,9],[59273,10,59273,11],[59273,12,59273,13]],"merged_total":17424,"flags":["merged_cut"]}
[null,"B01002. GENDER BY AGE"]
[null,"Universe:  TOTAL POPULATION, Median Age"]
[null,"Data Set: 2018-2022 American Community Survey 5-Year Estimate"]
[]
[null,null,"New Hampshire",null,"Belknap County",null,"Carroll County",null,"Cheshire County",null,"Coos County",null,"Grafton County",null,"Hillsborough County",null,"Merrimack County",null,"Rockingham County",null,"Strafford County",null,"Sullivan County"]
[null," ","Estimate","Margin of Error","Estimate","Margin of Error","Estimate","Margin of Error","Estimate","Margin of Error","Estimate","Margin of Error","Estimate","Margin of Error","Estimate","Margin of Error","Estimate","Margin of Error","Estimate","Margin of Error","Estimate","Margin of Error","Estimate","Margin of Error"]
[null,"Total:",43.1,0.2,47.8,0.3,53.8,0.3,43.5,0.3,49.7,0.3,44.1,0.4,40.9,0.2,42.8,0.3,44.7,0.1,37.700000000000003,0.3,47,0.5]
[null,"Male:",42,0.2,47,0.6,53.2,0.5,42.6,0.4,47.3,0.6,42.8,0.6,40,0.3,41.5,0.4,43.6,0.3,36.4,0.5,45.4,0.5]
[null,"Female:",44.4,0.2,48.7,0.3,54.6,0.4,44.6,0.4,52.1,0.5,45.3,0.2,41.8,0.3,44.1,0.2,45.9,0.2,38.9,0.5,48.8,0.7]
[]
[]
[]
[]
[]
[]
[]
[]
[]
[]
[]
[null,"B01002. GENDER BY AGE"]
[null,"Universe:  TOTAL POPULATION, Median Age"]
[null,"Data Set: 2013-2017 American Community Survey 5-Year Estimates"]
[]
[null,null,"New Hampshire",null,"Belknap County",null,"Carroll County",null,"Cheshire County",null,"Coos County",null,"Grafton County",null,"Hillsborough County",null,"Merrimack County",null,"Rockingham County",null,"Strafford County",null,"Sullivan County"]
[null," ","Estimate","Margin of Error","Estimate","Margin of Error","Estimate","Margin of Error","Estimate","Margin of Error","Estimate","Margin of Error","Estimate","Margin of Error","Estimate","Margin of Error","Estimate","Margin of Error","Estimate","Margin of Error","Estimate","Margin of Error","Estimate","Margin of Error"]
[null,"Total:",42.7,0.1,46.7,0.3,51.4,0.3,42.5,0.3,48,0.3,42.9,0.4,40.5,0.2,42.8,0.3,44.1,0.1,37,0.4,46.1,0.3]
[null,"Male:",41.5,0.2,46.2,0.3,50.6,0.5,41.7,0.5,45.9,0.4,41.1,0.7,39.5,0.3,41.4,0.4,42.9,0.3,36.200000000000003,0.3,45,0.2]
[null,"Female:",43.8,0.1,47.4,0.5,51.9,0.4,43.3,0.4,50.1,0.2,44,0.3,41.7,0.3,44.2,0.2,45.1,0.1,38.200000000000003,0.4,47.1,0.4]
[]
[]
[]
[]
[]
[]
[]
[]
[]
[]
[]
[null,"B01001. GENDER BY AGE"]
[null,"Universe:  TOTAL POPULATION, Median Age"]
[null,"Data Set: 2008-2012 American Community Survey 5-Year Estimates"]
[]
[null,null,"New Hampshire",null,"Belknap County",null,"Carroll County",null,"Cheshire County",null,"Coos County",null,"Grafton County",null,"Hillsborough County",null,"Merrimack County",null,"Rockingham County",null,"Strafford County",null,"Sullivan County"]
[null," ","Estimate","Margin of Error","Estimate","Margin of Error","Estimate","Margin of Error","Estimate","Margin of Error","Estimate","Margin of Error","Estimate","Margin of Error","Estimate","Margin of Error","Estimate","Margin of Error","Estimate","Margin of Error","Estimate","Margin of Error","Estimate","Margin of Error"]
[null,"Total:",41.1,0.1,44.5,0.3,48.2,0.4,41.1,0.4,46.6,0.3,41.2,0.4,39.200000000000003,0.2,41.5,0.4,42.3,0.2,36.700000000000003,0.2,44.2,0.3]
[null,"Male:",40.299999999999997,0.2,43.8,0.4,47.4,0.5,40.6,0.5,45.2,0.2,40.1,0.7,38.299999999999997,0.2,40.4,0.3,41.6,0.2,36,0.3,43.1,0.6]
[null,"Female:",42,0.1,45.2,0.3,49.2,0.3,41.5,0.4,47.8,0.3,42.1,0.4,40,0.3,42.6,0.2,43.1,0.2,37.4,0.4,45.2,0.3]

{"sheet":"ACS_Tbl_B11001_B11002_B25010","index":20,"n_rows":202,"n_cols":24,"rows_kept":202,"cut":false,"hidden":true,"merged":[]}
[null,"B11001. HOUSEHOLD TYPE (INCLUDING LIVING ALONE)"]
[null,"Universe:  HOUSEHOLDS"]
[null,"Data Set: 2018-2022 American Community Survey 5-Year Estimate"]
[]
[null,null,"New Hampshire",null,"Belknap County",null,"Carroll County",null,"Cheshire County",null,"Coos County",null,"Grafton County",null,"Hillsborough County",null,"Merrimack County",null,"Rockingham County",null,"Strafford County",null,"Sullivan County"]
[null," ","Estimate","Margin of Error","Estimate","Margin of Error","Estimate","Margin of Error","Estimate","Margin of Error","Estimate","Margin of Error","Estimate","Margin of Error","Estimate","Margin of Error","Estimate","Margin of Error","Estimate","Margin of Error","Estimate","Margin of Error","Estimate","Margin of Error"]
[null,"Total:",545116,1916,25956,632,21644,671,30307,459,13620,292,35084,684,166344,838,59851,448,125464,710,50953,591,15893,458]
[null,"Family households:",353906,2783,17100,616,13526,674,18716,577,8096,354,21419,690,107222,1678,40116,672,86122,1369,31623,785,9966,499]
[null,"Married-couple family",284046,3031,13675,652,11178,618,15234,595,6446,323,16961,696,83960,1689,32405,749,71104,1547,25257,780,7826,481]
[null,"Other family:",69860,1952,3425,387,2348,332,3482,408,1650,216,4458,452,23262,981,7711,543,15018,1092,6366,576,2140,299]
[null,"Male householder, no spouse present",23864,1113,989,231,822,198,1047,223,519,133,1342,261,8036,712,3160,369,4897,579,2360,394,692,186]
[null,"Female householder, no spouse present",45996,1568,2436,333,1526,288,2435,337,1131,185,3116,376,15226,846,4551,418,10121,931,4006,419,1448,253]
[null,"Nonfamily households:",191210,2770,8856,571,8118,666,11591,731,5524,393,13665,664,59122,1710,19735,667,39342,1432,19330,771,5927,458]
[null,"Householder living alone",147474,2922,7616,555,6751,645,8781,689,4516,382,10750,562,45283,1567,15256,635,29747,1375,14174,836,4600,435]
[null,"Householder not living alone",43736,1643,1240,254,1367,253,2810,412,1008,153,2915,421,13839,907,4479,386,9595,751,5156,558,1327,271]
[]
[]
[]
[]
[]
[]
[]
[]
[]
[]
[]
[]
[]
[]
[]
[]
[]
[null,"B11002. HOUSEHOLD TYPE BY RELATIVES AND NONRELATIVES FOR POPULATION IN HOUSEHOLDS "]
[null,"Universe:  POPULATION IN HOUSEHOLDS"]
[null,{"$f":"$B$3","v":"Data Set: 2018-2022 American Community Survey 5-Year Estimate"}]
[]
[null,null,"New Hampshire",null,"Belknap County",null,"Carroll County",null,"Cheshire County",null,"Coos County",null,"Grafton County",null,"Hillsborough County",null,"Merrimack County",null,"Rockingham County",null,"Strafford County",null,"Sullivan County"]
[null," ","Estimate","Margin of Error","Estimate","Margin of Error","Estimate","Margin of Error","Estimate","Margin of Error","Estimate","Margin of Error","Estimate","Margin of Error","Estimate","Margin of Error","Estimate","Margin of Error","Estimate","Margin of Error","Estimate","Margin of Error","Estimate","Margin of Error"]
[null,"Total:",1339086,"*****",62915,30,50068,18,72581,71,29403,41,84369,92,414579,121,147428,69,312661,53,122489,187,42593,30]
[null,"In family households:",1090768,3870,52488,698,40140,871,56888,1037,22800,482,66462,1107,338451,2649,122324,1036,261785,2043,94946,1379,34484,783]
[null,"In married-couple family:",858940,7444,40722,1605,31591,1289,45468,1448,17342,711,50290,1879,260283,4095,97393,1976,216029,3753,75113,1987,24709,1233]
[null,"Relatives",848697,7501,40026,1568,31231,1302,45033,1479,17105,710,49611,1851,257642,4168,96101,1857,214100,3730,73841,1933,24007,1188]
[null,"Nonrelatives",10243,1014,696,289,360,162,435,159,237,107,679,224,2641,479,1292,460,1929,454,1272,345,702,355]
[null,"In male householder, no spouse present, family:",78195,3913,3681,921,3057,669,3410,797,1799,395,4841,954,26262,2661,10469,1185,14388,1689,7127,1204,3161,810]
[null,"Relatives",66726,3449,3125,780,2646,561,2765,588,1444,303,4080,716,22096,2224,8861,1010,12803,1478,6038,997,2868,763]
[null,"Nonrelatives",11469,1043,556,201,411,192,645,304,355,126,761,321,4166,744,1608,342,1585,411,1089,371,293,136]
[null,"In female householder, no spouse present, family:",153633,5243,8085,1257,5492,1013,8010,953,3659,619,11331,1435,51906,3009,14462,1447,31368,2832,12706,1327,6614,1087]
[null,"Relatives",139688,4842,7501,1165,5083,967,7207,847,3150,541,10188,1323,47419,2806,13021,1256,28856,2667,11536,1225,5727,898]
[null,"Nonrelatives",13945,1093,584,225,409,202,803,198,509,176,1143,342,4487,643,1441,343,2512,470,1170,344,887,314]
[null,"In nonfamily households",248318,3871,10427,690,9928,872,15693,1033,6603,479,17907,1112,76128,2648,25104,1042,50876,2041,27543,1378,8109,783]
[]
[]
[]
[null,"Calculated Average  Household Size by Household Type"]
[null,"Universe:  POPULATION IN HOUSEHOLDS"]
[null,"Data Set: 2016-2020 American Community Survey 5-Year Estimate"]
[]
[null,null,"New Hampshire",null,"Belknap County",null,"Carroll County",null,"Cheshire County",null,"Coos County",null,"Grafton County",null,"Hillsborough County",null,"Merrimack County",null,"Rockingham County",null,"Strafford County",null,"Sullivan County"]
[null," ","Estimate","Margin of Error","Estimate","Margin of Error","Estimate","Margin of Error","Estimate","Margin of Error","Estimate","Margin of Error","Estimate","Margin of Error","Estimate","Margin of Error","Estimate","Margin of Error","Estimate","Margin of Error","Estimate","Margin of Error","Estimate","Margin of Error"]
[null,"Total:",{"$f":"C39/C7","v":2.4565156773971046},{"$f":"D73","v":0.01},{"$f":"E39/E7","v":2.4239096933271691},{"$f":"(SQRT((F$39^2)+((E$39^2)/(E$7^2))*(F$7^2)))/E$7","v":5.9030846385611471E-2},{"$f":"G39/G7","v":2.3132507854370727},{"$f":"(SQRT((H$39^2)+((G$39^2)/(G$7^2))*(H$7^2)))/G$7","v":7.1719443822768708E-2},{"$f":"I39/I7","v":2.3948592734351801},{"$f":"(SQRT((J$39^2)+((I$39^2)/(I$7^2))*(J$7^2)))/I$7","v":3.6345760616915877E-2},{"$f":"K39/K7","v":2.1588105726872246},{"$f":"(SQRT((L$39^2)+((K$39^2)/(K$7^2))*(L$7^2)))/K$7","v":4.6380662137569389E-2},{"$f":"M39/M7","v":2.4047714057690115},{"$f":"(SQRT((N$39^2)+((M$39^2)/(M$7^2))*(N$7^2)))/M$7","v":4.6956860395994234E-2},{"$f":"O39/O7","v":2.492299091040254},{"$f":"(SQRT((P$39^2)+((O$39^2)/(O$7^2))*(P$7^2)))/O$7","v":1.2576641003092531E-2},{"$f":"Q39/Q7","v":2.4632504051728459},{"$f":"(SQRT((R$39^2)+((Q$39^2)/(Q$7^2))*(R$7^2)))/Q$7","v":1.8474064485737469E-2},{"$f":"S39/S7","v":2.492037556589938},{"$f":"(SQRT((T$39^2)+((S$39^2)/(S$7^2))*(T$7^2)))/S$7","v":1.410875058202081E-2},{"$f":"U39/U7","v":2.4039605126292858},{"$f":"(SQRT((V$39^2)+((U$39^2)/(U$7^2))*(V$7^2)))/U$7","v":2.8123848021730798E-2},{"$f":"W39/W7","v":2.6799848990121435},{"$f":"(SQRT((X$39^2)+((W$39^2)/(W$7^2))*(X$7^2)))/W$7","v":7.725411487923399E-2}]
[null,"In family households:",{"$f":"C40/C8","v":3.0820839431939553},{"$f":"(SQRT((D$40^2)+((C$40^2)/(C$8^2))*(D$8^2)))/C$8","v":2.6589171979872001E-2},{"$f":"E40/E8","v":3.0694736842105264},{"$f":"(SQRT((F$40^2)+((E$40^2)/(E$8^2))*(F$8^2)))/E$8","v":0.11786654838986485},{"$f":"G40/G8","v":2.9676179210409583},{"$f":"(SQRT((H$40^2)+((G$40^2)/(G$8^2))*(H$8^2)))/G$8","v":0.16128869738031518},{"$f":"I40/I8","v":3.039538362898055},{"$f":"(SQRT((J$40^2)+((I$40^2)/(I$8^2))*(J$8^2)))/I$8","v":0.10886177917838884},{"$f":"K40/K8","v":2.8162055335968379},{"$f":"(SQRT((L$40^2)+((K$40^2)/(K$8^2))*(L$8^2)))/K$8","v":0.13677646606153054},{"$f":"M40/M8","v":3.1029459825388672},{"$f":"(SQRT((N$40^2)+((M$40^2)/(M$8^2))*(N$8^2)))/M$8","v":0.11253019492490701},{"$f":"O40/O8","v":3.1565443658950589},{"$f":"(SQRT((P$40^2)+((O$40^2)/(O$8^2))*(P$8^2)))/O$8","v":5.5232739094389825E-2},{"$f":"Q40/Q8","v":3.0492571542526674},{"$f":"(SQRT((R$40^2)+((Q$40^2)/(Q$8^2))*(R$8^2)))/Q$8","v":5.7236703609432622E-2},{"$f":"S40/S8","v":3.0396994960637236},{"$f":"(SQRT((T$40^2)+((S$40^2)/(S$8^2))*(T$8^2)))/S$8","v":5.3828327188734676E-2},{"$f":"U40/U8","v":3.0024349365967806},{"$f":"(SQRT((V$40^2)+((U$40^2)/(U$8^2))*(V$8^2)))/U$8","v":8.6351416389864613E-2},{"$f":"W40/W8","v":3.4601645595023078},{"$f":"(SQRT((X$40^2)+((W$40^2)/(W$8^2))*(X$8^2)))/W$8","v":0.19023352687818076}]
[null,"In nonfamily households",{"$f":"C50/C13","v":1.298666387741227},{"$f":"(SQRT((D$50^2)+((C$50^2)/(C$13^2))*(D$13^2)))/C$13","v":2.7636811654533529E-2},{"$f":"E50/E13","v":1.177393857271906},{"$f":"(SQRT((F$50^2)+((E$50^2)/(E$13^2))*(F$13^2)))/E$13","v":0.10878130237710459},{"$f":"G50/G13","v":1.2229613205222962},{"$f":"(SQRT((H$50^2)+((G$50^2)/(G$13^2))*(H$13^2)))/G$13","v":0.14698487328328599},{"$f":"I50/I13","v":1.3538952635665602},{"$f":"(SQRT((J$50^2)+((I$50^2)/(I$13^2))*(J$13^2)))/I$13","v":0.12342255140949442},{"$f":"K50/K13","v":1.195329471397538},{"$f":"(SQRT((L$50^2)+((K$50^2)/(K$13^2))*(L$13^2)))/K$13","v":0.1214535813128516},{"$f":"M50/M13","v":1.3104281009879253},{"$f":"(SQRT((N$50^2)+((M$50^2)/(M$13^2))*(N$13^2)))/M$13","v":0.10332750345731623},{"$f":"O50/O13","v":1.2876425019451303},{"$f":"(SQRT((P$50^2)+((O$50^2)/(O$13^2))*(P$13^2)))/O$13","v":5.8249956003612394E-2},{"$f":"Q50/Q13","v":1.2720547251076768},{"$f":"(SQRT((R$50^2)+((Q$50^2)/(Q$13^2))*(R$13^2)))/Q$13","v":6.8089408576650565E-2},{"$f":"S50/S13","v":1.2931726907630523},{"$f":"(SQRT((T$50^2)+((S$50^2)/(S$13^2))*(T$13^2)))/S$13","v":7.0049569117855648E-2},{"$f":"U50/U13","v":1.4248836006207968},{"$f":"(SQRT((V$50^2)+((U$50^2)/(U$13^2))*(V$13^2)))/U$13","v":9.1170227921250707E-2},{"$f":"W50/W13","v":1.3681457735785389},{"$f":"(SQRT((X$50^2)+((W$50^2)/(W$13^2))*(X$13^2)))/W$13","v":0.16920211447617423}]
[]
[]
[]
[null,"B25010. AVERAGE HOUSEHOLD SIZE OF OCCUPIED HOUSING UNITS BY TENURE"]
[null,"Universe:  OCCUPIED HOUSING UNITS"]
[null,"Data Set: 2016-2020 American Community Survey 5-Year Estimate"]
[]
[]
[null," ","Estimate","Margin of Error","Estimate","Margin of Error","Estimate","Margin of Error","Estimate","Margin of Error","Estimate","Margin of Error","Estimate","Margin of Error","Estimate","Margin of Error","Estimate","Margin of Error","Estimate","Margin of Error","Estimate","Margin of Error","Estimate","Margin of Error"]
[null,"Average household size --"]
[null,"Total:",2.46,0.01,2.42,0.06,2.31,7.0000000000000007E-2,2.39,0.04,2.16,0.05,2.4,0.05,2.4900000000000002,0.01,2.46,0.02,2.4900000000000002,0.01,2.4,0.03,2.68,0.08]
[null,"Owner occupied",2.6,0.01,2.5099999999999998,7.0000000000000007E-2,2.34,7.0000000000000007E-2,2.5299999999999998,0.05,2.2799999999999998,0.06,2.52,0.06,2.66,0.03,2.63,0.03,2.64,0.02,2.57,0.05,2.82,0.11]
[null,"Renter occupied",2.08,0.03,2.12,0.12,2.2000000000000002,0.18,2.0699999999999998,0.09,1.83,0.12,2.12,0.11,2.15,0.04,2,7.0000000000000007E-2,1.95,0.05,2.0699999999999998,0.09,2.2999999999999998,0.18]
[]
[]
[]
[]
[]
[]
[null,"B11001. HOUSEHOLD TYPE (INCLUDING LIVING ALONE)"]
[null,"Universe:  HOUSEHOLDS"]
[null,"Data Set: 2013-2017 American Community Survey 5-Year Estimates"]
[]
[null,null,"New Hampshire",null,"Belknap County",null,"Carroll County",null,"Cheshire County",null,"Coos County",null,"Grafton County",null,"Hillsborough County",null,"Merrimack County",null,"Rockingham County",null,"Strafford County",null,"Sullivan County"]
[null," ","Estimate","Margin of Error","Estimate","Margin of Error","Estimate","Margin of Error","Estimate","Margin of Error","Estimate","Margin of Error","Estimate","Margin of Error","Estimate","Margin of Error","Estimate","Margin of Error","Estimate","Margin of Error","Estimate","Margin of Error","Estimate","Margin of Error"]
[null,"Total:",516845,1886,25127,635,20632,626,30173,528,14704,342,34816,560,153747,897,57224,541,115552,673,46821,560,18049,319]
[null,"Family households:",347244,2055,17190,618,13694,609,19097,458,9112,329,21853,561,104156,1079,38335,704,81230,840,30114,605,12463,375]
[null,"Married-couple family",277415,2005,13455,523,11178,525,15163,454,7120,326,17750,573,81429,1136,30694,684,67256,1003,23420,630,9950,357]
[null,"Other family:",69829,1772,3735,408,2516,353,3934,415,1992,205,4103,356,22727,864,7641,524,13974,770,6694,529,2513,278]
[null,"Male householder, no spouse present",20972,878,1020,274,908,219,1328,232,585,139,1239,200,6663,520,2048,297,4406,446,1969,264,806,188]
[null,"Female householder, no spouse present",48857,1479,2715,326,1608,254,2606,326,1407,169,2864,296,16064,743,5593,472,9568,594,4725,448,1707,255]
[null,"Nonfamily households:",169601,2294,7937,541,6938,546,11076,565,5592,363,12963,660,49591,1273,18889,738,34322,1083,16707,634,5586,334]
[null,"Householder living alone",130449,2119,6563,476,5517,484,8367,521,4789,347,10231,636,37969,1146,14614,658,26167,984,11849,561,4383,294]
[null,"Householder not living alone",39152,1276,1374,246,1421,269,2709,353,803,127,2732,336,11622,756,4275,406,8155,537,4858,454,1203,219]
[]
[]
[]
[]
[]
[]
[]
[]
[]
[]
[]
[]
[]
[]
[]
[]
[]
[null,"B11002. HOUSEHOLD TYPE BY RELATIVES AND NONRELATIVES FOR POPULATION IN HOUSEHOLDS "]
[null,"Universe:  POPULATION IN HOUSEHOLDS"]
[null,"Data Set: 2013-2017 American Community Survey 5-Year Estimates"]
[]
[null,null,"New Hampshire",null,"Belknap County",null,"Carroll County",null,"Cheshire County",null,"Coos County",null,"Grafton County",null,"Hillsborough County",null,"Merrimack County",null,"Rockingham County",null,"Strafford County",null,"Sullivan County"]
[null," ","Estimate","Margin of Error","Estimate","Margin of Error","Estimate","Margin of Error","Estimate","Margin of Error","Estimate","Margin of Error","Estimate","Margin of Error","Estimate","Margin of Error","Estimate","Margin of Error","Estimate","Margin of Error","Estimate","Margin of Error","Estimate","Margin of Error"]
[null,"Total:",1289641,"*****",59453,235,46959,109,71585,452,29918,330,82494,394,397889,504,141309,606,299950,326,117731,493,42353,157]
[null,"In family households:",1060952,3169,48807,757,38025,788,56480,782,23940,461,64827,994,329820,2014,116663,1067,254135,1370,93623,1244,34632,661]
[null,"In married-couple family:",835672,6684,38478,1321,31020,1261,43353,1308,18187,632,51071,1576,253745,3476,93276,1687,206935,2706,74286,1626,25321,1224]
[null,"Relatives",829175,6655,37893,1312,30880,1256,42955,1314,18096,629,50498,1529,251862,3531,92146,1662,205780,2764,73925,1617,25140,1204]
[null,"Nonrelatives",6497,689,585,219,140,85,398,176,91,45,573,204,1883,369,1130,316,1155,235,361,130,181,94]
[null,"In male householder, no spouse present, family:",72256,3817,2864,758,2786,765,3752,697,1739,406,4552,961,23208,2196,8256,1103,15482,1522,6836,1064,2781,660]
[null,"Relatives",61501,3343,2392,623,2326,618,3255,565,1424,340,3945,863,19600,1917,7086,963,13164,1230,5846,939,2463,595]
[null,"Nonrelatives",10755,871,472,233,460,191,497,212,315,114,607,170,3608,479,1170,304,2318,435,990,235,318,113]
[null,"In female householder, no spouse present, family:",153024,5032,7465,1041,4219,808,9375,1025,4014,547,9204,1134,52867,2782,15131,1304,31718,2344,12501,1306,6530,1196]
[null,"Relatives",139155,4686,6726,912,3892,726,8511,957,3453,461,8443,1093,48441,2522,13978,1217,28834,2107,11267,1190,5610,987]
[null,"Nonrelatives",13869,865,739,230,327,139,864,225,561,189,761,186,4426,544,1153,238,2884,424,1234,326,920,260]
[null,"In nonfamily households",228689,3169,10646,767,8934,786,15105,691,5978,340,17667,962,68069,1909,24646,985,45815,1382,24108,1180,7721,618]
[]
[]
[]
[null,"Calculated Average  Household Size by Household Type"]
[null,"Universe:  POPULATION IN HOUSEHOLDS"]
[null,"Data Set: 2013-2017 American Community Survey 5-Year Estimates"]
[]
[null,null,"New Hampshire",null,"Belknap County",null,"Carroll County",null,"Cheshire County",null,"Coos County",null,"Grafton County",null,"Hillsborough County",null,"Merrimack County",null,"Rockingham County",null,"Strafford County",null,"Sullivan County"]
[null," ","Estimate","Margin of Error","Estimate","Margin of Error","Estimate","Margin of Error","Estimate","Margin of Error","Estimate","Margin of Error","Estimate","Margin of Error","Estimate","Margin of Error","Estimate","Margin of Error","Estimate","Margin of Error","Estimate","Margin of Error","Estimate","Margin of Error"]
[null,"Total:",2.4484839854948643,0.02,2.418853492819073,6.7209631514233537E-2,2.2147337640899871,6.8505938414559639E-2,2.3448196796488583,3.9017185732131802E-2,2.1556308091361047,5.5656848620959549E-2,2.3667087445490016,4.2671553482495968E-2,2.5160713043588236,1.3044188378880581E-2,2.4684088249165894,2.530293739994505E-2,2.5005210287191031,1.6238371902372633E-2,2.425293039161156,3.2931176793384892E-2,2.3820584926884139,5.1274274277760622E-2]
[null,"In family households:",3.0256032943779978,2.2657452850202396E-2,2.9908082603100681,0.1154746086695322,2.7042884574354598,0.12586722368076245,2.941973122200229,9.3473009226054976E-2,2.743839541547278,0.11116297351496789,3.0276013450401642,8.9480123765230901E-2,3.1096905583526615,4.1563249824963303E-2,3.0575269944438621,5.1588285862447909E-2,3.0304313089517176,3.6847981072181103E-2,2.9944986406524867,8.5403773517795226E-2,2.9857746357444608,0.13653624333457146]
[null,"In nonfamily households",1.2989855270033854,2.4492163491320752E-2,1.288861985472155,0.12912130252874368,1.2509101092131056,0.15144520097730066,1.333068572941488,7.9234782674884735E-2,1.1598758246022507,9.4070475669332382E-2,1.3141178220767629,9.5887601642457923E-2,1.3070837413829521,4.8250092381349939E-2,1.2909748048818814,6.5511946966747572E-2,1.2693245414750374,5.1585662563293964E-2,1.395300381988656,9.0536608858773668E-2,1.2491506228765572,0.13154721233164343]
[]
[]
[]
[null,"B25010. AVERAGE HOUSEHOLD SIZE OF OCCUPIED HOUSING UNITS BY TENURE"]
[null,"Universe:  OCCUPIED HOUSING UNITS"]
[null,"Data Set: 2013-2017 American Community Survey 5-Year Estimates"]
[]
[]
[null," ","Estimate","Margin of Error","Estimate","Margin of Error","Estimate","Margin of Error","Estimate","Margin of Error","Estimate","Margin of Error","Estimate","Margin of Error","Estimate","Margin of Error","Estimate","Margin of Error","Estimate","Margin of Error","Estimate","Margin of Error","Estimate","Margin of Error"]
[null,"Average household size --"]
[null,"Total:",2.4500000000000002,0.02,2.42,0.06,2.21,7.0000000000000007E-2,2.34,0.04,2.16,0.05,2.37,0.04,2.52,0.02,2.4700000000000002,0.02,2.5,0.02,2.4300000000000002,0.04,2.38,0.05]
[null,"Owner occupied",2.57,0.01,2.4700000000000002,7.0000000000000007E-2,2.25,0.08,2.48,0.05,2.25,7.0000000000000007E-2,2.5,0.05,2.65,0.02,2.6,0.03,2.64,0.02,2.5499999999999998,0.04,2.4500000000000002,7.0000000000000007E-2]
[null,"Renter occupied",2.15,0.02,2.25,0.12,2.0699999999999998,0.13,2.0299999999999998,0.09,1.92,0.1,2.08,0.08,2.2599999999999998,0.04,2.14,7.0000000000000007E-2,2.0499999999999998,0.05,2.1800000000000002,0.06,2.19,0.13]
[]
[]
[]
[]
[]
[]
[null,"B11001. HOUSEHOLD TYPE (INCLUDING LIVING ALONE)"]
[null,"Universe:  HOUSEHOLDS"]
[null,"Data Set: 2008-2012 American Community Survey 5-Year Estimates"]
[]
[null,null,"New Hampshire",null,"Belknap County",null,"Carroll County",null,"Cheshire County",null,"Coos County",null,"Grafton County",null,"Hillsborough County",null,"Merrimack County",null,"Rockingham County",null,"Strafford County",null,"Sullivan County"]
[null," ","Estimate","Margin of Error","Estimate","Margin of Error","Estimate","Margin of Error","Estimate","Margin of Error","Estimate","Margin of Error","Estimate","Margin of Error","Estimate","Margin of Error","Estimate","Margin of Error","Estimate","Margin of Error","Estimate","Margin of Error","Estimate","Margin of Error"]
[null,"Total:",516845,1886,25127,635,20632,626,30173,528,14704,342,34816,560,153747,897,57224,541,115552,673,46821,560,18049,319]
[null,"Family households:",347244,2055,17190,618,13694,609,19097,458,9112,329,21853,561,104156,1079,38335,704,81230,840,30114,605,12463,375]
[null,"Married-couple family",277415,2005,13455,523,11178,525,15163,454,7120,326,17750,573,81429,1136,30694,684,67256,1003,23420,630,9950,357]
[null,"Other family:",69829,1772,3735,408,2516,353,3934,415,1992,205,4103,356,22727,864,7641,524,13974,770,6694,529,2513,278]
[null,"Male householder, no spouse present",20972,878,1020,274,908,219,1328,232,585,139,1239,200,6663,520,2048,297,4406,446,1969,264,806,188]
[null,"Female householder, no spouse present",48857,1479,2715,326,1608,254,2606,326,1407,169,2864,296,16064,743,5593,472,9568,594,4725,448,1707,255]
[null,"Nonfamily households:",169601,2294,7937,541,6938,546,11076,565,5592,363,12963,660,49591,1273,18889,738,34322,1083,16707,634,5586,334]
[null,"Householder living alone",130449,2119,6563,476,5517,484,8367,521,4789,347,10231,636,37969,1146,14614,658,26167,984,11849,561,4383,294]
[null,"Householder not living alone",39152,1276,1374,246,1421,269,2709,353,803,127,2732,336,11622,756,4275,406,8155,537,4858,454,1203,219]
[]
[]
[]
[null,"Calculated Average  Household Size by Household Type"]
[null,"Universe:  POPULATION IN HOUSEHOLDS"]
[null,"Data Set: 2008-2012 American Community Survey 5-Year Estimates"]
[]
[null,null,"New Hampshire",null,"Belknap County",null,"Carroll County",null,"Cheshire County",null,"Coos County",null,"Grafton County",null,"Hillsborough County",null,"Merrimack County",null,"Rockingham County",null,"Strafford County",null,"Sullivan County"]
[null," ","Estimate","Margin of Error","Estimate","Margin of Error","Estimate","Margin of Error","Estimate","Margin of Error","Estimate","Margin of Error","Estimate","Margin of Error","Estimate","Margin of Error","Estimate","Margin of Error","Estimate","Margin of Error","Estimate","Margin of Error","Estimate","Margin of Error"]
[null,"Total:",2.471710087163463,0.01,2.3544394476061608,5.9916027931341008E-2,2.282134548274525,6.9891369019736749E-2,2.3887250190567726,4.444863224872838E-2,2.1541757344940153,5.2212984993874688E-2,2.3605238970588234,4.1625109993448706E-2,2.5575003089491175,1.5400230149905289E-2,2.4493569131832795,2.4587433785145021E-2,2.5383204098587648,1.506531217882804E-2,2.471156105166485,3.4225371608156287E-2,2.3786359355088926,4.2652808895460748E-2]
[null,"In family households:",3.0483867251845966,2.033838939924721E-2,2.8916230366492148,0.1121649196600769,2.7956039141229736,0.13576686468250324,2.9965439597842591,8.2199737493410099E-2,2.7595478489903424,0.11120444217083741,2.9850363794444696,8.8557761764266163E-2,3.15521909443527,3.8085527701931299E-2,3.03059866962306,6.3349349373574851E-2,3.0715868521482212,3.7188015832081527E-2,3.078767350733878,7.2535854334722524E-2,2.8813287330498274,9.6075238957316303E-2]
[null,"In nonfamily households",1.2910124350681895,2.5973438348576253E-2,1.1910041577422199,0.12192303439611503,1.2686653214182761,0.14672909743740936,1.3407367280606717,0.10012842943956554,1.1677396280400572,0.10810426704225336,1.3077219779372058,9.8161105236864332E-2,1.3021112701901554,5.2009046934106851E-2,1.2697337074487798,7.6702397363891145E-2,1.2762368160363615,6.0922038185810552E-2,1.3759502005147544,8.1938700775109119E-2,1.2570712495524525,0.11950705743256182]
[]
[]
[]
[null,"B25010. AVERAGE HOUSEHOLD SIZE OF OCCUPIED HOUSING UNITS BY TENURE"]
[null,"Universe:  OCCUPIED HOUSING UNITS"]
[null,"Data Set: 2008-2012 American Community Survey 5-Year Estimates"]
[]
[null,null,"New Hampshire",null,"Belknap County",null,"Carroll County",null,"Cheshire County",null,"Coos County",null,"Grafton County",null,"Hillsborough County",null,"Merrimack County",null,"Rockingham County",null,"Strafford County",null,"Sullivan County"]
[null," ","Estimate","Margin of Error","Estimate","Margin of Error","Estimate","Margin of Error","Estimate","Margin of Error","Estimate","Margin of Error","Estimate","Margin of Error","Estimate","Margin of Error","Estimate","Margin of Error","Estimate","Margin of Error","Estimate","Margin of Error","Estimate","Margin of Error"]
[null,"Average household size --"]
[null,"Total:",2.471710087163463,0.01,2.3544394476061608,5.9916027931341008E-2,2.282134548274525,6.9891369019736749E-2,2.3887250190567726,4.444863224872838E-2,2.1541757344940153,5.2212984993874688E-2,2.3605238970588234,4.1625109993448706E-2,2.5575003089491175,1.5400230149905289E-2,2.4493569131832795,2.4587433785145021E-2,2.5383204098587648,1.506531217882804E-2,2.471156105166485,3.4225371608156287E-2,2.3786359355088926,4.2652808895460748E-2]
[null,"Owner occupied",3.0483867251845966,2.033838939924721E-2,2.8916230366492148,0.1121649196600769,2.7956039141229736,0.13576686468250324,2.9965439597842591,8.2199737493410099E-2,2.7595478489903424,0.11120444217083741,2.9850363794444696,8.8557761764266163E-2,3.15521909443527,3.8085527701931299E-2,3.03059866962306,6.3349349373574851E-2,3.0715868521482212,3.7188015832081527E-2,3.078767350733878,7.2535854334722524E-2,2.8813287330498274,9.6075238957316303E-2]
[null,"Renter occupied",1.2910124350681895,2.5973438348576253E-2,1.1910041577422199,0.12192303439611503,1.2686653214182761,0.14672909743740936,1.3407367280606717,0.10012842943956554,1.1677396280400572,0.10810426704225336,1.3077219779372058,9.8161105236864332E-2,1.3021112701901554,5.2009046934106851E-2,1.2697337074487798,7.6702397363891145E-2,1.2762368160363615,6.0922038185810552E-2,1.3759502005147544,8.1938700775109119E-2,1.2570712495524525,0.11950705743256182]

{"sheet":"ACS_Table_B25118","index":21,"n_rows":191,"n_cols":24,"rows_kept":191,"cut":false,"hidden":true,"merged":[]}
[null,"B25118. TENURE BY HOUSEHOLD INCOME IN THE PAST 12 MONTHS (IN 2022 INFLATION-ADJUSTED DOLLARS) "]
[null,"Universe:  OCCUPIED HOUSING UNITS"]
[null,"Data Set: 2018-2022 American Community Survey 5-Year Estimates"]
[]
[null,null,"New Hampshire",null,"Belknap County",null,"Carroll County",null,"Cheshire County",null,"Coos County",null,"Grafton County",null,"Hillsborough County",null,"Merrimack County",null,"Rockingham County",null,"Strafford County",null,"Sullivan County"]
[null," ","Estimate","Margin of Error","Estimate","Margin of Error","Estimate","Margin of Error","Estimate","Margin of Error","Estimate","Margin of Error","Estimate","Margin of Error","Estimate","Margin of Error","Estimate","Margin of Error","Estimate","Margin of Error","Estimate","Margin of Error","Estimate","Margin of Error"]
[null,"Total:",545116,1916,25956,632,21644,671,30307,459,13620,292,35084,684,166344,838,59851,448,125464,710,50953,591,15893,458]
[null,"Owner occupied:",393945,2574,20011,643,17650,585,21422,534,9962,337,24776,629,111661,1241,44153,622,98479,1164,34187,889,11644,493]
[null,"Less than $5,000",5099,585,220,103,421,181,294,117,114,43,464,207,1001,230,395,151,1314,302,430,157,446,194]
[null,"$5,000 to $9,999",2278,311,347,184,134,78,157,86,128,46,179,64,500,133,221,98,416,149,162,87,34,21]
[null,"$10,000 to $14,999",5367,581,334,154,539,182,284,87,263,103,622,214,868,207,522,149,1063,231,636,226,236,118]
[null,"$15,000 to $19,999",6759,559,425,165,474,192,548,141,305,86,729,243,1307,292,709,178,1608,364,453,147,201,109]
[null,"$20,000 to $24,999",7716,717,446,139,460,168,516,131,331,77,642,189,1886,380,1147,340,1413,376,676,194,199,72]
[null,"$25,000 to $34,999",17405,1111,1348,258,1367,276,1038,210,773,123,1322,202,3875,483,2113,368,2928,446,1856,383,785,188]
[null,"$35,000 to $49,999",28037,1147,1721,273,1807,367,1852,310,1625,202,1966,248,7284,627,3013,317,5094,523,2469,421,1206,231]
[null,"$50,000 to $74,999",53293,1581,2880,412,2657,367,3740,455,1934,251,3680,332,14401,921,6200,549,11068,743,4838,530,1895,279]
[null,"$75,000 to $99,999",51503,1589,2558,340,2456,391,3064,346,1565,223,3476,428,13819,934,5993,488,11988,905,4667,556,1917,337]
[null,"$100,000 to $149,999",89201,2088,4848,451,3735,495,5445,443,1710,188,5282,403,25318,1298,10559,619,22193,1184,7641,558,2470,287]
[null,"$150,000 or more",127287,2149,4884,403,3600,416,4484,341,1214,152,6414,379,41402,1340,13281,720,39394,1254,10359,592,2255,303]
[null,"Renter occupied:",151171,2381,5945,621,3994,494,8885,508,3658,298,10308,707,54683,1409,15698,635,26985,1102,16766,770,4249,483]
[null,"Less than $5,000",5408,554,259,154,100,80,198,112,171,79,552,190,1507,240,704,179,877,264,619,190,421,161]
[null,"$5,000 to $9,999",3240,578,86,59,120,104,209,107,152,77,315,143,1307,388,349,210,271,100,336,140,95,82]
[null,"$10,000 to $14,999",9967,977,476,180,433,244,702,190,375,106,741,313,2917,530,1306,224,1308,374,1392,350,317,143]
[null,"$15,000 to $19,999",8002,758,349,134,155,94,809,222,337,122,589,167,2605,340,905,227,1067,391,755,244,431,165]
[null,"$20,000 to $24,999",7669,640,436,192,251,133,443,148,492,160,568,143,2175,343,1022,249,1229,261,727,261,326,143]
[null,"$25,000 to $34,999",15409,1076,823,238,398,168,1220,293,607,163,1252,265,4797,544,1671,336,2308,372,1756,405,577,215]
[null,"$35,000 to $49,999",21166,1177,926,301,545,192,1141,243,481,132,1151,228,8490,736,2136,317,3457,465,2283,370,556,180]
[null,"$50,000 to $74,999",28934,1440,1178,235,652,174,1786,290,572,136,1795,370,10470,882,2945,369,5668,679,3252,465,616,198]
[null,"$75,000 to $99,999",20139,1342,538,197,665,201,884,188,245,75,1274,234,7658,855,2263,337,4124,485,2099,356,389,155]
[null,"$100,000 to $149,999",19330,1155,651,268,434,187,930,253,172,70,1365,280,7736,815,1653,272,4155,546,1890,355,344,154]
[null,"$150,000 or more",11907,1015,223,108,241,97,563,181,54,27,706,172,5021,644,744,209,2521,394,1657,407,177,106]
[]
[]
[]
[]
[]
[null,"Calculated B25118. TENURE BY HOUSEHOLD INCOME IN THE PAST 12 MONTHS (IN 2022 INFLATION-ADJUSTED DOLLARS) "]
[null,"Universe:  OCCUPIED HOUSING UNITS"]
[null,{"$f":"B3","v":"Data Set: 2018-2022 American Community Survey 5-Year Estimates"}]
[null,null,"New Hampshire",null,"Belknap County",null,"Carroll County",null,"Cheshire County",null,"Coos County",null,"Grafton County",null,"Hillsborough County",null,"Merrimack County",null,"Rockingham County",null,"Strafford County",null,"Sullivan County"]
[null," ","Estimate","Margin of Error","Estimate","Margin of Error","Estimate","Margin of Error","Estimate","Margin of Error","Estimate","Margin of Error","Estimate","Margin of Error","Estimate","Margin of Error","Estimate","Margin of Error","Estimate","Margin of Error","Estimate","Margin of Error","Estimate","Margin of Error"]
[null,{"$f":"B7","v":"Total:"},545116,1916,25956,632,21644,671,30307,459,13620,292,35084,684,166344,838,59851,448,125464,710,50953,591,15893,458]
[null,"Less than $5,000",{"$f":"C9+C21","v":10507},{"$f":"SQRT((D9^2)+(D21^2))","v":805.69286952287223},{"$f":"E9+E21","v":479},{"$f":"SQRT((F9^2)+(F21^2))","v":185.27007313648906},{"$f":"G9+G21","v":521},{"$f":"SQRT((H9^2)+(H21^2))","v":197.89138435010253},{"$f":"I9+I21","v":492},{"$f":"SQRT((J9^2)+(J21^2))","v":161.96604582442581},{"$f":"K9+K21","v":285},{"$f":"SQRT((L9^2)+(L21^2))","v":89.944427287075428},{"$f":"M9+M21","v":1016},{"$f":"SQRT((N9^2)+(N21^2))","v":280.97864687552328},{"$f":"O9+O21","v":2508},{"$f":"SQRT((P9^2)+(P21^2))","v":332.41540277189324},{"$f":"Q9+Q21","v":1099},{"$f":"SQRT((R9^2)+(R21^2))","v":234.18368858654523},{"$f":"S9+S21","v":2191},{"$f":"SQRT((T9^2)+(T21^2))","v":401.1234224026316},{"$f":"U9+U21","v":1049},{"$f":"SQRT((V9^2)+(V21^2))","v":246.4731222669117},{"$f":"W9+W21","v":867},{"$f":"SQRT((X9^2)+(X21^2))","v":252.10513679812237}]
[null,"$5,000 to $9,999",{"$f":"C10+C22","v":5518},{"$f":"SQRT((D10^2)+(D22^2))","v":656.35737216854659},{"$f":"E10+E22","v":433},193.22784478433744,{"$f":"G10+G22","v":254},130,{"$f":"I10+I22","v":366},137.27709204379295,{"$f":"K10+K22","v":280},89.693923985964616,{"$f":"M10+M22","v":494},156.66843970627906,{"$f":"O10+O22","v":1807},410.16216305261509,{"$f":"Q10+Q22","v":570},231.74123500145589,687,179.44637081869334,498,164.83021567661677,{"$f":"W10+W22","v":129},84.64632301523794]
[null,"$10,000 to $14,999",{"$f":"C11+C23","v":15334},1136.7013679942502,{"$f":"E11+E23","v":810},236.88815926508443,{"$f":"G11+G23","v":972},304.40105124654218,{"$f":"I11+I23","v":986},208.97128989409049,{"$f":"K11+K23","v":638},147.80054127099805,{"$f":"M11+M23","v":1363},379.16355310076943,{"$f":"O11+O23","v":3785},568.98945508682323,{"$f":"Q11+Q23","v":1828},269.02973813316623,2371,439.58730645913789,2028,416.62453120285659,{"$f":"W11+W23","v":553},185.39956850003725]
[null,"$15,000 to $19,999",{"$f":"C12+C24","v":14761},941.83066418544684,774,212.55822731665788,629,213.77558326431949,1357,262.99239532731741,642,149.26486525636233,1318,294.85250550063159,3912,448.17853585373763,1614,288.46663585239804,2675,534.20688876127383,1208,284.85961454723622,{"$f":"W12+W24","v":632},197.75237040298657]
[null,"$20,000 to $24,999",15385,961.08740497417818,882,237.03375287076733,711,214.27319011019554,959,197.64867821465441,823,177.56407294269863,1210,237.00210969525145,4061,511.90721815579042,2169,421.42733655993413,2642,457.70842247002622,1403,325.20301351617269,525,160.10309178776029]
[null,"$25,000 to $34,999",32814,1546.6405529404692,2171,351.00997136833593,1765,323.10988842807024,2258,360.48439633359999,1380,204.20088148683394,2574,333.21014390321312,8672,727.47852201972262,3784,498.31716807671796,5236,580.7753438292641,3612,557.41725843393112,1362,285.60287113402762]
[null,"$35,000 to $49,999",49203,1643.4530720406956,2647,406.36190766359977,2352,414.18957012459884,2993,393.88957843537827,2106,241.3047865252573,3117,336.87980052238214,15774,966.86348571036649,5149,448.30569927227111,8551,699.82426365481217,4752,560.48282756923072,1762,292.8497908484826]
[null,"$50,000 to $74,999",82227,2138.4950315584088,4058,474.30897103048767,3309,406.15883592506026,5526,539.56000593075839,2506,285.47679415322011,5475,497.11568070218829,24871,1275.2117471228062,9145,661.48469370046655,16736,1006.5237205351893,8090,705.0709184188496,2511,342.11840055746785]
[null,"$75,000 to $99,999",71642,2079.8761982387318,3096,392.94910611935484,3121,439.63848785109798,3948,393.77658640401665,1810,235.27430798963155,4750,487.79093882523074,21477,1266.2468163829672,8256,593.05396044542181,16112,1026.7667700115737,6766,660.20602844869575,2306,370.93665227367325]
[null,"$100,000 to $149,999",108531,2386.1619810901357,5499,524.61890930464949,4169,529.14459271545047,6375,510.1548784437918,1882,200.60907257649143,6647,490.72293608511922,33054,1532.6542336743796,12212,676.12498844518382,26348,1303.8297434864724,9531,661.35391433029258,2814,325.70692347569155]
[null,"$150,000 or more",139194,2376.6417483499695,{"$f":"E19+E31","v":5107},417.22056516907219,3841,427.15922090012293,5047,386.05958089393403,1268,154.37940277122465,7120,416.20307543313515,46423,1486.7198794662027,14025,749.72061462920976,41915,1314.4398046316157,12016,718.41005004106114,2432,321.00623046912966]
[]
[]
[]
[]
[]
[]
[]
[]
[]
[]
[]
[]
[]
[]
[]
[]
[null,"B25118. TENURE BY HOUSEHOLD INCOME IN THE PAST 12 MONTHS (IN 2017 INFLATION-ADJUSTED DOLLARS) "]
[null,"Universe:  OCCUPIED HOUSING UNITS"]
[null,"Data Set: 2013-2017 American Community Survey 5-Year Estimates"]
[]
[null,null,"New Hampshire",null,"Belknap County",null,"Carroll County",null,"Cheshire County",null,"Coos County",null,"Grafton County",null,"Hillsborough County",null,"Merrimack County",null,"Rockingham County",null,"Strafford County",null,"Sullivan County"]
[null," ","Estimate","Margin of Error","Estimate","Margin of Error","Estimate","Margin of Error","Estimate","Margin of Error","Estimate","Margin of Error","Estimate","Margin of Error","Estimate","Margin of Error","Estimate","Margin of Error","Estimate","Margin of Error","Estimate","Margin of Error","Estimate","Margin of Error"]
[null,"Total:",526710,2332,24579,676,21203,654,30529,470,13879,324,34856,606,158139,795,57247,533,119955,768,48543,627,17780,377]
[null,"Owner occupied:",372304,2503,18619,570,16870,580,21453,535,9882,234,23802,583,104138,1144,40616,598,92025,1019,31845,665,13054,429]
[null,"Less than $5,000",4139,468,292,119,204,82,262,86,112,33,271,78,1104,293,537,118,865,183,309,142,183,85]
[null,"$5,000 to $9,999",3265,384,265,113,251,115,255,91,145,32,289,108,733,189,288,90,624,150,273,129,142,79]
[null,"$10,000 to $14,999",6421,477,309,126,592,187,510,130,467,94,599,135,1214,205,609,170,1266,253,595,176,260,94]
[null,"$15,000 to $19,999",8885,605,709,177,647,159,729,184,456,96,634,133,2069,281,719,157,1669,238,709,219,544,142]
[null,"$20,000 to $24,999",10070,590,523,150,840,225,811,156,473,98,730,167,2213,284,1168,190,1806,285,1019,250,487,121]
[null,"$25,000 to $34,999",22789,967,1323,229,1568,300,1552,234,1154,149,1977,248,5471,479,2457,270,4135,369,1928,281,1224,185]
[null,"$35,000 to $49,999",35858,1201,2152,276,1927,275,2637,289,1587,173,2895,267,8704,579,4248,351,6998,528,3155,352,1555,217]
[null,"$50,000 to $74,999",65247,1423,3415,341,3727,412,4010,344,2285,229,4632,423,16646,813,7311,470,14931,853,5619,448,2671,240]
[null,"$75,000 to $99,999",57425,1395,3475,388,2360,302,3780,365,1205,127,3635,307,15369,766,6943,381,13018,691,5254,503,2386,298]
[null,"$100,000 to $149,999",82636,1836,3420,405,2823,396,4273,332,1352,164,4066,369,25702,1044,9055,434,22346,893,7210,555,2389,228]
[null,"$150,000 or more",75569,1776,2736,316,1931,267,2634,230,646,107,4074,337,24913,938,7281,441,24367,813,5774,490,1213,154]
[null,"Renter occupied:",154406,2224,5960,463,4333,508,9076,507,3997,319,11054,551,54001,1074,16631,512,27930,1001,16698,721,4726,347]
[null,"Less than $5,000",5452,438,225,111,160,113,603,167,128,69,482,172,1888,261,515,138,555,180,683,196,213,119]
[null,"$5,000 to $9,999",7913,644,339,116,276,133,510,172,335,104,749,230,2418,326,1040,237,1127,304,808,251,311,165]
[null,"$10,000 to $14,999",11901,764,487,146,441,197,763,186,680,151,941,282,3648,449,1636,284,1441,263,1356,361,508,175]
[null,"$15,000 to $19,999",10577,653,633,176,355,137,723,169,323,84,809,197,3718,401,959,176,1576,298,1225,262,256,106]
[null,"$20,000 to $24,999",10818,683,424,131,258,136,838,207,492,109,1010,250,3059,322,1164,198,1787,328,1276,249,510,153]
[null,"$25,000 to $34,999",19432,1034,811,184,613,215,1278,246,594,125,1423,268,6632,554,2355,329,3225,446,1943,336,558,166]
[null,"$35,000 to $49,999",24826,1105,873,246,859,217,1271,213,582,142,1656,318,8720,714,2513,317,4659,440,2939,483,754,211]
[null,"$50,000 to $74,999",29465,1271,1112,271,736,212,2016,314,469,117,1825,276,10089,665,3250,417,5902,530,3151,370,915,224]
[null,"$75,000 to $99,999",17063,1104,470,167,233,103,716,198,219,86,1103,277,6889,629,1779,245,3340,433,1930,283,384,147]
[null,"$100,000 to $149,999",11981,841,466,185,292,122,237,104,152,60,615,147,4998,550,1013,212,2848,388,1094,293,266,123]
[null,"$150,000 or more",4978,487,120,74,110,73,121,53,23,14,441,152,1942,335,407,152,1470,277,293,117,51,41]
[]
[]
[]
[]
[]
[null,"Calculated B25118. TENURE BY HOUSEHOLD INCOME IN THE PAST 12 MONTHS (IN 2017 INFLATION-ADJUSTED DOLLARS) "]
[null,"Universe:  OCCUPIED HOUSING UNITS"]
[null,{"$f":"B72","v":"Data Set: 2013-2017 American Community Survey 5-Year Estimates"}]
[null,null,"New Hampshire",null,"Belknap County",null,"Carroll County",null,"Cheshire County",null,"Coos County",null,"Grafton County",null,"Hillsborough County",null,"Merrimack County",null,"Rockingham County",null,"Strafford County",null,"Sullivan County"]
[null," ","Estimate","Margin of Error","Estimate","Margin of Error","Estimate","Margin of Error","Estimate","Margin of Error","Estimate","Margin of Error","Estimate","Margin of Error","Estimate","Margin of Error","Estimate","Margin of Error","Estimate","Margin of Error","Estimate","Margin of Error","Estimate","Margin of Error"]
[null,{"$f":"B76","v":"Total:"},526710,2332,24579,676,21203,654,30529,470,13879,324,34856,606,158139,795,57247,533,119955,768,48543,627,17780,377]
[null,"Less than $5,000",{"$f":"C78+C90","v":9591},{"$f":"SQRT((D78^2)+(D90^2))","v":640.98985951417365},{"$f":"E78+E90","v":517},{"$f":"SQRT((F78^2)+(F90^2))","v":162.73291000900832},{"$f":"G78+G90","v":364},{"$f":"SQRT((H78^2)+(H90^2))","v":139.61733416735902},{"$f":"I78+I90","v":865},{"$f":"SQRT((J78^2)+(J90^2))","v":187.84301956687131},{"$f":"K78+K90","v":240},{"$f":"SQRT((L78^2)+(L90^2))","v":76.485292703891773},{"$f":"M78+M90","v":753},{"$f":"SQRT((N78^2)+(N90^2))","v":188.85973631242842},{"$f":"O78+O90","v":2992},{"$f":"SQRT((P78^2)+(P90^2))","v":392.39011200589653},{"$f":"Q78+Q90","v":1052},{"$f":"SQRT((R78^2)+(R90^2))","v":181.57092278225608},{"$f":"S78+S90","v":1420},{"$f":"SQRT((T78^2)+(T90^2))","v":256.68852720758673},{"$f":"U78+U90","v":992},{"$f":"SQRT((V78^2)+(V90^2))","v":242.03305559365234},{"$f":"W78+W90","v":396},{"$f":"SQRT((X78^2)+(X90^2))","v":146.23952953972466}]
[null,"$5,000 to $9,999",{"$f":"C79+C91","v":11178},{"$f":"SQRT((D79^2)+(D91^2))","v":749.79463855111692},{"$f":"E79+E91","v":604},161.94134740701648,{"$f":"G79+G91","v":527},175.82377541163197,{"$f":"I79+I91","v":765},194.58931111445972,{"$f":"K79+K91","v":480},108.81176406988355,{"$f":"M79+M91","v":1038},254.09447062067289,{"$f":"O79+O91","v":3151},376.82489302061771,{"$f":"Q79+Q91","v":1328},253.51331325987596,1751,338.99262528851568,1081,282.20914230407209,{"$f":"W79+W91","v":453},182.9371476764629]
[null,"$10,000 to $14,999",{"$f":"C80+C92","v":18322},900.68029844112834,{"$f":"E80+E92","v":796},192.85227507084275,{"$f":"G80+G92","v":1033},271.6210595664482,{"$f":"I80+I92","v":1273},226.92730113408567,{"$f":"K80+K92","v":1147},177.86792853125601,{"$f":"M80+M92","v":1540},312.64836478062699,{"$f":"O80+O92","v":4862},493.58484579654589,{"$f":"Q80+Q92","v":2245},330.99244704373541,2707,364.93561075893922,1951,401.61797768526247,{"$f":"W80+W92","v":768},198.64792976520042]
[null,"$15,000 to $19,999",{"$f":"C81+C93","v":19462},890.18762067330499,1342,249.6096953245206,1002,209.88091861815357,1452,249.83394485137524,779,127.5617497528158,1443,237.6930794112441,5787,489.65498057305615,1678,235.84952830141509,3245,381.37645443839347,1934,341.47474284344958,{"$f":"W81+W93","v":800},177.20045146669349]
[null,"$20,000 to $24,999",20888,902.54584371099952,947,199.15069670980316,1098,262.90872941003687,1649,259.20069444351418,965,146.57762448614045,1740,300.64763428305901,5272,429.34834342291344,2332,274.41574298862668,3593,434.52157598904108,2295,352.84699233520467,997,195.06409203131159]
[null,"$25,000 to $34,999",42221,1415.7136009800852,2134,293.76351032761028,2181,369.08671067921154,2830,339.51730441908262,1748,194.48907424325924,3400,365.14106862964621,12103,732.36398054519316,4812,425.60662588827256,7360,578.85835918642476,3871,438.01483993125163,1782,248.55784035109414]
[null,"$35,000 to $49,999",60684,1632.0006127449831,3025,369.7188120720935,2786,350.30558088617431,3908,359.01253460011674,2169,223.8146554629522,4551,415.22644424458326,17424,919.25894066905869,6761,472.95877198758035,11657,687.30197147978561,6094,597.65625571895418,2309,302.67143902258107]
[null,"$50,000 to $74,999",94712,1907.9753667172959,4527,435.57088975274735,4463,463.34436437707967,6026,465.75959464084042,2754,257.15753926338618,6457,505.07920170998926,26735,1050.3304241999276,10561,628.32236948878403,20833,1004.2454879161768,8770,581.03700398511626,3586,328.29255245893108]
[null,"$75,000 to $99,999",74488,1779,3945,422.41330471470712,2593,319.08149429260231,4496,415.24571039325622,1424,153.37861650177967,4738,413.4948609112331,22258,991.15942209111847,8722,452.9746129751644,16358,815.45692712736218,7184,577.14642856037847,2770,332.2845166419886]
[null,"$100,000 to $149,999",94617,2019.4496775111777,3886,445.25273721786374,3115,414.36698710201324,4510,347.90803382503253,1504,174.63103962354458,4681,397.20271902392614,30700,1180.0152541386913,10068,483.01138702933287,25194,973.64932085427961,8304,627.59381768784181,2655,259.06176869619338]
[null,"$150,000 or more",80547,1841.5604795933257,{"$f":"E88+E100","v":2856},324.54891773044011,2041,276.79956647364895,2755,236.02754076590298,669,107.91200118615167,4515,369.69311597594026,26855,996.02660607033988,7688,466.46007331817799,25837,858.89347418640921,6067,503.77475125297815,1264,159.36436239009021]
[]
[]
[]
[]
[]
[]
[]
[]
[]
[]
[]
[]
[]
[]
[]
[]
[null,"B25118. TENURE BY HOUSEHOLD INCOME IN THE PAST 12 MONTHS (IN 2012 INFLATION-ADJUSTED DOLLARS) "]
[null,"Universe:  OCCUPIED HOUSING UNITS"]
[null,"Data Set: 2008-2012 American Community Survey 5-Year Estimates"]
[]
[null,null,"New Hampshire",null,"Belknap County",null,"Carroll County",null,"Cheshire County",null,"Coos County",null,"Grafton County",null,"Hillsborough County",null,"Merrimack County",null,"Rockingham County",null,"Strafford County",null,"Sullivan County"]
[null," ","Estimate","Margin of Error","Estimate","Margin of Error","Estimate","Margin of Error","Estimate","Margin of Error","Estimate","Margin of Error","Estimate","Margin of Error","Estimate","Margin of Error","Estimate","Margin of Error","Estimate","Margin of Error","Estimate","Margin of Error","Estimate","Margin of Error"]
[null,"Total:",514869,1627,24645,517,20564,649,30141,492,14860,321,34498,671,153471,805,57045,715,115105,792,46384,527,18156,368]
[null,"Owner occupied:",373342,2318,18981,546,16554,512,21341,467,10666,348,24220,555,104861,1023,41725,654,90208,961,31494,543,13292,376]
[null,"Less than $5,000",4072,439,284,114,318,106,199,75,117,55,401,103,799,187,408,120,938,198,466,160,142,64]
[null,"$5,000 to $9,999",3978,375,233,107,173,60,382,120,269,79,401,105,751,170,403,148,719,183,390,111,257,95]
[null,"$10,000 to $14,999",8128,651,564,137,557,138,722,159,484,110,805,181,1532,275,754,170,1399,217,792,195,519,136]
[null,"$15,000 to $19,999",9167,566,501,127,550,168,598,142,495,103,816,147,2172,296,1038,186,1805,285,756,174,436,110]
[null,"$20,000 to $24,999",11502,590,837,192,744,207,755,160,620,125,1144,204,2443,301,1252,215,2477,312,747,138,483,101]
[null,"$25,000 to $34,999",25849,994,1637,224,1801,301,1774,217,1299,187,2184,246,5777,505,2839,256,5144,461,2135,324,1259,201]
[null,"$35,000 to $49,999",42650,1159,2450,292,2918,355,2916,284,1964,217,3654,272,9748,659,4654,374,8432,536,3853,353,2061,236]
[null,"$50,000 to $74,999",72340,1523,4516,410,3815,388,4752,365,2468,173,4892,361,19395,868,8274,497,14783,804,6411,499,3034,272]
[null,"$75,000 to $99,999",63024,1414,3016,364,2336,313,3711,321,1519,163,3513,299,18445,801,7910,495,14925,763,5483,413,2166,268]
[null,"$100,000 to $149,999",78124,1535,3105,356,2004,287,3489,324,1013,153,3808,328,24711,822,9040,557,22359,879,6575,440,2020,230]
[null,"$150,000 or more",54508,1272,1838,258,1338,242,2043,226,418,90,2602,289,19088,725,5153,350,17227,848,3886,345,915,149]
[null,"Renter occupied:",141527,1994,5664,494,4010,466,8800,567,4194,320,10278,620,48610,1015,15320,627,24897,925,14890,679,4864,373]
[null,"Less than $5,000",6084,562,267,139,285,161,296,120,241,88,604,174,1731,313,727,210,693,198,1004,277,236,129]
[null,"$5,000 to $9,999",8650,758,393,136,352,122,577,163,493,128,532,161,2975,402,869,186,1166,283,876,194,417,166]
[null,"$10,000 to $14,999",12435,746,615,158,526,200,681,165,630,128,754,141,3814,363,1460,310,2032,326,1332,222,591,144]
[null,"$15,000 to $19,999",10381,754,543,157,161,67,870,192,551,129,506,166,3930,456,989,263,1332,278,1064,252,435,146]
[null,"$20,000 to $24,999",11704,874,315,109,362,162,891,183,452,137,933,236,3586,381,1455,254,2009,365,1418,298,283,119]
[null,"$25,000 to $34,999",19115,1039,759,205,852,219,1420,219,574,144,1580,293,5870,525,2351,342,2966,444,2026,343,717,189]
[null,"$35,000 to $49,999",23961,1051,1174,262,517,181,1651,263,690,120,1843,271,8156,586,2164,307,4257,529,2553,397,956,237]
[null,"$50,000 to $74,999",25623,1212,837,175,663,171,1416,280,388,101,1808,315,8890,614,2898,313,5455,546,2620,356,648,186]
[null,"$75,000 to $99,999",12230,713,345,146,191,95,597,159,89,45,887,221,4823,462,1481,218,2360,388,1165,222,292,111]
[null,"$100,000 to $149,999",8076,668,341,151,67,43,362,139,44,33,493,165,3595,449,516,178,1969,356,492,165,197,82]
[null,"$150,000 or more",3268,379,75,52,34,25,39,31,42,43,338,148,1240,208,410,154,658,161,340,114,92,62]
[]
[]
[]
[]
[]
[null,"Calculated B25118. TENURE BY HOUSEHOLD INCOME IN THE PAST 12 MONTHS (IN 2012 INFLATION-ADJUSTED DOLLARS) "]
[null,"Universe:  OCCUPIED HOUSING UNITS"]
[null,{"$f":"B141","v":"Data Set: 2008-2012 American Community Survey 5-Year Estimates"}]
[null,null,"New Hampshire",null,"Belknap County",null,"Carroll County",null,"Cheshire County",null,"Coos County",null,"Grafton County",null,"Hillsborough County",null,"Merrimack County",null,"Rockingham County",null,"Strafford County",null,"Sullivan County"]
[null," ","Estimate","Margin of Error","Estimate","Margin of Error","Estimate","Margin of Error","Estimate","Margin of Error","Estimate","Margin of Error","Estimate","Margin of Error","Estimate","Margin of Error","Estimate","Margin of Error","Estimate","Margin of Error","Estimate","Margin of Error","Estimate","Margin of Error"]
[null,{"$f":"B145","v":"Total:"},514869,1627,24645,517,20564,649,30141,492,14860,321,34498,671,153471,805,57045,715,115105,792,46384,527,18156,368]
[null,"Less than $5,000",{"$f":"C147+C159","v":10156},{"$f":"SQRT((D147^2)+(D159^2))","v":713.13743415978377},{"$f":"E147+E159","v":551},{"$f":"SQRT((F147^2)+(F159^2))","v":179.76929659983654},{"$f":"G147+G159","v":603},{"$f":"SQRT((H147^2)+(H159^2))","v":192.76151068094481},{"$f":"I147+I159","v":495},{"$f":"SQRT((J147^2)+(J159^2))","v":141.50971698084905},{"$f":"K147+K159","v":358},{"$f":"SQRT((L147^2)+(L159^2))","v":103.77379245262264},{"$f":"M147+M159","v":1005},{"$f":"SQRT((N147^2)+(N159^2))","v":202.20039564748632},{"$f":"O147+O159","v":2530},{"$f":"SQRT((P147^2)+(P159^2))","v":364.60663735044648},{"$f":"Q147+Q159","v":1135},{"$f":"SQRT((R147^2)+(R159^2))","v":241.8677324489565},{"$f":"S147+S159","v":1631},{"$f":"SQRT((T147^2)+(T159^2))","v":280.01428534987281},{"$f":"U147+U159","v":1470},{"$f":"SQRT((V147^2)+(V159^2))","v":319.88904326344158},{"$f":"W147+W159","v":378},{"$f":"SQRT((X147^2)+(X159^2))","v":144.00347218036097}]
[null,"$5,000 to $9,999",{"$f":"C148+C160","v":12628},{"$f":"SQRT((D148^2)+(D160^2))","v":845.68847692279689},{"$f":"E148+E160","v":626},173.04623659588788,{"$f":"G148+G160","v":525},135.95587519485872,{"$f":"I148+I160","v":959},202.40800379431639,{"$f":"K148+K160","v":762},150.41608956491322,{"$f":"M148+M160","v":933},192.21342304844373,{"$f":"O148+O160","v":3726},436.46763912116097,{"$f":"Q148+Q160","v":1272},237.69728648009425,1885,337.01335285118898,1266,223.51062614560411,{"$f":"W148+W160","v":674},191.26160095534075]
[null,"$10,000 to $14,999",{"$f":"C149+C161","v":20563},990.10958989396727,{"$f":"E149+E161","v":1179},209.124364912365,{"$f":"G149+G161","v":1083},242.98971171636055,{"$f":"I149+I161","v":1403},229.14187744713973,{"$f":"K149+K161","v":1114},168.77203559831824,{"$f":"M149+M161","v":1559},229.43844490407443,{"$f":"O149+O161","v":5346},455.40531397865794,{"$f":"Q149+Q161","v":2214},353.55339059327378,3431,391.61843674679056,2124,295.48096385384963,{"$f":"W149+W161","v":1110},198.07069445023916]
[null,"$15,000 to $19,999",{"$f":"C150+C162","v":19548},942.80008485362373,1044,201.9356333092305,711,180.86735471057236,1468,238.8053600738476,1046,165.07574019219177,1322,221.73181999884454,6102,543.64694425702419,2027,322.12575184235118,3137,398.13188769552232,1820,306.23520372419625,{"$f":"W150+W162","v":871},182.80043763623763]
[null,"$20,000 to $24,999",23206,1054.5027264070966,1152,220.78269859751239,1106,262.85547359718419,1646,243.08229059312404,1072,185.45619428857049,2077,311.94871373352385,6029,485.55329264664658,2707,332.77770358003255,4486,480.17600939655449,2165,328.40219244091537,766,156.08331108738051]
[null,"$25,000 to $34,999",44964,1437.9002051602886,2396,303.64617567161946,2653,372.23917042675669,3194,308.30180018935988,1873,236.01906702637396,3764,382.57678967757573,11647,728.45727397013479,5190,427.20018726587654,8110,640.0445297008639,4161,471.8315377335432,1976,275.90215657004205]
[null,"$35,000 to $49,999",66611,1564.5708676822537,3624,392.31110104099781,3435,398.47961051978558,4567,387.07234465923807,2654,247.96975622039071,5497,383.95963329495981,17904,881.85996620778747,6818,483.86465049639656,12689,753.08498856370784,6406,531.2419411153453,3017,334.46225497057213]
[null,"$50,000 to $74,999",97963,1946.4000102753801,5353,445.78582301369789,4478,424.01061307472008,6168,460.02717311045876,2856,200.32473636573192,6700,479.10959080360726,28285,1063.2121143026918,11172,587.34827828129369,20238,971.87036172526632,9031,612.97389830236659,3682,329.5147948120084]
[null,"$75,000 to $99,999",75254,1583.5924349402533,3361,392.18873007775221,2527,327.099373279742,4308,358.22060242258539,1608,169.09760495051373,4400,371.80909079795236,23268,924.68643333835064,9391,540.87798993858121,17285,855.98656531513393,6648,468.88484727062786,2458,290.07757583101801]
[null,"$100,000 to $149,999",86200,1674.0516718428973,3446,386.70014222909202,2071,290.20337696174386,3851,352.55779668020392,1057,156.51836952894698,4301,367.16345134013545,28306,936.634934219304,9556,584.75037409137246,24328,948.35489137769514,7067,469.92020599246422,2217,244.18026128252055]
[null,"$150,000 or more",57776,1327.2622197591552,{"$f":"E157+E169","v":1913},263.18814562969965,1372,243.28789530101986,2082,228.11619846034608,460,99.744674043279119,2940,324.69216190108438,20328,754.24730692260346,5563,382.38200794493457,17885,863.14830707127032,4226,363.34694164118127,1007,161.38463371709216]

{"sheet":"ACS_Table_B19001","index":22,"n_rows":162,"n_cols":24,"rows_kept":162,"cut":false,"hidden":true,"merged":[]}
[null,"B19001. HOUSEHOLD INCOME IN THE PAST 12 MONTHS (IN 2022 INFLATION-ADJUSTED DOLLARS)",null,null,null,null,null,null,null,null,null,null,null,null,{"$f":"B1","v":"B19001. HOUSEHOLD INCOME IN THE PAST 12 MONTHS (IN 2022 INFLATION-ADJUSTED DOLLARS)"}]
[null,"Universe:  HOUSEHOLDS",null,null,null,null,null,null,null,null,null,null,null,null,{"$f":"B2","v":"Universe:  HOUSEHOLDS"}]
[null,"Data Set: 2018-2022 American Community Survey 5-Year Estimates",null,null,null,null,null,null,null,null,null,null,null,null,{"$f":"B3","v":"Data Set: 2018-2022 American Community Survey 5-Year Estimates"}]
[]
[null,null,"New Hampshire",null,"Belknap County",null,"Carroll County",null,"Cheshire County",null,"Coos County",null,"Grafton County",null,"Hillsborough County",null,"Merrimack County",null,"Rockingham County",null,"Strafford County",null,"Sullivan County"]
[null,null,"Households","Margin of Error","Households","Margin of Error","Households","Margin of Error","Households","Margin of Error","Households","Margin of Error","Households","Margin of Error","Households","Margin of Error","Households","Margin of Error","Households","Margin of Error","Households","Margin of Error","Households","Margin of Error"]
[null,"Total Households",545116,1916,25956,632,21644,671,30307,459,13620,292,35084,684,166344,838,59851,448,125464,710,50953,591,15893,458]
[null,"Households With"]
[null,"Income Less than 10,000 ",16025,1049,912,281,775,236,858,208,565,123,1510,289,4315,508,1669,282,2878,404,1547,270,996,268]
[null,"Income 10,000 to 14,999 ",15334,1120,810,247,972,297,986,195,638,137,1363,378,3785,577,1828,291,2371,444,2028,411,553,191]
[null,"Income 15,000 to 19,999 ",14761,1045,774,209,629,217,1357,270,642,140,1318,305,3912,476,1614,292,2675,536,1208,287,632,200]
[null,"Income 20,000 to 24,999 ",15385,926,882,228,711,213,959,200,823,166,1210,239,4061,531,2169,397,2642,435,1403,310,525,148]
[null,"Income 25,000 to 29,999 ",16036,926,986,236,947,219,1003,211,729,136,1298,243,4195,488,1720,269,2816,410,1718,318,624,155]
[null,"Income 30,000 to 34,999 ",16778,1030,1185,284,818,261,1255,297,651,144,1276,217,4477,542,2064,425,2420,373,1894,421,738,265]
[null,"Income 35,000 to 39,999 ",16511,998,931,275,930,308,1040,182,657,125,956,181,5681,570,1651,258,2555,367,1454,335,656,217]
[null,"Income 40,000 to 44,999 ",14883,913,833,213,593,137,982,229,596,139,1066,219,4571,512,1476,241,2575,383,1793,420,398,111]
[null,"Income 45,000 to 49,999 ",17809,1024,883,228,829,230,971,208,853,158,1095,202,5522,612,2022,314,3421,509,1505,304,708,208]
[null,"Income 50,000 to 59,999 ",34858,1399,1871,288,1495,326,2353,310,1159,216,2440,308,10854,941,3731,414,6680,655,3233,477,1042,225]
[null,"Income 60,000 to 74,999 ",47369,1496,2187,417,1814,272,3173,398,1347,202,3035,366,14017,924,5414,569,10056,772,4857,542,1469,244]
[null,"Income 75,000 to 99,999 ",71642,2117,3096,388,3121,451,3948,367,1810,227,4750,501,21477,1195,8256,612,16112,971,6766,680,2306,366]
[null,"Income 100,000 to 124,999 ",61381,1978,3163,415,2506,385,3630,439,1328,193,3994,439,18537,1154,6985,495,13983,850,5514,433,1741,274]
[null,"Income 125,000 to 149,999 ",47150,1793,2336,352,1663,344,2745,340,554,97,2653,344,14517,1034,5227,545,12365,974,4017,503,1073,197]
[null,"Income 150,000 to 199,999 ",63030,1905,2638,366,1612,284,2653,306,767,141,2772,302,20742,1170,6953,586,17824,1011,5910,655,1159,234]
[null,"Income 200,000 or more ",76164,2020,2469,320,2229,319,2394,279,501,88,4348,320,25681,1311,7072,540,24091,1033,6106,543,1273,236]
[]
[]
[]
[]
[null,"Calculated B19001. HOUSEHOLD INCOME IN THE PAST 12 MONTHS (IN 2022 INFLATION-ADJUSTED DOLLARS)"]
[null,"Universe:  HOUSEHOLDS"]
[null,"Data Set: 2018-2022 American Community Survey 5-Year Estimates"]
[null,null,"New Hampshire",null,"Belknap County",null,"Carroll County",null,"Cheshire County",null,"Coos County",null,"Grafton County",null,"Hillsborough County",null,"Merrimack County",null,"Rockingham County",null,"Strafford County",null,"Sullivan County"]
[null,null,"Households","Margin of Error","Households","Margin of Error","Households","Margin of Error","Households","Margin of Error","Households","Margin of Error","Households","Margin of Error","Households","Margin of Error","Households","Margin of Error","Households","Margin of Error","Households","Margin of Error","Households","Margin of Error"]
[null,"Total Households",{"$f":"C7","v":545116},1916,25956,632,21644,671,30307,459,13620,292,35084,684,166344,838,59851,{"$f":"R7","v":448},125464,710,50953,591,15893,458]
[null,"Households With"]
[null,"Income Less than 10,000 ",{"$f":"C9","v":16025},1049,912,281,775,236,858,208,565,123,1510,289,4315,508,1669,{"$f":"R9","v":282},2878,404,1547,270,996,268]
[null,"Income 10,000 to 14,999 ",{"$f":"C10","v":15334},1120,810,247,972,297,986,195,638,137,1363,378,3785,577,1828,291,2371,444,2028,411,553,191]
[null,"Income 15,000 to 24,999 ",{"$f":"C11+C12","v":30146},{"$f":"SQRT((D11^2)+(D12^2))","v":1396.2453222840174},{"$f":"E11+E12","v":1656},{"$f":"SQRT((F11^2)+(F12^2))","v":309.29759132589442},{"$f":"G11+G12","v":1340},{"$f":"SQRT((H11^2)+(H12^2))","v":304.06907110063003},{"$f":"I11+I12","v":2316},{"$f":"SQRT((J11^2)+(J12^2))","v":336.00595232822883},{"$f":"K11+K12","v":1465},{"$f":"SQRT((L11^2)+(L12^2))","v":217.1543230055529},{"$f":"M11+M12","v":2528},{"$f":"SQRT((N11^2)+(N12^2))","v":387.48677396783495},{"$f":"O11+O12","v":7973},{"$f":"SQRT((P11^2)+(P12^2))","v":713.11780233002173},{"$f":"Q11+Q12","v":3783},{"$f":"SQRT((R11^2)+(R12^2))","v":492.82146868820558},{"$f":"S11+S12","v":5317},{"$f":"SQRT((T11^2)+(T12^2))","v":690.30500505211467},{"$f":"U11+U12","v":2611},{"$f":"SQRT((V11^2)+(V12^2))","v":422.45591485976382},{"$f":"W11+W12","v":1157},{"$f":"SQRT((X11^2)+(X12^2))","v":248.80514464134379}]
[null,"Income 25,000 to 34,999 ",{"$f":"C13+C14","v":32814},{"$f":"SQRT((D13^2)+(D14^2))","v":1385.0545115626317},{"$f":"E13+E14","v":2171},{"$f":"SQRT((F13^2)+(F14^2))","v":369.25871689101666},{"$f":"G13+G14","v":1765},{"$f":"SQRT((H13^2)+(H14^2))","v":340.70808619696714},{"$f":"I13+I14","v":2258},{"$f":"SQRT((J13^2)+(J14^2))","v":364.32128677857952},{"$f":"K13+K14","v":1380},{"$f":"SQRT((L13^2)+(L14^2))","v":198.07069445023916},{"$f":"M13+M14","v":2574},{"$f":"SQRT((N13^2)+(N14^2))","v":325.7882748043582},{"$f":"O13+O14","v":8672},{"$f":"SQRT((P13^2)+(P14^2))","v":729.32023144843583},{"$f":"Q13+Q14","v":3784},{"$f":"SQRT((R13^2)+(R14^2))","v":502.97713665732363},{"$f":"S13+S14","v":5236},{"$f":"SQRT((T13^2)+(T14^2))","v":554.28241898873182},{"$f":"U13+U14","v":3612},{"$f":"SQRT((V13^2)+(V14^2))","v":527.60307049902576},{"$f":"W13+W14","v":1362},{"$f":"SQRT((X13^2)+(X14^2))","v":307.00162866017502}]
[null,"Income 35,000 to 49,999 ",{"$f":"C15+C16+C17","v":49203},{"$f":"SQRT((D15^2)+(D16^2)+(D17^2))","v":1696.5108310883252},{"$f":"E15+E16+E17","v":2647},{"$f":"SQRT((F15^2)+(F16^2)+(F17^2))","v":415.90623943384162},{"$f":"G15+G16+G17","v":2352},{"$f":"SQRT((H15^2)+(H16^2)+(H17^2))","v":408.08455006285158},{"$f":"I15+I16+I17","v":2993},{"$f":"SQRT((J15^2)+(J16^2)+(J17^2))","v":358.92756929497631},{"$f":"K15+K16+K17","v":2106},{"$f":"SQRT((L15^2)+(L16^2)+(L17^2))","v":244.76519360399263},{"$f":"M15+M16+M17","v":3117},{"$f":"SQRT((N15^2)+(N16^2)+(N17^2))","v":348.60579455883976},{"$f":"O15+O16+O17","v":15774},{"$f":"SQRT((P15^2)+(P16^2)+(P17^2))","v":980.60593512378864},{"$f":"Q15+Q16+Q17","v":5149},{"$f":"SQRT((R15^2)+(R16^2)+(R17^2))","v":472.4838621582752},{"$f":"S15+S16+S17","v":8551},{"$f":"SQRT((T15^2)+(T16^2)+(T17^2))","v":735.15916643948606},{"$f":"U15+U16+U17","v":4752},{"$f":"SQRT((V15^2)+(V16^2)+(V17^2))","v":617.28518530740712},{"$f":"W15+W16+W17","v":1762},{"$f":"SQRT((X15^2)+(X16^2)+(X17^2))","v":320.42783899030997}]
[null,"Income 50,000 to 74,999 ",{"$f":"C18+C19","v":82227},{"$f":"SQRT((D18^2)+(D19^2))","v":2048.2228882619197},{"$f":"E18+E19","v":4058},{"$f":"SQRT((F18^2)+(F19^2))","v":506.78693747964735},{"$f":"G18+G19","v":3309},{"$f":"SQRT((H18^2)+(H19^2))","v":424.5703710811672},{"$f":"I18+I19","v":5526},{"$f":"SQRT((J18^2)+(J19^2))","v":504.48389468842311},{"$f":"K18+K19","v":2506},{"$f":"SQRT((L18^2)+(L19^2))","v":295.7363690857112},{"$f":"M18+M19","v":5475},{"$f":"SQRT((N18^2)+(N19^2))","v":478.35133531746305},{"$f":"O18+O19","v":24871},{"$f":"SQRT((P18^2)+(P19^2))","v":1318.8089323325044},{"$f":"Q18+Q19","v":9145},{"$f":"SQRT((R18^2)+(R19^2))","v":703.67393016936478},{"$f":"S18+S19","v":16736},{"$f":"SQRT((T18^2)+(T19^2))","v":1012.4272813392574},{"$f":"U18+U19","v":8090},{"$f":"SQRT((V18^2)+(V19^2))","v":722.00623266007892},{"$f":"W18+W19","v":2511},{"$f":"SQRT((X18^2)+(X19^2))","v":331.90510692063776}]
[null,"Income 75,000 to 99,999 ",{"$f":"C20","v":71642},2117,3096,388,3121,451,3948,367,1810,227,4750,501,21477,1195,{"$f":"Q20","v":8256},612,16112,971,6766,680,2306,366]
[null,"Income 100,000 to 149,999 ",{"$f":"C21+C22","v":108531},{"$f":"SQRT((D21^2)+(D22^2))","v":2669.7065381798052},{"$f":"E21+E22","v":5499},{"$f":"SQRT((F21^2)+(F22^2))","v":544.17736079333542},{"$f":"G21+G22","v":4169},{"$f":"SQRT((H21^2)+(H22^2))","v":516.2954580470373},{"$f":"I21+I22","v":6375},{"$f":"SQRT((J21^2)+(J22^2))","v":555.26660263336566},{"$f":"K21+K22","v":1882},{"$f":"SQRT((L21^2)+(L22^2))","v":216.00462958001617},{"$f":"M21+M22","v":6647},{"$f":"SQRT((N21^2)+(N22^2))","v":557.72484255231086},{"$f":"O21+O22","v":33054},{"$f":"SQRT((P21^2)+(P22^2))","v":1549.4747497135925},{"$f":"Q21+Q22","v":12212},{"$f":"SQRT((R21^2)+(R22^2))","v":736.2404498531713},{"$f":"S21+S22","v":26348},{"$f":"SQRT((T21^2)+(T22^2))","v":1292.7397263177147},{"$f":"U21+U22","v":9531},{"$f":"SQRT((V21^2)+(V22^2))","v":663.70023353920863},{"$f":"W21+W22","v":2814},{"$f":"SQRT((X21^2)+(X22^2))","v":337.46851705010943}]
[null,"Income 150,000 to 199,999 ",{"$f":"C23","v":63030},1905,2638,366,1612,284,2653,306,767,141,2772,302,20742,1170,{"$f":"Q23","v":6953},586,17824,1011,5910,655,1159,234]
[null,"Income 200,000 or more ",{"$f":"C24","v":76164},2020,2469,320,2229,319,2394,279,501,88,4348,320,25681,1311,7072,540,24091,1033,6106,543,1273,236]
[]
[]
[]
[]
[]
[]
[]
[]
[]
[]
[]
[]
[]
[]
[]
[]
[]
[]
[]
[]
[]
[]
[]
[]
[null,"B19001. HOUSEHOLD INCOME IN THE PAST 12 MONTHS (IN 2017 INFLATION-ADJUSTED DOLLARS)"]
[null,"Universe:  HOUSEHOLDS",null,null,null,null,null,null,null,null,null,null,null,null,{"$f":"B70","v":"B19001. HOUSEHOLD INCOME IN THE PAST 12 MONTHS (IN 2017 INFLATION-ADJUSTED DOLLARS)"}]
[null,"Data Set: 2013-2017 American Community Survey 5-Year Estimates",null,null,null,null,null,null,null,null,null,null,null,null,"Data Set: 2013-2017 American Community Survey 5-Year Estimates"]
[]
[null,null,"New Hampshire",null,"Belknap County",null,"Carroll County",null,"Cheshire County",null,"Coos County",null,"Grafton County",null,"Hillsborough County",null,"Merrimack County",null,"Rockingham County",null,"Strafford County",null,"Sullivan County"]
[null,null,"Households","Margin of Error","Households","Margin of Error","Households","Margin of Error","Households","Margin of Error","Households","Margin of Error","Households","Margin of Error","Households","Margin of Error","Households","Margin of Error","Households","Margin of Error","Households","Margin of Error","Households","Margin of Error"]
[null,"Total Households",518245,2172,25049,583,20922,720,30458,482,14531,303,35111,637,154324,817,56812,477,116262,668,46968,603,17808,408]
[null,"Households With"]
[null,"Income Less than $10,000 ",23090,1033,1244,238,1117,241,1609,236,1077,178,1855,293,6781,504,2343,309,3532,443,2483,386,1049,213]
[null,"Income $10,000 to $14,999 ",20804,976,1107,212,1139,239,1527,244,1195,171,1740,285,5080,416,2387,384,3320,372,2297,345,1012,176]
[null,"Income $15,000 to $19,999 ",20384,896,1240,203,787,171,1402,249,1126,159,1396,216,6405,513,1982,272,3528,463,1744,291,774,175]
[null,"Income $20,000 to $24,999 ",23267,1088,1347,272,971,265,1788,269,1061,162,2104,309,5972,612,2603,364,4217,484,2377,359,827,176]
[null,"Income $25,000 to $29,999 ",22440,994,1006,218,1040,210,1478,218,839,149,1750,265,6727,628,2712,331,3725,410,2458,312,705,144]
[null,"Income $30,000 to $34,999 ",22982,971,1467,223,1362,286,1582,233,906,154,1818,244,5629,474,2775,364,4563,508,1838,302,1042,205]
[null,"Income $35,000 to $39,999 ",21085,928,905,200,1198,236,1464,238,767,153,1663,243,5692,571,2514,305,3965,451,2002,313,915,207]
[null,"Income $40,000 to $44,999 ",23592,1090,1126,212,1368,268,1487,232,849,157,1869,236,6602,506,2507,364,4508,479,2311,339,965,212]
[null,"Income $45,000 to $49,999 ",21622,1079,1231,273,1313,264,1374,258,665,129,1650,237,5748,544,2036,242,4430,488,2448,338,727,155]
[null,"Income $50,000 to $59,999 ",40305,1109,2166,266,1922,279,2824,357,1172,152,3124,319,11532,592,4203,369,7925,556,3934,449,1503,225]
[null,"Income $60,000 to $74,999 ",55521,1568,3107,302,2309,311,3425,347,1638,194,3455,326,15712,816,6225,403,12354,766,5140,421,2156,283]
[null,"Income $75,000 to $99,999 ",75345,1690,3212,326,2650,363,4336,337,1725,150,4757,342,22921,961,9055,555,17634,837,6569,504,2486,290]
[null,"Income $100,000 to $124,999 ",53318,1327,2425,317,1526,228,2834,290,725,121,2848,285,17194,761,6180,475,13747,720,4228,403,1611,229]
[null,"Income $125,000 to $149,999 ",32949,1191,1272,236,682,164,1277,180,308,106,1556,209,11042,635,3639,409,9552,632,2633,330,988,181]
[null,"Income $150,000 to $199,999 ",33964,1163,1396,240,780,172,1151,199,248,60,1752,226,11449,743,3313,308,10648,553,2753,326,474,116]
[null,"Income $200,000 or more ",27577,860,798,141,758,156,900,155,230,83,1774,235,9838,565,2338,272,8614,501,1753,256,574,116]
[]
[]
[]
[]
[null,"Calculated B19001. HOUSEHOLD INCOME IN THE PAST 12 MONTHS (IN 2016 INFLATION-ADJUSTED DOLLARS)"]
[null,"Universe:  HOUSEHOLDS"]
[null,{"$f":"B72","v":"Data Set: 2013-2017 American Community Survey 5-Year Estimates"}]
[null,null,"New Hampshire",null,"Belknap County",null,"Carroll County",null,"Cheshire County",null,"Coos County",null,"Grafton County",null,"Hillsborough County",null,"Merrimack County",null,"Rockingham County",null,"Strafford County",null,"Sullivan County"]
[null,null,"Households","Margin of Error","Households","Margin of Error","Households","Margin of Error","Households","Margin of Error","Households","Margin of Error","Households","Margin of Error","Households","Margin of Error","Households","Margin of Error","Households","Margin of Error","Households","Margin of Error","Households","Margin of Error"]
[null,"Total Households",{"$f":"C76","v":518245},2172,25049,583,20922,720,30458,482,14531,303,35111,637,154324,817,56812,477,116262,668,46968,603,17808,408]
[null,"Households With"]
[null,"Income Less than $10,000 ",{"$f":"C78","v":23090},1033,1244,238,1117,241,1609,236,1077,178,1855,293,6781,504,2343,309,3532,443,2483,386,1049,213]
[null,"Income $10,000 to $14,999 ",{"$f":"C79","v":20804},976,1107,212,1139,239,1527,244,1195,171,1740,285,5080,416,2387,384,3320,372,2297,345,1012,176]
[null,"Income $15,000 to $24,999 ",{"$f":"C80+C81","v":43651},{"$f":"SQRT((D80^2)+(D81^2))","v":1409.4537949148953},{"$f":"E80+E81","v":2587},{"$f":"SQRT((F80^2)+(F81^2))","v":339.40094283899685},{"$f":"G80+G81","v":1758},{"$f":"SQRT((H80^2)+(H81^2))","v":315.38230768386484},{"$f":"I80+I81","v":3190},{"$f":"SQRT((J80^2)+(J81^2))","v":366.55422518366913},{"$f":"K80+K81","v":2187},{"$f":"SQRT((L80^2)+(L81^2))","v":226.99118925632334},{"$f":"M80+M81","v":3500},{"$f":"SQRT((N80^2)+(N81^2))","v":377.01060993027767},{"$f":"O80+O81","v":12377},{"$f":"SQRT((P80^2)+(P81^2))","v":798.56934576779247},{"$f":"Q80+Q81","v":4585},{"$f":"SQRT((R80^2)+(R81^2))","v":454.40070422480642},{"$f":"S80+S81","v":7745},{"$f":"SQRT((T80^2)+(T81^2))","v":669.79474467929356},{"$f":"U80+U81","v":4121},{"$f":"SQRT((V80^2)+(V81^2))","v":462.12768798244497},{"$f":"W80+W81","v":1601},{"$f":"SQRT((X80^2)+(X81^2))","v":248.1954874690513}]
[null,"Income $25,000 to $34,999 ",{"$f":"C82+C83","v":45422},{"$f":"SQRT((D82^2)+(D83^2))","v":1389.5600023028871},{"$f":"E82+E83","v":2473},{"$f":"SQRT((F82^2)+(F83^2))","v":311.8541325684173},{"$f":"G82+G83","v":2402},{"$f":"SQRT((H82^2)+(H83^2))","v":354.81826334054455},{"$f":"I82+I83","v":3060},{"$f":"SQRT((J82^2)+(J83^2))","v":319.08149429260231},{"$f":"K82+K83","v":1745},{"$f":"SQRT((L82^2)+(L83^2))","v":214.28252378577213},{"$f":"M82+M83","v":3568},{"$f":"SQRT((N82^2)+(N83^2))","v":360.22354170709053},{"$f":"O82+O83","v":12356},{"$f":"SQRT((P82^2)+(P83^2))","v":786.80366038802845},{"$f":"Q82+Q83","v":5487},{"$f":"SQRT((R82^2)+(R83^2))","v":491.99288612743175},{"$f":"S82+S83","v":8288},{"$f":"SQRT((T82^2)+(T83^2))","v":652.81237733364094},{"$f":"U82+U83","v":4296},{"$f":"SQRT((V82^2)+(V83^2))","v":434.22114181601063},{"$f":"W82+W83","v":1747},{"$f":"SQRT((X82^2)+(X83^2))","v":250.52145616693193}]
[null,"Income $35,000 to $49,999 ",{"$f":"C84+C85+C86","v":66299},{"$f":"SQRT((D84^2)+(D85^2)+(D86^2))","v":1792.6307483695575},{"$f":"E84+E85+E86","v":3262},{"$f":"SQRT((F84^2)+(F85^2)+(F86^2))","v":399.34070666537366},{"$f":"G84+G85+G86","v":3879},{"$f":"SQRT((H84^2)+(H85^2)+(H86^2))","v":444.09008095205189},{"$f":"I84+I85+I86","v":4325},{"$f":"SQRT((J84^2)+(J85^2)+(J86^2))","v":420.75170825559343},{"$f":"K84+K85+K86","v":2281},{"$f":"SQRT((L84^2)+(L85^2)+(L86^2))","v":254.35998112910764},{"$f":"M84+M85+M86","v":5182},{"$f":"SQRT((N84^2)+(N85^2)+(N86^2))","v":413.41746455610701},{"$f":"O84+O85+O86","v":18042},{"$f":"SQRT((P84^2)+(P85^2)+(P86^2))","v":937.02347889473936},{"$f":"Q84+Q85+Q86","v":7057},{"$f":"SQRT((R84^2)+(R85^2)+(R86^2))","v":532.99624764157579},{"$f":"S84+S85+S86","v":12903},{"$f":"SQRT((T84^2)+(T85^2)+(T86^2))","v":819.13735112006702},{"$f":"U84+U85+U86","v":6761},{"$f":"SQRT((V84^2)+(V85^2)+(V86^2))","v":571.95629203637577},{"$f":"W84+W85+W86","v":2607},{"$f":"SQRT((X84^2)+(X85^2)+(X86^2))","v":334.39198554989321}]
[null,"Income $50,000 to $74,999 ",{"$f":"C87+C88","v":95826},{"$f":"SQRT((D87^2)+(D88^2))","v":1920.5480988509505},{"$f":"E87+E88","v":5273},{"$f":"SQRT((F87^2)+(F88^2))","v":402.4425424827748},{"$f":"G87+G88","v":4231},{"$f":"SQRT((H87^2)+(H88^2))","v":417.80617515781165},{"$f":"I87+I88","v":6249},{"$f":"SQRT((J87^2)+(J88^2))","v":497.85339207441382},{"$f":"K87+K88","v":2810},{"$f":"SQRT((L87^2)+(L88^2))","v":246.45486402179202},{"$f":"M87+M88","v":6579},{"$f":"SQRT((N87^2)+(N88^2))","v":456.11073216928366},{"$f":"O87+O88","v":27244},{"$f":"SQRT((P87^2)+(P88^2))","v":1008.1269761294953},{"$f":"Q87+Q88","v":10428},{"$f":"SQRT((R87^2)+(R88^2))","v":546.4155927496945},{"$f":"S87+S88","v":20279},{"$f":"SQRT((T87^2)+(T88^2))","v":946.51571566456312},{"$f":"U87+U88","v":9074},{"$f":"SQRT((V87^2)+(V88^2))","v":615.50142160680673},{"$f":"W87+W88","v":3659},{"$f":"SQRT((X87^2)+(X88^2))","v":361.54391157921606}]
[null,"Income $75,000 to $99,999 ",{"$f":"C89","v":75345},1690,3212,326,2650,363,4336,337,1725,150,4757,342,22921,961,9055,555,17634,837,6569,504,2486,290]
[null,"Income $100,000 to $149,999 ",{"$f":"C90+C91","v":86267},{"$f":"SQRT((D90^2)+(D91^2))","v":1783.0900145533876},{"$f":"E90+E91","v":3697},{"$f":"SQRT((F90^2)+(F91^2))","v":395.20247974930521},{"$f":"G90+G91","v":2208},{"$f":"SQRT((H90^2)+(H91^2))","v":280.85583490467133},{"$f":"I90+I91","v":4111},{"$f":"SQRT((J90^2)+(J91^2))","v":341.32096331752024},{"$f":"K90+K91","v":1033},{"$f":"SQRT((L90^2)+(L91^2))","v":160.86329600005092},{"$f":"M90+M91","v":4404},{"$f":"SQRT((N90^2)+(N91^2))","v":353.42042951702723},{"$f":"O90+O91","v":28236},{"$f":"SQRT((P90^2)+(P91^2))","v":991.133694311721},{"$f":"Q90+Q91","v":9819},{"$f":"SQRT((R90^2)+(R91^2))","v":626.82214383348014},{"$f":"S90+S91","v":23299},{"$f":"SQRT((T90^2)+(T91^2))","v":958.0313147282817},{"$f":"U90+U91","v":6861},{"$f":"SQRT((V90^2)+(V91^2))","v":520.87330513283166},{"$f":"W90+W91","v":2599},{"$f":"SQRT((X90^2)+(X91^2))","v":291.89381630997258}]
[null,"Income $150,000 to $199,999 ",{"$f":"C92","v":33964},1163,1396,240,780,172,1151,199,248,60,1752,226,11449,743,3313,308,10648,553,2753,326,474,116]
[null,"Income $200,000 or more ",{"$f":"C93","v":27577},860,798,141,758,156,900,155,230,83,1774,235,9838,565,2338,272,8614,501,1753,256,574,116]
[]
[]
[]
[null,"B19001. HOUSEHOLD INCOME IN THE PAST 12 MONTHS (IN 2012 INFLATION-ADJUSTED DOLLARS)"]
[null,"Universe:  HOUSEHOLDS",null,null,null,null,null,null,null,null,null,null,null,null,{"$f":"B118","v":"B19001. HOUSEHOLD INCOME IN THE PAST 12 MONTHS (IN 2012 INFLATION-ADJUSTED DOLLARS)"}]
[null,"Data Set: 2008-2012 American Community Survey 5-Year Estimates",null,null,null,null,null,null,null,null,null,null,null,null,{"$f":"B120","v":"Data Set: 2008-2012 American Community Survey 5-Year Estimates"}]
[]
[null,null,"New Hampshire",null,"Belknap County",null,"Carroll County",null,"Cheshire County",null,"Coos County",null,"Grafton County",null,"Hillsborough County",null,"Merrimack County",null,"Rockingham County",null,"Strafford County",null,"Sullivan County"]
[null,null,"Households","Margin of Error","Households","Margin of Error","Households","Margin of Error","Households","Margin of Error","Households","Margin of Error","Households","Margin of Error","Households","Margin of Error","Households","Margin of Error","Households","Margin of Error","Households","Margin of Error","Households","Margin of Error"]
[null,"Total Households",516845,1886,25127,635,20632,626,30173,528,14704,342,34816,560,153747,897,57224,541,115552,673,46821,560,18049,319]
[null,"Households With"]
[null,"Income Less than $10,000 ",22805,1130,1297,253,1134,218,1496,252,1081,196,2085,281,6193,604,2279,294,3546,466,2670,429,1024,243]
[null,"Income $10,000 to $14,999 ",20623,875,1091,211,1108,218,1377,213,1202,200,1626,259,5269,465,2279,293,3290,398,2352,276,1029,211]
[null,"Income $15,000 to $19,999 ",19897,953,1244,214,779,191,1413,236,1110,177,1364,238,6233,483,2171,261,3093,340,1674,311,816,172]
[null,"Income $20,000 to $24,999 ",23084,925,1277,255,947,240,1737,230,945,155,2136,317,6060,534,2811,311,4183,429,2149,303,839,196]
[null,"Income $25,000 to $29,999 ",23195,1054,1121,240,1152,267,1516,217,1053,180,2024,258,6694,571,2780,370,3664,385,2361,348,830,172]
[null,"Income $30,000 to $34,999 ",22660,1017,1364,244,1245,254,1598,235,899,137,1580,182,5508,508,2571,307,4634,504,2292,361,969,200]
[null,"Income $35,000 to $39,999 ",21021,885,970,202,1156,193,1494,264,825,154,1741,255,5597,464,2441,313,3878,394,1855,311,1064,219]
[null,"Income $40,000 to $44,999 ",23822,918,1197,254,1247,234,1379,224,893,152,1832,261,6738,494,2467,292,4817,405,2341,378,911,201]
[null,"Income $45,000 to $49,999 ",21373,1021,1229,282,1337,252,1476,294,713,128,1921,294,5432,431,2126,321,3923,520,2355,383,861,196]
[null,"Income $50,000 to $59,999 ",40975,1145,2419,290,2026,318,2703,358,1162,176,2948,334,11937,664,4392,400,7890,545,3934,402,1564,265]
[null,"Income $60,000 to $74,999 ",54679,1708,3040,379,2580,344,3375,326,1655,180,3342,333,15496,814,6142,400,12160,639,4804,448,2085,249]
[null,"Income $75,000 to $99,999 ",75050,1674,3267,347,2478,321,4287,346,1673,169,4544,369,22808,858,9234,535,17629,712,6633,498,2497,288]
[null,"Income $100,000 to $124,999 ",53372,1452,2196,264,1395,254,2849,301,744,138,2716,326,17067,724,6233,461,14397,766,4141,381,1634,243]
[null,"Income $125,000 to $149,999 ",33517,979,1324,211,712,170,1311,212,263,86,1660,239,11521,651,3628,368,9402,589,2809,315,887,163]
[null,"Income $150,000 to $199,999 ",33928,1073,1260,221,692,166,1194,187,252,60,1629,180,11731,727,3245,265,10784,676,2574,365,567,136]
[null,"Income $200,000 or more ",26844,829,831,181,644,159,968,168,234,87,1668,226,9463,543,2425,257,8262,525,1877,279,472,105]
[]
[]
[]
[]
[null,"Calculated B19001. HOUSEHOLD INCOME IN THE PAST 12 MONTHS (IN 2012 INFLATION-ADJUSTED DOLLARS)"]
[null,"Universe:  HOUSEHOLDS"]
[null,{"$f":"B120","v":"Data Set: 2008-2012 American Community Survey 5-Year Estimates"}]
[null,null,"New Hampshire",null,"Belknap County",null,"Carroll County",null,"Cheshire County",null,"Coos County",null,"Grafton County",null,"Hillsborough County",null,"Merrimack County",null,"Rockingham County",null,"Strafford County",null,"Sullivan County"]
[null,null,"Households","Margin of Error","Households","Margin of Error","Households","Margin of Error","Households","Margin of Error","Households","Margin of Error","Households","Margin of Error","Households","Margin of Error","Households","Margin of Error","Households","Margin of Error","Households","Margin of Error","Households","Margin of Error"]
[null,"Total Households",{"$f":"C124","v":516845},1886,25127,635,20632,626,30173,528,14704,342,34816,560,153747,897,57224,541,115552,673,46821,560,18049,319]
[null,"Households With"]
[null,"Income Less than $10,000 ",{"$f":"C126","v":22805},1130,1297,253,1134,218,1496,252,1081,196,2085,281,6193,604,2279,294,3546,466,2670,429,1024,243]
[null,"Income $10,000 to $14,999 ",{"$f":"C127","v":20623},875,1091,211,1108,218,1377,213,1202,200,1626,259,5269,465,2279,293,3290,398,2352,276,1029,211]
[null,"Income $15,000 to $24,999 ",{"$f":"C128+C129","v":42981},{"$f":"SQRT((D128^2)+(D129^2))","v":1328.0941231704928},{"$f":"E128+E129","v":2521},{"$f":"SQRT((F128^2)+(F129^2))","v":332.89788224018486},{"$f":"G128+G129","v":1726},{"$f":"SQRT((H128^2)+(H129^2))","v":306.72626232522055},{"$f":"I128+I129","v":3150},{"$f":"SQRT((J128^2)+(J129^2))","v":329.53907203850656},{"$f":"K128+K129","v":2055},{"$f":"SQRT((L128^2)+(L129^2))","v":235.27430798963155},{"$f":"M128+M129","v":3500},{"$f":"SQRT((N128^2)+(N129^2))","v":396.40005045408355},{"$f":"O128+O129","v":12293},{"$f":"SQRT((P128^2)+(P129^2))","v":720.03124932186108},{"$f":"Q128+Q129","v":4982},{"$f":"SQRT((R128^2)+(R129^2))","v":406.00738909532174},{"$f":"S128+S129","v":7276},{"$f":"SQRT((T128^2)+(T129^2))","v":547.39473873978727},{"$f":"U128+U129","v":3823},{"$f":"SQRT((V128^2)+(V129^2))","v":434.20041455530645},{"$f":"W128+W129","v":1655},{"$f":"SQRT((X128^2)+(X129^2))","v":260.76809620810593}]
[null,"Income $25,000 to $34,999 ",{"$f":"C130+C131","v":45855},{"$f":"SQRT((D130^2)+(D131^2))","v":1464.6518357616599},{"$f":"E130+E131","v":2485},{"$f":"SQRT((F130^2)+(F131^2))","v":342.25136961011566},{"$f":"G130+G131","v":2397},{"$f":"SQRT((H130^2)+(H131^2))","v":368.51729945824798},{"$f":"I130+I131","v":3114},{"$f":"SQRT((J130^2)+(J131^2))","v":319.86559677464533},{"$f":"K130+K131","v":1952},{"$f":"SQRT((L130^2)+(L131^2))","v":226.20565863832849},{"$f":"M130+M131","v":3604},{"$f":"SQRT((N130^2)+(N131^2))","v":315.73406531446682},{"$f":"O130+O131","v":12202},{"$f":"SQRT((P130^2)+(P131^2))","v":764.26762328388611},{"$f":"Q130+Q131","v":5351},{"$f":"SQRT((R130^2)+(R131^2))","v":480.77957527332626},{"$f":"S130+S131","v":8298},{"$f":"SQRT((T130^2)+(T131^2))","v":634.22472357989955},{"$f":"U130+U131","v":4653},{"$f":"SQRT((V130^2)+(V131^2))","v":501.42297514174595},{"$f":"W130+W131","v":1799},{"$f":"SQRT((X130^2)+(X131^2))","v":263.78779350076076}]
[null,"Income $35,000 to $49,999 ",{"$f":"C132+C133+C134","v":66216},{"$f":"SQRT((D132^2)+(D133^2)+(D134^2))","v":1633.5207375481953},{"$f":"E132+E133+E134","v":3396},{"$f":"SQRT((F132^2)+(F133^2)+(F134^2))","v":429.9348787898},{"$f":"G132+G133+G134","v":3740},{"$f":"SQRT((H132^2)+(H133^2)+(H134^2))","v":394.34629451790209},{"$f":"I132+I133+I134","v":4349},{"$f":"SQRT((J132^2)+(J133^2)+(J134^2))","v":454.21140452436902},{"$f":"K132+K133+K134","v":2431},{"$f":"SQRT((L132^2)+(L133^2)+(L134^2))","v":251.40405724649713},{"$f":"M132+M133+M134","v":5494},{"$f":"SQRT((N132^2)+(N133^2)+(N134^2))","v":468.59577462883721},{"$f":"O132+O133+O134","v":17767},{"$f":"SQRT((P132^2)+(P133^2)+(P134^2))","v":803.1768173945261},{"$f":"Q132+Q133+Q134","v":7034},{"$f":"SQRT((R132^2)+(R133^2)+(R134^2))","v":535.04579243275987},{"$f":"S132+S133+S134","v":12618},{"$f":"SQRT((T132^2)+(T133^2)+(T134^2))","v":767.89387287567286},{"$f":"U132+U133+U134","v":6551},{"$f":"SQRT((V132^2)+(V133^2)+(V134^2))","v":621.52554251615436},{"$f":"W132+W133+W134","v":2836},{"$f":"SQRT((X132^2)+(X133^2)+(X134^2))","v":356.05898387767161}]
[null,"Income $50,000 to $74,999 ",{"$f":"C135+C136","v":95654},{"$f":"SQRT((D135^2)+(D136^2))","v":2056.2803797147899},{"$f":"E135+E136","v":5459},{"$f":"SQRT((F135^2)+(F136^2))","v":477.22217048247035},{"$f":"G135+G136","v":4606},{"$f":"SQRT((H135^2)+(H136^2))","v":468.46558037917794},{"$f":"I135+I136","v":6078},{"$f":"SQRT((J135^2)+(J136^2))","v":484.19004533344133},{"$f":"K135+K136","v":2817},{"$f":"SQRT((L135^2)+(L136^2))","v":251.745903640953},{"$f":"M135+M136","v":6290},{"$f":"SQRT((N135^2)+(N136^2))","v":471.64075311618268},{"$f":"O135+O136","v":27433},{"$f":"SQRT((P135^2)+(P136^2))","v":1050.4722747412231},{"$f":"Q135+Q136","v":10534},{"$f":"SQRT((R135^2)+(R136^2))","v":565.68542494923804},{"$f":"S135+S136","v":20050},{"$f":"SQRT((T135^2)+(T136^2))","v":839.84879591507422},{"$f":"U135+U136","v":8738},{"$f":"SQRT((V135^2)+(V136^2))","v":601.92026049967785},{"$f":"W135+W136","v":3649},{"$f":"SQRT((X135^2)+(X136^2))","v":363.62893174223638}]
[null,"Income $75,000 to $99,999 ",{"$f":"C137","v":75050},1674,3267,347,2478,321,4287,346,1673,169,4544,369,22808,858,9234,535,17629,712,6633,498,2497,288]
[null,"Income $100,000 to $149,999 ",{"$f":"C138+C139","v":86889},{"$f":"SQRT((D138^2)+(D139^2))","v":1751.2124371417649},{"$f":"E138+E139","v":3520},{"$f":"SQRT((F138^2)+(F139^2))","v":337.9600568114522},{"$f":"G138+G139","v":2107},{"$f":"SQRT((H138^2)+(H139^2))","v":305.64031147739661},{"$f":"I138+I139","v":4160},{"$f":"SQRT((J138^2)+(J139^2))","v":368.16436546738197},{"$f":"K138+K139","v":1007},{"$f":"SQRT((L138^2)+(L139^2))","v":162.60381299342276},{"$f":"M138+M139","v":4376},{"$f":"SQRT((N138^2)+(N139^2))","v":404.22394783090226},{"$f":"O138+O139","v":28588},{"$f":"SQRT((P138^2)+(P139^2))","v":973.64110430897483},{"$f":"Q138+Q139","v":9861},{"$f":"SQRT((R138^2)+(R139^2))","v":589.86862944218353},{"$f":"S138+S139","v":23799},{"$f":"SQRT((T138^2)+(T139^2))","v":966.26963110717702},{"$f":"U138+U139","v":6950},{"$f":"SQRT((V138^2)+(V139^2))","v":494.35412408515418},{"$f":"W138+W139","v":2521},{"$f":"SQRT((X138^2)+(X139^2))","v":292.60553651631403}]
[null,"Income $150,000 to $199,999 ",{"$f":"C140","v":33928},1073,1260,221,692,166,1194,187,252,60,1629,180,11731,727,3245,265,10784,676,2574,365,567,136]
[null,"Income $200,000 or more ",{"$f":"C141","v":26844},829,831,181,644,159,968,168,234,87,1668,226,9463,543,2425,257,8262,525,1877,279,472,105]

{"sheet":"ACS_Table_B19037","index":23,"n_rows":253,"n_cols":24,"rows_kept":253,"cut":false,"hidden":true,"merged":[]}
[null,"B19037. AGE OF HOUSEHOLDER BY HOUSEHOLD INCOME IN THE PAST 12 MONTHS (IN 2021 INFLATION-ADJUSTED DOLLARS)"]
[null,"Universe:  HOUSEHOLDS"]
[null,"Data Set: 2018-2022 American Community Survey 5-Year Estimates"]
[]
[null,null,"New Hampshire",null,"Belknap County",null,"Carroll County",null,"Cheshire County",null,"Coos County",null,"Grafton County",null,"Hillsborough County",null,"Merrimack County",null,"Rockingham County",null,"Strafford County",null,"Sullivan County"]
[null," ","Estimate","Margin of Error","Estimate","Margin of Error","Estimate","Margin of Error","Estimate","Margin of Error","Estimate","Margin of Error","Estimate","Margin of Error","Estimate","Margin of Error","Estimate","Margin of Error","Estimate","Margin of Error","Estimate","Margin of Error","Estimate","Margin of Error"]
[null,"Total:",545116,1916,25956,632,21644,671,30307,459,13620,292,35084,684,166344,838,59851,448,125464,710,50953,591,15893,458]
[null,"Householder under 25 years:",14573,800,257,125,295,130,997,210,405,122,1089,323,4399,412,1953,316,2130,360,2755,377,293,132]
[null,"Less than $10,000",957,230,10,16,15,21,45,51,81,58,134,114,174,93,117,73,29,35,305,130,47,36]
[null,"$10,000 to $14,999",819,249,0,28,0,28,99,71,41,43,101,102,78,61,269,161,68,56,163,122,0,25]
[null,"$15,000 to $19,999",708,229,0,28,0,28,147,111,18,26,83,70,141,86,83,117,47,57,163,147,26,31]
[null,"$20,000 to $24,999",441,193,12,27,52,80,0,28,56,74,89,62,45,46,24,26,107,104,50,47,6,14]
[null,"$25,000 to $29,999",555,256,0,28,0,28,11,18,12,17,30,46,258,199,64,79,53,56,127,94,0,25]
[null,"$30,000 to $34,999",602,175,52,66,63,62,38,43,46,41,21,19,98,62,38,39,144,131,80,70,22,33]
[null,"$35,000 to $39,999",631,219,0,28,46,70,66,51,14,18,33,26,195,127,41,50,32,52,199,145,5,7]
[null,"$40,000 to $44,999",776,229,35,40,23,25,25,38,17,23,17,17,190,96,84,76,188,154,184,137,13,19]
[null,"$45,000 to $49,999",527,187,20,31,44,68,39,43,27,36,25,27,152,118,95,69,72,63,50,52,3,6]
[null,"$50,000 to $59,999",1487,339,17,31,0,28,94,79,15,22,147,121,510,179,239,102,48,41,415,196,2,3]
[null,"$60,000 to $74,999",1739,356,12,19,44,55,101,60,10,18,170,197,392,140,300,140,482,165,199,102,29,30]
[null,"$75,000 to $99,999",2320,344,11,21,8,10,169,72,41,32,87,61,852,191,341,137,290,142,417,236,104,109]
[null,"$100,000 to $124,999",1196,268,77,86,0,28,121,91,27,37,89,97,388,128,80,70,167,96,211,151,36,54]
[null,"$125,000 to $149,999",885,307,11,21,0,28,39,49,0,25,32,53,532,256,34,35,182,115,55,47,0,25]
[null,"$150,000 to $199,999",625,211,0,28,0,28,3,5,0,25,7,13,265,101,84,75,167,116,99,77,0,25]
[null,"$200,000 or more",305,115,0,28,0,28,0,28,0,25,24,26,129,109,60,54,54,51,38,46,0,25]
[null,"Householder 25 to 44 years:",152088,1650,6220,483,3737,374,7977,356,2944,176,8513,490,52599,1026,16742,468,33293,672,15738,512,4325,311]
[null,"Less than $10,000",3381,418,65,45,38,29,146,105,53,31,324,147,1116,282,500,163,641,192,235,114,263,150]
[null,"$10,000 to $14,999",2685,429,189,131,74,86,214,93,122,64,173,138,630,215,379,127,282,142,502,200,120,89]
[null,"$15,000 to $19,999",2230,423,142,114,101,102,186,97,124,68,234,121,735,208,265,106,66,70,242,142,135,101]
[null,"$20,000 to $24,999",2224,294,157,94,81,61,191,92,155,96,91,40,741,215,246,119,320,130,190,116,52,56]
[null,"$25,000 to $29,999",2716,364,147,75,56,61,174,97,65,40,247,134,862,204,222,96,396,159,508,234,39,43]
[null,"$30,000 to $34,999",3349,397,108,90,31,25,362,144,135,53,217,97,1080,267,551,197,351,140,358,146,156,125]
[null,"$35,000 to $39,999",4190,531,302,199,91,53,202,89,86,49,135,57,2206,497,318,135,385,161,404,180,61,65]
[null,"$40,000 to $44,999",3611,472,86,70,90,54,212,106,57,40,321,120,1462,312,384,166,610,215,288,148,101,80]
[null,"$45,000 to $49,999",4826,633,149,96,126,84,237,109,196,72,294,118,1703,407,521,167,846,230,500,216,254,154]
[null,"$50,000 to $59,999",9047,769,477,174,386,151,657,168,374,149,581,153,3138,476,853,182,1506,296,869,227,206,94]
[null,"$60,000 to $74,999",13304,869,808,223,323,105,786,166,247,83,695,152,4425,538,1466,275,2331,434,1769,426,454,213]
[null,"$75,000 to $99,999",22007,1305,925,225,663,168,1298,262,482,110,1505,249,7421,748,2868,319,3956,477,2058,350,831,231]
[null,"$100,000 to $124,999",20665,967,994,252,506,179,1139,234,409,140,1260,262,6918,622,2523,327,4379,535,1937,324,600,150]
[null,"$125,000 to $149,999",16945,995,769,215,434,156,847,179,113,48,646,150,5272,564,1926,313,4974,583,1527,324,437,142]
[null,"$150,000 to $199,999",20342,1129,466,130,479,174,802,197,229,66,849,233,7164,672,1941,270,5825,577,2324,418,263,113]
[null,"$200,000 or more",20566,1075,436,130,258,111,524,168,97,41,941,207,7726,613,1779,254,6425,563,2027,390,353,135]
[null,"Householder 45 to 64 years:",220605,1618,10570,369,8389,343,11625,329,5194,214,13334,441,67977,1028,23729,455,54609,760,19229,527,5949,397]
[null,"Less than $10,000",5717,673,500,226,386,155,230,88,192,68,412,150,1498,323,568,206,1100,276,508,165,323,160]
[null,"$10,000 to $14,999",5195,579,316,156,396,183,309,130,213,102,470,209,1462,301,498,159,841,314,455,197,235,137]
[null,"$15,000 to $19,999",3566,468,203,118,88,48,335,119,83,35,200,83,1118,236,360,110,828,384,245,99,106,73]
[null,"$20,000 to $24,999",4461,559,179,92,145,99,277,113,200,80,388,151,1348,328,770,306,563,182,465,161,126,77]
[null,"$25,000 to $29,999",4404,524,219,123,310,129,277,120,261,94,375,149,1225,314,501,161,684,266,398,146,154,81]
[null,"$30,000 to $34,999",5244,684,381,137,218,123,469,227,244,114,384,104,1435,379,604,220,704,214,515,233,290,166]
[null,"$35,000 to $39,999",4299,549,256,114,406,188,281,104,194,62,348,117,1164,263,473,150,702,184,296,128,179,89]
[null,"$40,000 to $44,999",4396,597,338,176,128,74,258,134,253,99,357,141,1109,213,428,123,772,202,620,315,133,73]
[null,"$45,000 to $49,999",5802,616,423,160,186,103,371,115,301,103,416,125,1581,387,720,186,1143,325,440,143,221,136]
[null,"$50,000 to $59,999",11520,885,574,180,456,153,690,177,401,104,743,149,3912,609,1095,231,2449,462,860,214,340,153]
[null,"$60,000 to $74,999",16680,985,619,197,812,211,1232,268,527,118,1023,198,5096,661,1882,328,3167,486,1767,379,555,154]
[null,"$75,000 to $99,999",27297,1453,1101,203,1247,268,1476,270,765,142,1724,299,7953,739,2854,375,6707,724,2545,418,925,255]
[null,"$100,000 to $124,999",25507,1231,1174,264,913,241,1519,273,562,121,1623,292,7915,833,2723,309,6323,607,2182,302,573,140]
[null,"$125,000 to $149,999",20718,1036,1129,238,927,272,1310,240,316,69,1274,258,5877,567,2328,268,5133,574,1929,327,495,115]
[null,"$150,000 to $199,999",32007,1171,1589,296,593,161,1344,257,421,116,1349,186,10385,764,3757,358,9247,709,2576,337,746,206]
[null,"$200,000 or more",43792,1402,1569,251,1178,199,1247,191,261,70,2248,274,14899,959,4168,444,14246,753,3428,362,548,152]
[null,"Householder 65 years and over:",157850,1427,8909,302,9223,297,9708,300,5077,169,12148,332,41369,743,17427,433,35432,745,13231,437,5326,335]
[null,"Less than $10,000",5970,734,337,129,336,178,437,141,239,80,640,221,1527,315,484,161,1108,242,499,181,363,159]
[null,"$10,000 to $14,999",6635,685,305,154,502,222,364,107,262,81,619,224,1615,425,682,169,1180,258,908,308,198,100]
[null,"$15,000 to $19,999",8257,709,429,152,440,182,689,174,417,108,801,262,1918,321,906,224,1734,418,558,190,365,163]
[null,"$20,000 to $24,999",8259,781,534,179,433,150,491,139,412,100,642,155,1927,364,1129,235,1652,384,698,261,341,122]
[null,"$25,000 to $29,999",8361,719,620,174,581,200,541,148,391,93,646,137,1850,352,933,193,1683,303,685,145,431,132]
[null,"$30,000 to $34,999",7583,752,644,212,506,206,386,116,226,67,654,184,1864,290,871,303,1221,245,941,313,270,128]
[null,"$35,000 to $39,999",7391,641,373,147,387,221,491,141,363,98,440,119,2116,400,819,193,1436,283,555,178,411,168]
[null,"$40,000 to $44,999",6100,608,374,129,352,109,487,178,269,99,371,83,1810,360,580,138,1005,209,701,216,151,71]
[null,"$45,000 to $49,999",6654,584,291,109,473,186,324,96,329,85,360,103,2086,308,686,171,1360,263,515,144,230,87]
[null,"$50,000 to $59,999",12804,767,803,180,653,214,912,227,369,72,969,220,3294,451,1544,287,2677,373,1089,224,494,124]
[null,"$60,000 to $74,999",15646,720,748,189,635,153,1054,230,563,139,1147,194,4104,384,1766,271,4076,416,1122,201,431,106]
[null,"$75,000 to $99,999",20018,1023,1059,214,1203,294,1005,181,522,114,1434,243,5251,670,2193,281,5159,519,1746,286,446,119]
[null,"$100,000 to $124,999",14013,791,918,241,1087,230,851,174,330,78,1022,214,3316,382,1659,242,3114,392,1184,248,532,197]
[null,"$125,000 to $149,999",8602,721,427,136,302,142,549,194,125,45,701,187,2836,516,939,298,2076,302,506,162,141,58]
[null,"$150,000 to $199,999",10056,670,583,185,540,162,504,126,117,44,567,134,2928,353,1171,270,2585,320,911,215,150,69]
[null,"$200,000 or more",11501,720,464,134,793,241,623,157,143,60,1135,161,2927,393,1065,195,3366,403,613,147,372,100]
[]
[]
[]
[]
[]
[]
[]
[]
[]
[]
[]
[]
[]
[]
[null,"B19037. AGE OF HOUSEHOLDER BY HOUSEHOLD INCOME IN THE PAST 12 MONTHS (IN 2016 INFLATION-ADJUSTED DOLLARS)"]
[null,"Universe:  HOUSEHOLDS"]
[null,"Data Set: 2013-2017 American Community Survey 5-Year Estimates"]
[]
[null,null,"New Hampshire",null,"Belknap County",null,"Carroll County",null,"Cheshire County",null,"Coos County",null,"Grafton County",null,"Hillsborough County",null,"Merrimack County",null,"Rockingham County",null,"Strafford County",null,"Sullivan County"]
[null," ","Estimate","Margin of Error","Estimate","Margin of Error","Estimate","Margin of Error","Estimate","Margin of Error","Estimate","Margin of Error","Estimate","Margin of Error","Estimate","Margin of Error","Estimate","Margin of Error","Estimate","Margin of Error","Estimate","Margin of Error","Estimate","Margin of Error"]
[null,"Total:",526710,2332,24579,676,21203,654,30529,470,13879,324,34856,606,158139,795,57247,533,119955,768,48543,627,17780,377]
[null,"Householder under 25 years:",16899,933,450,198,409,168,1535,236,407,140,1189,258,5019,449,1609,238,2263,357,3352,407,666,178]
[null,"Less than $10,000",2235,389,0,27,64,73,324,147,41,30,215,125,631,199,257,128,168,102,371,184,164,123]
[null,"$10,000 to $14,999",985,259,16,23,0,24,144,106,72,71,172,115,140,64,102,72,58,45,261,113,20,31]
[null,"$15,000 to $19,999",864,227,77,76,16,24,153,84,0,24,25,29,294,130,55,58,97,69,125,73,22,26]
[null,"$20,000 to $24,999",1310,308,0,27,12,18,201,145,21,21,207,153,304,132,92,67,136,76,262,151,75,68]
[null,"$25,000 to $29,999",1553,349,29,33,21,33,114,94,15,20,129,118,418,180,121,85,172,73,488,206,46,53]
[null,"$30,000 to $34,999",890,204,8,12,44,67,73,62,29,27,66,51,315,130,85,51,133,70,75,54,62,62]
[null,"$35,000 to $39,999",929,285,16,24,0,24,29,35,63,56,73,78,272,128,160,115,65,60,234,132,17,27]
[null,"$40,000 to $44,999",1130,249,76,91,77,71,43,34,44,27,50,40,432,166,85,67,212,122,104,74,7,11]
[null,"$45,000 to $49,999",1173,258,0,27,32,39,45,41,29,29,11,12,422,178,88,59,131,97,382,176,33,33]
[null,"$50,000 to $59,999",1098,264,50,56,0,24,204,102,18,20,48,41,235,98,201,113,188,120,120,79,34,41]
[null,"$60,000 to $74,999",2219,407,86,77,117,122,130,85,57,61,88,78,675,220,156,68,457,177,395,181,58,57]
[null,"$75,000 to $99,999",1463,340,55,85,11,19,9,12,18,17,58,50,534,174,90,54,264,158,338,141,86,96]
[null,"$100,000 to $124,999",747,220,37,41,15,26,66,74,0,24,23,35,209,111,103,88,106,73,146,138,42,36]
[null,"$125,000 to $149,999",131,92,0,27,0,24,0,27,0,24,0,27,55,47,0,27,76,73,0,27,0,24]
[null,"$150,000 to $199,999",133,69,0,27,0,24,0,27,0,24,20,31,62,45,14,20,0,27,37,36,0,24]
[null,"$200,000 or more",39,37,0,27,0,24,0,27,0,24,4,6,21,28,0,27,0,27,14,23,0,24]
[null,"Householder 25 to 44 years:",147647,1572,6049,354,4419,318,7777,347,3171,184,9454,402,49586,755,15638,427,32559,555,14733,436,4261,291]
[null,"Less than $10,000",4893,538,310,130,177,120,294,89,162,62,450,193,1529,305,653,168,522,196,664,271,132,89]
[null,"$10,000 to $14,999",3241,456,48,31,272,197,183,82,198,78,283,140,1191,286,441,167,330,136,189,106,106,72]
[null,"$15,000 to $19,999",3336,414,265,127,92,68,225,117,165,77,362,109,1212,246,209,96,444,132,313,121,49,43]
[null,"$20,000 to $24,999",4136,427,191,106,114,75,278,126,183,59,335,137,1029,200,380,118,775,236,569,173,282,128]
[null,"$25,000 to $29,999",3707,414,236,116,165,96,242,121,118,57,203,77,1327,260,417,137,470,166,468,183,61,55]
[null,"$30,000 to $34,999",5377,494,87,66,213,110,320,131,206,79,548,157,1977,351,609,144,839,235,466,156,112,60]
[null,"$35,000 to $39,999",5405,497,217,120,196,87,305,117,178,68,487,172,1494,269,689,178,1122,207,538,171,179,71]
[null,"$40,000 to $44,999",5366,534,201,110,322,123,361,136,121,41,287,153,1774,292,570,129,970,194,640,195,120,71]
[null,"$45,000 to $49,999",5760,547,410,156,197,108,356,153,211,88,474,157,1761,303,553,147,903,242,671,232,224,116]
[null,"$50,000 to $59,999",11020,736,557,181,277,118,618,164,403,119,818,172,3247,411,1205,203,2384,371,1111,222,400,151]
[null,"$60,000 to $74,999",17893,959,783,207,792,202,1250,201,416,121,1300,212,5691,572,2113,309,3210,395,1638,277,700,208]
[null,"$75,000 to $99,999",25630,1027,1146,240,799,219,1586,261,347,91,1460,290,8807,629,2907,330,4930,463,2709,391,939,218]
[null,"$100,000 to $124,999",18699,791,696,183,393,150,900,186,260,82,826,167,6822,531,1850,244,4879,445,1618,289,455,115]
[null,"$125,000 to $149,999",12018,821,317,122,187,83,329,94,121,49,672,158,4250,452,1383,235,3491,367,1059,220,209,101]
[null,"$150,000 to $199,999",12262,763,370,117,135,84,297,91,70,36,422,128,4619,467,804,175,3929,438,1461,275,155,72]
[null,"$200,000 or more",8904,613,215,91,88,60,233,86,12,12,527,160,2856,319,855,181,3361,355,619,180,138,70]
[null,"Householder 45 to 64 years:",230613,1294,10725,338,9164,287,12557,331,5894,176,14476,355,68983,752,25496,465,55742,640,19695,321,7881,234]
[null,"Less than $10,000",8141,633,526,169,443,167,478,151,287,79,641,169,2551,334,948,182,1210,226,627,151,430,176]
[null,"$10,000 to $14,999",6379,584,236,95,444,151,382,135,362,100,463,135,1585,252,902,218,936,199,740,279,329,112]
[null,"$15,000 to $19,999",5855,487,417,135,367,164,435,154,182,66,553,151,1575,275,513,120,944,207,572,202,297,108]
[null,"$20,000 to $24,999",6271,459,353,143,407,127,496,141,301,88,637,174,1770,296,584,113,768,184,671,229,284,122]
[null,"$25,000 to $29,999",5998,471,258,93,422,141,426,133,298,89,416,107,1652,251,678,153,1002,223,545,162,301,100]
[null,"$30,000 to $34,999",7477,547,449,151,459,145,409,123,354,92,752,193,1811,325,992,209,1358,238,607,186,286,96]
[null,"$35,000 to $39,999",6858,544,476,144,306,139,458,128,315,76,517,154,1956,310,729,156,1174,225,705,183,222,91]
[null,"$40,000 to $44,999",7461,654,457,135,208,112,438,129,217,58,562,144,2269,357,825,165,1520,253,529,151,436,155]
[null,"$45,000 to $49,999",6797,547,239,82,428,146,360,120,263,72,474,119,1843,304,837,189,1394,282,670,200,289,89]
[null,"$50,000 to $59,999",15285,865,733,151,827,175,978,209,555,124,1100,195,4207,450,1659,252,3455,439,1170,234,601,158]
[null,"$60,000 to $74,999",23235,921,957,159,995,195,1526,217,636,119,1592,253,6439,524,2551,267,5553,517,2145,345,841,191]
[null,"$75,000 to $99,999",32999,1056,1713,305,1120,182,2027,276,774,103,2066,211,9322,610,4056,345,7571,578,3084,356,1266,204]
[null,"$100,000 to $124,999",28885,1054,1377,275,1085,234,1446,200,478,100,1368,208,8845,611,3266,331,7764,514,2494,326,762,160]
[null,"$125,000 to $149,999",20551,998,744,152,644,173,1060,194,381,84,866,161,6471,516,2042,234,5630,482,1919,309,794,149]
[null,"$150,000 to $199,999",24223,960,1016,210,456,137,858,149,273,75,1069,170,8170,560,2630,258,7265,424,2041,312,445,111]
[null,"$200,000 or more",24198,812,774,160,553,140,780,134,218,74,1400,197,8517,546,2284,246,8198,430,1176,205,298,88]
[null,"Householder 65 years and over:",131551,1106,7355,265,7211,286,8660,238,4407,136,9737,297,34551,574,14504,374,29391,518,10763,344,4972,200]
[null,"Less than $10,000",5500,534,285,104,207,101,534,137,230,73,485,131,1432,282,522,120,1271,218,411,128,123,76]
[null,"$10,000 to $14,999",7717,599,496,167,317,130,564,117,515,103,622,178,1946,277,800,165,1383,241,761,211,313,108]
[null,"$15,000 to $19,999",9407,549,583,144,527,134,639,142,432,87,503,112,2706,347,901,165,1760,264,924,254,432,124]
[null,"$20,000 to $24,999",9171,547,403,121,565,230,674,133,460,97,561,137,2169,276,1276,187,1914,342,793,178,356,83]
[null,"$25,000 to $29,999",9146,603,467,123,465,165,660,145,407,98,612,124,2421,393,1082,195,1852,329,677,173,503,135]
[null,"$30,000 to $34,999",8073,516,600,145,392,134,586,126,321,64,674,143,2182,289,828,175,1534,224,545,125,411,113]
[null,"$35,000 to $39,999",6529,435,362,115,355,127,503,123,274,66,682,146,1738,239,633,123,1342,207,416,159,224,84]
[null,"$40,000 to $44,999",6334,484,272,98,282,127,525,146,308,79,422,109,1597,251,775,160,1298,210,613,177,242,105]
[null,"$45,000 to $49,999",6942,505,299,101,383,138,485,133,146,40,512,130,1866,262,817,175,1526,212,592,130,316,76]
[null,"$50,000 to $59,999",11022,597,677,162,776,209,684,159,356,73,733,128,2752,244,1112,178,2676,306,840,190,416,104]
[null,"$60,000 to $74,999",12940,504,684,125,679,141,636,111,313,65,778,113,3489,310,1564,204,2910,316,1351,232,536,132]
[null,"$75,000 to $99,999",14396,665,1031,181,663,135,874,158,285,58,1154,207,3595,319,1669,186,3593,322,1053,178,479,111]
[null,"$100,000 to $124,999",8743,505,544,127,564,166,437,98,185,58,598,137,2580,265,843,155,2145,248,640,178,207,58]
[null,"$125,000 to $149,999",4843,417,171,68,227,97,272,90,79,30,328,92,1468,229,581,109,1103,178,428,151,186,72]
[null,"$150,000 to $199,999",5306,407,229,87,368,127,231,74,56,26,474,119,1353,214,588,129,1495,226,447,136,65,31]
[null,"$200,000 or more",5482,404,252,80,441,131,356,105,40,23,599,148,1257,186,513,112,1589,241,272,86,163,68]
[]
[]
[]
[]
[]
[]
[]
[]
[]
[]
[]
[]
[]
[]
[null,"B19037. AGE OF HOUSEHOLDER BY HOUSEHOLD INCOME IN THE PAST 12 MONTHS (IN 2011 INFLATION-ADJUSTED DOLLARS)"]
[null,"Universe:  HOUSEHOLDS"]
[null,"Data Set: 2008-2012 American Community Survey 5-Year Estimates"]
[]
[null,null,"New Hampshire",null,"Belknap County",null,"Carroll County",null,"Cheshire County",null,"Coos County",null,"Grafton County",null,"Hillsborough County",null,"Merrimack County",null,"Rockingham County",null,"Strafford County",null,"Sullivan County"]
[null," ","Estimate","Margin of Error","Estimate","Margin of Error","Estimate","Margin of Error","Estimate","Margin of Error","Estimate","Margin of Error","Estimate","Margin of Error","Estimate","Margin of Error","Estimate","Margin of Error","Estimate","Margin of Error","Estimate","Margin of Error","Estimate","Margin of Error"]
[null,"Total:",516845,1886,25127,635,20632,626,30173,528,14704,342,34816,560,153747,897,57224,541,115552,673,46821,560,18049,319]
[null,"Householder under 25 years:",16522,860,790,224,416,187,1146,248,455,105,1534,300,4100,428,1680,230,2487,370,3323,348,591,150]
[null,"Less than $10,000",2791,400,213,142,106,104,225,108,86,61,391,183,372,133,209,111,253,135,761,211,175,107]
[null,"$10,000 to $14,999",1082,201,3,5,80,75,140,66,32,23,108,73,284,122,113,80,65,44,196,97,61,47]
[null,"$15,000 to $19,999",1253,249,115,83,0,24,175,95,35,30,144,121,337,127,158,82,93,58,180,76,16,20]
[null,"$20,000 to $24,999",1154,286,9,14,0,24,109,79,88,62,137,96,230,139,214,127,74,69,225,118,68,62]
[null,"$25,000 to $29,999",1267,270,61,92,37,36,58,47,20,20,171,116,192,86,135,102,144,88,378,170,71,55]
[null,"$30,000 to $34,999",1490,353,47,53,16,26,86,62,40,34,63,59,404,160,167,98,329,157,314,173,24,23]
[null,"$35,000 to $39,999",771,177,57,70,0,24,81,55,39,48,26,31,177,88,146,69,104,72,97,53,44,35]
[null,"$40,000 to $44,999",1189,299,92,114,10,18,75,63,66,54,70,59,310,156,50,61,305,154,180,111,31,44]
[null,"$45,000 to $49,999",1038,252,16,25,6,7,44,58,13,18,124,95,334,133,54,42,165,121,246,137,36,44]
[null,"$50,000 to $59,999",1461,292,69,61,27,38,29,25,21,20,150,129,435,162,169,105,212,108,330,159,19,21]
[null,"$60,000 to $74,999",1353,284,31,35,74,61,26,23,10,16,84,54,558,170,101,82,252,93,199,107,18,20]
[null,"$75,000 to $99,999",912,219,77,84,29,49,39,35,5,6,31,32,287,105,112,82,287,129,17,19,28,37]
[null,"$100,000 to $124,999",404,161,0,27,31,31,51,79,0,24,32,44,104,73,34,37,142,96,10,16,0,24]
[null,"$125,000 to $149,999",250,129,0,27,0,24,0,27,0,24,0,27,31,33,0,27,40,38,179,133,0,24]
[null,"$150,000 to $199,999",46,49,0,27,0,24,0,27,0,24,0,27,28,45,18,27,0,27,0,27,0,24]
[null,"$200,000 or more",61,43,0,27,0,24,8,13,0,24,3,5,17,28,0,27,22,24,11,20,0,24]
[null,"Householder 25 to 44 years:",161475,1565,7171,344,4711,312,8567,298,3797,201,9658,365,53557,780,17640,474,36043,574,15003,468,5328,233]
[null,"Less than $10,000",6008,658,220,100,207,90,320,113,319,113,523,166,1808,345,504,178,1057,246,746,217,304,160]
[null,"$10,000 to $14,999",4044,522,164,93,253,122,223,95,188,77,184,91,1248,320,525,179,590,206,416,142,253,145]
[null,"$15,000 to $19,999",4090,463,233,123,80,57,246,94,213,89,201,83,1639,320,301,116,634,182,358,151,185,96]
[null,"$20,000 to $24,999",4952,496,288,130,96,70,321,118,170,66,636,189,1486,290,729,201,632,180,446,156,148,76]
[null,"$25,000 to $29,999",6211,662,220,102,172,89,388,128,242,110,456,131,2247,390,866,234,744,232,701,196,175,102]
[null,"$30,000 to $34,999",6372,602,398,175,423,139,444,139,186,53,481,107,1346,255,816,232,1291,255,741,217,246,107]
[null,"$35,000 to $39,999",5941,560,195,75,307,133,318,135,252,75,494,165,1775,306,537,166,1112,286,613,181,338,145]
[null,"$40,000 to $44,999",7146,605,364,139,287,121,390,116,247,95,488,155,2334,309,799,199,1399,238,637,205,201,105]
[null,"$45,000 to $49,999",6955,543,499,185,379,133,413,147,216,66,618,171,1969,271,679,201,1171,270,753,207,258,112]
[null,"$50,000 to $59,999",13178,746,633,155,422,135,821,220,282,74,1055,204,4452,468,1468,229,2222,313,1255,263,568,196]
[null,"$60,000 to $74,999",19363,961,1143,242,709,165,1197,221,589,109,968,192,6147,556,2032,235,4320,424,1666,270,592,162]
[null,"$75,000 to $99,999",28575,1235,1246,210,615,141,1678,268,541,110,1642,237,9447,674,3286,369,6227,543,2853,346,1040,215]
[null,"$100,000 to $124,999",20161,879,834,204,295,125,917,193,185,78,865,170,6810,492,2227,291,5866,430,1645,251,517,155]
[null,"$125,000 to $149,999",11470,691,386,154,210,95,344,119,82,64,324,91,4601,445,1258,209,3216,383,787,175,262,75]
[null,"$150,000 to $199,999",10380,570,233,98,166,89,370,114,19,16,342,110,3924,394,1005,171,3362,343,810,180,149,60]
[null,"$200,000 or more",6629,489,115,65,90,62,177,83,66,59,381,139,2324,251,608,147,2200,272,576,157,92,48]
[null,"Householder 45 to 64 years:",229027,1308,10896,299,9731,347,13120,295,6170,196,14936,355,67196,694,25826,422,53884,555,19504,396,7764,220]
[null,"Less than $10,000",8046,644,544,158,574,176,460,119,331,97,584,127,2324,370,1067,216,1083,227,740,210,339,114]
[null,"$10,000 to $14,999",6123,460,362,99,385,166,373,97,355,102,497,136,1445,226,806,177,951,207,737,199,212,81]
[null,"$15,000 to $19,999",6076,609,364,122,335,138,361,112,422,109,363,123,1908,269,740,201,878,204,498,158,207,86]
[null,"$20,000 to $24,999",7497,502,307,106,566,189,588,162,268,80,643,155,1851,280,788,150,1446,287,772,209,268,104]
[null,"$25,000 to $29,999",7571,597,388,120,531,186,537,155,364,96,686,167,1951,278,730,195,1448,229,634,182,302,101]
[null,"$30,000 to $34,999",7418,567,380,105,524,167,562,126,272,76,538,121,1761,297,751,172,1546,283,734,185,350,112]
[null,"$35,000 to $39,999",7801,555,397,122,452,158,532,143,293,97,625,120,1894,287,1026,184,1536,268,564,180,482,149]
[null,"$40,000 to $44,999",9032,475,475,144,440,131,547,129,380,87,894,202,2409,325,1025,169,1690,243,820,210,352,100]
[null,"$45,000 to $49,999",7881,552,490,195,473,134,620,175,275,75,687,151,1879,273,823,161,1483,248,800,201,351,127]
[null,"$50,000 to $59,999",17562,768,1116,215,1076,182,1228,195,592,132,1087,187,4827,441,1979,268,3322,341,1623,238,712,164]
[null,"$60,000 to $74,999",24549,1001,1423,245,1176,195,1574,193,741,114,1670,224,6326,442,2857,305,5505,431,2183,267,1094,169]
[null,"$75,000 to $99,999",35679,1065,1489,200,1281,196,2079,273,935,131,2163,217,10323,569,4613,405,8573,485,3089,326,1134,158]
[null,"$100,000 to $124,999",27371,884,1130,219,767,172,1621,183,482,96,1510,262,8754,430,3218,315,7030,479,2013,252,846,153]
[null,"$125,000 to $149,999",18727,668,744,167,394,111,812,157,135,46,1051,183,6130,387,1985,258,5338,389,1610,238,528,130]
[null,"$150,000 to $199,999",20459,829,769,164,390,135,642,136,193,56,1024,156,6900,490,1887,214,6729,514,1605,292,320,106]
[null,"$200,000 or more",17235,700,518,129,367,124,584,116,132,52,914,185,6514,496,1531,219,5326,478,1082,200,267,74]
[null,"Householder 65 years and over:",109821,1107,6270,236,5774,250,7340,208,4282,145,8688,222,28894,533,12078,325,23138,500,8991,291,4366,181]
[null,"Less than $10,000",5960,430,320,117,247,87,491,134,345,98,587,128,1689,251,499,112,1153,197,423,127,206,73]
[null,"$10,000 to $14,999",9374,557,562,147,390,105,641,127,627,124,837,176,2292,275,835,164,1684,277,1003,207,503,112]
[null,"$15,000 to $19,999",8478,485,532,122,364,120,631,149,440,82,656,117,2349,267,972,166,1488,257,638,161,408,113]
[null,"$20,000 to $24,999",9481,442,673,163,285,99,719,150,419,95,720,143,2493,308,1080,175,2031,261,706,158,355,105]
[null,"$25,000 to $29,999",8146,472,452,125,412,153,533,120,427,98,711,137,2304,276,1049,200,1328,195,648,121,282,71]
[null,"$30,000 to $34,999",7380,478,539,125,282,100,506,128,401,84,498,114,1997,244,837,148,1468,257,503,128,349,113]
[null,"$35,000 to $39,999",6508,456,321,91,397,122,563,120,241,69,596,151,1751,232,732,163,1126,200,581,146,200,74]
[null,"$40,000 to $44,999",6455,489,266,76,510,144,367,100,200,55,380,89,1685,281,593,128,1423,212,704,156,327,124]
[null,"$45,000 to $49,999",5499,437,224,69,479,168,399,116,209,66,492,114,1250,197,570,139,1104,206,556,135,216,71]
[null,"$50,000 to $59,999",8774,487,601,133,501,151,625,148,267,66,656,137,2223,250,776,133,2134,226,726,167,265,68]
[null,"$60,000 to $74,999",9414,522,443,104,621,173,578,154,315,69,620,109,2465,254,1152,211,2083,297,756,140,381,117]
[null,"$75,000 to $99,999",9884,520,455,103,553,152,491,104,192,57,708,126,2751,304,1223,207,2542,338,674,141,295,91]
[null,"$100,000 to $124,999",5436,411,232,78,302,126,260,78,77,38,309,83,1399,196,754,170,1359,225,473,134,271,85]
[null,"$125,000 to $149,999",3070,313,194,70,108,58,155,68,46,32,285,90,759,165,385,101,808,162,233,82,97,53]
[null,"$150,000 to $199,999",3043,265,258,95,136,68,182,69,40,26,263,67,879,161,335,101,693,123,159,60,98,55]
[null,"$200,000 or more",2919,290,198,93,187,78,199,93,36,25,370,104,608,142,286,102,714,140,208,87,113,51]

{"sheet":"DisabilityByAge","index":24,"n_rows":88,"n_cols":15,"rows_kept":88,"cut":false,"hidden":true,"merged":[[51,11,51,12],[51,13,51,14],[28,3,28,4],[28,5,28,6],[28,7,28,8],[28,9,28,10],[28,11,28,12],[28,13,28,14],[51,3,51,4],[51,5,51,6],[51,7,51,8],[51,9,51,10]]}
[]
[]
[]
[]
[null,{"$f":"CntyDataLink!A20","v":"Grafton County"}]
[null,"SOCIAL CHARACTERISTICS"]
[]
[null,"Disabilities By Age"]
[null,null,"Universe: Civilian Non-institutionalized Population"]
[]
[]
[]
[]
[]
[]
[]
[]
[]
[]
[]
[]
[]
[]
[]
[]
[]
[]
[]
[null,null,null,"Under 5",null,"5 to 17 years",null,"18 to 34 years",null,"35 to 64 years",null,"65 to 74 years",null,"75 years and older"]
[null,null,null,"Estimate","Margin of Error","Estimate","Margin of Error","Estimate","Margin of Error","Estimate","Margin of Error","Estimate","Margin of Error","Estimate","Margin of Error"]
[null,"Total ",null,{"$f":"CntyDataLink!D112","v":3573},{"$f":"CntyDataLink!E112","v":130.3572015655445},{"$f":"CntyDataLink!J112","v":10922},{"$f":"CntyDataLink!K112","v":95.963534741067136},{"$f":"CntyDataLink!P112","v":21913},{"$f":"CntyDataLink!Q112","v":162.40997506310995},{"$f":"CntyDataLink!V112","v":34151},{"$f":"CntyDataLink!W112","v":196.59603251337501},{"$f":"CntyDataLink!AB112","v":11544},{"$f":"CntyDataLink!AC112","v":169.24833824885843},{"$f":"CntyDataLink!AH112","v":7845},{"$f":"CntyDataLink!AI112","v":160.01562423713506}]
[]
[null,"With a disability:",null,{"$f":"CntyDataLink!F112","v":0},{"$f":"CntyDataLink!G112","v":39.597979746446661},{"$f":"CntyDataLink!L112","v":429},{"$f":"CntyDataLink!M112","v":114.56002793295748},{"$f":"CntyDataLink!R112","v":1958},{"$f":"CntyDataLink!S112","v":343.91859501922835},{"$f":"CntyDataLink!X112","v":4455},{"$f":"CntyDataLink!Y112","v":459.57915531494683},{"$f":"CntyDataLink!AD112","v":2188},{"$f":"CntyDataLink!AE112","v":281.85812033716536},{"$f":"CntyDataLink!AJ112","v":3280},{"$f":"CntyDataLink!AK112","v":317.97012438277909}]
[]
[null,"With one disability:",null,{"$f":"CntyDataLink!CX112","v":264},{"$f":"CntyDataLink!CY112","v":89},{"$f":"CntyDataLink!DB112","v":3282},{"$f":"CntyDataLink!DC112","v":473},{"$f":"CntyDataLink!DF112","v":2727},{"$f":"CntyDataLink!DG112","v":320},{"$f":"CntyDataLink!DJ112","v":1176},{"$f":"CntyDataLink!DK112","v":134.97036711811967},{"$f":"CntyDataLink!DN112","v":752},{"$f":"CntyDataLink!DO112","v":131.36970731489052},{"$f":"CntyDataLink!DR112","v":0},{"$f":"CntyDataLink!DS112","v":0}]
[]
[null,"Type of disability"]
[null,null,"Hearing disability",{"$f":"CntyDataLink!AN112","v":0},{"$f":"CntyDataLink!AO112","v":39.597979746446661},{"$f":"CntyDataLink!AP112","v":36},{"$f":"CntyDataLink!AQ112","v":34.014702703389901},{"$f":"CntyDataLink!AR112","v":217},{"$f":"CntyDataLink!AS112","v":94.36630754670864},{"$f":"CntyDataLink!AT112","v":1277},{"$f":"CntyDataLink!AU112","v":258.0096897405212},{"$f":"CntyDataLink!AV112","v":1040},{"$f":"CntyDataLink!AW112","v":181.81859090863068},{"$f":"CntyDataLink!AX112","v":1710},{"$f":"CntyDataLink!AY112","v":286.68100739323489}]
[null,null,"Visual disability",{"$f":"CntyDataLink!AZ112","v":0},{"$f":"CntyDataLink!BA112","v":39.597979746446661},{"$f":"CntyDataLink!BB112","v":44},{"$f":"CntyDataLink!BC112","v":36.345563690772494},{"$f":"CntyDataLink!BD112","v":245},{"$f":"CntyDataLink!BE112","v":110.6752004741803},{"$f":"CntyDataLink!BF112","v":651},{"$f":"CntyDataLink!BG112","v":199.60210419732553},{"$f":"CntyDataLink!BH112","v":182},{"$f":"CntyDataLink!BI112","v":77.466121627457255},{"$f":"CntyDataLink!BJ112","v":671},{"$f":"CntyDataLink!BK112","v":225.03777460684239}]
[null,null,"Cognitive disability","NA","NA",{"$f":"CntyDataLink!BL112","v":352},{"$f":"CntyDataLink!BM112","v":100.40916292848975},{"$f":"CntyDataLink!BN112","v":1585},{"$f":"CntyDataLink!BO112","v":300.56280541677143},{"$f":"CntyDataLink!BP112","v":2073},{"$f":"CntyDataLink!BQ112","v":335.5979737721907},{"$f":"CntyDataLink!BR112","v":532},{"$f":"CntyDataLink!BS112","v":218.52459815773602},{"$f":"CntyDataLink!BT112","v":785},{"$f":"CntyDataLink!BU112","v":196.88829320200833}]
[null,null,"Ambulatory disability","NA","NA",{"$f":"CntyDataLink!BV112","v":63},{"$f":"CntyDataLink!BW112","v":47.169905660283021},{"$f":"CntyDataLink!BX112","v":203},{"$f":"CntyDataLink!BY112","v":93.941471140279674},{"$f":"CntyDataLink!BZ112","v":1911},{"$f":"CntyDataLink!CA112","v":302.72429700967183},{"$f":"CntyDataLink!CB112","v":1070},{"$f":"CntyDataLink!CC112","v":224.16288720481811},{"$f":"CntyDataLink!CD112","v":1755},{"$f":"CntyDataLink!CE112","v":288.20999288713085}]
[null,null,"Self-care disability","NA","NA",{"$f":"CntyDataLink!CF112","v":130},{"$f":"CntyDataLink!CG112","v":75.179784516850006},{"$f":"CntyDataLink!CH112","v":242},{"$f":"CntyDataLink!CI112","v":129.49517365523704},{"$f":"CntyDataLink!CJ112","v":885},{"$f":"CntyDataLink!CK112","v":236.34931774811622},{"$f":"CntyDataLink!CL112","v":370},{"$f":"CntyDataLink!CM112","v":173.36666346215469},{"$f":"CntyDataLink!CN112","v":818},{"$f":"CntyDataLink!CO112","v":214.94650497274898}]
[null,null,"Independent living disability","NA","NA","NA","NA",{"$f":"CntyDataLink!CP112","v":947},{"$f":"CntyDataLink!CQ112","v":247.09512338368802},{"$f":"CntyDataLink!CR112","v":1933},{"$f":"CntyDataLink!CS112","v":334.0134727821619},{"$f":"CntyDataLink!CT112","v":622},{"$f":"CntyDataLink!CU112","v":206.93235609734887},{"$f":"CntyDataLink!CV112","v":1500},{"$f":"CntyDataLink!CW112","v":260.77193100485334}]
[]
[null,"With two or more types of disability:",null,{"$f":"CntyDataLink!CZ112","v":165},{"$f":"CntyDataLink!DA112","v":83},{"$f":"CntyDataLink!DD112","v":3131},{"$f":"CntyDataLink!DE112","v":441},{"$f":"CntyDataLink!DH112","v":2741},{"$f":"CntyDataLink!DI112","v":320},{"$f":"CntyDataLink!DL112","v":424},{"$f":"CntyDataLink!DM112","v":99.478640923567099},{"$f":"CntyDataLink!DP112","v":0},{"$f":"CntyDataLink!DQ112","v":0},{"$f":"CntyDataLink!DT112","v":0},{"$f":"CntyDataLink!DU112","v":0}]
[]
[null,"No disability",null,{"$f":"CntyDataLink!H112","v":3573},{"$f":"CntyDataLink!I112","v":130.3572015655445},{"$f":"CntyDataLink!N112","v":10493},{"$f":"CntyDataLink!O112","v":144.01388821915754},{"$f":"CntyDataLink!T112","v":19955},{"$f":"CntyDataLink!U112","v":375.53295461250804},{"$f":"CntyDataLink!Z112","v":29696},{"$f":"CntyDataLink!AA112","v":476.03466260347051},{"$f":"CntyDataLink!AF112","v":9356},{"$f":"CntyDataLink!AG112","v":278.68979170396608},{"$f":"CntyDataLink!AL112","v":4565},{"$f":"CntyDataLink!AM112","v":329.00455923892605}]
[null,"Source: 2018-2022 American Community Survey Tables B18101;  B18102; B18103; B18104; B18105; B18106;  and B18107"]
[null,"NA indicates that the American Community Survey does not calculate the number for that disability."]
[null,"Percent of Population with Disabilities"]
[]
[null,null,null,"Under 5",null,"5 to 17 years",null,"18 to 34 years",null,"35 to 64 years",null,"65 to 74 years",null,"75 years and older"]
[]
[null,"With a disability:",null,{"$f":"D33/D$31","v":0},null,{"$f":"F33/F$31","v":3.9278520417505951E-2},null,{"$f":"H33/H$31","v":8.9353351891571217E-2},null,{"$f":"J33/J$31","v":0.13045006002752482},null,{"$f":"L33/L$31","v":0.18953568953568953},null,{"$f":"N33/N$31","v":0.41810070108349268}]
[]
[null,"Type of disability"]
[null,null,"Hearing disability",{"$f":"D38/D$31","v":0},null,{"$f":"F38/F$31","v":3.2960996154550448E-3},null,{"$f":"H38/H$31","v":9.9027974261853696E-3},null,{"$f":"J38/J$31","v":3.7392755702614855E-2},null,{"$f":"L38/L$31","v":9.0090090090090086E-2},null,{"$f":"N38/N$31","v":0.21797323135755259}]
[null,null,"Visual disability",{"$f":"D39/D$31","v":0},null,{"$f":"F39/F$31","v":4.028566196667277E-3},null,1.1180577739241545E-2,null,1.9062399344089483E-2,null,1.5765765765765764E-2,null,8.5532186105799879E-2]
[null,null,"Cognitive disability","NA",null,{"$f":"F40/F$31","v":3.2228529573338216E-2},null,7.2331492721215723E-2,null,6.0701004362976194E-2,null,4.6084546084546082E-2,null,0.10006373486297004]
[null,null,"Ambulatory disability","NA",null,{"$f":"F41/F$31","v":5.7681743270463284E-3},null,9.2639072696572809E-3,null,5.5957365816520749E-2,null,9.2688842688842685E-2,null,0.22370936902485661]
[null,null,"Self-care disability","NA",null,{"$f":"F42/F$31","v":1.1902581944698773E-2},null,1.1043672705699814E-2,null,2.5914321688969576E-2,null,3.2051282051282048E-2,null,0.10427023581899299]
[null,null,"Independent living disability","NA",null,"NA",null,4.321635558800712E-2,null,5.6601563643817167E-2,null,5.3880803880803879E-2,null,0.19120458891013384]
[]
[]
[]
[null,"No disability",null,{"$f":"D47/D$31","v":1},null,{"$f":"F47/F$31","v":0.9607214795824941},null,{"$f":"H47/H$31","v":0.91064664810842877},null,{"$f":"J47/J$31","v":0.86954993997247521},null,{"$f":"L47/L$31","v":0.81046431046431044},null,{"$f":"N47/N$31","v":0.58189929891650738}]
[]
[]
[null,"Source: 2018-2022 American Community Survey Tables B18101;  B18102; B18103; B18104; B18105; B18106;  and B18107"]
[null,"NA indicates that the American Community Survey does not calculate the number for that disability."]
[]
[null,"Data from the American Community Survey are estimates."]
[]
[]
[]
[]
[]
[]
[]
[]
[]
[]
[]
[]
[]
[]
[null,"Source: 2018-2022 American Community Survey Tables B18101;  B18102; B18103; B18104; B18105; B18106;  and B18107"]
[null,"NA indicates that the American Community Survey does not calculate the number for that disability.",null,null,null,null,null,null,null,"Data from the American Community Survey are estimates."]

{"sheet":"DisabilityByAgePrior5YearEst","index":25,"n_rows":72,"n_cols":15,"rows_kept":72,"cut":false,"hidden":true,"merged":[[51,13,51,14],[51,3,51,4],[51,5,51,6],[51,7,51,8],[51,9,51,10],[51,11,51,12],[28,13,28,14],[28,3,28,4],[28,5,28,6],[28,7,28,8],[28,9,28,10],[28,11,28,12]]}
[]
[]
[]
[]
[null,{"$f":"CntyDataLinkPrior5YearEstimates!A112","v":"Grafton County"}]
[null,"SOCIAL CHARACTERISTICS"]
[]
[null,"Disabilities By Age"]
[null,null,"Universe: Civilian Non-institutionalized Population"]
[]
[]
[]
[]
[]
[]
[]
[]
[]
[]
[]
[]
[]
[]
[]
[]
[]
[]
[]
[null,null,null,"Under 5",null,"5 to 17 years",null,"18 to 34 years",null,"35 to 64 years",null,"65 to 74 years",null,"75 years and older"]
[null,null,null,"Estimate","Margin of Error","Estimate","Margin of Error","Estimate","Margin of Error","Estimate","Margin of Error","Estimate","Margin of Error","Estimate","Margin of Error"]
[null,"Total ",null,{"$f":"CntyDataLinkPrior5YearEstimates!D112","v":3746},{"$f":"CntyDataLinkPrior5YearEstimates!E112","v":74.411020689142546},{"$f":"CntyDataLinkPrior5YearEstimates!J112","v":11303},{"$f":"CntyDataLinkPrior5YearEstimates!K112","v":109.04127658827184},{"$f":"CntyDataLinkPrior5YearEstimates!P112","v":22426},{"$f":"CntyDataLinkPrior5YearEstimates!Q112","v":131.82184947875675},{"$f":"CntyDataLinkPrior5YearEstimates!V112","v":34702},{"$f":"CntyDataLinkPrior5YearEstimates!W112","v":196.32880583347927},{"$f":"CntyDataLinkPrior5YearEstimates!AB112","v":9565},{"$f":"CntyDataLinkPrior5YearEstimates!AC112","v":98.488578017961046},{"$f":"CntyDataLinkPrior5YearEstimates!AH112","v":6584},{"$f":"CntyDataLinkPrior5YearEstimates!AI112","v":166.20770138594662}]
[]
[null,"With a disability:",null,{"$f":"CntyDataLinkPrior5YearEstimates!F112","v":6},{"$f":"CntyDataLinkPrior5YearEstimates!G112","v":28.160255680657446},{"$f":"CntyDataLinkPrior5YearEstimates!L112","v":833},{"$f":"CntyDataLinkPrior5YearEstimates!M112","v":228.82744590629858},{"$f":"CntyDataLinkPrior5YearEstimates!R112","v":1326},{"$f":"CntyDataLinkPrior5YearEstimates!S112","v":258.78562556679998},{"$f":"CntyDataLinkPrior5YearEstimates!X112","v":4713},{"$f":"CntyDataLinkPrior5YearEstimates!Y112","v":436.16510635308737},{"$f":"CntyDataLinkPrior5YearEstimates!AD112","v":2246},{"$f":"CntyDataLinkPrior5YearEstimates!AE112","v":234.43975772040031},{"$f":"CntyDataLinkPrior5YearEstimates!AJ112","v":3231},{"$f":"CntyDataLinkPrior5YearEstimates!AK112","v":258.23438965405052}]
[]
[null,"With one disability:",null,{"$f":"CntyDataLinkPrior5YearEstimates!CX112","v":556},{"$f":"CntyDataLinkPrior5YearEstimates!CY112","v":176},{"$f":"CntyDataLinkPrior5YearEstimates!DB112","v":3171},{"$f":"CntyDataLinkPrior5YearEstimates!DC112","v":364},{"$f":"CntyDataLinkPrior5YearEstimates!DF112","v":2788},{"$f":"CntyDataLinkPrior5YearEstimates!DG112","v":352},{"$f":"CntyDataLinkPrior5YearEstimates!DJ112","v":30797},{"$f":"CntyDataLinkPrior5YearEstimates!DK112","v":817},{"$f":"CntyDataLinkPrior5YearEstimates!DN112","v":43164},{"$f":"CntyDataLinkPrior5YearEstimates!DO112","v":915},{"$f":"CntyDataLinkPrior5YearEstimates!DR112","v":5484},{"$f":"CntyDataLinkPrior5YearEstimates!DS112","v":400}]
[]
[null,"Type of disability"]
[null,null,"Hearing disability",{"$f":"CntyDataLinkPrior5YearEstimates!AN112","v":0},{"$f":"CntyDataLinkPrior5YearEstimates!AO112","v":38.183766184073569},{"$f":"CntyDataLinkPrior5YearEstimates!AP112","v":47},{"$f":"CntyDataLinkPrior5YearEstimates!AQ112","v":29.732137494637012},{"$f":"CntyDataLinkPrior5YearEstimates!AR112","v":148},{"$f":"CntyDataLinkPrior5YearEstimates!AS112","v":94.413982015377357},{"$f":"CntyDataLinkPrior5YearEstimates!AT112","v":1156},{"$f":"CntyDataLinkPrior5YearEstimates!AU112","v":220.05681084665386},{"$f":"CntyDataLinkPrior5YearEstimates!AV112","v":1098},{"$f":"CntyDataLinkPrior5YearEstimates!AW112","v":177.73013250431114},{"$f":"CntyDataLinkPrior5YearEstimates!AX112","v":1902},{"$f":"CntyDataLinkPrior5YearEstimates!AY112","v":246.75899173079793}]
[null,null,"Visual disability",{"$f":"CntyDataLinkPrior5YearEstimates!AZ112","v":6},{"$f":"CntyDataLinkPrior5YearEstimates!BA112","v":28.160255680657446},{"$f":"CntyDataLinkPrior5YearEstimates!BB112","v":131},{"$f":"CntyDataLinkPrior5YearEstimates!BC112","v":72.180329730474355},{"$f":"CntyDataLinkPrior5YearEstimates!BD112","v":174},{"$f":"CntyDataLinkPrior5YearEstimates!BE112","v":103.4456378974},{"$f":"CntyDataLinkPrior5YearEstimates!BF112","v":611},{"$f":"CntyDataLinkPrior5YearEstimates!BG112","v":136.23509092741122},{"$f":"CntyDataLinkPrior5YearEstimates!BH112","v":259},{"$f":"CntyDataLinkPrior5YearEstimates!BI112","v":83.354663936698827},{"$f":"CntyDataLinkPrior5YearEstimates!BJ112","v":632},{"$f":"CntyDataLinkPrior5YearEstimates!BK112","v":189.80516325959101}]
[null,null,"Cognitive disability","NA","NA",{"$f":"CntyDataLinkPrior5YearEstimates!BL112","v":687},{"$f":"CntyDataLinkPrior5YearEstimates!BM112","v":215.92822881689185},{"$f":"CntyDataLinkPrior5YearEstimates!BN112","v":806},{"$f":"CntyDataLinkPrior5YearEstimates!BO112","v":197.20040567909589},{"$f":"CntyDataLinkPrior5YearEstimates!BP112","v":1726},{"$f":"CntyDataLinkPrior5YearEstimates!BQ112","v":283.27018904219341},{"$f":"CntyDataLinkPrior5YearEstimates!BR112","v":386},{"$f":"CntyDataLinkPrior5YearEstimates!BS112","v":102.41581909060729},{"$f":"CntyDataLinkPrior5YearEstimates!BT112","v":716},{"$f":"CntyDataLinkPrior5YearEstimates!BU112","v":171.42053552593984}]
[null,null,"Ambulatory disability","NA","NA",{"$f":"CntyDataLinkPrior5YearEstimates!BV112","v":108},{"$f":"CntyDataLinkPrior5YearEstimates!BW112","v":61.294371682887821},{"$f":"CntyDataLinkPrior5YearEstimates!BX112","v":326},{"$f":"CntyDataLinkPrior5YearEstimates!BY112","v":128.70120434556935},{"$f":"CntyDataLinkPrior5YearEstimates!BZ112","v":2464},{"$f":"CntyDataLinkPrior5YearEstimates!CA112","v":318.27660925679095},{"$f":"CntyDataLinkPrior5YearEstimates!CB112","v":1218},{"$f":"CntyDataLinkPrior5YearEstimates!CC112","v":190},{"$f":"CntyDataLinkPrior5YearEstimates!CD112","v":1851},{"$f":"CntyDataLinkPrior5YearEstimates!CE112","v":237.26145915424192}]
[null,null,"Self-care disability","NA","NA",{"$f":"CntyDataLinkPrior5YearEstimates!CF112","v":121},{"$f":"CntyDataLinkPrior5YearEstimates!CG112","v":75.006666370396701},{"$f":"CntyDataLinkPrior5YearEstimates!CH112","v":182},{"$f":"CntyDataLinkPrior5YearEstimates!CI112","v":100.72239075796404},{"$f":"CntyDataLinkPrior5YearEstimates!CJ112","v":875},{"$f":"CntyDataLinkPrior5YearEstimates!CK112","v":193.19679086361657},{"$f":"CntyDataLinkPrior5YearEstimates!CL112","v":279},{"$f":"CntyDataLinkPrior5YearEstimates!CM112","v":87.114866699088736},{"$f":"CntyDataLinkPrior5YearEstimates!CN112","v":599},{"$f":"CntyDataLinkPrior5YearEstimates!CO112","v":167.2423391369542}]
[null,null,"Independent living disability","NA","NA","NA","NA",{"$f":"CntyDataLinkPrior5YearEstimates!CP112","v":616},{"$f":"CntyDataLinkPrior5YearEstimates!CQ112","v":187.64061394058589},{"$f":"CntyDataLinkPrior5YearEstimates!CR112","v":1714},{"$f":"CntyDataLinkPrior5YearEstimates!CS112","v":298.67038688159226},{"$f":"CntyDataLinkPrior5YearEstimates!CT112","v":498},{"$f":"CntyDataLinkPrior5YearEstimates!CU112","v":128.70508925446578},{"$f":"CntyDataLinkPrior5YearEstimates!CV112","v":1320},{"$f":"CntyDataLinkPrior5YearEstimates!CW112","v":250.69702830308938}]
[]
[null,"With two or more types of disability:",null,{"$f":"CntyDataLinkPrior5YearEstimates!CZ112","v":159},{"$f":"CntyDataLinkPrior5YearEstimates!DA112","v":75},{"$f":"CntyDataLinkPrior5YearEstimates!DD112","v":2761},{"$f":"CntyDataLinkPrior5YearEstimates!DE112","v":353},{"$f":"CntyDataLinkPrior5YearEstimates!DH112","v":2629},{"$f":"CntyDataLinkPrior5YearEstimates!DI112","v":292},{"$f":"CntyDataLinkPrior5YearEstimates!DL112","v":2327},{"$f":"CntyDataLinkPrior5YearEstimates!DM112","v":431},{"$f":"CntyDataLinkPrior5YearEstimates!DP112","v":682},{"$f":"CntyDataLinkPrior5YearEstimates!DQ112","v":248},{"$f":"CntyDataLinkPrior5YearEstimates!DT112","v":1300},{"$f":"CntyDataLinkPrior5YearEstimates!DU112","v":240}]
[]
[null,"No disability",null,{"$f":"CntyDataLinkPrior5YearEstimates!H112","v":3740},{"$f":"CntyDataLinkPrior5YearEstimates!I112","v":73.109506905736964},{"$f":"CntyDataLinkPrior5YearEstimates!N112","v":10470},{"$f":"CntyDataLinkPrior5YearEstimates!O112","v":246.40008116881779},{"$f":"CntyDataLinkPrior5YearEstimates!T112","v":21100},{"$f":"CntyDataLinkPrior5YearEstimates!U112","v":301.62393804205925},{"$f":"CntyDataLinkPrior5YearEstimates!Z112","v":29989},{"$f":"CntyDataLinkPrior5YearEstimates!AA112","v":463.8933066988572},{"$f":"CntyDataLinkPrior5YearEstimates!AF112","v":7319},{"$f":"CntyDataLinkPrior5YearEstimates!AG112","v":250.6671099286861},{"$f":"CntyDataLinkPrior5YearEstimates!AL112","v":3353},{"$f":"CntyDataLinkPrior5YearEstimates!AM112","v":267.37987957211737}]
[null,"Source: 2013-2017 American Community Survey Tables B18101;  B18102; B18103; B18104; B18105; B18106;  and B18107"]
[null,"NA indicates that the American Community Survey does not calculate the number for that disability."]
[null,"Percent of Population with Disabilities"]
[]
[null,null,null,"Under 5",null,"5 to 17 years",null,"18 to 34 years",null,"35 to 64 years",null,"65 to 74 years",null,"75 years and older"]
[]
[null,"With a disability:",null,{"$f":"D33/D$31","v":1.6017084890549919E-3},null,{"$f":"F33/F$31","v":7.3697248518092548E-2},null,{"$f":"H33/H$31","v":5.9127798091500934E-2},null,{"$f":"J33/J$31","v":0.13581349778110771},null,{"$f":"L33/L$31","v":0.23481442760062729},null,{"$f":"N33/N$31","v":0.49073511543134873}]
[]
[null,"Type of disability"]
[null,null,"Hearing disability",{"$f":"D38/D$31","v":0},null,{"$f":"F38/F$31","v":4.1581880916570823E-3},null,{"$f":"H38/H$31","v":6.599482743244448E-3},null,{"$f":"J38/J$31","v":3.3312201025877473E-2},null,{"$f":"L38/L$31","v":0.11479351803450079},null,{"$f":"N38/N$31","v":0.28888213851761846}]
[null,null,"Visual disability",{"$f":"D39/D$31","v":1.6017084890549919E-3},null,{"$f":"F39/F$31","v":1.1589843404405911E-2},null,7.7588513332738787E-3,null,1.7607054348452538E-2,null,2.7077888133821223E-2,null,9.5990279465370601E-2]
[null,null,"Cognitive disability","NA",null,{"$f":"F40/F$31","v":6.0780323807838627E-2},null,3.5940426290912333E-2,null,4.9737767275661343E-2,null,4.0355462624150545E-2,null,0.10874848116646416]
[null,null,"Ambulatory disability","NA",null,{"$f":"F41/F$31","v":9.5549854021056355E-3},null,1.4536698474984393E-2,null,7.1004553051697311E-2,null,0.1273392577104025,null,0.28113608748481167]
[null,null,"Self-care disability","NA",null,{"$f":"F42/F$31","v":1.0705122533840573E-2},null,8.1155801302060116E-3,null,2.5214685032562963E-2,null,2.9168844746471512E-2,null,9.0978128797083835E-2]
[null,null,"Independent living disability","NA",null,"NA",null,2.7468117363774192E-2,null,4.9391965880929055E-2,null,5.2064819654992156E-2,null,0.20048602673147023]
[]
[]
[]
[null,"No disability",null,{"$f":"D47/D$31","v":0.99839829151094506},null,{"$f":"F47/F$31","v":0.92630275148190744},null,{"$f":"H47/H$31","v":0.94087220190849907},null,{"$f":"J47/J$31","v":0.86418650221889226},null,{"$f":"L47/L$31","v":0.76518557239937268},null,{"$f":"N47/N$31","v":0.50926488456865127}]
[]
[]
[null,"Source: 2013-2017 American Community Survey Tables B18101;  B18102; B18103; B18104; B18105; B18106;  and B18107"]
[null,"NA indicates that the American Community Survey does not calculate the number for that disability."]
[]
[null,"Data from the American Community Survey are estimates."]

{"sheet":"DisabilityByAgePrior10YearEst","index":26,"n_rows":72,"n_cols":15,"rows_kept":72,"cut":false,"hidden":true,"merged":[[51,13,51,14],[28,3,28,4],[28,5,28,6],[28,7,28,8],[28,9,28,10],[28,11,28,12],[28,13,28,14],[51,3,51,4],[51,5,51,6],[51,7,51,8],[51,9,51,10],[51,11,51,12]]}
[]
[]
[]
[]
[null,{"$f":"CntyDataLinkPrior10YearEstimate!A112","v":"Grafton County"}]
[null,"SOCIAL CHARACTERISTICS"]
[]
[null,"Disabilities By Age"]
[null,null,"Universe: Civilian Non-institutionalized Population"]
[]
[]
[]
[]
[]
[]
[]
[]
[]
[]
[]
[]
[]
[]
[]
[]
[]
[]
[]
[null,null,null,"Under 5",null,"5 to 17 years",null,"18 to 34 years",null,"35 to 64 years",null,"65 to 74 years",null,"75 years and older"]
[null,null,null,"Estimate","Margin of Error","Estimate","Margin of Error","Estimate","Margin of Error","Estimate","Margin of Error","Estimate","Margin of Error","Estimate","Margin of Error"]
[null,"Total ",null,{"$f":"CntyDataLinkPrior10YearEstimate!D112","v":4070},{"$f":"CntyDataLinkPrior10YearEstimate!E112","v":99.005050376230813},{"$f":"CntyDataLinkPrior10YearEstimate!J112","v":12191},{"$f":"CntyDataLinkPrior10YearEstimate!K112","v":111.07204868912791},{"$f":"CntyDataLinkPrior10YearEstimate!P112","v":22128},{"$f":"CntyDataLinkPrior10YearEstimate!Q112","v":137.2953021774598},{"$f":"CntyDataLinkPrior10YearEstimate!V112","v":36474},{"$f":"CntyDataLinkPrior10YearEstimate!W112","v":168.7601848778319},{"$f":"CntyDataLinkPrior10YearEstimate!AB112","v":7374},{"$f":"CntyDataLinkPrior10YearEstimate!AC112","v":65.80273550544841},{"$f":"CntyDataLinkPrior10YearEstimate!AH112","v":6144},{"$f":"CntyDataLinkPrior10YearEstimate!AI112","v":115.52056094046635}]
[]
[null,"With a disability:",null,{"$f":"CntyDataLinkPrior10YearEstimate!F112","v":4},{"$f":"CntyDataLinkPrior10YearEstimate!G112","v":27.658633371878661},{"$f":"CntyDataLinkPrior10YearEstimate!L112","v":870},{"$f":"CntyDataLinkPrior10YearEstimate!M112","v":187.49133313302778},{"$f":"CntyDataLinkPrior10YearEstimate!R112","v":983},{"$f":"CntyDataLinkPrior10YearEstimate!S112","v":212.42410409367389},{"$f":"CntyDataLinkPrior10YearEstimate!X112","v":4198},{"$f":"CntyDataLinkPrior10YearEstimate!Y112","v":350.22421389732608},{"$f":"CntyDataLinkPrior10YearEstimate!AD112","v":1810},{"$f":"CntyDataLinkPrior10YearEstimate!AE112","v":221.65062598603234},{"$f":"CntyDataLinkPrior10YearEstimate!AJ112","v":2754},{"$f":"CntyDataLinkPrior10YearEstimate!AK112","v":210.27838690650069}]
[]
[null,"With one disability:",null,{"$f":"CntyDataLinkPrior10YearEstimate!CX112","v":652},{"$f":"CntyDataLinkPrior10YearEstimate!CY112","v":176},{"$f":"CntyDataLinkPrior10YearEstimate!DB112","v":2747},{"$f":"CntyDataLinkPrior10YearEstimate!DC112","v":309},{"$f":"CntyDataLinkPrior10YearEstimate!DF112","v":2322},{"$f":"CntyDataLinkPrior10YearEstimate!DG112","v":293},{"$f":"CntyDataLinkPrior10YearEstimate!DJ112","v":30797},{"$f":"CntyDataLinkPrior10YearEstimate!DK112","v":817},{"$f":"CntyDataLinkPrior10YearEstimate!DN112","v":43164},{"$f":"CntyDataLinkPrior10YearEstimate!DO112","v":915},{"$f":"CntyDataLinkPrior10YearEstimate!DR112","v":5484},{"$f":"CntyDataLinkPrior10YearEstimate!DS112","v":400}]
[]
[null,"Type of disability"]
[null,null,"Hearing disability",{"$f":"CntyDataLinkPrior10YearEstimate!AN112","v":4},{"$f":"CntyDataLinkPrior10YearEstimate!AO112","v":27.658633371878661},{"$f":"CntyDataLinkPrior10YearEstimate!AP112","v":123},{"$f":"CntyDataLinkPrior10YearEstimate!AQ112","v":79.429213769242352},{"$f":"CntyDataLinkPrior10YearEstimate!AR112","v":145},{"$f":"CntyDataLinkPrior10YearEstimate!AS112","v":85.796270315206598},{"$f":"CntyDataLinkPrior10YearEstimate!AT112","v":1294},{"$f":"CntyDataLinkPrior10YearEstimate!AU112","v":219.61101975993827},{"$f":"CntyDataLinkPrior10YearEstimate!AV112","v":779},{"$f":"CntyDataLinkPrior10YearEstimate!AW112","v":149.56603892595405},{"$f":"CntyDataLinkPrior10YearEstimate!AX112","v":1458},{"$f":"CntyDataLinkPrior10YearEstimate!AY112","v":167.70509831248424}]
[null,null,"Visual disability",{"$f":"CntyDataLinkPrior10YearEstimate!AZ112","v":0},{"$f":"CntyDataLinkPrior10YearEstimate!BA112","v":38.183766184073569},{"$f":"CntyDataLinkPrior10YearEstimate!BB112","v":103},{"$f":"CntyDataLinkPrior10YearEstimate!BC112","v":67.067130548428864},{"$f":"CntyDataLinkPrior10YearEstimate!BD112","v":184},{"$f":"CntyDataLinkPrior10YearEstimate!BE112","v":87.31551981177229},{"$f":"CntyDataLinkPrior10YearEstimate!BF112","v":535},{"$f":"CntyDataLinkPrior10YearEstimate!BG112","v":140.46351839534705},{"$f":"CntyDataLinkPrior10YearEstimate!BH112","v":221},{"$f":"CntyDataLinkPrior10YearEstimate!BI112","v":76.400261779656233},{"$f":"CntyDataLinkPrior10YearEstimate!BJ112","v":547},{"$f":"CntyDataLinkPrior10YearEstimate!BK112","v":126.24579200908045}]
[null,null,"Cognitive disability","NA","NA",{"$f":"CntyDataLinkPrior10YearEstimate!BL112","v":625},{"$f":"CntyDataLinkPrior10YearEstimate!BM112","v":148.16544806398016},{"$f":"CntyDataLinkPrior10YearEstimate!BN112","v":637},{"$f":"CntyDataLinkPrior10YearEstimate!BO112","v":175.41379649275024},{"$f":"CntyDataLinkPrior10YearEstimate!BP112","v":1613},{"$f":"CntyDataLinkPrior10YearEstimate!BQ112","v":229.31637534201522},{"$f":"CntyDataLinkPrior10YearEstimate!BR112","v":370},{"$f":"CntyDataLinkPrior10YearEstimate!BS112","v":107.64757312638311},{"$f":"CntyDataLinkPrior10YearEstimate!BT112","v":559},{"$f":"CntyDataLinkPrior10YearEstimate!BU112","v":112.61438629233834}]
[null,null,"Ambulatory disability","NA","NA",{"$f":"CntyDataLinkPrior10YearEstimate!BV112","v":91},{"$f":"CntyDataLinkPrior10YearEstimate!BW112","v":65.145989899609319},{"$f":"CntyDataLinkPrior10YearEstimate!BX112","v":197},{"$f":"CntyDataLinkPrior10YearEstimate!BY112","v":98.2344135219425},{"$f":"CntyDataLinkPrior10YearEstimate!BZ112","v":2304},{"$f":"CntyDataLinkPrior10YearEstimate!CA112","v":275.28893911670332},{"$f":"CntyDataLinkPrior10YearEstimate!CB112","v":1074},{"$f":"CntyDataLinkPrior10YearEstimate!CC112","v":173.24260445975753},{"$f":"CntyDataLinkPrior10YearEstimate!CD112","v":1445},{"$f":"CntyDataLinkPrior10YearEstimate!CE112","v":183.99184764548673}]
[null,null,"Self-care disability","NA","NA",{"$f":"CntyDataLinkPrior10YearEstimate!CF112","v":112},{"$f":"CntyDataLinkPrior10YearEstimate!CG112","v":50.606323715519977},{"$f":"CntyDataLinkPrior10YearEstimate!CH112","v":181},{"$f":"CntyDataLinkPrior10YearEstimate!CI112","v":96.005208192055917},{"$f":"CntyDataLinkPrior10YearEstimate!CJ112","v":1088},{"$f":"CntyDataLinkPrior10YearEstimate!CK112","v":213.58136622842358},{"$f":"CntyDataLinkPrior10YearEstimate!CL112","v":286},{"$f":"CntyDataLinkPrior10YearEstimate!CM112","v":91.35097153287424},{"$f":"CntyDataLinkPrior10YearEstimate!CN112","v":595},{"$f":"CntyDataLinkPrior10YearEstimate!CO112","v":129.63024338479042}]
[null,null,"Independent living disability","NA","NA","NA","NA",{"$f":"CntyDataLinkPrior10YearEstimate!CP112","v":437},{"$f":"CntyDataLinkPrior10YearEstimate!CQ112","v":150.86417732516887},{"$f":"CntyDataLinkPrior10YearEstimate!CR112","v":1397},{"$f":"CntyDataLinkPrior10YearEstimate!CS112","v":211.46394491733099},{"$f":"CntyDataLinkPrior10YearEstimate!CT112","v":478},{"$f":"CntyDataLinkPrior10YearEstimate!CU112","v":115.10864433221339},{"$f":"CntyDataLinkPrior10YearEstimate!CV112","v":1199},{"$f":"CntyDataLinkPrior10YearEstimate!CW112","v":156.23699945915499}]
[]
[null,"With two or more types of disability:",null,{"$f":"CntyDataLinkPrior10YearEstimate!CZ112","v":222},{"$f":"CntyDataLinkPrior10YearEstimate!DA112","v":84},{"$f":"CntyDataLinkPrior10YearEstimate!DD112","v":2434},{"$f":"CntyDataLinkPrior10YearEstimate!DE112","v":350},{"$f":"CntyDataLinkPrior10YearEstimate!DH112","v":2242},{"$f":"CntyDataLinkPrior10YearEstimate!DI112","v":222},{"$f":"CntyDataLinkPrior10YearEstimate!DL112","v":2327},{"$f":"CntyDataLinkPrior10YearEstimate!DM112","v":431},{"$f":"CntyDataLinkPrior10YearEstimate!DP112","v":682},{"$f":"CntyDataLinkPrior10YearEstimate!DQ112","v":248},{"$f":"CntyDataLinkPrior10YearEstimate!DT112","v":1300},{"$f":"CntyDataLinkPrior10YearEstimate!DU112","v":240}]
[]
[null,"No disability",null,{"$f":"CntyDataLinkPrior10YearEstimate!H112","v":4066},{"$f":"CntyDataLinkPrior10YearEstimate!I112","v":99.724620831567975},{"$f":"CntyDataLinkPrior10YearEstimate!N112","v":11321},{"$f":"CntyDataLinkPrior10YearEstimate!O112","v":210.73680267100951},{"$f":"CntyDataLinkPrior10YearEstimate!T112","v":21145},{"$f":"CntyDataLinkPrior10YearEstimate!U112","v":238.00840321299583},{"$f":"CntyDataLinkPrior10YearEstimate!Z112","v":32276},{"$f":"CntyDataLinkPrior10YearEstimate!AA112","v":387.50483867946735},{"$f":"CntyDataLinkPrior10YearEstimate!AF112","v":5564},{"$f":"CntyDataLinkPrior10YearEstimate!AG112","v":221.46105752479374},{"$f":"CntyDataLinkPrior10YearEstimate!AL112","v":3390},{"$f":"CntyDataLinkPrior10YearEstimate!AM112","v":206.59622455408038}]
[null,"Source: 2013-2017 American Community Survey Tables B18101;  B18102; B18103; B18104; B18105; B18106;  and B18107"]
[null,"NA indicates that the American Community Survey does not calculate the number for that disability."]
[null,"Percent of Population with Disabilities"]
[]
[null,null,null,"Under 5",null,"5 to 17 years",null,"18 to 34 years",null,"35 to 64 years",null,"65 to 74 years",null,"75 years and older"]
[]
[null,"With a disability:",null,{"$f":"D33/D$31","v":9.8280098280098278E-4},null,{"$f":"F33/F$31","v":7.1364121072922643E-2},null,{"$f":"H33/H$31","v":4.4423355025307303E-2},null,{"$f":"J33/J$31","v":0.11509568459724735},null,{"$f":"L33/L$31","v":0.24545701112015189},null,{"$f":"N33/N$31","v":0.4482421875}]
[]
[null,"Type of disability"]
[null,null,"Hearing disability",{"$f":"D38/D$31","v":9.8280098280098278E-4},null,{"$f":"F38/F$31","v":1.0089410220654581E-2},null,{"$f":"H38/H$31","v":6.5527838033261031E-3},null,{"$f":"J38/J$31","v":3.5477326314635085E-2},null,{"$f":"L38/L$31","v":0.10564144290751289},null,{"$f":"N38/N$31","v":0.2373046875}]
[null,null,"Visual disability",{"$f":"D39/D$31","v":0},null,{"$f":"F39/F$31","v":8.4488557132310713E-3},null,8.315256688358641E-3,null,1.4667982672588693E-2,null,2.9970165446162191E-2,null,8.9029947916666671E-2]
[null,null,"Cognitive disability","NA",null,{"$f":"F40/F$31","v":5.1267328356984658E-2},null,2.8787057122198121E-2,null,4.4223282338103853E-2,null,5.0176295090859781E-2,null,9.0983072916666671E-2]
[null,null,"Ambulatory disability","NA",null,{"$f":"F41/F$31","v":7.4645230087769668E-3},null,8.9027476500361524E-3,null,6.3168284257279161E-2,null,0.14564686737184704,null,0.23518880208333334]
[null,null,"Self-care disability","NA",null,{"$f":"F42/F$31","v":9.1871052415716508E-3},null,8.1796818510484447E-3,null,2.9829467565937379E-2,null,3.8784919989151075E-2,null,9.6842447916666671E-2]
[null,null,"Independent living disability","NA",null,"NA",null,1.9748734634851772E-2,null,3.8301255688983932E-2,null,6.4822348793056692E-2,null,0.19514973958333334]
[]
[]
[]
[null,"No disability",null,{"$f":"D47/D$31","v":0.99901719901719899},null,{"$f":"F47/F$31","v":0.92863587892707733},null,{"$f":"H47/H$31","v":0.95557664497469275},null,{"$f":"J47/J$31","v":0.88490431540275261},null,{"$f":"L47/L$31","v":0.75454298887984816},null,{"$f":"N47/N$31","v":0.5517578125}]
[]
[]
[null,"Source: 2013-2017 American Community Survey Tables B18101;  B18102; B18103; B18104; B18105; B18106;  and B18107"]
[null,"NA indicates that the American Community Survey does not calculate the number for that disability."]
[]
[null,"Data from the American Community Survey are estimates."]

{"sheet":"ACS_Table_B18101","index":27,"n_rows":153,"n_cols":24,"rows_kept":153,"cut":false,"hidden":true,"merged":[]}
["B18101. SEX BY AGE BY DISABILITY STATUS\n"]
["Universe:  Civilian non-institutionalized population"]
["Data Set: 2018-2022 American Community Survey 5-Year Estimates"]
[]
[null,null,"New Hampshire",null,"Belknap County",null,"Carroll County",null,"Cheshire County",null,"Coos County",null,"Grafton County",null,"Hillsborough County",null,"Merrimack County",null,"Rockingham County",null,"Strafford County",null,"Sullivan County"]
[null," ","Estimate","Margin of Error","Estimate","Margin of Error","Estimate","Margin of Error","Estimate","Margin of Error","Estimate","Margin of Error","Estimate","Margin of Error","Estimate",null,"Estimate","Margin of Error","Estimate","Margin of Error","Estimate","Margin of Error","Estimate","Margin of Error"]
[null,"Total",1363236,446,63100,110,50277,39,75910,38,29606,47,89948,32,418659,243,150487,118,313051,169,129324,206,42874,80]
[null,"Male:",680468,684,31110,206,25439,139,37464,145,15130,131,44701,151,210632,263,74369,248,156283,228,63702,297,21638,159]
[null,"Under 5 years:",31825,216,1274,26,899,40,1771,82,607,8,1715,73,10842,33,3537,103,7279,69,3001,98,900,47]
[null,"With a disability",252,134,27,37,0,28,6,8,0,25,0,28,28,30,61,63,15,17,115,98,0,25]
[null,"No disability",31573,235,1247,44,899,40,1765,82,607,8,1715,73,10814,48,3476,109,7264,69,2886,139,900,47]
[null,"5 to 17 years:",99166,301,4479,92,3243,68,5210,108,1916,50,5613,80,32240,72,10969,88,23224,74,9243,218,3029,68]
[null,"With a disability",7278,802,327,154,295,102,263,99,347,146,253,80,2298,362,873,201,1872,470,489,175,261,141]
[null,"No disability",91888,834,4152,177,2948,134,4947,141,1569,148,5360,114,29942,375,10096,210,21352,476,8754,229,2768,146]
[null,"18 to 34 years:",152209,442,5658,151,4035,115,8565,110,2759,66,11223,96,49200,169,16936,191,31175,228,18188,203,4470,157]
[null,"With a disability",13648,1047,718,243,388,157,811,196,508,156,949,218,3986,602,1987,359,2277,372,1506,291,518,171]
[null,"No disability",138561,1149,4940,294,3647,203,7754,223,2251,163,10274,241,45214,610,14949,403,28898,449,16682,329,3952,242]
[null,"35 to 64 years:",279338,545,13164,163,10038,109,14552,133,6251,124,16943,137,87881,145,30203,289,67388,209,24257,248,8661,133]
[null,"With a disability",31490,1533,2091,339,1642,344,1655,300,1206,192,2495,342,8782,730,4081,439,5282,560,2837,461,1419,330]
[null,"No disability",247848,1559,11073,353,8396,364,12897,326,5045,231,14448,328,79099,743,26122,467,62106,620,21420,517,7242,346]
[null,"65 to 74 years:",76558,399,4342,81,4591,132,4741,71,2338,47,5736,126,20037,136,8254,206,17708,126,5802,127,3009,86]
[null,"With a disability",17794,887,1328,259,930,213,1396,290,739,137,1271,210,4461,451,1861,235,3606,543,1568,257,634,157]
[null,"No disability",58764,862,3014,267,3661,249,3345,291,1599,138,4465,192,15576,467,6393,260,14102,529,4234,284,2375,192]
[null,"75 years and over:",41372,315,2193,107,2633,107,2625,78,1259,76,3471,81,10432,149,4470,149,9509,153,3211,113,1569,23]
[null,"With a disability",17949,719,1136,163,1112,166,1210,192,569,86,1276,199,4563,391,1922,234,4001,407,1427,229,733,134]
[null,"No disability",23423,756,1057,166,1521,192,1415,183,690,84,2195,188,5869,420,2548,209,5508,380,1784,239,836,138]
[null,"Female:",682768,590,31990,174,24838,137,38446,141,14476,134,45247,146,208027,241,76118,227,156768,153,65622,228,21236,143]
[null,"Under 5 years:",31094,235,1349,116,840,49,1691,58,584,32,1858,108,10520,42,3421,102,6939,51,2903,126,989,72]
[null,"With a disability",171,108,0,28,0,28,34,51,0,25,0,28,63,52,53,81,15,26,6,11,0,25]
[null,"No disability",30923,236,1349,116,840,49,1657,74,584,32,1858,108,10457,67,3368,135,6924,56,2897,125,989,72]
[null,"5 to 17 years:",93745,259,4366,91,2728,56,5023,90,1792,30,5309,53,30608,74,10652,82,22110,52,8392,166,2765,48]
[null,"With a disability",4341,526,231,146,94,51,312,148,129,63,176,82,1498,333,602,186,986,287,264,132,49,43]
[null,"No disability",89404,612,4135,165,2634,79,4711,174,1663,68,5133,88,29110,345,10050,204,21124,293,8128,194,2716,58]
[null,"18 to 34 years:",144142,401,5441,141,3615,61,8652,55,2271,60,10690,131,45653,131,16142,143,29490,131,18495,186,3693,83]
[null,"With a disability",12329,998,626,221,568,225,762,220,226,97,1009,266,3010,469,1916,371,1902,386,1764,456,546,181]
[null,"No disability",131813,977,4815,201,3047,224,7890,217,2045,108,9681,288,42643,459,14226,376,27588,406,16731,516,3147,166]
[null,"35 to 64 years:",278521,431,13424,129,10342,106,14691,86,5988,60,17208,141,85692,119,30760,166,67182,190,24455,204,8779,125]
[null,"With a disability",32012,1404,1679,331,1407,311,1930,276,1071,182,1960,307,9773,740,3624,462,6140,723,3448,456,980,267]
[null,"No disability",246509,1489,11745,341,8935,343,12761,277,4917,191,15248,345,75919,774,27136,485,61042,757,21007,467,7799,301]
[null,"65 to 74 years:",80579,319,4601,74,4464,48,5020,74,2251,28,5808,113,20958,131,9220,94,18693,130,6528,152,3036,67]
[null,"With a disability",15594,801,974,217,687,184,957,167,623,127,917,188,4229,498,2099,298,3269,392,1427,347,412,135]
[null,"No disability",64985,787,3627,232,3777,181,4063,171,1628,127,4891,202,16729,509,7121,303,15424,416,5101,313,2624,135]
[null,"75 years and over:",54687,416,2809,84,2849,102,3369,67,1590,116,4374,138,14596,214,5923,146,12354,170,4849,136,1974,59]
[null,"With a disability",23174,907,1411,191,1074,232,1441,250,900,143,2004,248,6119,464,2435,288,4806,446,2264,312,720,179]
[null,"No disability",31513,910,1398,193,1775,221,1928,261,690,127,2370,270,8477,449,3488,275,7548,457,2585,325,1254,186]
[]
[]
[{"$f":"A1& \"-Calculated\"","v":"B18101. SEX BY AGE BY DISABILITY STATUS\n-Calculated"}]
[{"$f":"A2","v":"Universe:  Civilian non-institutionalized population"}]
[{"$f":"A3","v":"Data Set: 2018-2022 American Community Survey 5-Year Estimates"}]
[]
[]
[null,null,"New Hampshire",null,"Belknap County",null,"Carroll County",null,"Cheshire County",null,"Coos County",null,"Grafton County",null,"Hillsborough County",null,"Merrimack County",null,"Rockingham County",null,"Strafford County",null,"Sullivan County"]
[null," ","Estimate","Margin of Error","Estimate","Margin of Error","Estimate","Margin of Error","Estimate","Margin of Error","Estimate","Margin of Error","Estimate","Margin of Error","Estimate",null,"Estimate","Margin of Error","Estimate","Margin of Error","Estimate","Margin of Error","Estimate","Margin of Error"]
[null,"Total",{"$f":"C7","v":1363236},446,63100,110,50277,39,75910,38,29606,47,89948,32,418659,243,150487,118,313051,169,129324,206,42874,80]
[null,"Under 5 years:",{"$f":"C28+C9","v":62919},{"$f":"SQRT((D28^2)+(D9^2))","v":319.18803235710453},{"$f":"E28+E9","v":2623},{"$f":"SQRT((F28^2)+(F9^2))","v":118.87808881370864},{"$f":"G28+G9","v":1739},{"$f":"SQRT((H28^2)+(H9^2))","v":63.253458403473878},{"$f":"I28+I9","v":3462},{"$f":"SQRT((J28^2)+(J9^2))","v":100.43903623591775},{"$f":"K28+K9","v":1191},{"$f":"SQRT((L28^2)+(L9^2))","v":32.984845004941285},{"$f":"M28+M9","v":3573},{"$f":"SQRT((N28^2)+(N9^2))","v":130.3572015655445},{"$f":"O28+O9","v":21362},{"$f":"SQRT((P28^2)+(P9^2))","v":53.413481444294568},{"$f":"Q28+Q9","v":6958},{"$f":"SQRT((R28^2)+(R9^2))","v":144.95861478366851},{"$f":"S28+S9","v":14218},{"$f":"SQRT((T28^2)+(T9^2))","v":85.802097876450546},{"$f":"U28+U9","v":5904},{"$f":"SQRT((V28^2)+(V9^2))","v":159.62455951387932},{"$f":"W28+W9","v":1889},{"$f":"SQRT((X28^2)+(X9^2))","v":85.982556370463882}]
[null,"With a disability",{"$f":"C29+C10","v":423},{"$f":"SQRT((D29^2)+(D10^2))","v":172.10461934532728},{"$f":"E29+E10","v":27},{"$f":"SQRT((F29^2)+(F10^2))","v":46.400431032480725},{"$f":"G29+G10","v":0},{"$f":"SQRT((H29^2)+(H10^2))","v":39.597979746446661},{"$f":"I29+I10","v":40},{"$f":"SQRT((J29^2)+(J10^2))","v":51.623637996561229},{"$f":"K29+K10","v":0},{"$f":"SQRT((L29^2)+(L10^2))","v":35.355339059327378},{"$f":"M29+M10","v":0},{"$f":"SQRT((N29^2)+(N10^2))","v":39.597979746446661},{"$f":"O29+O10","v":91},{"$f":"SQRT((P29^2)+(P10^2))","v":60.033324079214538},{"$f":"Q29+Q10","v":114},{"$f":"SQRT((R29^2)+(R10^2))","v":102.61578825892242},{"$f":"S29+S10","v":30},{"$f":"SQRT((T29^2)+(T10^2))","v":31.064449134018133},{"$f":"U29+U10","v":121},{"$f":"SQRT((V29^2)+(V10^2))","v":98.615414616580097},0,35.355339059327378]
[null,"No disability",{"$f":"C30+C11","v":62496},333.04804458215932,2596,124.06449935416659,1739,63.253458403473878,3422,110.45361017187261,1191,32.984845004941285,3573,130.3572015655445,21271,82.419657849326214,6844,173.51080657987848,14188,88.865066252155572,5783,186.93849255838134,1889,85.982556370463882]
[null,"5 to 17 years:",192911,397.09192890311937,8845,129.40247292845683,5971,88.090862182180956,10233,140.58449416631979,3708,58.309518948453004,10922,95.963534741067136,62848,103.24727599312246,21621,120.28299963003916,45334,90.443352436760108,17635,274.00729917285048,5794,83.234608186739251]
[null,"With a disability",11619,959.10374829837883,558,212.20744567521658,389,114.03946685248927,575,178.05897899291685,476,159.0125781188394,429,114.56002793295748,3796,491.86685190201626,1475,273.85580147223465,2858,550.69864717465941,753,219.20082116634509,310,147.41099009232656]
[null,"No disability",181292,1034.456378974,8287,241.97933796090939,5582,155.55384919699031,9658,223.95758527006851,3232,162.87418457201866,10493,144.01388821915754,59052,509.55863254389089,20146,292.77294957014044,42476,558.94990831021698,16882,300.12830589599508,5484,157.09869509324386]
[null,"18 to 34 years:",296351,596.79560990342418,11099,206.59622455408038,7650,130.17680284904833,17217,122.98373876248843,5030,89.196412483911033,21913,162.40997506310995,94853,213.82703290276467,33078,238.60008382228202,60665,262.95436866498341,36683,275.32707821788978,8163,177.58941409892651]
[null,"With a disability",25977,1446.4484090350406,1344,328.46613219630422,956,274.36107595648474,1573,294.64554977124635,734,183.69812192834198,1958,343.91859501922835,6996,763.12842955822316,3903,516.25768759409289,4179,536.07835248217214,3270,540.94084704337126,1064,249.0020080240318]
[null,"No disability",270374,1508.2208061156032,9755,356.14182568184827,6694,302.29952034364857,15644,311.15590947304855,4296,195.5326059765992,19955,375.53295461250804,87857,763.40094314848739,29175,551.16694385639641,56486,605.34040010559352,33413,611.96160010249014,7099,293.46209295239481]
[null,"35 to 64 years:",557859,694.82803627948113,26588,207.87015177749788,20380,152.04275714416653,29243,158.38244852255568,12239,137.7534028617805,34151,196.59603251337501,173573,187.57931655702342,60963,333.28216273902206,134570,282.45530619905162,48712,321.12302938282079,17440,182.52123164169149]
[null,"With a disability",63502,2078.7748795865318,3770,473.79531445551464,3049,463.7423853822292,3585,407.64690603511269,2277,264.55245226608656,4455,459.57915531494683,18555,1039.471019317037,7705,637.3107562249362,11422,914.51025144609503,6285,648.42655713658121,2399,424.48674890978634]
[null,"No disability",494357,2155.8297706451685,22818,490.80546044232233,17331,500.14497898109505,25658,427.79083674150854,9962,299.7365509910328,29696,476.03466260347051,155018,1072.9049352109441,53258,673.28597193168969,123148,978.49322940938123,42427,696.69074918503111,15041,458.6033144232606]
[null,"65 to 74 years:",157137,510.84439901010956,8943,109.71326264403953,9055,140.45639892863551,9761,102.55242561733974,4589,54.708317466359723,11544,169.24833824885843,40995,188.83061192507955,17474,226.43321311150447,36401,181.04143172213369,12330,198.07321878537743,6045,109.01834707974616]
[null,"With a disability",33388,1195.1443427469337,2302,337.89051481212078,1617,281.46935890075139,2353,334.64757581670898,1362,186.81006396872735,2188,281.85812033716536,8690,671.86680227557008,3960,379.51152815164915,6875,669.71113175756602,2995,431.80782762705911,1046,207.06037766796427]
[null,"No disability",123749,1167.2244856924481,6641,353.71316062595128,7438,307.83437105040758,7408,337.52333252680472,3227,187.5446613476374,9356,278.68979170396608,32305,690.77492716513677,13514,399.26056654771207,29526,672.97622543445027,9335,422.6405091800832,4999,234.71045992882378]
[null,"75 years and over:",96059,521.80551932688491,5002,136.03308421115798,5482,147.82760229402356,5994,102.82509421342633,2849,138.67948658687772,7845,160.01562423713506,25028,260.76234390724437,10393,208.60728654579637,21863,228.71160880025309,8060,176.81911661356077,3543,63.324560795950255]
[null,"With a disability",41123,1157.4152236773111,2547,251.09759058979438,2186,285.27180021866866,2651,315.22055770523599,1469,166.86821147240718,3280,317.97012438277909,10682,606.77590591584965,4357,371.07950630558946,8807,603.79218279139718,3691,387.02067128255567,1453,223.60008944542039]
[null,"No disability",54936,1183.0621285460877,2455,254.568261965234,3296,292.75416307885359,3343,318.76323501934786,1380,152.26621424334422,4565,329.00455923892605,14346,614.81785920709888,6036,345.40700629836681,13056,594.34754142673125,4369,403.41789747109635,2090,231.60310878742538]
[]
[]
[]
[]
[]
[]
[]
[]
[]
[]
[]
[]
[]
[]
[]
[]
[]
[]
[]
[]
[]
[]
[]
[]
[]
[]
["B18101. SEX BY AGE BY DISABILITY STATUS\n-Calculated"]
["Universe:  Civilian non-institutionalized population"]
["Data Set: 2013-2017 American Community Survey 5-Year Estimates"]
[]
[]
[null,null,"New Hampshire",null,"Belknap County",null,"Carroll County",null,"Cheshire County",null,"Coos County",null,"Grafton County",null,"Hillsborough County",null,"Merrimack County",null,"Rockingham County",null,"Strafford County",null,"Sullivan County"]
[null," ","Estimate","Margin of Error","Estimate","Margin of Error","Estimate","Margin of Error","Estimate","Margin of Error","Estimate","Margin of Error","Estimate","Margin of Error","Estimate",null,"Estimate","Margin of Error","Estimate","Margin of Error","Estimate","Margin of Error","Estimate","Margin of Error"]
[null,"Total",1314875,255,59629,218,47059,123,75355,213,30072,340,88326,216,402033,388,144508,406,300188,339,125124,290,42581,138]
[null,"Under 5 years:",64232,302.00165562460086,2690,80.156097709406993,1813,48.373546489791295,3528,84.148677945645701,1267,29,3746,74.411020689142546,21800,60.207972893961475,7096,140.18559127100045,13971,137.90213921473443,6259,113.27841806805037,2062,81.412529748190479]
[null,"With a disability",560,192.87560758167425,67,80.529497701152962,4,24.738633753705962,24,28.861739379323623,0,33.941125496954278,6,28.160255680657446,185,91,79,68.505474233815804,122,87.235313950257549,46,73.16419889536138,27,42.296571965113202]
[null,"No disability",63672,357.08962460424414,2623,115.42096863222038,1809,48.877397639399746,3504,87.045964869142551,1267,29,3740,73.109506905736964,21615,108.74741376235114,7017,136.61991070118586,13849,156.33937443907084,6213,134.52509059651288,2035,89.050547443572739]
[null,"5 to 17 years:",199190,386.16058835670947,8868,134.6291201783626,6065,87.863530545955186,10388,157.68639763784319,4087,61.032778078668514,11303,109.04127658827184,64685,106.21675950620975,22127,121.03718436910205,47286,92.633687176966021,18058,151.6047492659778,6323,95.524865872714003]
[null,"With a disability",12128,814.82513461478345,883,237.34573937612615,349,126.82271089990152,567,177.72169254201918,408,114.76933388322858,833,228.82744590629858,3913,473.77737387933587,1570,307.18886698576824,2297,318.96238022688505,1004,253.58430550804994,304,119.81652640600127]
[null,"No disability",187062,877.00057012524223,7985,261.84155514356388,5716,148.07092894960846,9821,212.8497122384712,3679,130.10764773832474,10470,246.40008116881779,60772,495.86490095589545,20557,324.09875038327436,44989,327.12382976481553,17054,287.23683607782618,6019,154.62535367784935]
[null,"18 to 34 years:",280385,521.21876405210128,10491,155.12897859523216,7058,116.36150566231085,18238,156.40012787718558,5038,167.86303941010956,22426,131.82184947875675,87623,184.45866745696716,29978,230.41267326256167,56437,192.16919628285902,35547,250.47954008261831,7549,127.34991166074674]
[null,"With a disability",18587,1042.2792332191984,1055,233.40308481251913,752,200.68383093812017,1355,281.81199406696658,611,137.17871555019022,1326,258.78562556679998,5238,487.45256179447864,2189,309.61266123981432,3068,409.05989781448875,2534,397.55502763768442,459,125.39936203984452]
[null,"No disability",261798,1224.8730546468887,9436,274.89816296221409,6306,221.46105752479374,16883,305.62885989382613,4427,219.13466179497939,21100,301.62393804205925,82385,505.80035587176093,27789,372.0053763052357,53369,449.49860956403415,33013,472.96934361541867,7090,187.25650856512306]
[null,"35 to 64 years:",560233,605.33048824588377,25935,181.37254478007415,20473,140.46351839534705,29963,137.44089638822936,13075,251.10356429170812,34702,196.32880583347927,172245,177.6091213873882,62029,193.49935400408964,135105,187.66459442313567,48172,253.33771926027913,18534,130.81666560496029]
[null,"With a disability",65353,1661.7611139992414,3305,356.26535054647121,3006,344.55333404278645,3755,374.30068127108717,2750,246.27220712049501,4713,436.16510635308737,18721,893.23737046767133,8006,571.37028274141107,12347,685.37945694337816,6319,587.08261769532919,2431,299.54131601500319]
[null,"No disability",494880,1696.3563894417941,22630,396.28525079795742,17467,343.40209667385551,26208,405.22216128933519,10325,323.05572274763995,29989,463.8933066988572,153524,905.19611134825368,54023,579.84566912239677,122758,722.9453644640098,41853,634.11355449950759,16103,309.61266123981432]
[null,"65 to 74 years:",128133,372.72644124075771,7345,86.313382508160345,7184,76.400261779656233,7839,106.55045753069294,3916,56.0357029044876,9565,98.488578017961046,33693,200.5617112013158,13973,100.65783625729296,29445,168.58232410309213,10195,149.33519344079613,4978,35.510561809129406]
[null,"With a disability",29750,890.25951272648581,1639,228.95414388038492,1758,265.00188678573591,2062,215.18828964420902,1044,118.82760622010359,2246,234.43975772040031,7609,516.46200247452862,3447,265.30736891386942,6294,456.75485766437123,2480,302.97194589598558,1171,230.51681066681451]
[null,"No disability",98383,928.44493643942076,5706,238.03361107205006,5426,274.22071402430561,5777,232.87979732042021,2872,130.11533345459327,7319,250.6671099286861,26084,505.99703556443887,10526,290.41005492234598,23151,459.67814827333268,7715,319.18803235710453,3807,233.41379565055703]
[null,"75 years and over:",82702,470.6644239795483,4300,167.10774967068403,4466,114.61239025515522,5399,115.43396380615195,2689,114.9086593777858,6584,166.20770138594662,21987,300.20326447259032,9305,259.95576546789647,17944,285.88284313683465,6893,147.02720836634285,3135,92.962357973536797]
[null,"With a disability",38771,833.24006144687974,1909,191.00261778310789,1906,245.81497106563708,2616,241.93387526346947,1469,126.58988901172162,3231,258.23438965405052,10414,507.30661340061397,4600,313.45972628074566,7785,420.62929046845989,3322,295.98986469134377,1519,185]
[null,"No disability",43931,880.22724338661544,2391,200.14244927051334,2560,241.11822826157297,2783,239.26972228010797,1220,120.34118164618461,3353,267.37987957211737,11573,526.21763558436544,4705,307.84574059096548,10159,445.4088009907303,3571,319.69985924300937,1616,184.20097719610501]
[]
[]
["B18101. SEX BY AGE BY DISABILITY STATUS\n-Calculated"]
["Universe:  Civilian non-institutionalized population"]
["Data Set: 2008-2012 American Community Survey 5-YearEstimates"]
[]
[]
[null,null,"New Hampshire",null,"Belknap County",null,"Carroll County",null,"Cheshire County",null,"Coos County",null,"Grafton County",null,"Hillsborough County",null,"Merrimack County",null,"Rockingham County",null,"Strafford County",null,"Sullivan County"]
[null," ","Estimate","Margin of Error","Estimate","Margin of Error","Estimate","Margin of Error","Estimate","Margin of Error","Estimate","Margin of Error","Estimate","Margin of Error","Estimate",null,"Estimate","Margin of Error","Estimate","Margin of Error","Estimate","Margin of Error","Estimate","Margin of Error"]
[null,"Total",1302651,274,59467,183,47400,108,76393,216,31791,199,88381,158,397245,345,143302,374,293692,296,121849,360,43131,122]
[null,"Under 5 years:",69361,384.03775856027488,3008,151.6443206981389,1990,97.948966303887048,3744,112.44554237496477,1390,34.985711369071801,4070,99.005050376230813,23653,62.649820430708338,7555,125.89678312014172,15029,102.55242561733974,6716,172.46738822165773,2206,58.523499553598128]
[null,"With a disability",495,158.04113388608675,0,38.183766184073569,16,19.646882704388499,30,42.579337712087536,24,17.691806012954132,4,27.658633371878661,210,116.61903789690601,53,40.459856648287818,118,74.431176263713581,25,40.36087214122113,15,22.203603311174518]
[null,"No disability",68866,397.41665792968467,3008,151.6443206981389,1974,100.89598604503551,3714,118.81077392223317,1366,39.66106403010388,4066,99.724620831567975,23443,129.63024338479042,7502,137.17871555019022,14911,128.84486796143648,6691,177.88198334851114,2191,61.911226768656427]
[null,"5 to 17 years:",215970,400.13622680282276,9538,142.52368224263643,6833,126.58988901172162,11358,124.27791436936813,4776,96.020831073262428,12191,111.07204868912791,69848,107.01868995647442,24111,175.72706109191037,51998,74.249579123386283,18472,169.91762710207556,6845,82.462112512353215]
[null,"With a disability",12931,739.45723338134974,396,126.58988901172162,355,126.31706139710502,807,185.06485349736184,649,158.41717078650282,870,187.49133313302778,3824,403.29889660151565,1435,242.8373941550189,3085,460.17931287705665,1041,223.6604569431083,469,150.81445554057476]
[null,"No disability",203039,818.33550576765276,9142,179.44915714485816,6478,144.36065946094871,10551,208.84922791334424,4127,172.62676501632069,11321,210.73680267100951,66024,408.58903558465687,22676,306.0228749619871,48913,463.40586962186831,17431,261.09385285755008,6376,174.69115604403103]
[null,"18 to 34 years:",266142,523.48925490405247,10215,151.42654985173505,6826,166.88319268278636,18197,194.11594473406868,5022,98.792712281827747,22128,137.2953021774598,83468,173.18487231857176,28504,242.68704126920332,50827,227.43130831088317,33491,251.44581921360316,7464,108.85311203635843]
[null,"With a disability",16421,937.34145326023008,786,210.79373804740976,583,172.28464818433474,949,181.81309083781619,502,118.70130580579136,983,212.42410409367389,5123,565.77203889906048,1952,285.95454184188088,2862,432.26149493101974,2046,306.19764858666042,635,165.19382555047267]
[null,"No disability",249721,1057.1849412472729,9429,243.97745797511703,6243,172.17723426748381,17248,247.85883078881818,4520,149.83324063771698,21145,238.00840321299583,78345,599.43056311803116,26552,344.37915151762598,47965,470.85135658719304,31445,383.62742342017208,6829,202.63267258761604]
[null,"35 to 64 years:",578086,579.13124591926487,27020,206.46549348498891,22098,157.25775020646836,32059,182.8332573685652,14576,130.38404810405297,36474,168.7601848778319,174401,204.08331631958552,64034,274.61427493850351,138866,258.37956575549856,48911,222.50393254951697,19647,94.047860156411858]
[null,"With a disability",60194,1489.686208568771,2861,299.62810282081352,2963,321.56181365330059,3422,353.50954725438464,2390,210.21179795625173,4198,350.22421389732608,17065,863.91261132130717,7347,526.62130606347478,11260,596.00335569525112,5882,474.65039766126819,2806,308.62274705536532]
[null,"No disability",517892,1484.26985417073,24159,370.59141922068301,19135,332.66349363884217,28637,383.500977834477,12186,228.39658491317246,32276,387.50483867946735,157336,897.00891857327701,56687,552.2870630387788,127606,620.96698785040098,43029,529.03686071955326,16841,321.4747268448952]
[null,"65 to 74 years:",97464,285.60287113402762,5493,80.603970125546539,5569,91.923881554251182,6138,63.031738037277698,3234,45.343136195018538,7374,65.80273550544841,25819,141.22676800097071,10536,113.70136322841516,21492,152.97058540778355,7811,101.82337649086284,3998,40]
[null,"With a disability",21689,739.66749286419235,903,157.4325252290644,1224,202.56603861457131,1557,212.15088969881791,979,118.10588469674151,1810,221.65062598603234,5394,415.81726755871983,2175,210.27838690650069,4312,348.24416721604973,2298,234.06195760951843,1037,201.53659717282119]
[null,"No disability",75775,787.24138610720922,4590,171.21331723905124,4345,216.39316070523117,4581,217.11057090800531,2255,124.45882853377658,5564,221.46105752479374,20425,425.86852431237509,8361,238.37994882120435,17180,382.65519727294964,5513,257.63540129415446,2961,202.95073293782411]
[null,"75 years and over:",75628,368.32187010819763,4193,116.93160394008115,4084,84.219950130595535,4897,130.17296186228538,2793,103.46496991735899,6144,115.52056094046635,20056,251.78760890877851,8562,188.44893207444821,15480,202.19297712828703,6448,125.7179382586272,2971,91.263355187062899]
[null,"With a disability",35369,815.6059097382755,1847,206.51876428063383,1775,205.9732992404598,2177,236.9155967850154,1567,143.0873858870865,2754,210.27838690650069,9690,421.67404473123548,4074,269.60897611170145,6793,380.61660499773257,3181,237.80033641691932,1511,163.37686494727458]
[null,"No disability",40259,796.31212473501876,2346,209.22953902353271,2309,196.70282153543198,2720,248.84734276258607,1226,132.24598292575845,3390,206.59622455408038,10366,437.90524089122295,4488,276.20463428407567,8687,393.97081110153323,3267,245.77225229874912,1460,154.20765220960988]

{"sheet":"ACS_Table_B18102","index":28,"n_rows":155,"n_cols":24,"rows_kept":155,"cut":false,"hidden":true,"merged":[]}
["B18102. SEX BY AGE BY HEARING DIFFICULTY\n\n"]
["Universe:  Civilian non-institutionalized population"]
["Data Set: 2018-2022 American Community Survey 5-Year Estimates"]
[]
[null,null,"New Hampshire",null,"Belknap County",null,"Carroll County",null,"Cheshire County",null,"Coos County",null,"Grafton County",null,"Hillsborough County",null,"Merrimack County",null,"Rockingham County",null,"Strafford County",null,"Sullivan County"]
[null," ","Estimate","Margin of Error","Estimate","Margin of Error","Estimate","Margin of Error","Estimate","Margin of Error","Estimate","Margin of Error","Estimate","Margin of Error","Estimate",null,"Estimate","Margin of Error","Estimate","Margin of Error","Estimate","Margin of Error","Estimate","Margin of Error"]
[null,"Total:",1363236,446,63100,110,50277,39,75910,38,29606,47,89948,32,418659,243,150487,118,313051,169,129324,206,42874,80]
[null,"Male:",680468,684,31110,206,25439,139,37464,145,15130,131,44701,151,210632,263,74369,248,156283,228,63702,297,21638,159]
[null,"Under 5 years:",31825,216,1274,26,899,40,1771,82,607,8,1715,73,10842,33,3537,103,7279,69,3001,98,900,47]
[null,"With hearing difficulty",171,103,27,37,0,28,3,4,0,25,0,28,28,30,61,63,0,28,52,60,0,25]
[null,"With no hearing difficulty",31654,234,1247,44,899,40,1768,82,607,8,1715,73,10814,48,3476,109,7279,69,2949,115,900,47]
[null,"5 to 17  years:",99166,301,4479,92,3243,68,5210,108,1916,50,5613,80,32240,72,10969,88,23224,74,9243,218,3029,68]
[null,"With hearing difficulty",507,121,0,28,22,30,26,32,44,42,7,14,152,72,39,39,121,66,89,64,7,12]
[null,"With no hearing difficulty",98659,317,4479,92,3221,78,5184,118,1872,60,5606,81,32088,103,10930,103,23103,104,9154,221,3022,68]
[null,"18 to 34  years:",152209,442,5658,151,4035,115,8565,110,2759,66,11223,96,49200,169,16936,191,31175,228,18188,203,4470,157]
[null,"With hearing difficulty",1751,377,85,117,54,53,67,62,153,69,150,72,348,128,372,155,332,177,124,94,66,81]
[null,"With no hearing difficulty",150458,576,5573,200,3981,123,8498,128,2606,95,11073,130,48852,215,16564,233,30843,297,18064,226,4404,194]
[null,"35 to 64  years:",279338,545,13164,163,10038,109,14552,133,6251,124,16943,137,87881,145,30203,289,67388,209,24257,248,8661,133]
[null,"With hearing difficulty",9246,691,783,219,642,257,518,172,416,105,876,200,2243,402,1198,266,1396,287,982,230,192,122]
[null,"With no hearing difficulty",270092,892,12381,263,9396,276,14034,212,5835,159,16067,234,85638,426,29005,401,65992,377,23275,306,8469,178]
[null,"65 to 74  years:",76558,399,4342,81,4591,132,4741,71,2338,47,5736,126,20037,136,8254,206,17708,126,5802,127,3009,86]
[null,"With hearing difficulty",9587,704,874,218,534,171,875,259,443,90,716,147,1984,297,964,189,1899,398,928,200,370,124]
[null,"With no hearing difficulty",66971,743,3468,229,4057,211,3866,261,1895,92,5020,193,18053,328,7290,222,15809,393,4874,230,2639,154]
[null,"75  years and Older:",41372,315,2193,107,2633,107,2625,78,1259,76,3471,81,10432,149,4470,149,9509,153,3211,113,1569,23]
[null,"With hearing difficulty",10950,552,750,128,710,157,752,198,409,76,846,185,2777,367,1078,176,2226,338,922,176,480,149]
[null,"With no hearing difficulty",30422,662,1443,154,1923,199,1873,198,850,87,2625,192,7655,411,3392,191,7283,344,2289,200,1089,156]
[null,"Female:",682768,590,31990,174,24838,137,38446,141,14476,134,45247,146,208027,241,76118,227,156768,153,65622,228,21236,143]
[null,"Under 5 years:",31094,235,1349,116,840,49,1691,58,584,32,1858,108,10520,42,3421,102,6939,51,2903,126,989,72]
[null,"With hearing difficulty",144,102,0,28,0,28,29,45,0,25,0,28,41,42,53,81,15,26,6,11,0,25]
[null,"With no hearing difficulty",30950,235,1349,116,840,49,1662,72,584,32,1858,108,10479,60,3368,135,6924,56,2897,125,989,72]
[null,"5 to 17  years:",93745,259,4366,91,2728,56,5023,90,1792,30,5309,53,30608,74,10652,82,22110,52,8392,166,2765,48]
[null,"With hearing difficulty",274,99,0,28,2,4,31,30,15,13,29,31,120,73,0,28,68,58,9,15,0,25]
[null,"With no hearing difficulty",93471,280,4366,91,2726,56,4992,92,1777,29,5280,58,30488,101,10652,82,22042,83,8383,166,2765,48]
[null,"18 to 34  years:",144142,401,5441,141,3615,61,8652,55,2271,60,10690,131,45653,131,16142,143,29490,131,18495,186,3693,83]
[null,"With hearing difficulty",776,218,69,73,6,7,99,85,25,29,67,61,249,131,55,39,90,75,88,72,28,28]
[null,"With no hearing difficulty",143366,437,5372,155,3609,61,8553,107,2246,65,10623,136,45404,188,16087,147,29400,129,18407,202,3665,87]
[null,"35 to 64  years:",278521,431,13424,129,10342,106,14691,86,5988,60,17208,141,85692,119,30760,166,67182,190,24455,204,8779,125]
[null,"With hearing difficulty",5976,617,467,178,198,105,431,141,315,131,401,163,1504,328,703,228,1136,249,601,201,220,158]
[null,"With no hearing difficulty",272545,743,12957,201,10144,152,14260,164,5673,138,16807,216,84188,375,30057,299,66046,291,23854,282,8559,179]
[null,"65 to 74  years:",80579,319,4601,74,4464,48,5020,74,2251,28,5808,113,20958,131,9220,94,18693,130,6528,152,3036,67]
[null,"With hearing difficulty",4787,669,305,135,192,92,285,109,225,97,324,107,1228,347,603,172,974,339,523,234,128,64]
[null,"With no hearing difficulty",75792,709,4296,151,4272,97,4735,126,2026,100,5484,155,19730,382,8617,198,17719,366,6005,256,2908,91]
[null,"75  years and Older:",54687,416,2809,84,2849,102,3369,67,1590,116,4374,138,14596,214,5923,146,12354,170,4849,136,1974,59]
[null,"With hearing difficulty",9576,698,561,176,476,148,627,190,384,109,864,219,2277,309,1208,242,1920,322,877,261,382,183]
[null,"With no hearing difficulty",45111,798,2248,183,2373,172,2742,210,1206,120,3510,235,12319,336,4715,262,10434,379,3972,301,1592,197]
[]
[]
[{"$f":"A1& \"-Calculated\"","v":"B18102. SEX BY AGE BY HEARING DIFFICULTY\n\n-Calculated"}]
[{"$f":"A2","v":"Universe:  Civilian non-institutionalized population"}]
[{"$f":"A3","v":"Data Set: 2018-2022 American Community Survey 5-Year Estimates"}]
[]
[]
[null,null,"New Hampshire",null,"Belknap County",null,"Carroll County",null,"Cheshire County",null,"Coos County",null,"Grafton County",null,"Hillsborough County",null,"Merrimack County",null,"Rockingham County",null,"Strafford County",null,"Sullivan County"]
[null," ","Estimate","Margin of Error","Estimate","Margin of Error","Estimate","Margin of Error","Estimate","Margin of Error","Estimate","Margin of Error","Estimate","Margin of Error","Estimate",null,"Estimate","Margin of Error","Estimate","Margin of Error","Estimate","Margin of Error","Estimate","Margin of Error"]
[null,"Total",{"$f":"C7","v":1363236},446,63100,110,50277,39,75910,38,29606,47,89948,32,418659,243,150487,118,313051,169,129324,206,42874,80]
[null,"Under 5 years:",{"$f":"C28+C9","v":62919},{"$f":"SQRT((D28^2)+(D9^2))","v":319.18803235710453},{"$f":"E28+E9","v":2623},{"$f":"SQRT((F28^2)+(F9^2))","v":118.87808881370864},{"$f":"G28+G9","v":1739},{"$f":"SQRT((H28^2)+(H9^2))","v":63.253458403473878},{"$f":"I28+I9","v":3462},{"$f":"SQRT((J28^2)+(J9^2))","v":100.43903623591775},{"$f":"K28+K9","v":1191},{"$f":"SQRT((L28^2)+(L9^2))","v":32.984845004941285},{"$f":"M28+M9","v":3573},{"$f":"SQRT((N28^2)+(N9^2))","v":130.3572015655445},{"$f":"O28+O9","v":21362},{"$f":"SQRT((P28^2)+(P9^2))","v":53.413481444294568},{"$f":"Q28+Q9","v":6958},{"$f":"SQRT((R28^2)+(R9^2))","v":144.95861478366851},{"$f":"S28+S9","v":14218},{"$f":"SQRT((T28^2)+(T9^2))","v":85.802097876450546},{"$f":"U28+U9","v":5904},{"$f":"SQRT((V28^2)+(V9^2))","v":159.62455951387932},{"$f":"W28+W9","v":1889},{"$f":"SQRT((X28^2)+(X9^2))","v":85.982556370463882}]
[null,"With hearing difficulty",{"$f":"C29+C10","v":315},{"$f":"SQRT((D29^2)+(D10^2))","v":144.95861478366851},{"$f":"E29+E10","v":27},{"$f":"SQRT((F29^2)+(F10^2))","v":46.400431032480725},{"$f":"G29+G10","v":0},{"$f":"SQRT((H29^2)+(H10^2))","v":39.597979746446661},{"$f":"I29+I10","v":32},{"$f":"SQRT((J29^2)+(J10^2))","v":45.177427992306072},{"$f":"K29+K10","v":0},{"$f":"SQRT((L29^2)+(L10^2))","v":35.355339059327378},{"$f":"M29+M10","v":0},{"$f":"SQRT((N29^2)+(N10^2))","v":39.597979746446661},{"$f":"O29+O10","v":69},{"$f":"SQRT((P29^2)+(P10^2))","v":51.61395160225576},{"$f":"Q29+Q10","v":114},{"$f":"SQRT((R29^2)+(R10^2))","v":102.61578825892242},{"$f":"S29+S10","v":15},{"$f":"SQRT((T29^2)+(T10^2))","v":38.209946349085598},{"$f":"U29+U10","v":58},{"$f":"SQRT((V29^2)+(V10^2))","v":61},{"$f":"W29+W10","v":0},{"$f":"SQRT((X29^2)+(X10^2))","v":35.355339059327378}]
[null,"With no hearing difficulty",62604,331.63383422081648,2596,124.06449935416659,1739,63.253458403473878,3430,109.12378292562992,1191,32.984845004941285,3573,130.3572015655445,21293,76.837490849194182,6844,173.51080657987848,14203,88.865066252155572,5846,169.85287751463028,1889,85.982556370463882]
[null,"5 to 17 years:",192911,397.09192890311937,8845,129.40247292845683,5971,88.090862182180956,10233,140.58449416631979,3708,58.309518948453004,10922,95.963534741067136,62848,103.24727599312246,21621,120.28299963003916,45334,90.443352436760108,17635,274.00729917285048,5794,83.234608186739251]
[null,"With hearing difficulty",781,156.33937443907084,0,39.597979746446661,24,30.265491900843113,57,43.863424398922618,59,43.965895873961216,36,34.014702703389901,272,102.53292154230269,39,48.010415536631214,189,87.863530545955186,98,65.73431371817918,7,27.730849247724095]
[null,"With no hearing difficulty",192130,422.95271603336465,8845,129.40247292845683,5947,96.020831073262428,10176,149.6262009141447,3649,66.640828326184547,10886,99.624294225856374,62576,144.25671561490648,21582,131.65485179058157,45145,133.06013678032951,17537,276.40007235889067,5787,83.234608186739251]
[null,"18 to 34 years:",296351,596.79560990342418,11099,206.59622455408038,7650,130.17680284904833,17217,122.98373876248843,5030,89.196412483911033,21913,162.40997506310995,94853,213.82703290276467,33078,238.60008382228202,60665,262.95436866498341,36683,275.32707821788978,8163,177.58941409892651]
[null,"With hearing difficulty",2527,435.49167615466541,154,137.90576492663388,60,53.460265618494638,166,105.20931517693668,178,74.846509604656916,217,94.36630754670864,597,183.15294155431957,427,159.8311609167624,422,192.23423212320952,212,118.40608092492548,94,85.702975444263316]
[null,"With no hearing difficulty",293824,723.01106492224585,10945,253.03161857759991,7590,137.2953021774598,17051,166.83225107874077,4852,115.10864433221339,21696,188.13824704190267,94256,285.60287113402762,32651,275.49591648516315,60243,323.80549717384355,36471,303.11713907332921,8069,212.61467494037188]
[null,"35 to 64 years:",557859,694.82803627948113,26588,207.87015177749788,20380,152.04275714416653,29243,158.38244852255568,12239,137.7534028617805,34151,196.59603251337501,173573,187.57931655702342,60963,333.28216273902206,134570,282.45530619905162,48712,321.12302938282079,17440,182.52123164169149]
[null,"With hearing difficulty",15222,926.37465423013384,1250,282.21445746098834,840,277.62204523416364,949,222.40728405337808,731,167.88686666919483,1277,258.0096897405212,3747,518.83330656387125,1901,350.34268937712972,2532,379.9605242653505,1583,305.45212390815027,412,199.61963831246663]
[null,"With no hearing difficulty",542637,1160.9104185939584,25338,331.01359488697739,19540,315.08728949292765,28294,268.02984908401527,11508,210.535032714273,32874,318.4525082331744,169826,567.53942594325554,59062,500.20195921247648,132038,476.24573488903815,47129,416.12498122559288,17028,252.43811122728675]
[null,"65 to 74 years:",157137,510.84439901010956,8943,109.71326264403953,9055,140.45639892863551,9761,102.55242561733974,4589,54.708317466359723,11544,169.24833824885843,40995,188.83061192507955,17474,226.43321311150447,36401,181.04143172213369,12330,198.07321878537743,6045,109.01834707974616]
[null,"With hearing difficulty",14374,971.17300209591906,1179,256.41567814780751,726,194.17775361765828,1160,281.00177935379696,668,132.32157798333574,1040,181.81859090863068,3212,456.74719484633948,1567,255.54842985234717,2873,522.80493494227846,1451,307.82462539569508,498,139.54210834009928]
[null,"With no hearing difficulty",142763,1027.0004868548019,7764,274.3027524469997,8329,232.22833591101667,8601,289.82235938588315,3921,135.88230201170424,10504,247.53585598858197,37783,503.49577952550902,15907,297.46932614977294,33528,537.03351850699221,10879,344.14531814336806,5547,178.87705274852894]
[null,"75 years and over:",96059,521.80551932688491,5002,136.03308421115798,5482,147.82760229402356,5994,102.82509421342633,2849,138.67948658687772,7845,160.01562423713506,25028,260.76234390724437,10393,208.60728654579637,21863,228.71160880025309,8060,176.81911661356077,3543,63.324560795950255]
[null,"With hearing difficulty",20526,889.89212829421069,1311,217.6235281397671,1186,215.76144233852349,1379,274.41574298862668,793,132.87964479181903,1710,286.68100739323489,5054,479.7603568449565,2286,299.23235119217975,4146,466.82759130111407,1799,314.79675983084707,862,235.98728779321991]
[null,"With no hearing difficulty",75533,1036.8452150634635,3691,239.17566765873153,4296,263.03041649208558,4615,288.62432329933665,2056,148.21943192442751,6135,303.46169445252889,19974,530.8643894630718,8107,324.2298567374695,17717,511.83688808056809,6261,361.38760355053688,2681,251.28668886353691]
[]
[]
[]
[]
[]
[]
[]
[]
[]
[]
[]
[]
[]
[]
[]
[]
[]
[]
[]
[]
[]
[]
[]
[]
[]
[]
["B18102. SEX BY AGE BY HEARING DIFFICULTY\n\n-Calculated"]
["Universe:  Civilian non-institutionalized population"]
["Data Set: 2013-2017 American Community Survey 5-Year Estimates"]
[]
[]
[null,null,"New Hampshire",null,"Belknap County",null,"Carroll County",null,"Cheshire County",null,"Coos County",null,"Grafton County",null,"Hillsborough County",null,"Merrimack County",null,"Rockingham County",null,"Strafford County",null,"Sullivan County"]
[null," ","Estimate","Margin of Error","Estimate","Margin of Error","Estimate","Margin of Error","Estimate","Margin of Error","Estimate","Margin of Error","Estimate","Margin of Error","Estimate",null,"Estimate","Margin of Error","Estimate","Margin of Error","Estimate","Margin of Error","Estimate","Margin of Error"]
[null,"Total",1314875,255,59629,218,47059,123,75355,213,30072,340,88326,216,402033,388,144508,406,300188,339,125124,290,42581,138]
[null,"Under 5 years:",64232,302.00165562460086,2690,80.156097709406993,1813,48.373546489791295,3528,84.148677945645701,1267,29,3746,74.411020689142546,21800,60.207972893961475,7096,140.18559127100045,13971,137.90213921473443,6259,113.27841806805037,2062,81.412529748190479]
[null,"With hearing difficulty",317,142.3411395205195,47,77.833154889160184,4,24.738633753705962,4,27.658633371878661,0,33.941125496954278,0,38.183766184073569,113,72.069410986909006,70,62.008063991709982,31,45,46,73.16419889536138,2,24.515301344262525]
[null,"With no hearing difficulty",63915,337.29660537870819,2643,109.55363982999378,1809,48.877397639399746,3524,83.450584180100265,1267,29,3746,74.411020689142546,21687,93.536089291780854,7026,134.61797799699713,13940,140.71602609511115,6213,134.52509059651288,2060,82.29823813423954]
[null,"5 to 17 years:",199190,386.16058835670947,8868,134.6291201783626,6065,87.863530545955186,10388,157.68639763784319,4087,61.032778078668514,11303,109.04127658827184,64685,106.21675950620975,22127,121.03718436910205,47286,92.633687176966021,18058,151.6047492659778,6323,95.524865872714003]
[null,"With hearing difficulty",1302,257.42183279589943,36,34.176014981270121,22,35.383612025908263,105,64.899922958351809,79,50.566787519082126,47,29.732137494637012,411,156.54072952429985,176,92.314679222754165,262,110.05907504608605,133,90.210864090751286,31,54.561891462814962]
[null,"With no hearing difficulty",197888,455.45691343967985,8832,137.80058055030102,6043,94.047860156411858,10283,161.94134740701648,4008,72.945184899347538,11256,114.5512985522207,64274,183.85320231097418,21951,156.33937443907084,47024,147.29901561110313,17925,164.59647626847908,6292,104.63746938836012]
[null,"18 to 34 years:",280385,521.21876405210128,10491,155.12897859523216,7058,116.36150566231085,18238,156.40012787718558,5038,167.86303941010956,22426,131.82184947875675,87623,184.45866745696716,29978,230.41267326256167,56437,192.16919628285902,35547,250.47954008261831,7549,127.34991166074674]
[null,"With hearing difficulty",2203,342.23091619548342,167,100.22474744293447,161,99.297532698451278,46,35.510561809129406,127,79.309520235593411,148,94.413982015377357,554,155.59562975867928,276,112.16059914247963,416,161.3071604114337,209,122.18837915284743,99,54.918120870983927]
[null,"With no hearing difficulty",278182,696.32894525504253,10324,185.98118184375537,6897,144.90341610879986,18192,164.02743672934722,4911,177.72450590731714,22278,164.65721970202219,87069,242.1425200166216,29702,251.93848455525804,56021,233.52087701102872,35338,277.14617081965969,7450,141.44963768069539]
[null,"35 to 64 years:",560233,605.33048824588377,25935,181.37254478007415,20473,140.46351839534705,29963,137.44089638822936,13075,251.10356429170812,34702,196.32880583347927,172245,177.6091213873882,62029,193.49935400408964,135105,187.66459442313567,48172,253.33771926027913,18534,130.81666560496029]
[null,"With hearing difficulty",16276,750.53647479652841,836,173.53962083628051,916,241.50569351466643,1171,198.00252523642217,741,127.1416532848303,1156,220.05681084665386,4353,400.12498047485116,1817,228.42942017174582,3219,404.19054912256422,1440,263.80485211610494,627,178.05897899291685]
[null,"With no hearing difficulty",543957,947.42440331669729,25099,238.56236081997511,19557,264.82069405543064,28792,235.98728779321991,12334,282.79321066814884,33546,307.23443817384793,167892,451.64255778214704,60212,297.79355265015391,131886,453.61768043143996,46732,364.51611761347397,17907,213.17832910500073]
[null,"65 to 74 years:",128133,372.72644124075771,7345,86.313382508160345,7184,76.400261779656233,7839,106.55045753069294,3916,56.0357029044876,9565,98.488578017961046,33693,200.5617112013158,13973,100.65783625729296,29445,168.58232410309213,10195,149.33519344079613,4978,35.510561809129406]
[null,"With hearing difficulty",12157,534.7335785229875,691,135.59498515800649,777,190.68822721919673,896,151.55856953666461,507,86.023252670426274,1098,177.73013250431114,3005,280.28021692584724,1452,181.95878654244757,2521,287.09928596219112,848,185.43192821086663,362,115.31261856362468]
[null,"With no hearing difficulty",115976,612.58958528528706,6654,161.83942659315127,6407,199.90247622278218,6943,176.02556632489498,3409,101.31633629380802,8467,193.98195792392653,30688,332.6048706799105,12521,208.5976989326584,26924,332.55525856615168,9347,219.45614596087302,4616,119.67038062946069]
[null,"75 years and over:",82702,470.6644239795483,4300,167.10774967068403,4466,114.61239025515522,5399,115.43396380615195,2689,114.9086593777858,6584,166.20770138594662,21987,300.20326447259032,9305,259.95576546789647,17944,285.88284313683465,6893,147.02720836634285,3135,92.962357973536797]
[null,"With hearing difficulty",20177,793.02080678882567,973,157.26728839781018,1004,200.20489504505127,1598,231.40008643040736,773,109.60383204979651,1902,246.75899173079793,5129,382.50751626602056,2161,215.74522010927612,3971,343.28413887041154,1757,250.50349298961882,909,178.93294833540301]
[null,"With no hearing difficulty",62525,877.82458384349206,3327,198.17164277464119,3462,205.65018842685265,3801,232.77456905770441,1916,139.80700983856281,4682,266.81079438433522,16858,468.53388351324173,7144,294.98474536829866,13973,355.84406697316172,5136,288.72478244861492,2226,189.00264548413071]
[]
[]
[]
[]
["B18102. SEX BY AGE BY HEARING DIFFICULTY\n\n-Calculated"]
["Universe:  Civilian non-institutionalized population"]
["Data Set: 2008-2012 American Community Survey 5-YearEstimates"]
[]
[]
[null,null,"New Hampshire",null,"Belknap County",null,"Carroll County",null,"Cheshire County",null,"Coos County",null,"Grafton County",null,"Hillsborough County",null,"Merrimack County",null,"Rockingham County",null,"Strafford County",null,"Sullivan County"]
[null," ","Estimate","Margin of Error","Estimate","Margin of Error","Estimate","Margin of Error","Estimate","Margin of Error","Estimate","Margin of Error","Estimate","Margin of Error","Estimate",null,"Estimate","Margin of Error","Estimate","Margin of Error","Estimate","Margin of Error","Estimate","Margin of Error"]
[null,"Total",1302651,274,59467,183,47400,108,76393,216,31791,199,88381,158,397245,345,143302,374,293692,296,121849,360,43131,122]
[null,"Under 5 years:",69361,384.03775856027488,3008,151.6443206981389,1990,97.948966303887048,3744,112.44554237496477,1390,34.985711369071801,4070,99.005050376230813,23653,62.649820430708338,7555,125.89678312014172,15029,102.55242561733974,6716,172.46738822165773,2206,58.523499553598128]
[null,"With hearing difficullty",306,118.34272263219231,0,38.183766184073569,16,19.646882704388499,4,27.892651361962706,24,17.691806012954132,4,27.658633371878661,122,81.21576201698781,24,38.183766184073569,99,69.462219947249025,11,32.449961479175904,2,24.186773244895647]
[null,"With no hearing difficullty",69055,403.11288741492746,3008,151.6443206981389,1974,100.89598604503551,3740,112.44554237496477,1366,39.66106403010388,4066,99.724620831567975,23531,96.896852374058057,7531,130.83195328359201,14930,127.61269529321916,6705,175.54771431152272,2204,58.523499553598128]
[null,"5 to 17 years:",215970,400.13622680282276,9538,142.52368224263643,6833,126.58988901172162,11358,124.27791436936813,4776,96.020831073262428,12191,111.07204868912791,69848,107.01868995647442,24111,175.72706109191037,51998,74.249579123386283,18472,169.91762710207556,6845,82.462112512353215]
[null,"With hearing difficullty",1501,281.93793643282561,43,51.662365412357957,4,24.738633753705962,71,68.541957952775178,211,120.30793822520607,123,79.429213769242352,471,172.58621034138272,136,72.069410986909006,246,99.76472322419383,74,59.481089431852205,122,90.87353850269065]
[null,"With no hearing difficullty",214469,506.85402237725214,9495,152.43359209832983,6829,126.58988901172162,11287,142.88806808127822,4565,148.22280526288793,12068,137.84411485442533,69377,205.76199843508519,23975,186.31693428134759,51752,121.60592090848209,18398,180.32470712578461,6723,124.61942063739504]
[null,"18 to 34 years:",266142,523.48925490405247,10215,151.42654985173505,6826,166.88319268278636,18197,194.11594473406868,5022,98.792712281827747,22128,137.2953021774598,83468,173.18487231857176,28504,242.68704126920332,50827,227.43130831088317,33491,251.44581921360316,7464,108.85311203635843]
[null,"With hearing difficullty",2461,345.89160151700708,69,44.418464629025621,41,44.687805943008662,118,66.603303221386852,71,32.202484376209235,145,85.796270315206598,652,171.60419575290109,230,109.29318368498559,675,187.97074240423694,262,129.6919426949878,198,84.970583144992005]
[null,"With no hearing difficullty",263681,634.00315456628448,10146,157.76247969653622,6785,170.42593699317015,18079,195.4328529188478,4951,100.46392387319938,21983,156.20499351813308,82816,256.9435735720977,28274,245.35076930794409,50152,281.43915861159053,33229,297.57184006555457,7266,141.44963768069539]
[null,"35 to 64 years:",578086,579.13124591926487,27020,206.46549348498891,22098,157.25775020646836,32059,182.8332573685652,14576,130.38404810405297,36474,168.7601848778319,174401,204.08331631958552,64034,274.61427493850351,138866,258.37956575549856,48911,222.50393254951697,19647,94.047860156411858]
[null,"With hearing difficullty",15465,880.43455179814475,663,164.47796204963143,996,232.40697063556419,915,184.20097719610501,654,105.55093557141026,1294,219.61101975993827,3945,396.10730869298538,1807,273.56169322476421,2919,339.61154279558872,1475,243.28789530101986,797,173.80736463107655]
[null,"With no hearing difficullty",562621,943.59790165090976,26357,273.23433166423285,21102,249.92798962901293,31144,249.41932563456265,13922,159.76232346833217,35180,279.93213463266414,170456,432.67770915544054,62227,383.20882035777828,135947,399.6648596011413,47436,325.65165437933831,18850,189.25115587493778]
[null,"65 to 74 years:",97464,285.60287113402762,5493,80.603970125546539,5569,91.923881554251182,6138,63.031738037277698,3234,45.343136195018538,7374,65.80273550544841,25819,141.22676800097071,10536,113.70136322841516,21492,152.97058540778355,7811,101.82337649086284,3998,40]
[null,"With hearing difficullty",9039,516.98065727839378,356,95.44108130150245,533,167.04789732289359,558,120.83045973594572,504,85.702975444263316,779,149.56603892595405,2207,296.60242750186654,868,151.6047492659778,1906,246.04471138392714,818,182.7812900709479,510,122.9186723000212]
[null,"With no hearing difficullty",88425,601.48150428753831,5137,117.41379816699569,5036,180.38015411901608,5580,137.05838172107534,2730,98.600202839547947,6595,154.84185480676729,23612,319.6122650963195,9668,191.34262462922368,19586,287.96006667591951,6993,212.8497122384712,3488,128.8875478857442]
[null,"75 years and over:",75628,368.32187010819763,4193,116.93160394008115,4084,84.219950130595535,4897,130.17296186228538,2793,103.46496991735899,6144,115.52056094046635,20056,251.78760890877851,8562,188.44893207444821,15480,202.19297712828703,6448,125.7179382586272,2971,91.263355187062899]
[null,"With hearing difficullty",18128,740.46606944545408,1052,179.76929659983654,825,163.04907236779974,1024,167.40967713964446,757,117.04699910719626,1458,167.70509831248424,4865,375.44640096823406,2098,237.86130412490385,3672,374.47696858418408,1559,234.13884769512299,818,139.30183056945089]
[null,"With no hearing difficullty",57500,772.91461365405689,3141,206.48002324680226,3259,180.06943105369106,3873,196.91876497682998,2036,125.41929676090518,4686,193.93297811357408,15191,417.80856860528843,6464,285.70089254323307,11808,428.23941901697935,4889,247.88101984621574,2153,148.51935900750448]

{"sheet":"ACS_Table_B18103","index":29,"n_rows":155,"n_cols":24,"rows_kept":155,"cut":false,"hidden":true,"merged":[]}
["B18103. SEX BY AGE BY VISION DIFFICULTY\n\n\n"]
["Universe:  Civilian non-institutionalized population"]
["Data Set: 2018-2022 American Community Survey 5-Year Estimates"]
[]
[null,null,"New Hampshire",null,"Belknap County",null,"Carroll County",null,"Cheshire County",null,"Coos County",null,"Grafton County",null,"Hillsborough County",null,"Merrimack County",null,"Rockingham County",null,"Strafford County",null,"Sullivan County"]
[null," ","Estimate","Margin of Error","Estimate","Margin of Error","Estimate","Margin of Error","Estimate","Margin of Error","Estimate","Margin of Error","Estimate","Margin of Error","Estimate",null,"Estimate","Margin of Error","Estimate","Margin of Error","Estimate","Margin of Error","Estimate","Margin of Error"]
[null,"Total:",1363236,446,63100,110,50277,39,75910,38,29606,47,89948,32,418659,243,150487,118,313051,169,129324,206,42874,80]
[null,"Male:",680468,684,31110,206,25439,139,37464,145,15130,131,44701,151,210632,263,74369,248,156283,228,63702,297,21638,159]
[null,"Under 5 years:",31825,216,1274,26,899,40,1771,82,607,8,1715,73,10842,33,3537,103,7279,69,3001,98,900,47]
[null,"With vision difficulty",107,87,0,28,0,28,3,4,0,25,0,28,0,28,26,38,15,17,63,76,0,25]
[null,"With no vision difficulty",31718,219,1274,26,899,40,1768,82,607,8,1715,73,10842,33,3511,114,7264,69,2938,124,900,47]
[null,"5 to 17  years:",99166,301,4479,92,3243,68,5210,108,1916,50,5613,80,32240,72,10969,88,23224,74,9243,218,3029,68]
[null,"With vision difficulty",540,141,18,31,4,19,34,31,73,57,4,5,71,55,162,57,102,78,26,36,46,48]
[null,"With no vision difficulty",98626,333,4461,94,3239,74,5176,112,1843,76,5609,80,32169,90,10807,107,23122,105,9217,207,2983,72]
[null,"18 to 34  years:",152209,442,5658,151,4035,115,8565,110,2759,66,11223,96,49200,169,16936,191,31175,228,18188,203,4470,157]
[null,"With vision difficulty",1787,371,155,114,0,28,86,56,35,30,190,93,411,182,201,97,360,154,329,151,20,26]
[null,"With no vision difficulty",150422,575,5503,197,4035,115,8479,130,2724,73,11033,132,48789,254,16735,196,30815,285,17859,254,4450,160]
[null,"35 to 64  years:",279338,545,13164,163,10038,109,14552,133,6251,124,16943,137,87881,145,30203,289,67388,209,24257,248,8661,133]
[null,"With vision difficulty",4799,555,460,211,160,159,240,149,146,49,404,175,1261,250,711,200,718,207,473,166,226,130]
[null,"With no vision difficulty",274539,770,12704,265,9878,186,14312,212,6105,138,16539,219,86620,289,29492,296,66670,306,23784,312,8435,200]
[null,"65 to 74  years:",76558,399,4342,81,4591,132,4741,71,2338,47,5736,126,20037,136,8254,206,17708,126,5802,127,3009,86]
[null,"With vision difficulty",2750,433,192,116,76,76,294,169,58,25,95,60,896,248,227,83,600,231,232,130,80,75]
[null,"With no vision difficulty",73808,550,4150,136,4515,150,4447,178,2280,53,5641,140,19141,281,8027,221,17108,249,5570,185,2929,117]
[null,"75  years and Older:",41372,315,2193,107,2633,107,2625,78,1259,76,3471,81,10432,149,4470,149,9509,153,3211,113,1569,23]
[null,"With vision difficulty",2933,399,187,81,227,119,176,92,78,38,229,119,755,183,301,117,440,124,357,195,183,152]
[null,"With no vision difficulty",38439,500,2006,116,2406,171,2449,113,1181,83,3242,136,9677,207,4169,177,9069,187,2854,232,1386,159]
[null,"Female:",682768,590,31990,174,24838,137,38446,141,14476,134,45247,146,208027,241,76118,227,156768,153,65622,228,21236,143]
[null,"Under 5 years:",31094,235,1349,116,840,49,1691,58,584,32,1858,108,10520,42,3421,102,6939,51,2903,126,989,72]
[null,"With vision difficulty",27,36,0,28,0,28,5,23,0,25,0,28,22,26,0,28,0,28,0,28,0,25]
[null,"With no vision difficulty",31067,236,1349,116,840,49,1686,60,584,32,1858,108,10498,49,3421,102,6939,51,2903,126,989,72]
[null,"5 to 17  years:",93745,259,4366,91,2728,56,5023,90,1792,30,5309,53,30608,74,10652,82,22110,52,8392,166,2765,48]
[null,"With vision difficulty",582,195,64,93,16,22,20,24,23,20,40,36,181,110,139,108,91,53,0,28,8,18]
[null,"With no vision difficulty",93163,357,4302,134,2712,61,5003,96,1769,35,5269,66,30427,145,10513,131,22019,74,8392,166,2757,46]
[null,"18 to 34  years:",144142,401,5441,141,3615,61,8652,55,2271,60,10690,131,45653,131,16142,143,29490,131,18495,186,3693,83]
[null,"With vision difficulty",1528,334,78,108,4,11,65,62,58,47,55,60,222,103,287,133,421,146,279,167,59,92]
[null,"With no vision difficulty",142614,500,5363,164,3611,61,8587,79,2213,73,10635,131,45431,156,15855,182,29069,201,18216,218,3634,108]
[null,"35 to 64  years:",278521,431,13424,129,10342,106,14691,86,5988,60,17208,141,85692,119,30760,166,67182,190,24455,204,8779,125]
[null,"With vision difficulty",4992,576,251,131,441,284,359,136,277,127,247,96,1421,341,482,176,916,219,466,167,132,109]
[null,"With no vision difficulty",273529,737,13173,172,9901,314,14332,162,5711,137,16961,191,84271,377,30278,251,66266,268,23989,257,8647,164]
[null,"65 to 74  years:",80579,319,4601,74,4464,48,5020,74,2251,28,5808,113,20958,131,9220,94,18693,130,6528,152,3036,67]
[null,"With vision difficulty",2533,397,218,125,173,97,152,66,133,55,87,49,530,199,350,153,472,167,313,176,105,75]
[null,"With no vision difficulty",78046,554,4383,153,4291,101,4868,98,2118,57,5721,122,20428,233,8870,168,18221,213,6215,213,2931,94]
[null,"75  years and Older:",54687,416,2809,84,2849,102,3369,67,1590,116,4374,138,14596,214,5923,146,12354,170,4849,136,1974,59]
[null,"With vision difficulty",3944,427,371,170,180,96,353,133,153,63,442,191,908,212,249,81,689,186,353,121,246,128]
[null,"With no vision difficulty",50743,618,2438,177,2669,112,3016,159,1437,117,3932,228,13688,289,5674,156,11665,260,4496,161,1728,152]
[]
[]
[{"$f":"A1& \"-Calculated\"","v":"B18103. SEX BY AGE BY VISION DIFFICULTY\n\n\n-Calculated"}]
[{"$f":"A2","v":"Universe:  Civilian non-institutionalized population"}]
[{"$f":"A3","v":"Data Set: 2018-2022 American Community Survey 5-Year Estimates"}]
[]
[]
[null,null,"New Hampshire",null,"Belknap County",null,"Carroll County",null,"Cheshire County",null,"Coos County",null,"Grafton County",null,"Hillsborough County",null,"Merrimack County",null,"Rockingham County",null,"Strafford County",null,"Sullivan County"]
[null," ","Estimate","Margin of Error","Estimate","Margin of Error","Estimate","Margin of Error","Estimate","Margin of Error","Estimate","Margin of Error","Estimate","Margin of Error","Estimate",null,"Estimate","Margin of Error","Estimate","Margin of Error","Estimate","Margin of Error","Estimate","Margin of Error"]
[null,"Total",{"$f":"C7","v":1363236},446,63100,110,50277,39,75910,38,29606,47,89948,32,418659,243,150487,118,313051,169,129324,206,42874,80]
[null,"Under 5 years:",{"$f":"C28+C9","v":62919},{"$f":"SQRT((D28^2)+(D9^2))","v":319.18803235710453},{"$f":"E28+E9","v":2623},{"$f":"SQRT((F28^2)+(F9^2))","v":118.87808881370864},{"$f":"G28+G9","v":1739},{"$f":"SQRT((H28^2)+(H9^2))","v":63.253458403473878},{"$f":"I28+I9","v":3462},{"$f":"SQRT((J28^2)+(J9^2))","v":100.43903623591775},{"$f":"K28+K9","v":1191},{"$f":"SQRT((L28^2)+(L9^2))","v":32.984845004941285},{"$f":"M28+M9","v":3573},{"$f":"SQRT((N28^2)+(N9^2))","v":130.3572015655445},{"$f":"O28+O9","v":21362},{"$f":"SQRT((P28^2)+(P9^2))","v":53.413481444294568},{"$f":"Q28+Q9","v":6958},{"$f":"SQRT((R28^2)+(R9^2))","v":144.95861478366851},{"$f":"S28+S9","v":14218},{"$f":"SQRT((T28^2)+(T9^2))","v":85.802097876450546},{"$f":"U28+U9","v":5904},{"$f":"SQRT((V28^2)+(V9^2))","v":159.62455951387932},{"$f":"W28+W9","v":1889},{"$f":"SQRT((X28^2)+(X9^2))","v":85.982556370463882}]
[null,"With vision difficulty",{"$f":"C29+C10","v":134},{"$f":"SQRT((D29^2)+(D10^2))","v":94.154128958851288},{"$f":"E29+E10","v":0},{"$f":"SQRT((F29^2)+(F10^2))","v":39.597979746446661},{"$f":"G29+G10","v":0},{"$f":"SQRT((H29^2)+(H10^2))","v":39.597979746446661},{"$f":"I29+I10","v":8},{"$f":"SQRT((J29^2)+(J10^2))","v":23.345235059857504},{"$f":"K29+K10","v":0},{"$f":"SQRT((L29^2)+(L10^2))","v":35.355339059327378},{"$f":"M29+M10","v":0},{"$f":"SQRT((N29^2)+(N10^2))","v":39.597979746446661},{"$f":"O29+O10","v":22},{"$f":"SQRT((P29^2)+(P10^2))","v":38.209946349085598},{"$f":"Q29+Q10","v":26},{"$f":"SQRT((R29^2)+(R10^2))","v":47.201694884823787},{"$f":"S29+S10","v":15},{"$f":"SQRT((T29^2)+(T10^2))","v":32.756678708318397},{"$f":"U29+U10","v":63},{"$f":"SQRT((V29^2)+(V10^2))","v":80.993826925266347},{"$f":"W29+W10","v":0},{"$f":"SQRT((X29^2)+(X10^2))","v":35.355339059327378}]
[null,"With no vision difficulty",62785,321.95807180438885,2623,118.87808881370864,1739,63.253458403473878,3454,101.6070863670443,1191,32.984845004941285,3573,130.3572015655445,21340,59.076221950967721,6932,152.97058540778355,14203,85.802097876450546,5841,176.78235206037959,1889,85.982556370463882]
[null,"5 to 17 years:",192911,397.09192890311937,8845,129.40247292845683,5971,88.090862182180956,10233,140.58449416631979,3708,58.309518948453004,10922,95.963534741067136,62848,103.24727599312246,21621,120.28299963003916,45334,90.443352436760108,17635,274.00729917285048,5794,83.234608186739251]
[null,"With vision difficulty",1122,240.63665556186572,82,98.030607465219759,20,29.068883707497267,54,39.204591567825318,96,60.406953242155822,44,36.345563690772494,252,122.98373876248843,301,122.11879462228572,193,94.30270409696638,26,45.607017003965517,54,51.264022471905186]
[null,"With no vision difficulty",191789,488.19873002702496,8763,163.68261972488099,5951,95.900990610107883,10179,147.51271131668619,3612,83.671978583035795,10878,103.71113729971339,62596,170.66048165876012,21320,169.14490828872147,45141,128.4562182223967,17609,265.33940529065785,5740,85.440037453175307]
[null,"18 to 34 years:",296351,596.79560990342418,11099,206.59622455408038,7650,130.17680284904833,17217,122.98373876248843,5030,89.196412483911033,21913,162.40997506310995,94853,213.82703290276467,33078,238.60008382228202,60665,262.95436866498341,36683,275.32707821788978,8163,177.58941409892651]
[null,"With vision difficulty",3315,499.19635415335318,233,157.0350279396288,4,30.083217912982647,151,83.546394296821688,93,55.758407437802596,245,110.6752004741803,633,209.124364912365,488,164.61470165206995,781,212.20744567521658,608,225.1443981093023,79,95.603347221736954]
[null,"With no vision difficulty",293036,761.9875327064085,10866,256.32986560289851,7646,130.17680284904833,17066,152.12166183683374,4937,103.23759005323593,21668,185.97042775667319,94220,298.0805260328155,32590,267.46962444359923,59884,348.74919354745469,36075,334.72376670920755,8084,193.03885619221847]
[null,"35 to 64 years:",557859,694.82803627948113,26588,207.87015177749788,20380,152.04275714416653,29243,158.38244852255568,12239,137.7534028617805,34151,196.59603251337501,173573,187.57931655702342,60963,333.28216273902206,134570,282.45530619905162,48712,321.12302938282079,17440,182.52123164169149]
[null,"With vision difficulty",9791,799.87561533028372,711,248.35861168882386,601,325.47964606100948,599,201.73497465734593,423,136.12494260788506,651,199.60210419732553,2682,422.82502291136933,1193,266.41321288554741,1634,301.34697609234445,939,235.46761985462035,358,169.64963896218583]
[null,"With no vision difficulty",548068,1065.8653761146386,25877,315.92562415859845,19779,364.95479172083765,28644,266.81079438433522,11816,194.45565047074359,33500,290.58905691715233,170891,475.02631506054485,59770,388.09406076362467,132936,406.76774700066869,47773,404.21900004824118,17082,258.64261056523537]
[null,"65 to 74 years:",157137,510.84439901010956,8943,109.71326264403953,9055,140.45639892863551,9761,102.55242561733974,4589,54.708317466359723,11544,169.24833824885843,40995,188.83061192507955,17474,226.43321311150447,36401,181.04143172213369,12330,198.07321878537743,6045,109.01834707974616]
[null,"With vision difficulty",5283,587.45042344014018,410,170.53152201279386,249,123.22743201089601,446,181.43042743707574,191,60.415229867972862,182,77.466121627457255,1426,317.97012438277909,577,174.06320691059327,1072,285.0438562747845,545,218.80585001320233,185,106.06601717798213]
[null,"With no vision difficulty",151854,780.65101037531485,8533,204.70710783946902,8806,180.83417818543043,9315,203.19448811422026,4398,77.833154889160184,11362,185.69868066305693,39569,365.03424496887959,16897,277.60583567353189,35329,327.67361810191557,11785,282.12408617486028,5860,150.08331019803634]
[null,"75 years and over:",96059,521.80551932688491,5002,136.03308421115798,5482,147.82760229402356,5994,102.82509421342633,2849,138.67948658687772,7845,160.01562423713506,25028,260.76234390724437,10393,208.60728654579637,21863,228.71160880025309,8060,176.81911661356077,3543,63.324560795950255]
[null,"With vision difficulty",6877,584.4056810127704,558,188.31091311976584,407,152.89538907370621,529,161.71889190815031,231,73.573092907665639,671,225.03777460684239,1663,280.05892237170377,550,142.30249470757707,1129,223.54417907876734,710,229.49074055394914,429,198.71587757398754]
[null,"With no vision difficulty",89182,794.93647544945372,4444,211.62466774929618,5075,204.41379601191306,5465,195.06409203131159,2618,143.45033983926285,7174,265.48069609672189,23365,355.48558339263212,9843,235.93431289238112,20734,320.26395363824508,7350,282.39157211220027,3114,219.96590644915861]
[]
[]
[]
[]
[]
[]
[]
[]
[]
[]
[]
[]
[]
[]
[]
[]
[]
[]
[]
[]
[]
[]
[]
[]
[]
[]
["B18103. SEX BY AGE BY VISION DIFFICULTY\n\n\n-Calculated"]
["Universe:  Civilian non-institutionalized population"]
["Data Set: 2013-2017 American Community Survey 5-Year Estimates"]
[]
[]
[null,null,"New Hampshire",null,"Belknap County",null,"Carroll County",null,"Cheshire County",null,"Coos County",null,"Grafton County",null,"Hillsborough County",null,"Merrimack County",null,"Rockingham County",null,"Strafford County",null,"Sullivan County"]
[null," ","Estimate","Margin of Error","Estimate","Margin of Error","Estimate","Margin of Error","Estimate","Margin of Error","Estimate","Margin of Error","Estimate","Margin of Error","Estimate",null,"Estimate","Margin of Error","Estimate","Margin of Error","Estimate","Margin of Error","Estimate","Margin of Error"]
[null,"Total",1314875,255,59629,218,47059,123,75355,213,30072,340,88326,216,402033,388,144508,406,300188,339,125124,290,42581,138]
[null,"Under 5 years:",64232,302.00165562460086,2690,80.156097709406993,1813,48.373546489791295,3528,84.148677945645701,1267,29,3746,74.411020689142546,21800,60.207972893961475,7096,140.18559127100045,13971,137.90213921473443,6259,113.27841806805037,2062,81.412529748190479]
[null,"With vision difficulty",334,133.9589489358587,20,43.416586692184822,0,33.941125496954278,20,28.284271247461902,0,33.941125496954278,6,28.160255680657446,102,59.506302187247357,53,63.071388124885914,108,84.15461959987698,0,38.183766184073569,25,48.373546489791295]
[null,"With no vision difficulty",63898,321.05451250527534,2670,88.0056816347672,1813,48.373546489791295,3508,87.726848797845236,1267,29,3740,73.109506905736964,21698,85.883642214335552,7043,131.52946437965906,13863,155.70806016388491,6259,113.27841806805037,2037,88.232647019116456]
[null,"5 to 17 years:",199190,386.16058835670947,8868,134.6291201783626,6065,87.863530545955186,10388,157.68639763784319,4087,61.032778078668514,11303,109.04127658827184,64685,106.21675950620975,22127,121.03718436910205,47286,92.633687176966021,18058,151.6047492659778,6323,95.524865872714003]
[null,"With vision difficulty",1348,238.75719884434898,96,72.124891681027847,37,49.819674828324601,109,81.344944526380985,22,20.248456731316587,131,72.180329730474355,345,106.77546534667971,206,99.297532698451278,157,77.801028270839709,138,99.045444115315064,107,84.214013085709198]
[null,"With no vision difficulty",197842,439.60550497008109,8772,151.81897114655993,6028,95.425363504678359,10279,169.33103672983285,4065,54.488530903301111,11172,123.76186811776881,64340,147.62791064023091,21921,164.20109622045769,47129,125.89678312014172,17920,172.03778654702577,6216,129.49517365523704]
[null,"18 to 34 years:",280385,521.21876405210128,10491,155.12897859523216,7058,116.36150566231085,18238,156.40012787718558,5038,167.86303941010956,22426,131.82184947875675,87623,184.45866745696716,29978,230.41267326256167,56437,192.16919628285902,35547,250.47954008261831,7549,127.34991166074674]
[null,"With vision difficulty",2112,308.56117707838752,48,42.449970553582247,80,72.560319734686942,172,104.44615837837216,106,59.682493245507096,174,103.4456378974,511,149.91330828182001,239,95.078914592037705,364,115.31261856362468,378,143.75673897247393,40,42.449970553582247]
[null,"With no vision difficulty",278273,616.40408824082272,10443,162.74212730574712,6978,133.75350462698165,18066,195.97193676646665,4932,174.25555945220228,22252,168.2973558912914,87112,236.01906702637396,29739,254.16923495970161,56073,222.5690903966676,35169,294.20061182805176,7509,132.38202294873727]
[null,"35 to 64 years:",560233,605.33048824588377,25935,181.37254478007415,20473,140.46351839534705,29963,137.44089638822936,13075,251.10356429170812,34702,196.32880583347927,172245,177.6091213873882,62029,193.49935400408964,135105,187.66459442313567,48172,253.33771926027913,18534,130.81666560496029]
[null,"With vision difficulty",9438,582.74007928063429,481,153.94154734833609,453,158.52129194527782,464,149.21461054467824,503,103.58571330062848,611,136.23509092741122,2771,341.62113517755307,1200,199.40912717325654,1804,278.54802099458544,709,166.71232707871366,442,137.27709204379295]
[null,"With no vision difficulty",550795,857.68525695618666,25454,248.21361767638777,20020,185.80096878111266,29499,207.90863377935992,12572,240.68236329236922,34091,246.10770000144245,169474,378.31864876053891,60829,271.52900397563423,133301,334.52653108535355,47463,304.77040538739976,18092,169.85287751463028]
[null,"65 to 74 years:",128133,372.72644124075771,7345,86.313382508160345,7184,76.400261779656233,7839,106.55045753069294,3916,56.0357029044876,9565,98.488578017961046,33693,200.5617112013158,13973,100.65783625729296,29445,168.58232410309213,10195,149.33519344079613,4978,35.510561809129406]
[null,"With vision difficulty",3977,410.16216305261509,198,97.836598469080073,340,153.4177303964571,340,113.84638773364749,175,55.803225713214822,259,83.354663936698827,942,191.12822920751398,469,123.3288287465668,867,186.81809334215998,232,93.605555390692487,155,63.890531379853151]
[null,"With no vision difficulty",124156,541.57732596555411,7147,130.09611831257686,6844,171.96511274092776,7499,151.21177202850313,3741,78.492037812761623,9306,125.53883861180172,32751,271.02951868754076,13504,159.86244086714052,28578,237.7666923688009,9963,172.15400082484288,4823,74.632432628181164]
[null,"75 years and over:",82702,470.6644239795483,4300,167.10774967068403,4466,114.61239025515522,5399,115.43396380615195,2689,114.9086593777858,6584,166.20770138594662,21987,300.20326447259032,9305,259.95576546789647,17944,285.88284313683465,6893,147.02720836634285,3135,92.962357973536797]
[null,"With vision difficulty",6729,500.72946787661698,339,109.34349546269316,342,139.51702405083043,519,146.82302271782856,235,65.053823869162372,632,189.80516325959101,1723,257.15753926338618,816,158.68522300453813,1142,193.43732835210477,675,170.85666507338834,306,104.70912090166739]
[null,"With no vision difficulty",75973,647.88347717780243,3961,192.46298345396187,4124,181.47451611727746,4880,187.21111078138497,2454,125.19584657647394,5952,258.21115390315731,20264,371.21422386541173,8489,288.45276909747287,16802,340.34835095824985,6218,219.82947936980608,2829,128.41339493993607]
[]
[]
[]
[]
["B18103. SEX BY AGE BY VISION DIFFICULTY\n\n\n-Calculated"]
["Universe:  Civilian non-institutionalized population"]
["Data Set: 2008-2012 American Community Survey 5-YearEstimates"]
[]
[]
[null,null,"New Hampshire",null,"Belknap County",null,"Carroll County",null,"Cheshire County",null,"Coos County",null,"Grafton County",null,"Hillsborough County",null,"Merrimack County",null,"Rockingham County",null,"Strafford County",null,"Sullivan County"]
[null," ","Estimate","Margin of Error","Estimate","Margin of Error","Estimate","Margin of Error","Estimate","Margin of Error","Estimate","Margin of Error","Estimate","Margin of Error","Estimate",null,"Estimate","Margin of Error","Estimate","Margin of Error","Estimate","Margin of Error","Estimate","Margin of Error"]
[null,"Total",1302651,274,59467,183,47400,108,76393,216,31791,199,88381,158,397245,345,143302,374,293692,296,121849,360,43131,122]
[null,"Under 5 years:",69361,384.03775856027488,3008,151.6443206981389,1990,97.948966303887048,3744,112.44554237496477,1390,34.985711369071801,4070,99.005050376230813,23653,62.649820430708338,7555,125.89678312014172,15029,102.55242561733974,6716,172.46738822165773,2206,58.523499553598128]
[null,"With vision difficullty",264,113.35784048754634,0,38.183766184073569,3,24.515301344262525,30,42.579337712087536,14,14.142135623730951,0,38.183766184073569,109,83.21658488546619,29,30.016662039607269,52,55.946402922797461,14,35.468295701936398,13,32.557641192199412]
[null,"With no vision difficullty",69097,383.83850770864564,3008,151.6443206981389,1987,98.595131725658746,3714,118.81077392223317,1376,37.735924528226413,4070,99.005050376230813,23544,104.7377677822093,7526,132.32157798333574,14977,113.45483682946268,6702,174.77413996355409,2193,61.911226768656427]
[null,"5 to 17 years:",215970,400.13622680282276,9538,142.52368224263643,6833,126.58988901172162,11358,124.27791436936813,4776,96.020831073262428,12191,111.07204868912791,69848,107.01868995647442,24111,175.72706109191037,51998,74.249579123386283,18472,169.91762710207556,6845,82.462112512353215]
[null,"With vision difficullty",1287,222.99103120977759,0,38.183766184073569,27,20.880613017821101,57,44.384682042344295,73,55.569775957799216,103,67.067130548428864,357,136.78084661238211,119,68.308125431752259,349,143.1258187749506,130,80.919713296575637,72,63.788713735268246]
[null,"With no vision difficullty",214683,443.84907344726992,9538,142.52368224263643,6806,128.03515142334936,11301,127.88275880665071,4703,112.64546151532249,12088,125.87692401707312,69491,180.31361568112376,23992,180.47991578012218,51649,156.26259949200897,18342,193.14502323383846,6773,103.94229168149026]
[null,"18 to 34 years:",266142,523.48925490405247,10215,151.42654985173505,6826,166.88319268278636,18197,194.11594473406868,5022,98.792712281827747,22128,137.2953021774598,83468,173.18487231857176,28504,242.68704126920332,50827,227.43130831088317,33491,251.44581921360316,7464,108.85311203635843]
[null,"With vision difficullty",1681,297.84559758371449,20,41.868842830916641,49,41.617304093369626,86,45.967379738244816,32,29.154759474226502,184,87.31551981177229,411,140.34600101178515,225,101.96568050084302,428,166.6433316997713,219,122.61321299109652,27,24.758836806279895]
[null,"With no vision difficullty",264461,612.91516541851047,10195,155.87815754620658,6777,174.4706279005151,18111,208.40345486579631,4990,99.744674043279119,21944,162.64070831129578,83057,232.42202993692314,28279,266.74519677025114,50399,266.50703555441083,33272,290.60110116790679,7437,113.85077953180645]
[null,"35 to 64 years:",578086,579.13124591926487,27020,206.46549348498891,22098,157.25775020646836,32059,182.8332573685652,14576,130.38404810405297,36474,168.7601848778319,174401,204.08331631958552,64034,274.61427493850351,138866,258.37956575549856,48911,222.50393254951697,19647,94.047860156411858]
[null,"With vision difficullty",7629,600.22828990310006,275,106,349,131.7269904006009,504,131.52946437965906,420,96.260064408871031,535,140.46351839534705,2184,304.59973736035954,1076,239.10667075596197,1317,227.11450856341168,615,166.00301202086666,354,126.58988901172162]
[null,"With no vision difficullty",570457,779.29455278476064,26745,247.42069436488129,21749,196.22945752358385,31555,205.5164227014474,14156,156.64609794054877,35939,221.68671588527806,172217,373.28943194256118,62958,362.98898054899684,137549,333.26415948913558,48296,263.68541863364385,19293,158.39191898578665]
[null,"65 to 74 years:",97464,285.60287113402762,5493,80.603970125546539,5569,91.923881554251182,6138,63.031738037277698,3234,45.343136195018538,7374,65.80273550544841,25819,141.22676800097071,10536,113.70136322841516,21492,152.97058540778355,7811,101.82337649086284,3998,40]
[null,"With vision difficullty",2794,313.12936623702353,77,42.449970553582247,207,109.00458705944443,191,72.201108024738787,130,53.235326616824658,221,76.400261779656233,559,146.75489770362009,347,102.95630140987001,676,152.79397893896211,279,102.2154587134451,107,45.453272709454048]
[null,"With no vision difficullty",94670,379.18992602652304,5416,89.308454247064432,5362,139.78555004005241,5947,89.050547443572739,3104,71.28113354878694,7153,101.21264743103995,25260,194.48907424325924,10189,145.24806367039804,20816,217.69014676829082,7532,144.04513181638595,3891,57.688820407423826]
[null,"75 years and over:",75628,368.32187010819763,4193,116.93160394008115,4084,84.219950130595535,4897,130.17296186228538,2793,103.46496991735899,6144,115.52056094046635,20056,251.78760890877851,8562,188.44893207444821,15480,202.19297712828703,6448,125.7179382586272,2971,91.263355187062899]
[null,"With vision difficullty",6699,492.27634515584839,481,138.68309197591464,405,130.09611831257686,534,137,319,75.663729752107784,547,126.24579200908045,1754,232,570,142.00352108310554,1406,249.0461804565571,503,136.01470508735443,180,64.381674411279491]
[null,"With no vision difficullty",68929,545.47318907532019,3712,169.74392478082979,3679,129.634100452003,4363,172.28464818433474,2474,117.44360348695028,5597,155.19342769589181,18302,331.43475979444281,7992,214.36650857818253,14074,317.34523787194286,5945,183.69812192834198,2791,111.21151019566275]

{"sheet":"ACS_Table_B18104","index":30,"n_rows":152,"n_cols":24,"rows_kept":152,"cut":false,"hidden":true,"merged":[]}
["B18104. SEX BY AGE BY COGNITIVE DIFFICULTY\n\n"]
["Universe:  Civilian non-institutionalized population 5 years and over"]
["Data Set: 2018-2022 American Community Survey 5-Year Estimates"]
[]
[null,null,"New Hampshire",null,"Belknap County",null,"Carroll County",null,"Cheshire County",null,"Coos County",null,"Grafton County",null,"Hillsborough County",null,"Merrimack County",null,"Rockingham County",null,"Strafford County",null,"Sullivan County"]
[null," ","Estimate","Margin of Error","Estimate","Margin of Error","Estimate","Margin of Error","Estimate","Margin of Error","Estimate","Margin of Error","Estimate","Margin of Error","Estimate",null,"Estimate","Margin of Error","Estimate","Margin of Error","Estimate","Margin of Error","Estimate","Margin of Error"]
[null,"Total:",1300317,443,60477,146,48538,72,72448,87,28415,55,86375,80,397297,249,143529,118,298833,184,123420,235,40985,128]
[null,"Male:",648643,624,29836,211,24540,142,35693,142,14523,132,42986,129,199790,263,70832,213,149004,235,60701,309,20738,172]
[null,"5 to 17  years:",99166,301,4479,92,3243,68,5210,108,1916,50,5613,80,32240,72,10969,88,23224,74,9243,218,3029,68]
[null,"With cognitive difficulty",6205,721,241,132,225,85,240,92,308,142,200,71,2010,343,746,182,1715,468,372,157,148,99]
[null,"With no cognitive difficulty",92961,753,4238,162,3018,112,4970,135,1608,145,5413,113,30230,357,10223,196,21509,473,8871,233,2881,111]
[null,"18 to 34  years:",152209,442,5658,151,4035,115,8565,110,2759,66,11223,96,49200,169,16936,191,31175,228,18188,203,4470,157]
[null,"With cognitive difficulty",9902,856,349,152,321,152,611,169,324,125,783,197,2895,569,1526,317,1656,347,1073,251,364,165]
[null,"With no cognitive difficulty",142307,990,5309,211,3714,201,7954,200,2435,134,10440,218,46305,565,15410,375,29519,422,17115,304,4106,243]
[null,"35 to 64  years:",279338,545,13164,163,10038,109,14552,133,6251,124,16943,137,87881,145,30203,289,67388,209,24257,248,8661,133]
[null,"With cognitive difficulty",12130,865,1043,289,627,190,597,186,443,123,1134,249,3380,408,1470,260,1808,328,747,235,881,350]
[null,"With no cognitive difficulty",267208,948,12121,281,9411,223,13955,220,5808,186,15809,260,84501,413,28733,375,65580,391,23510,332,7780,368]
[null,"65 to 74  years:",76558,399,4342,81,4591,132,4741,71,2338,47,5736,126,20037,136,8254,206,17708,126,5802,127,3009,86]
[null,"With cognitive difficulty",3435,451,309,171,45,34,369,231,98,60,313,152,800,250,372,126,831,296,168,113,130,80]
[null,"With no cognitive difficulty",73123,535,4033,190,4546,136,4372,238,2240,77,5423,122,19237,283,7882,234,16877,327,5634,162,2879,126]
[null,"75  years and Older:",41372,315,2193,107,2633,107,2625,78,1259,76,3471,81,10432,149,4470,149,9509,153,3211,113,1569,23]
[null,"With cognitive difficulty",4185,543,201,65,276,134,174,80,148,50,258,94,1112,258,426,124,879,238,502,220,209,153]
[null,"With no cognitive difficulty",37187,632,1992,109,2357,174,2451,81,1111,77,3213,115,9320,297,4044,174,8630,277,2709,252,1360,158]
[null,"Female:",651674,517,30641,164,23998,132,36755,134,13892,131,43389,126,197507,240,72697,193,149829,145,62719,192,20247,130]
[null,"5 to 17  years:",93745,259,4366,91,2728,56,5023,90,1792,30,5309,53,30608,74,10652,82,22110,52,8392,166,2765,48]
[null,"With cognitive difficulty",3572,545,142,114,68,48,252,145,86,52,152,71,1307,324,451,151,834,273,244,134,36,41]
[null,"With no cognitive difficulty",90173,613,4224,140,2660,74,4771,174,1706,58,5157,80,29301,335,10201,176,21276,279,8148,197,2729,55]
[null,"18 to 34  years:",144142,401,5441,141,3615,61,8652,55,2271,60,10690,131,45653,131,16142,143,29490,131,18495,186,3693,83]
[null,"With cognitive difficulty",9160,836,432,155,552,226,572,187,151,81,802,227,2083,388,1421,303,1355,321,1377,437,415,175]
[null,"With no cognitive difficulty",134982,842,5009,158,3063,225,8080,184,2120,94,9888,263,43570,385,14721,320,28135,352,17118,518,3278,169]
[null,"35 to 64  years:",278521,431,13424,129,10342,106,14691,86,5988,60,17208,141,85692,119,30760,166,67182,190,24455,204,8779,125]
[null,"With cognitive difficulty",13516,913,604,197,600,183,643,168,391,94,939,225,4413,560,1491,254,2493,451,1481,289,461,196]
[null,"With no cognitive difficulty",265005,1009,12820,231,9742,239,14048,199,5597,117,16269,250,81279,571,29269,301,64689,488,22974,334,8318,250]
[null,"65 to 74  years:",80579,319,4601,74,4464,48,5020,74,2251,28,5808,113,20958,131,9220,94,18693,130,6528,152,3036,67]
[null,"With cognitive difficulty",3389,566,132,80,195,119,203,83,140,61,219,157,789,329,457,174,665,208,453,262,136,81]
[null,"With no cognitive difficulty",77190,639,4469,102,4269,126,4817,109,2111,68,5589,189,20169,353,8763,197,18028,261,6075,286,2900,83]
[null,"75  years and Older:",54687,416,2809,84,2849,102,3369,67,1590,116,4374,138,14596,214,5923,146,12354,170,4849,136,1974,59]
[null,"With cognitive difficulty",5484,565,353,135,270,110,322,132,144,73,527,173,1335,274,470,164,1313,272,495,150,255,131]
[null,"With no cognitive difficulty",49203,663,2456,151,2579,138,3047,148,1446,126,3847,227,13261,352,5453,205,11041,312,4354,216,1719,155]
[]
[]
[{"$f":"A1& \"-Calculated\"","v":"B18104. SEX BY AGE BY COGNITIVE DIFFICULTY\n\n-Calculated"}]
[{"$f":"A2","v":"Universe:  Civilian non-institutionalized population 5 years and over"}]
[{"$f":"A3","v":"Data Set: 2018-2022 American Community Survey 5-Year Estimates"}]
[]
[]
[null,null,"New Hampshire",null,"Belknap County",null,"Carroll County",null,"Cheshire County",null,"Coos County",null,"Grafton County",null,"Hillsborough County",null,"Merrimack County",null,"Rockingham County",null,"Strafford County",null,"Sullivan County"]
[null," ","Estimate","Margin of Error","Estimate","Margin of Error","Estimate","Margin of Error","Estimate","Margin of Error","Estimate","Margin of Error","Estimate","Margin of Error","Estimate",null,"Estimate","Margin of Error","Estimate","Margin of Error","Estimate","Margin of Error","Estimate","Margin of Error"]
[null,"Total:",{"$f":"C7","v":1300317},443,60477,146,48538,72,72448,87,28415,55,86375,80,397297,249,143529,118,298833,184,123420,235,40985,128]
[null,"5 to 17  years:",{"$f":"C25+C9","v":192911},{"$f":"SQRT((D25^2)+(D9^2))","v":397.09192890311937},{"$f":"E25+E9","v":8845},{"$f":"SQRT((F25^2)+(F9^2))","v":129.40247292845683},{"$f":"G25+G9","v":5971},{"$f":"SQRT((H25^2)+(H9^2))","v":88.090862182180956},{"$f":"I25+I9","v":10233},{"$f":"SQRT((J25^2)+(J9^2))","v":140.58449416631979},{"$f":"K25+K9","v":3708},{"$f":"SQRT((L25^2)+(L9^2))","v":58.309518948453004},{"$f":"M25+M9","v":10922},{"$f":"SQRT((N25^2)+(N9^2))","v":95.963534741067136},{"$f":"O25+O9","v":62848},{"$f":"SQRT((P25^2)+(P9^2))","v":103.24727599312246},{"$f":"Q25+Q9","v":21621},{"$f":"SQRT((R25^2)+(R9^2))","v":120.28299963003916},{"$f":"S25+S9","v":45334},{"$f":"SQRT((T25^2)+(T9^2))","v":90.443352436760108},{"$f":"U25+U9","v":17635},{"$f":"SQRT((V25^2)+(V9^2))","v":274.00729917285048},{"$f":"W25+W9","v":5794},{"$f":"SQRT((X25^2)+(X9^2))","v":83.234608186739251}]
[null,"With cognitive difficulty",{"$f":"C26+C10","v":9777},903.80639519755562,383,174.41330224498358,293,97.616596949494195,492,171.72361514946044,394,151.22169156572744,352,100.40916292848975,3317,471.8315377335432,1197,236.48467180770933,2549,541.80531558854238,616,206.40978658968669,184,107.15409464878138]
[null,"With no cognitive difficulty",183134,970.96755867536581,8462,214.11212016137713,5678,134.23859355639868,9741,220.22942582679545,3314,156.16977940690063,10570,138.45215780189199,59531,489.56511313613839,20424,263.42361321643131,42785,549.1538946415659,17019,305.11964866261889,5610,123.8789731956154]
[null,"18 to 34  years:",296351,596.79560990342418,11099,206.59622455408038,7650,130.17680284904833,17217,122.98373876248843,5030,89.196412483911033,21913,162.40997506310995,94853,213.82703290276467,33078,238.60008382228202,60665,262.95436866498341,36683,275.32707821788978,8163,177.58941409892651]
[null,"With cognitive difficulty",19062,1196.508253210148,781,217.09214633422371,873,272.36005580848303,1183,252.05158202241066,475,148.94965592440957,1585,300.56280541677143,4978,688.69804704238857,2947,438.51795858322612,3011,472.70498199193969,2450,503.95436301316016,779,240.52026941611388]
[null,"With no cognitive difficulty",277289,1299.6399501400379,10318,263.60007587252323,6777,301.70515408259104,16034,271.76460402340848,4555,163.68261972488099,20328,341.60357140990197,89875,683.70315195997159,30131,492.97565862829373,57654,549.53434833502445,34233,600.61635009380154,7384,295.98986469134377]
[null,"35 to 64  years:",557859,694.82803627948113,26588,207.87015177749788,20380,152.04275714416653,29243,158.38244852255568,12239,137.7534028617805,34151,196.59603251337501,173573,187.57931655702342,60963,333.28216273902206,134570,282.45530619905162,48712,321.12302938282079,17440,182.52123164169149]
[null,"With cognitive difficulty",25646,1257.6939214292165,1647,349.75705854206859,1227,263.79727064547126,1240,250.63918289046507,834,154.80633061990716,2073,335.5979737721907,7793,692.86650950958801,2961,363.477647180676,4301,557.66029085815319,2228,372.48624135664392,1342,401.14336589304327]
[null,"With no cognitive difficulty",532213,1384.4800468045757,24941,363.76091048929379,19153,326.87918257362304,28003,296.64962497869436,11405,219.73848092675985,32078,360.69377593742865,165780,704.70561229494967,58002,480.85964688253893,130269,625.3199181219162,46484,470.9352397092407,16098,444.88650238010143]
[null,"65 to 74  years:",157137,510.84439901010956,8943,109.71326264403953,9055,140.45639892863551,9761,102.55242561733974,4589,54.708317466359723,11544,169.24833824885843,40995,188.83061192507955,17474,226.43321311150447,36401,181.04143172213369,12330,198.07321878537743,6045,109.01834707974616]
[null,"With cognitive difficulty",6824,723.71057751009835,441,188.78824115924169,240,123.76186811776881,572,245.45875417267155,238,85.562842402528915,532,218.52459815773602,1589,413.20817997711515,829,214.83016547961788,1496,361.77340974704043,621,285.32963393240459,266,113.84638773364749]
[null,"With no cognitive difficulty",150313,833.39426443910691,8502,215.64786110694445,8815,185.39687160251654,9189,261.77280225416848,4351,102.7277956543408,11012,224.95555116511352,39406,452.4356307807775,16645,305.88396492787916,34905,418.3897704294406,11709,328.69438693108225,{"$f":"W36+W20","v":5779},150.88074761214565]
[null,"75  years and Older:",96059,521.80551932688491,5002,136.03308421115798,5482,147.82760229402356,5994,102.82509421342633,2849,138.67948658687772,7845,160.01562423713506,25028,260.76234390724437,10393,208.60728654579637,21863,228.71160880025309,8060,176.81911661356077,{"$f":"W37+W21","v":3543},63.324560795950255]
[null,"With cognitive difficulty",9669,783.62873862563254,554,149.83324063771698,546,173.36666346215469,496,154.35025105259791,292,88.481636512894582,785,196.88829320200833,2447,376.3509000919222,896,205.60155641434235,2192,361.42495763297808,997,266.27053911388697,{"$f":"W38+W22","v":464},201.41995928904365]
[null,"With no cognitive difficulty",86390,915.96561070817495,4448,186.23103930333417,4936,222.08106627986098,5498,168.71573726241425,2557,147.66516176810291,7060,254.46807265352564,22581,460.55727114008306,9497,268.88845270855347,19671,417.22056516907219,7063,331.90360046254392,{"$f":"W39+W23","v":3079},221.33458834985552]
[]
[]
[]
[]
[]
[]
[]
[]
[]
[]
[]
[]
[]
[]
[]
[]
[]
[]
[]
[]
[]
[]
[]
[]
[]
[]
[]
[]
[]
[]
[]
[]
[]
[]
[]
["B18104. SEX BY AGE BY COGNITIVE DIFFICULTY\n\n-Calculated"]
["Universe:  Civilian non-institutionalized population 5 years and over"]
["Data Set: 2013-2017 American Community Survey 5-Year Estimates"]
[]
[]
[null,null,"New Hampshire",null,"Belknap County",null,"Carroll County",null,"Cheshire County",null,"Coos County",null,"Grafton County",null,"Hillsborough County",null,"Merrimack County",null,"Rockingham County",null,"Strafford County",null,"Sullivan County"]
[null," ","Estimate","Margin of Error","Estimate","Margin of Error","Estimate","Margin of Error","Estimate","Margin of Error","Estimate","Margin of Error","Estimate","Margin of Error","Estimate",null,"Estimate","Margin of Error","Estimate","Margin of Error","Estimate","Margin of Error","Estimate","Margin of Error"]
[null,"Total:",1250643,301,56939,249,45246,131,71827,212,28805,335,84580,218,380233,384,137412,408,286217,344,118865,307,40519,157]
[null,"5 to 17  years:",199190,386.16058835670947,8868,134.6291201783626,6065,87.863530545955186,10388,157.68639763784319,4087,61.032778078668514,11303,109.04127658827184,64685,106.21675950620975,22127,121.03718436910205,47286,92.633687176966021,18058,151.6047492659778,6323,95.524865872714003]
[null,"With cognitive difficulty",10033,714.58099610890861,737,213.66328650472454,334,125,413,155.9134375222354,353,106.30145812734649,687,215.92822881689185,3290,441.74426991190273,1197,240.10414407085938,1917,280.17851452243798,833,215.94675269612182,272,114.85643212288984]
[null,"With no cognitive difficulty",189157,795.63308126296511,8131,241.42286552851616,5731,145.45446022724775,9975,197.70938268074178,3734,120.93386622447825,10616,232.99785406737118,61395,464.56000688823826,20930,263.7612556839992,45369,290,17225,255.19012520080005,6051,146.86388255796589]
[null,"18 to 34  years:",280385,521.21876405210128,10491,155.12897859523216,7058,116.36150566231085,18238,156.40012787718558,5038,167.86303941010956,22426,131.82184947875675,87623,184.45866745696716,29978,230.41267326256167,56437,192.16919628285902,35547,250.47954008261831,7549,127.34991166074674]
[null,"With cognitive difficulty",13019,861.3965405084931,832,201.6035713969373,459,178.92177061498134,1001,234.88720697390056,457,115.62439189029277,806,197.20040567909589,3742,434.49741080931653,1602,287.2507615307573,1973,306.86316168611705,1873,337.08455912426484,274,89.872131386765275]
[null,"With no cognitive difficulty",267366,1030.0004854367787,9659,245.35076930794409,6599,198.90952717253137,17237,256.45272468819667,4581,208.00240383226344,21620,252.60443384865596,83881,457.31826991713331,28376,348.62157133487881,54464,358.28619845034501,33674,412.02912518413063,7275,161.94134740701648]
[null,"35 to 64  years:",560233,605.33048824588377,25935,181.37254478007415,20473,140.46351839534705,29963,137.44089638822936,13075,251.10356429170812,34702,196.32880583347927,172245,177.6091213873882,62029,193.49935400408964,135105,187.66459442313567,48172,253.33771926027913,18534,130.81666560496029]
[null,"With cognitive difficulty",24179,1152.3163628101443,1253,231.40656861895687,1118,232.72515979154468,1366,237.49736840647307,1020,167.17057157286985,1726,283.27018904219341,7285,578.35629157120786,2865,362.17813296774284,4368,464.63426477176648,2244,365.93578671674078,934,233.11156127485398]
[null,"With no cognitive difficulty",536054,1272.1088789879584,24682,299.89664886423787,19355,263.22993750711561,28597,269.0074348414928,12055,287.23683607782618,32976,325.27219370859234,164960,585.71324041718572,59164,387.49064504836758,130737,522.53612315322277,45928,458.16700012113489,17600,255.40947515705051]
[null,"65 to 74  years:",128133,372.72644124075771,7345,86.313382508160345,7184,76.400261779656233,7839,106.55045753069294,3916,56.0357029044876,9565,98.488578017961046,33693,200.5617112013158,13973,100.65783625729296,29445,168.58232410309213,10195,149.33519344079613,4978,35.510561809129406]
[null,"With cognitive difficulty",5391,446.38660374164454,215,81.320354155647891,380,145.6639969244288,421,150.20652449211386,146,51.884487084291386,386,102.41581909060729,1376,263.63800939925181,713,165.01212076693034,942,209.77368757782756,493,139.70325694127536,319,147.75655653811103]
[null,"With no cognitive difficulty",122742,618.11487605460525,7130,118.22436297142819,6804,167.70509831248424,7418,193.1035991378721,3770,80.280757345705197,9179,135.67977004697494,32317,312.04647089816604,13260,203.21663317750347,28503,270,9702,209.78083801910984,4659,155.80115532305913]
[null,"75  years and Older:",82702,470.6644239795483,4300,167.10774967068403,4466,114.61239025515522,5399,115.43396380615195,2689,114.9086593777858,6584,166.20770138594662,21987,300.20326447259032,9305,259.95576546789647,17944,285.88284313683465,6893,147.02720836634285,3135,92.962357973536797]
[null,"With cognitive difficulty",9126,629.49265285625063,428,116.38728452885221,547,178.28067758453241,440,130.81666560496029,290,74.060785845142092,716,171.42053552593984,2778,331.20990323358387,1165,206.20620747203515,1579,316.08226777217351,867,218.15590755237412,316,119.55333537798099]
[null,"With no cognitive difficulty",73576,796.33472861605128,3872,190.03157632351525,3919,205.526154053444,4959,180.81205712009361,2399,120.10828447696687,5868,243.9610624669437,19209,409.38612580301253,8140,321.04828297313787,16365,406.51814227657786,6026,279.06271696520122,2819,139.34489585198304]
[]
[]
[]
[]
[]
[]
[]
["B18104. SEX BY AGE BY COGNITIVE DIFFICULTY\n\n-Calculated"]
["Universe:  Civilian non-institutionalized population 5 years and over"]
["Data Set: 2008-2012 American Community Survey 5-YearEstimates"]
[]
[]
[null,null,"New Hampshire",null,"Belknap County",null,"Carroll County",null,"Cheshire County",null,"Coos County",null,"Grafton County",null,"Hillsborough County",null,"Merrimack County",null,"Rockingham County",null,"Strafford County",null,"Sullivan County"]
[null," ","Estimate","Margin of Error","Estimate","Margin of Error","Estimate","Margin of Error","Estimate","Margin of Error","Estimate","Margin of Error","Estimate","Margin of Error","Estimate",null,"Estimate","Margin of Error","Estimate","Margin of Error","Estimate","Margin of Error","Estimate","Margin of Error"]
[null,"Total:",1233290,387,56459,229,45410,143,72649,222,30401,196,84311,156,373592,355,135747,382,278663,302,115133,367,40925,128]
[null,"5 to 17  years:",215970,400.13622680282276,9538,142.52368224263643,6833,126.58988901172162,11358,124.27791436936813,4776,96.020831073262428,12191,111.07204868912791,69848,107.01868995647442,24111,175.72706109191037,51998,74.249579123386283,18472,169.91762710207556,6845,82.462112512353215]
[null,"With cognitive difficullty",10213,653.40110192744544,320,108.72442227944924,342,125.39936203984452,680,172.36298906667869,478,112.72089424769483,625,148.16544806398016,3022,344.81589290518497,1162,228.52789764052878,2428,426.56418039962051,815,201.20636172845033,341,117.03418304068261]
[null,"With no cognitive difficullty",205757,757.62589712865542,9218,170.0823330037544,6491,142.89856542317,10678,194.02319448973105,4298,133.71985641631537,11566,180.42449944505873,66826,348.00574707898141,22949,296.05742686174926,49570,431.64800474460668,17657,235.98305023878305,6504,144.81022063376605]
[null,"18 to 34  years:",266142,523.48925490405247,10215,151.42654985173505,6826,166.88319268278636,18197,194.11594473406868,5022,98.792712281827747,22128,137.2953021774598,83468,173.18487231857176,28504,242.68704126920332,50827,227.43130831088317,33491,251.44581921360316,7464,108.85311203635843]
[null,"With cognitive difficullty",10709,793.75122047150262,396,153.37861650177967,425,154.26276284314372,591,160,302,98.386991009990751,637,175.41379649275024,3449,433.58620826774461,1321,253.16002844051033,1682,310.38202267528317,1474,256.84431081883048,432,136.02940858505562]
[null,"With no cognitive difficullty",255433,955.6971277554411,9819,203.33469944896271,6401,163.78339354159201,17606,248.16325271885037,4720,139.31618714277246,21491,215.62931155109686,80019,477.14253635575187,27183,325.97699305319077,49145,378.33582965402576,32017,344.30800164968576,7032,179.655225362359]
[null,"35 to 64  years:",578086,579.13124591926487,27020,206.46549348498891,22098,157.25775020646836,32059,182.8332573685652,14576,130.38404810405297,36474,168.7601848778319,174401,204.08331631958552,64034,274.61427493850351,138866,258.37956575549856,48911,222.50393254951697,19647,94.047860156411858]
[null,"With cognitive difficullty",21953,881.54069673498338,942,191.73158320944412,1198,229.65408770583642,1379,237.79402852048241,946,143.53396810511441,1613,229.31637534201522,6233,524.75518101301293,2617,378.549864614954,3694,411.39397175943162,2223,347.60466049810094,1108,220.94569468536832]
[null,"With no cognitive difficullty",556133,982.84688532853374,26078,278.54802099458544,20900,239.17566765873153,30680,285.70089254323307,13630,183.63278574372279,34861,271.89703933658416,168168,589.83472261303848,61417,465.27841127651732,135172,484.31601253726888,46688,396.10352182226302,18539,238.27085428142487]
[null,"65 to 74  years:",97464,285.60287113402762,5493,80.603970125546539,5569,91.923881554251182,6138,63.031738037277698,3234,45.343136195018538,7374,65.80273550544841,25819,141.22676800097071,10536,113.70136322841516,21492,152.97058540778355,7811,101.82337649086284,3998,40]
[null,"With cognitive difficullty",3678,373.35505889166683,188,73.409808608931812,194,117.78370006074695,208,92.135769384099675,211,68.264192663504048,370,107.64757312638311,869,209.48030933717851,417,114.10959644131601,606,148.94965592440957,431,144.80331487918363,184,90.609050320594349]
[null,"With no cognitive difficullty",93786,475.9348694937155,5305,106.15083607772479,5375,151.56846637740978,5930,113.01769772916099,3023,72.006944109578768,7004,118.56221995222593,24950,260.44961124946991,10119,155.21919984331836,20886,199.90497742677644,7380,181.81309083781619,3814,99.724620831567975]
[null,"75  years and Older:",75628,368.32187010819763,4193,116.93160394008115,4084,84.219950130595535,4897,130.17296186228538,2793,103.46496991735899,6144,115.52056094046635,20056,251.78760890877851,8562,188.44893207444821,15480,202.19297712828703,6448,125.7179382586272,2971,91.263355187062899]
[null,"With cognitive difficullty",8779,542.59469219667085,571,176.58142597679972,467,148.16544806398016,608,145.34441853748632,457,102.59142264341595,559,112.61438629233834,2338,306.96090956341658,1030,172.40939649566667,1720,282.21445746098834,625,134.41726079637243,404,123.23960402403117]
[null,"With no cognitive difficullty",66849,647.60790606662613,3622,191.16746585127919,3617,158.39823231336896,4289,185.23768515072737,2336,138.03260484392808,5585,161.89502771858065,17718,366.93459907727424,7532,242.85386552410483,13760,341.7835572405437,5823,175.41379649275024,2567,139.60300856356929]

{"sheet":"ACS_Table_B18105","index":31,"n_rows":152,"n_cols":24,"rows_kept":152,"cut":false,"hidden":true,"merged":[]}
["B18105. SEX BY AGE BY AMBULATORY DIFFICULTY\n\n"]
["Universe:  Civilian non-institutionalized population 5 years and over"]
["Data Set: 2018-2022 American Community Survey 5-Year Estimates"]
[]
[null,null,"New Hampshire",null,"Belknap County",null,"Carroll County",null,"Cheshire County",null,"Coos County",null,"Grafton County",null,"Hillsborough County",null,"Merrimack County",null,"Rockingham County",null,"Strafford County",null,"Sullivan County"]
[null," ","Estimate","Margin of Error","Estimate","Margin of Error","Estimate","Margin of Error","Estimate","Margin of Error","Estimate","Margin of Error","Estimate","Margin of Error","Estimate",null,"Estimate","Margin of Error","Estimate","Margin of Error","Estimate","Margin of Error","Estimate","Margin of Error"]
[null,"Total:",1300317,443,60477,146,48538,72,72448,87,28415,55,86375,80,397297,249,143529,118,298833,184,123420,235,40985,128]
[null,"Male:",648643,624,29836,211,24540,142,35693,142,14523,132,42986,129,199790,263,70832,213,149004,235,60701,309,20738,172]
[null,"5 to 17  years:",99166,301,4479,92,3243,68,5210,108,1916,50,5613,80,32240,72,10969,88,23224,74,9243,218,3029,68]
[null,"With ambulatory difficulty",862,428,0,28,42,60,8,9,15,25,49,44,117,91,181,88,295,387,68,56,87,90]
[null,"With no ambulatory difficulty",98304,509,4479,92,3201,98,5202,108,1901,56,5564,84,32123,120,10788,119,22929,396,9175,219,2942,114]
[null,"18 to 34  years:",152209,442,5658,151,4035,115,8565,110,2759,66,11223,96,49200,169,16936,191,31175,228,18188,203,4470,157]
[null,"With ambulatory difficulty",1505,309,153,83,3,5,51,41,37,33,93,44,395,166,296,125,266,153,69,67,142,101]
[null,"With no ambulatory difficulty",150704,550,5505,174,4032,114,8514,122,2722,76,11130,107,48805,249,16640,214,30909,271,18119,218,4328,194]
[null,"35 to 64  years:",279338,545,13164,163,10038,109,14552,133,6251,124,16943,137,87881,145,30203,289,67388,209,24257,248,8661,133]
[null,"With ambulatory difficulty",13592,1054,920,276,742,250,581,126,672,169,958,209,3510,538,1635,315,2576,470,1304,359,694,257]
[null,"With no ambulatory difficulty",265746,1145,12244,323,9296,270,13971,188,5579,209,15985,229,84371,558,28568,356,64812,518,22953,442,7967,291]
[null,"65 to 74  years:",76558,399,4342,81,4591,132,4741,71,2338,47,5736,126,20037,136,8254,206,17708,126,5802,127,3009,86]
[null,"With ambulatory difficulty",7933,704,528,212,451,144,784,272,303,73,478,157,1980,327,853,161,1518,341,863,256,175,72]
[null,"With no ambulatory difficulty",68625,750,3814,230,4140,202,3957,277,2035,87,5258,126,18057,364,7401,269,16190,340,4939,279,2834,122]
[null,"75  years and Older:",41372,315,2193,107,2633,107,2625,78,1259,76,3471,81,10432,149,4470,149,9509,153,3211,113,1569,23]
[null,"With ambulatory difficulty",9491,701,567,152,521,159,607,125,273,79,570,164,2362,397,1131,209,2171,351,861,217,428,140]
[null,"With no ambulatory difficulty",31881,758,1626,158,2112,201,2018,132,986,90,2901,156,8070,443,3339,179,7338,323,2350,235,1141,143]
[null,"Female:",651674,517,30641,164,23998,132,36755,134,13892,131,43389,126,197507,240,72697,193,149829,145,62719,192,20247,130]
[null,"5 to 17  years:",93745,259,4366,91,2728,56,5023,90,1792,30,5309,53,30608,74,10652,82,22110,52,8392,166,2765,48]
[null,"With ambulatory difficulty",417,172,0,28,6,11,30,36,59,45,14,17,116,76,21,35,139,139,11,17,21,24]
[null,"With no ambulatory difficulty",93328,297,4366,91,2722,59,4993,88,1733,55,5295,55,30492,115,10631,92,21971,149,8381,165,2744,51]
[null,"18 to 34  years:",144142,401,5441,141,3615,61,8652,55,2271,60,10690,131,45653,131,16142,143,29490,131,18495,186,3693,83]
[null,"With ambulatory difficulty",1587,280,91,81,15,19,49,54,44,36,110,83,382,144,293,148,255,116,224,107,124,85]
[null,"With no ambulatory difficulty",142555,466,5350,151,3600,68,8603,67,2227,70,10580,149,45271,190,15849,199,29235,154,18271,218,3569,93]
[null,"35 to 64  years:",278521,431,13424,129,10342,106,14691,86,5988,60,17208,141,85692,119,30760,166,67182,190,24455,204,8779,125]
[null,"With ambulatory difficulty",16073,1162,788,204,813,263,1013,209,685,162,953,219,4911,543,1657,293,3160,603,1693,321,400,147]
[null,"With no ambulatory difficulty",262448,1243,12636,226,9529,290,13678,221,5303,171,16255,246,80781,575,29103,334,64022,656,22762,348,8379,197]
[null,"65 to 74  years:",80579,319,4601,74,4464,48,5020,74,2251,28,5808,113,20958,131,9220,94,18693,130,6528,152,3036,67]
[null,"With ambulatory difficulty",9752,737,474,128,411,154,563,144,411,108,592,160,2661,405,1389,292,1959,331,1047,330,245,103]
[null,"With no ambulatory difficulty",70827,765,4127,144,4053,153,4457,152,1840,109,5216,180,18297,418,7831,302,16734,351,5481,298,2791,122]
[null,"75  years and Older:",54687,416,2809,84,2849,102,3369,67,1590,116,4374,138,14596,214,5923,146,12354,170,4849,136,1974,59]
[null,"With ambulatory difficulty",15051,888,878,187,722,205,925,221,561,130,1185,237,3951,377,1542,266,3265,434,1471,231,551,158]
[null,"With no ambulatory difficulty",39636,896,1931,191,2127,197,2444,233,1029,151,3189,255,10645,423,4381,263,9089,447,3378,246,1423,168]
[]
[]
[{"$f":"A1& \"-Calculated\"","v":"B18105. SEX BY AGE BY AMBULATORY DIFFICULTY\n\n-Calculated"}]
[{"$f":"A2","v":"Universe:  Civilian non-institutionalized population 5 years and over"}]
[{"$f":"A3","v":"Data Set: 2018-2022 American Community Survey 5-Year Estimates"}]
[]
[]
[null,null,"New Hampshire",null,"Belknap County",null,"Carroll County",null,"Cheshire County",null,"Coos County",null,"Grafton County",null,"Hillsborough County",null,"Merrimack County",null,"Rockingham County",null,"Strafford County",null,"Sullivan County"]
[null," ","Estimate","Margin of Error","Estimate","Margin of Error","Estimate","Margin of Error","Estimate","Margin of Error","Estimate","Margin of Error","Estimate","Margin of Error","Estimate",null,"Estimate","Margin of Error","Estimate","Margin of Error","Estimate","Margin of Error","Estimate","Margin of Error"]
[null,"Total:",{"$f":"C7","v":1300317},443,60477,146,48538,72,72448,87,28415,55,86375,80,397297,249,143529,118,298833,184,123420,235,40985,128]
[null,"5 to 17  years:",{"$f":"C25+C9","v":192911},{"$f":"SQRT((D25^2)+(D9^2))","v":397.09192890311937},{"$f":"E25+E9","v":8845},{"$f":"SQRT((F25^2)+(F9^2))","v":129.40247292845683},{"$f":"G25+G9","v":5971},{"$f":"SQRT((H25^2)+(H9^2))","v":88.090862182180956},{"$f":"I25+I9","v":10233},{"$f":"SQRT((J25^2)+(J9^2))","v":140.58449416631979},{"$f":"K25+K9","v":3708},{"$f":"SQRT((L25^2)+(L9^2))","v":58.309518948453004},{"$f":"M25+M9","v":10922},{"$f":"SQRT((N25^2)+(N9^2))","v":95.963534741067136},{"$f":"O25+O9","v":62848},{"$f":"SQRT((P25^2)+(P9^2))","v":103.24727599312246},{"$f":"Q25+Q9","v":21621},{"$f":"SQRT((R25^2)+(R9^2))","v":120.28299963003916},{"$f":"S25+S9","v":45334},{"$f":"SQRT((T25^2)+(T9^2))","v":90.443352436760108},{"$f":"U25+U9","v":17635},{"$f":"SQRT((V25^2)+(V9^2))","v":274.00729917285048},{"$f":"W25+W9","v":5794},{"$f":"SQRT((X25^2)+(X9^2))","v":83.234608186739251}]
[null,"With ambulatory difficulty",1279,461.26781808402808,0,39.597979746446661,48,61,38,37.107950630558946,74,51.478150704935004,63,47.169905660283021,233,118.56221995222593,202,94.70480452437458,434,411.2055447096987,79,58.523499553598128,108,93.145048177560142]
[null,"With no ambulatory difficulty",191632,589.31315953404601,8845,129.40247292845683,5923,114.38968484964018,10195,139.31259813814398,3634,78.492037812761623,10859,100.40418317978589,62615,166.20770138594662,21419,150.41608956491322,44900,423.10400612615331,17556,274.20065645435642,5686,124.88794977899188]
[null,"18 to 34  years:",296351,596.79560990342418,11099,206.59622455408038,7650,130.17680284904833,17217,122.98373876248843,5030,89.196412483911033,21913,162.40997506310995,94853,213.82703290276467,33078,238.60008382228202,60665,262.95436866498341,36683,275.32707821788978,8163,177.58941409892651]
[null,"With ambulatory difficulty",3092,416.99040756353139,244,115.97413504743201,18,19.646882704388499,100,67.801179930735714,81,48.836461788299118,203,93.941471140279674,777,219.75440837443966,589,193.72403051764127,521,192.00260414900626,293,126.24579200908045,266,132.0075755401939]
[null,"With no ambulatory difficulty",293259,720.87169454764967,10855,230.38446128157167,7632,132.74034804836094,17117,139.18692467326088,4949,103.32473082471591,21710,183.43936327844142,94076,313.21079164039031,32489,292.22765098463901,60144,311.70017645166644,36390,308.29855659733471,7897,215.13948963405113]
[null,"35 to 64  years:",557859,694.82803627948113,26588,207.87015177749788,20380,152.04275714416653,29243,158.38244852255568,12239,137.7534028617805,34151,196.59603251337501,173573,187.57931655702342,60963,333.28216273902206,134570,282.45530619905162,48712,321.12302938282079,17440,182.52123164169149]
[null,"With ambulatory difficulty",29665,1568.8084650460044,1708,343.20839150580218,1555,362.86223281019477,1594,244.04302899283971,1357,234.10467744152402,1911,302.72429700967183,8421,764.39060695432408,3292,430.20227800419656,5736,764.53188291921481,2997,481.58280700207729,1094,296.07093744574121]
[null,"With no ambulatory difficulty",528194,1689.9923076748012,24880,394.21440866614705,18825,396.23225512317896,27649,290.14651471282571,10882,270.04073766748604,32240,336.09076155110245,165152,801.24216064807774,57671,488.15161579165135,128834,835.85883975704894,45715,562.55488621111454,16346,351.41143976825799]
[null,"65 to 74  years:",157137,510.84439901010956,8943,109.71326264403953,9055,140.45639892863551,9761,102.55242561733974,4589,54.708317466359723,11544,169.24833824885843,40995,188.83061192507955,17474,226.43321311150447,36401,181.04143172213369,12330,198.07321878537743,6045,109.01834707974616]
[null,"With ambulatory difficulty",17685,1019.2080258710682,1002,247.64490707462571,862,210.83642948978243,1347,307.76614498674149,714,130.3572015655445,1070,224.16288720481811,4641,520.53241973963543,2242,333.44414824674914,3477,475.22836615673521,1910,417.65536031517661,420,125.67020331009256]
[null,"With no ambulatory difficulty",139452,1071.3192801401458,7941,271.35954009394987,8193,253.40284134160768,8414,315.96360549911441,3875,139.46325680981354,10474,219.71800108320664,36354,554.27430032430698,15232,404.43170004340658,32924,488.67269209563983,10420,408.22175346250231,5625,172.5340546095176]
[null,"75  years and Older:",96059,521.80551932688491,5002,136.03308421115798,5482,147.82760229402356,5994,102.82509421342633,2849,138.67948658687772,7845,160.01562423713506,25028,260.76234390724437,10393,208.60728654579637,21863,228.71160880025309,8060,176.81911661356077,3543,63.324560795950255]
[null,"With ambulatory difficulty",24542,1131.3465428417589,1445,240.98340191805741,1243,259.43399931389104,1532,253.90155572583637,834,152.12166183683374,1755,288.20999288713085,6313,547.48333307964731,2673,338.28538248053223,5436,558.17291227719033,2332,316.93847983480958,979,211.10187114282053]
[null,"With no ambulatory difficulty",71517,1173.618336598402,3557,247.88101984621574,4239,281.44271175498574,4462,267.79283037452666,2015,175.78680269007683,6090,298.93310288424067,18715,612.51775484470647,7720,318.13519138881821,16427,551.48708053770395,5728,340.20728975141026,2564,220.61958208645035]
[]
[]
[]
[]
[]
[]
[]
[]
[]
[]
[]
[]
[]
[]
[]
[]
[]
[]
[]
[]
[]
[]
[]
[]
[]
[]
[]
[]
[]
[]
[]
[]
[]
[]
[]
["B18105. SEX BY AGE BY AMBULATORY DIFFICULTY\n\n-Calculated"]
["Universe:  Civilian non-institutionalized population 5 years and over"]
["Data Set: 2013-2017 American Community Survey 5-Year Estimates"]
[]
[]
[null,null,"New Hampshire",null,"Belknap County",null,"Carroll County",null,"Cheshire County",null,"Coos County",null,"Grafton County",null,"Hillsborough County",null,"Merrimack County",null,"Rockingham County",null,"Strafford County",null,"Sullivan County"]
[null," ","Estimate","Margin of Error","Estimate","Margin of Error","Estimate","Margin of Error","Estimate","Margin of Error","Estimate","Margin of Error","Estimate","Margin of Error","Estimate",null,"Estimate","Margin of Error","Estimate","Margin of Error","Estimate","Margin of Error","Estimate","Margin of Error"]
[null,"Total:",1250643,301,56939,249,45246,131,71827,212,28805,335,84580,218,380233,384,137412,408,286217,344,118865,307,40519,157]
[null,"5 to 17  years:",199190,386.16058835670947,8868,134.6291201783626,6065,87.863530545955186,10388,157.68639763784319,4087,61.032778078668514,11303,109.04127658827184,64685,106.21675950620975,22127,121.03718436910205,47286,92.633687176966021,18058,151.6047492659778,6323,95.524865872714003]
[null,"With ambulatory difficulty",1185,257.6082296822056,71,93.005376188691372,28,40.80441152620633,8,28.792360097775937,29,26.40075756488817,108,61.294371682887821,380,141.87318280774559,131,78.917678627795439,216,98.2344135219425,124,93.048374515624943,90,79.227520471109031]
[null,"With no ambulatory difficulty",198005,474.82733703947588,8797,162.75441622272496,6037,90.906545418908095,10380,156.97770542341354,4058,58,11195,123.7457069962429,64305,173.63179432350518,21996,127.6401190848708,47070,156.28499608087785,17934,185.32134253776601,6233,122.96747537458837]
[null,"18 to 34  years:",280385,521.21876405210128,10491,155.12897859523216,7058,116.36150566231085,18238,156.40012787718558,5038,167.86303941010956,22426,131.82184947875675,87623,184.45866745696716,29978,230.41267326256167,56437,192.16919628285902,35547,250.47954008261831,7549,127.34991166074674]
[null,"With ambulatory difficulty",3174,422.96335538672849,132,75.432088662584434,237,129.634100452003,222,125.39936203984452,154,70.007142492748557,326,128.70120434556935,689,161.92899678562824,431,141.42135623730951,612,193.50710581268069,306,131.10301293257908,65,37.336309405188942]
[null,"With no ambulatory difficulty",277211,711.90167860456688,10359,169.11830178901394,6821,168.3864602632884,18016,206.11889772653063,4884,185.52088831180168,22100,193.50710581268069,86934,250.51147678300092,29547,271.22131184698594,55825,267.20217064986576,35241,280.2730811191114,7484,134.82581355215328]
[null,"35 to 64  years:",560233,605.33048824588377,25935,181.37254478007415,20473,140.46351839534705,29963,137.44089638822936,13075,251.10356429170812,34702,196.32880583347927,172245,177.6091213873882,62029,193.49935400408964,135105,187.66459442313567,48172,253.33771926027913,18534,130.81666560496029]
[null,"With ambulatory difficulty",32726,1269.6208095333031,1679,253.17977802344325,1431,265.04716561397146,1677,282.07268566807386,1390,184.91078930121952,2464,318.27660925679095,9617,698.73743280290921,4069,401.69889220658797,5895,493.25855289087485,3208,435.08389995493974,1296,233.21234958723778]
[null,"With no ambulatory difficulty",527507,1348.5685002994842,24256,316.79646462673793,19042,271.49401466699038,28286,321.06852851065923,11685,290.39628096792148,32238,357.08962460424414,162628,725.49155749739771,57960,439.1821945388952,129210,518.71475783902656,44964,492.1757816065313,17238,250.2258979402412]
[null,"65 to 74  years:",128133,372.72644124075771,7345,86.313382508160345,7184,76.400261779656233,7839,106.55045753069294,3916,56.0357029044876,9565,98.488578017961046,33693,200.5617112013158,13973,100.65783625729296,29445,168.58232410309213,10195,149.33519344079613,4978,35.510561809129406]
[null,"With ambulatory difficulty",17100,793.18156811665767,889,192.60841103129428,859,192.4162155328911,1215,176.78235206037959,614,100.44899203078147,1218,190,4589,446.90043633901274,1814,229.95651762887695,3575,357.64367742209566,1660,265.00188678573591,667,190.68822721919673]
[null,"With no ambulatory difficulty",111033,847.42728301607099,6456,201.81674856165927,6325,205.7692882818036,6624,201.67548190099856,3302,114.76933388322858,8347,214.14948050368929,29104,454.03964584604284,12159,251.12745767836699,25870,361.58124951385406,8535,295.57401780264786,4311,195.41238445912276]
[null,"75  years and Older:",82702,470.6644239795483,4300,167.10774967068403,4466,114.61239025515522,5399,115.43396380615195,2689,114.9086593777858,6584,166.20770138594662,21987,300.20326447259032,9305,259.95576546789647,17944,285.88284313683465,6893,147.02720836634285,3135,92.962357973536797]
[null,"With ambulatory difficulty",22747,783.66127886989545,1097,168.67127793432999,1109,223.55759884199867,1515,224.86440358580546,853,113.89907813498755,1851,237.26145915424192,6212,415.60076997041284,2783,284.03696942475642,4642,407.40397641652936,1888,249.89997999199599,797,166.33099530754933]
[null,"With no ambulatory difficulty",59955,867.4266539598608,3203,212.24985276791125,3357,236.59670327373541,3884,249.89797918350601,1836,124.08464852672147,4733,285.75863941445408,15775,450.00555552126241,6522,300.72745135753735,13302,476.94129617805169,5005,300.64098190366531,2338,175.82377541163197]
[]
[]
[]
[]
[]
[]
[]
["B18105. SEX BY AGE BY AMBULATORY DIFFICULTY\n\n-Calculated"]
["Universe:  Civilian non-institutionalized population 5 years and over"]
["Data Set: 2008-2012 American Community Survey 5-YearEstimates"]
[]
[]
[null,null,"New Hampshire",null,"Belknap County",null,"Carroll County",null,"Cheshire County",null,"Coos County",null,"Grafton County",null,"Hillsborough County",null,"Merrimack County",null,"Rockingham County",null,"Strafford County",null,"Sullivan County"]
[null," ","Estimate","Margin of Error","Estimate","Margin of Error","Estimate","Margin of Error","Estimate","Margin of Error","Estimate","Margin of Error","Estimate","Margin of Error","Estimate",null,"Estimate","Margin of Error","Estimate","Margin of Error","Estimate","Margin of Error","Estimate","Margin of Error"]
[null,"Total:",1233290,387,56459,229,45410,143,72649,222,30401,196,84311,156,373592,355,135747,382,278663,302,115133,367,40925,128]
[null,"5 to 17  years:",215970,400.13622680282276,9538,142.52368224263643,6833,126.58988901172162,11358,124.27791436936813,4776,96.020831073262428,12191,111.07204868912791,69848,107.01868995647442,24111,175.72706109191037,51998,74.249579123386283,18472,169.91762710207556,6845,82.462112512353215]
[null,"With ambulatory difficullty",1260,277.62204523416364,32,44.204072210600685,19,18.973665961010276,25,23.769728648009426,34,30.413812651491099,91,65.145989899609319,439,176.24131184259835,162,82.565125809872058,344,150.81445554057476,58,59.941638282582836,56,43.908996800200299]
[null,"With no ambulatory difficullty",214710,477.74574828040073,9506,141.76741515595182,6814,125.1758762701504,11333,127.06297651164952,4742,100.20977996183805,12100,127.01574705523721,69409,214.11212016137713,23949,182.45273360517237,51654,165.55663683464942,18414,177.48521065147935,6789,93.23625904121208]
[null,"18 to 34  years:",266142,523.48925490405247,10215,151.42654985173505,6826,166.88319268278636,18197,194.11594473406868,5022,98.792712281827747,22128,137.2953021774598,83468,173.18487231857176,28504,242.68704126920332,50827,227.43130831088317,33491,251.44581921360316,7464,108.85311203635843]
[null,"With ambulatory difficullty",3601,440.55646630142655,295,150.47923444781344,178,95.801878895979911,237,94.244363226667303,120,66.850579653433073,197,98.2344135219425,942,251.75384803414624,589,152.31546211727817,532,182.91254740995763,449,155.56670594957006,62,43.185645763378368]
[null,"With no ambulatory difficullty",262541,674.58579884251935,9920,207.62466134830902,6648,178.13758727455584,17960,208.61447696648477,4902,116.29703349613007,21931,162.78820596099706,82526,291.45153971114991,27915,273.87953556262653,50295,290.94501198680138,33042,271.02951868754076,7402,113.56936206565572]
[null,"35 to 64  years:",578086,579.13124591926487,27020,206.46549348498891,22098,157.25775020646836,32059,182.8332573685652,14576,130.38404810405297,36474,168.7601848778319,174401,204.08331631958552,64034,274.61427493850351,138866,258.37956575549856,48911,222.50393254951697,19647,94.047860156411858]
[null,"With ambulatory difficullty",31539,1058.624107037054,1672,246.07722365143832,1766,273.91422014930151,1809,258.42793966597344,1245,168.34488409215172,2304,275.28893911670332,8567,556.70458952661784,3795,369.06638969161088,5942,482.95859035739284,2937,334.92835054679978,1502,222.55111772354684]
[null,"With no ambulatory difficullty",546547,1132.3484446052814,25348,327.37134877688976,20332,301.97516454172188,30250,316.48380685273617,13331,198.49433241279209,34170,330.97431924546652,165834,605.29827358088505,60239,420.36412787011216,132924,534.64006583869116,45974,403.07319434564238,18145,237.00210969525145]
[null,"65 to 74  years:",97464,285.60287113402762,5493,80.603970125546539,5569,91.923881554251182,6138,63.031738037277698,3234,45.343136195018538,7374,65.80273550544841,25819,141.22676800097071,10536,113.70136322841516,21492,152.97058540778355,7811,101.82337649086284,3998,40]
[null,"With ambulatory difficullty",12140,609.44318849257809,540,131.55227098001768,610,154.31137352768266,947,176.11927776367924,520,94.403389769647575,1074,173.24260445975753,3051,325.65165437933831,1163,188.09040379562165,2281,260.20376630633154,1356,207.7137453323684,598,179.8054504179448]
[null,"With no ambulatory difficullty",85324,676.6749588982882,4953,150.14659503298768,4959,180.81205712009361,5191,184.43969204051496,2714,102.61578825892242,6300,181.06904760339356,22768,341.60357140990197,9373,215.8077848456816,19211,306.52895458667524,6455,229.21169254643183,3400,180.47991578012218]
[null,"75  years and Older:",75628,368.32187010819763,4193,116.93160394008115,4084,84.219950130595535,4897,130.17296186228538,2793,103.46496991735899,6144,115.52056094046635,20056,251.78760890877851,8562,188.44893207444821,15480,202.19297712828703,6448,125.7179382586272,2971,91.263355187062899]
[null,"With ambulatory difficullty",20711,756.98678984510684,1090,202.47468977627796,921,174.94284781036347,1276,196.91876497682998,975,137.2953021774598,1445,183.99184764548673,5610,361.58124951385406,2508,276.79956647364895,4038,370.16347739883793,1993,233.95084953895764,855,116.21101496846157]
[null,"With no ambulatory difficullty",54917,775.97744812591043,3103,208.19702207284331,3163,165.71059109181888,3621,223.70739817896055,1818,147.80054127099805,4699,192.87560758167425,14446,411.36358613761621,6054,293.62561196189955,11442,388.81486597093993,4455,245.40986125255847,2116,135]

{"sheet":"ACS_Table_B18106","index":32,"n_rows":152,"n_cols":24,"rows_kept":152,"cut":false,"hidden":true,"merged":[]}
["B18106. SEX BY AGE BY SELF-CARE DIFFICULTY\n\n\n\n"]
["Universe:  Civilian non-institutionalized population 5 years and over"]
["Data Set: 2018-2022 American Community Survey 5-Year Estimates"]
[]
[null,null,"New Hampshire",null,"Belknap County",null,"Carroll County",null,"Cheshire County",null,"Coos County",null,"Grafton County",null,"Hillsborough County",null,"Merrimack County",null,"Rockingham County",null,"Strafford County",null,"Sullivan County"]
[null," ","Estimate","Margin of Error","Estimate","Margin of Error","Estimate","Margin of Error","Estimate","Margin of Error","Estimate","Margin of Error","Estimate","Margin of Error","Estimate",null,"Estimate","Margin of Error","Estimate","Margin of Error","Estimate","Margin of Error","Estimate","Margin of Error"]
[null,"Total:",1300317,443,60477,146,48538,72,72448,87,28415,55,86375,80,397297,249,143529,118,298833,184,123420,235,40985,128]
[null,"Male:",648643,624,29836,211,24540,142,35693,142,14523,132,42986,129,199790,263,70832,213,149004,235,60701,309,20738,172]
[null,"5 to 17  years:",99166,301,4479,92,3243,68,5210,108,1916,50,5613,80,32240,72,10969,88,23224,74,9243,218,3029,68]
[null,"With self care difficulty",1084,214,34,56,55,64,53,47,36,32,95,66,366,123,167,68,116,77,139,75,23,36]
[null,"With no self care difficulty",98082,379,4445,103,3188,104,5157,120,1880,62,5518,105,31874,143,10802,118,23108,105,9104,215,3006,81]
[null,"18 to 34  years:",152209,442,5658,151,4035,115,8565,110,2759,66,11223,96,49200,169,16936,191,31175,228,18188,203,4470,157]
[null,"With self care difficulty",1198,269,34,42,25,51,43,31,8,14,127,65,416,171,215,135,150,102,50,61,130,95]
[null,"With no self care difficulty",151011,524,5624,162,4010,124,8522,120,2751,68,11096,113,48784,247,16721,232,31025,259,18138,216,4340,190]
[null,"35 to 64  years:",279338,545,13164,163,10038,109,14552,133,6251,124,16943,137,87881,145,30203,289,67388,209,24257,248,8661,133]
[null,"With self care difficulty",4863,656,332,155,245,146,221,83,183,69,508,194,1033,246,538,164,946,258,384,219,473,274]
[null,"With no self care difficulty",274475,819,12832,214,9793,183,14331,149,6068,143,16435,213,86848,296,29665,306,66442,341,23873,337,8188,308]
[null,"65 to 74  years:",76558,399,4342,81,4591,132,4741,71,2338,47,5736,126,20037,136,8254,206,17708,126,5802,127,3009,86]
[null,"With self care difficulty",2230,401,62,50,137,93,247,235,87,42,116,50,633,182,343,143,435,205,111,69,59,45]
[null,"With no self care difficulty",74328,553,4280,97,4454,166,4494,242,2251,62,5620,145,19404,227,7911,270,17273,243,5691,129,2950,103]
[null,"75  years and Older:",41372,315,2193,107,2633,107,2625,78,1259,76,3471,81,10432,149,4470,149,9509,153,3211,113,1569,23]
[null,"With self care difficulty",3477,448,158,67,140,70,194,79,81,35,279,119,1043,229,320,127,896,264,277,171,89,51]
[null,"With no self care difficulty",37895,568,2035,113,2493,132,2431,92,1178,79,3192,135,9389,254,4150,198,8613,269,2934,202,1480,56]
[null,"Female:",651674,517,30641,164,23998,132,36755,134,13892,131,43389,126,197507,240,72697,193,149829,145,62719,192,20247,130]
[null,"5 to 17  years:",93745,259,4366,91,2728,56,5023,90,1792,30,5309,53,30608,74,10652,82,22110,52,8392,166,2765,48]
[null,"With self care difficulty",653,208,14,23,2,3,32,35,43,37,35,36,222,95,59,64,168,141,51,76,27,36]
[null,"With no self care difficulty",93092,319,4352,87,2726,55,4991,93,1749,47,5274,66,30386,129,10593,99,21942,153,8341,170,2738,52]
[null,"18 to 34  years:",144142,401,5441,141,3615,61,8652,55,2271,60,10690,131,45653,131,16142,143,29490,131,18495,186,3693,83]
[null,"With self care difficulty",1054,265,36,43,40,47,78,68,33,34,115,112,289,143,80,58,270,160,86,73,27,37]
[null,"With no self care difficulty",143088,421,5405,135,3575,71,8574,86,2238,72,10575,173,45364,192,16062,147,29220,201,18409,199,3666,87]
[null,"35 to 64  years:",278521,431,13424,129,10342,106,14691,86,5988,60,17208,141,85692,119,30760,166,67182,190,24455,204,8779,125]
[null,"With self care difficulty",4739,540,255,112,154,112,389,154,125,64,377,135,1243,297,446,169,1002,299,703,244,45,83]
[null,"With no self care difficulty",273782,682,13169,161,10188,156,14302,183,5863,90,16831,210,84449,332,30314,219,66180,361,23752,288,8734,145]
[null,"65 to 74  years:",80579,319,4601,74,4464,48,5020,74,2251,28,5808,113,20958,131,9220,94,18693,130,6528,152,3036,67]
[null,"With self care difficulty",2554,558,63,37,80,65,173,96,73,43,254,166,724,394,548,271,293,113,250,174,96,80]
[null,"With no self care difficulty",78025,621,4538,77,4384,79,4847,115,2178,53,5554,186,20234,422,8672,279,18400,175,6278,203,2940,102]
[null,"75  years and Older:",54687,416,2809,84,2849,102,3369,67,1590,116,4374,138,14596,214,5923,146,12354,170,4849,136,1974,59]
[null,"With self care difficulty",5251,530,271,155,295,117,261,101,116,44,539,179,1470,239,408,136,1073,198,517,155,301,146]
[null,"With no self care difficulty",49436,598,2538,165,2554,135,3108,122,1474,116,3835,198,13126,297,5515,185,11281,263,4332,207,1673,163]
[]
[]
[{"$f":"A1& \"-Calculated\"","v":"B18106. SEX BY AGE BY SELF-CARE DIFFICULTY\n\n\n\n-Calculated"}]
[{"$f":"A2","v":"Universe:  Civilian non-institutionalized population 5 years and over"}]
[{"$f":"A3","v":"Data Set: 2018-2022 American Community Survey 5-Year Estimates"}]
[]
[]
[null,null,"New Hampshire",null,"Belknap County",null,"Carroll County",null,"Cheshire County",null,"Coos County",null,"Grafton County",null,"Hillsborough County",null,"Merrimack County",null,"Rockingham County",null,"Strafford County",null,"Sullivan County"]
[null," ","Estimate","Margin of Error","Estimate","Margin of Error","Estimate","Margin of Error","Estimate","Margin of Error","Estimate","Margin of Error","Estimate","Margin of Error","Estimate",null,"Estimate","Margin of Error","Estimate","Margin of Error","Estimate","Margin of Error","Estimate","Margin of Error"]
[null,"Total:",{"$f":"C7","v":1300317},443,60477,146,48538,72,72448,87,28415,55,86375,80,397297,249,143529,118,298833,184,123420,235,40985,128]
[null,"5 to 17  years:",{"$f":"C25+C9","v":192911},{"$f":"SQRT((D25^2)+(D9^2))","v":397.09192890311937},{"$f":"E25+E9","v":8845},{"$f":"SQRT((F25^2)+(F9^2))","v":129.40247292845683},{"$f":"G25+G9","v":5971},{"$f":"SQRT((H25^2)+(H9^2))","v":88.090862182180956},{"$f":"I25+I9","v":10233},{"$f":"SQRT((J25^2)+(J9^2))","v":140.58449416631979},{"$f":"K25+K9","v":3708},{"$f":"SQRT((L25^2)+(L9^2))","v":58.309518948453004},{"$f":"M25+M9","v":10922},{"$f":"SQRT((N25^2)+(N9^2))","v":95.963534741067136},{"$f":"O25+O9","v":62848},{"$f":"SQRT((P25^2)+(P9^2))","v":103.24727599312246},{"$f":"Q25+Q9","v":21621},{"$f":"SQRT((R25^2)+(R9^2))","v":120.28299963003916},{"$f":"S25+S9","v":45334},{"$f":"SQRT((T25^2)+(T9^2))","v":90.443352436760108},{"$f":"U25+U9","v":17635},{"$f":"SQRT((V25^2)+(V9^2))","v":274.00729917285048},{"$f":"W25+W9","v":5794},{"$f":"SQRT((X25^2)+(X9^2))","v":83.234608186739251}]
[null,"With self care difficulty",1737,298.42922108935647,48,60.539243470661241,57,64.070273918565391,85,58.600341295934449,79,48.918299234540036,130,75.179784516850006,588,155.41557193537591,226,93.380940239430018,284,160.65490966665163,190,106.77546534667971,50,50.911688245431421]
[null,"With no self care difficulty",191174,495.38066171379762,8797,134.82581355215328,5914,117.64777940955791,10148,151.81897114655993,3629,77.801028270839709,10792,124.02015965156633,62260,192.58764238652489,21395,154.02921800749363,45050,185.56400513030539,17445,274.08940147331492,5744,96.254870006665115]
[null,"18 to 34  years:",296351,596.79560990342418,11099,206.59622455408038,7650,130.17680284904833,17217,122.98373876248843,5030,89.196412483911033,21913,162.40997506310995,94853,213.82703290276467,33078,238.60008382228202,60665,262.95436866498341,36683,275.32707821788978,8163,177.58941409892651]
[null,"With self care difficulty",2252,377.60561436504094,70,60.108235708594876,65,69.354163537598808,121,74.732857566133518,41,36.76955262170047,242,129.49517365523704,705,222.91253890259293,295,146.93195704134618,420,189.74720024284943,136,95.131487952202235,157,101.95096860746347]
[null,"With no self care difficulty",294099,672.17334073883057,11029,210.87674124947966,7585,142.88806808127822,17096,147.63468427168462,4989,99.03534722511958,21671,206.63494380186523,94148,312.84660778087397,32783,274.65068723744349,60245,327.84447532328494,36547,293.69542046140248,8006,208.97128989409049]
[null,"35 to 64  years:",557859,694.82803627948113,26588,207.87015177749788,20380,152.04275714416653,29243,158.38244852255568,12239,137.7534028617805,34151,196.59603251337501,173573,187.57931655702342,60963,333.28216273902206,134570,282.45530619905162,48712,321.12302938282079,17440,182.52123164169149]
[null,"With self care difficulty",9602,849.66817052305782,587,191.23022773609824,399,184.01086924418351,610,174.94284781036347,308,94.111635837445732,885,236.34931774811622,2276,385.64880396547323,984,235.49309968659378,1948,394.92404332985348,1087,327.86735122607132,518,286.29530209208815]
[null,"With no self care difficulty",548257,1065.7790577788626,26001,267.8002987302292,19981,240.46829312822095,28633,235.98728779321991,11931,168.96449331146471,33266,299.11369075988483,171297,444.79208626053588,59979,376.29376821839611,132622,496.59037445363356,47625,443.29786825564594,16922,340.42473470651333]
[null,"65 to 74  years:",157137,510.84439901010956,8943,109.71326264403953,9055,140.45639892863551,9761,102.55242561733974,4589,54.708317466359723,11544,169.24833824885843,40995,188.83061192507955,17474,226.43321311150447,36401,181.04143172213369,12330,198.07321878537743,6045,109.01834707974616]
[null,"With self care difficulty",4784,687.14263439259832,125,62.201286160335947,217,113.46365056704283,420,253.85231927244627,160,60.108235708594876,370,173.36666346215469,1357,434.00460827046527,891,306.41475160311717,728,234.081182498722,361,187.18172987767795,155,91.787798753429101]
[null,"With no self care difficulty",152353,831.53472567295705,8818,123.84667940643382,8838,183.8396040030548,9341,267.93469353557032,4429,81.565924257621205,11174,235.84104816592043,39638,479.17950707433221,16583,388.25378298221386,35673,299.45617375502547,11969,240.52026941611388,5890,144.95861478366851]
[null,"75  years and Older:",96059,521.80551932688491,5002,136.03308421115798,5482,147.82760229402356,5994,102.82509421342633,2849,138.67948658687772,7845,160.01562423713506,25028,260.76234390724437,10393,208.60728654579637,21863,228.71160880025309,8060,176.81911661356077,3543,63.324560795950255]
[null,"With self care difficulty",8728,693.97694486200328,429,168.86088949191284,435,136.34148304899725,455,128.22636234409833,197,56.222771187482387,818,214.94650497274898,2513,331.00151057057127,728,186.07794065928394,1969,330,794,230.79428069170172,390,154.65122049308243]
[null,"With no self care difficulty",87331,824.75935884353567,4573,199.98499943745782,5047,188.80942773071476,5539,152.80052355931247,2652,140.34600101178515,7027,239.64348520249825,22515,390.80046059338264,9665,270.97785887411538,19894,376.20473149602998,7266,289.22828354087363,3153,172.35138525698017]
[]
[]
[]
[]
[]
[]
[]
[]
[]
[]
[]
[]
[]
[]
[]
[]
[]
[]
[]
[]
[]
[]
[]
[]
[]
[]
[]
[]
[]
[]
[]
[]
[]
[]
[]
["B18106. SEX BY AGE BY SELF-CARE DIFFICULTY\n\n\n\n-Calculated"]
["Universe:  Civilian non-institutionalized population 5 years and over"]
["Data Set: 2013-2017 American Community Survey 5-Year Estimates"]
[]
[]
[null,null,"New Hampshire",null,"Belknap County",null,"Carroll County",null,"Cheshire County",null,"Coos County",null,"Grafton County",null,"Hillsborough County",null,"Merrimack County",null,"Rockingham County",null,"Strafford County",null,"Sullivan County"]
[null," ","Estimate","Margin of Error","Estimate","Margin of Error","Estimate","Margin of Error","Estimate","Margin of Error","Estimate","Margin of Error","Estimate","Margin of Error","Estimate",null,"Estimate","Margin of Error","Estimate","Margin of Error","Estimate","Margin of Error","Estimate","Margin of Error"]
[null,"Total:",1250643,301,56939,249,45246,131,71827,212,28805,335,84580,218,380233,384,137412,408,286217,344,118865,307,40519,157]
[null,"5 to 17  years:",199190,386.16058835670947,8868,134.6291201783626,6065,87.863530545955186,10388,157.68639763784319,4087,61.032778078668514,11303,109.04127658827184,64685,106.21675950620975,22127,121.03718436910205,47286,92.633687176966021,18058,151.6047492659778,6323,95.524865872714003]
[null,"With self care difficulty",2120,302.27470949452584,204,117.38824472663352,58,36.359317925395686,48,41.868842830916641,37,25.96150997149434,121,75.006666370396701,776,186.06719216455113,188,84.599054368237475,493,149.21461054467824,106,66.219332524573218,89,67.416615162732697]
[null,"With no self care difficulty",197070,516.37389554469155,8664,182.4828759089466,6007,86.214847909162373,10340,158.49290204927161,4050,60.802960454241045,11182,128.03515142334936,63909,215.72436116489024,21939,151.82226450688975,46793,188.83061192507955,17952,168.35973390332975,6234,114.21471008587291]
[null,"18 to 34  years:",280385,521.21876405210128,10491,155.12897859523216,7058,116.36150566231085,18238,156.40012787718558,5038,167.86303941010956,22426,131.82184947875675,87623,184.45866745696716,29978,230.41267326256167,56437,192.16919628285902,35547,250.47954008261831,7549,127.34991166074674]
[null,"With self care difficulty",2335,392.97964323867973,147,117.5457357797381,85,89.10667763978185,149,110.85576214162258,121,68.007352543677214,182,100.72239075796404,423,121.0826164236634,322,117.2006825918689,516,145,331,137.7679207943562,59,57.870545184921149]
[null,"With no self care difficulty",278050,695,10344,198.80643852752857,6973,139.61733416735902,18089,195.72685048301369,4917,188.80942773071476,22244,173.4156855650607,87200,223.60008944542039,29656,264.3671689147501,55921,255.06861821870601,35216,285.50656735003486,7490,142.27438279606065]
[null,"35 to 64  years:",560233,605.33048824588377,25935,181.37254478007415,20473,140.46351839534705,29963,137.44089638822936,13075,251.10356429170812,34702,196.32880583347927,172245,177.6091213873882,62029,193.49935400408964,135105,187.66459442313567,48172,253.33771926027913,18534,130.81666560496029]
[null,"With self care difficulty",10193,699.67206604237106,453,144.00347218036097,556,157.8923684032892,504,144.42298985964803,377,102.61578825892242,875,193.19679086361657,2922,373.39523296367884,1036,178.89941307897016,1988,291.24731758421399,1004,245.06733768497179,478,166.88319268278636]
[null,"With no self care difficulty",550040,859.7261191798234,25482,225,19917,196.468827043885,29459,192.37983262286096,12698,262.77366686941826,33827,258.10269274069964,169323,388.74284559333051,60993,266.58769664033633,133117,315.38230768386484,47168,343.06996371002811,18056,201.71762441591463]
[null,"65 to 74  years:",128133,372.72644124075771,7345,86.313382508160345,7184,76.400261779656233,7839,106.55045753069294,3916,56.0357029044876,9565,98.488578017961046,33693,200.5617112013158,13973,100.65783625729296,29445,168.58232410309213,10195,149.33519344079613,4978,35.510561809129406]
[null,"With self care difficulty",4194,372.59227045122663,221,112.27199116431488,143,68.600291544569984,319,103.00485425454472,138,43.908996800200299,279,87.114866699088736,1308,211.43556938225885,532,111.60645142642964,943,199.44924166313595,186,82.807004534640669,125,100.43903623591775]
[null,"With no self care difficulty",123939,513.36731489256306,7124,134.13426109685773,7041,104.62313319720452,7520,144.77914214416384,3778,74.431176263713581,9286,120.9297316626478,32385,286.38610301479366,13441,154.26276284314372,28502,234.05341270744162,10009,162.65915283192643,4853,113.50770898930169]
[null,"75  years and Older:",82702,470.6644239795483,4300,167.10774967068403,4466,114.61239025515522,5399,115.43396380615195,2689,114.9086593777858,6584,166.20770138594662,21987,300.20326447259032,9305,259.95576546789647,17944,285.88284313683465,6893,147.02720836634285,3135,92.962357973536797]
[null,"With self care difficulty",7630,610.55057120602225,295,106.88779163215975,227,118.00423721205946,611,164.62381358722072,229,66.400301204136113,599,167.2423391369542,2244,321.20398503131929,924,186.14241859393576,1638,311.77074910902081,592,168.21712160181556,271,134.31678971744373]
[null,"With no self care difficulty",75072,723.90123635755731,4005,186.81006396872735,4239,157.84169284444462,4788,214.26385602802915,2460,113.718951806636,5985,221.23742902140225,19743,403.7189616552584,8381,290.12583476829496,16306,378.08200168746464,6301,236.83960817397076,2864,152.22680447279973]
[]
[]
[]
[]
[]
[]
[]
["B18106. SEX BY AGE BY SELF-CARE DIFFICULTY\n\n\n\n-Calculated"]
["Universe:  Civilian non-institutionalized population 5 years and over"]
["Data Set: 2008-2012 American Community Survey 5-YearEstimates"]
[]
[]
[null,null,"New Hampshire",null,"Belknap County",null,"Carroll County",null,"Cheshire County",null,"Coos County",null,"Grafton County",null,"Hillsborough County",null,"Merrimack County",null,"Rockingham County",null,"Strafford County",null,"Sullivan County"]
[null," ","Estimate","Margin of Error","Estimate","Margin of Error","Estimate","Margin of Error","Estimate","Margin of Error","Estimate","Margin of Error","Estimate","Margin of Error","Estimate",null,"Estimate","Margin of Error","Estimate","Margin of Error","Estimate","Margin of Error","Estimate","Margin of Error"]
[null,"Total:",1233290,387,56459,229,45410,143,72649,222,30401,196,84311,156,373592,355,135747,382,278663,302,115133,367,40925,128]
[null,"5 to 17  years:",215970,400.13622680282276,9538,142.52368224263643,6833,126.58988901172162,11358,124.27791436936813,4776,96.020831073262428,12191,111.07204868912791,69848,107.01868995647442,24111,175.72706109191037,51998,74.249579123386283,18472,169.91762710207556,6845,82.462112512353215]
[null,"With self care difficullty",1969,330.69169932128625,50,42.201895692018383,54,51.884487084291386,48,36.878177829171548,41,40.521599178709621,112,50.606323715519977,593,185.53975315279473,250,95.078914592037705,637,200.9975124224178,136,78.262379212492633,48,42.579337712087536]
[null,"With no self care difficullty",214001,514.4706016868214,9488,144.58907289280197,6779,119.60351165413162,11310,134.84806264830058,4735,112.6809655620682,12079,126.15070352558483,69255,224.18073066166949,23861,191.31387822110554,51361,209.30360723121808,18336,180.34688796871433,6797,95.131487952202235]
[null,"18 to 34  years:",266142,523.48925490405247,10215,151.42654985173505,6826,166.88319268278636,18197,194.11594473406868,5022,98.792712281827747,22128,137.2953021774598,83468,173.18487231857176,28504,242.68704126920332,50827,227.43130831088317,33491,251.44581921360316,7464,108.85311203635843]
[null,"With self care difficullty",2081,330.65087327875,260,140.76931483814221,35,31.11269837220809,103,65.459911396212561,54,35.805027579936315,181,96.005208192055917,529,151.02979838429235,344,135.51752654177244,350,149.56269588369955,205,104.62313319720452,20,21.633307652783937]
[null,"With no self care difficullty",264061,602.44584818886415,9955,200.87807247183551,6791,161.05899540230592,18094,205.45559130868159,4968,104.78549517943789,21947,164.10362579784763,82939,231.91808898833224,28160,260.19223662515373,50477,268.82150211618119,33286,262.23081436017395,7444,112.29425630903836]
[null,"35 to 64  years:",578086,579.13124591926487,27020,206.46549348498891,22098,157.25775020646836,32059,182.8332573685652,14576,130.38404810405297,36474,168.7601848778319,174401,204.08331631958552,64034,274.61427493850351,138866,258.37956575549856,48911,222.50393254951697,19647,94.047860156411858]
[null,"With self care difficullty",9755,570.8283454769919,744,188.86238376129853,612,150.23315213360866,579,138.00362314084367,289,86.683331731077345,1088,213.58136622842358,2492,335.77373333838966,927,170.85666507338834,1788,264.78104161740885,869,192.4162155328911,367,116.77756633874505]
[null,"With no self care difficullty",568331,746.00603214719388,26276,276.13402542968151,21486,183.86136081297778,31480,221.55134844996994,14287,154.80633061990716,35386,277.24357521861532,171909,412.56878214426257,63107,305.36862969204941,137078,387.75249838008779,48042,305.26709616334347,19280,148.12157169028418]
[null,"65 to 74  years:",97464,285.60287113402762,5493,80.603970125546539,5569,91.923881554251182,6138,63.031738037277698,3234,45.343136195018538,7374,65.80273550544841,25819,141.22676800097071,10536,113.70136322841516,21492,152.97058540778355,7811,101.82337649086284,3998,40]
[null,"With self care difficullty",2865,333.44414824674914,143,71.217975259059429,169,97.04638066409278,276,123.70933675353692,117,47.423622805517503,286,91.35097153287424,810,193.1035991378721,260,82.006097334283623,485,142.41137595009747,207,80.603970125546539,112,71.112586790244109]
[null,"With no self care difficullty",94599,452.47430866293394,5350,108.93117092916977,5400,139.28388277184121,5862,134.61797799699713,3117,63.655321851358195,7088,113.21660655575224,25009,233.30880823492285,10276,136.20939761998804,21007,211.92923347193044,7604,129.07362240210043,3886,78.492037812761623]
[null,"75  years and Older:",75628,368.32187010819763,4193,116.93160394008115,4084,84.219950130595535,4897,130.17296186228538,2793,103.46496991735899,6144,115.52056094046635,20056,251.78760890877851,8562,188.44893207444821,15480,202.19297712828703,6448,125.7179382586272,2971,91.263355187062899]
[null,"With self care difficullty",7437,501.78182509931543,538,152.02960238058901,377,119.57006314291216,400,107.05606008068857,365,97.185389848474657,595,129.63024338479042,1660,228.26519664635694,951,175.57334649655681,1682,278.14564530116235,559,143.28293687665675,310,90.735880444287304]
[null,"With no self care difficullty",68191,557.29704826062016,3655,172.80335644888382,3707,134.23859355639868,4497,154.02921800749363,2428,129.4488315899375,5549,170.58135888777531,18396,322.02484376209236,7611,242.42318370980939,13798,318.40226129850271,5889,177.28226081590904,2661,114.80853626799707]

{"sheet":"ACS_Table_B18107","index":33,"n_rows":149,"n_cols":24,"rows_kept":149,"cut":false,"hidden":true,"merged":[]}
["B18107. SEX BY AGE BY INDEPENDENT LIVING DIFFICULTY\n\n\n"]
["Universe:  Civilian non-institutionalized population 18 years and over"]
["Data Set: 2018-2022 American Community Survey 5-Year Estimates"]
[]
[null,null,"New Hampshire",null,"Belknap County",null,"Carroll County",null,"Cheshire County",null,"Coos County",null,"Grafton County",null,"Hillsborough County",null,"Merrimack County",null,"Rockingham County",null,"Strafford County",null,"Sullivan County"]
[null," ","Estimate","Margin of Error","Estimate","Margin of Error","Estimate","Margin of Error","Estimate","Margin of Error","Estimate","Margin of Error","Estimate","Margin of Error","Estimate",null,"Estimate","Margin of Error","Estimate","Margin of Error","Estimate","Margin of Error","Estimate","Margin of Error"]
[null,"Total:",1107406,490,51632,151,42567,63,62215,45,24707,66,75453,34,334449,253,121908,124,253499,169,105785,206,35191,141]
[null,"Male:",549477,598,25357,201,21297,136,30483,105,12607,130,37373,118,167550,257,59863,188,125780,223,51458,227,17709,190]
[null,"18 to 34  years:",152209,442,5658,151,4035,115,8565,110,2759,66,11223,96,49200,169,16936,191,31175,228,18188,203,4470,157]
[null,"With independent living difficulty",4679,592,232,120,115,93,256,107,140,79,422,120,1218,298,784,235,894,232,272,140,346,146]
[null,"With no independent living difficulty",147530,757,5426,187,3920,149,8309,139,2619,104,10801,145,47982,335,16152,316,30281,351,17916,246,4124,224]
[null,"35 to 64  years:",279338,545,13164,163,10038,109,14552,133,6251,124,16943,137,87881,145,30203,289,67388,209,24257,248,8661,133]
[null,"With independent living difficulty",9801,894,538,193,586,231,413,125,323,88,1041,269,2428,506,1343,327,1535,308,790,242,804,303]
[null,"With no independent living difficulty",269537,949,12626,233,9452,267,14139,173,5928,145,15902,276,85453,531,28860,407,65853,384,23467,355,7857,320]
[null,"65 to 74  years:",76558,399,4342,81,4591,132,4741,71,2338,47,5736,126,20037,136,8254,206,17708,126,5802,127,3009,86]
[null,"With independent living difficulty",3721,512,272,172,198,100,423,250,80,37,338,130,1010,210,367,131,707,270,227,123,99,57]
[null,"With no independent living difficulty",72837,583,4070,190,4393,160,4318,254,2258,61,5398,103,19027,242,7887,260,17001,296,5575,162,2910,110]
[null,"75  years and Older:",41372,315,2193,107,2633,107,2625,78,1259,76,3471,81,10432,149,4470,149,9509,153,3211,113,1569,23]
[null,"With independent living difficulty",6170,589,398,141,191,106,283,99,220,72,408,121,1928,325,621,149,1331,224,613,216,177,82]
[null,"With no independent living difficulty",35202,642,1795,162,2442,151,2342,117,1039,88,3063,132,8504,354,3849,207,8178,240,2598,237,1392,78]
[null,"Female:",557929,474,26275,152,21270,119,31732,110,12100,133,38080,115,166899,249,62045,169,127719,138,54327,120,17482,119]
[null,"18 to 34  years:",144142,401,5441,141,3615,61,8652,55,2271,60,10690,131,45653,131,16142,143,29490,131,18495,186,3693,83]
[null,"With independent living difficulty",5653,665,307,140,196,98,319,138,157,81,525,216,1447,326,956,241,863,241,633,244,250,133]
[null,"With no independent living difficulty",138489,705,5134,140,3419,113,8333,139,2114,96,10165,236,44206,336,15186,277,28627,272,17862,319,3443,144]
[null,"35 to 64  years:",278521,431,13424,129,10342,106,14691,86,5988,60,17208,141,85692,119,30760,166,67182,190,24455,204,8779,125]
[null,"With independent living difficulty",11490,925,498,160,434,156,840,208,364,99,892,198,3566,585,1218,240,1951,456,1332,298,395,182]
[null,"With no independent living difficulty",267031,1041,12926,205,9908,184,13851,223,5624,118,16316,233,82126,600,29542,259,65231,523,23123,328,8384,241]
[null,"65 to 74  years:",80579,319,4601,74,4464,48,5020,74,2251,28,5808,113,20958,131,9220,94,18693,130,6528,152,3036,67]
[null,"With independent living difficulty",4475,635,177,86,191,113,277,112,164,57,284,161,1210,392,970,296,640,207,463,255,99,55]
[null,"With no independent living difficulty",76104,683,4424,117,4273,115,4743,125,2087,64,5524,184,19748,411,8250,298,18053,238,6065,288,2937,93]
[null,"75  years and Older:",54687,416,2809,84,2849,102,3369,67,1590,116,4374,138,14596,214,5923,146,12354,170,4849,136,1974,59]
[null,"With independent living difficulty",11328,905,607,172,514,150,722,257,441,125,1092,231,2927,337,1022,219,2455,388,1090,205,458,153]
[null,"With no independent living difficulty",43359,905,2202,180,2335,147,2647,261,1149,156,3282,260,11669,346,4901,241,9899,414,3759,264,1516,167]
[]
[]
[{"$f":"A1& \"-Calculated\"","v":"B18107. SEX BY AGE BY INDEPENDENT LIVING DIFFICULTY\n\n\n-Calculated"}]
[{"$f":"A2","v":"Universe:  Civilian non-institutionalized population 18 years and over"}]
[{"$f":"A3","v":"Data Set: 2018-2022 American Community Survey 5-Year Estimates"}]
[]
[]
[null,null,"New Hampshire",null,"Belknap County",null,"Carroll County",null,"Cheshire County",null,"Coos County",null,"Grafton County",null,"Hillsborough County",null,"Merrimack County",null,"Rockingham County",null,"Strafford County",null,"Sullivan County"]
[null," ","Estimate","Margin of Error","Estimate","Margin of Error","Estimate","Margin of Error","Estimate","Margin of Error","Estimate","Margin of Error","Estimate","Margin of Error","Estimate",null,"Estimate","Margin of Error","Estimate","Margin of Error","Estimate","Margin of Error","Estimate","Margin of Error"]
[null,"Total:",{"$f":"C7","v":1107406},490,51632,151,42567,63,62215,45,24707,66,75453,34,334449,253,121908,124,253499,169,105785,206,35191,141]
[null,"18 to 34  years:",{"$f":"C22+C9","v":296351},{"$f":"SQRT((D22^2)+(D9^2))","v":596.79560990342418},{"$f":"E22+E9","v":11099},{"$f":"SQRT((F22^2)+(F9^2))","v":206.59622455408038},{"$f":"G22+G9","v":7650},{"$f":"SQRT((H22^2)+(H9^2))","v":130.17680284904833},{"$f":"I22+I9","v":17217},{"$f":"SQRT((J22^2)+(J9^2))","v":122.98373876248843},{"$f":"K22+K9","v":5030},{"$f":"SQRT((L22^2)+(L9^2))","v":89.196412483911033},{"$f":"M22+M9","v":21913},{"$f":"SQRT((N22^2)+(N9^2))","v":162.40997506310995},{"$f":"O22+O9","v":94853},{"$f":"SQRT((P22^2)+(P9^2))","v":213.82703290276467},{"$f":"Q22+Q9","v":33078},{"$f":"SQRT((R22^2)+(R9^2))","v":238.60008382228202},{"$f":"S22+S9","v":60665},{"$f":"SQRT((T22^2)+(T9^2))","v":262.95436866498341},{"$f":"U22+U9","v":36683},{"$f":"SQRT((V22^2)+(V9^2))","v":275.32707821788978},{"$f":"W22+W9","v":8163},{"$f":"SQRT((X22^2)+(X9^2))","v":177.58941409892651}]
[null,"With independent living difficulty",{"$f":"C23+C10","v":10332},{"$f":"SQRT((D23^2)+(D10^2))","v":890.33083738574396},539,184.39088914585776,311,135.10366390294527,575,174.62244987400675,297,113.14592347937243,947,247.09512338368802,2665,441.67861619055094,1740,336.60956611480907,1757,334.5220471060166,905,281.31121556027585,596,197.49683541768459]
[null,"With no independent living difficulty",286019,1034.4438119105357,10560,233.60008561642266,7339,187.00267377767625,16642,196.57568516986021,4733,141.53444810363305,20966,276.98555919036647,92188,474.46917708108288,31338,420.22018038166613,58908,444.05517675171853,35778,402.83619499742076,7567,266.29307163349182]
[null,"35 to 64  years:",557859,694.82803627948113,26588,207.87015177749788,20380,152.04275714416653,29243,158.38244852255568,12239,137.7534028617805,34151,196.59603251337501,173573,187.57931655702342,60963,333.28216273902206,134570,282.45530619905162,48712,321.12302938282079,17440,182.52123164169149]
[null,"With independent living difficulty",21291,1286.4140080083084,1036,250.69702830308938,1020,278.74181602335881,1253,242.6705585768492,687,132.45754036671525,1933,334.0134727821619,5994,773.47333502842878,2561,405.62174497923553,3486,550.27265968790414,2122,383.88539956606843,1199,353.45862558438154]
[null,"With no independent living difficulty",536568,1408.6454486491623,25552,310.34496934862665,19360,324.26069758760468,27990,282.23748865095865,11552,186.94651641579205,32218,361.19939091864484,167579,801.22468758769537,58402,482.420977984996,131084,648.83356879865585,46590,483.33114942035343,16241,400.60079880100091]
[null,"65 to 74  years:",157137,510.84439901010956,8943,109.71326264403953,9055,140.45639892863551,9761,102.55242561733974,4589,54.708317466359723,11544,169.24833824885843,40995,188.83061192507955,17474,226.43321311150447,36401,181.04143172213369,12330,198.07321878537743,6045,109.01834707974616]
[null,"With independent living difficulty",8196,815.70153855439059,449,192.3018460649819,389,150.89400253157845,700,273.94159961568454,244,67.955868032128024,622,206.93235609734887,2220,444.70664487952052,1337,323.69275555687062,1347,340.21904708584441,690,283.11481769769665,198,79.208585393251411]
[null,"With no independent living difficulty",148941,897.98552326861034,8494,223.13448859376265,8666,197.04060495238031,9061,283.09185788362055,4345,88.41379982785493,10922,210.86725682286476,38775,476.95387617672213,16137,395.47945585074325,35054,379.81574480266084,11640,330.43607551234476,5847,144.04513181638595]
[null,"75  years and Older:",96059,521.80551932688491,5002,136.03308421115798,5482,147.82760229402356,5994,102.82509421342633,2849,138.67948658687772,7845,160.01562423713506,25028,260.76234390724437,10393,208.60728654579637,21863,228.71160880025309,8060,176.81911661356077,3543,63.324560795950255]
[null,"With independent living difficulty",17498,1079.7897943581427,1005,222.40728405337808,705,183.67362358270171,1005,275.40878707840824,661,144.25324953012324,1500,260.77193100485334,4855,468.18158870250335,1643,264.88110540391511,3786,448.01785678698121,1703,297.79355265015391,635,173.58859409534949]
[null,"With no independent living difficulty",{"$f":"C33+C20","v":78561},1109.5895637576987,3997,242.16523284732679,4777,210.73680267100951,4989,286.02447447727263,2188,179.10890541790488,6345,291.58875149772155,20173,495.00707065657156,8750,317.69482211707509,18077,478.53526515816992,6357,354.7745763157219,2908,184.31766057543157]
[]
[]
[]
[]
[]
[]
[]
[]
[]
[]
[]
[]
[]
[]
[]
[]
[]
[]
[]
[]
[]
[]
[]
[]
[]
[]
[]
[]
[]
[]
[]
[]
[]
[]
[]
[]
[]
[]
[]
[]
[]
[]
[]
[]
["B18107. SEX BY AGE BY INDEPENDENT LIVING DIFFICULTY\n\n\n-Calculated"]
["Universe:  Civilian non-institutionalized population 18 years and over"]
["Data Set: 2013-2017 American Community Survey 5-Year Estimates"]
[]
[]
[null,null,"New Hampshire",null,"Belknap County",null,"Carroll County",null,"Cheshire County",null,"Coos County",null,"Grafton County",null,"Hillsborough County",null,"Merrimack County",null,"Rockingham County",null,"Strafford County",null,"Sullivan County"]
[null," ","Estimate","Margin of Error","Estimate","Margin of Error","Estimate","Margin of Error","Estimate","Margin of Error","Estimate","Margin of Error","Estimate","Margin of Error","Estimate",null,"Estimate","Margin of Error","Estimate","Margin of Error","Estimate","Margin of Error","Estimate","Margin of Error"]
[null,"Total:",1051453,261,48071,215,39181,125,61439,219,24718,317,73277,214,315548,401,115285,403,238931,334,100807,288,34196,136]
[null,"18 to 34  years:",280385,521.21876405210128,10491,155.12897859523216,7058,116.36150566231085,18238,156.40012787718558,5038,167.86303941010956,22426,131.82184947875675,87623,184.45866745696716,29978,230.41267326256167,56437,192.16919628285902,35547,250.47954008261831,7549,127.34991166074674]
[null,"With independent living difficulty",7843,688.22234779175835,429,158.09174551506476,337,162.24980739587951,470,151.6047492659778,278,97.406365295087369,616,187.64061394058589,2118,333.44414824674914,1019,204.89265482198232,1404,269.61639416029584,984,258.86289807540982,188,58.137767414994535]
[null,"With no independent living difficulty",272542,893.98042484161806,10062,210.84591530309521,6721,190.26297590440447,17768,209.48030933717851,4760,193.77564346429094,21810,239.95416228938393,85505,360.40671469882466,28959,302.60535355475787,55033,346.15170084805305,34563,367.26693289758606,7361,142.94754282603111]
[null,"35 to 64  years:",560233,605.33048824588377,25935,181.37254478007415,20473,140.46351839534705,29963,137.44089638822936,13075,251.10356429170812,34702,196.32880583347927,172245,177.6091213873882,62029,193.49935400408964,135105,187.66459442313567,48172,253.33771926027913,18534,130.81666560496029]
[null,"With independent living difficulty",20544,987.98633593790157,990,203.08865059377396,1128,240.01041644062033,1394,265.75364531836624,762,141.22676800097071,1714,298.67038688159226,5859,503.94543355407041,2591,367.80021750945173,3484,351.98011307458836,1783,338.75359776687242,839,211.22736565132843]
[null,"With no independent living difficulty",539689,1086.3226960714758,24945,266.62520511009456,19345,263.75936002348806,28569,293.08360581922693,12313,286.2167011199731,32988,340.85187398634031,166386,513.24945202113952,59438,398.6000501756115,131621,388.34649476981247,46389,428.51487722131657,17695,240.52650581588716]
[null,"65 to 74  years:",128133,372.72644124075771,7345,86.313382508160345,7184,76.400261779656233,7839,106.55045753069294,3916,56.0357029044876,9565,98.488578017961046,33693,200.5617112013158,13973,100.65783625729296,29445,168.58232410309213,10195,149.33519344079613,4978,35.510561809129406]
[null,"With independent living difficulty",6865,504.92078586645647,407,144.51643505151932,289,112.89375536317321,522,132.90974381135493,226,61.294371682887821,498,128.70508925446578,1844,295.006779583114,938,155.62133529821674,1355,244.0491753725056,438,136.0036764208968,348,164.54178800535746]
[null,"With no independent living difficulty",121268,600.10832355500622,6938,158.09174551506476,6895,133.13526955694348,7317,157.8131806916013,3690,84.628600366542756,9067,148.18906842274163,31849,333.31366608646579,13035,193.07252523339514,28090,269.00185872963777,9757,197.3068675946177,4630,171.17242768623689]
[null,"75  years and Older:",82702,470.6644239795483,4300,167.10774967068403,4466,114.61239025515522,5399,115.43396380615195,2689,114.9086593777858,6584,166.20770138594662,21987,300.20326447259032,9305,259.95576546789647,17944,285.88284313683465,6893,147.02720836634285,3135,92.962357973536797]
[null,"With independent living difficulty",16369,787.37284687751333,795,156.16977940690063,646,190.41270965983338,978,190.59118552545917,525,97.308786859152647,1320,250.69702830308938,4743,435.59729108432253,1914,268.7545348454608,3356,347.58883756530503,1407,232.72301132462169,685,150.69505632236249]
[null,"With no independent living difficulty",66333,869.18467542864562,3505,209.22953902353271,3820,209.61870145576228,4421,232.2003445303215,2164,124.85191228010886,5264,289.882734911895,17244,496.42421375271374,7391,336.15472627943223,14588,423.23634059470839,5486,272.88275870783775,2450,159.90622251807463]
[]
[]
[]
[]
[]
[]
[]
[]
[]
[]
["B18107. SEX BY AGE BY INDEPENDENT LIVING DIFFICULTY\n\n\n-Calculated"]
["Universe:  Civilian non-institutionalized population 18 years and over"]
["Data Set: 2008-2012 American Community Survey 5-YearEstimates"]
[]
[]
[null,null,"New Hampshire",null,"Belknap County",null,"Carroll County",null,"Cheshire County",null,"Coos County",null,"Grafton County",null,"Hillsborough County",null,"Merrimack County",null,"Rockingham County",null,"Strafford County",null,"Sullivan County"]
[null," ","Estimate","Margin of Error","Estimate","Margin of Error","Estimate","Margin of Error","Estimate","Margin of Error","Estimate","Margin of Error","Estimate","Margin of Error","Estimate",null,"Estimate","Margin of Error","Estimate","Margin of Error","Estimate","Margin of Error","Estimate","Margin of Error"]
[null,"Total:",1017320,374,46921,214,38577,143,61291,215,25625,203,72120,155,303744,344,111636,379,226665,293,96661,356,34080,127]
[null,"18 to 34  years:",266142,523.48925490405247,10215,151.42654985173505,6826,166.88319268278636,18197,194.11594473406868,5022,98.792712281827747,22128,137.2953021774598,83468,173.18487231857176,28504,242.68704126920332,50827,227.43130831088317,33491,251.44581921360316,7464,108.85311203635843]
[null,"With independent living difficulty",5802,529.65743646247427,343,147.24808997063425,131,73.573092907665639,246,94.047860156411858,180,62.968245965724662,437,150.86417732516887,1775,322.80024783137947,899,194.42736432920137,1077,256.27524265913786,572,153.39491516996253,142,72.180329730474355]
[null,"With no independent living difficulty",260340,762.39228747410607,9872,209.27493877672023,6695,167.29614460590537,17951,211.4734025829253,4842,114.06138698087096,21691,200.66140635408692,81693,360.64941425156923,27605,300.88702198665862,49750,340.3307215048327,32919,290.69055712217414,7322,131.20975573485381]
[null,"35 to 64  years:",578086,579.13124591926487,27020,206.46549348498891,22098,157.25775020646836,32059,182.8332573685652,14576,130.38404810405297,36474,168.7601848778319,174401,204.08331631958552,64034,274.61427493850351,138866,258.37956575549856,48911,222.50393254951697,19647,94.047860156411858]
[null,"With independent living difficulty",19281,850.17292358672535,1139,208.70074269153906,940,188.60010604450889,1198,210.10711553871752,705,118.34272263219231,1397,211.46394491733099,5473,514.07100676852031,1982,283.21193477676746,3592,367.10352763219259,2080,324.96769070170654,775,183.86951895297926]
[null,"With no independent living difficulty",558805,983.60205367821391,25881,275.81152985326776,21158,206.20620747203515,30861,264.76404589747455,13871,171.21331723905124,35077,274.59060435491961,168928,567.73585407300106,62052,366.99455036825822,135274,442.92211504958749,46831,407.33278777923096,18872,207.96634343085421]
[null,"65 to 74  years:",97464,285.60287113402762,5493,80.603970125546539,5569,91.923881554251182,6138,63.031738037277698,3234,45.343136195018538,7374,65.80273550544841,25819,141.22676800097071,10536,113.70136322841516,21492,152.97058540778355,7811,101.82337649086284,3998,40]
[null,"With independent living difficulty",5284,447.72424549045809,265,93.338095116624274,235,99.282425433709065,308,101.24228365658294,203,75.179784516850006,478,115.10864433221339,1534,258.09494377069848,614,134.61797799699713,979,188.04254837669055,480,132.90974381135493,188,83.438600180012614]
[null,"With no independent living difficulty",92180,529.74427793039922,5228,126.90547663517127,5334,137.41906709041507,5830,118.00423721205946,3031,85.982556370463882,6896,125.25174649480941,24285,296.64962497869436,9922,179.0111728356641,20513,256.33766793040775,7331,168.58232410309213,3810,90.553851381374173]
[null,"75  years and Older:",75628,368.32187010819763,4193,116.93160394008115,4084,84.219950130595535,4897,130.17296186228538,2793,103.46496991735899,6144,115.52056094046635,20056,251.78760890877851,8562,188.44893207444821,15480,202.19297712828703,6448,125.7179382586272,2971,91.263355187062899]
[null,"With independent living difficulty",15112,693.76653133456932,904,198.69826370655582,645,170.66048165876012,988,175.57334649655681,680,114.69088891450794,1199,156.23699945915499,4139,357.40453270768683,1754,239.37627284256891,2957,317.04416096184457,1262,197.99494943053472,584,118.59595271340417]
[null,"With no independent living difficulty",60516,722.5953224315806,3289,202.87188075236054,3439,180.75950874020432,3909,207.88458336298052,2113,138.85243966167826,4945,176.70880000724355,15917,398.55363503548676,6808,284.00704216621108,12523,357.82956837019492,5186,224.47494292236718,2387,132.20060514233663]

{"sheet":"ACS_Table_C18108","index":34,"n_rows":148,"n_cols":24,"rows_kept":148,"cut":false,"hidden":true,"merged":[]}
["B18108. AGE BY NUMBER OF DISABILITIES\n\n"]
["Universe:  Civilian non-institutionalized population"]
["Data Set: 2018-2022 American Community Survey 5-Year Estimates"]
[]
[null,null,"New Hampshire",null,"Belknap County",null,"Carroll County",null,"Cheshire County",null,"Coos County",null,"Grafton County",null,"Hillsborough County",null,"Merrimack County",null,"Rockingham County",null,"Strafford County",null,"Sullivan County"]
[null," ","Estimate","Margin of Error","Estimate","Margin of Error","Estimate","Margin of Error","Estimate","Margin of Error","Estimate","Margin of Error","Estimate","Margin of Error","Estimate",null,"Estimate","Margin of Error","Estimate","Margin of Error","Estimate","Margin of Error","Estimate","Margin of Error"]
[null,"Total:",1363236,446,63100,110,50277,39,75910,38,29606,47,89948,32,418659,243,150487,118,313051,169,129324,206,42874,80]
[null,"Under 18 years:",255830,174,11468,75,7710,53,13695,23,4899,58,14495,19,84210,76,28579,35,59552,34,23539,27,7683,107]
[null,"With one type of disability",9144,809,551,216,305,97,497,184,300,140,264,89,3058,496,1284,284,2050,364,624,189,211,140]
[null,"With two or more types of disability",2898,438,34,56,84,69,118,65,176,84,165,83,829,185,305,110,838,410,250,115,99,66]
[null,"No disability",243788,1024,10883,246,7321,124,13080,195,4423,166,14066,116,80323,567,26990,319,56664,550,22665,233,7373,175]
[null,"18 to 64  years:",854210,705,37687,155,28030,171,46460,108,17269,94,56064,141,268426,257,94041,227,195235,228,85395,264,25603,175]
[null,"With one type of disability",51680,2197,2914,478,2177,384,3133,457,1489,247,3282,473,15408,1419,6410,583,9202,814,6036,732,1629,328]
[null,"With two or more types of disability",37799,1775,2200,384,1828,401,2025,327,1522,248,3131,441,10143,807,5198,538,6399,723,3519,592,1834,470]
[null,"No disability",764731,2865,32573,650,24025,619,41302,534,14258,393,49651,664,242875,1456,82433,782,179634,1032,75840,961,22140,613]
[null,"65 years and over:",253196,434,13945,100,14537,155,15755,96,7438,98,19389,132,66023,132,27867,203,58264,184,20390,150,9588,113]
[null,"With one type of disability",38917,1231,2772,365,2067,286,2543,374,1531,212,2727,320,10015,636,4247,369,8492,663,3246,394,1277,259]
[null,"With two or more types of disability",35594,1548,2077,378,1736,278,2461,434,1300,190,2741,320,9357,734,4070,445,7190,721,3440,437,1222,278]
[null,"No disability",178685,1755,9096,450,10734,431,10751,494,4607,230,13921,438,46651,905,19550,504,42582,965,13704,521,7089,320]
[]
[]
[]
[]
[]
[]
[]
[]
[]
[]
[]
[]
[]
[]
[]
[]
[]
[]
[]
[]
[]
[]
[]
[]
[]
[]
[]
[]
[]
[]
[]
[]
[]
[]
[]
[]
[]
[]
[]
[]
[]
[]
[]
[]
[]
[]
[]
[]
[]
[]
[]
[]
[]
[]
[]
[]
[]
[]
[]
[]
[]
[]
[]
[]
[]
[]
[]
[]
[]
[]
[]
[]
[]
[]
[]
[]
[]
[]
[]
[]
["C18108. AGE BY NUMBER OF DISABILITIES\n\n"]
["Universe:  Civilian non-institutionalized population"]
["Data Set: 2013-2017 American Community Survey 5-Year Estimates"]
[]
[null,null,"New Hampshire",null,"Belknap County",null,"Carroll County",null,"Cheshire County",null,"Coos County",null,"Grafton County",null,"Hillsborough County",null,"Merrimack County",null,"Rockingham County",null,"Strafford County",null,"Sullivan County"]
[null," ","Estimate","Margin of Error","Estimate","Margin of Error","Estimate","Margin of Error","Estimate","Margin of Error","Estimate","Margin of Error","Estimate","Margin of Error","Estimate",null,"Estimate","Margin of Error","Estimate","Margin of Error","Estimate","Margin of Error","Estimate","Margin of Error"]
[null,"Total:",1310949,243,59647,196,46963,152,75531,256,30369,353,88248,230,400673,434,144313,393,298124,341,124504,311,42577,163]
[null,"Under 18 years:",266541,166,11615,94,7977,36,14133,26,5324,108,15181,84,87717,69,29550,45,62140,17,24434,20,8470,53]
[null,"With one type of disability",9250,618,758,213,188,77,470,162,293,102,556,176,2919,389,1183,255,1787,271,885,216,211,86]
[null,"With two or more types of disability",3345,456,202,120,156,84,170,91,113,52,159,75,1234,281,315,105,591,177,271,98,134,66]
[null,"No disability",253946,800,10655,246,7633,106,13493,201,4918,150,14466,216,83564,531,28052,281,59762,333,23278,226,8125,130]
[null,"18 to 64  years:",842234,418,36792,174,27859,111,48733,231,18531,262,57554,178,259410,238,92253,335,191303,207,83429,277,26370,109]
[null,"With one type of disability",47777,1427,2709,337,2310,330,2933,345,1747,230,3171,364,13017,701,6024,484,9046,660,5302,555,1518,256]
[null,"With two or more types of disability",35757,1439,1779,317,1751,326,2187,298,1510,204,2761,353,10032,723,4459,500,6002,625,3612,470,1664,323]
[null,"No disability",758700,1995,32304,456,23798,500,43613,513,15274,325,51622,465,236361,1080,81770,739,176255,860,74515,803,23188,420]
[null,"65 years and over:",202174,313,11240,208,11127,162,12665,147,6514,117,15513,235,53546,359,22510,250,44681,256,16641,196,7737,129]
[null,"With one type of disability",33214,977,1539,194,1948,299,2273,227,1244,147,2788,352,8384,545,3973,325,6717,493,3112,370,1236,179]
[null,"With two or more types of disability",32058,1017,1614,193,1409,249,2206,264,1164,134,2629,292,8811,602,3790,378,6240,480,2822,328,1373,235]
[null,"No disability",136902,1187,8087,314,7770,384,8186,305,4106,148,10096,384,36351,774,14747,432,31724,560,10707,401,5128,292]
[]
[]
[]
[]
[]
[]
[]
[]
[]
[]
[]
["B18108. AGE BY NUMBER OF DISABILITIES\n\n"]
["Universe:  Civilian non-institutionalized population"]
["Data Set: 2008-2012 American Community Survey 5-YearEstimates"]
[]
[null,null,"New Hampshire",null,"Belknap County",null,"Carroll County",null,"Cheshire County",null,"Coos County",null,"Grafton County",null,"Hillsborough County",null,"Merrimack County",null,"Rockingham County",null,"Strafford County",null,"Sullivan County"]
[null," ","Estimate","Margin of Error","Estimate","Margin of Error","Estimate","Margin of Error","Estimate","Margin of Error","Estimate","Margin of Error","Estimate","Margin of Error","Estimate",null,"Estimate","Margin of Error","Estimate","Margin of Error","Estimate","Margin of Error","Estimate","Margin of Error"]
[null,"Total:",1302651,274,59467,183,47400,108,76393,216,31791,199,88381,158,397245,345,143302,374,293692,296,121849,360,43131,122]
[null,"Under 18 years:",285331,227,12546,120,8823,117,15102,9,6166,60,16261,22,93501,73,31666,53,67027,32,25188,26,9051,41]
[null,"With one type of disability",10501,707,343,108,281,104,738,199,467,181,652,176,2955,345,1199,231,2561,434,928,229,377,151]
[null,"With two or more types of disability",2925,374,53,43,90,56,99,60,206,83,222,84,1079,274,289,96,642,235,138,72,107,68]
[null,"No disability",271905,793,12150,154,8452,130,14265,203,5493,197,15387,212,89467,420,30178,262,63824,497,24122,251,8567,183]
[null,"18 to 64  years:",844228,415,37235,146,28924,117,50256,147,19598,166,58602,104,257869,294,92538,313,189693,286,82402,322,27111,80]
[null,"With one type of disability",44358,1544,1880,286,1992,338,2509,346,1567,183,2747,309,13163,857,5456,528,8409,647,4633,479,2002,311]
[null,"With two or more types of disability",32257,1351,1767,312,1554,269,1862,325,1325,189,2434,350,9025,749,3843,455,5713,473,3295,447,1439,263]
[null,"No disability",767613,1957,33588,458,25378,353,45885,468,16706,296,53421,483,235681,1202,83239,785,175571,729,74474,723,23670,393]
[null,"65 years and over:",173092,276,9686,166,9653,127,11035,164,6027,122,13518,136,45875,236,19098,216,36972,245,14259,181,6969,111]
[null,"With one type of disability",29365,988,1241,162,1802,231,1811,219,1161,141,2322,293,7867,451,3052,323,5744,494,3071,305,1294,193]
[null,"With two or more types of disability",27693,939,1509,241,1197,227,1923,244,1385,176,2242,222,7217,483,3197,313,5361,491,2408,259,1254,203]
[null,"No disability",116034,1205,6936,238,6654,278,7301,297,3481,181,8954,324,30791,663,12849,387,25867,628,8780,385,4421,278]

{"sheet":"ACS_Table_B19049","index":35,"n_rows":56,"n_cols":24,"rows_kept":56,"cut":false,"hidden":true,"merged":[]}
[null,"B19049. MEDIAN HOUSEHOLD INCOME IN THE PAST 12 MONTHS (IN 2021 INFLATION-ADJUSTED DOLLARS) BY AGE OF HOUSEHOLDER "]
[null,"Universe:  HOUSEHOLDS"]
[null,"Data Set: 2018-2022 American Community Survey 5-Year Estimates"]
[]
[null,null,"New Hampshire",null,"Belknap County",null,"Carroll County",null,"Cheshire County",null,"Coos County",null,"Grafton County",null,"Hillsborough County",null,"Merrimack County",null,"Rockingham County",null,"Strafford County",null,"Sullivan County"]
[null," ","Estimate","Margin of Error","Estimate","Margin of Error","Estimate","Margin of Error","Estimate","Margin of Error","Estimate","Margin of Error","Estimate","Margin of Error","Estimate","Margin of Error","Estimate","Margin of Error","Estimate","Margin of Error","Estimate","Margin of Error","Estimate","Margin of Error"]
[null,"Median household income in the past 12 months"]
[null,"Total:",90845,966,80719,6424,77049,4354,76551,4519,55247,3519,79949,2014,95112,2183,88806,2398,110225,2848,83212,3473,70788,5056]
[null,"Householder under 25 years",58664,3017,49938,40166,38451,8168,51080,7928,28854,15950,51250,24716,72277,12362,56075,8100,70533,3807,51682,8728,71688,46132]
[null,"Householder 25 to 44 years",102765,1729,89403,7989,89945,9541,85869,6530,65299,6754,88339,6978,102207,2942,98715,3073,127379,3254,99220,7022,79945,15543]
[null,"Householder 45 to 64 years",111608,1901,102725,9070,89449,8210,92225,7951,66890,4577,97793,8489,116407,2901,110116,5387,131440,3201,106231,6252,86873,4254]
[null,"Householder 65 years and over",60844,1362,56824,3833,58187,7866,56578,3481,44329,2845,59254,3722,62580,2729,60683,3533,69565,2605,55892,3006,47734,6699]
[]
[]
[]
[]
[]
[]
[]
[]
[]
[]
[]
[]
[]
[]
[]
[]
[]
[null,"B19049. MEDIAN HOUSEHOLD INCOME IN THE PAST 12 MONTHS (IN 2016 INFLATION-ADJUSTED DOLLARS) BY AGE OF HOUSEHOLDER "]
[null,"Universe:  HOUSEHOLDS"]
[null,"Data Set: 2013-2017 American Community Survey 5-Year Estimates"]
[]
[null,null,"New Hampshire",null,"Belknap County",null,"Carroll County",null,"Cheshire County",null,"Coos County",null,"Grafton County",null,"Hillsborough County",null,"Merrimack County",null,"Rockingham County",null,"Strafford County",null,"Sullivan County"]
[null," ","Estimate","Margin of Error","Estimate","Margin of Error","Estimate","Margin of Error","Estimate","Margin of Error","Estimate","Margin of Error","Estimate","Margin of Error","Estimate","Margin of Error","Estimate","Margin of Error","Estimate","Margin of Error","Estimate","Margin of Error","Estimate","Margin of Error"]
[null,"Median household income in the past 12 months"]
[null,"Total:",71305,733,65834,3253,58139,3515,60148,1832,45386,1718,61036,2543,75777,1259,69856,1417,85619,1358,67805,2346,59419,3601]
[null,"Householder under 25 years",37693,3295,50197,14510,41542,13349,23581,5730,36118,3323,24550,6065,41323,2880,37360,5439,49227,7211,36335,6677,30242,12909]
[null,"Householder 25 to 44 years",78524,1359,69496,5005,61377,2040,67972,3199,52052,5561,65068,4202,82317,2138,74875,2974,96166,3375,76101,5160,71163,4807]
[null,"Householder 45 to 64 years",85853,1306,79616,4914,63961,5208,73811,4157,56031,3002,70250,4227,93052,2584,83953,2175,103136,1919,82164,3976,68590,4339]
[null,"Householder 65 years and over",47951,657,47645,5217,51480,4057,41412,2463,32523,2075,48397,2065,47967,1074,48063,1725,52844,1765,47006,2446,43333,3383]
[]
[]
[]
[null,"B19049. MEDIAN HOUSEHOLD INCOME IN THE PAST 12 MONTHS (IN 2011 INFLATION-ADJUSTED DOLLARS) BY AGE OF HOUSEHOLDER "]
[null,"Universe:  HOUSEHOLDS"]
[null,"Data Set: 2008-2012 American Community Survey 5-Year Estimates"]
[]
[null,null,"New Hampshire",null,"Belknap County",null,"Carroll County",null,"Cheshire County",null,"Coos County",null,"Grafton County",null,"Hillsborough County",null,"Merrimack County",null,"Rockingham County",null,"Strafford County",null,"Sullivan County"]
[null," ","Estimate","Margin of Error","Estimate","Margin of Error","Estimate","Margin of Error","Estimate","Margin of Error","Estimate","Margin of Error","Estimate","Margin of Error","Estimate","Margin of Error","Estimate","Margin of Error","Estimate","Margin of Error","Estimate","Margin of Error","Estimate","Margin of Error"]
[null,"Median household income in the past 12 months"]
[null,"Total:",64925,565,57163,2258,50865,2068,56062,1493,41774,2174,53386,1641,70472,1234,65487,1519,77939,1467,58538,1522,53821,2111]
[null,"Householder under 25 years",32657,1766,29754,13458,28986,28564,21352,5298,23795,8881,24430,5538,40696,4236,30316,5449,43226,3100,29120,3850,21673,8461]
[null,"Householder 25 to 44 years",72495,1149,63834,2991,52988,4794,65345,3118,47101,3924,58047,1866,75873,1699,72445,3049,85540,2641,66877,3977,59805,5562]
[null,"Householder 45 to 64 years",77946,1150,66848,3410,54494,2785,66875,2527,52367,4198,67729,3247,87283,1749,76704,2640,92353,2248,71495,3262,63421,4331]
[null,"Householder 65 years and over",39675,711,35869,3165,45000,2066,36330,2048,28477,1932,38081,1921,38654,1503,40304,1904,44556,1518,39947,2413,36333,2887]

{"sheet":"ACS_TableB19101_ACS_Tbl_B19113","index":36,"n_rows":130,"n_cols":24,"rows_kept":130,"cut":false,"hidden":true,"merged":[]}
[null,"B19101. FAMILY INCOME IN THE PAST 12 MONTHS (IN 2022 INFLATION-ADJUSTED DOLLARS)"]
[null,"Universe:  FAMILIES"]
[null,"Data Set: 2018-2022 American Community Survey 5-Year Estimates"]
[]
[null,null,"New Hampshire",null,"Belknap County",null,"Carroll County",null,"Cheshire County",null,"Coos County",null,"Grafton County",null,"Hillsborough County",null,"Merrimack County",null,"Rockingham County",null,"Strafford County",null,"Sullivan County"]
[null," ","Estimate","Margin of Error","Estimate","Margin of Error","Estimate","Margin of Error","Estimate","Margin of Error","Estimate","Margin of Error","Estimate","Margin of Error","Estimate","Margin of Error","Estimate","Margin of Error","Estimate","Margin of Error","Estimate","Margin of Error","Estimate","Margin of Error"]
[null,"Total:",353906,2783,17100,616,13526,674,18716,577,8096,354,21419,690,107222,1678,40116,672,86122,1369,31623,785,9966,499]
[null,"Less than $10,000",5668,613,261,134,208,106,303,153,165,56,542,207,1608,378,582,186,988,217,588,189,423,189]
[null,"$10,000 to $14,999",4316,684,471,168,173,93,170,93,231,121,396,252,956,266,486,193,871,343,445,208,117,71]
[null,"$15,000 to $19,999",3547,449,251,123,261,158,296,125,115,53,237,106,1102,261,300,117,513,226,282,124,190,108]
[null,"$20,000 to $24,999",4834,565,248,106,159,107,367,145,209,80,559,169,1261,284,803,312,619,187,369,123,240,130]
[null,"$25,000 to $29,999",6294,580,406,135,375,149,276,92,305,97,501,151,1812,354,587,158,938,256,882,230,212,111]
[null,"$30,000 to $34,999",6688,610,428,148,373,153,455,138,335,117,467,111,1759,288,815,209,1113,277,579,221,364,142]
[null,"$35,000 to $39,999",7518,684,473,195,385,147,434,134,403,104,492,146,2404,411,869,223,1262,272,462,143,334,144]
[null,"$40,000 to $44,999",6877,645,377,141,372,121,517,166,346,98,644,154,2112,380,692,188,1035,205,505,283,277,109]
[null,"$45,000 to $49,999",9522,691,437,131,507,169,677,163,464,116,672,148,2813,488,950,220,1918,381,759,188,325,137]
[null,"$50,000 to $59,999",19630,1111,1076,236,853,202,1318,243,652,123,1380,245,5831,670,2025,298,3937,582,1866,342,692,174]
[null,"$60,000 to $74,999",28583,1190,1479,311,1334,262,1966,309,829,153,1856,246,8159,733,3556,403,5880,689,2579,346,945,205]
[null,"$75,000 to $99,999",48020,1853,2517,353,2160,337,2714,321,1444,207,2978,339,13645,1011,6071,561,10519,788,4530,624,1442,295]
[null,"$100,000 to $124,999",46725,1624,2334,364,1949,349,2918,355,1106,182,2880,354,13635,892,5497,378,10707,853,4163,425,1536,264]
[null,"$125,000 to $149,999",37277,1524,1958,335,1474,348,2035,312,439,95,2067,282,10547,769,4344,549,10108,896,3476,446,829,156]
[null,"$150,000 to $199,999",53209,1732,2277,316,1194,245,2236,268,617,128,2153,248,17470,1051,6254,555,15056,932,4894,594,1058,225]
[null,"$200,000 or more",65198,1742,2107,320,1749,236,2034,268,436,81,3595,311,22108,1218,6285,518,20658,942,5244,464,982,226]
[]
[]
[null,"B19113. MEDIAN FAMILY INCOME IN THE PAST 12 MONTHS (IN 2022 INFLATION-ADJUSTED DOLLARS)"]
[null,"Universe:  FAMILIES"]
[null,"Data Set: 2018-2022 American Community Survey 5-Year Estimates"]
[]
[null,null,"New Hampshire",null,"Belknap County",null,"Carroll County",null,"Cheshire County",null,"Coos County",null,"Grafton County",null,"Hillsborough County",null,"Merrimack County",null,"Rockingham County",null,"Strafford County",null,"Sullivan County"]
[null," ","Estimate","Margin of Error","Estimate","Margin of Error","Estimate","Margin of Error","Estimate","Margin of Error","Estimate","Margin of Error","Estimate","Margin of Error","Estimate","Margin of Error","Estimate","Margin of Error","Estimate","Margin of Error","Estimate","Margin of Error","Estimate","Margin of Error"]
[null,"Median family income in the past 12 months",113605,1183,101175,4176,94101,6228,98415,4118,74857,4746,99902,2820,118936,1952,110587,3390,131600,1996,112051,4034,91299,5251]
[]
[]
[]
[]
[]
[]
[]
[]
[]
[]
[]
[]
[]
[]
[]
[]
[]
[null,"B19101. FAMILY INCOME IN THE PAST 12 MONTHS (IN 2017 INFLATION-ADJUSTED DOLLARS)"]
[null,"Universe:  FAMILIES"]
[null,"Data Set: 2013-2017 American Community Survey 5-Year Estimates"]
[]
[null,null,"New Hampshire",null,"Belknap County",null,"Carroll County",null,"Cheshire County",null,"Coos County",null,"Grafton County",null,"Hillsborough County",null,"Merrimack County",null,"Rockingham County",null,"Strafford County",null,"Sullivan County"]
[null," ","Estimate","Margin of Error","Estimate","Margin of Error","Estimate","Margin of Error","Estimate","Margin of Error","Estimate","Margin of Error","Estimate","Margin of Error","Estimate","Margin of Error","Estimate","Margin of Error","Estimate","Margin of Error","Estimate","Margin of Error","Estimate","Margin of Error"]
[null,"Total:",350658,2408,16319,577,14061,586,19198,549,8725,311,21412,541,106062,1261,38156,541,83861,914,31265,789,11599,482]
[null,"Less than $10,000",7270,471,492,171,281,125,376,134,261,90,464,171,2283,310,893,205,1072,209,808,189,340,115]
[null,"$10,000 to $14,999",4948,468,196,116,172,91,303,129,425,133,384,123,1737,293,573,158,648,147,393,143,117,67]
[null,"$15,000 to $19,999",6837,612,520,161,313,161,538,154,221,63,735,216,1974,266,560,134,1080,272,682,198,214,98]
[null,"$20,000 to $24,999",8617,599,432,161,601,178,728,190,338,88,632,202,2172,272,886,153,1398,322,1031,254,399,135]
[null,"$25,000 to $29,999",9616,666,512,140,558,195,764,188,477,110,579,125,2757,372,1019,220,1475,282,1109,319,366,123]
[null,"$30,000 to $34,999",11052,683,537,159,777,255,623,150,498,106,1137,231,3300,393,1081,185,1834,312,725,192,540,156]
[null,"$35,000 to $39,999",10529,673,710,184,529,159,767,173,448,102,938,171,2750,368,1111,177,1876,352,955,196,445,133]
[null,"$40,000 to $44,999",11980,838,763,202,558,164,809,192,429,104,663,142,3664,427,1132,155,2371,355,1023,220,568,161]
[null,"$45,000 to $49,999",12598,714,534,147,667,183,676,171,439,110,906,198,3815,409,1406,224,2450,376,1124,242,581,136]
[null,"$50,000 to $59,999",24743,822,1480,259,1501,276,1489,253,977,140,1640,208,6591,510,2571,319,5358,491,1914,272,1222,241]
[null,"$60,000 to $74,999",38124,1216,1612,231,1868,271,2361,246,1069,157,2335,264,10933,738,4535,387,8263,611,3866,451,1282,213]
[null,"$75,000 to $99,999",56243,1637,2941,370,2002,296,3570,335,1192,136,3425,323,16200,897,6997,424,12228,666,5318,486,2370,262]
[null,"$100,000 to $124,999",46339,1292,2118,312,1592,295,2409,278,853,137,2379,246,14500,691,5201,417,12339,677,3775,410,1173,195]
[null,"$125,000 to $149,999",31874,1327,963,183,906,190,1410,232,497,99,1490,234,10171,685,3444,297,9086,595,2996,382,911,162]
[null,"$150,000 to $199,999",36303,1183,1396,230,821,187,1212,177,341,86,1673,216,12237,656,3588,318,10761,654,3699,456,575,125]
[null,"$200,000 or more",33585,1003,1113,191,915,205,1163,155,260,77,2032,226,10978,618,3159,318,11622,580,1847,240,496,121]
[]
[]
[null,"B19113. MEDIAN FAMILY INCOME IN THE PAST 12 MONTHS (IN 2017 INFLATION-ADJUSTED DOLLARS)"]
[null,"Universe:  FAMILIES"]
[null,"Data Set: 2013-2017 American Community Survey 5-Year Estimates"]
[]
[null,null,"New Hampshire",null,"Belknap County",null,"Carroll County",null,"Cheshire County",null,"Coos County",null,"Grafton County",null,"Hillsborough County",null,"Merrimack County",null,"Rockingham County",null,"Strafford County",null,"Sullivan County"]
[null," ","Estimate","Margin of Error","Estimate","Margin of Error","Estimate","Margin of Error","Estimate","Margin of Error","Estimate","Margin of Error","Estimate","Margin of Error","Estimate","Margin of Error","Estimate","Margin of Error","Estimate","Margin of Error","Estimate","Margin of Error","Estimate","Margin of Error"]
[null,"Median family income in the past 12 months",86949,965,77620,3789,67703,3921,76112,2686,58266,2134,77742,3100,91499,1526,86170,2074,103321,1444,83941,2739,72382,3533]
[]
[]
[]
[]
[]
[]
[]
[]
[]
[]
[]
[]
[]
[]
[]
[]
[]
[null,"B19101. FAMILY INCOME IN THE PAST 12 MONTHS (IN 2012 INFLATION-ADJUSTED DOLLARS)"]
[null,"Universe:  FAMILIES"]
[null,"Data Set: 2008-2012 American Community Survey 5-Year Estimates"]
[]
[null,null,"New Hampshire",null,"Belknap County",null,"Carroll County",null,"Cheshire County",null,"Coos County",null,"Grafton County",null,"Hillsborough County",null,"Merrimack County",null,"Rockingham County",null,"Strafford County",null,"Sullivan County"]
[null," ","Estimate","Margin of Error","Estimate","Margin of Error","Estimate","Margin of Error","Estimate","Margin of Error","Estimate","Margin of Error","Estimate","Margin of Error","Estimate","Margin of Error","Estimate","Margin of Error","Estimate","Margin of Error","Estimate","Margin of Error","Estimate","Margin of Error"]
[null,"Total:",347244,2055,17190,618,13694,609,19097,458,9112,329,21853,561,104156,1079,38335,704,81230,840,30114,605,12463,375]
[null,"Less than $10,000",8627,763,578,156,320,117,501,140,439,106,664,156,2267,346,807,176,1319,259,1164,275,568,173]
[null,"$10,000 to $14,999",6117,569,326,129,351,132,307,105,234,75,325,113,1811,300,708,183,1001,225,741,192,313,144]
[null,"$15,000 to $19,999",7675,665,469,155,333,112,364,108,373,85,433,97,2717,449,766,176,1183,264,665,203,372,129]
[null,"$20,000 to $24,999",10340,736,848,239,559,191,711,148,530,106,769,143,2775,417,1272,233,1622,292,837,198,417,119]
[null,"$25,000 to $29,999",12275,776,599,142,750,227,649,150,532,135,1149,189,3623,433,1609,285,1766,247,1130,186,468,128]
[null,"$30,000 to $34,999",11933,667,841,213,660,179,762,132,519,103,795,140,2894,344,1361,246,2502,330,1016,233,583,154]
[null,"$35,000 to $39,999",12366,677,469,122,703,140,779,174,594,137,1200,233,3185,318,1377,242,2298,361,1073,222,688,184]
[null,"$40,000 to $44,999",14097,504,778,189,769,180,771,145,522,100,1136,218,4066,368,1378,196,2718,307,1400,300,559,134]
[null,"$45,000 to $49,999",12967,840,862,249,1001,227,852,212,447,102,1099,196,3468,367,1303,199,2210,293,1249,252,476,108]
[null,"$50,000 to $59,999",26835,966,1753,237,1508,283,1856,284,909,161,1832,257,7654,560,2571,293,5163,451,2462,307,1127,214]
[null,"$60,000 to $74,999",39013,1414,2364,337,1933,298,2680,289,1332,165,2416,269,10603,606,4428,415,8114,589,3451,354,1692,205]
[null,"$75,000 to $99,999",58821,1317,2605,319,1940,277,3603,295,1421,137,3466,311,17193,716,7210,455,14000,629,5270,424,2113,265]
[null,"$100,000 to $124,999",44138,1401,1822,258,1182,234,2221,266,629,120,2307,300,13888,656,5421,405,11870,658,3451,348,1347,223]
[null,"$125,000 to $149,999",28929,991,1099,192,664,168,1171,203,215,76,1444,206,9504,662,3093,333,8435,541,2493,287,811,156]
[null,"$150,000 to $199,999",29575,991,1101,197,503,136,1019,157,206,59,1335,162,10391,725,2859,249,9582,641,2049,308,530,129]
[null,"$200,000 or more",23536,778,676,151,518,151,851,164,210,85,1483,216,8117,510,2172,239,7447,511,1663,265,399,106]
[]
[]
[null,"B19113. MEDIAN FAMILY INCOME IN THE PAST 12 MONTHS (IN 2012 INFLATION-ADJUSTED DOLLARS)"]
[null,"Universe:  FAMILIES"]
[null,"Data Set: 2008-2012 American Community Survey 5-Year Estimates"]
[]
[null,null,"New Hampshire",null,"Belknap County",null,"Carroll County",null,"Cheshire County",null,"Coos County",null,"Grafton County",null,"Hillsborough County",null,"Merrimack County",null,"Rockingham County",null,"Strafford County",null,"Sullivan County"]
[null," ","Estimate","Margin of Error","Estimate","Margin of Error","Estimate","Margin of Error","Estimate","Margin of Error","Estimate","Margin of Error","Estimate","Margin of Error","Estimate","Margin of Error","Estimate","Margin of Error","Estimate","Margin of Error","Estimate","Margin of Error","Estimate","Margin of Error"]
[null,"Median family income in the past 12 months",79488,820,66400,2855,58800,3639,70440,2204,53337,2070,69244,2284,85028,1400,80161,1847,93432,1699,74316,2786,65970,2571]

{"sheet":"ACS_TableB19201_ACS_Tbl_B19202","index":37,"n_rows":115,"n_cols":24,"rows_kept":115,"cut":false,"hidden":true,"merged":[]}
[null,"B19102. NON-FAMILY INCOME IN THE PAST 12 MONTHS (IN 2022 INFLATION-ADJUSTED DOLLARS)"]
[null,"Universe:  FAMILIES"]
[null,"Data Set: 2018-2022 American Community Survey 5-Year Estimates"]
[]
[null,null,"New Hampshire",null,"Belknap County",null,"Carroll County",null,"Cheshire County",null,"Coos County",null,"Grafton County",null,"Hillsborough County",null,"Merrimack County",null,"Rockingham County",null,"Strafford County",null,"Sullivan County"]
[null," ","Estimate","Margin of Error","Estimate","Margin of Error","Estimate","Margin of Error","Estimate","Margin of Error","Estimate","Margin of Error","Estimate","Margin of Error","Estimate","Margin of Error","Estimate","Margin of Error","Estimate","Margin of Error","Estimate","Margin of Error","Estimate","Margin of Error"]
[null,"Total:",191210,2770,8856,571,8118,666,11591,731,5524,393,13665,664,59122,1710,19735,667,39342,1432,19330,771,5927,458]
[null,"Less than $10,000",11413,915,689,249,575,221,687,192,473,122,1040,222,2991,384,1270,242,2024,370,1064,219,600,185]
[null,"$10,000 to $14,999",11787,929,428,193,862,292,827,201,458,105,1013,319,3103,518,1383,254,1635,318,1612,383,466,185]
[null,"$15,000 to $19,999",11521,1000,523,156,368,138,1067,245,523,126,1113,294,2876,413,1307,277,2223,563,1007,271,514,179]
[null,"$20,000 to $24,999",10784,842,643,200,547,182,659,161,625,147,740,174,2833,463,1342,227,2035,398,1030,287,330,121]
[null,"$25,000 to $29,999",10592,841,704,209,602,177,744,201,497,118,846,205,2616,375,1179,223,2008,391,954,253,442,139]
[null,"$30,000 to $34,999",10669,915,767,220,451,214,847,259,319,94,820,194,2836,471,1309,370,1530,314,1407,391,383,225]
[null,"$35,000 to $39,999",9523,787,468,176,563,270,559,139,301,81,557,147,3557,543,859,201,1397,251,984,280,278,134]
[null,"$40,000 to $44,999",8345,690,525,221,225,77,464,168,272,98,445,116,2522,438,874,196,1578,330,1279,343,161,63]
[null,"$45,000 to $49,999",8943,738,427,156,293,158,452,147,363,102,443,145,2921,441,1181,217,1684,298,834,253,345,134]
[null,"$50,000 to $59,999",16279,919,820,212,643,244,1099,191,442,150,1075,223,5219,694,1876,316,3082,453,1571,350,452,169]
[null,"$60,000 to $74,999",18766,1075,634,207,486,133,1081,266,525,141,1292,288,6103,689,1841,305,4290,508,2034,367,480,189]
[null,"$75,000 to $99,999",23074,1213,525,152,974,279,1311,276,315,92,1653,314,7693,676,2318,325,5268,692,2220,351,797,221]
[null,"$100,000 to $124,999",14350,860,814,246,582,167,593,154,200,92,905,223,4986,523,1297,252,3509,439,1255,238,209,89]
[null,"$125,000 to $149,999",8850,764,380,155,262,137,596,211,97,37,508,194,3525,537,655,153,2087,369,623,215,117,84]
[null,"$150,000 to $199,999",7868,607,259,111,291,155,313,151,64,29,598,180,2729,364,489,144,2151,335,841,236,133,91]
[null,"$200,000 or more",8446,613,250,102,394,181,292,94,50,29,617,148,2612,460,555,151,2841,389,615,183,220,105]
[]
[]
[null,"B19112. MEDIAN NON-FAMILY INCOME IN THE PAST 12 MONTHS (IN 2022 INFLATION-ADJUSTED DOLLARS)"]
[null,"Universe:  FAMILIES"]
[null,"Data Set: 2018-2022 American Community Survey 5-Year Estimates"]
[]
[null,null,"New Hampshire",null,"Belknap County",null,"Carroll County",null,"Cheshire County",null,"Coos County",null,"Grafton County",null,"Hillsborough County",null,"Merrimack County",null,"Rockingham County",null,"Strafford County",null,"Sullivan County"]
[null," ","Estimate","Margin of Error","Estimate","Margin of Error","Estimate","Margin of Error","Estimate","Margin of Error","Estimate","Margin of Error","Estimate","Margin of Error","Estimate","Margin of Error","Estimate","Margin of Error","Estimate","Margin of Error","Estimate","Margin of Error","Estimate","Margin of Error"]
[null,"Median family income in the past 12 months",51252,1036,42785,3373,42370,6839,44401,4181,33067,3103,47845,4401,56721,1833,46254,2181,61704,2813,46925,3720,39375,5156]
[]
[]
[]
[]
[]
[]
[]
[]
[]
[]
[]
[]
[]
[]
[]
[]
[]
[null,"B19102. NON-FAMILY INCOME IN THE PAST 12 MONTHS (IN 2017 INFLATION-ADJUSTED DOLLARS)"]
[null,"Universe:  FAMILIES"]
[null,"Data Set: 2013-2017 American Community Survey 5-Year Estimates"]
[]
[null,null,"New Hampshire",null,"Belknap County",null,"Carroll County",null,"Cheshire County",null,"Coos County",null,"Grafton County",null,"Hillsborough County",null,"Merrimack County",null,"Rockingham County",null,"Strafford County",null,"Sullivan County"]
[null," ","Estimate","Margin of Error","Estimate","Margin of Error","Estimate","Margin of Error","Estimate","Margin of Error","Estimate","Margin of Error","Estimate","Margin of Error","Estimate","Margin of Error","Estimate","Margin of Error","Estimate","Margin of Error","Estimate","Margin of Error","Estimate","Margin of Error"]
[null,"Total:",176052,2251,8260,575,7142,594,11331,430,5154,298,13444,653,52077,1250,19091,597,36094,983,17278,736,6181,423]
[null,"Less than $10,000",15089,677,748,167,635,208,1297,244,532,108,1401,249,4384,418,1624,242,2453,354,1464,326,551,188]
[null,"$10,000 to $14,999",14102,797,661,191,878,265,1035,190,744,129,1206,306,3301,368,1794,282,2184,369,1620,350,679,180]
[null,"$15,000 to $19,999",13358,747,858,203,765,193,927,198,571,107,791,146,3968,469,1254,207,2286,342,1317,308,621,145]
[null,"$20,000 to $24,999",13429,673,582,161,569,180,1005,230,653,119,1191,247,3400,387,1533,222,2351,315,1410,264,735,160]
[null,"$25,000 to $29,999",11379,636,530,163,509,147,691,119,372,88,742,146,3333,430,1291,207,2116,332,1252,253,543,145]
[null,"$30,000 to $34,999",11328,610,627,165,411,138,852,188,438,98,978,192,3075,350,1428,221,2086,287,1032,225,401,114]
[null,"$35,000 to $39,999",9802,622,464,153,301,121,592,152,388,106,938,231,2805,351,1136,205,1917,326,1022,223,239,81]
[null,"$40,000 to $44,999",9018,638,310,115,348,142,650,169,280,57,643,210,2624,375,1127,218,1894,255,860,244,282,109]
[null,"$45,000 to $49,999",8348,606,378,147,372,152,572,161,193,83,528,126,2266,315,971,210,1685,286,1107,279,276,101]
[null,"$50,000 to $59,999",13686,798,519,151,458,162,958,214,387,104,1018,209,4045,426,1606,232,3295,431,1088,222,312,118]
[null,"$60,000 to $74,999",17556,804,791,155,604,172,1068,217,259,82,1345,259,5427,539,1882,260,4017,378,1589,239,574,150]
[null,"$75,000 to $99,999",16443,931,759,205,522,153,836,202,195,61,1204,243,5276,471,1590,263,3832,443,1789,336,440,122]
[null,"$100,000 to $124,999",9386,670,505,175,408,145,314,93,73,37,399,119,3521,403,731,154,2242,287,997,232,196,104]
[null,"$125,000 to $149,999",4753,494,219,87,108,76,213,65,32,17,324,113,1760,268,448,116,1118,239,336,120,195,94]
[null,"$150,000 to $199,999",4424,497,199,106,109,63,141,75,29,16,284,106,1539,307,356,106,1489,266,238,89,40,29]
[null,"$200,000 or more",3951,449,110,66,145,67,180,69,8,8,452,126,1353,319,320,122,1129,175,157,81,97,49]
[]
[]
[null,"B19112. MEDIAN NON-FAMILY INCOME IN THE PAST 12 MONTHS (IN 2017 INFLATION-ADJUSTED DOLLARS)"]
[null,"Universe:  FAMILIES"]
[null,"Data Set: 2013-2017 American Community Survey 5-Year Estimates"]
[]
[null,null,"New Hampshire",null,"Belknap County",null,"Carroll County",null,"Cheshire County",null,"Coos County",null,"Grafton County",null,"Hillsborough County",null,"Merrimack County",null,"Rockingham County",null,"Strafford County",null,"Sullivan County"]
[null," ","Estimate","Margin of Error","Estimate","Margin of Error","Estimate","Margin of Error","Estimate","Margin of Error","Estimate","Margin of Error","Estimate","Margin of Error","Estimate","Margin of Error","Estimate","Margin of Error","Estimate","Margin of Error","Estimate","Margin of Error","Estimate","Margin of Error"]
[null,"Median family income in the past 12 months",39721,808,36115,3009,31701,3255,34041,2272,25799,1860,36857,1832,42903,1803,37559,1814,47631,2173,37027,2301,29524,2818]
[]
[]
[null,"B19102. NON-FAMILY INCOME IN THE PAST 12 MONTHS (IN 2012 INFLATION-ADJUSTED DOLLARS)"]
[null,"Universe:  FAMILIES"]
[null,"Data Set: 2008-2012 American Community Survey 5-Year Estimates"]
[]
[null,null,"New Hampshire",null,"Belknap County",null,"Carroll County",null,"Cheshire County",null,"Coos County",null,"Grafton County",null,"Hillsborough County",null,"Merrimack County",null,"Rockingham County",null,"Strafford County",null,"Sullivan County"]
[null," ","Estimate","Margin of Error","Estimate","Margin of Error","Estimate","Margin of Error","Estimate","Margin of Error","Estimate","Margin of Error","Estimate","Margin of Error","Estimate","Margin of Error","Estimate","Margin of Error","Estimate","Margin of Error","Estimate","Margin of Error","Estimate","Margin of Error"]
[null,"Total:",169601,2294,7937,541,6938,546,11076,565,5592,363,12963,660,49591,1273,18889,738,34322,1083,16707,634,5586,334]
[null,"Less than $10,000",16377,875,889,215,853,194,1131,213,721,149,1565,255,4488,471,1724,277,2445,349,1896,349,665,184]
[null,"$10,000 to $14,999",15380,727,835,176,786,201,1086,177,999,179,1370,239,3834,386,1649,223,2419,337,1714,236,688,122]
[null,"$15,000 to $19,999",12833,667,775,199,518,150,1099,209,727,155,965,225,3629,308,1472,192,2097,286,1095,236,456,105]
[null,"$20,000 to $24,999",13383,723,586,169,449,162,1077,199,496,124,1394,267,3440,395,1582,252,2570,323,1334,225,455,134]
[null,"$25,000 to $29,999",11535,731,590,190,404,141,839,165,534,125,1003,207,3182,404,1314,231,1983,298,1309,272,377,99]
[null,"$30,000 to $34,999",11208,702,598,174,585,184,852,173,383,119,759,124,2771,368,1296,220,2244,372,1264,299,456,140]
[null,"$35,000 to $39,999",9012,708,484,160,443,166,760,186,233,66,596,160,2507,339,1113,201,1771,274,713,168,392,141]
[null,"$40,000 to $44,999",10077,657,442,163,480,166,606,152,345,111,666,151,2935,356,1078,186,2199,283,950,210,376,159]
[null,"$45,000 to $49,999",8504,720,294,109,273,116,629,181,230,68,824,209,2138,324,898,223,1765,353,1109,284,344,148]
[null,"$50,000 to $59,999",13913,727,605,178,526,135,828,181,264,80,1089,233,4236,409,1747,290,2744,330,1503,289,371,117]
[null,"$60,000 to $74,999",14906,954,651,177,557,164,760,183,234,71,896,196,4622,501,1681,241,3920,449,1234,261,351,93]
[null,"$75,000 to $99,999",14532,911,508,129,540,166,605,176,232,85,814,190,5109,578,1788,243,3438,386,1190,248,308,87]
[null,"$100,000 to $124,999",7872,616,274,112,199,96,440,128,92,51,381,120,2792,368,625,164,2339,414,540,161,190,97]
[null,"$125,000 to $149,999",3731,438,122,69,44,29,183,92,32,38,184,82,1553,285,393,110,854,208,311,140,55,55]
[null,"$150,000 to $199,999",3643,389,161,75,155,92,92,48,46,24,276,109,1265,226,317,101,872,192,425,148,34,29]
[null,"$200,000 or more",2695,271,123,55,126,62,89,41,24,20,181,65,1090,191,212,66,662,144,120,62,68,35]
[]
[]
[null,"B19112. MEDIAN NON-FAMILY INCOME IN THE PAST 12 MONTHS (IN 2012 INFLATION-ADJUSTED DOLLARS)"]
[null,"Universe:  FAMILIES"]
[null,"Data Set: 2008-2012 American Community Survey 5-Year Estimates"]
[]
[null,null,"New Hampshire",null,"Belknap County",null,"Carroll County",null,"Cheshire County",null,"Coos County",null,"Grafton County",null,"Hillsborough County",null,"Merrimack County",null,"Rockingham County",null,"Strafford County",null,"Sullivan County"]
[null," ","Estimate","Margin of Error","Estimate","Margin of Error","Estimate","Margin of Error","Estimate","Margin of Error","Estimate","Margin of Error","Estimate","Margin of Error","Estimate","Margin of Error","Estimate","Margin of Error","Estimate","Margin of Error","Estimate","Margin of Error","Estimate","Margin of Error"]
[null,"Median family income in the past 12 months",37167,684,31772,1822,33693,2601,31681,1930,23395,2419,31165,1874,41373,1004,36890,1769,43726,1258,34024,1817,31195,1759]

{"sheet":"ACS_Table_B25119","index":38,"n_rows":68,"n_cols":24,"rows_kept":68,"cut":false,"hidden":true,"merged":[]}
[null,"B25119. MEDIAN HOUSEHOLD INCOME THE PAST 12 MONTHS (IN 2022 INFLATION-ADJUSTED DOLLARS) BY TENURE"]
[null," Universe:  OCCUPIED HOUSING UNITS"]
[null,"Data Set: 2018-2022 American Community Survey 5-Year Estimates"]
[]
[null,null,"New Hampshire",null,"Belknap County",null,"Carroll County",null,"Cheshire County",null,"Coos County",null,"Grafton County",null,"Hillsborough County",null,"Merrimack County",null,"Rockingham County",null,"Strafford County",null,"Sullivan County"]
[null," ","Estimate","Margin of Error","Estimate","Margin of Error","Estimate","Margin of Error","Estimate","Margin of Error","Estimate","Margin of Error","Estimate","Margin of Error","Estimate","Margin of Error","Estimate","Margin of Error","Estimate","Margin of Error","Estimate","Margin of Error","Estimate","Margin of Error"]
[null,"Median household income in the past 12 months"]
[null,"Total:",90845,966,80719,6424,77049,4354,76551,4519,55247,3519,79949,2014,95112,2183,88806,2398,110225,2848,83212,3473,70788,5056]
[null,"Owner occupied (dollars)",109809,1192,97165,4514,85210,4545,92251,3394,66859,3372,93718,3675,120387,1983,107623,2662,127256,3208,105814,3959,86413,3936]
[null,"Renter occupied (dollars)",53472,1212,43775,5254,49883,9514,46566,3475,29839,3362,49804,4603,57427,2191,47476,3373,62998,2778,53664,3912,34508,5016]
[]
[]
[]
[]
[]
[]
[]
[]
[]
[]
[]
[]
[]
[]
[]
[]
[]
[]
[]
[null,"B25119. MEDIAN HOUSEHOLD INCOME THE PAST 12 MONTHS (IN 2017 INFLATION-ADJUSTED DOLLARS) BY TENURE"]
[null," Universe:  OCCUPIED HOUSING UNITS"]
[null,"Data Set: 2013-2017 American Community Survey 5-Year Estimates"]
[]
[null,null,"New Hampshire",null,"Belknap County",null,"Carroll County",null,"Cheshire County",null,"Coos County",null,"Grafton County",null,"Hillsborough County",null,"Merrimack County",null,"Rockingham County",null,"Strafford County",null,"Sullivan County"]
[null," ","Estimate","Margin of Error","Estimate","Margin of Error","Estimate","Margin of Error","Estimate","Margin of Error","Estimate","Margin of Error","Estimate","Margin of Error","Estimate","Margin of Error","Estimate","Margin of Error","Estimate","Margin of Error","Estimate","Margin of Error","Estimate","Margin of Error"]
[null,"Median household income in the past 12 months"]
[null,"Total:",71305,733,65834,3253,58139,3515,60148,1832,45386,1718,61036,2543,75777,1259,69856,1417,85619,1358,67805,2346,59419,3601]
[null,"Owner occupied (dollars)",87002,956,76710,2684,64652,2808,74675,3013,54522,1558,74338,2958,97588,1693,85000,1812,101330,1628,85904,2826,69488,2241]
[null,"Renter occupied (dollars)",41638,839,35838,5890,36345,6678,33453,2744,25633,2598,35642,2705,44730,1444,38726,2258,48704,1886,40973,1876,35343,8358]
[]
[]
[]
[]
[]
[]
[]
[]
[]
[]
[]
[]
[]
[]
[]
[]
[]
[]
[]
[null,"B25119. MEDIAN HOUSEHOLD INCOME THE PAST 12 MONTHS (IN 2012 INFLATION-ADJUSTED DOLLARS) BY TENURE"]
[null," Universe:  OCCUPIED HOUSING UNITS"]
[null,"Data Set: 2008-2012 American Community Survey 5-Year Estimates"]
[]
[null,null,"New Hampshire",null,"Belknap County",null,"Carroll County",null,"Cheshire County",null,"Coos County",null,"Grafton County",null,"Hillsborough County",null,"Merrimack County",null,"Rockingham County",null,"Strafford County",null,"Sullivan County"]
[null," ","Estimate","Margin of Error","Estimate","Margin of Error","Estimate","Margin of Error","Estimate","Margin of Error","Estimate","Margin of Error","Estimate","Margin of Error","Estimate","Margin of Error","Estimate","Margin of Error","Estimate","Margin of Error","Estimate","Margin of Error","Estimate","Margin of Error"]
[null,"Median household income in the past 12 months"]
[null,"Total:",64925,565,57163,2258,50865,2068,56062,1493,41774,2174,53386,1641,70472,1234,65487,1519,77939,1467,58538,1522,53821,2111]
[null,"Owner occupied (dollars)",79390,722,66935,2241,55652,3014,67844,1931,51482,2287,64499,2305,90011,1289,79729,1618,91252,1971,75744,1880,65111,2889]
[null,"Renter occupied (dollars)",36593,759,34046,3942,31834,2624,32737,2051,21160,1916,36811,2148,39295,1537,32368,1972,43700,1480,33506,1564,31800,4117]

{"sheet":"ACS_Table_B25001","index":39,"n_rows":29,"n_cols":24,"rows_kept":29,"cut":false,"hidden":true,"merged":[]}
[null,"B25001. HOUSING UNITS"]
[null,"Universe:  HOUSING UNITS"]
[null,"Data Set: 2018-2022 American Community Survey 5-Year Estimates"]
[]
[null,null,"New Hampshire",null,"Belknap County",null,"Carroll County",null,"Cheshire County",null,"Coos County",null,"Grafton County",null,"Hillsborough County",null,"Merrimack County",null,"Rockingham County",null,"Strafford County",null,"Sullivan County"]
[null," ","Estimate","Margin of Error","Estimate","Margin of Error","Estimate","Margin of Error","Estimate","Margin of Error","Estimate","Margin of Error","Estimate","Margin of Error","Estimate","Margin of Error","Estimate","Margin of Error","Estimate","Margin of Error","Estimate","Margin of Error","Estimate","Margin of Error"]
[null,"Total",640335,441,38478,73,39889,72,35706,138,20570,95,51191,58,175630,147,65744,101,135585,89,55672,92,21870,52]
[]
[]
[]
[]
[null,"B25001. HOUSING UNITS"]
[null,"Universe:  HOUSING UNITS"]
[null,"Data Set: 2013-2017 American Community Survey 5-Year Estimates"]
[]
[null,null,"New Hampshire",null,"Belknap County",null,"Carroll County",null,"Cheshire County",null,"Coos County",null,"Grafton County",null,"Hillsborough County",null,"Merrimack County",null,"Rockingham County",null,"Strafford County",null,"Sullivan County"]
[null," ","Estimate","Margin of Error","Estimate","Margin of Error","Estimate","Margin of Error","Estimate","Margin of Error","Estimate","Margin of Error","Estimate","Margin of Error","Estimate","Margin of Error","Estimate","Margin of Error","Estimate","Margin of Error","Estimate","Margin of Error","Estimate","Margin of Error"]
[null,"Total",627619,406,38148,120,40729,58,35304,203,21491,163,52347,175,169289,258,64449,263,130187,277,53109,235,22566,86]
[]
[]
[]
[]
[null,"B25001. HOUSING UNITS"]
[null,"Universe:  HOUSING UNITS"]
[null,"Data Set: 2008-2012 American Community Survey 5-Year Estimates"]
[]
[null,null,"New Hampshire",null,"Belknap County",null,"Carroll County",null,"Cheshire County",null,"Coos County",null,"Grafton County",null,"Hillsborough County",null,"Merrimack County",null,"Rockingham County",null,"Strafford County",null,"Sullivan County"]
[null," ","Estimate","Margin of Error","Estimate","Margin of Error","Estimate","Margin of Error","Estimate","Margin of Error","Estimate","Margin of Error","Estimate","Margin of Error","Estimate","Margin of Error","Estimate","Margin of Error","Estimate","Margin of Error","Estimate","Margin of Error","Estimate","Margin of Error"]
[null,"Total",611916,594,37138,96,39649,133,34662,317,21219,158,50689,311,165465,313,63294,329,126140,188,51429,323,22231,83]

{"sheet":"ACS_Table_B25003","index":40,"n_rows":42,"n_cols":24,"rows_kept":42,"cut":false,"hidden":true,"merged":[]}
[null,"B25003. TENURE"]
[null,"Universe:  OCCUPIED HOUSING UNITS"]
[null,"Data Set: 2018-2022 American Community Survey 5-Year Estimates"]
[]
[null,null,"New Hampshire",null,"Belknap County",null,"Carroll County",null,"Cheshire County",null,"Coos County",null,"Grafton County",null,"Hillsborough County",null,"Merrimack County",null,"Rockingham County",null,"Strafford County",null,"Sullivan County"]
[null," ","Estimate","Margin of Error","Estimate","Margin of Error","Estimate","Margin of Error","Estimate","Margin of Error","Estimate","Margin of Error","Estimate","Margin of Error","Estimate","Margin of Error","Estimate","Margin of Error","Estimate","Margin of Error","Estimate","Margin of Error","Estimate","Margin of Error"]
[null,"Total:",545116,1916,25956,632,21644,671,30307,459,13620,292,35084,684,166344,838,59851,448,125464,710,50953,591,15893,458]
[null,"Owner occupied",393945,2574,20011,643,17650,585,21422,534,9962,337,24776,629,111661,1241,44153,622,98479,1164,34187,889,11644,493]
[null,"Renter occupied",151171,2381,5945,621,3994,494,8885,508,3658,298,10308,707,54683,1409,15698,635,26985,1102,16766,770,4249,483]
[]
[]
[]
[]
[]
[]
[]
[]
[]
[]
[]
[]
[null,"B25003. TENURE"]
[null,"Universe:  OCCUPIED HOUSING UNITS"]
[null,"Data Set: 2013-2017 American Community Survey 5-Year Estimates"]
[]
[null,null,"New Hampshire",null,"Belknap County",null,"Carroll County",null,"Cheshire County",null,"Coos County",null,"Grafton County",null,"Hillsborough County",null,"Merrimack County",null,"Rockingham County",null,"Strafford County",null,"Sullivan County"]
[null," ","Estimate","Margin of Error","Estimate","Margin of Error","Estimate","Margin of Error","Estimate","Margin of Error","Estimate","Margin of Error","Estimate","Margin of Error","Estimate","Margin of Error","Estimate","Margin of Error","Estimate","Margin of Error","Estimate","Margin of Error","Estimate","Margin of Error"]
[null,"Total:",526710,2332,24579,676,21203,654,30529,470,13879,324,34856,606,158139,795,57247,533,119955,768,48543,627,17780,377]
[null,"Owner occupied",372304,2503,18619,570,16870,580,21453,535,9882,234,23802,583,104138,1144,40616,598,92025,1019,31845,665,13054,429]
[null,"Renter occupied",154406,2224,5960,463,4333,508,9076,507,3997,319,11054,551,54001,1074,16631,512,27930,1001,16698,721,4726,347]
[]
[]
[]
[null,"B25003. TENURE"]
[null,"Universe:  OCCUPIED HOUSING UNITS"]
[null,"Data Set: 2008-2012 American Community Survey 5-Year Estimates"]
[]
[null,null,"New Hampshire",null,"Belknap County",null,"Carroll County",null,"Cheshire County",null,"Coos County",null,"Grafton County",null,"Hillsborough County",null,"Merrimack County",null,"Rockingham County",null,"Strafford County",null,"Sullivan County"]
[null," ","Estimate","Margin of Error","Estimate","Margin of Error","Estimate","Margin of Error","Estimate","Margin of Error","Estimate","Margin of Error","Estimate","Margin of Error","Estimate","Margin of Error","Estimate","Margin of Error","Estimate","Margin of Error","Estimate","Margin of Error","Estimate","Margin of Error"]
[null,"Total:",514869,1627,24645,517,20564,649,30141,492,14860,321,34498,671,153471,805,57045,715,115105,792,46384,527,18156,368]
[null,"Owner occupied",373342,2318,18981,546,16554,512,21341,467,10666,348,24220,555,104861,1023,41725,654,90208,961,31494,543,13292,376]
[null,"Renter occupied",141527,1994,5664,494,4010,466,8800,567,4194,320,10278,620,48610,1015,15320,627,24897,925,14890,679,4864,373]

{"sheet":"ACS_Table_B25004","index":41,"n_rows":56,"n_cols":24,"rows_kept":56,"cut":false,"hidden":true,"merged":[]}
[null,"B25004. VACANCY STATUS"]
[null,"Universe:  VACANT HOUSING UNITS"]
[null,"Data Set: 2018-2022 American Community Survey 5-Year Estimates"]
[]
[null,null,"New Hampshire",null,"Belknap County",null,"Carroll County",null,"Cheshire County",null,"Coos County",null,"Grafton County",null,"Hillsborough County",null,"Merrimack County",null,"Rockingham County",null,"Strafford County",null,"Sullivan County"]
[null," ","Estimate","Margin of Error","Estimate","Margin of Error","Estimate","Margin of Error","Estimate","Margin of Error","Estimate","Margin of Error","Estimate","Margin of Error","Estimate","Margin of Error","Estimate","Margin of Error","Estimate","Margin of Error","Estimate","Margin of Error","Estimate","Margin of Error"]
[null,"Total:",95219,2071,12522,635,18245,661,5399,456,6950,296,16107,685,9286,838,5893,460,10121,712,4719,587,5977,442]
[null,"For rent",6030,690,171,123,202,103,228,141,217,109,657,267,1514,368,662,187,906,310,1156,347,317,179]
[null,"Rented, not occupied",2709,474,38,46,8,12,618,244,12,13,59,75,858,255,247,100,304,171,485,185,80,76]
[null,"For sale only",2250,441,263,133,283,145,93,82,182,118,293,152,361,147,141,91,501,235,95,62,38,30]
[null,"Sold, not occupied",2090,503,30,49,280,212,315,162,69,50,86,53,327,188,249,111,367,169,153,115,214,128]
[null,"For seasonal, recreational, or occasional use",67613,1558,10970,617,16743,674,3248,379,5129,244,13769,676,2463,406,3223,308,5616,577,1875,336,4577,358]
[null,"For migrant workers",99,85,44,69,0,28,27,43,15,24,8,14,5,7,0,28,0,28,0,28,0,25]
[null,"Other vacant",14428,1320,1006,265,729,222,870,253,1326,221,1235,233,3758,593,1371,346,2427,473,955,234,751,208]
[]
[]
[]
[]
[]
[]
[]
[null,"B25004. VACANCY STATUS"]
[null,"Universe:  VACANT HOUSING UNITS"]
[null,"Data Set: 2013-2017 American Community Survey 5-Year Estimates"]
[]
[null,null,"New Hampshire",null,"Belknap County",null,"Carroll County",null,"Cheshire County",null,"Coos County",null,"Grafton County",null,"Hillsborough County",null,"Merrimack County",null,"Rockingham County",null,"Strafford County",null,"Sullivan County"]
[null," ","Estimate","Margin of Error","Estimate","Margin of Error","Estimate","Margin of Error","Estimate","Margin of Error","Estimate","Margin of Error","Estimate","Margin of Error","Estimate","Margin of Error","Estimate","Margin of Error","Estimate","Margin of Error","Estimate","Margin of Error","Estimate","Margin of Error"]
[null,"Total:",100909,2176,13569,642,19526,652,4775,436,7612,302,17491,547,11150,728,7202,448,10232,683,4566,569,4786,369]
[null,"For rent",6971,725,290,142,113,90,321,176,225,103,604,236,2537,474,847,231,882,242,805,247,347,168]
[null,"Rented, not occupied",2044,430,68,64,55,62,115,89,41,49,345,175,477,173,290,133,266,140,377,168,10,15]
[null,"For sale only",5109,616,512,198,511,174,411,190,247,108,539,178,818,237,489,178,886,266,470,222,226,109]
[null,"Sold, not occupied",1399,298,46,63,9,12,112,104,62,36,127,94,369,144,240,119,297,133,21,33,116,75]
[null,"For seasonal, recreational, or occasional use",68821,1388,11599,564,17350,611,2784,280,5747,198,13871,460,3147,409,3576,293,5645,513,1685,231,3417,293]
[null,"For migrant workers",191,108,0,27,48,33,0,27,8,13,68,73,0,27,27,41,0,27,40,61,0,24]
[null,"Other vacant",16374,1056,1054,304,1440,325,1032,255,1282,192,1937,264,3802,492,1733,276,2256,374,1168,306,670,183]
[]
[]
[]
[]
[]
[]
[]
[null,"B25004. VACANCY STATUS"]
[null,"Universe:  VACANT HOUSING UNITS"]
[null,"Data Set: 2008-2012 American Community Survey 5-Year Estimates"]
[]
[null,null,"New Hampshire",null,"Belknap County",null,"Carroll County",null,"Cheshire County",null,"Coos County",null,"Grafton County",null,"Hillsborough County",null,"Merrimack County",null,"Rockingham County",null,"Strafford County",null,"Sullivan County"]
[null," ","Estimate","Margin of Error","Estimate","Margin of Error","Estimate","Margin of Error","Estimate","Margin of Error","Estimate","Margin of Error","Estimate","Margin of Error","Estimate","Margin of Error","Estimate","Margin of Error","Estimate","Margin of Error","Estimate","Margin of Error","Estimate","Margin of Error"]
[null,"Total:",97047,1797,12493,499,19085,627,4521,376,6359,297,16191,587,11994,775,6249,577,11035,839,5045,432,4075,375]
[null,"For rent",8396,906,421,201,342,169,294,130,242,113,849,256,2901,465,836,238,1665,300,670,249,176,102]
[null,"Rented, not occupied",2167,434,0,85,68,44,170,122,3,4,188,127,943,313,118,88,309,158,254,131,114,88]
[null,"For sale only",6769,706,619,239,474,163,299,116,242,110,577,177,1586,335,602,167,1401,366,720,258,249,116]
[null,"Sold, not occupied",1817,380,71,64,122,105,18,20,57,56,133,72,581,188,249,123,277,160,272,157,37,36]
[null,"For seasonal, recreational, or occasional use",63842,1179,10710,451,16802,605,2861,247,5053,227,12918,492,2541,373,3116,335,4699,433,2193,321,2949,261]
[null,"For migrant workers",21,26,15,25,4,8,0,85,0,85,2,3,0,85,0,85,0,85,0,85,0,85]
[null,"Other vacant",14035,1051,657,204,1273,214,879,224,762,192,1524,275,3442,456,1328,263,2684,480,936,262,550,189]

{"sheet":"ACS_Table_B25008","index":42,"n_rows":51,"n_cols":24,"rows_kept":51,"cut":false,"hidden":true,"merged":[]}
[null,"B25008. TOTAL POPULATION IN OCCUPIED HOUSING UNITS BY TENURE"]
[null,"Universe:  TOTAL POPULATION IN OCCUPIED HOUSING UNITS"]
[null,"Data Set: 2018-2022 American Community Survey 5-Year Estimates"]
[]
[null,null,"New Hampshire",null,"Belknap County",null,"Carroll County",null,"Cheshire County",null,"Coos County",null,"Grafton County",null,"Hillsborough County",null,"Merrimack County",null,"Rockingham County",null,"Strafford County",null,"Sullivan County"]
[null," ","Estimate","Margin of Error","Estimate","Margin of Error","Estimate","Margin of Error","Estimate","Margin of Error","Estimate","Margin of Error","Estimate","Margin of Error","Estimate","Margin of Error","Estimate","Margin of Error","Estimate","Margin of Error","Estimate","Margin of Error","Estimate","Margin of Error"]
[null,"Total:",1339086,"*****",62915,30,50068,18,72581,71,29403,41,84369,92,414579,121,147428,69,312661,53,122489,187,42593,30]
[null,"Owner occupied",1024540,5759,50322,1334,41277,1089,54211,1318,22708,626,62514,1547,296850,3555,115981,1669,260003,2864,87834,1770,32840,1171]
[null,"Renter occupied",314546,5760,12593,1331,8791,1091,18370,1318,6695,620,21855,1544,117729,3546,31447,1673,52658,2863,34655,1754,9753,1166]
[]
[]
[]
[]
[]
[]
[]
[]
[]
[]
[]
[]
[null,"B25008. TOTAL POPULATION IN OCCUPIED HOUSING UNITS BY TENURE"]
[null,"Universe:  TOTAL POPULATION IN OCCUPIED HOUSING UNITS"]
[null,"Data Set: 2013-2017 American Community Survey 5-Year Estimates"]
[]
[null,null,"New Hampshire",null,"Belknap County",null,"Carroll County",null,"Cheshire County",null,"Coos County",null,"Grafton County",null,"Hillsborough County",null,"Merrimack County",null,"Rockingham County",null,"Strafford County",null,"Sullivan County"]
[null," ","Estimate","Margin of Error","Estimate","Margin of Error","Estimate","Margin of Error","Estimate","Margin of Error","Estimate","Margin of Error","Estimate","Margin of Error","Estimate","Margin of Error","Estimate","Margin of Error","Estimate","Margin of Error","Estimate","Margin of Error","Estimate","Margin of Error"]
[null,"Total:",1289641,"*****",59453,235,46959,109,71585,452,29918,330,82494,394,397889,504,141309,606,299950,326,117731,493,42353,157]
[null,"Owner occupied",956919,5509,46023,1147,37976,1046,53186,1217,22262,689,59508,1228,276027,2808,105778,1562,242828,2388,81321,1693,32010,875]
[null,"Renter occupied",332722,5509,13430,1118,8983,1057,18399,1186,7656,689,22986,1155,121862,2857,35531,1489,57122,2395,36410,1614,10343,883]
[]
[]
[]
[]
[]
[]
[]
[]
[]
[]
[]
[]
[null,"B25008. TOTAL POPULATION IN OCCUPIED HOUSING UNITS BY TENURE"]
[null,"Universe:  TOTAL POPULATION IN OCCUPIED HOUSING UNITS"]
[null,"Data Set: 2008-2012 American Community Survey 5-Year Estimates"]
[]
[null,null,"New Hampshire",null,"Belknap County",null,"Carroll County",null,"Cheshire County",null,"Coos County",null,"Grafton County",null,"Hillsborough County",null,"Merrimack County",null,"Rockingham County",null,"Strafford County",null,"Sullivan County"]
[null," ","Estimate","Margin of Error","Estimate","Margin of Error","Estimate","Margin of Error","Estimate","Margin of Error","Estimate","Margin of Error","Estimate","Margin of Error","Estimate","Margin of Error","Estimate","Margin of Error","Estimate","Margin of Error","Estimate","Margin of Error","Estimate","Margin of Error"]
[null,"Total:",1276122,"*****",59021,192,47080,196,72330,771,32095,327,81953,647,392468,676,140186,770,292571,396,115341,785,43077,152]
[null,"Owner occupied",974408,5577,47720,1150,39163,911,53634,1074,23992,674,59972,1306,283869,3061,108322,1713,242461,2275,82827,1662,32448,865]
[null,"Renter occupied",301714,5577,11301,1183,7917,899,18696,1180,8103,631,21981,1345,108599,3159,31864,1679,50110,2275,32514,1765,10629,865]

{"sheet":"ACS_Table_B25024","index":43,"n_rows":78,"n_cols":24,"rows_kept":78,"cut":false,"hidden":true,"merged":[]}
[null,"B25024. UNITS IN STRUCTURE "]
[null,"Universe:  HOUSING UNITS"]
[null,"Data Set: 2018-2022 American Community Survey 5-Year Estimates"]
[]
[null,null,"New Hampshire",null,"Belknap County",null,"Carroll County",null,"Cheshire County",null,"Coos County",null,"Grafton County",null,"Hillsborough County",null,"Merrimack County",null,"Rockingham County",null,"Strafford County",null,"Sullivan County"]
[null," ","Estimate","Margin of Error","Estimate","Margin of Error","Estimate","Margin of Error","Estimate","Margin of Error","Estimate","Margin of Error","Estimate","Margin of Error",null,null,"Estimate","Margin of Error","Estimate","Margin of Error","Estimate","Margin of Error","Estimate","Margin of Error"]
[null,"Total:",640335,441,38478,73,39889,72,35706,138,20570,95,51191,58,175630,147,65744,101,135585,89,55672,92,21870,52]
[null,"1, detached",405630,2674,27732,574,31114,576,24697,574,14048,343,31058,707,99797,1411,42001,733,88850,1314,30820,895,15513,531]
[null,"1, attached",34473,1500,1520,302,783,222,922,259,335,92,4483,409,10063,786,3007,406,10626,812,2363,342,371,159]
[null,2,35392,1582,1342,289,1064,246,2284,415,1429,209,1917,304,13383,826,3651,530,5692,695,3802,494,828,246]
[null,"3 or 4",33546,1404,1446,286,1344,307,1340,253,1240,218,2628,419,11690,938,3636,406,4967,582,4132,611,1123,267]
[null,"5 to 9",30158,1318,1585,301,1622,351,1607,283,639,157,3196,362,9664,798,3047,422,5040,509,2805,378,953,250]
[null,"10 to 19",19663,995,632,212,648,210,1024,237,273,99,1376,256,6591,654,1934,321,4660,556,2091,482,434,152]
[null,"20 to 49",31221,1231,728,221,706,237,1068,263,350,96,1381,248,14035,866,2783,321,6831,655,3030,514,309,131]
[null,"50 or more",15489,988,251,112,50,46,604,205,68,42,1456,349,6819,669,1473,294,2678,343,1725,334,365,143]
[null,"Mobile home",34554,1326,3236,447,2513,363,2160,315,2181,204,3673,401,3550,462,4173,418,6190,678,4904,528,1974,298]
[null,"Boat, RV, van, etc.",209,83,6,9,45,37,0,28,7,11,23,23,38,36,39,34,51,52,0,28,0,25]
[]
[]
[null,"Calculated B25024. UNITS IN STRUCTURE "]
[null,"Universe:  HOUSING UNITS"]
[null,"Data Set: 2018-2022 American Community Survey 5-Year Estimates"]
[]
[null,null,"New Hampshire",null,"Belknap County",null,"Carroll County",null,"Cheshire County",null,"Coos County",null,"Grafton County",null,"Hillsborough County",null,"Merrimack County",null,"Rockingham County",null,"Strafford County",null,"Sullivan County"]
[null," ","Estimate","Margin of Error","Estimate","Margin of Error","Estimate","Margin of Error","Estimate","Margin of Error","Estimate","Margin of Error","Estimate","Margin of Error","Estimate","Margin of Error","Estimate","Margin of Error","Estimate","Margin of Error","Estimate","Margin of Error","Estimate","Margin of Error"]
[null,"Total:",{"$f":"C7","v":640335},441,38478,73,39889,72,35706,138,20570,95,51191,58,175630,147,65744,101,135585,89,55672,92,21870,52]
[null,"Single Family",405630,2674,27732,574,31114,576,24697,574,14048,343,31058,707,99797,1411,42001,733,88850,1314,30820,895,15513,531]
[null,"Multi-Family",{"$f":"C9+C10+C11+C12+C13+C14+C15","v":199942},{"$f":"SQRT((D9^2)+(D10^2)+(D11^2)+(D12^2)+(D13^2)+(D14^2)+(D15^2))","v":3455.8058394533682},{"$f":"E9+E10+E11+E12+E13+E14+E15","v":7504},{"$f":"SQRT((F9^2)+(F10^2)+(F11^2)+(F12^2)+(F13^2)+(F14^2)+(F15^2))","v":673.38770407544564},{"$f":"G9+G10+G11+G12+G13+G14+G15","v":6217},{"$f":"SQRT((H9^2)+(H10^2)+(H11^2)+(H12^2)+(H13^2)+(H14^2)+(H15^2))","v":655.46548345431586},{"$f":"I9+I10+I11+I12+I13+I14+I15","v":8849},{"$f":"SQRT((J9^2)+(J10^2)+(J11^2)+(J12^2)+(J13^2)+(J14^2)+(J15^2))","v":742.13677984587184},{"$f":"K9+K10+K11+K12+K13+K14+K15","v":4334},{"$f":"SQRT((L9^2)+(L10^2)+(L11^2)+(L12^2)+(L13^2)+(L14^2)+(L15^2))","v":380.91862648077478},{"$f":"M9+M10+M11+M12+M13+M14+M15","v":16437},{"$f":"SQRT((N9^2)+(N10^2)+(N11^2)+(N12^2)+(N13^2)+(N14^2)+(N15^2))","v":902.85270116448123},{"$f":"O9+O10+O11+O12+O13+O14+O15","v":72245},{"$f":"SQRT((P9^2)+(P10^2)+(P11^2)+(P12^2)+(P13^2)+(P14^2)+(P15^2))","v":2107.5941260119321},{"$f":"Q9+Q10+Q11+Q12+Q13+Q14+Q15","v":19531},{"$f":"SQRT((R9^2)+(R10^2)+(R11^2)+(R12^2)+(R13^2)+(R14^2)+(R15^2))","v":1039.795172137282},{"$f":"S9+S10+S11+S12+S13+S14+S15","v":40494},{"$f":"SQRT((T9^2)+(T10^2)+(T11^2)+(T12^2)+(T13^2)+(T14^2)+(T15^2))","v":1611.2057596719296},{"$f":"U9+U10+U11+U12+U13+U14+U15","v":19948},{"$f":"SQRT((V9^2)+(V10^2)+(V11^2)+(V12^2)+(V13^2)+(V14^2)+(V15^2))","v":1218.7210509382367},{"$f":"W9+W10+W11+W12+W13+W14+W15","v":4383},{"$f":"SQRT((X9^2)+(X10^2)+(X11^2)+(X12^2)+(X13^2)+(X14^2)+(X15^2))","v":529.43365967796194}]
[null,"Mobile Home & Other",{"$f":"C16+C17","v":34763},{"$f":"SQRT((D16^2)+(D17^2))","v":1328.5951226765812},{"$f":"E16+E17","v":3242},{"$f":"SQRT((F16^2)+(F17^2))","v":447.09059484627943},{"$f":"G16+G17","v":2558},{"$f":"SQRT((H16^2)+(H17^2))","v":364.88080245471946},{"$f":"I16+I17","v":2160},{"$f":"SQRT((J16^2)+(J17^2))","v":316.24199594614248},{"$f":"K16+K17","v":2188},{"$f":"SQRT((L16^2)+(L17^2))","v":204.29635336931494},{"$f":"M16+M17","v":3696},{"$f":"SQRT((N16^2)+(N17^2))","v":401.65905940237423},{"$f":"O16+O17","v":3588},{"$f":"SQRT((P16^2)+(P17^2))","v":463.4004747515911},{"$f":"Q16+Q17","v":4212},{"$f":"SQRT((R16^2)+(R17^2))","v":419.38049549305464},{"$f":"S16+S17","v":6241},{"$f":"SQRT((T16^2)+(T17^2))","v":679.99117641334146},{"$f":"U16+U17","v":4904},{"$f":"SQRT((V16^2)+(V17^2))","v":528.74190301128965},{"$f":"W16+W17","v":1974},{"$f":"SQRT((X16^2)+(X17^2))","v":299.04681907687967}]
[]
[]
[]
[]
[]
[]
[]
[]
[]
[]
[]
[]
[]
[]
[]
[]
[]
[]
[]
[]
[]
[]
[]
[]
[]
[]
[]
[null,"Calculated B25024. UNITS IN STRUCTURE "]
[null,"Universe:  HOUSING UNITS"]
[null,"Data Set: 2013-2017 American Community Survey 5-Year Estimates"]
[]
[null,null,"New Hampshire",null,"Belknap County",null,"Carroll County",null,"Cheshire County",null,"Coos County",null,"Grafton County",null,"Hillsborough County",null,"Merrimack County",null,"Rockingham County",null,"Strafford County",null,"Sullivan County"]
[null," ","Estimate","Margin of Error","Estimate","Margin of Error","Estimate","Margin of Error","Estimate","Margin of Error","Estimate","Margin of Error","Estimate","Margin of Error","Estimate","Margin of Error","Estimate","Margin of Error","Estimate","Margin of Error","Estimate","Margin of Error","Estimate","Margin of Error"]
[null,"Total:",627619,406,38148,120,40729,58,35304,203,21491,163,52347,175,169289,258,64449,263,130187,277,53109,235,22566,86]
[null,"Single Family",399612,2027,27460,577,30898,625,23825,474,14376,318,32292,680,97706,1107,41391,646,85812,922,29970,747,15882,393]
[null,"Multi-Family",192430,2879.8505169539617,7631,609.58674526272307,6660,595.81792520869999,9013,619.8991853519409,4529,364.32265919099791,16212,842.30635756831373,68373,1689.5019976312547,19210,850.1341070678202,37881,1242.5051307741148,18020,1022.5526881290763,4901,500.8203270635089]
[null,"Mobile Home & Other",35577,1179.7919308081405,3057,339.07668749119279,3171,387.51645126368504,2466,255.01764644824092,2586,214.03737991294884,3843,371.65171868296261,3210,332.84530941565032,3848,274.35743110038044,6494,394.18396720313217,5119,575.45981614705295,1783,228.01973598791838]
[]
[]
[null,"Calculated B25024. UNITS IN STRUCTURE "]
[null,"Universe:  HOUSING UNITS"]
[null,"Data Set: 2008-2012 American Community Survey 5-Year Estimates"]
[]
[null,null,"New Hampshire",null,"Belknap County",null,"Carroll County",null,"Cheshire County",null,"Coos County",null,"Grafton County",null,"Hillsborough County",null,"Merrimack County",null,"Rockingham County",null,"Strafford County",null,"Sullivan County"]
[null," ","Estimate","Margin of Error","Estimate","Margin of Error","Estimate","Margin of Error","Estimate","Margin of Error","Estimate","Margin of Error","Estimate","Margin of Error","Estimate","Margin of Error","Estimate","Margin of Error","Estimate","Margin of Error","Estimate","Margin of Error","Estimate","Margin of Error"]
[null,"Total:",611916,594,37138,96,39649,133,34662,317,21219,158,50689,311,165465,313,63294,329,126140,188,51429,323,22231,83]
[null,"Single Family",389227,1890,27074,594,30436,535,23525,403,14398,382,31427,632,94573,1022,41352,687,81669,908,29614,610,15159,387]
[null,"Multi-Family",186536,2933.4428578037787,7196,649.42590031503983,6749,598.47639886632123,8806,604.3070411636786,4787,382.52843031597013,14943,705.51116220794131,67382,1658.5008290621986,18233,861.73603847117829,36799,1298.7682626242452,16773,872.43567098096116,4868,490.23055800306861]
[null,"Mobile Home & Other",36153,1018.8881194714168,2868,342.2469868384527,2464,339.07668749119279,2331,247.08095839218367,2034,190.12890364171355,4319,388.41472680628368,3510,341.59771662000321,3709,308.52552568628744,7672,562.80014214639289,5042,376.34027156285043,2204,281.15654002708169]

{"sheet":"ACS_Table_B25032","index":44,"n_rows":119,"n_cols":24,"rows_kept":119,"cut":false,"hidden":true,"merged":[]}
[null,"B25032. TENURE BY UNITS IN STRUCTURE "]
[null,"Universe:  OCCUPIED HOUSING UNITS"]
[null,"Data Set: 2018-2022 American Community Survey 5-Year Estimates"]
[]
[null,null,"New Hampshire",null,"Belknap County",null,"Carroll County",null,"Cheshire County",null,"Coos County",null,"Grafton County",null,"Hillsborough County",null,"Merrimack County",null,"Rockingham County",null,"Strafford County",null,"Sullivan County"]
[null," ","Estimate","Margin of Error","Estimate","Margin of Error","Estimate","Margin of Error","Estimate","Margin of Error","Estimate","Margin of Error","Estimate","Margin of Error","Estimate","Margin of Error"]
[null,"Total:",545116,1916,25956,632,21644,671,30307,459,13620,292,35084,684,166344,838,59851,448,125464,710,50953,591,15893,458]
[null,"Owner-occupied housing units:",393945,2574,20011,643,17650,585,21422,534,9962,337,24776,629,111661,1241,44153,622,98479,1164,34187,889,11644,493]
[null,"1, detached",322016,2644,16866,542,15548,612,18507,657,8412,357,20619,583,90784,1363,35918,728,78697,1217,26899,850,9766,493]
[null,"1, attached",21818,1171,549,172,287,91,597,207,114,66,972,213,6971,571,2022,280,8639,785,1401,241,266,149]
[null,2,9923,772,251,109,79,50,531,190,369,107,321,112,3940,462,1260,363,2021,485,1002,260,149,73]
[null,"3 or 4",4248,516,145,89,210,126,14,19,105,58,305,161,1384,278,493,148,974,164,585,249,33,37]
[null,"5 to 9",3301,489,145,86,105,96,78,44,0,25,166,82,1342,346,345,163,815,192,289,119,16,28]
[null,"10 to 19",2409,460,117,76,66,96,27,32,0,25,139,86,1302,404,127,93,568,138,63,86,0,25]
[null,"20 to 49",4368,469,71,54,185,170,0,28,0,25,109,59,2237,354,207,95,1491,301,68,64,0,25]
[null,"50 or more",1112,230,19,21,0,28,37,42,0,25,63,75,635,196,97,59,185,77,76,70,0,25]
[null,"Mobile home",24664,1214,1848,379,1125,230,1631,279,955,150,2076,331,3056,436,3666,411,5089,613,3804,479,1414,259]
[null,"Boat, RV, van, etc.",86,52,0,28,45,37,0,28,7,11,6,8,10,16,18,20,0,28,0,28,0,25]
[null,"Renter-occupied housing units:",151171,2381,5945,621,3994,494,8885,508,3658,298,10308,707,54683,1409,15698,635,26985,1102,16766,770,4249,483]
[null,"1, detached",21773,1032,1496,258,1588,291,1945,311,744,151,1691,222,5438,608,1878,280,4142,573,1801,349,1050,312]
[null,"1, attached",7312,628,291,134,117,75,267,114,52,36,642,217,2661,487,934,234,1473,278,804,228,71,86]
[null,2,20375,1276,792,215,391,157,1463,322,727,166,1138,253,8088,692,2015,324,2928,468,2466,435,367,162]
[null,"3 or 4",24512,1258,1065,252,528,202,1225,244,766,156,1546,308,9172,868,2740,339,3453,518,3080,594,937,250]
[null,"5 to 9",21870,1068,893,232,342,173,1477,278,432,134,1916,318,7682,642,2455,383,3801,481,2215,334,657,184]
[null,"10 to 19",14607,951,316,156,257,151,788,212,205,76,825,208,5042,589,1693,283,3532,540,1588,438,361,148]
[null,"20 to 49",24161,1106,548,209,443,184,1010,255,350,96,1052,234,10680,734,2438,297,4793,561,2538,519,309,131]
[null,"50 or more",12956,979,232,111,50,46,527,186,68,42,988,284,5709,669,1276,273,2249,311,1495,310,362,144]
[null,"Mobile home",3482,456,306,149,278,122,183,83,314,88,493,120,183,73,248,100,563,190,779,251,135,79]
[null,"Boat, RV, van, etc.",123,62,6,9,0,28,0,28,0,25,17,21,28,36,21,27,51,52,0,28,0,25]
[]
[]
[null,"Calculated B25032. TENURE BY UNITS IN STRUCTURE "]
[null,"Universe:  OCCUPIED HOUSING UNITS"]
[null,"Data Set: 2018-2022 American Community Survey 5-Year Estimates"]
[]
[null,null,"New Hampshire",null,"Belknap County",null,"Carroll County",null,"Cheshire County",null,"Coos County",null,"Grafton County",null,"Hillsborough County",null,"Merrimack County",null,"Rockingham County",null,"Strafford County",null,"Sullivan County"]
[null," ","Estimate","Margin of Error","Estimate","Margin of Error","Estimate","Margin of Error","Estimate","Margin of Error","Estimate","Margin of Error","Estimate","Margin of Error","Estimate","Margin of Error","Estimate","Margin of Error","Estimate","Margin of Error","Estimate","Margin of Error","Estimate","Margin of Error"]
[null,"Total:",{"$f":"C7","v":545116},1916,25956,632,21644,671,30307,459,13620,292,35084,684,166344,838,59851,448,125464,710,50953,591,15893,458]
[null,"Owner-occupied housing units:",393945,2574,20011,643,17650,585,21422,534,9962,337,24776,629,111661,1241,44153,622,98479,1164,34187,889,11644,493]
[null,"Single Family",{"$f":"C9","v":322016},2644,16866,542,15548,612,18507,657,8412,357,20619,583,90784,1363,35918,728,78697,1217,26899,850,9766,493]
[null,"Multi-Family",{"$f":"C10+C11+C12+C13+C14+C15+C16","v":47179},{"$f":"SQRT((D10^2)+(D11^2)+(D12^2)+(D13^2)+(D14^2)+(D15^2)+(D16^2))","v":1719.6112932869451},{"$f":"E10+E11+E12+E13+E14+E15+E16","v":1297},{"$f":"SQRT((F10^2)+(F11^2)+(F12^2)+(F13^2)+(F14^2)+(F15^2)+(F16^2))","v":256.73916724956479},{"$f":"G10+G11+G12+G13+G14+G15+G16","v":932},{"$f":"SQRT((H10^2)+(H11^2)+(H12^2)+(H13^2)+(H14^2)+(H15^2)+(H16^2))","v":273.44652127975593},{"$f":"I10+I11+I12+I13+I14+I15+I16","v":1284},{"$f":"SQRT((J10^2)+(J11^2)+(J12^2)+(J13^2)+(J14^2)+(J15^2)+(J16^2))","v":291.23530005821755},{"$f":"K10+K11+K12+K13+K14+K15+K16","v":588},{"$f":"SQRT((L10^2)+(L11^2)+(L12^2)+(L13^2)+(L14^2)+(L15^2)+(L16^2))","v":147.20394016465727},{"$f":"M10+M11+M12+M13+M14+M15+M16","v":2075},{"$f":"SQRT((N10^2)+(N11^2)+(N12^2)+(N13^2)+(N14^2)+(N15^2)+(N16^2))","v":327.20024449868617},{"$f":"O10+O11+O12+O13+O14+O15+O16","v":17811},{"$f":"SQRT((P10^2)+(P11^2)+(P12^2)+(P13^2)+(P14^2)+(P15^2)+(P16^2))","v":1031.2288785715807},{"$f":"Q10+Q11+Q12+Q13+Q14+Q15+Q16","v":4551},{"$f":"SQRT((R10^2)+(R11^2)+(R12^2)+(R13^2)+(R14^2)+(R15^2)+(R16^2))","v":528.95841046343139},{"$f":"S10+S11+S12+S13+S14+S15+S16","v":14693},{"$f":"SQRT((T10^2)+(T11^2)+(T12^2)+(T13^2)+(T14^2)+(T15^2)+(T16^2))","v":1015.2753321143974},{"$f":"U10+U11+U12+U13+U14+U15+U16","v":3484},{"$f":"SQRT((V10^2)+(V11^2)+(V12^2)+(V13^2)+(V14^2)+(V15^2)+(V16^2))","v":467.15629076359443},{"$f":"W10+W11+W12+W13+W14+W15+W16","v":464},{"$f":"SQRT((X10^2)+(X11^2)+(X12^2)+(X13^2)+(X14^2)+(X15^2)+(X16^2))","v":177.64571483714434}]
[null,"Mobile Home & Other",{"$f":"C17+C18","v":24750},{"$f":"SQRT((D17^2)+(D18^2))","v":1215.1131634543344},{"$f":"E17+E18","v":1848},{"$f":"SQRT((F17^2)+(F18^2))","v":380.03289331319729},{"$f":"G17+G18","v":1170},{"$f":"SQRT((H17^2)+(H18^2))","v":232.95707759155977},{"$f":"I17+I18","v":1631},{"$f":"SQRT((J17^2)+(J18^2))","v":280.40149785619906},{"$f":"K17+K18","v":962},{"$f":"SQRT((L17^2)+(L18^2))","v":150.4027925272666},{"$f":"M17+M18","v":2082},{"$f":"SQRT((N17^2)+(N18^2))","v":331.09666262286606},{"$f":"O17+O18","v":3066},{"$f":"SQRT((P17^2)+(P18^2))","v":436.29347920866292},{"$f":"Q17+Q18","v":3684},{"$f":"SQRT((R17^2)+(R18^2))","v":411.48633027112822},{"$f":"S17+S18","v":5089},{"$f":"SQRT((T17^2)+(T18^2))","v":613.63914477484241},{"$f":"U17+U18","v":3804},{"$f":"SQRT((V17^2)+(V18^2))","v":479.81767370533572},{"$f":"W17+W18","v":1414},{"$f":"SQRT((X17^2)+(X18^2))","v":260.20376630633154}]
[null,"Renter-occupied housing units:",{"$f":"C19","v":151171},{"$f":"D19","v":2381},{"$f":"E19","v":5945},621,3994,494,8885,508,3658,298,10308,707,54683,1409,15698,635,26985,1102,16766,770,4249,483]
[null,"Single Family",{"$f":"C20","v":21773},{"$f":"D20","v":1032},1496,258,1588,291,1945,311,744,151,1691,222,5438,608,1878,280,4142,573,1801,349,1050,312]
[null,"Multi-Family",{"$f":"C21+C22+C23+C24+C25+C26+C27","v":125793},{"$f":"SQRT((D21^2)+(D22^2)+(D23^2)+(D24^2)+(D25^2)+(D26^2)+(D27^2))","v":2798.5399764877398},{"$f":"E21+E22+E23+E24+E25+E26+E27","v":4137},{"$f":"SQRT((F21^2)+(F22^2)+(F23^2)+(F24^2)+(F25^2)+(F26^2)+(F27^2))","v":511.70987873989691},{"$f":"G21+G22+G23+G24+G25+G26+G27","v":2128},{"$f":"SQRT((H21^2)+(H22^2)+(H23^2)+(H24^2)+(H25^2)+(H26^2)+(H27^2))","v":399.72490540370387},{"$f":"I21+I22+I23+I24+I25+I26+I27","v":6757},{"$f":"SQRT((J21^2)+(J22^2)+(J23^2)+(J24^2)+(J25^2)+(J26^2)+(J27^2))","v":630.92392568359617},{"$f":"K21+K22+K23+K24+K25+K26+K27","v":2600},{"$f":"SQRT((L21^2)+(L22^2)+(L23^2)+(L24^2)+(L25^2)+(L26^2)+(L27^2))","v":296.47934160747189},{"$f":"M21+M22+M23+M24+M25+M26+M27","v":8107},{"$f":"SQRT((N21^2)+(N22^2)+(N23^2)+(N24^2)+(N25^2)+(N26^2)+(N27^2))","v":696.96628325909717},{"$f":"O21+O22+O23+O24+O25+O26+O27","v":49034},{"$f":"SQRT((P21^2)+(P22^2)+(P23^2)+(P24^2)+(P25^2)+(P26^2)+(P27^2))","v":1793.002788620252},{"$f":"Q21+Q22+Q23+Q24+Q25+Q26+Q27","v":13551},{"$f":"SQRT((R21^2)+(R22^2)+(R23^2)+(R24^2)+(R25^2)+(R26^2)+(R27^2))","v":814.96564344762407},{"$f":"S21+S22+S23+S24+S25+S26+S27","v":22229},{"$f":"SQRT((T21^2)+(T22^2)+(T23^2)+(T24^2)+(T25^2)+(T26^2)+(T27^2))","v":1224.3508484090662},{"$f":"U21+U22+U23+U24+U25+U26+U27","v":14186},{"$f":"SQRT((V21^2)+(V22^2)+(V23^2)+(V24^2)+(V25^2)+(V26^2)+(V27^2))","v":1123.7909058183377},{"$f":"W21+W22+W23+W24+W25+W26+W27","v":3064},{"$f":"SQRT((X21^2)+(X22^2)+(X23^2)+(X24^2)+(X25^2)+(X26^2)+(X27^2))","v":435.65697515361785}]
[null,"Mobile Home & Other",{"$f":"C28+C29","v":3605},{"$f":"SQRT((D28^2)+(D29^2))","v":460.1956105831519},{"$f":"E28+E29","v":312},{"$f":"SQRT((F28^2)+(F29^2))","v":149.27156460625713},{"$f":"G28+G29","v":278},{"$f":"SQRT((H28^2)+(H29^2))","v":125.1718818265508},{"$f":"I28+I29","v":183},{"$f":"SQRT((J28^2)+(J29^2))","v":87.595661993046207},{"$f":"K28+K29","v":314},{"$f":"SQRT((L28^2)+(L29^2))","v":91.482238713315269},{"$f":"M28+M29","v":510},{"$f":"SQRT((N28^2)+(N29^2))","v":121.82364302548172},{"$f":"O28+O29","v":211},{"$f":"SQRT((P28^2)+(P29^2))","v":81.394102980498531},{"$f":"Q28+Q29","v":269},{"$f":"SQRT((R28^2)+(R29^2))","v":103.58088626768937},{"$f":"S28+S29","v":614},{"$f":"SQRT((T28^2)+(T29^2))","v":196.98730923589977},{"$f":"U28+U29","v":779},{"$f":"SQRT((V28^2)+(V29^2))","v":252.55692427648862},{"$f":"W28+W29","v":135},{"$f":"SQRT((X28^2)+(X29^2))","v":82.861329943466387}]
[]
[]
[]
[]
[]
[]
[]
[]
[]
[]
[]
[]
[]
[]
[]
[]
[]
[]
[]
[]
[]
[]
[]
[]
[]
[]
[]
[]
[]
[]
[]
[]
[]
[]
[]
[]
[]
[]
[]
[]
[null,"Calculated B25032. TENURE BY UNITS IN STRUCTURE "]
[null,"Universe:  OCCUPIED HOUSING UNITS"]
[null,"Data Set: 2013-2017 American Community Survey 5-Year Estimates"]
[]
[null,null,"New Hampshire",null,"Belknap County",null,"Carroll County",null,"Cheshire County",null,"Coos County",null,"Grafton County",null,"Hillsborough County",null,"Merrimack County",null,"Rockingham County",null,"Strafford County",null,"Sullivan County"]
[null," ","Estimate","Margin of Error","Estimate","Margin of Error","Estimate","Margin of Error","Estimate","Margin of Error","Estimate","Margin of Error","Estimate","Margin of Error","Estimate","Margin of Error","Estimate","Margin of Error","Estimate","Margin of Error","Estimate","Margin of Error","Estimate","Margin of Error"]
[null,"Total:",526710,2332,24579,676,21203,654,30529,470,13879,324,34856,606,158139,795,57247,533,119955,768,48543,627,17780,377]
[null,"Owner-occupied housing units:",372304,2503,18619,570,16870,580,21453,535,9882,234,23802,583,104138,1144,40616,598,92025,1019,31845,665,13054,429]
[null,"Single Family",307227,2387,15733,519,14580,610,18273,527,8104,233,19610,532,86299,1129,33882,604,74558,1004,25009,740,11179,419]
[null,"Multi-Family",41346,1308.2140497640285,1339,217.97706301351985,888,252.74493071078598,1186,217.92888748396803,547,112.1739720255996,1859,290.58389494257938,15385,762.88138003230881,3663,331.9096262538946,12880,721.3279420624159,3014,391.09333924269282,585,162.67759526130203]
[null,"Mobile Home & Other",23731,856.08060368168606,1547,238.53301658261063,1402,247.80839372386077,1994,251.01792764661252,1231,143.05593311708537,2333,305.79241324794179,2454,260.30174797722736,3071,226.6142096162551,4587,323.68194265358704,3822,433.4166586553867,1290,198.022725968511]
[null,"Renter-occupied housing units:",154406,2224,5960,463,4333,508,9076,507,3997,319,11054,551,54001,1074,16631,512,27930,1001,16698,721,4726,347]
[null,"Single Family",26879,1112,1706,300,1861,304,1866,261,1076,175,2476,296,6106,508,2855,328,5407,581,2316,402,1210,221]
[null,"Multi-Family",123132,2409.9512443201002,3999,445.72525169660287,2248,419.73324862345606,6952,569.18713970011652,2689,259.47832279402456,7962,652.02223888453375,47541,1427.1955016745253,13402,730.10067798900172,21491,960.31453180715744,13513,913.39531419862237,3335,418.0167460760394]
[null,"Mobile Home & Other",4395,467.0171303068015,255,131.79529581893277,224,107.70793842609746,258,92.048900047746358,232,76.843997813752509,616,157.33403954643762,354,113.35784048754634,374,112.8716084761797,1032,240.44126101815388,869,270.31278179176064,181,97.984692682071525]
[]
[]
[]
[null,"Calculated B25032. TENURE BY UNITS IN STRUCTURE "]
[null,"Universe:  OCCUPIED HOUSING UNITS"]
[null,"Data Set: 2008-2012 American Community Survey 5-Year Estimates"]
[]
[null,null,"New Hampshire",null,"Belknap County",null,"Carroll County",null,"Cheshire County",null,"Coos County",null,"Grafton County",null,"Hillsborough County",null,"Merrimack County",null,"Rockingham County",null,"Strafford County",null,"Sullivan County"]
[null," ","Estimate","Margin of Error","Estimate","Margin of Error","Estimate","Margin of Error","Estimate","Margin of Error","Estimate","Margin of Error","Estimate","Margin of Error","Estimate","Margin of Error","Estimate","Margin of Error","Estimate","Margin of Error","Estimate","Margin of Error","Estimate","Margin of Error"]
[null,"Total:",514869,1627,24645,517,20564,649,30141,492,14860,321,34498,671,153471,805,57045,715,115105,792,46384,527,18156,368]
[null,"Owner-occupied housing units:",373342,2318,18981,546,16554,512,21341,467,10666,348,24220,555,104861,1023,41725,654,90208,961,31494,543,13292,376]
[null,"Single Family",303896,1931,16260,497,14380,496,18048,426,8906,363,19748,580,85094,1077,34718,600,71095,877,24603,582,11044,351]
[null,"Multi-Family",43650,1332.1020981891741,1198,244.20278458690842,825,212.56998847438459,1435,236.79315868495863,634,180.32747988035544,1880,267.71253239249,16974,806.96964007328063,4148,391.40516092662858,13083,704.22368605436725,2925,317.9543992461812,548,201.13428350234079]
[null,"Mobile Home & Other",25796,878.05352911995067,1523,215.39266468475662,1349,213.71242359769354,1858,212.72047386182646,1126,161.11176245079065,2592,295.4894245146516,2793,281.51376520518494,2859,267.84510449138321,6030,441.59936594157381,3966,332.38531856867564,1700,248.95983611819798]
[null,"Renter-occupied housing units:",141527,1994,5664,494,4010,466,8800,567,4194,320,10278,620,48610,1015,15320,627,24897,925,14890,679,4864,373]
[null,"Single Family",23423,1064,1595,275,1725,263,2007,242,625,107,2381,311,5082,502,2405,350,4408,438,2139,346,1056,197]
[null,"Multi-Family",113575,2457.3577273160699,3713,434.78385434604172,2047,388.10436740650061,6442,545.66289960011022,3233,338.10057675194815,7161,575.11216297344993,43170,1420.3196823250744,12303,753.12681535050922,19773,999.1186115772241,12207,801.64830193795081,3526,424.96823410697414]
[null,"Mobile Home & Other",4529,491.47126060432061,356,149.5125412799876,238,138.2244551445221,351,155.32224567009067,336,83.096329642168911,736,241.45600013252931,358,121.51131634543344,612,155.04837954651444,716,166.86821147240718,544,188.27904822364064,282,121.63058825805291]

{"sheet":"ACS_Table_B25034","index":45,"n_rows":58,"n_cols":24,"rows_kept":58,"cut":false,"hidden":true,"merged":[]}
[null,"B25034. YEAR STRUCTURE BUILT"]
[null,"Universe:  HOUSING UNITS"]
[null,"Data Set: 2018-2022 American Community Survey 5-Year Estimates"]
[]
[null,null,"New Hampshire",null,"Belknap County",null,"Carroll County",null,"Cheshire County",null,"Coos County",null,"Grafton County",null,"Hillsborough County",null,"Merrimack County",null,"Rockingham County",null,"Strafford County",null,"Sullivan County"]
[null," ","Estimate","Margin of Error","Estimate","Margin of Error","Estimate","Margin of Error","Estimate","Margin of Error","Estimate","Margin of Error","Estimate","Margin of Error","Estimate","Margin of Error","Estimate","Margin of Error","Estimate","Margin of Error","Estimate","Margin of Error","Estimate","Margin of Error"]
[null,"Total:",640335,441,38478,73,39889,72,35706,138,20570,95,51191,58,175630,147,65744,101,135585,89,55672,92,21870,52]
[null,"Built 2014 or later",2173,370,170,111,61,37,58,41,39,20,236,110,565,278,150,88,519,145,351,148,24,18]
[null,"Built 2010 or 2013",36542,1485,2240,332,1904,313,1449,271,641,123,2378,328,8530,699,3599,407,11006,870,4126,446,669,193]
[null,"Built 2000 to 2009",72971,1978,5467,542,5723,520,3572,376,2041,231,6302,436,16641,938,7601,521,16659,946,7038,632,1927,264]
[null,"Built 1990 to 1999",67009,1783,3860,474,4241,454,2677,328,1952,193,5445,551,18857,1266,6739,515,16002,820,5200,638,2036,345]
[null,"Built 1980 to 1989",122819,2449,6624,571,8994,647,5543,488,2665,207,10980,571,35389,1290,11399,759,27811,1102,9367,618,4047,452]
[null,"Built 1970 to 1979",94120,2214,5806,600,5597,468,5095,497,2644,239,6739,583,27481,1181,9405,580,20559,932,7193,681,3601,440]
[null,"Built 1960 to 1969",54322,1725,3419,521,3728,504,3079,370,1290,187,3619,421,16672,983,4923,553,11293,779,4707,522,1592,268]
[null,"Built 1950 to 1959",43011,1595,2850,418,2122,362,2766,315,1875,249,2646,383,12250,747,3246,367,9309,766,4410,525,1537,327]
[null,"Built 1940 to 1949",22619,1325,1640,314,1538,411,1339,209,975,154,1771,291,6548,758,2400,362,3621,394,1795,326,992,238]
[null,"Built 1939 or earlier",124749,2377,6402,520,5981,520,10128,581,6448,363,11075,590,32697,1120,16282,760,18806,1018,11485,784,5445,443]
[]
[]
[]
[]
[null,"B25034. YEAR STRUCTURE BUILT"]
[null,"Universe:  HOUSING UNITS"]
[null,"Data Set: 2013-2017 American Community Survey 5-Year Estimates"]
[]
[null,null,"New Hampshire",null,"Belknap County",null,"Carroll County",null,"Cheshire County",null,"Coos County",null,"Grafton County",null,"Hillsborough County",null,"Merrimack County",null,"Rockingham County",null,"Strafford County",null,"Sullivan County"]
[null," ","Estimate","Margin of Error","Estimate","Margin of Error","Estimate","Margin of Error","Estimate","Margin of Error","Estimate","Margin of Error","Estimate","Margin of Error","Estimate","Margin of Error","Estimate","Margin of Error","Estimate","Margin of Error","Estimate","Margin of Error","Estimate","Margin of Error"]
[null,"Total:",627619,406,38148,120,40729,58,35304,203,21491,163,52347,175,169289,258,64449,263,130187,277,53109,235,22566,86]
[null,"Built 2020 or later",3681,394,275,102,49,51,232,136,60,30,273,99,995,216,398,86,990,208,362,126,47,38]
[null,"Built 2010 or 2019",10134,775,449,135,448,153,654,173,150,45,1181,221,2304,312,938,167,2584,351,1135,230,291,92]
[null,"Built 2000 to 2009",77483,1726,6301,517,6247,534,3678,341,2648,187,6802,480,17477,764,7746,420,16597,728,7457,567,2530,262]
[null,"Built 1990 to 1999",66811,1622,3376,386,4988,427,3217,283,1987,200,4805,409,17588,755,6673,423,17455,882,4858,468,1864,233]
[null,"Built 1980 to 1989",126649,2003,7340,461,9593,662,5355,417,2648,214,11997,571,35817,1129,13267,581,27714,1030,9185,565,3733,360]
[null,"Built 1970 to 1979",92697,1799,5259,406,6022,600,4187,340,2716,231,7185,477,25858,876,9217,538,21798,796,6917,502,3538,363]
[null,"Built 1960 to 1969",55335,1639,3713,392,3352,433,3255,296,1645,187,4086,432,16245,767,4474,426,12098,765,4740,467,1727,288]
[null,"Built 1950 to 1959",44225,1391,2790,326,2311,358,2940,381,2085,196,2898,339,12354,728,3476,321,9146,589,4587,446,1638,242]
[null,"Built 1940 to 1949",23372,972,1641,334,852,200,1623,251,1280,168,1652,314,6243,461,2208,264,4129,386,2610,349,1134,203]
[null,"Built 1939 or earlier",127232,1840,7004,507,6867,551,10163,562,6272,314,11468,584,34408,829,16052,571,17676,771,11258,645,6064,413]
[]
[]
[]
[]
[null,"B25034. YEAR STRUCTURE BUILT"]
[null,"Universe:  HOUSING UNITS"]
[null,"Data Set: 2008-2012 American Community Survey 5-Year Estimates"]
[]
[null,null,"New Hampshire",null,"Belknap County",null,"Carroll County",null,"Cheshire County",null,"Coos County",null,"Grafton County",null,"Hillsborough County",null,"Merrimack County",null,"Rockingham County",null,"Strafford County",null,"Sullivan County"]
[null," ","Estimate","Margin of Error","Estimate","Margin of Error","Estimate","Margin of Error","Estimate","Margin of Error","Estimate","Margin of Error","Estimate","Margin of Error","Estimate","Margin of Error","Estimate","Margin of Error","Estimate","Margin of Error","Estimate","Margin of Error","Estimate","Margin of Error"]
[null,"Total:",611916,594,37138,96,39649,133,34662,317,21219,158,50689,311,165465,313,63294,329,126140,188,51429,323,22231,83]
[null,"Built 2005 or later",20951,929,1230,234,1078,247,1115,192,447,100,1238,212,4717,387,2677,323,5244,354,2610,315,595,139]
[null,"Built 2000 to 2004",44935,1287,3174,357,2799,399,2280,256,1300,161,2992,291,11290,633,5063,430,10520,713,4392,347,1125,181]
[null,"Built 1990 to 1999",65652,1574,4496,464,4331,409,3121,276,1933,166,5298,420,16203,827,6400,501,16472,761,5172,459,2226,218]
[null,"Built 1980 to 1989",122640,1678,7578,566,9389,499,4895,362,3002,242,11474,521,33115,750,12495,597,27438,939,9503,517,3751,280]
[null,"Built 1970 to 1979",95683,1772,4601,426,7412,552,4660,418,3048,251,7995,461,27202,903,8825,500,21233,900,7015,451,3692,344]
[null,"Built 1960 to 1969",56022,1756,3586,447,4077,439,2807,292,1524,184,4060,388,16436,748,4911,389,12258,722,4699,450,1664,248]
[null,"Built 1950 to 1959",45865,1593,3226,479,2462,349,3255,311,1919,208,3016,374,12534,554,4191,400,9280,655,4269,402,1713,229]
[null,"Built 1940 to 1949",25817,1094,1697,355,1477,316,1471,259,1297,165,2014,305,7292,664,2435,354,4659,483,2291,372,1184,187]
[null,"Built 1939 or earlier",134351,2311,7550,558,6624,530,11058,584,6749,338,12602,542,36676,968,16297,666,19036,836,11478,620,6281,430]

{"sheet":"ACS_Table_B25041","index":46,"n_rows":73,"n_cols":24,"rows_kept":73,"cut":false,"hidden":true,"merged":[]}
[null,"B25041. BEDROOMS "]
[null,"Universe:  HOUSING UNITS"]
[null,"Data Set: 2018-2022 American Community Survey 5-Year Estimates"]
[]
[null,null,"New Hampshire",null,"Belknap County",null,"Carroll County",null,"Cheshire County",null,"Coos County",null,"Grafton County",null,"Hillsborough County",null,"Merrimack County",null,"Rockingham County",null,"Strafford County",null,"Sullivan County"]
[null," ","Estimate","Margin of Error","Estimate","Margin of Error","Estimate","Margin of Error","Estimate","Margin of Error","Estimate","Margin of Error","Estimate","Margin of Error","Estimate","Margin of Error","Estimate","Margin of Error","Estimate","Margin of Error","Estimate","Margin of Error","Estimate","Margin of Error"]
[null,"Total:",640335,441,38478,73,39889,72,35706,138,20570,95,51191,58,175630,147,65744,101,135585,89,55672,92,21870,52]
[null,"No bedroom",12399,853,920,283,865,250,659,189,745,147,1157,240,2674,422,1592,288,2008,335,1562,403,217,79]
[null,"1 bedroom",70892,1945,3584,452,3292,392,4617,396,2712,287,7024,524,20951,1356,7400,474,12372,837,6338,667,2602,359]
[null,"2 bedrooms",190503,2406,12258,714,10567,676,10000,533,6335,386,15922,659,53463,1474,18501,681,39615,1130,16919,969,6923,513]
[null,"3 bedrooms",243047,2853,15458,709,17318,781,13795,679,7799,357,17869,648,61612,1374,26709,738,53008,1407,20661,1019,8818,519]
[null,"4 bedrooms",99439,2128,4759,508,6135,586,5155,514,2248,199,7274,531,30508,1285,9434,539,23245,991,8065,692,2616,345]
[null,"5 or more bedrooms",24055,1081,1499,286,1712,308,1480,258,731,130,1945,261,6422,617,2108,290,5337,555,2127,377,694,222]
[]
[]
[null,"Calculated B25041. BEDROOMS "]
[null,"Universe:  HOUSING UNITS"]
[null,"Data Set: 2018-2022 American Community Survey 5-Year Estimates"]
[]
[null," "]
[null,null,"New Hampshire",null,"Belknap County",null,"Carroll County",null,"Cheshire County",null,"Coos County",null,"Grafton County",null,"Hillsborough County",null,"Merrimack County",null,"Rockingham County",null,"Strafford County",null,"Sullivan County"]
[null,"Total:",{"$f":"C7","v":640335},441,38478,73,39889,72,35706,138,20570,95,51191,58,175630,147,65744,101,135585,89,55672,92,21870,52]
[null,"No bedroom",{"$f":"C8","v":12399},853,920,283,865,250,659,189,745,147,1157,240,2674,422,1592,288,2008,335,1562,403,217,79]
[null,"1 bedroom",{"$f":"C9","v":70892},1945,3584,452,3292,392,4617,396,2712,287,7024,524,20951,1356,7400,474,12372,837,6338,667,2602,359]
[null,"2 bedrooms",{"$f":"C10","v":190503},2406,12258,714,10567,676,10000,533,6335,386,15922,659,53463,1474,18501,681,39615,1130,16919,969,6923,513]
[null,"3 bedrooms",{"$f":"C11","v":243047},2853,15458,709,17318,781,13795,679,7799,357,17869,648,61612,1374,26709,738,53008,1407,20661,1019,8818,519]
[null,"4 + bedrooms",{"$f":"C13+C12","v":123494},{"$f":"SQRT((D12^2)+(D13^2))","v":2386.8273921672676},{"$f":"E13+E12","v":6258},{"$f":"SQRT((F12^2)+(F13^2))","v":582.97512811439901},{"$f":"G13+G12","v":7847},{"$f":"SQRT((H12^2)+(H13^2))","v":662.01208448184695},{"$f":"I13+I12","v":6635},{"$f":"SQRT((J12^2)+(J13^2))","v":575.11737932356039},{"$f":"K13+K12","v":2979},{"$f":"SQRT((L12^2)+(L13^2))","v":237.69938998659632},{"$f":"M13+M12","v":9219},{"$f":"SQRT((N12^2)+(N13^2))","v":591.67727690016966},{"$f":"O13+O12","v":36930},{"$f":"SQRT((P12^2)+(P13^2))","v":1425.4522089498475},{"$f":"Q13+Q12","v":11542},{"$f":"SQRT((R12^2)+(R13^2))","v":612.06290526382986},{"$f":"S13+S12","v":28582},{"$f":"SQRT((T12^2)+(T13^2))","v":1135.8283320995299},{"$f":"U13+U12","v":10192},{"$f":"SQRT((V12^2)+(V13^2))","v":788.03109075721113},{"$f":"W13+W12","v":3310},{"$f":"SQRT((X12^2)+(X13^2))","v":410.25479887504059}]
[]
[]
[]
[]
[]
[]
[]
[]
[]
[]
[]
[]
[]
[]
[]
[]
[]
[]
[]
[null,"Calculated B25041. BEDROOMS "]
[null,"Universe:  HOUSING UNITS"]
[null,"Data Set: 2013-2017 American Community Survey 5-Year Estimates"]
[]
[null,null,"New Hampshire",null,"Belknap County",null,"Carroll County",null,"Cheshire County",null,"Coos County",null,"Grafton County",null,"Hillsborough County",null,"Merrimack County",null,"Rockingham County",null,"Strafford County",null,"Sullivan County"]
[null," ","Estimate","Margin of Error","Estimate","Margin of Error","Estimate","Margin of Error","Estimate","Margin of Error","Estimate","Margin of Error","Estimate","Margin of Error","Estimate","Margin of Error","Estimate","Margin of Error","Estimate","Margin of Error","Estimate","Margin of Error","Estimate","Margin of Error"]
[null,"Total:",627619,406,38148,120,40729,58,35304,203,21491,163,52347,175,169289,258,64449,263,130187,277,53109,235,22566,86]
[null,"No bedroom",12273,764,841,182,1068,232,509,157,713,122,1579,255,2858,365,1382,263,2042,351,842,240,439,157]
[null,"1 bedroom",67327,1747,3494,332,3353,399,4558,402,2938,233,7137,535,18761,855,6939,421,12153,709,5565,539,2429,283]
[null,"2 bedrooms",189722,2538,12336,611,11648,599,9833,471,6542,322,16233,684,51540,1334,19429,650,37613,1073,17853,688,6695,475]
[null,"3 bedrooms",238921,2547,14796,723,17169,795,14329,595,8184,358,18298,646,61163,1414,25029,746,50885,1067,20080,802,8988,498]
[null,"4 bedrooms",97549,1811,5468,511,5567,514,4855,354,2346,243,7050,484,29120,996,9254,478,23493,708,7353,554,3043,316]
[null,"5 or more bedrooms",21827,885,1213,190,1924,309,1220,222,768,105,2050,272,5847,509,2416,320,4001,390,1416,214,972,222]
[]
[]
[null,"Calculated B25041. BEDROOMS "]
[null,"Universe:  HOUSING UNITS"]
[null,"Data Set: 2008-2012 American Community Survey 5-Year Estimates"]
[]
[null,null,"New Hampshire",null,"Belknap County",null,"Carroll County",null,"Cheshire County",null,"Coos County",null,"Grafton County",null,"Hillsborough County",null,"Merrimack County",null,"Rockingham County",null,"Strafford County",null,"Sullivan County"]
[null," ","Estimate","Margin of Error","Estimate","Margin of Error","Estimate","Margin of Error","Estimate","Margin of Error","Estimate","Margin of Error","Estimate","Margin of Error","Estimate","Margin of Error","Estimate","Margin of Error","Estimate","Margin of Error","Estimate","Margin of Error","Estimate","Margin of Error"]
[null,"Total:",627619,406,38148,120,40729,58,35304,203,21491,163,52347,175,169289,258,64449,263,130187,277,53109,235,22566,86]
[null,"No bedroom",12273,764,841,182,1068,232,509,157,713,122,1579,255,2858,365,1382,263,2042,351,842,240,439,157]
[null,"1 bedroom",67327,1747,3494,332,3353,399,4558,402,2938,233,7137,535,18761,855,6939,421,12153,709,5565,539,2429,283]
[null,"2 bedrooms",189722,2538,12336,611,11648,599,9833,471,6542,322,16233,684,51540,1334,19429,650,37613,1073,17853,688,6695,475]
[null,"3 bedrooms",238921,2547,14796,723,17169,795,14329,595,8184,358,18298,646,61163,1414,25029,746,50885,1067,20080,802,8988,498]
[null,"4 + bedrooms",119376,2015.675073021443,6681,545.17978685934418,7491,599.73077293065433,6075,417.85164831552356,3114,264.71494102146937,9100,555.19365990616279,34967,1118.5244744751901,11670,575.22517330172536,27494,808.30934672314663,8769,593.8956137234893,4015,386.18648345067697]

{"sheet":"ACS_Table_ B17001","index":47,"n_rows":210,"n_cols":24,"rows_kept":210,"cut":false,"hidden":true,"merged":[]}
[null,"B17001. POVERTY STATUS IN THE PAST 12 MONTHS BY SEX BY AGE"]
[null,"Universe:  POPULATION FOR WHOM POVERTY STATUS IS DETERMINED"]
[null,"Data Set: 2018-2022 American Community Survey 5-Year Estimates"]
[]
[null,null,"New Hampshire",null,"Belknap County",null,"Carroll County",null,"Cheshire County",null,"Coos County",null,"Grafton County",null,"Hillsborough County",null,"Merrimack County",null,"Rockingham County",null,"Strafford County",null,"Sullivan County"]
[null," ","Estimate","Margin of Error","Estimate","Margin of Error","Estimate","Margin of Error","Estimate","Margin of Error","Estimate","Margin of Error","Estimate","Margin of Error","Estimate","Margin of Error","Estimate","Margin of Error","Estimate","Margin of Error","Estimate","Margin of Error","Estimate","Margin of Error"]
[null,"Total:",1340074,588,63104,70,49977,192,72615,152,29447,84,84824,123,414999,302,147941,132,312677,286,121838,355,42652,133]
[null,"Income in the past 12 months below poverty level:",98162,3348,5408,803,3998,701,6538,726,3419,495,8361,816,28465,2186,10722,1021,15149,1477,11112,1224,4990,832]
[null,"Male:",42812,1764,2543,406,1853,406,2811,424,1596,262,3797,545,12373,1186,4694,567,5859,688,4719,730,2567,516]
[null,"Under 5 years",3153,476,112,93,32,41,242,113,108,93,334,125,1097,295,324,118,488,199,156,97,260,157]
[null,"5 years",553,185,20,33,0,28,27,34,11,12,95,77,183,119,118,70,36,44,63,56,0,25]
[null,"6 to 11 years",3055,433,140,101,136,126,200,112,119,88,210,92,955,299,299,124,577,220,281,154,138,60]
[null,"12 to 14 years",1733,309,117,70,46,63,95,63,77,53,144,89,689,224,121,55,316,150,110,79,18,30]
[null,"15 years",606,159,71,74,14,14,39,38,7,9,45,48,171,99,43,30,104,67,90,60,22,32]
[null,"16 and 17 years",1275,290,0,28,110,96,84,56,35,25,140,81,554,197,42,29,99,63,186,115,25,27]
[null,"18 to 24 years",5718,615,197,103,113,92,473,178,155,74,471,188,1322,302,517,201,888,316,1323,375,259,122]
[null,"25 to 34 years",4466,563,260,138,144,87,449,160,173,70,316,111,1380,291,639,188,352,141,482,171,271,142]
[null,"35 to 44 years",4430,619,175,89,119,95,210,102,143,63,434,153,1339,356,590,214,542,152,647,252,231,103]
[null,"45 to 54 years",4043,581,311,149,108,96,176,86,138,77,185,101,1501,348,523,208,633,170,244,109,224,154]
[null,"55 to 64 years",6990,686,650,244,546,155,493,166,368,120,515,157,1684,301,689,176,979,266,350,123,716,285]
[null,"65 to 74 years",4287,497,364,163,298,155,216,95,106,39,700,221,969,245,446,161,518,143,485,199,185,80]
[null,"75 years and over",2503,382,126,77,187,99,107,74,156,65,208,112,529,136,343,133,327,161,302,174,218,175]
[null,"Female:",55350,2447,2865,534,2145,429,3727,447,1823,334,4564,577,16092,1252,6028,688,9290,1080,6393,767,2423,493]
[null,"Under 5 years",2635,357,310,156,14,27,241,135,123,60,257,121,915,200,145,77,394,135,88,85,148,81]
[null,"5 years",463,171,0,28,37,51,30,37,24,26,11,11,236,120,11,11,61,52,53,71,0,25]
[null,"6 to 11 years",4055,617,247,184,118,91,172,79,181,121,347,120,1320,356,448,186,825,275,181,113,216,130]
[null,"12 to 14 years",1888,391,48,56,21,26,102,57,22,17,93,59,595,215,303,138,345,215,239,147,120,65]
[null,"15 years",802,247,34,36,90,87,94,73,22,34,23,30,255,149,64,51,96,74,118,84,6,14]
[null,"16 and 17 years",1073,221,107,108,11,12,3,4,10,11,47,49,399,124,163,105,260,150,53,48,20,26]
[null,"18 to 24 years",6312,748,195,120,172,103,540,198,83,34,589,236,1456,340,864,282,569,173,1732,423,112,57]
[null,"25 to 34 years",7863,703,175,95,135,97,561,139,376,111,726,241,2383,439,1001,235,1267,293,945,264,294,147]
[null,"35 to 44 years",6284,574,475,188,280,149,378,135,148,57,393,126,1961,327,755,191,984,226,523,173,387,166]
[null,"45 to 54 years",5266,683,238,105,275,133,355,158,144,52,343,152,1648,324,430,145,992,332,475,208,366,169]
[null,"55 to 64 years",7818,706,438,158,472,156,419,133,251,75,773,215,1997,347,871,219,1458,396,798,240,341,158]
[null,"65 to 74 years",5409,626,283,145,313,153,429,124,274,116,394,170,1439,339,508,173,857,208,721,254,191,88]
[null,"75 years and over",5482,525,315,116,207,129,403,153,165,90,568,195,1488,336,465,138,1182,267,467,153,222,122]
[null,"Income in the past 12 months at or above poverty level:",1241912,3364,57696,796,45979,735,66077,723,26028,509,76463,836,386534,2223,137219,1046,297528,1550,110726,1246,37662,840]
[null,"Male:",627700,2012,28613,436,23482,404,33184,454,13490,276,38314,622,196723,1244,68658,590,150514,706,55733,763,18989,561]
[null,"Under 5 years",28113,500,1127,103,836,56,1498,128,496,93,1371,156,9536,311,3148,142,6727,201,2764,142,610,163]
[null,"5 years",6241,586,164,96,275,93,417,110,94,37,305,103,1988,391,573,128,1555,355,634,178,236,124]
[null,"6 to 11 years",40443,937,1851,251,1257,227,2018,212,608,140,2282,245,13591,715,4314,320,9861,517,3437,319,1224,161]
[null,"12 to 14 years",20633,1018,1016,291,658,189,1108,179,479,146,1130,212,6427,675,2665,309,4556,523,2066,304,528,130]
[null,"15 years",7583,491,346,128,108,65,255,86,166,57,361,93,2403,325,854,174,2037,307,928,149,125,74]
[null,"16 and 17 years",15530,538,745,158,551,94,830,118,291,60,811,119,4864,339,1831,164,3811,309,1158,165,638,73]
[null,"18 to 24 years",48981,826,2054,126,1497,129,2259,244,903,73,2868,324,16276,315,5664,263,11422,338,4660,424,1378,186]
[null,"25 to 34 years",84786,658,3222,183,2296,131,4083,158,1516,100,5127,179,29208,294,9167,323,18848,243,8785,285,2534,213]
[null,"35 to 44 years",77575,711,3303,126,2216,108,3910,148,1425,91,4466,191,25848,355,8523,318,18652,229,7127,331,2105,134]
[null,"45 to 54 years",86492,685,3764,187,2956,110,4445,139,1871,85,4935,131,27551,352,9287,243,21578,179,7416,253,2689,149]
[null,"55 to 64 years",100183,717,4976,243,4093,176,5318,189,2306,123,6359,185,30060,324,10697,234,25095,276,8532,175,2747,297]
[null,"65 to 74 years",72271,575,3978,168,4293,183,4525,105,2232,62,5036,191,19068,277,7808,254,17190,174,5317,217,2824,94]
[null,"75 years and over",38869,505,2067,117,2446,149,2518,111,1103,95,3263,137,9903,217,4127,200,9182,234,2909,208,1351,179]
[null,"Female:",614212,2434,29083,509,22497,478,32893,539,12538,373,38149,545,189811,1306,68561,769,147014,1108,54993,847,18673,505]
[null,"Under 5 years",27842,391,1011,123,732,115,1440,150,445,58,1580,100,9483,223,3205,139,6396,145,2709,189,841,88]
[null,"5 years",5592,533,368,171,172,87,300,110,132,66,258,89,1620,281,788,179,1222,244,463,166,269,164]
[null,"6 to 11 years",36461,971,1577,231,1088,146,1929,240,615,112,2002,244,12417,602,4084,320,8917,529,2984,381,848,172]
[null,"12 to 14 years",19842,907,1049,248,530,146,1187,196,253,70,1187,199,6227,508,2232,309,4582,486,2066,340,529,126]
[null,"15 years",7200,573,227,116,151,69,488,151,112,39,265,97,2444,366,788,156,2038,242,514,159,173,82]
[null,"16 and 17 years",14449,603,701,162,415,98,640,113,314,44,900,129,4579,392,1699,161,3391,233,1297,184,513,91]
[null,"18 to 24 years",44373,852,1984,152,1184,97,2008,258,801,42,2570,332,14407,403,4880,323,10638,223,4764,439,1137,69]
[null,"25 to 34 years",75024,781,3081,115,2117,119,3805,177,1028,99,4643,219,25877,437,8002,306,17042,307,7348,376,2081,156]
[null,"35 to 44 years",73681,579,3195,217,2178,126,3780,146,1339,62,4378,158,24033,320,8293,206,17629,243,6879,228,1977,190]
[null,"45 to 54 years",84833,734,3821,144,2725,138,4163,187,1720,59,4820,211,26724,325,9481,176,21311,341,7659,266,2409,184]
[null,"55 to 64 years",100540,746,5257,168,4412,185,5596,138,2377,93,6326,230,29373,348,10939,230,24840,389,8121,288,3299,199]
[null,"65 to 74 years",75170,759,4318,141,4151,164,4591,138,1977,122,5414,195,19519,370,8712,181,17836,277,5807,221,2845,105]
[null,"75 years and over",49205,576,2494,158,2642,157,2966,159,1425,139,3806,256,13108,333,5458,174,11172,308,4382,207,1752,129]
[]
[]
[]
[null,"Calculated Table B17001. POVERTY STATUS IN THE PAST 12 MONTHS BY SEX BY AGE"]
[null,"Universe:  POPULATION FOR WHOM POVERTY STATUS IS DETERMINED"]
[null,"Data Set: 2018-2022 American Community Survey 5-Year Estimates"]
[]
[null,null,"New Hampshire",null,"Belknap County",null,"Carroll County",null,"Cheshire County",null,"Coos County",null,"Grafton County",null,"Hillsborough County",null,"Merrimack County",null,"Rockingham County",null,"Strafford County",null,"Sullivan County"]
[null," ","Estimate","Margin of Error","Estimate","Margin of Error","Estimate","Margin of Error","Estimate","Margin of Error","Estimate","Margin of Error","Estimate","Margin of Error","Estimate","Margin of Error","Estimate","Margin of Error","Estimate","Margin of Error","Estimate","Margin of Error","Estimate","Margin of Error"]
[null,"Total:",{"$f":"C7","v":1340074},{"$f":"D7","v":588},63104,70,49977,192,72615,152,29447,84,84824,123,414999,302,147941,132,312677,286,121838,355,42652,133]
[null,"Income in the past 12 months below poverty level:",{"$f":"C8","v":98162},{"$f":"D8","v":3348},5408,803,3998,701,6538,726,3419,495,8361,816,28465,2186,10722,1021,15149,1477,11112,1224,4990,832]
[null,"Under 5 years",{"$f":"C10+C24","v":5788},{"$f":"SQRT(((D10^2))+((D34^2)))","v":851.47636490979596},{"$f":"E10+E24","v":422},{"$f":"SQRT(((F10^2))+((F34^2)))","v":183.33848477611022},{"$f":"G10+G24","v":46},{"$f":"SQRT(((H10^2))+((H34^2)))","v":161.29786111415117},{"$f":"I10+I24","v":483},{"$f":"SQRT(((J10^2))+((J34^2)))","v":174.52220489095365},{"$f":"K10+K24","v":231},{"$f":"SQRT(((L10^2))+((L34^2)))","v":119.47384651043926},{"$f":"M10+M24","v":591},{"$f":"SQRT(((N10^2))+((N34^2)))","v":248.69660230891776},{"$f":"O10+O24","v":2012},{"$f":"SQRT(((P10^2))+((P34^2)))","v":455.44922878406544},{"$f":"Q10+Q24","v":469},{"$f":"SQRT(((R10^2))+((R34^2)))","v":248.76695922087401},{"$f":"S10+S24","v":882},{"$f":"SQRT(((T10^2))+((T34^2)))","v":443.18957568968159},{"$f":"U10+U24","v":244},{"$f":"SQRT(((V10^2))+((V34^2)))","v":258.86096654381868},{"$f":"W10+W24","v":408},{"$f":"SQRT(((X10^2))+((X34^2)))","v":222.73975846265077}]
[null,"5 to 17 years",{"$f":"C11+C12+C13+C14+C15+C25+C26+C27+C28+C29","v":15503},{"$f":"SQRT((D11^2)+(D12^2)+(D13^2)+(D14^2)+(D15^2)+(D25^2)+(D26^2)+(D27^2)+(D28)+(D29^2))","v":1019.0559356580973},{"$f":"E11+E12+E13+E14+E15+E25+E26+E27+E28+E29","v":784},{"$f":"SQRT((F11^2)+(F12^2)+(F13^2)+(F14^2)+(F15^2)+(F25^2)+(F26^2)+(F27^2)+(F28)+(F29^2))","v":268.19023099285329},{"$f":"G11+G12+G13+G14+G15+G25+G26+G27+G28+G29","v":583},{"$f":"SQRT((H11^2)+(H12^2)+(H13^2)+(H14^2)+(H15^2)+(H25^2)+(H26^2)+(H27^2)+(H28)+(H29^2))","v":204.52383724153034},{"$f":"I11+I12+I13+I14+I15+I25+I26+I27+I28+I29","v":846},{"$f":"SQRT((J11^2)+(J12^2)+(J13^2)+(J14^2)+(J15^2)+(J25^2)+(J26^2)+(J27^2)+(J28)+(J29^2))","v":182.20043907740728},{"$f":"K11+K12+K13+K14+K15+K25+K26+K27+K28+K29","v":508},{"$f":"SQRT((L11^2)+(L12^2)+(L13^2)+(L14^2)+(L15^2)+(L25^2)+(L26^2)+(L27^2)+(L28)+(L29^2))","v":164.81504785668085},{"$f":"M11+M12+M13+M14+M15+M25+M26+M27+M28+M29","v":1155},{"$f":"SQRT((N11^2)+(N12^2)+(N13^2)+(N14^2)+(N15^2)+(N25^2)+(N26^2)+(N27^2)+(N28)+(N29^2))","v":227.18274582370907},{"$f":"O11+O12+O13+O14+O15+O25+O26+O27+O28+O29","v":5357},{"$f":"SQRT((P11^2)+(P12^2)+(P13^2)+(P14^2)+(P15^2)+(P25^2)+(P26^2)+(P27^2)+(P28)+(P29^2))","v":636.57992428288219},{"$f":"Q11+Q12+Q13+Q14+Q15+Q25+Q26+Q27+Q28+Q29","v":1612},{"$f":"SQRT((R11^2)+(R12^2)+(R13^2)+(R14^2)+(R15^2)+(R25^2)+(R26^2)+(R27^2)+(R28)+(R29^2))","v":299.79826550532277},{"$f":"S11+S12+S13+S14+S15+S25+S26+S27+S28+S29","v":2719},{"$f":"SQRT((T11^2)+(T12^2)+(T13^2)+(T14^2)+(T15^2)+(T25^2)+(T26^2)+(T27^2)+(T28)+(T29^2))","v":477.93514204335298},{"$f":"U11+U12+U13+U14+U15+U25+U26+U27+U28+U29","v":1374},{"$f":"SQRT((V11^2)+(V12^2)+(V13^2)+(V14^2)+(V15^2)+(V25^2)+(V26^2)+(V27^2)+(V28)+(V29^2))","v":302.86135441815617},{"$f":"W11+W12+W13+W14+W15+W25+W26+W27+W28+W29","v":565},{"$f":"SQRT((X11^2)+(X12^2)+(X13^2)+(X14^2)+(X15^2)+(X25^2)+(X26^2)+(X27^2)+(X28)+(X29^2))","v":171.22499817491604}]
[null,"18 to 64 years",{"$f":"C16+C17+C18+C19+C20+C30+C31+C32+C33+C34","v":59190},{"$f":"SQRT((D16^2)+(D17^2)+(D18^2)+(D19^2)+(D20^2)+(D30^2)+(D31^2)+(D32^2)+(D33^2)+(D34^2))","v":2057.8206918971341},{"$f":"E16+E17+E18+E19+E20+E30+E31+E32+E33+E34","v":3114},{"$f":"SQRT((F16^2)+(F17^2)+(F18^2)+(F19^2)+(F20^2)+(F30^2)+(F31^2)+(F32^2)+(F33^2)+(F34^2))","v":462.67591249167054},{"$f":"G16+G17+G18+G19+G20+G30+G31+G32+G33+G34","v":2364},{"$f":"SQRT((H16^2)+(H17^2)+(H18^2)+(H19^2)+(H20^2)+(H30^2)+(H31^2)+(H32^2)+(H33^2)+(H34^2))","v":377.54867235894233},{"$f":"I16+I17+I18+I19+I20+I30+I31+I32+I33+I34","v":4054},{"$f":"SQRT((J16^2)+(J17^2)+(J18^2)+(J19^2)+(J20^2)+(J30^2)+(J31^2)+(J32^2)+(J33^2)+(J34^2))","v":471.21438857488215},{"$f":"K16+K17+K18+K19+K20+K30+K31+K32+K33+K34","v":1979},{"$f":"SQRT((L16^2)+(L17^2)+(L18^2)+(L19^2)+(L20^2)+(L30^2)+(L31^2)+(L32^2)+(L33^2)+(L34^2))","v":244.3951718017359},{"$f":"M16+M17+M18+M19+M20+M30+M31+M32+M33+M34","v":4745},{"$f":"SQRT((N16^2)+(N17^2)+(N18^2)+(N19^2)+(N20^2)+(N30^2)+(N31^2)+(N32^2)+(N33^2)+(N34^2))","v":552.18294069990975},{"$f":"O16+O17+O18+O19+O20+O30+O31+O32+O33+O34","v":16671},{"$f":"SQRT((P16^2)+(P17^2)+(P18^2)+(P19^2)+(P20^2)+(P30^2)+(P31^2)+(P32^2)+(P33^2)+(P34^2))","v":1074.6911184149612},{"$f":"Q16+Q17+Q18+Q19+Q20+Q30+Q31+Q32+Q33+Q34","v":6879},{"$f":"SQRT((R16^2)+(R17^2)+(R18^2)+(R19^2)+(R20^2)+(R30^2)+(R31^2)+(R32^2)+(R33^2)+(R34^2))","v":660.30068908036128},{"$f":"S16+S17+S18+S19+S20+S30+S31+S32+S33+S34","v":8664},{"$f":"SQRT((T16^2)+(T17^2)+(T18^2)+(T19^2)+(T20^2)+(T30^2)+(T31^2)+(T32^2)+(T33^2)+(T34^2))","v":822.42993622557299},{"$f":"U16+U17+U18+U19+U20+U30+U31+U32+U33+U34","v":7519},{"$f":"SQRT((V16^2)+(V17^2)+(V18^2)+(V19^2)+(V20^2)+(V30^2)+(V31^2)+(V32^2)+(V33^2)+(V34^2))","v":799.87374003651348},{"$f":"W16+W17+W18+W19+W20+W30+W31+W32+W33+W34","v":3201},{"$f":"SQRT((X16^2)+(X17^2)+(X18^2)+(X19^2)+(X20^2)+(X30^2)+(X31^2)+(X32^2)+(X33^2)+(X34^2))","v":506.49481734762105}]
[null,"65 to 74 years",{"$f":"C21+C35","v":9696},{"$f":"SQRT((D21^2)+(D35^2))","v":799.30282121358732},{"$f":"E21+E35","v":647},{"$f":"SQRT((F21^2)+(F35^2))","v":218.16049138191818},{"$f":"G21+G35","v":611},{"$f":"SQRT((H21^2)+(H35^2))","v":217.79348015953096},{"$f":"I21+I35","v":645},{"$f":"SQRT((J21^2)+(J35^2))","v":156.20819440733575},{"$f":"K21+K35","v":380},{"$f":"SQRT((L21^2)+(L35^2))","v":122.38055401083949},{"$f":"M21+M35","v":1094},{"$f":"SQRT((N21^2)+(N35^2))","v":278.8207309365643},{"$f":"O21+O35","v":2408},{"$f":"SQRT((P21^2)+(P35^2))","v":418.26546594238448},{"$f":"Q21+Q35","v":954},{"$f":"SQRT((R21^2)+(R35^2))","v":236.32604596192948},{"$f":"S21+S35","v":1375},{"$f":"SQRT((T21^2)+(T35^2))","v":252.41434190631878},{"$f":"U21+U35","v":1206},{"$f":"SQRT((V21^2)+(V35^2))","v":322.67165974098191},{"$f":"W21+W35","v":376},{"$f":"SQRT((X21^2)+(X35^2))","v":118.92854997854805}]
[null,"75 years and over",{"$f":"C22+C36","v":7985},{"$f":"SQRT((D22^2)+(D36^2))","v":649.26804942180854},{"$f":"E22+E36","v":441},{"$f":"SQRT((F22^2)+(F36^2))","v":139.23002549737609},{"$f":"G22+G36","v":394},{"$f":"SQRT((H22^2)+(H36^2))","v":162.60996279441184},{"$f":"I22+I36","v":510},{"$f":"SQRT((J22^2)+(J36^2))","v":169.95587662684687},{"$f":"K22+K36","v":321},{"$f":"SQRT((L22^2)+(L36^2))","v":111.01801655587259},{"$f":"M22+M36","v":776},{"$f":"SQRT((N22^2)+(N36^2))","v":224.87552112224222},{"$f":"O22+O36","v":2017},{"$f":"SQRT((P22^2)+(P36^2))","v":362.48034429469413},{"$f":"Q22+Q36","v":808},{"$f":"SQRT((R22^2)+(R36^2))","v":191.65855055279948},{"$f":"S22+S36","v":1509},{"$f":"SQRT((T22^2)+(T36^2))","v":311.78518245740929},{"$f":"U22+U36","v":769},{"$f":"SQRT((V22^2)+(V36^2))","v":231.70023737579555},{"$f":"W22+W36","v":440},{"$f":"SQRT((X22^2)+(X36^2))","v":213.32838535928593}]
[null," Income in the past 12 months at or above poverty level ",{"$f":"C37","v":1241912},3364,57696,796,45979,735,66077,723,26028,509,76463,836,386534,2223,137219,1046,297528,1550,110726,1246,37662,840]
[null,"Under 5 years",{"$f":"C39+C53","v":55955},{"$f":"SQRT(((D39))^2+((D53))^2)","v":634.72907606316573},{"$f":"E39+E53","v":2138},{"$f":"SQRT(((F39))^2+((F53))^2)","v":160.43067038443741},{"$f":"G39+G53","v":1568},{"$f":"SQRT(((H39))^2+((H53))^2)","v":127.91012469699183},{"$f":"I39+I53","v":2938},{"$f":"SQRT(((J39))^2+((J53))^2)","v":197.19026345131749},{"$f":"K39+K53","v":941},{"$f":"SQRT(((L39))^2+((L53))^2)","v":109.60383204979651},{"$f":"M39+M53","v":2951},{"$f":"SQRT(((N39))^2+((N53))^2)","v":185.29975715040752},{"$f":"O39+O53","v":19019},{"$f":"SQRT(((P39))^2+((P53))^2)","v":382.68786236304908},{"$f":"Q39+Q53","v":6353},{"$f":"SQRT(((R39))^2+((R53))^2)","v":198.70832896484234},{"$f":"S39+S53","v":13123},{"$f":"SQRT(((T39))^2+((T53))^2)","v":247.84269204477263},{"$f":"U39+U53","v":5473},{"$f":"SQRT(((V39))^2+((V53))^2)","v":236.40008460235373},{"$f":"W39+W53","v":1451},{"$f":"SQRT(((X39))^2+((X53))^2)","v":185.23768515072737}]
[null,"5 to 17 years",{"$f":"((C40)+(C41)+(C42)+(C43)+(C44)+(C54)+(C55)+(C56)+(C57)+(C58))","v":173974},{"$f":"SQRT((D40^2)+(D41^2)+(D42^2)+(D43^2)+(D44^2)+(D54^2)+(D55^2)+(D56^2)+(D57^2)+(D58^2))","v":2351.5380073475317},{"$f":"((E40)+(E41)+(E42)+(E43)+(E44)+(E54)+(E55)+(E56)+(E57)+(E58))","v":8044},{"$f":"SQRT((F40^2)+(F41^2)+(F42^2)+(F43^2)+(F44^2)+(F54^2)+(F55^2)+(F56^2)+(F57^2)+(F58^2))","v":618.10355119510518},{"$f":"((G40)+(G41)+(G42)+(G43)+(G44)+(G54)+(G55)+(G56)+(G57)+(G58))","v":5205},{"$f":"SQRT((H40^2)+(H41^2)+(H42^2)+(H43^2)+(H44^2)+(H54^2)+(H55^2)+(H56^2)+(H57^2)+(H58^2))","v":416.56452081280275},{"$f":"((I40)+(I41)+(I42)+(I43)+(I44)+(I54)+(I55)+(I56)+(I57)+(I58))","v":9172},{"$f":"SQRT((J40^2)+(J41^2)+(J42^2)+(J43^2)+(J44^2)+(J54^2)+(J55^2)+(J56^2)+(J57^2)+(J58^2))","v":504.07439927058385},{"$f":"((K40)+(K41)+(K42)+(K43)+(K44)+(K54)+(K55)+(K56)+(K57)+(K58))","v":3064},{"$f":"SQRT((L40^2)+(L41^2)+(L42^2)+(L43^2)+(L44^2)+(L54^2)+(L55^2)+(L56^2)+(L57^2)+(L58^2))","v":272.74713564032163},{"$f":"((M40)+(M41)+(M42)+(M43)+(M44)+(M54)+(M55)+(M56)+(M57)+(M58))","v":9501},{"$f":"SQRT((N40^2)+(N41^2)+(N42^2)+(N43^2)+(N44^2)+(N54^2)+(N55^2)+(N56^2)+(N57^2)+(N58^2))","v":521.05278043591704},{"$f":"((O40)+(O41)+(O42)+(O43)+(O44)+(O54)+(O55)+(O56)+(O57)+(O58))","v":56560},{"$f":"SQRT((P40^2)+(P41^2)+(P42^2)+(P43^2)+(P44^2)+(P54^2)+(P55^2)+(P56^2)+(P57^2)+(P58^2))","v":1525.5576029766953},{"$f":"((Q40)+(Q41)+(Q42)+(Q43)+(Q44)+(Q54)+(Q55)+(Q56)+(Q57)+(Q58))","v":19828},{"$f":"SQRT((R40^2)+(R41^2)+(R42^2)+(R43^2)+(R44^2)+(R54^2)+(R55^2)+(R56^2)+(R57^2)+(R58^2))","v":742.7085565684564},{"$f":"((S40)+(S41)+(S42)+(S43)+(S44)+(S54)+(S55)+(S56)+(S57)+(S58))","v":41970},{"$f":"SQRT((T40^2)+(T41^2)+(T42^2)+(T43^2)+(T44^2)+(T54^2)+(T55^2)+(T56^2)+(T57^2)+(T58^2))","v":1242.9798872065469},{"$f":"((U40)+(U41)+(U42)+(U43)+(U44)+(U54)+(U55)+(U56)+(U57)+(U58))","v":15547},{"$f":"SQRT((V40^2)+(V41^2)+(V42^2)+(V43^2)+(V44^2)+(V54^2)+(V55^2)+(V56^2)+(V57^2)+(V58^2))","v":789.13940466814859},{"$f":"((W40)+(W41)+(W42)+(W43)+(W44)+(W54)+(W55)+(W56)+(W57)+(W58))","v":5083},{"$f":"SQRT((X40^2)+(X41^2)+(X42^2)+(X43^2)+(X44^2)+(X54^2)+(X55^2)+(X56^2)+(X57^2)+(X58^2))","v":395.42761663798848}]
[null,"18 to 64 years",{"$f":"((C45)+(C46)+(C47)+(C48)+(C49)+(C59)+(C60)+(C61)+(C62)+(C63))","v":776468},{"$f":"SQRT((D45^2)+(D46^2)+(D47^2)+(D48^2)+(D49^2)+(D59^2)+(D60^2)+(D61^2)+(D62^2)+(D63^2))","v":2317.4237851545408},{"$f":"((E45)+(E46)+(E47)+(E48)+(E49)+(E59)+(E60)+(E61)+(E62)+(E63))","v":34657},{"$f":"SQRT((F45^2)+(F46^2)+(F47^2)+(F48^2)+(F49^2)+(F59^2)+(F60^2)+(F61^2)+(F62^2)+(F63^2))","v":540.03425817257187},{"$f":"((G45)+(G46)+(G47)+(G48)+(G49)+(G59)+(G60)+(G61)+(G62)+(G63))","v":25674},{"$f":"SQRT((H45^2)+(H46^2)+(H47^2)+(H48^2)+(H49^2)+(H59^2)+(H60^2)+(H61^2)+(H62^2)+(H63^2))","v":425.7428801518588},{"$f":"((I45)+(I46)+(I47)+(I48)+(I49)+(I59)+(I60)+(I61)+(I62)+(I63))","v":39367},{"$f":"SQRT((J45^2)+(J46^2)+(J47^2)+(J48^2)+(J49^2)+(J59^2)+(J60^2)+(J61^2)+(J62^2)+(J63^2))","v":578.50496972800499},{"$f":"((K45)+(K46)+(K47)+(K48)+(K49)+(K59)+(K60)+(K61)+(K62)+(K63))","v":15286},{"$f":"SQRT((L45^2)+(L46^2)+(L47^2)+(L48^2)+(L49^2)+(L59^2)+(L60^2)+(L61^2)+(L62^2)+(L63^2))","v":271.11436701141457},{"$f":"((M45)+(M46)+(M47)+(M48)+(M49)+(M59)+(M60)+(M61)+(M62)+(M63))","v":46492},{"$f":"SQRT((N45^2)+(N46^2)+(N47^2)+(N48^2)+(N49^2)+(N59^2)+(N60^2)+(N61^2)+(N62^2)+(N63^2))","v":710.9528817017341},{"$f":"((O45)+(O46)+(O47)+(O48)+(O49)+(O59)+(O60)+(O61)+(O62)+(O63))","v":249357},{"$f":"SQRT((P45^2)+(P46^2)+(P47^2)+(P48^2)+(P49^2)+(P59^2)+(P60^2)+(P61^2)+(P62^2)+(P63^2))","v":1105.9263085757568},{"$f":"((Q45)+(Q46)+(Q47)+(Q48)+(Q49)+(Q59)+(Q60)+(Q61)+(Q62)+(Q63))","v":84933},{"$f":"SQRT((R45^2)+(R46^2)+(R47^2)+(R48^2)+(R49^2)+(R59^2)+(R60^2)+(R61^2)+(R62^2)+(R63^2))","v":844.21798132946685},{"$f":"((S45)+(S46)+(S47)+(S48)+(S49)+(S59)+(S60)+(S61)+(S62)+(S63))","v":187055},{"$f":"SQRT((T45^2)+(T46^2)+(T47^2)+(T48^2)+(T49^2)+(T59^2)+(T60^2)+(T61^2)+(T62^2)+(T63^2))","v":896.98383485991542},{"$f":"((U45)+(U46)+(U47)+(U48)+(U49)+(U59)+(U60)+(U61)+(U62)+(U63))","v":71291},{"$f":"SQRT((V45^2)+(V46^2)+(V47^2)+(V48^2)+(V49^2)+(V59^2)+(V60^2)+(V61^2)+(V62^2)+(V63^2))","v":1002.4854113651729},{"$f":"((W45)+(W46)+(W47)+(W48)+(W49)+(W59)+(W60)+(W61)+(W62)+(W63))","v":22356},{"$f":"SQRT((X45^2)+(X46^2)+(X47^2)+(X48^2)+(X49^2)+(X59^2)+(X60^2)+(X61^2)+(X62^2)+(X63^2))","v":589.05432686637653}]
[null,"65 to 74 years",{"$f":"((C50)+(C64))","v":147441},{"$f":"SQRT((D50^2)+(D64^2))","v":952.21111104628471},{"$f":"((E50)+(E64))","v":8296},{"$f":"SQRT((F50^2)+(F64^2))","v":219.32852071721086},{"$f":"((G50)+(G64))","v":8444},{"$f":"SQRT((H50^2)+(H64^2))","v":245.73359558676546},{"$f":"((I50)+(I64))","v":9116},{"$f":"SQRT((J50^2)+(J64^2))","v":173.40415219942111},{"$f":"((K50)+(K64))","v":4209},{"$f":"SQRT((L50^2)+(L64^2))","v":136.85028315644803},{"$f":"((M50)+(M64))","v":10450},{"$f":"SQRT((N50^2)+(N64^2))","v":272.9578722074159},{"$f":"((O50)+(O64))","v":38587},{"$f":"SQRT((P50^2)+(P64^2))","v":462.2001730852121},{"$f":"((Q50)+(Q64))","v":16520},{"$f":"SQRT((R50^2)+(R64^2))","v":311.89260972328282},{"$f":"((S50)+(S64))","v":35026},{"$f":"SQRT((T50^2)+(T64^2))","v":327.11618730964693},{"$f":"((U50)+(U64))","v":11124},{"$f":"SQRT((V50^2)+(V64^2))","v":309.7256850827842},{"$f":"((W50)+(W64))","v":5669},{"$f":"SQRT((X50^2)+(X64^2))","v":140.92906016858268}]
[null,"75 years and over",{"$f":"((C51)+(C65))","v":88074},{"$f":"SQRT((D51^2)+(D65^2))","v":766.02937280498588},{"$f":"((E51)+(E65))","v":4561},{"$f":"SQRT((F51^2)+(F65^2))","v":196.60366222428308},{"$f":"((G51)+(G65))","v":5088},{"$f":"SQRT((H51^2)+(H65^2))","v":216.44860821913363},{"$f":"((I51)+(I65))","v":5484},{"$f":"SQRT((J51^2)+(J65^2))","v":193.91235133430774},{"$f":"((K51)+(K65))","v":2528},{"$f":"SQRT((L51^2)+(L65^2))","v":168.36270370839262},{"$f":"((M51)+(M65))","v":7069},{"$f":"SQRT((N51^2)+(N65^2))","v":290.35323314886648},{"$f":"((O51)+(O65))","v":23011},{"$f":"SQRT((P51^2)+(P65^2))","v":397.46446382035214},{"$f":"((Q51)+(Q65))","v":9585},{"$f":"SQRT((R51^2)+(R65^2))","v":265.09620895063739},{"$f":"((S51)+(S65))","v":20354},{"$f":"SQRT((T51^2)+(T65^2))","v":386.8074456367147},{"$f":"((U51)+(U65))","v":7291},{"$f":"SQRT((V51^2)+(V65^2))","v":293.45016612706149},{"$f":"((W51)+(W65))","v":3103},{"$f":"SQRT((X51^2)+(X65^2))","v":220.63997824510409}]
[]
[]
[]
[]
[]
[]
[]
[]
[]
[]
[]
[]
[]
[]
[]
[]
[]
[]
[]
[]
[]
[]
[]
[]
[]
[]
[]
[]
[]
[]
[]
[]
[]
[]
[]
[]
[]
[]
[]
[]
[]
[]
[]
[null,"Calculated Table B17001. POVERTY STATUS IN THE PAST 12 MONTHS BY SEX BY AGE"]
[null,"Universe:  POPULATION FOR WHOM POVERTY STATUS IS DETERMINED"]
[null,"Data Set: 2013-2017 American Community Survey 5-Year Estimates"]
[]
[null,null,"New Hampshire",null,"Belknap County",null,"Carroll County",null,"Cheshire County",null,"Coos County",null,"Grafton County",null,"Hillsborough County",null,"Merrimack County",null,"Rockingham County",null,"Strafford County",null,"Sullivan County"]
[null," ","Estimate","Margin of Error","Estimate","Margin of Error","Estimate","Margin of Error","Estimate","Margin of Error","Estimate","Margin of Error","Estimate","Margin of Error","Estimate","Margin of Error","Estimate","Margin of Error","Estimate","Margin of Error","Estimate","Margin of Error","Estimate","Margin of Error"]
[null,"Total:",1289255,529,59298,269,46873,145,71505,432,29961,319,82628,395,397944,499,141319,592,299957,347,117505,511,42265,172]
[null,"Income in the past 12 months below poverty level:",104470,3054,5421,825,4313,715,7297,747,3989,501,8993,899,34076,1840,10899,987,14402,1190,11127,1096,3953,741]
[null,"Under 5 years",7493,670.88374551780578,601,207.0024154448445,313,153.10127367203711,616,203.21663317750347,236,99.02019995940222,530,172.00290695217916,2581,387.33060813728628,679,222.18235753542629,797,284.42925306655786,853,235.51857676200407,287,148.39474384222643]
[null,"5 to 17 years",18500,1072.925440093579,966,244.01024568652849,567,147.60081300589098,1182,238.37785132012579,772,143.70455803487931,1602,306.23357098789808,6725,671.14603477931689,1921,317.48385785737202,2668,401.10347792059844,1377,283.21016930894274,720,203.85288813259427]
[null,"18 to 64 years",67054,1874.3340150570816,3196,396.44545652586311,2890,418.23079752691575,4562,436.60279431080147,2431,248.53973525374167,5942,636.87204366340336,21596,1093.4445573507603,7161,582.81643765425838,8744,687.71287613363756,7922,706.96180943527634,2610,352.80022675729674]
[null,"65 to 74 years",5491,410.21579686794121,301,105.80170130957252,252,106.02358228243375,451,129.37542270462347,225,66.189122973491649,370,95.801878895979911,1472,211.51832071950648,654,159.96249560443849,1134,212.60761980700502,477,129.40247292845683,155,78.108898340714035]
[null,"75 years and over",5932,473.71088229003141,357,121.2023102090055,291,104.01922899156675,486,156.46405337968207,325,80.65977932030313,549,156.31058825300352,1702,277.91365565585295,484,126.19429464123962,1059,208.90667772955464,498,139.58868148958209,181,84.202137740083529]
[null," Income in the past 12 months at or above poverty level ",1184785,3151,53877,866,42560,720,64208,805,25972,563,73635,951,363868,1856,130420,1094,285555,1227,106378,1193,38312,760]
[null,"Under 5 years",55772,716.30440456554504,2052,220.78043391568917,1442,125.49501982150527,2816,226.31394124092313,1029,84.291162051546067,3146,165.61400906928134,18999,349.80708969373393,6210,254.87644065311332,13019,269.13379572249931,5337,276.48688938175712,1722,133.22537295875736]
[null,"5 to 17 years",177336,2263.9520754644964,7591,510.38710798765283,5359,416.01802845549855,8961,480.02916578058046,3167,241.73332414046683,9453,506.70405563800256,57092,1327.2471510611729,19738,679.02356365593084,44199,1047.0592151354192,16328,712.81414127386665,5448,403.90221588894508]
[null,"18 to 64 years",752265,2115.3671076198571,33247,477.13205719171708,24652,455.62374828360299,40130,546.92778316702834,15721,353.64388867899299,45806,725.75133482481453,235271,1099.4121156327139,82332,740.23172047677076,183141,769.98831159959821,68600,897.33605745005036,23365,397.70214985589405]
[null,"65 to 74 years",122642,538.34747143457446,7044,131.64345787011217,6932,127.534309109353,7388,162.00308639035245,3691,83.600239234107462,9195,123.54756169184401,32221,311.96954979612997,13319,183.98369492974098,28311,264.69982999616752,9718,191.02355875650522,4823,87.206651122491792]
[null,"75 years and over",76770,590.3388857258177,3943,201.62589119455865,4175,145.34097839219331,4913,177.45985461506498,2364,128.80993750483694,6035,218.82641522448793,20285,372.37749663479934,8821,264.42579299304373,16885,302.82833420933383,6395,196.49173010587495,2954,129.46814279968643]
[]
[]
[]
[]
[]
[]
[]
[]
[]
[]
[]
[]
[]
[]
[]
[]
[]
[]
[]
[]
[]
[]
[]
[]
[]
[]
[]
[]
[]
[]
[]
[]
[]
[]
[]
[]
[]
[]
[]
[]
[]
[]
[null,"Calculated Table B17001. POVERTY STATUS IN THE PAST 12 MONTHS BY SEX BY AGE"]
[null,"Universe:  POPULATION FOR WHOM POVERTY STATUS IS DETERMINED"]
[null,"Data Set: 2008-2012 American Community Survey 5-Year Estimates"]
[]
[null,null,"New Hampshire",null,"Belknap County",null,"Carroll County",null,"Cheshire County",null,"Coos County",null,"Grafton County",null,"Hillsborough County",null,"Merrimack County",null,"Rockingham County",null,"Strafford County",null,"Sullivan County"]
[null," ","Estimate","Margin of Error","Estimate","Margin of Error","Estimate","Margin of Error","Estimate","Margin of Error","Estimate","Margin of Error","Estimate","Margin of Error","Estimate","Margin of Error","Estimate","Margin of Error","Estimate","Margin of Error","Estimate","Margin of Error","Estimate","Margin of Error"]
[null,"Total:",1277667,434,59226,225,47252,143,72056,499,31690,208,82356,523,393052,655,140119,523,293363,374,115601,828,42952,138]
[null,"Income in the past 12 months below poverty level:",107800,3560,5754,811,4855,589,7641,816,4115,466,9050,888,31481,2049,12401,1163,15133,1308,12986,1380,4384,673]
[null,"Under 5 years",9450,764.75159365639763,382,153.26447729333762,413,171.40595088852663,553,141.44963768069539,323,87.206651122491792,680,158.44872987815333,3347,382.06282205940948,969,261.81672979395341,1190,296.70524093787088,1221,268.21819475941595,372,124.01612798341996]
[null,"5 to 17 years",21307,1113.5299726545306,1392,304.41747650225341,691,198.59254769502303,1150,257.28777662376422,967,181.06352476410041,1477,245.21827011868427,7198,687.62780630221755,2551,347.58452209498626,2886,399.29688203140279,2093,326.16253616870222,902,246.83800355698878]
[null,"18 to 64 years",65484,1829.3941620110195,3293,378.28824988360395,3059,398.45325949225213,4982,526.0921972430308,2237,242.64583243896854,5826,547.18004349574005,18037,973.1608294624275,7776,645.45797694350324,8855,680.95741423381241,8747,751.89626944147028,2672,344.21359647753604]
[null,"65 to 74 years",4983,458.11898017873045,250,100.20977996183805,216,109.73149046650191,395,105.42295765154761,311,96.674712308855618,433,117.47765745025733,1261,233.49946466748057,473,117.34564329364768,995,170.74249617479535,444,154.85799947048264,205,73.109506905736964]
[null,"75 years and over",6576,459.77820740004631,437,157.00318468107582,476,159.8311609167624,561,140.71957930579526,277,97,634,139.60659010233005,1638,224.26992665089986,632,151.32745950421557,1207,228.12715752404404,481,127.06297651164952,233,76.941536246685374]
[null," Income in the past 12 months at or above poverty level ",1169867,3570,53472,795,42397,591,64415,824,27575,515,73306,1032,361571,2176,127718,1252,278230,1355,102615,1377,38568,700]
[null,"Under 5 years",59029,915.39062700029876,2569,215.00232556881798,1577,133.46160496562297,3154,178.91059219621403,1039,77.89736837660179,3358,197.27392123643713,19997,457.1925196238451,6427,275.17449009673845,13659,366.99455036825822,5443,293.41097457320848,1806,167.26326554267678]
[null,"5 to 17 years",191702,2131.1527397162317,8035,487.87190941885558,5991,442.69402525898181,9938,519.05394709991367,3726,245.2305038122297,10518,477.02620473093509,61765,1294.3005833267634,21135,729.98767112876635,48734,1100.5743954862842,16064,677.51383749706542,5796,407.48865014868818]
[null,"18 to 64 years",757603,2053.9109036177788,33869,455.71482310760967,25868,454.25323334017116,41244,592.91905012404516,17371,274.51047338853942,46979,701.97934442546102,236833,1107.2678086172289,82163,741.58276679005962,181067,749.24161656971512,67774,864.95491211970113,24435,364.60800868878346]
[null,"65 to 74 years",92481,541.67887165736863,5243,119.20570456148481,5353,148.36778626103444,5743,123.23960402403117,2923,104.89041900955492,6941,134.30189872075525,24558,289.24902765610119,10063,159.2262541165872,20497,222.10357943986403,7367,188.79883474216678,3793,86.267027304758798]
[null,"75 years and over",69052,577.6443542526838,3756,170.07351351694948,3608,176.18456232031227,4336,174.45343218177166,2516,137.2953021774598,5510,167.38578195294843,18418,336.72540741678523,7930,197.27392123643713,14273,277.04331791256038,5967,187.55532517100121,2738,116.76472069936193]

{"sheet":"ACS_Table_B17010","index":48,"n_rows":156,"n_cols":24,"rows_kept":156,"cut":false,"hidden":true,"merged":[]}
[null,"B17010. POVERTY STATUS IN THE PAST 12 MONTHS OF FAMILIES BY FAMILY TYPE BY PRESENCE OF RELATED CHILDREN UNDER 18 YEARS"]
[null,"Universe: FAMILIES"]
[null,"Data Set: 2018-2022 American Community Survey 5-Year Estimates"]
[]
[null,null,"New Hampshire",null,"Belknap County",null,"Carroll County",null,"Cheshire County",null,"Coos County",null,"Grafton County",null,"Hillsborough County",null,"Merrimack County",null,"Rockingham County",null,"Strafford County",null,"Sullivan County"]
[null,null,"Families","Margin of Error","Families","Margin of Error","Families","Margin of Error","Families","Margin of Error","Families","Margin of Error","Families","Margin of Error","Families","Margin of Error","Families","Margin of Error","Families","Margin of Error","Families","Margin of Error","Families","Margin of Error"]
[null,"Total:",353906,2783,17100,616,13526,674,18716,577,8096,354,21419,690,107222,1678,40116,672,86122,1369,31623,785,9966,499]
[null,"Income in the past 12 months below poverty level:",15526,979,1098,267,632,198,981,211,543,151,1354,318,4477,546,1543,295,2600,455,1516,334,782,238]
[null,"Married-couple family:",5897,624,488,184,331,155,382,144,285,118,705,245,1475,278,497,150,761,199,627,227,346,172]
[null,"With related children under 18 years:",1986,367,95,65,97,119,146,73,77,50,184,99,662,183,109,59,267,118,311,175,38,41]
[null,"Under 5 years only",255,121,54,58,3,4,39,46,36,36,44,56,22,27,18,24,0,28,39,45,0,25]
[null,"Under 5 years and 5 to 17 years",464,188,14,24,4,7,54,41,2,3,41,44,218,123,19,24,86,78,15,25,11,12]
[null,"5 to 17 years only",1267,276,27,30,90,118,53,47,39,35,99,69,422,145,72,53,181,89,257,162,27,34]
[null,"No related children under 18 years",3911,549,393,178,234,103,236,123,208,106,521,226,813,223,388,142,494,163,316,135,308,166]
[null,"Other family:",9629,718,610,187,301,143,599,163,258,83,649,189,3002,443,1046,274,1839,415,889,255,436,167]
[null,"Male householder, no spouse present:",2145,326,120,69,86,56,108,63,56,51,114,78,729,203,334,160,178,92,357,200,63,46]
[null,"With related children under 18 years:",1734,300,65,50,63,53,99,61,51,50,103,77,624,194,288,139,103,67,316,197,22,28]
[null,"Under 5 years only",296,107,26,33,0,28,26,44,17,28,6,6,133,65,15,17,25,42,46,51,2,3]
[null,"Under 5 years and 5 to 17 years",244,107,23,33,0,28,5,8,0,25,15,25,151,95,22,20,0,28,9,16,19,28]
[null,"5 to 17 years only",1194,281,16,24,63,53,68,50,34,34,82,72,340,158,251,139,78,57,261,182,1,4]
[null,"No related children under 18 years",411,120,55,45,23,20,9,12,5,7,11,13,105,73,46,64,75,63,41,37,41,46]
[null,"Female householder, no spouse present:",7484,659,490,173,215,125,491,159,202,67,535,178,2273,423,712,226,1661,406,532,173,373,162]
[null,"With related children under 18 years:",6671,652,405,167,180,116,381,149,185,65,488,174,2097,410,677,219,1558,394,401,143,299,142]
[null,"Under 5 years only",1137,228,50,54,0,28,67,55,53,39,180,144,316,164,116,87,190,117,73,65,92,67]
[null,"Under 5 years and 5 to 17 years",1878,349,143,105,33,46,137,96,48,40,108,64,631,256,192,106,426,188,40,39,120,95]
[null,"5 to 17 years only",3656,508,212,120,147,111,177,86,84,40,200,85,1150,294,369,162,942,358,288,125,87,75]
[null,"No related children under 18 years",813,196,85,56,35,48,110,88,17,14,47,32,176,81,35,29,103,58,131,106,74,69]
[null,"Income in the past 12 months at or above poverty level:",338380,2708,16002,633,12894,691,17735,573,7553,342,20065,640,102745,1736,38573,692,83522,1381,30107,724,9184,466]
[null,"Married-couple family:",278149,2934,13187,653,10847,621,14852,559,6161,305,16256,646,82485,1732,31908,749,70343,1564,24630,723,7480,472]
[null,"With related children under 18 years:",99254,1939,4006,400,2450,311,4679,392,1729,203,4886,474,32487,1212,11479,527,26123,909,9427,556,1988,261]
[null,"Under 5 years only",19059,1099,712,225,247,87,734,166,432,141,790,215,6276,502,1975,300,5159,596,2354,490,380,138]
[null,"Under 5 years and 5 to 17 years",16514,909,583,165,496,123,921,207,184,74,777,171,5744,500,1710,263,4397,592,1399,226,303,121]
[null,"5 to 17 years only",63681,1652,2711,376,1707,251,3024,353,1113,161,3319,386,20467,924,7794,475,16567,838,5674,395,1305,233]
[null,"No related children under 18 years",178895,2346,9181,512,8397,511,10173,522,4432,246,11370,465,49998,1392,20429,745,44220,1267,15203,641,5492,421]
[null,"Other family:",60231,1814,2815,382,2047,332,2883,375,1392,210,3809,429,20260,1017,6665,518,13179,1009,5477,520,1704,267]
[null,"Male householder, no spouse present:",21719,1107,869,212,736,190,939,229,463,132,1228,261,7307,707,2826,363,4719,584,2003,355,629,180]
[null,"With related children under 18 years:",11620,857,508,172,348,142,637,203,263,101,702,200,3749,552,1571,275,2425,395,1050,244,367,132]
[null,"Under 5 years only",2639,446,147,84,72,81,194,99,96,81,78,61,844,241,131,71,707,284,319,134,51,44]
[null,"Under 5 years and 5 to 17 years",1034,262,96,80,23,16,20,25,14,14,134,113,418,161,129,87,165,105,8,14,27,26]
[null,"5 to 17 years only",7947,666,265,132,253,110,423,179,153,62,490,147,2487,445,1311,236,1553,301,723,197,289,117]
[null,"No related children under 18 years",10099,841,361,132,388,151,302,127,200,82,526,137,3558,442,1255,256,2294,478,953,252,262,97]
[null,"Female householder, no spouse present:",38512,1492,1946,325,1311,276,1944,302,929,178,2581,365,12953,889,3839,381,8460,821,3474,405,1075,195]
[null,"With related children under 18 years:",21513,1309,1061,293,818,224,1036,224,510,134,1399,239,7106,759,2174,313,4653,651,2039,319,717,184]
[null,"Under 5 years only",3032,488,98,75,43,56,146,94,69,40,174,109,1057,264,307,127,658,266,385,193,95,69]
[null,"Under 5 years and 5 to 17 years",1949,284,112,73,38,27,124,91,77,54,109,84,823,203,176,95,278,103,114,65,98,60]
[null,"5 to 17 years only",16532,1149,851,287,737,222,766,187,364,106,1116,201,5226,604,1691,283,3717,588,1540,280,524,189]
[null,"No related children under 18 years",16999,1072,885,227,493,191,908,233,419,106,1182,257,5847,572,1665,268,3807,485,1435,301,358,110]
[]
[]
[]
[]
[]
[]
[]
[]
[]
[]
[]
[]
[null,"B17010. POVERTY STATUS IN THE PAST 12 MONTHS OF FAMILIES BY FAMILY TYPE BY PRESENCE OF RELATED CHILDREN UNDER 18 YEARS"]
[null,"Universe: FAMILIES"]
[null,"Data Set: 2013-2017 American Community Survey 5-Year Estimates"]
[]
[null,null,"New Hampshire",null,"Belknap County",null,"Carroll County",null,"Cheshire County",null,"Coos County",null,"Grafton County",null,"Hillsborough County",null,"Merrimack County",null,"Rockingham County",null,"Strafford County",null,"Sullivan County"]
[null,null,"Families","Margin of Error","Families","Margin of Error","Families","Margin of Error","Families","Margin of Error","Families","Margin of Error","Families","Margin of Error","Families","Margin of Error","Families","Margin of Error","Families","Margin of Error","Families","Margin of Error","Families","Margin of Error"]
[null,"Total:",350658,2408,16319,577,14061,586,19198,549,8725,311,21412,541,106062,1261,38156,541,83861,914,31265,789,11599,482]
[null,"Income in the past 12 months below poverty level:",17404,784,979,234,696,174,997,205,821,167,1319,278,5958,475,1844,265,2475,331,1697,308,618,163]
[null,"Married-couple family:",5855,431,360,150,316,106,206,75,315,97,444,119,1918,266,560,160,837,192,610,209,289,106]
[null,"With related children under 18 years:",2666,281,87,71,128,71,83,48,109,49,281,99,977,231,185,79,356,135,283,154,177,87]
[null,"Under 5 years only",587,175,0,27,57,63,13,16,6,8,75,57,160,82,17,21,104,87,141,106,14,22]
[null,"Under 5 years and 5 to 17 years",692,169,27,42,17,22,44,41,20,21,39,30,300,124,16,17,74,52,82,90,73,61]
[null,"5 to 17 years only",1387,210,60,56,54,42,26,20,83,40,167,84,517,163,152,84,178,91,60,41,90,56]
[null,"No related children under 18 years",3189,369,273,130,188,81,123,57,206,78,163,60,941,214,375,138,481,122,327,149,112,45]
[null,"Other family:",11549,702,619,178,380,139,791,197,506,136,875,236,4040,425,1284,227,1638,272,1087,251,329,132]
[null,"Male householder, no wife present:",2127,380,94,51,138,96,119,68,81,48,158,100,748,218,278,131,192,107,258,139,61,35]
[null,"With related children under 18 years:",1667,372,45,35,77,62,96,62,70,47,128,91,657,223,158,99,152,102,239,134,45,31]
[null,"Under 5 years only",502,167,0,27,39,61,0,27,39,39,49,59,182,87,73,81,55,55,65,56,0,24]
[null,"Under 5 years and 5 to 17 years",240,154,0,27,13,25,0,27,0,24,9,9,198,150,13,19,0,27,0,27,7,10]
[null,"5 to 17 years only",925,253,45,35,25,23,96,62,31,27,70,68,277,131,72,43,97,85,174,121,38,28]
[null,"No related children under 18 years",460,141,49,40,61,68,23,26,11,12,30,44,91,60,120,90,40,38,19,25,16,18]
[null,"Female householder, no husband present:",9422,580,525,167,242,108,672,188,425,131,717,210,3292,371,1006,211,1446,266,829,190,268,123]
[null,"With related children under 18 years:",8452,576,504,165,229,101,619,192,386,134,640,206,2852,321,932,204,1321,269,743,198,226,119]
[null,"Under 5 years only",1755,282,121,87,39,44,245,109,77,71,134,77,598,167,186,93,203,103,81,71,71,63]
[null,"Under 5 years and 5 to 17 years",1964,325,181,106,72,59,96,74,107,61,105,80,621,154,175,89,244,120,320,190,43,64]
[null,"5 to 17 years only",4733,498,202,129,118,73,278,125,202,86,401,164,1633,305,571,169,874,230,342,119,112,86]
[null,"No related children under 18 years",970,219,21,24,13,21,53,42,39,25,77,58,440,160,74,56,125,69,86,60,42,28]
[null,"Income in the past 12 months at or above poverty level:",333254,2359,15340,582,13365,577,18201,505,7904,268,20093,536,100104,1203,36312,533,81386,908,29568,814,10981,460]
[null,"Married-couple family:",272047,2926,12802,527,11387,538,14674,502,6456,243,16919,594,79810,1395,30069,588,67293,1084,24228,706,8409,430]
[null,"With related children under 18 years:",101321,1837,4001,375,3118,333,4765,323,1760,185,5221,340,32544,909,11403,434,26849,870,9157,498,2503,296]
[null,"Under 5 years only",18247,893,531,151,653,206,761,143,384,111,1079,175,6331,538,1872,246,4515,455,1804,339,317,94]
[null,"Under 5 years and 5 to 17 years",15787,766,389,100,300,105,647,160,233,72,827,150,5527,472,1681,233,4194,436,1542,254,447,161]
[null,"5 to 17 years only",67287,1528,3081,319,2165,315,3357,295,1143,124,3315,335,20686,773,7850,427,18140,780,5811,452,1739,230]
[null,"No related children under 18 years",170726,2055,8801,418,8269,470,9909,414,4696,186,11698,510,47266,958,18666,571,40444,942,15071,525,5906,345]
[null,"Other family:",61207,1669,2538,403,1978,369,3527,346,1448,164,3174,376,20294,821,6243,434,14093,801,5340,562,2572,351]
[null,"Male householder, no wife present:",21245,1135,771,224,846,243,1192,200,484,100,1111,244,6668,616,2266,247,5029,484,2035,328,843,202]
[null,"With related children under 18 years:",11910,867,480,192,464,201,823,201,256,74,646,178,3432,445,1213,194,2794,406,1321,281,481,135]
[null,"Under 5 years only",2717,338,150,120,39,30,66,43,42,30,208,113,886,229,320,108,552,169,348,164,106,60]
[null,"Under 5 years and 5 to 17 years",1181,271,31,27,135,134,95,77,45,43,84,63,277,116,146,125,275,135,33,27,60,52]
[null,"5 to 17 years only",8012,687,299,140,290,151,662,188,169,56,354,106,2269,384,747,156,1967,306,940,215,315,111]
[null,"No related children under 18 years",9335,659,291,101,382,182,369,113,228,72,465,148,3236,464,1053,206,2235,316,714,219,362,132]
[null,"Female householder, no husband present:",39962,1376,1767,288,1132,247,2335,295,964,155,2063,319,13626,711,3977,391,9064,625,3305,428,1729,314]
[null,"With related children under 18 years:",22435,879,858,197,692,206,1260,210,645,140,1080,203,7951,557,2100,288,4927,463,1867,341,1055,222]
[null,"Under 5 years only",3472,414,80,63,130,104,262,105,119,63,146,120,1141,245,291,106,614,189,378,182,311,134]
[null,"Under 5 years and 5 to 17 years",2167,319,83,57,85,74,113,71,53,34,139,72,740,192,235,97,374,154,206,118,139,85]
[null,"5 to 17 years only",16796,794,695,179,477,165,885,186,473,122,795,159,6070,504,1574,262,3939,435,1283,262,605,186]
[null,"No related children under 18 years",17527,964,909,223,440,122,1075,187,319,73,983,218,5675,402,1877,274,4137,415,1438,235,674,196]
[]
[]
[]
[null,"B17010. POVERTY STATUS IN THE PAST 12 MONTHS OF FAMILIES BY FAMILY TYPE BY PRESENCE OF RELATED CHILDREN UNDER 18 YEARS"]
[null,"Universe: FAMILIES"]
[null,"Data Set: 2008-2012 American Community Survey 5-Year Estimates"]
[]
[null,null,"New Hampshire",null,"Belknap County",null,"Carroll County",null,"Cheshire County",null,"Coos County",null,"Grafton County",null,"Hillsborough County",null,"Merrimack County",null,"Rockingham County",null,"Strafford County",null,"Sullivan County"]
[null,null,"Families","Margin of Error","Families","Margin of Error","Families","Margin of Error","Families","Margin of Error","Families","Margin of Error","Families","Margin of Error","Families","Margin of Error","Families","Margin of Error","Families","Margin of Error","Families","Margin of Error","Families","Margin of Error"]
[null,"Total:",347244,2055,17190,618,13694,609,19097,458,9112,329,21853,561,104156,1079,38335,704,81230,840,30114,605,12463,375]
[null,"Income in the past 12 months below poverty level:",19305,1060,1160,227,859,187,1021,196,849,129,1265,209,5883,585,2131,306,2858,368,2309,340,970,227]
[null,"Married-couple family:",6385,522,394,122,366,122,437,138,266,80,465,108,1608,268,856,219,1025,198,710,219,258,84]
[null,"With related children under 18 years:",3278,365,184,83,104,53,222,109,149,72,284,88,979,237,417,155,469,127,376,159,94,60]
[null,"Under 5 years only",580,200,23,35,17,19,17,16,4,5,65,60,170,110,87,72,130,112,49,40,18,26]
[null,"Under 5 years and 5 to 17 years",968,222,89,65,17,17,132,96,20,20,86,51,301,116,194,90,122,80,0,27,7,7]
[null,"5 to 17 years only",1730,298,72,42,70,45,73,59,125,73,133,57,508,180,136,66,217,81,327,156,69,52]
[null,"No related children under 18 years",3107,379,210,88,262,114,215,85,117,47,181,56,629,131,439,162,556,144,334,126,164,73]
[null,"Other family:",12920,929,766,192,493,163,584,158,583,118,800,167,4275,538,1275,223,1833,303,1599,269,712,232]
[null,"Male householder, no wife present:",1944,357,146,100,173,99,50,30,77,36,132,74,649,203,107,61,269,114,242,132,99,70]
[null,"With related children under 18 years:",1534,283,96,76,166,98,31,23,70,36,101,58,476,151,90,59,198,98,212,127,94,68]
[null,"Under 5 years only",399,132,0,27,21,40,0,27,41,31,35,40,102,59,0,27,37,43,99,86,64,63]
[null,"Under 5 years and 5 to 17 years",208,118,0,27,14,22,8,15,5,6,15,20,131,108,8,14,27,30,0,27,0,24]
[null,"5 to 17 years only",927,207,96,76,131,89,23,19,24,21,51,38,243,100,82,55,134,86,113,90,30,22]
[null,"No related children under 18 years",410,168,50,57,7,6,19,22,7,7,31,44,173,124,17,18,71,72,30,33,5,9]
[null,"Female householder, no husband present:",10976,824,620,161,320,131,534,157,506,114,668,151,3626,521,1168,218,1564,279,1357,249,613,212]
[null,"With related children under 18 years:",10163,819,587,159,278,126,511,153,482,114,576,150,3356,501,1070,210,1446,268,1281,250,576,208]
[null,"Under 5 years only",2533,398,36,51,170,112,108,63,87,43,193,91,810,221,303,147,124,104,535,204,167,101]
[null,"Under 5 years and 5 to 17 years",2482,426,194,119,61,50,154,89,83,40,88,73,921,272,210,95,425,149,268,133,78,84]
[null,"5 to 17 years only",5148,557,357,137,47,38,249,102,312,101,295,91,1625,312,557,131,897,200,478,143,331,172]
[null,"No related children under 18 years",813,159,33,32,42,31,23,23,24,17,92,55,270,110,98,61,118,51,76,59,37,34]
[null,"Income in the past 12 months at or above poverty level:",327939,2145,16030,646,12835,564,18076,484,8263,317,20588,579,98273,1170,36204,716,78372,863,27805,599,11493,402]
[null,"Married-couple family:",271030,2079,13061,524,10812,519,14726,447,6854,313,17285,560,79821,1157,29838,676,66231,1023,22710,612,9692,362]
[null,"With related children under 18 years:",109983,1663,4609,373,3111,278,5540,312,2160,222,5988,335,35119,950,11631,489,28955,817,9600,463,3270,252]
[null,"Under 5 years only",20520,991,984,192,637,168,925,179,305,103,1030,171,6753,567,2536,305,4844,472,1950,315,556,136]
[null,"Under 5 years and 5 to 17 years",17166,934,572,162,478,140,900,172,320,75,1029,179,5669,564,1745,223,4261,377,1598,251,594,145]
[null,"5 to 17 years only",72297,1236,3053,290,1996,240,3715,272,1535,179,3929,328,22697,784,7350,404,19850,739,6052,377,2120,227]
[null,"No related children under 18 years",161047,1814,8452,417,7701,438,9186,374,4694,227,11297,439,44702,1033,18207,584,37276,886,13110,478,6422,316]
[null,"Other family:",56909,1558,2969,423,2023,333,3350,421,1409,182,3303,346,18452,785,6366,487,12141,729,5095,501,1801,263]
[null,"Male householder, no wife present:",19028,825,874,255,735,202,1278,232,508,133,1107,212,6014,508,1941,283,4137,442,1727,255,707,178]
[null,"With related children under 18 years:",11301,679,643,218,386,127,737,202,321,105,697,159,3614,391,1154,238,2102,304,1163,202,484,155]
[null,"Under 5 years only",2368,410,113,90,80,63,148,112,77,40,180,87,778,246,279,128,303,129,234,124,176,94]
[null,"Under 5 years and 5 to 17 years",1073,258,137,98,60,72,35,32,59,57,67,40,342,151,89,67,126,75,133,89,25,25]
[null,"5 to 17 years only",7860,530,393,149,246,93,554,163,185,75,450,132,2494,294,786,183,1673,262,796,186,283,112]
[null,"No related children under 18 years",7727,563,231,106,349,153,541,148,187,90,410,125,2400,344,787,162,2035,326,564,161,223,111]
[null,"Female householder, no husband present:",37881,1251,2095,321,1288,248,2072,305,901,135,2196,270,12438,682,4425,415,8004,550,3368,385,1094,198]
[null,"With related children under 18 years:",22399,910,1291,278,781,184,1132,237,465,102,1334,215,7836,537,2846,356,4428,443,1675,291,611,148]
[null,"Under 5 years only",2932,437,219,151,66,42,198,108,56,33,227,124,1042,206,389,139,580,199,125,60,30,25]
[null,"Under 5 years and 5 to 17 years",2199,419,79,75,56,48,66,47,58,37,103,73,1070,284,233,112,358,163,73,45,103,83]
[null,"5 to 17 years only",17268,790,993,232,659,182,868,194,351,99,1004,176,5724,472,2224,294,3490,407,1477,258,478,135]
[null,"No related children under 18 years",15482,840,804,154,507,140,940,183,436,96,862,195,4602,401,1579,204,3576,339,1693,284,483,135]

{"sheet":"ACS_Table_B17017","index":49,"n_rows":213,"n_cols":24,"rows_kept":213,"cut":false,"hidden":true,"merged":[]}
[null,"B17017. POVERTY STATUS IN THE PAST 12 MONTHS BY HOUSEHOLD TYPE BY AGE OF HOUSEHOLDER"]
[null,"Universe: HOUSEHOLDS"]
[null,"Data Set: 2018-2022 American Community Survey 5-Year Estimates"]
[]
[null,null,"New Hampshire",null,"Belknap County",null,"Carroll County",null,"Cheshire County",null,"Coos County",null,"Grafton County",null,"Hillsborough County",null,"Merrimack County",null,"Rockingham County",null,"Strafford County",null,"Sullivan County"]
[null,null,"Households","Margin of Error","Households","Margin of Error","Households","Margin of Error","Households","Margin of Error","Households","Margin of Error","Households","Margin of Error","Households","Margin of Error","Households","Margin of Error","Households","Margin of Error","Households","Margin of Error","Households","Margin of Error"]
[null,"Total:",545116,1916,25956,632,21644,671,30307,459,13620,292,35084,684,166344,838,59851,448,125464,710,50953,591,15893,458]
[null,"Income in the past 12 months below poverty level:",41946,1603,2248,402,2101,405,2698,346,1639,229,3870,467,11461,912,4433,445,6528,679,5004,585,1964,390]
[null,"Family households:",15526,979,1098,267,632,198,981,211,543,151,1354,318,4477,546,1543,295,2600,455,1516,334,782,238]
[null,"Married-couple family:",5897,624,488,184,331,155,382,144,285,118,705,245,1475,278,497,150,761,199,627,227,346,172]
[null,"Householder under 25 years",104,78,0,28,0,28,42,47,0,25,41,56,0,28,21,29,0,28,0,28,0,25]
[null,"Householder 25 to 44 years",1454,339,57,42,4,7,104,62,74,48,74,57,401,146,167,94,202,100,279,170,92,88]
[null,"Householder 45 to 64 years",2355,456,183,117,198,102,82,50,114,99,292,172,598,202,199,104,372,143,158,87,159,109]
[null,"Householder 65 years and over",1984,348,248,152,129,103,154,115,97,51,298,163,476,141,110,54,187,106,190,124,95,102]
[null,"Other family:",9629,718,610,187,301,143,599,163,258,83,649,189,3002,443,1046,274,1839,415,889,255,436,167]
[null,"Male householder, no spouse present:",2145,326,120,69,86,56,108,63,56,51,114,78,729,203,334,160,178,92,357,200,63,46]
[null,"Householder under 25 years",126,87,0,28,0,28,26,44,5,7,1,3,61,66,31,29,0,28,0,28,2,3]
[null,"Householder 25 to 44 years",908,251,39,42,48,49,47,46,14,19,83,75,238,123,82,51,52,55,285,192,20,28]
[null,"Householder 45 to 64 years",870,235,57,50,10,8,33,30,37,46,25,19,374,165,127,116,101,75,72,50,34,45]
[null,"Householder 65 years and over",241,143,24,27,28,27,2,3,0,25,5,4,56,82,94,95,25,22,0,28,7,12]
[null,"Female householder, no spouse present:",7484,659,490,173,215,125,491,159,202,67,535,178,2273,423,712,226,1661,406,532,173,373,162]
[null,"Householder under 25 years",412,207,11,21,0,28,36,42,5,10,63,81,59,45,184,173,22,34,16,27,16,24]
[null,"Householder 25 to 44 years",4607,534,227,113,143,112,319,140,161,59,349,147,1605,375,407,144,868,258,306,128,222,115]
[null,"Householder 45 to 64 years",1997,458,145,83,57,54,62,33,20,18,111,57,509,168,114,62,679,339,171,113,129,94]
[null,"Householder 65 years and over",468,141,107,88,15,17,74,77,16,14,12,9,100,71,7,12,92,63,39,44,6,7]
[null,"Nonfamily households:",26420,1246,1150,292,1469,363,1717,299,1096,186,2516,436,6984,645,2890,380,3928,488,3488,454,1182,302]
[null,"Male householder:",10963,697,594,228,774,240,776,180,613,145,1214,280,2510,298,1333,230,1296,304,1426,286,427,164]
[null,"Householder under 25 years",1611,268,21,23,56,60,149,81,100,65,221,124,239,117,140,92,178,132,482,125,25,21]
[null,"Householder 25 to 44 years",2170,330,70,53,118,97,238,117,122,60,318,136,468,143,328,144,239,115,147,91,122,76]
[null,"Householder 45 to 64 years",4123,489,420,226,325,148,238,92,231,68,282,155,1176,283,467,157,539,199,290,130,155,110]
[null,"Householder 65 years and over",3059,468,83,60,275,149,151,77,160,65,393,146,627,168,398,145,340,125,507,225,125,93]
[null,"Female householder:",15457,1037,556,181,695,246,941,222,483,127,1302,345,4474,584,1557,289,2632,361,2062,355,755,249]
[null,"Householder under 25 years",1091,306,0,28,5,10,56,39,24,27,191,173,283,157,114,103,51,55,342,131,25,30]
[null,"Householder 25 to 44 years",2025,389,107,122,20,28,120,90,73,43,81,56,606,198,245,89,240,143,358,169,175,148]
[null,"Householder 45 to 64 years",5267,510,219,104,246,108,292,116,133,54,429,182,1575,332,588,208,841,199,695,229,249,149]
[null,"Householder 65 years and over",7074,694,230,79,424,209,473,169,253,88,601,208,2010,434,610,185,1500,282,667,238,306,120]
[null,"Income in the past 12 months at or above poverty level:",503170,2384,23708,680,19543,681,27609,517,11981,294,31214,679,154883,1231,55418,615,118936,953,45949,768,13929,558]
[null,"Family households:",338380,2708,16002,633,12894,691,17735,573,7553,342,20065,640,102745,1736,38573,692,83522,1381,30107,724,9184,466]
[null,"Married-couple family:",278149,2934,13187,653,10847,621,14852,559,6161,305,16256,646,82485,1732,31908,749,70343,1564,24630,723,7480,472]
[null,"Householder under 25 years",1661,392,11,21,3,5,95,60,55,37,113,72,616,250,243,118,252,163,265,158,8,10]
[null,"Householder 25 to 44 years",77570,1655,3191,422,1815,259,3607,346,1243,149,3910,344,25412,1041,9456,447,19451,727,7582,521,1903,261]
[null,"Householder 45 to 64 years",126980,2014,5969,425,4810,363,6597,408,2797,197,6759,397,38246,1034,13819,454,33313,1055,11390,479,3280,327]
[null,"Householder 65 years and over",71938,1312,4016,304,4219,313,4553,323,2066,140,5474,330,18211,731,8390,339,17327,670,5393,354,2289,261]
[null,"Other family:",60231,1814,2815,382,2047,332,2883,375,1392,210,3809,429,20260,1017,6665,518,13179,1009,5477,520,1704,267]
[null,"Male householder, no spouse present:",21719,1107,869,212,736,190,939,229,463,132,1228,261,7307,707,2826,363,4719,584,2003,355,629,180]
[null,"Householder under 25 years",759,210,41,62,52,80,30,44,31,39,50,61,264,140,105,79,117,77,69,64,0,25]
[null,"Householder 25 to 44 years",7790,727,378,132,278,120,343,126,224,102,461,167,2643,461,1024,246,1347,308,834,209,258,113]
[null,"Householder 45 to 64 years",9996,825,248,106,224,88,433,150,161,71,602,177,3387,481,1347,232,2540,476,784,205,270,98]
[null,"Householder 65 years and over",3174,426,202,90,182,102,133,80,47,28,115,46,1013,221,350,106,715,201,316,129,101,77]
[null,"Female householder, no spouse present:",38512,1492,1946,325,1311,276,1944,302,929,178,2581,365,12953,889,3839,381,8460,821,3474,405,1075,195]
[null,"Householder under 25 years",710,218,35,40,36,54,44,65,0,25,29,46,291,152,111,65,139,95,25,27,0,25]
[null,"Householder 25 to 44 years",13454,865,914,272,441,180,702,171,380,103,696,152,4706,527,1502,286,2198,472,1398,304,517,163]
[null,"Householder 45 to 64 years",16836,1061,748,176,483,147,780,163,298,121,1341,278,5386,585,1668,264,4519,565,1338,259,275,99]
[null,"Householder 65 years and over",7512,608,249,90,351,118,418,114,251,85,515,159,2570,346,558,116,1604,250,713,242,283,92]
[null,"Nonfamily households:",164790,2833,7706,531,6649,624,9874,745,4428,336,11149,548,52138,1710,16845,671,35414,1430,15842,719,4745,441]
[null,"Male householder:",80253,1991,3479,370,3468,405,4952,534,2274,264,5362,417,26394,1222,7935,547,16436,1035,7450,598,2503,319]
[null,"Householder under 25 years",3822,421,24,32,72,69,289,112,82,50,155,89,1555,275,520,149,539,188,556,183,30,23]
[null,"Householder 25 to 44 years",25751,1081,848,260,678,217,1352,270,474,179,1330,211,10156,671,2224,283,5246,575,2733,375,710,194]
[null,"Householder 45 to 64 years",27731,1307,1243,258,1186,227,1856,379,781,125,1882,265,8932,826,2828,379,5829,554,2437,387,757,226]
[null,"Householder 65 years and over",22949,1089,1364,247,1532,278,1455,238,937,143,1995,297,5751,498,2363,275,4822,566,1724,300,1006,222]
[null,"Female householder:",84537,2008,4227,454,3181,414,4922,436,2154,211,5787,434,25744,1085,8910,464,18978,1036,8392,629,2242,309]
[null,"Householder under 25 years",4277,520,114,88,71,74,230,122,103,83,225,129,1031,251,484,173,832,246,1000,303,187,123]
[null,"Householder 25 to 44 years",16359,861,389,160,192,75,1145,214,179,65,1211,223,6364,551,1307,251,3450,462,1816,343,306,104]
[null,"Householder 45 to 64 years",24450,1107,1338,323,850,206,1252,211,622,125,1611,227,7794,683,2572,302,5876,611,1894,331,641,191]
[null,"Householder 65 years and over",39451,1362,2386,290,2068,319,2295,286,1250,155,2740,340,10555,634,4547,376,8820,666,3682,438,1108,230]
[]
[]
[]
[]
[]
[]
[]
[]
[]
[null,"B17017. POVERTY STATUS IN THE PAST 12 MONTHS BY HOUSEHOLD TYPE BY AGE OF HOUSEHOLDER"]
[null,"Universe: HOUSEHOLDS"]
[null,"Data Set: 2013-2017 American Community Survey 5-Year Estimates"]
[]
[null,null,"New Hampshire",null,"Belknap County",null,"Carroll County",null,"Cheshire County",null,"Coos County",null,"Grafton County",null,"Hillsborough County",null,"Merrimack County",null,"Rockingham County",null,"Strafford County",null,"Sullivan County"]
[null,null,"Households","Margin of Error","Households","Margin of Error","Households","Margin of Error","Households","Margin of Error","Households","Margin of Error","Households","Margin of Error","Households","Margin of Error","Households","Margin of Error","Households","Margin of Error","Households","Margin of Error","Households","Margin of Error"]
[null,"Total:",526710,2332,24579,676,21203,654,30529,470,13879,324,34856,606,158139,795,57247,533,119955,768,48543,627,17780,377]
[null,"Income in the past 12 months below poverty level:",43453,1173,2271,370,1948,339,3164,365,1798,213,3627,379,12978,691,4706,478,6373,449,4988,559,1600,276]
[null,"Family households:",17404,784,979,234,696,174,997,205,821,167,1319,278,5958,475,1844,265,2475,331,1697,308,618,163]
[null,"Married-couple family:",5855,431,360,150,316,106,206,75,315,97,444,119,1918,266,560,160,837,192,610,209,289,106]
[null,"Householder under 25 years",165,102,0,27,0,24,5,5,0,24,0,27,146,100,0,27,0,27,0,27,14,22]
[null,"Householder 25 to 44 years",2084,288,54,58,86,70,101,58,89,44,190,92,726,184,188,84,264,113,304,157,82,58]
[null,"Householder 45 to 64 years",2431,340,226,116,208,91,46,29,160,68,195,71,653,181,236,118,301,106,246,130,160,84]
[null,"Householder 65 years and over",1175,191,80,56,22,19,54,28,66,30,59,31,393,134,136,64,272,95,60,42,33,26]
[null,"Other family:",11549,702,619,178,380,139,791,197,506,136,875,236,4040,425,1284,227,1638,272,1087,251,329,132]
[null,"Male householder, no wife present:",2127,380,94,51,138,96,119,68,81,48,158,100,748,218,278,131,192,107,258,139,61,35]
[null,"Householder under 25 years",273,119,0,27,39,61,39,45,0,24,5,9,30,29,98,86,40,48,0,27,22,21]
[null,"Householder 25 to 44 years",985,279,32,30,60,75,66,48,58,45,107,89,409,174,69,77,15,25,164,109,5,6]
[null,"Householder 45 to 64 years",730,207,42,35,39,29,5,7,16,13,18,17,274,135,100,53,110,86,92,73,34,28]
[null,"Householder 65 years and over",139,62,20,22,0,24,9,14,7,11,28,44,35,28,11,14,27,31,2,4,0,24]
[null,"Female householder, no husband present:",9422,580,525,167,242,108,672,188,425,131,717,210,3292,371,1006,211,1446,266,829,190,268,123]
[null,"Householder under 25 years",932,231,0,27,25,41,207,114,53,63,63,52,292,123,76,60,75,67,108,130,33,54]
[null,"Householder 25 to 44 years",6008,557,471,163,165,89,291,117,303,105,456,167,2106,310,688,196,912,259,452,145,164,98]
[null,"Householder 45 to 64 years",2041,301,33,32,52,50,154,101,45,23,176,101,789,195,209,81,352,122,187,91,44,40]
[null,"Householder 65 years and over",441,117,21,24,0,24,20,27,24,20,22,23,105,85,33,38,107,58,82,62,27,28]
[null,"Nonfamily households:",26049,926,1292,245,1252,305,2167,288,977,152,2308,320,7020,519,2862,331,3898,411,3291,455,982,226]
[null,"Male householder:",10765,624,647,199,561,191,720,152,489,98,1122,209,3000,345,1029,186,1317,246,1450,297,430,167]
[null,"Householder under 25 years",1783,297,58,70,0,24,164,100,50,40,228,117,425,142,223,123,49,51,506,143,80,103]
[null,"Householder 25 to 44 years",2094,358,123,83,135,100,152,74,73,41,159,96,757,209,143,58,266,129,268,217,18,14]
[null,"Householder 45 to 64 years",5048,492,311,135,373,169,233,83,248,70,485,147,1346,259,525,149,721,192,541,194,265,119]
[null,"Householder 65 years and over",1840,253,155,93,53,36,171,88,118,66,250,107,472,155,138,55,281,101,135,80,67,67]
[null,"Female householder:",15284,731,645,143,691,197,1447,261,488,106,1186,231,4020,421,1833,268,2581,313,1841,295,552,154]
[null,"Householder under 25 years",2218,321,33,38,18,31,371,136,27,24,164,103,400,141,316,121,210,108,628,153,51,41]
[null,"Householder 25 to 44 years",2237,380,72,46,167,143,144,69,42,38,251,147,544,143,291,110,425,184,238,116,63,55]
[null,"Householder 45 to 64 years",5790,533,286,105,252,96,441,150,203,72,393,133,1793,306,734,180,894,220,495,169,299,121]
[null,"Householder 65 years and over",5039,462,254,83,254,113,491,120,216,50,378,115,1283,252,492,115,1052,205,480,141,139,73]
[null,"Income in the past 12 months at or above poverty level:",483257,2501,22308,724,19255,558,27365,473,12081,304,31229,704,145161,941,52541,645,113582,853,43555,764,16180,455]
[null,"Family households:",333254,2359,15340,582,13365,577,18201,505,7904,268,20093,536,100104,1203,36312,533,81386,908,29568,814,10981,460]
[null,"Married-couple family:",272047,2926,12802,527,11387,538,14674,502,6456,243,16919,594,79810,1395,30069,588,67293,1084,24228,706,8409,430]
[null,"Householder under 25 years",1560,333,25,30,32,35,95,57,49,54,146,94,567,200,116,92,93,57,316,160,121,118]
[null,"Householder 25 to 44 years",76504,1772,3169,314,2204,270,3908,287,1365,153,3985,314,24995,898,8579,411,18812,715,7677,464,1810,221]
[null,"Householder 45 to 64 years",132108,1757,6110,314,5116,340,6780,353,3106,160,7903,334,38554,832,14811,408,34313,659,11153,452,4262,262]
[null,"Householder 65 years and over",61875,878,3498,173,4035,251,3891,207,1936,132,4885,249,15694,458,6563,275,14075,474,5082,257,2216,180]
[null,"Other family:",61207,1669,2538,403,1978,369,3527,346,1448,164,3174,376,20294,821,6243,434,14093,801,5340,562,2572,351]
[null,"Male householder, no wife present:",21245,1135,771,224,846,243,1192,200,484,100,1111,244,6668,616,2266,247,5029,484,2035,328,843,202]
[null,"Householder under 25 years",867,262,34,38,77,123,73,75,6,10,11,18,295,169,87,49,119,87,99,76,66,45]
[null,"Householder 25 to 44 years",8570,731,292,157,337,150,522,153,233,85,501,161,2522,361,985,171,1950,355,904,233,324,145]
[null,"Householder 45 to 64 years",9482,620,297,115,327,164,486,135,210,60,460,164,3152,411,922,179,2452,348,806,214,370,120]
[null,"Householder 65 years and over",2326,284,148,82,105,75,111,65,35,26,139,63,699,164,272,82,508,114,226,102,83,54]
[null,"Female householder, no husband present:",39962,1376,1767,288,1132,247,2335,295,964,155,2063,319,13626,711,3977,391,9064,625,3305,428,1729,314]
[null,"Householder under 25 years",1352,310,136,143,63,68,91,84,50,52,72,111,446,166,137,90,111,69,208,148,38,42]
[null,"Householder 25 to 44 years",13825,777,512,171,364,141,746,178,415,106,733,148,5023,509,1162,229,2903,325,1213,251,754,200]
[null,"Householder 45 to 64 years",17613,881,641,153,492,152,1029,219,384,102,842,172,6010,475,1978,288,4513,489,1302,253,422,126]
[null,"Householder 65 years and over",7172,521,478,148,213,113,469,107,115,42,416,122,2147,249,700,130,1537,289,582,170,515,176]
[null,"Nonfamily households:",150003,2133,6968,545,5890,504,9164,403,4177,282,11136,611,45057,1234,16229,622,32196,989,13987,763,5199,382]
[null,"Male householder:",72494,1562,3189,357,2960,375,4363,321,2092,199,5261,450,22850,893,7645,445,15211,692,6534,500,2389,284]
[null,"Householder under 25 years",3981,590,21,33,56,48,274,113,123,57,222,137,1164,274,306,146,881,259,776,229,158,84]
[null,"Householder 25 to 44 years",22224,1032,832,204,632,198,1187,214,351,112,1828,315,8298,604,2093,275,4276,428,2031,339,696,180]
[null,"Householder 45 to 64 years",28794,1093,1477,249,1278,261,1775,260,902,143,2034,270,8728,580,3148,296,6200,510,2415,322,837,152]
[null,"Householder 65 years and over",17495,610,859,156,994,196,1127,190,716,109,1177,208,4660,383,2098,237,3854,371,1312,222,698,142]
[null,"Female householder:",77509,1589,3779,367,2930,387,4801,365,2085,187,5875,445,22207,872,8584,407,16985,673,7453,576,2810,295]
[null,"Householder under 25 years",3768,466,143,104,99,78,216,111,49,31,278,154,1254,244,250,108,685,192,711,253,83,57]
[null,"Householder 25 to 44 years",13116,838,492,172,269,138,660,161,242,99,1244,268,4206,552,1440,198,2736,377,1482,287,345,122]
[null,"Householder 45 to 64 years",26576,1124,1302,217,1027,255,1608,218,620,93,1970,207,7684,562,2833,243,5886,390,2458,332,1188,182]
[null,"Householder 65 years and over",34049,1006,1842,201,1535,215,2317,224,1174,130,2383,245,9063,481,4061,342,7678,439,2802,301,1194,178]
[]
[]
[]
[]
[]
[]
[]
[]
[]
[null,"B17017. POVERTY STATUS IN THE PAST 12 MONTHS BY HOUSEHOLD TYPE BY AGE OF HOUSEHOLDER"]
[null,"Universe: HOUSEHOLDS"]
[null,"Data Set: 2008-2012 American Community Survey 5-Year Estimates"]
[]
[null,null,"New Hampshire",null,"Belknap County",null,"Carroll County",null,"Cheshire County",null,"Coos County",null,"Grafton County",null,"Hillsborough County",null,"Merrimack County",null,"Rockingham County",null,"Strafford County",null,"Sullivan County"]
[null,null,"Households","Margin of Error","Households","Margin of Error","Households","Margin of Error","Households","Margin of Error","Households","Margin of Error","Households","Margin of Error","Households","Margin of Error","Households","Margin of Error","Households","Margin of Error","Households","Margin of Error","Households","Margin of Error"]
[null,"Total:",516845,1886,25127,635,20632,626,30173,528,14704,342,34816,560,153747,897,57224,541,115552,673,46821,560,18049,319]
[null,"Income in the past 12 months below poverty level:",44672,1479,2349,316,2205,310,3222,339,1888,226,3596,335,12559,853,4991,479,6507,633,5453,575,1902,321]
[null,"Family households:",19305,1060,1160,227,859,187,1021,196,849,129,1265,209,5883,585,2131,306,2858,368,2309,340,970,227]
[null,"Married-couple family:",6385,522,394,122,366,122,437,138,266,80,465,108,1608,268,856,219,1025,198,710,219,258,84]
[null,"Householder under 25 years",127,73,0,27,0,24,5,8,0,24,6,7,71,62,27,30,0,27,0,27,18,26]
[null,"Householder 25 to 44 years",2557,346,134,77,96,51,196,101,115,68,233,96,745,210,285,114,426,161,268,149,59,42]
[null,"Householder 45 to 64 years",2580,364,175,81,207,97,105,53,117,42,141,50,574,135,444,156,326,130,353,140,138,69]
[null,"Householder 65 years and over",1121,166,85,59,63,43,131,66,34,27,85,43,218,81,100,53,273,91,89,52,43,29]
[null,"Other family:",12920,929,766,192,493,163,584,158,583,118,800,167,4275,538,1275,223,1833,303,1599,269,712,232]
[null,"Male householder, no wife present:",1944,357,146,100,173,99,50,30,77,36,132,74,649,203,107,61,269,114,242,132,99,70]
[null,"Householder under 25 years",242,99,0,27,0,24,13,21,9,14,22,39,90,77,8,14,61,56,27,30,12,21]
[null,"Householder 25 to 44 years",933,210,62,67,107,89,26,21,33,29,35,24,371,134,24,26,65,43,148,117,62,60]
[null,"Householder 45 to 64 years",618,194,84,71,62,44,3,4,35,23,64,53,143,108,75,51,63,62,67,49,22,25]
[null,"Householder 65 years and over",151,95,0,27,4,6,8,11,0,24,11,12,45,49,0,27,80,75,0,27,3,4]
[null,"Female householder, no husband present:",10976,824,620,161,320,131,534,157,506,114,668,151,3626,521,1168,218,1564,279,1357,249,613,212]
[null,"Householder under 25 years",1307,280,67,66,102,81,69,60,85,43,97,66,312,139,139,92,83,98,261,142,92,63]
[null,"Householder 25 to 44 years",7478,694,432,139,119,79,320,109,337,95,406,119,2531,432,869,191,1153,252,857,223,454,192]
[null,"Householder 45 to 64 years",1870,286,121,55,82,44,111,66,76,38,100,49,664,171,156,83,301,120,211,89,48,36]
[null,"Householder 65 years and over",321,96,0,27,17,23,34,34,8,12,65,56,119,62,4,6,27,26,28,27,19,24]
[null,"Nonfamily households:",25367,1072,1189,225,1346,235,2201,285,1039,170,2331,290,6676,592,2860,386,3649,445,3144,398,932,208]
[null,"Male householder:",10823,777,447,149,664,180,1105,211,433,113,948,216,2677,425,1248,283,1541,348,1296,277,464,151]
[null,"Householder under 25 years",1847,323,56,58,54,74,339,118,56,56,312,171,234,133,113,68,91,65,519,168,73,67]
[null,"Householder 25 to 44 years",2501,391,56,55,85,70,263,129,67,42,194,98,597,211,307,130,552,210,267,123,113,86]
[null,"Householder 45 to 64 years",4723,497,223,98,491,148,353,114,178,64,309,96,1349,254,721,224,549,171,367,130,183,79]
[null,"Householder 65 years and over",1752,307,112,61,34,30,150,75,132,66,133,68,497,172,107,71,349,147,143,88,95,60]
[null,"Female householder:",14544,789,742,222,682,179,1096,205,606,135,1383,243,3999,426,1612,258,2108,306,1848,274,468,142]
[null,"Householder under 25 years",2219,362,136,134,45,55,235,93,0,24,232,95,519,151,197,114,184,93,624,146,47,49]
[null,"Householder 25 to 44 years",2216,367,58,41,83,67,198,102,120,65,186,93,676,197,285,150,325,158,220,97,65,67]
[null,"Householder 45 to 64 years",4808,513,280,114,282,113,296,101,183,56,425,126,1302,252,616,158,670,173,585,170,169,79]
[null,"Householder 65 years and over",5301,412,268,110,272,99,367,108,303,96,540,128,1502,221,514,123,929,172,419,131,187,70]
[null,"Income in the past 12 months at or above poverty level:",472173,2115,22778,656,18427,576,26951,512,12816,347,31220,530,141188,1078,52233,653,109045,907,41368,643,16147,374]
[null,"Family households:",327939,2145,16030,646,12835,564,18076,484,8263,317,20588,579,98273,1170,36204,716,78372,863,27805,599,11493,402]
[null,"Married-couple family:",271030,2079,13061,524,10812,519,14726,447,6854,313,17285,560,79821,1157,29838,676,66231,1023,22710,612,9692,362]
[null,"Householder under 25 years",1716,272,54,48,20,28,40,38,75,58,221,95,362,106,222,123,327,123,308,165,87,64]
[null,"Householder 25 to 44 years",86118,1414,3769,308,2672,231,4329,274,1795,180,4544,323,27290,819,9432,434,21520,650,7986,422,2781,230]
[null,"Householder 45 to 64 years",133155,1400,6343,355,4916,342,7301,333,3368,184,8544,325,39096,783,14457,421,33835,640,10527,352,4768,235]
[null,"Householder 65 years and over",50041,811,2895,163,3204,212,3056,199,1616,135,3976,190,13073,426,5727,243,10549,404,3889,224,2056,166]
[null,"Other family:",56909,1558,2969,423,2023,333,3350,421,1409,182,3303,346,18452,785,6366,487,12141,729,5095,501,1801,263]
[null,"Male householder, no wife present:",19028,825,874,255,735,202,1278,232,508,133,1107,212,6014,508,1941,283,4137,442,1727,255,707,178]
[null,"Householder under 25 years",778,219,74,62,8,15,8,13,35,54,62,79,207,136,42,44,160,88,130,85,52,54]
[null,"Householder 25 to 44 years",7977,595,431,173,330,154,400,149,323,105,399,124,2846,407,877,186,1337,261,739,185,295,117]
[null,"Householder 45 to 64 years",8460,509,308,132,374,135,683,179,130,67,461,104,2429,264,870,162,2199,281,681,182,325,125]
[null,"Householder 65 years and over",1813,242,61,34,23,30,187,74,20,18,185,91,532,127,152,69,441,159,177,96,35,26]
[null,"Female householder, no husband present:",37881,1251,2095,321,1288,248,2072,305,901,135,2196,270,12438,682,4425,415,8004,550,3368,385,1094,198]
[null,"Householder under 25 years",1140,268,170,145,24,28,29,31,40,31,69,58,328,143,121,104,262,139,69,50,28,24]
[null,"Householder 25 to 44 years",14769,815,848,216,362,132,725,172,303,73,1035,227,5462,437,1728,274,2560,353,1199,229,547,150]
[null,"Householder 45 to 64 years",16033,859,773,182,742,206,881,198,256,89,748,138,4875,432,2015,261,3867,384,1603,268,273,103]
[null,"Householder 65 years and over",5939,447,304,97,160,77,437,120,302,74,344,95,1773,234,561,112,1315,219,497,138,246,89]
[null,"Nonfamily households:",144234,2329,6748,528,5592,490,8875,480,4553,329,10632,558,42915,1191,16029,691,30673,1052,13563,616,4654,357]
[null,"Male householder:",69218,1458,3276,360,2729,348,4173,341,2416,243,5121,391,21396,745,7336,505,14691,705,5924,419,2156,294]
[null,"Householder under 25 years",3946,507,113,110,92,73,276,120,135,70,304,162,1029,239,516,168,762,231,623,197,96,70]
[null,"Householder 25 to 44 years",23485,912,972,224,494,158,1310,230,532,119,1646,201,8388,513,2353,328,5156,432,2070,306,564,149]
[null,"Householder 45 to 64 years",28508,953,1259,212,1468,256,1568,244,1107,167,2149,259,8863,466,3085,251,5823,429,2290,277,896,175]
[null,"Householder 65 years and over",13279,706,932,145,675,155,1019,157,642,116,1022,175,3116,307,1382,191,2950,299,941,152,600,129]
[null,"Female householder:",75016,1585,3472,306,2863,368,4702,334,2137,211,5511,358,21519,887,8693,448,15982,856,7639,503,2498,267]
[null,"Householder under 25 years",3200,404,120,88,71,52,132,85,20,19,209,122,948,208,295,134,557,182,762,212,86,54]
[null,"Householder 25 to 44 years",13441,786,409,113,363,136,800,185,172,69,980,215,4651,462,1480,186,2949,308,1249,292,388,181]
[null,"Householder 45 to 64 years",28272,1104,1330,186,1107,220,1819,190,720,123,1995,282,7901,517,3387,310,6251,563,2820,338,942,157]
[null,"Householder 65 years and over",30103,871,1613,204,1322,241,1951,197,1225,136,2327,196,8019,470,3531,285,6225,398,2808,260,1082,151]

{"sheet":"ACS_Table_B03002","index":50,"n_rows":108,"n_cols":24,"rows_kept":108,"cut":false,"hidden":true,"merged":[]}
[null,"B03002. HISPANIC OR LATINO ORIGIN BY RACE"]
[null,"Universe:  TOTAL POPULATION"]
[null,"Data Set: 2018-2022 American Community Survey 5-Year Estimate"]
[]
[null,null,"New Hampshire",null,"Belknap County",null,"Carroll County",null,"Cheshire County",null,"Coos County",null,"Grafton County",null,"Hillsborough County",null,"Merrimack County",null,"Rockingham County",null,"Strafford County",null,"Sullivan County"]
[null," ","Estimate","Margin of Error","Estimate","Margin of Error","Estimate","Margin of Error","Estimate","Margin of Error","Estimate","Margin of Error","Estimate","Margin of Error","Estimate","Margin of Error"]
[null,"Total:",1379610,"*****",63914,"*****",50679,"*****",76610,"*****",31430,"*****",90836,"*****",422733,"*****",153918,"*****",315169,"*****",130965,"*****",43356,"*****"]
[null,"Not Hispanic or Latino:",1320956,"*****",62636,"*****",49832,"*****",74948,"*****",30841,"*****",88451,"*****",390175,"*****",150116,"*****",304236,"*****",127175,"*****",42546,"*****"]
[null,"White alone",1217710,1573,59963,265,48051,121,71336,192,29592,106,80703,357,346139,1052,140243,306,285266,989,116049,469,40368,259]
[null,"Black or African American alone",18477,831,326,180,287,116,477,131,554,125,929,168,9337,737,2327,261,2545,300,1394,276,301,65]
[null,"American Indian and Alaska Native alone",1332,269,166,93,106,87,98,46,6,17,156,70,336,120,282,118,28,22,64,39,90,103]
[null,"Asian alone",36232,970,782,123,421,51,512,239,160,31,3056,243,17683,693,2980,326,6432,477,3879,368,327,101]
[null,"Native Hawaiian and Other Pacific Islander alone",325,192,12,21,0,28,14,16,1,3,55,54,47,69,25,31,67,52,98,142,6,10]
[null,"Some other race alone",3974,903,102,116,26,35,154,130,36,29,207,123,1306,432,308,192,1225,566,494,271,116,132]
[null,"Two or more races:",42906,1997,1285,317,941,226,2357,310,492,160,3345,428,15327,1371,3951,476,8673,1015,5197,673,1338,319]
[null,"Two races including Some other race",12369,1475,484,223,311,126,322,145,220,101,1098,356,4202,945,921,270,3143,942,1255,456,413,244]
[null,"Two races excluding Some other race, and three or more races",30537,1373,801,227,630,164,2035,298,272,122,2247,294,11125,983,3030,437,5530,532,3942,502,925,156]
[null,"Hispanic or Latino:",58654,"*****",1278,"*****",847,"*****",1662,"*****",589,"*****",2385,"*****",32558,"*****",3802,"*****",10933,"*****",3790,"*****",810,"*****"]
[null,"White alone",23884,1616,467,180,366,105,459,164,387,71,959,187,12479,1254,1544,291,5011,721,1538,320,674,87]
[null,"Black or African American alone",2443,670,150,162,1,3,40,59,80,34,128,57,1575,517,124,74,269,190,51,66,25,30]
[null,"American Indian and Alaska Native alone",738,231,0,28,142,119,4,6,19,25,53,50,268,144,125,134,127,104,0,28,0,25]
[null,"Asian alone",120,64,0,28,0,28,0,28,0,25,26,27,25,38,6,9,34,33,29,25,0,25]
[null,"Native Hawaiian and Other Pacific Islander alone",23,21,0,28,0,28,0,28,0,25,0,28,17,18,6,10,0,28,0,28,0,25]
[null,"Some other race alone",11035,1280,405,213,92,90,378,211,12,15,486,175,6410,1043,491,194,2138,611,584,224,39,55]
[null,"Two or more races:",20411,1614,256,147,246,120,781,213,91,52,733,153,11784,1345,1506,267,3354,667,1588,300,72,54]
[null,"Two races including Some other race",17598,1563,218,142,197,118,536,151,78,48,631,145,10074,1284,1300,249,3145,635,1370,329,49,42]
[null,"Two races excluding Some other race, and three or more races",2813,585,38,40,49,84,245,171,13,16,102,47,1710,528,206,142,209,108,218,131,23,24]
[]
[]
[]
[null,null,"New Hampshire",null,"Belknap County",null,"Carroll County",null,"Cheshire County",null,"Coos County",null,"Grafton County",null,"Hillsborough County",null,"Merrimack County",null,"Rockingham County",null,"Strafford County",null,"Sullivan County"]
[null," ","Estimate","Margin of Error","Estimate","Margin of Error","Estimate","Margin of Error","Estimate","Margin of Error","Estimate","Margin of Error","Estimate","Margin of Error","Estimate","Margin of Error"]
[null,"Total:",{"$f":"C7","v":1379610},"*****",63914,"*****",50679,"*****",76610,"*****",31430,"*****",90836,"*****",422733,"*****",153918,"*****",315169,"*****",130965,"*****",43356,"*****"]
[null,"Not Hispanic or Latino:",1320956,"*****",62636,"*****",49832,"*****",74948,"*****",30841,"*****",88451,"*****",390175,"*****",150116,"*****",304236,"*****",127175,"*****",42546,"*****"]
[null,"White",1217710,1573,59963,265,48051,121,71336,192,29592,106,80703,357,346139,1052,140243,306,285266,989,116049,469,40368,259]
[null,"Black",18477,831,326,180,287,116,477,131,554,125,929,168,9337,737,2327,261,2545,300,1394,276,301,65]
[null,"American Indian",{"$f":"$C$11","v":1332},{"$f":"D11","v":269},166,93,106,87,98,46,6,17,156,70,336,120,282,118,28,22,64,39,90,103]
[null,"Asian &Pacific Is.",{"$f":"C12+C13","v":36557},{"$f":"SQRT((D12^2)+(D13^2))","v":988.81949818963426},{"$f":"E12+E13","v":794},{"$f":"SQRT((F12^2)+(F13^2))","v":124.77980605851253},{"$f":"G12+G13","v":421},{"$f":"SQRT((H12^2)+(H13^2))","v":58.180752831155424},{"$f":"I12+I13","v":526},{"$f":"SQRT((J12^2)+(J13^2))","v":239.53496613229561},{"$f":"K12+K13","v":161},{"$f":"SQRT((L12^2)+(L13^2))","v":31.144823004794873},{"$f":"M12+M13","v":3111},{"$f":"SQRT((N12^2)+(N13^2))","v":248.92770034690795},{"$f":"O12+O13","v":17730},{"$f":"SQRT((P12^2)+(P13^2))","v":696.42659340378441},{"$f":"Q12+Q13","v":3005},{"$f":"SQRT((R12^2)+(R13^2))","v":327.47060936823016},{"$f":"S12+S13","v":6499},{"$f":"SQRT((T12^2)+(T13^2))","v":479.82601013283971},{"$f":"U12+U13","v":3977},{"$f":"SQRT((V12^2)+(V13^2))","v":394.44644756924862},{"$f":"W12+W13","v":333},{"$f":"SQRT((X12^2)+(X13^2))","v":101.49384217774002}]
[null,"Other*",{"$f":"C14+C15","v":46880},{"$f":"SQRT((D14^2)+(D15^2))","v":2191.6701394142324},{"$f":"E14+E15","v":1387},{"$f":"SQRT((F14^2)+(F15^2))","v":337.5574025258519},{"$f":"G14+G15","v":967},{"$f":"SQRT((H14^2)+(H15^2))","v":228.69411885748178},{"$f":"I14+I15","v":2511},{"$f":"SQRT((J14^2)+(J15^2))","v":336.15472627943223},{"$f":"K14+K15","v":528},{"$f":"SQRT((L14^2)+(L15^2))","v":162.60688792299052},{"$f":"M14+M15","v":3552},{"$f":"SQRT((N14^2)+(N15^2))","v":445.32347793486031},{"$f":"O14+O15","v":16633},{"$f":"SQRT((P14^2)+(P15^2))","v":1437.4508687256061},{"$f":"Q14+Q15","v":4259},{"$f":"SQRT((R14^2)+(R15^2))","v":513.26406459053806},{"$f":"S14+S15","v":9898},{"$f":"SQRT((T14^2)+(T15^2))","v":1162.1449995590051},{"$f":"U14+U15","v":5691},{"$f":"SQRT((V14^2)+(V15^2))","v":725.51361117486965},{"$f":"W14+W15","v":1454},{"$f":"SQRT((X14^2)+(X15^2))","v":345.23180618245476}]
[null,"Hispanic or Latino:",{"$f":"C18","v":58654},{"$f":"D18","v":"*****"},{"$f":"E18","v":1278},"*****",847,"*****",1662,"*****",589,"*****",2385,"*****",32558,"*****",3802,"*****",10933,"*****",3790,"*****",810,"*****"]
[]
[]
[]
[]
[]
[]
[]
[]
[]
[]
[]
[]
[]
[]
[]
[]
[]
[]
[]
[]
[]
[]
[]
[]
[]
[]
[]
[]
[]
[]
[]
[]
[]
[]
[]
[]
[]
[null,"Calculated B03002. HISPANIC OR LATINO ORIGIN BY RACE"]
[null,"Universe:  TOTAL POPULATION"]
[null,"Data Set: 2013-2017 American Community Survey 5-Year Estimates"]
[]
[null,null,"New Hampshire",null,"Belknap County",null,"Carroll County",null,"Cheshire County",null,"Coos County",null,"Grafton County",null,"Hillsborough County",null,"Merrimack County",null,"Rockingham County",null,"Strafford County",null,"Sullivan County"]
[null," ","Estimate","Margin of Error","Estimate","Margin of Error","Estimate","Margin of Error","Estimate","Margin of Error","Estimate","Margin of Error","Estimate","Margin of Error","Estimate","Margin of Error"]
[null,"Total:",1331848,"*****",60383,"*****",47524,"*****",76109,"*****",32119,"*****",89280,"*****",406371,"*****",147958,"*****",302479,"*****",126552,"*****",43073,"*****"]
[null,"Not Hispanic or Latino:",1286582,"*****",59432,"*****",46875,"*****",74807,"*****",31570,"*****",87296,"*****",380942,"*****",145022,"*****",294425,"*****",123760,"*****",42453,"*****"]
[null,"White",1211110,564,57523,58,45668,55,71930,69,30058,270,81439,25,348156,461,137801,45,281776,116,115654,56,41105,4]
[null,"Black",16167,736,285,81,233,50,506,80,739,231,901,103,8555,515,1740,229,1983,230,1041,256,184,98]
[null,"American Indian",1850,355,130,65,37,36,125,70,137,66,370,118,410,122,123,65,314,226,59,39,145,122]
[null,"Asian &Pacific Is.",33282,666.23494354469278,595,106.88779163215975,287,75.312681535050928,995,149.46571513226704,219,62.625873247404705,3044,186.3866948041088,15381,507.82378833607231,2628,262.39283526803854,5808,294.24139749532185,4041,249.46542846655126,284,79.120161779409926]
[null,"Other*",24173,1129.7579386753607,899,161.44968256394932,650,113.63538181394033,1251,201.46711890529431,417,115.26057435220423,1542,238.42189496772312,8440,899.33864589485984,2730,344.05232160239814,4544,431.17745766679406,2965,348.03735431703302,735,153.05227865013967]
[null,"Hispanic or Latino:",45266,"*****",951,"*****",649,"*****",1302,"*****",549,"*****",1984,"*****",25429,"*****",2936,"*****",8054,"*****",2792,"*****",620,"*****"]
[]
[]
[]
["Calculated B03002. HISPANIC OR LATINO ORIGIN BY RACE"]
["Universe:  TOTAL POPULATION"]
[null,"Data Set: 2008-2012 American Community Survey 5-Year Estimates"]
[]
[null,null,"New Hampshire",null,"Belknap County",null,"Carroll County",null,"Cheshire County",null,"Coos County",null,"Grafton County",null,"Hillsborough County",null,"Merrimack County",null,"Rockingham County",null,"Strafford County",null,"Sullivan County"]
[null," ","Estimate","Margin of Error","Estimate","Margin of Error","Estimate","Margin of Error","Estimate","Margin of Error","Estimate","Margin of Error","Estimate","Margin of Error","Estimate","Margin of Error"]
[null,"Total:",1317474,"*****",60206,"*****",47761,"*****",77106,"*****",32872,"*****",88985,"*****",401101,"*****",146742,"*****",295872,"*****",123295,"*****",43534,"*****"]
[null,"Not Hispanic or Latino:",1280119,"*****",59436,"*****",47263,"*****",75987,"*****",32474,"*****",87344,"*****",379710,"*****",144334,"*****",289523,"*****",121019,"*****",43029,"*****"]
[null,"White",1214875,426,57506,124,46207,13,73500,49,31596,63,82191,52,351250,376,138263,77,278258,163,114270,72,41834,92]
[null,"Black",14289,682,349,99,63,53,429,90,186,28,785,153,7750,425,1485,171,2042,232,1044,230,156,60]
[null,"American Indian",2039,281,81,86,190,78,234,78,117,48,270,82,454,152,144,56,327,131,160,67,62,44]
[null,"Asian &Pacific Is.",28797,647.83485549945522,680,152.41062955056645,250,76.843997813752509,963,112.29425630903836,123,58.180752831155424,2594,200.35967658189111,13488,393.40691402160184,2269,197.60819821049935,5146,270.96863287103918,3019,244.49539872971025,265,81.743501270743224]
[null,"Other*",20119,1112.8220882063763,820,239.06902768865731,553,128.65846260545786,861,173.95401691251627,452,93.813645062965122,1504,266.91759027834792,6768,735.4359251491594,2173,309.84512260159914,3750,465.80360668419047,2526,377.88093362857035,712,147.4347313220328]
[null,"Hispanic or Latino:",37355,"*****",770,"*****",498,"*****",1119,"*****",398,"*****",1641,"*****",21391,"*****",2408,"*****",6349,"*****",2276,"*****",505,"*****"]

{"sheet":"RentalHousingCost","index":51,"n_rows":124,"n_cols":21,"rows_kept":124,"cut":false,"hidden":true,"merged":[]}
[]
[null,null,"HIDE THIS COLUMN",{"$f":"CntyDataLink!A70","v":"Grafton County"}]
[]
[null,null,null,"RENTAL HOUSING COST CHARACTERISTICS"]
[]
[]
[]
[]
[]
[]
[]
[]
[]
[]
[]
[]
[]
[]
[]
[]
[]
[]
[]
[]
[]
[]
[]
[]
[]
[]
[]
[]
[]
[]
[]
[]
[]
[]
[null,null,null,"Source:  2018-2022 American Community Survey Table B25074"]
[]
[null,null,null,"Income in 2022 Inflation Adjusted Dollars"]
[null,null,null,"Data from the American Community Survey are estimates"]
[null,null,null,{"$f":"CntyDataLink!A70","v":"Grafton County"}]
[]
[null,null,null,{"$f":"D4","v":"RENTAL HOUSING COST CHARACTERISTICS"}]
[]
[null,null,null,"Renter Households by "]
[null,null,null,"Gross Rent as a Percent of 2022 Household Income"]
[null,null,null,null,null,null,"By Household Income"]
[null,null,{"$f":"CntyDataLink!AO$69","v":"H73RenterOccHU"},null,"Specified Renter Occ Housing Units",{"$f":"\"Margin of Error Renter Occupied Units\"","v":"Margin of Error Renter Occupied Units"},null,"Less than $10,000",{"$f":"\"Margin of Error \"&H50","v":"Margin of Error Less than $10,000"},"$10,000 to $19,999",{"$f":"\"Margin of Error \"&J50","v":"Margin of Error $10,000 to $19,999"},"$20,000 to $34,999",{"$f":"\"Margin of Error \"&L50","v":"Margin of Error $20,000 to $34,999"},"$35,000 to $49,999",{"$f":"\"Margin of Error \"&N50","v":"Margin of Error $35,000 to $49,999"},"$50,000 to $74,999",{"$f":"\"Margin of Error \"&P50","v":"Margin of Error $50,000 to $74,999"},"$75,000 to $99,999",{"$f":"\"Margin of Error \"&R50","v":"Margin of Error $75,000 to $99,999"},"$100,000 or More",{"$f":"\"Margin of Error \"&T50","v":"Margin of Error $100,000 or More"}]
[]
[null,null,null,"All Renter Households",{"$f":"CntyDataLink!$B$156","v":153349},{"$f":"CntyDataLink!$C$156","v":1981},null,{"$f":"CntyDataLink!$BH$148","v":13365},{"$f":"CntyDataLink!$BI$148","v":779},{"$f":"CntyDataLink!$BZ$148","v":22478},{"$f":"CntyDataLink!$CA$148","v":1006},{"$f":"CntyDataLink!$CR$148","v":30250},{"$f":"CntyDataLink!$CS$148","v":1325},{"$f":"CntyDataLink!$DJ$148","v":24826},{"$f":"CntyDataLink!$DK$148","v":1105},{"$f":"CntyDataLink!$EB$148","v":29465},{"$f":"CntyDataLink!$EC$148","v":1271},{"$f":"CntyDataLink!$ET$148","v":17063},{"$f":"CntyDataLink!$EU$148","v":1104},{"$f":"CntyDataLink!$FL$148","v":16959},{"$f":"CntyDataLink!$FM$148","v":999}]
[null,null,null,"Rent Less than 20% of HH Income",{"$f":"CntyDataLink!$D$156","v":38656},{"$f":"CntyDataLink!$E$156","v":1657.3849884682797},null,{"$f":"CntyDataLink!$BJ$148","v":253},{"$f":"CntyDataLink!$BK$148","v":128},{"$f":"CntyDataLink!$CB$148","v":828},{"$f":"CntyDataLink!$CC$148","v":195},{"$f":"CntyDataLink!$CT$148","v":1398},{"$f":"CntyDataLink!$CU$148","v":293},{"$f":"CntyDataLink!$DL$148","v":2165},{"$f":"CntyDataLink!$DM$148","v":282},{"$f":"CntyDataLink!$ED$148","v":8834},{"$f":"CntyDataLink!$EE$148","v":767},{"$f":"CntyDataLink!$EV$148","v":9785},{"$f":"CntyDataLink!$EW$148","v":948},{"$f":"CntyDataLink!$FN$148","v":14007},{"$f":"CntyDataLink!$FO$148","v":942}]
[null,null,null,"Rent 20% to 24.9% of HH Income",{"$f":"CntyDataLink!$F$156","v":20156},{"$f":"CntyDataLink!$G$156","v":1013},null,{"$f":"CntyDataLink!$BL$148","v":194},{"$f":"CntyDataLink!$BM$148","v":84},{"$f":"CntyDataLink!$CD$148","v":925},{"$f":"CntyDataLink!$CE$148","v":179},{"$f":"CntyDataLink!$CV$148","v":1266},{"$f":"CntyDataLink!$CW$148","v":248},{"$f":"CntyDataLink!$DN$148","v":3824},{"$f":"CntyDataLink!$DO$148","v":434},{"$f":"CntyDataLink!$EF$148","v":9003},{"$f":"CntyDataLink!$EG$148","v":693},{"$f":"CntyDataLink!$EX$148","v":4356},{"$f":"CntyDataLink!$EY$148","v":482},{"$f":"CntyDataLink!$FP$148","v":1737},{"$f":"CntyDataLink!$FQ$148","v":304}]
[null,null,null,"Rent 25% to 29.9% of HH Income",{"$f":"CntyDataLink!$H$156","v":19434},{"$f":"CntyDataLink!$I$156","v":1003},null,{"$f":"CntyDataLink!$BN$148","v":795},{"$f":"CntyDataLink!$BO$148","v":206},{"$f":"CntyDataLink!$CF$148","v":2170},{"$f":"CntyDataLink!$CG$148","v":264},{"$f":"CntyDataLink!$CX$148","v":3021},{"$f":"CntyDataLink!$CY$148","v":440},{"$f":"CntyDataLink!$DP$148","v":5666},{"$f":"CntyDataLink!$DQ$148","v":639},{"$f":"CntyDataLink!$EH$148","v":5693},{"$f":"CntyDataLink!$EI$148","v":525},{"$f":"CntyDataLink!$EZ$148","v":1509},{"$f":"CntyDataLink!$FA$148","v":279},{"$f":"CntyDataLink!$FR$148","v":332},{"$f":"CntyDataLink!$FS$148","v":152}]
[null,null,null,"Rent Less Than 30% of HH Income",{"$f":"CntyDataLink!$J$156","v":78246},{"$f":"CntyDataLink!$K$156","v":2186.115962157543},null,{"$f":"SUM(H53:H55)","v":1242},{"$f":"SQRT((I53^2)+(I54^2)+(I55^2))","v":256.66320343983864},{"$f":"SUM(J53:J55)","v":3923},{"$f":"SQRT((K53^2)+(K54^2)+(K55^2))","v":373.84756251713077},{"$f":"SUM(L53:L55)","v":5685},{"$f":"SQRT((M53^2)+(M54^2)+(M55^2))","v":583.91180840945492},{"$f":"SUM(N53:N55)","v":11655},{"$f":"SQRT((O53^2)+(O54^2)+(O55^2))","v":822.31441675310543},{"$f":"SUM(P53:P55)","v":23530},{"$f":"SQRT((Q53^2)+(Q54^2)+(Q55^2))","v":1159.3804379926376},{"$f":"SUM(R53:R55)","v":15650},{"$f":"SQRT((S53^2)+(S54^2)+(S55^2))","v":1099.4857889031582},{"$f":"SUM(T53:T55)","v":16076},{"$f":"SQRT((U53^2)+(U54^2)+(U55^2))","v":1001.4409618145245}]
[null,null,null,"Rent 30% or More of HH Income",{"$f":"CntyDataLink!$L$156","v":67205},{"$f":"CntyDataLink!$M$156","v":2194.7824493557441},null,{"$f":"H60+H58","v":9825},{"$f":"SQRT((I58^2)+(I60^2))","v":691.52657215757085},{"$f":"J60+J58","v":17284},{"$f":"SQRT((K58^2)+(K60^2))","v":909.26013879417371},{"$f":"L60+L58","v":23514},{"$f":"SQRT((M58^2)+(M60^2))","v":1102.3724416003877},{"$f":"N60+N58","v":12351},{"$f":"SQRT((O58^2)+(O60^2))","v":879.73802918823515},5029,{"$f":"SQRT((Q58^2)+(Q60^2))","v":513.82973833751589},{"$f":"R60+R58","v":711},{"$f":"SQRT((S58^2)+(S60^2))","v":161.63539216396885},80,{"$f":"SQRT((U58^2)+(U60^2))","v":63.340350488452465}]
[null,null,null,"Rent 30% to 34.9% of HH Income",{"$f":"CntyDataLink!$N$156","v":13909},{"$f":"CntyDataLink!$O$156","v":994},null,{"$f":"CntyDataLink!$BP$148","v":296},{"$f":"CntyDataLink!$BQ$148","v":133},{"$f":"CntyDataLink!$CH$148","v":1472},{"$f":"CntyDataLink!$CI$148","v":282},{"$f":"CntyDataLink!$CZ$148","v":3754},{"$f":"CntyDataLink!$DA$148","v":398},{"$f":"CntyDataLink!$DR$148","v":5107},{"$f":"CntyDataLink!$DS$148","v":568},{"$f":"CntyDataLink!$EJ$148","v":2757},{"$f":"CntyDataLink!$EK$148","v":380},{"$f":"CntyDataLink!$FB$148","v":435},{"$f":"CntyDataLink!$FC$148","v":121},{"$f":"CntyDataLink!$FT$148","v":63},{"$f":"CntyDataLink!$FU$148","v":45}]
[null,null,null,"Rent Less Than 35% of HH Income",{"$f":"CntyDataLink!$P$156","v":92155},{"$f":"CntyDataLink!$Q$156","v":2401.4868311110931},null,{"$f":"SUM(H56,H58)","v":1538},{"$f":"SQRT((I56^2)+(I58^2))","v":289.07611454424938},{"$f":"SUM(J56,J58)","v":5395},{"$f":"SQRT((K56^2)+(K58^2))","v":468.27983087038888},{"$f":"SUM(L56,L58)","v":9439},{"$f":"SQRT((M56^2)+(M58^2))","v":706.65196525588181},16762,1390.3144167531054,26287,{"$f":"SQRT((Q58^2)+(Q56^2))","v":1220.0668014498222},{"$f":"SUM(R56,R58)","v":16085},{"$f":"SQRT((S58^2)+(S56^2))","v":1106.1238628652761},16139,{"$f":"SQRT((U58^2)+(U56^2))","v":1002.4514950859218}]
[null,null,null,"Rent 35% or More of HH Income",{"$f":"CntyDataLink!$R$156","v":53296},{"$f":"CntyDataLink!$S$156","v":1956.7917620431665},null,{"$f":"CntyDataLink!$BR$148+CntyDataLink!$BT$148+CntyDataLink!$BV$148","v":9529},{"$f":"SQRT((CntyDataLink!$BS$148^2)+(CntyDataLink!$BU$148^2)+(CntyDataLink!$BW$148^2))","v":678.61623912193556},{"$f":"CntyDataLink!$CJ$148+CntyDataLink!$CL$148+CntyDataLink!$CN$148","v":15812},{"$f":"SQRT((CntyDataLink!$CK$148^2)+(CntyDataLink!$CM$148^2)+(CntyDataLink!$CO$148^2))","v":864.42466415529816},{"$f":"CntyDataLink!$DB$148+CntyDataLink!$DD$148+CntyDataLink!$DF$148","v":19760},{"$f":"SQRT((CntyDataLink!$DC$148^2)+(CntyDataLink!$DE$148^2)+(CntyDataLink!$DG$148^2))","v":1028.0179959514328},{"$f":"CntyDataLink!$DT$148+CntyDataLink!$DV$148+CntyDataLink!$DX$148","v":7244},{"$f":"SQRT((CntyDataLink!$DU$148^2)+(CntyDataLink!$DW$148^2)+(CntyDataLink!$DY$148^2))","v":671.79982137538559},{"$f":"CntyDataLink!$EL$148+CntyDataLink!$EN$148+CntyDataLink!$EP$148","v":2272},{"$f":"SQRT((CntyDataLink!$EM$148^2)+(CntyDataLink!$EO$148^2)+(CntyDataLink!$EQ$148^2))","v":345.86268951709724},{"$f":"CntyDataLink!$FD$148+CntyDataLink!$FF$148+CntyDataLink!$FH$148","v":276},{"$f":"SQRT((CntyDataLink!$FE$148^2)+(CntyDataLink!$FG$148^2)+(CntyDataLink!$FI$148^2))","v":107.16809226630845},{"$f":"CntyDataLink!$FV$148+CntyDataLink!$FX$148+CntyDataLink!$FZ$148","v":17},{"$f":"SQRT((CntyDataLink!$FW$148^2)+(CntyDataLink!$FY$148^2)+(CntyDataLink!$GA$148^2))","v":44.57577817604534}]
[null,null,null,"Rent 50% or More of HH Income",{"$f":"CntyDataLink!$T$156","v":30411},{"$f":"CntyDataLink!$U$156","v":1433},null,{"$f":"CntyDataLink!$BV$148","v":8828},{"$f":"CntyDataLink!$BW$148","v":638},{"$f":"CntyDataLink!$CN$148","v":13397},{"$f":"CntyDataLink!$CO$148","v":789},{"$f":"CntyDataLink!$DF$148","v":8672},{"$f":"CntyDataLink!$DG$148","v":684},{"$f":"CntyDataLink!$DX$148","v":1457},{"$f":"CntyDataLink!$DY$148","v":309},{"$f":"CntyDataLink!$EP$148","v":425},{"$f":"CntyDataLink!$EQ$148","v":144},{"$f":"CntyDataLink!$FH$148","v":25},{"$f":"CntyDataLink!$FI$148","v":30},{"$f":"CntyDataLink!$FZ$148","v":0},{"$f":"CntyDataLink!$GA$148","v":27}]
[null,null,null,"Percent not computed",{"$f":"CntyDataLink!$V$156","v":7898},{"$f":"CntyDataLink!$W$156","v":718},null,{"$f":"CntyDataLink!$BX$148","v":2298},{"$f":"CntyDataLink!$BY$148","v":322},{"$f":"CntyDataLink!$CP$148","v":1271},{"$f":"CntyDataLink!$CQ$148","v":260},{"$f":"CntyDataLink!$DH$148","v":1051},{"$f":"CntyDataLink!$DI$148","v":163},{"$f":"CntyDataLink!$DZ$148","v":820},{"$f":"CntyDataLink!$EA$148","v":175},{"$f":"CntyDataLink!$ER$148","v":906},{"$f":"CntyDataLink!$ES$148","v":187},{"$f":"CntyDataLink!$FJ$148","v":702},{"$f":"CntyDataLink!$FK$148","v":190},{"$f":"CntyDataLink!$GB$148","v":803},{"$f":"CntyDataLink!$GC148","v":164}]
[]
[]
[]
[null,null,null,"Percent of Households Paying ",null,null,null,"By Household Income"]
[null,null,null,{"$f":"D56","v":"Rent Less Than 30% of HH Income"},{"$f":"E56/E$52","v":0.51024786597891081},null,null,{"$f":"H56/H$52","v":9.2929292929292931E-2},null,{"$f":"J56/J$52","v":0.17452620339887889},null,{"$f":"L56/L$52","v":0.18793388429752067},null,{"$f":"N56/N$52","v":0.46946749375654556},null,{"$f":"P56/P$52","v":0.79857458001018156},null,{"$f":"R56/R$52","v":0.91718923987575451},null,{"$f":"T56/T$52","v":0.94793325078129609}]
[null,null,null,{"$f":"D57","v":"Rent 30% or More of HH Income"},{"$f":"E57/E$52","v":0.43824870067623528},null,null,{"$f":"H57/H$52","v":0.73512906846240178},null,{"$f":"J57/J$52","v":0.76892962007296017},null,{"$f":"L57/L$52","v":0.77732231404958674},null,{"$f":"N57/N$52","v":0.49750261822283093},null,{"$f":"P57/P$52","v":0.17067707449516376},null,{"$f":"R57/R$52","v":4.1669108597550256E-2},null,{"$f":"T57/T$52","v":4.717259272362757E-3}]
[null,null,null,{"$f":"D59","v":"Rent Less Than 35% of HH Income"},{"$f":"E59/E$52","v":0.6009494682065093},null,null,{"$f":"H59/H$52","v":0.11507669285447063},null,{"$f":"J59/J$52","v":0.24001245662425483},null,{"$f":"L59/L$52","v":0.31203305785123969},null,{"$f":"N59/N$52","v":0.67517924756303871},null,{"$f":"P59/P$52","v":0.89214322077040553},null,{"$f":"R59/R$52","v":0.94268299830041613},null,{"$f":"T59/T$52","v":0.95164809245828175}]
[null,null,null,{"$f":"D60","v":"Rent 35% or More of HH Income"},{"$f":"E60/E$52","v":0.34754709844863679},null,null,{"$f":"H60/H$52","v":0.71298166853722411},null,{"$f":"J60/J$52","v":0.70344336684758435},null,{"$f":"L60/L$52","v":0.65322314049586772},null,{"$f":"N60/N$52","v":0.29179086441633773},null,{"$f":"P60/P$52","v":7.7108433734939766E-2},null,{"$f":"R60/R$52","v":1.6175350172888705E-2},null,{"$f":"T60/T$52","v":1.002417595377086E-3}]
[null,null,null,"Rent 50% or More of HH Income",{"$f":"E61/E$52","v":0.19831234634722106},null,null,{"$f":"H61/H$52","v":0.66053123830901606},null,{"$f":"J61/J$52","v":0.59600498264970192},null,{"$f":"L61/L$52","v":0.28667768595041321},null,{"$f":"N61/N$52","v":5.8688471763473776E-2},null,{"$f":"P61/P$52","v":1.4423892754115052E-2},null,{"$f":"R61/R$52","v":1.4651585301529626E-3},null,{"$f":"T61/T$52","v":0}]
[null,null,null,"Percent not computed",{"$f":"E62/E$52","v":5.1503433344853897E-2},null,null,{"$f":"H62/H$52","v":0.17194163860830528},null,{"$f":"J62/J$52","v":5.6544176528160871E-2},null,{"$f":"L62/L$52","v":3.4743801652892564E-2},null,{"$f":"N62/N$52","v":3.3029888020623538E-2},null,{"$f":"P62/P$52","v":3.0748345494654675E-2},null,{"$f":"R62/R$52","v":4.1141651526695189E-2},null,{"$f":"T62/T$52","v":4.7349489946341174E-2}]
[]
[]
[null,null,null,"Source:  2018-2022 American Community Survey Table B25070; B25074"]
[]
[null,null,null,{"$f":"D41","v":"Income in 2022 Inflation Adjusted Dollars"}]
[null,null,null,"Data from the American Community Survey are estimates"]
[]
[null,null,null,{"$f":"CntyDataLink!A70","v":"Grafton County"}]
[null,null,null,{"$f":"D4","v":"RENTAL HOUSING COST CHARACTERISTICS"}]
[]
[null,null,null,"Rental Housing Costs"]
[]
[null,null,null,"Renter Occupied Housing Units By Gross Rent "]
[]
[null,null,null,null,"Units","Margin of Error"]
[null,null,{"$f":"CntyDataLink!E$69","v":"H62RntrOccHU"},"Specified Renter Occ Housing Units",{"$f":"CntyDataLink!$B$148","v":153349},{"$f":"CntyDataLink!$C$148","v":1981}]
[null,null,{"$f":"CntyDataLink!F$69","v":"H62RntrOccHUwRent"},"Renter Occ. Housing Units w/ Cash Rent",{"$f":"CntyDataLink!$D$148","v":147400},{"$f":"CntyDataLink!$E$148","v":2047}]
[]
[null,null,{"$f":"CntyDataLink!G$69","v":"H62ROHUGRent<100"},"Gross Rent","Units","Margin of Error 2018-2022"]
[null,null,{"$f":"CntyDataLink!H$69","v":"H62ROHUGRent100to149"},"Less than $100",{"$f":"CntyDataLink!$F$148","v":316},{"$f":"CntyDataLink!$G$148","v":145}]
[null,null,{"$f":"CntyDataLink!I$69","v":"H62ROHUGRent150to199"},"$100 to $149",{"$f":"CntyDataLink!$H$148","v":444},{"$f":"CntyDataLink!$I$148","v":200}]
[null,null,{"$f":"CntyDataLink!J$69","v":"H62ROHUGRent200to249"},"$150 to $199",{"$f":"CntyDataLink!J$148","v":888},{"$f":"CntyDataLink!$K$148","v":323}]
[null,null,{"$f":"CntyDataLink!K$69","v":"H62ROHUGRent250to299"},"$200 to $249",{"$f":"CntyDataLink!$L$148","v":1985},{"$f":"CntyDataLink!$M$148","v":376}]
[null,null,{"$f":"CntyDataLink!L$69","v":"H62ROHUGRent300to349"},"$250 to $299",{"$f":"CntyDataLink!$N$148","v":1792},{"$f":"CntyDataLink!$O$148","v":370}]
[null,null,{"$f":"CntyDataLink!M$69","v":"H62ROHUGRent350to399"},"$300 to $349",{"$f":"CntyDataLink!$P$148","v":1838},{"$f":"CntyDataLink!$Q$148","v":333}]
[null,null,{"$f":"CntyDataLink!N$69","v":"H62ROHUGRent400to449"},"$350 to $399",{"$f":"CntyDataLink!$R$148","v":1640},{"$f":"CntyDataLink!$S$148","v":285}]
[null,null,{"$f":"CntyDataLink!O$69","v":"H62ROHUGRent450to499"},"$400 to $449",{"$f":"CntyDataLink!$T$148","v":1694},{"$f":"CntyDataLink!$U$148","v":297}]
[null,null,{"$f":"CntyDataLink!P$69","v":"H62ROHUGRent500to549"},"$450 to $499",{"$f":"CntyDataLink!$V$148","v":1622},{"$f":"CntyDataLink!$W$148","v":349}]
[null,null,{"$f":"CntyDataLink!Q$69","v":"H62ROHUGRent550to599"},"$500 to $549",{"$f":"CntyDataLink!$X$148","v":1415},{"$f":"CntyDataLink!$Y$148","v":298}]
[null,null,{"$f":"CntyDataLink!R$69","v":"H62ROHUGRent600to649"},"$550 to $599",{"$f":"CntyDataLink!$Z$148","v":1606},{"$f":"CntyDataLink!$AA$148","v":302}]
[null,null,{"$f":"CntyDataLink!S$69","v":"H62ROHUGRent650to699"},"$600 to $649",{"$f":"CntyDataLink!$AB$148","v":1663},{"$f":"CntyDataLink!$AC$148","v":291}]
[null,null,{"$f":"CntyDataLink!T$69","v":"H62ROHUGRent700to749"},"$650 to $699",{"$f":"CntyDataLink!$AD$148","v":2249},{"$f":"CntyDataLink!$AE$148","v":498}]
[null,null,{"$f":"CntyDataLink!U$69","v":"H62ROHUGRent750to799"},"$700 to $749",{"$f":"CntyDataLink!$AF$148","v":3070},{"$f":"CntyDataLink!$AG$148","v":476}]
[null,null,{"$f":"CntyDataLink!V$69","v":"H62ROHUGRent800to899"},"$750 to $799",{"$f":"CntyDataLink!$AH$148","v":3769},{"$f":"CntyDataLink!$AI$148","v":427}]
[null,null,{"$f":"CntyDataLink!W$69","v":"H62ROHUGRent900to999"},"$800 to $899",{"$f":"CntyDataLink!$AJ$148","v":9130},{"$f":"CntyDataLink!$AK$148","v":787}]
[null,null,{"$f":"CntyDataLink!X$69","v":"H62ROHUGRent1000to1249"},"$900 to $999",{"$f":"CntyDataLink!$AL$148","v":11162},{"$f":"CntyDataLink!$AM$148","v":857}]
[null,null,{"$f":"CntyDataLink!Y$69","v":"H62ROHUGRent1250to1499"},"$1000 to $1249",{"$f":"CntyDataLink!$AN$148","v":32364},{"$f":"CntyDataLink!$AO$148","v":1597}]
[null,null,{"$f":"CntyDataLink!Z$69","v":"H62ROHUGRent1500to1999"},"$1250 to $1499",{"$f":"CntyDataLink!$AP$148","v":25464},{"$f":"CntyDataLink!$AQ$148","v":1205}]
[null,null,{"$f":"CntyDataLink!AA$69","v":"H62ROHUGRent2000>"},"$1500 to $1999",{"$f":"CntyDataLink!$AR$148","v":30219},{"$f":"CntyDataLink!$AS$148","v":1314}]
[null,null,{"$f":"CntyDataLink!AB$69","v":"H62ROHUNoGRent"},"$2,000 to $2,499",{"$f":"CntyDataLink!$AT$148","v":8690},{"$f":"CntyDataLink!$AU$148","v":787}]
[null,null,null,"$2,500 to $2,999",{"$f":"CntyDataLink!$AV$148","v":2774},{"$f":"CntyDataLink!$AW$148","v":455}]
[null,null,null,"$3,000 to $3,499",{"$f":"CntyDataLink!$AX$148","v":827},{"$f":"CntyDataLink!$AY$148","v":272}]
[null,null,null,"$3,500 or more",{"$f":"CntyDataLink!$AZ$148","v":779},{"$f":"CntyDataLink!$BA$148","v":211}]
[null,null,{"$f":"CntyDataLink!AC$69","v":"H63MedianGrossRnt"},"Renter Occ. Housing Units w/ No Cash Rent",{"$f":"CntyDataLink!$BB$148","v":5949},{"$f":"CntyDataLink!$BC$148","v":633}]
[]
[null,null,null,"Median Gross Rent",{"$f":"CntyDataLink!$BD$148","v":1212},{"$f":"CntyDataLink!$BE$148","v":12}]
[]
[]
[]
[]
[null,null,null,"Source: 2018-2022 American Community Survey Table B25063; B25064"]
[null,null,null,"Data from the American Community Survey are estimates"]

{"sheet":"RentalHousingCost-Prior5Yr","index":52,"n_rows":125,"n_cols":21,"rows_kept":125,"cut":false,"hidden":true,"merged":[]}
[]
[null,null,"HIDE THIS COLUMN",{"$f":"CntyDataLink!A70","v":"Grafton County"}]
[]
[null,null,null,"RENTAL HOUSING COST CHARACTERISTICS"]
[]
[]
[]
[]
[]
[]
[]
[]
[]
[]
[]
[]
[]
[]
[]
[]
[]
[]
[]
[]
[]
[]
[]
[]
[]
[]
[]
[]
[]
[]
[]
[]
[]
[]
[null,null,null,"Source:  2013-2017 American Community Survey Table B25074"]
[]
[null,null,null,"Income in 2017 Inflation Adjusted Dollars"]
[null,null,null,"Data from the American Community Survey are estimates"]
[null,null,null,{"$f":"CntyDataLinkPrior5YearEstimates!A120","v":"Grafton County"}]
[]
[null,null,null,{"$f":"D4","v":"RENTAL HOUSING COST CHARACTERISTICS"}]
[]
[null,null,null,"Renter Households by "]
[null,null,null,"Gross Rent as a Percent of 2017 Household Income"]
[null,null,null,null,null,null,"By Household Income"]
[null,null,{"$f":"CntyDataLinkPrior5YearEstimates!AO$69","v":0},null,"Specified Renter Occ Housing Units",{"$f":"\"Margin of Error Renter Occupied Units\"","v":"Margin of Error Renter Occupied Units"},null,"Less than $10,000",{"$f":"\"Margin of Error \"&H50","v":"Margin of Error Less than $10,000"},"$10,000 to $19,999",{"$f":"\"Margin of Error \"&J50","v":"Margin of Error $10,000 to $19,999"},"$20,000 to $34,999",{"$f":"\"Margin of Error \"&L50","v":"Margin of Error $20,000 to $34,999"},"$35,000 to $49,999",{"$f":"\"Margin of Error \"&N50","v":"Margin of Error $35,000 to $49,999"},"$50,000 to $74,999",{"$f":"\"Margin of Error \"&P50","v":"Margin of Error $50,000 to $74,999"},"$75,000 to $99,999",{"$f":"\"Margin of Error \"&R50","v":"Margin of Error $75,000 to $99,999"},"$100,000 or More",{"$f":"\"Margin of Error \"&T50","v":"Margin of Error $100,000 or More"}]
[]
[null,null,null,"All Renter Households",{"$f":"CntyDataLinkPrior5YearEstimates!$B$156","v":154406},{"$f":"CntyDataLinkPrior5YearEstimates!$C$156","v":2224},null,{"$f":"CntyDataLinkPrior5YearEstimates!$BH$148","v":13365},{"$f":"CntyDataLinkPrior5YearEstimates!$BI$148","v":779},{"$f":"CntyDataLinkPrior5YearEstimates!$BZ$148","v":22478},{"$f":"CntyDataLinkPrior5YearEstimates!$CA$148","v":1006},{"$f":"CntyDataLinkPrior5YearEstimates!$CR$148","v":30250},{"$f":"CntyDataLinkPrior5YearEstimates!$CS$148","v":1325},{"$f":"CntyDataLinkPrior5YearEstimates!$DJ$148","v":24826},{"$f":"CntyDataLinkPrior5YearEstimates!$DK$148","v":1105},{"$f":"CntyDataLinkPrior5YearEstimates!$EB$148","v":29465},{"$f":"CntyDataLinkPrior5YearEstimates!$EC$148","v":1271},{"$f":"CntyDataLinkPrior5YearEstimates!$ET$148","v":17063},{"$f":"CntyDataLinkPrior5YearEstimates!$EU$148","v":1104},{"$f":"CntyDataLinkPrior5YearEstimates!$FL$148","v":16959},{"$f":"CntyDataLinkPrior5YearEstimates!$FM$148","v":999}]
[null,null,null,"Rent Less than 20% of HH Income",{"$f":"CntyDataLinkPrior5YearEstimates!$D$156","v":4317},{"$f":"CntyDataLinkPrior5YearEstimates!$E$156","v":453},null,{"$f":"CntyDataLinkPrior5YearEstimates!$BJ$148","v":253},{"$f":"CntyDataLinkPrior5YearEstimates!$BK$148","v":128},{"$f":"CntyDataLinkPrior5YearEstimates!$CB$148","v":828},{"$f":"CntyDataLinkPrior5YearEstimates!$CC$148","v":195},{"$f":"CntyDataLinkPrior5YearEstimates!$CT$148","v":1398},{"$f":"CntyDataLinkPrior5YearEstimates!$CU$148","v":293},{"$f":"CntyDataLinkPrior5YearEstimates!$DL$148","v":2165},{"$f":"CntyDataLinkPrior5YearEstimates!$DM$148","v":282},{"$f":"CntyDataLinkPrior5YearEstimates!$ED$148","v":8834},{"$f":"CntyDataLinkPrior5YearEstimates!$EE$148","v":767},{"$f":"CntyDataLinkPrior5YearEstimates!$EV$148","v":9785},{"$f":"CntyDataLinkPrior5YearEstimates!$EW$148","v":948},{"$f":"CntyDataLinkPrior5YearEstimates!$FN$148","v":14007},{"$f":"CntyDataLinkPrior5YearEstimates!$FO$148","v":942}]
[null,null,null,"Rent 20% to 24.9% of HH Income",{"$f":"CntyDataLinkPrior5YearEstimates!$F$156","v":11953},{"$f":"CntyDataLinkPrior5YearEstimates!$G$156","v":845},null,{"$f":"CntyDataLinkPrior5YearEstimates!$BL$148","v":194},{"$f":"CntyDataLinkPrior5YearEstimates!$BM$148","v":84},{"$f":"CntyDataLinkPrior5YearEstimates!$CD$148","v":925},{"$f":"CntyDataLinkPrior5YearEstimates!$CE$148","v":179},{"$f":"CntyDataLinkPrior5YearEstimates!$CV$148","v":1266},{"$f":"CntyDataLinkPrior5YearEstimates!$CW$148","v":248},{"$f":"CntyDataLinkPrior5YearEstimates!$DN$148","v":3824},{"$f":"CntyDataLinkPrior5YearEstimates!$DO$148","v":434},{"$f":"CntyDataLinkPrior5YearEstimates!$EF$148","v":9003},{"$f":"CntyDataLinkPrior5YearEstimates!$EG$148","v":693},{"$f":"CntyDataLinkPrior5YearEstimates!$EX$148","v":4356},{"$f":"CntyDataLinkPrior5YearEstimates!$EY$148","v":482},{"$f":"CntyDataLinkPrior5YearEstimates!$FP$148","v":1737},{"$f":"CntyDataLinkPrior5YearEstimates!$FQ$148","v":304}]
[null,null,null,"Rent 25% to 29.9% of HH Income",{"$f":"CntyDataLinkPrior5YearEstimates!$H$156","v":21000},{"$f":"CntyDataLinkPrior5YearEstimates!$I$156","v":1178},null,{"$f":"CntyDataLinkPrior5YearEstimates!$BN$148","v":795},{"$f":"CntyDataLinkPrior5YearEstimates!$BO$148","v":206},{"$f":"CntyDataLinkPrior5YearEstimates!$CF$148","v":2170},{"$f":"CntyDataLinkPrior5YearEstimates!$CG$148","v":264},{"$f":"CntyDataLinkPrior5YearEstimates!$CX$148","v":3021},{"$f":"CntyDataLinkPrior5YearEstimates!$CY$148","v":440},{"$f":"CntyDataLinkPrior5YearEstimates!$DP$148","v":5666},{"$f":"CntyDataLinkPrior5YearEstimates!$DQ$148","v":639},{"$f":"CntyDataLinkPrior5YearEstimates!$EH$148","v":5693},{"$f":"CntyDataLinkPrior5YearEstimates!$EI$148","v":525},{"$f":"CntyDataLinkPrior5YearEstimates!$EZ$148","v":1509},{"$f":"CntyDataLinkPrior5YearEstimates!$FA$148","v":279},{"$f":"CntyDataLinkPrior5YearEstimates!$FR$148","v":332},{"$f":"CntyDataLinkPrior5YearEstimates!$FS$148","v":152}]
[null,null,null,"Rent Less Than 30% of HH Income",{"$f":"CntyDataLinkPrior5YearEstimates!$J$156","v":21305},{"$f":"CntyDataLinkPrior5YearEstimates!$K$156","v":902},null,{"$f":"SUM(H53:H55)","v":1242},{"$f":"SQRT((I53^2)+(I54^2)+(I55^2))","v":256.66320343983864},{"$f":"SUM(J53:J55)","v":3923},{"$f":"SQRT((K53^2)+(K54^2)+(K55^2))","v":373.84756251713077},{"$f":"SUM(L53:L55)","v":5685},{"$f":"SQRT((M53^2)+(M54^2)+(M55^2))","v":583.91180840945492},{"$f":"SUM(N53:N55)","v":11655},{"$f":"SQRT((O53^2)+(O54^2)+(O55^2))","v":822.31441675310543},{"$f":"SUM(P53:P55)","v":23530},{"$f":"SQRT((Q53^2)+(Q54^2)+(Q55^2))","v":1159.3804379926376},{"$f":"SUM(R53:R55)","v":15650},{"$f":"SQRT((S53^2)+(S54^2)+(S55^2))","v":1099.4857889031582},{"$f":"SUM(T53:T55)","v":16076},{"$f":"SQRT((U53^2)+(U54^2)+(U55^2))","v":1001.4409618145245}]
[null,null,null,"Rent 30% or More of HH Income",{"$f":"CntyDataLinkPrior5YearEstimates!$L$156","v":19186},{"$f":"CntyDataLinkPrior5YearEstimates!$M$156","v":930},null,{"$f":"H60+H58","v":9825},{"$f":"SQRT((I58^2)+(I60^2))","v":691.52657215757085},{"$f":"J60+J58","v":17284},{"$f":"SQRT((K58^2)+(K60^2))","v":909.26013879417371},{"$f":"L60+L58","v":23514},{"$f":"SQRT((M58^2)+(M60^2))","v":1102.3724416003877},{"$f":"N60+N58","v":12351},{"$f":"SQRT((O58^2)+(O60^2))","v":879.73802918823515},5029,{"$f":"SQRT((Q58^2)+(Q60^2))","v":513.82973833751589},{"$f":"R60+R58","v":711},{"$f":"SQRT((S58^2)+(S60^2))","v":161.63539216396885},80,{"$f":"SQRT((U58^2)+(U60^2))","v":63.340350488452465}]
[null,null,null,"Rent 30% to 34.9% of HH Income",{"$f":"CntyDataLinkPrior5YearEstimates!$N$156","v":13884},{"$f":"CntyDataLinkPrior5YearEstimates!$O$156","v":808},null,{"$f":"CntyDataLinkPrior5YearEstimates!$BP$148","v":296},{"$f":"CntyDataLinkPrior5YearEstimates!$BQ$148","v":133},{"$f":"CntyDataLinkPrior5YearEstimates!$CH$148","v":1472},{"$f":"CntyDataLinkPrior5YearEstimates!$CI$148","v":282},{"$f":"CntyDataLinkPrior5YearEstimates!$CZ$148","v":3754},{"$f":"CntyDataLinkPrior5YearEstimates!$DA$148","v":398},{"$f":"CntyDataLinkPrior5YearEstimates!$DR$148","v":5107},{"$f":"CntyDataLinkPrior5YearEstimates!$DS$148","v":568},{"$f":"CntyDataLinkPrior5YearEstimates!$EJ$148","v":2757},{"$f":"CntyDataLinkPrior5YearEstimates!$EK$148","v":380},{"$f":"CntyDataLinkPrior5YearEstimates!$FB$148","v":435},{"$f":"CntyDataLinkPrior5YearEstimates!$FC$148","v":121},{"$f":"CntyDataLinkPrior5YearEstimates!$FT$148","v":63},{"$f":"CntyDataLinkPrior5YearEstimates!$FU$148","v":45}]
[null,null,null,"Rent Less Than 35% of HH Income",{"$f":"CntyDataLinkPrior5YearEstimates!$P$156","v":9178},{"$f":"CntyDataLinkPrior5YearEstimates!$Q$156","v":761},null,{"$f":"SUM(H56,H58)","v":1538},{"$f":"SQRT((I56^2)+(I58^2))","v":289.07611454424938},{"$f":"SUM(J56,J58)","v":5395},{"$f":"SQRT((K56^2)+(K58^2))","v":468.27983087038888},{"$f":"SUM(L56,L58)","v":9439},{"$f":"SQRT((M56^2)+(M58^2))","v":706.65196525588181},16762,1390.3144167531054,26287,{"$f":"SQRT((Q58^2)+(Q56^2))","v":1220.0668014498222},{"$f":"SUM(R56,R58)","v":16085},{"$f":"SQRT((S58^2)+(S56^2))","v":1106.1238628652761},16139,{"$f":"SQRT((U58^2)+(U56^2))","v":1002.4514950859218}]
[null,null,null,"Rent 35% or More of HH Income",{"$f":"CntyDataLinkPrior5YearEstimates!$R$156","v":12928},{"$f":"CntyDataLinkPrior5YearEstimates!$S$156","v":798},null,{"$f":"CntyDataLinkPrior5YearEstimates!$BR$148+CntyDataLinkPrior5YearEstimates!$BT$148+CntyDataLinkPrior5YearEstimates!$BV$148","v":9529},{"$f":"SQRT((CntyDataLinkPrior5YearEstimates!$BS$148^2)+(CntyDataLinkPrior5YearEstimates!$BU$148^2)+(CntyDataLinkPrior5YearEstimates!$BW$148^2))","v":678.61623912193556},{"$f":"CntyDataLinkPrior5YearEstimates!$CJ$148+CntyDataLinkPrior5YearEstimates!$CL$148+CntyDataLinkPrior5YearEstimates!$CN$148","v":15812},{"$f":"SQRT((CntyDataLinkPrior5YearEstimates!$CK$148^2)+(CntyDataLinkPrior5YearEstimates!$CM$148^2)+(CntyDataLinkPrior5YearEstimates!$CO$148^2))","v":864.42466415529816},{"$f":"CntyDataLinkPrior5YearEstimates!$DB$148+CntyDataLinkPrior5YearEstimates!$DD$148+CntyDataLinkPrior5YearEstimates!$DF$148","v":19760},{"$f":"SQRT((CntyDataLinkPrior5YearEstimates!$DC$148^2)+(CntyDataLinkPrior5YearEstimates!$DE$148^2)+(CntyDataLinkPrior5YearEstimates!$DG$148^2))","v":1028.0179959514328},{"$f":"CntyDataLinkPrior5YearEstimates!$DT$148+CntyDataLinkPrior5YearEstimates!$DV$148+CntyDataLinkPrior5YearEstimates!$DX$148","v":7244},{"$f":"SQRT((CntyDataLinkPrior5YearEstimates!$DU$148^2)+(CntyDataLinkPrior5YearEstimates!$DW$148^2)+(CntyDataLinkPrior5YearEstimates!$DY$148^2))","v":671.79982137538559},{"$f":"CntyDataLinkPrior5YearEstimates!$EL$148+CntyDataLinkPrior5YearEstimates!$EN$148+CntyDataLinkPrior5YearEstimates!$EP$148","v":2272},{"$f":"SQRT((CntyDataLinkPrior5YearEstimates!$EM$148^2)+(CntyDataLinkPrior5YearEstimates!$EO$148^2)+(CntyDataLinkPrior5YearEstimates!$EQ$148^2))","v":345.86268951709724},{"$f":"CntyDataLinkPrior5YearEstimates!$FD$148+CntyDataLinkPrior5YearEstimates!$FF$148+CntyDataLinkPrior5YearEstimates!$FH$148","v":276},{"$f":"SQRT((CntyDataLinkPrior5YearEstimates!$FE$148^2)+(CntyDataLinkPrior5YearEstimates!$FG$148^2)+(CntyDataLinkPrior5YearEstimates!$FI$148^2))","v":107.16809226630845},{"$f":"CntyDataLinkPrior5YearEstimates!$FV$148+CntyDataLinkPrior5YearEstimates!$FX$148+CntyDataLinkPrior5YearEstimates!$FZ$148","v":17},{"$f":"SQRT((CntyDataLinkPrior5YearEstimates!$FW$148^2)+(CntyDataLinkPrior5YearEstimates!$FY$148^2)+(CntyDataLinkPrior5YearEstimates!$GA$148^2))","v":44.57577817604534}]
[null,null,null,"Rent 50% or More of HH Income",{"$f":"CntyDataLinkPrior5YearEstimates!$T$156","v":32804},{"$f":"CntyDataLinkPrior5YearEstimates!$U$156","v":1184},null,{"$f":"CntyDataLinkPrior5YearEstimates!$BV$148","v":8828},{"$f":"CntyDataLinkPrior5YearEstimates!$BW$148","v":638},{"$f":"CntyDataLinkPrior5YearEstimates!$CN$148","v":13397},{"$f":"CntyDataLinkPrior5YearEstimates!$CO$148","v":789},{"$f":"CntyDataLinkPrior5YearEstimates!$DF$148","v":8672},{"$f":"CntyDataLinkPrior5YearEstimates!$DG$148","v":684},{"$f":"CntyDataLinkPrior5YearEstimates!$DX$148","v":1457},{"$f":"CntyDataLinkPrior5YearEstimates!$DY$148","v":309},{"$f":"CntyDataLinkPrior5YearEstimates!$EP$148","v":425},{"$f":"CntyDataLinkPrior5YearEstimates!$EQ$148","v":144},{"$f":"CntyDataLinkPrior5YearEstimates!$FH$148","v":25},{"$f":"CntyDataLinkPrior5YearEstimates!$FI$148","v":30},{"$f":"CntyDataLinkPrior5YearEstimates!$FZ$148","v":0},{"$f":"CntyDataLinkPrior5YearEstimates!$GA$148","v":27}]
[null,null,null,"Percent not computed",{"$f":"CntyDataLinkPrior5YearEstimates!$V$156","v":7851},{"$f":"CntyDataLinkPrior5YearEstimates!$W$156","v":695},null,{"$f":"CntyDataLinkPrior5YearEstimates!$BX$148","v":2298},{"$f":"CntyDataLinkPrior5YearEstimates!$BY$148","v":322},{"$f":"CntyDataLinkPrior5YearEstimates!$CP$148","v":1271},{"$f":"CntyDataLinkPrior5YearEstimates!$CQ$148","v":260},{"$f":"CntyDataLinkPrior5YearEstimates!$DH$148","v":1051},{"$f":"CntyDataLinkPrior5YearEstimates!$DI$148","v":163},{"$f":"CntyDataLinkPrior5YearEstimates!$DZ$148","v":820},{"$f":"CntyDataLinkPrior5YearEstimates!$EA$148","v":175},{"$f":"CntyDataLinkPrior5YearEstimates!$ER$148","v":906},{"$f":"CntyDataLinkPrior5YearEstimates!$ES$148","v":187},{"$f":"CntyDataLinkPrior5YearEstimates!$FJ$148","v":702},{"$f":"CntyDataLinkPrior5YearEstimates!$FK$148","v":190},{"$f":"CntyDataLinkPrior5YearEstimates!$GB$148","v":803},{"$f":"CntyDataLinkPrior5YearEstimates!$GC148","v":164}]
[]
[]
[null,null,null,"Percent of Households Paying ",null,null,null,"By Household Income"]
[null,null,null,{"$f":"D56","v":"Rent Less Than 30% of HH Income"},{"$f":"E56/E$52","v":0.13798038936310766},null,null,{"$f":"H56/H$52","v":9.2929292929292931E-2},null,{"$f":"J56/J$52","v":0.17452620339887889},null,{"$f":"L56/L$52","v":0.18793388429752067},null,{"$f":"N56/N$52","v":0.46946749375654556},null,{"$f":"P56/P$52","v":0.79857458001018156},null,{"$f":"R56/R$52","v":0.91718923987575451},null,{"$f":"T56/T$52","v":0.94793325078129609}]
[null,null,null,{"$f":"D57","v":"Rent 30% or More of HH Income"},{"$f":"E57/E$52","v":0.12425682939782133},null,null,{"$f":"H57/H$52","v":0.73512906846240178},null,{"$f":"J57/J$52","v":0.76892962007296017},null,{"$f":"L57/L$52","v":0.77732231404958674},null,{"$f":"N57/N$52","v":0.49750261822283093},null,{"$f":"P57/P$52","v":0.17067707449516376},null,{"$f":"R57/R$52","v":4.1669108597550256E-2},null,{"$f":"T57/T$52","v":4.717259272362757E-3}]
[null,null,null,{"$f":"D59","v":"Rent Less Than 35% of HH Income"},{"$f":"E59/E$52","v":5.9440695309767755E-2},null,null,{"$f":"H59/H$52","v":0.11507669285447063},null,{"$f":"J59/J$52","v":0.24001245662425483},null,{"$f":"L59/L$52","v":0.31203305785123969},null,{"$f":"N59/N$52","v":0.67517924756303871},null,{"$f":"P59/P$52","v":0.89214322077040553},null,{"$f":"R59/R$52","v":0.94268299830041613},null,{"$f":"T59/T$52","v":0.95164809245828175}]
[null,null,null,{"$f":"D60","v":"Rent 35% or More of HH Income"},{"$f":"E60/E$52","v":8.372731629599886E-2},null,null,{"$f":"H60/H$52","v":0.71298166853722411},null,{"$f":"J60/J$52","v":0.70344336684758435},null,{"$f":"L60/L$52","v":0.65322314049586772},null,{"$f":"N60/N$52","v":0.29179086441633773},null,{"$f":"P60/P$52","v":7.7108433734939766E-2},null,{"$f":"R60/R$52","v":1.6175350172888705E-2},null,{"$f":"T60/T$52","v":1.002417595377086E-3}]
[null,null,null,"Rent 50% or More of HH Income",{"$f":"E61/E$52","v":0.21245288395528672},null,null,{"$f":"H61/H$52","v":0.66053123830901606},null,{"$f":"J61/J$52","v":0.59600498264970192},null,{"$f":"L61/L$52","v":0.28667768595041321},null,{"$f":"N61/N$52","v":5.8688471763473776E-2},null,{"$f":"P61/P$52","v":1.4423892754115052E-2},null,{"$f":"R61/R$52","v":1.4651585301529626E-3},null,{"$f":"T61/T$52","v":0}]
[null,null,null,"Percent not computed",{"$f":"E62/E$52","v":5.0846469696773443E-2},null,null,{"$f":"H62/H$52","v":0.17194163860830528},null,{"$f":"J62/J$52","v":5.6544176528160871E-2},null,{"$f":"L62/L$52","v":3.4743801652892564E-2},null,{"$f":"N62/N$52","v":3.3029888020623538E-2},null,{"$f":"P62/P$52","v":3.0748345494654675E-2},null,{"$f":"R62/R$52","v":4.1141651526695189E-2},null,{"$f":"T62/T$52","v":4.7349489946341174E-2}]
[]
[]
[null,null,null,"Source:  2013-2017 American Community Survey Table B25070; B25074"]
[]
[null,null,null,{"$f":"D41","v":"Income in 2017 Inflation Adjusted Dollars"}]
[null,null,null,"Data from the American Community Survey are estimates"]
[]
[null,null,null,"Data from the American Community Survey are estimates"]
[]
[null,null,null,{"$f":"D2","v":"Grafton County"}]
[null,null,null,{"$f":"D4","v":"RENTAL HOUSING COST CHARACTERISTICS"}]
[]
[null,null,null,"Rental Housing Costs"]
[]
[null,null,null,"Renter Occupied Housing Units By Gross Rent "]
[]
[null,null,null,null,"Units","Margin of Error"]
[null,null,{"$f":"CntyDataLinkPrior5YearEstimates!E$69","v":0},"Specified Renter Occ Housing Units",{"$f":"CntyDataLinkPrior5YearEstimates!$B$148","v":154406},{"$f":"CntyDataLinkPrior5YearEstimates!$C$148","v":2224}]
[null,null,{"$f":"CntyDataLinkPrior5YearEstimates!F$69","v":0},"Renter Occ. Housing Units w/ Cash Rent",{"$f":"CntyDataLinkPrior5YearEstimates!$D$148","v":148319},{"$f":"CntyDataLinkPrior5YearEstimates!$E$148","v":2175}]
[]
[null,null,{"$f":"CntyDataLinkPrior5YearEstimates!G$69","v":0},"Gross Rent","Units","Margin of Error 2013-2017"]
[null,null,{"$f":"CntyDataLinkPrior5YearEstimates!H$69","v":0},"Less than $100",{"$f":"CntyDataLinkPrior5YearEstimates!$F$148","v":353},{"$f":"CntyDataLinkPrior5YearEstimates!$G$148","v":126}]
[null,null,{"$f":"CntyDataLinkPrior5YearEstimates!I$69","v":0},"$100 to $149",{"$f":"CntyDataLinkPrior5YearEstimates!$H$148","v":543},{"$f":"CntyDataLinkPrior5YearEstimates!$I$148","v":191}]
[null,null,{"$f":"CntyDataLinkPrior5YearEstimates!J$69","v":0},"$150 to $199",{"$f":"CntyDataLinkPrior5YearEstimates!J$148","v":885},{"$f":"CntyDataLinkPrior5YearEstimates!$K$148","v":204}]
[null,null,{"$f":"CntyDataLinkPrior5YearEstimates!K$69","v":0},"$200 to $249",{"$f":"CntyDataLinkPrior5YearEstimates!$L$148","v":2289},{"$f":"CntyDataLinkPrior5YearEstimates!$M$148","v":317}]
[null,null,{"$f":"CntyDataLinkPrior5YearEstimates!L$69","v":0},"$250 to $299",{"$f":"CntyDataLinkPrior5YearEstimates!$N$148","v":1625},{"$f":"CntyDataLinkPrior5YearEstimates!$O$148","v":296}]
[null,null,{"$f":"CntyDataLinkPrior5YearEstimates!M$69","v":0},"$300 to $349",{"$f":"CntyDataLinkPrior5YearEstimates!$P$148","v":2015},{"$f":"CntyDataLinkPrior5YearEstimates!$Q$148","v":315}]
[null,null,{"$f":"CntyDataLinkPrior5YearEstimates!N$69","v":0},"$350 to $399",{"$f":"CntyDataLinkPrior5YearEstimates!$R$148","v":1779},{"$f":"CntyDataLinkPrior5YearEstimates!$S$148","v":276}]
[null,null,{"$f":"CntyDataLinkPrior5YearEstimates!O$69","v":0},"$400 to $449",{"$f":"CntyDataLinkPrior5YearEstimates!$T$148","v":1922},{"$f":"CntyDataLinkPrior5YearEstimates!$U$148","v":311}]
[null,null,{"$f":"CntyDataLinkPrior5YearEstimates!P$69","v":0},"$450 to $499",{"$f":"CntyDataLinkPrior5YearEstimates!$V$148","v":1863},{"$f":"CntyDataLinkPrior5YearEstimates!$W$148","v":353}]
[null,null,{"$f":"CntyDataLinkPrior5YearEstimates!Q$69","v":0},"$500 to $549",{"$f":"CntyDataLinkPrior5YearEstimates!$X$148","v":2038},{"$f":"CntyDataLinkPrior5YearEstimates!$Y$148","v":348}]
[null,null,{"$f":"CntyDataLinkPrior5YearEstimates!R$69","v":0},"$550 to $599",{"$f":"CntyDataLinkPrior5YearEstimates!$Z$148","v":2286},{"$f":"CntyDataLinkPrior5YearEstimates!$AA$148","v":368}]
[null,null,{"$f":"CntyDataLinkPrior5YearEstimates!S$69","v":0},"$600 to $649",{"$f":"CntyDataLinkPrior5YearEstimates!$AB$148","v":3321},{"$f":"CntyDataLinkPrior5YearEstimates!$AC$148","v":403}]
[null,null,{"$f":"CntyDataLinkPrior5YearEstimates!T$69","v":0},"$650 to $699",{"$f":"CntyDataLinkPrior5YearEstimates!$AD$148","v":3657},{"$f":"CntyDataLinkPrior5YearEstimates!$AE$148","v":408}]
[null,null,{"$f":"CntyDataLinkPrior5YearEstimates!U$69","v":0},"$700 to $749",{"$f":"CntyDataLinkPrior5YearEstimates!$AF$148","v":4480},{"$f":"CntyDataLinkPrior5YearEstimates!$AG$148","v":550}]
[null,null,{"$f":"CntyDataLinkPrior5YearEstimates!V$69","v":0},"$750 to $799",{"$f":"CntyDataLinkPrior5YearEstimates!$AH$148","v":5902},{"$f":"CntyDataLinkPrior5YearEstimates!$AI$148","v":567}]
[null,null,{"$f":"CntyDataLinkPrior5YearEstimates!W$69","v":0},"$800 to $899",{"$f":"CntyDataLinkPrior5YearEstimates!$AJ$148","v":13931},{"$f":"CntyDataLinkPrior5YearEstimates!$AK$148","v":858}]
[null,null,{"$f":"CntyDataLinkPrior5YearEstimates!X$69","v":0},"$900 to $999",{"$f":"CntyDataLinkPrior5YearEstimates!$AL$148","v":18050},{"$f":"CntyDataLinkPrior5YearEstimates!$AM$148","v":790}]
[null,null,{"$f":"CntyDataLinkPrior5YearEstimates!Y$69","v":0},"$1000 to $1249",{"$f":"CntyDataLinkPrior5YearEstimates!$AN$148","v":34972},{"$f":"CntyDataLinkPrior5YearEstimates!$AO$148","v":1332}]
[null,null,{"$f":"CntyDataLinkPrior5YearEstimates!Z$69","v":0},"$1250 to $1499",{"$f":"CntyDataLinkPrior5YearEstimates!$AP$148","v":20597},{"$f":"CntyDataLinkPrior5YearEstimates!$AQ$148","v":909}]
[null,null,{"$f":"CntyDataLinkPrior5YearEstimates!AA$69","v":0},"$1500 to $1999",{"$f":"CntyDataLinkPrior5YearEstimates!$AR$148","v":19760},{"$f":"CntyDataLinkPrior5YearEstimates!$AS$148","v":911}]
[null,null,{"$f":"CntyDataLinkPrior5YearEstimates!AB$69","v":0},"$2,000 to $2,499",{"$f":"CntyDataLinkPrior5YearEstimates!$AT$148","v":4032},{"$f":"CntyDataLinkPrior5YearEstimates!$AU$148","v":473}]
[null,null,null,"$2,500 to $2,999",{"$f":"CntyDataLinkPrior5YearEstimates!$AV$148","v":1184},{"$f":"CntyDataLinkPrior5YearEstimates!$AW$148","v":264}]
[null,null,null,"$3,000 to $3,499",{"$f":"CntyDataLinkPrior5YearEstimates!$AX$148","v":519},{"$f":"CntyDataLinkPrior5YearEstimates!$AY$148","v":200}]
[null,null,null,"$3,500 or more",{"$f":"CntyDataLinkPrior5YearEstimates!$AZ$148","v":316},{"$f":"CntyDataLinkPrior5YearEstimates!$BA$148","v":121}]
[null,null,{"$f":"CntyDataLinkPrior5YearEstimates!AC$69","v":0},"Renter Occ. Housing Units w/ No Cash Rent",{"$f":"CntyDataLinkPrior5YearEstimates!$BB$148","v":6087},{"$f":"CntyDataLinkPrior5YearEstimates!$BC$148","v":562}]
[]
[null,null,null,"Median Gross Rent",{"$f":"CntyDataLinkPrior5YearEstimates!$BD$148","v":1052},{"$f":"CntyDataLinkPrior5YearEstimates!$BE$148","v":9}]
[]
[]
[]
[]
[null,null,null,"Source: 2013-2017 American Community Survey Table B25063; B25064"]
[null,null,null,"Data from the American Community Survey are estimates"]

{"sheet":"RentalHousingCost-Prior10Yr","index":53,"n_rows":125,"n_cols":21,"rows_kept":125,"cut":false,"hidden":true,"merged":[]}
[]
[null,null,"HIDE THIS COLUMN",{"$f":"CntyDataLink!A70","v":"Grafton County"}]
[]
[null,null,null,"RENTAL HOUSING COST CHARACTERISTICS"]
[]
[]
[]
[]
[]
[]
[]
[]
[]
[]
[]
[]
[]
[]
[]
[]
[]
[]
[]
[]
[]
[]
[]
[]
[]
[]
[]
[]
[]
[]
[]
[]
[]
[]
[null,null,null,"Source:  2008-2012 American Community Survey Table B25074"]
[]
[null,null,null,"Income in 2012 Inflation Adjusted Dollars"]
[null,null,null,"Data from the American Community Survey are estimates"]
[null,null,null,{"$f":"CntyDataLinkPrior5YearEstimates!A120","v":"Grafton County"}]
[]
[null,null,null,{"$f":"D4","v":"RENTAL HOUSING COST CHARACTERISTICS"}]
[]
[null,null,null,"Renter Households by "]
[null,null,null,"Gross Rent as a Percent of 2012 Household Income"]
[null,null,null,null,null,null,"By Household Income"]
[null,null,{"$f":"CntyDataLinkPrior5YearEstimates!AO$69","v":0},null,"Specified Renter Occ Housing Units",{"$f":"\"Margin of Error Renter Occupied Units\"","v":"Margin of Error Renter Occupied Units"},null,"Less than $10,000",{"$f":"\"Margin of Error \"&H50","v":"Margin of Error Less than $10,000"},"$10,000 to $19,999",{"$f":"\"Margin of Error \"&J50","v":"Margin of Error $10,000 to $19,999"},"$20,000 to $34,999",{"$f":"\"Margin of Error \"&L50","v":"Margin of Error $20,000 to $34,999"},"$35,000 to $49,999",{"$f":"\"Margin of Error \"&N50","v":"Margin of Error $35,000 to $49,999"},"$50,000 to $74,999",{"$f":"\"Margin of Error \"&P50","v":"Margin of Error $50,000 to $74,999"},"$75,000 to $99,999",{"$f":"\"Margin of Error \"&R50","v":"Margin of Error $75,000 to $99,999"},"$100,000 or More",{"$f":"\"Margin of Error \"&T50","v":"Margin of Error $100,000 or More"}]
[]
[null,null,null,"All Renter Households",{"$f":"CntyDataLinkPrior10YearEstimate!$B$156","v":141527},{"$f":"CntyDataLinkPrior10YearEstimate!$C$156","v":1994},null,{"$f":"CntyDataLinkPrior10YearEstimate!$BH$148","v":14734},{"$f":"CntyDataLinkPrior10YearEstimate!$BI$148","v":908},{"$f":"CntyDataLinkPrior10YearEstimate!$BZ$148","v":22816},{"$f":"CntyDataLinkPrior10YearEstimate!$CA$148","v":992},{"$f":"CntyDataLinkPrior10YearEstimate!$CR$148","v":30819},{"$f":"CntyDataLinkPrior10YearEstimate!$CS$148","v":1486},{"$f":"CntyDataLinkPrior10YearEstimate!$DJ$148","v":23961},{"$f":"CntyDataLinkPrior10YearEstimate!$DK$148","v":1051},{"$f":"CntyDataLinkPrior10YearEstimate!$EB$148","v":25623},{"$f":"CntyDataLinkPrior10YearEstimate!$EC$148","v":1212},{"$f":"CntyDataLinkPrior10YearEstimate!$ET$148","v":12230},{"$f":"CntyDataLinkPrior10YearEstimate!$EU$148","v":713},{"$f":"CntyDataLinkPrior10YearEstimate!$FL$148","v":11344},{"$f":"CntyDataLinkPrior10YearEstimate!$FM$148","v":741}]
[null,null,null,"Rent Less than 20% of HH Income",{"$f":"CntyDataLinkPrior10YearEstimate!$D$156","v":4190},{"$f":"CntyDataLinkPrior10YearEstimate!$E$156","v":503},null,{"$f":"CntyDataLinkPrior10YearEstimate!$BJ$148","v":242},{"$f":"CntyDataLinkPrior10YearEstimate!$BK$148","v":110},{"$f":"CntyDataLinkPrior10YearEstimate!$CB$148","v":1074},{"$f":"CntyDataLinkPrior10YearEstimate!$CC$148","v":210},{"$f":"CntyDataLinkPrior10YearEstimate!$CT$148","v":1425},{"$f":"CntyDataLinkPrior10YearEstimate!$CU$148","v":249},{"$f":"CntyDataLinkPrior10YearEstimate!$DL$148","v":2366},{"$f":"CntyDataLinkPrior10YearEstimate!$DM$148","v":427},{"$f":"CntyDataLinkPrior10YearEstimate!$ED$148","v":9423},{"$f":"CntyDataLinkPrior10YearEstimate!$EE$148","v":766},{"$f":"CntyDataLinkPrior10YearEstimate!$EV$148","v":8017},{"$f":"CntyDataLinkPrior10YearEstimate!$EW$148","v":547},{"$f":"CntyDataLinkPrior10YearEstimate!$FN$148","v":9548},{"$f":"CntyDataLinkPrior10YearEstimate!$FO$148","v":707}]
[null,null,null,"Rent 20% to 24.9% of HH Income",{"$f":"CntyDataLinkPrior10YearEstimate!$F$156","v":10197},{"$f":"CntyDataLinkPrior10YearEstimate!$G$156","v":742},null,{"$f":"CntyDataLinkPrior10YearEstimate!$BL$148","v":287},{"$f":"CntyDataLinkPrior10YearEstimate!$BM$148","v":163},{"$f":"CntyDataLinkPrior10YearEstimate!$CD$148","v":1663},{"$f":"CntyDataLinkPrior10YearEstimate!$CE$148","v":279},{"$f":"CntyDataLinkPrior10YearEstimate!$CV$148","v":1288},{"$f":"CntyDataLinkPrior10YearEstimate!$CW$148","v":249},{"$f":"CntyDataLinkPrior10YearEstimate!$DN$148","v":5024},{"$f":"CntyDataLinkPrior10YearEstimate!$DO$148","v":454},{"$f":"CntyDataLinkPrior10YearEstimate!$EF$148","v":7392},{"$f":"CntyDataLinkPrior10YearEstimate!$EG$148","v":677},{"$f":"CntyDataLinkPrior10YearEstimate!$EX$148","v":2374},{"$f":"CntyDataLinkPrior10YearEstimate!$EY$148","v":298},{"$f":"CntyDataLinkPrior10YearEstimate!$FP$148","v":839},{"$f":"CntyDataLinkPrior10YearEstimate!$FQ$148","v":209}]
[null,null,null,"Rent 25% to 29.9% of HH Income",{"$f":"CntyDataLinkPrior10YearEstimate!$H$156","v":17708},{"$f":"CntyDataLinkPrior10YearEstimate!$I$156","v":1036},null,{"$f":"CntyDataLinkPrior10YearEstimate!$BN$148","v":1078},{"$f":"CntyDataLinkPrior10YearEstimate!$BO$148","v":244},{"$f":"CntyDataLinkPrior10YearEstimate!$CF$148","v":2224},{"$f":"CntyDataLinkPrior10YearEstimate!$CG$148","v":281},{"$f":"CntyDataLinkPrior10YearEstimate!$CX$148","v":3326},{"$f":"CntyDataLinkPrior10YearEstimate!$CY$148","v":458},{"$f":"CntyDataLinkPrior10YearEstimate!$DP$148","v":5584},{"$f":"CntyDataLinkPrior10YearEstimate!$DQ$148","v":541},{"$f":"CntyDataLinkPrior10YearEstimate!$EH$148","v":4296},{"$f":"CntyDataLinkPrior10YearEstimate!$EI$148","v":548},{"$f":"CntyDataLinkPrior10YearEstimate!$EZ$148","v":877},{"$f":"CntyDataLinkPrior10YearEstimate!$FA$148","v":198},{"$f":"CntyDataLinkPrior10YearEstimate!$FR$148","v":205},{"$f":"CntyDataLinkPrior10YearEstimate!$FS$148","v":98}]
[null,null,null,"Rent Less Than 30% of HH Income",{"$f":"CntyDataLinkPrior10YearEstimate!$J$156","v":18867},{"$f":"CntyDataLinkPrior10YearEstimate!$K$156","v":922},null,{"$f":"SUM(H53:H55)","v":1607},{"$f":"SQRT((I53^2)+(I54^2)+(I55^2))","v":313.37677003887831},{"$f":"SUM(J53:J55)","v":4961},{"$f":"SQRT((K53^2)+(K54^2)+(K55^2))","v":448.22092766848806},{"$f":"SUM(L53:L55)","v":6039},{"$f":"SQRT((M53^2)+(M54^2)+(M55^2))","v":577.72484800292261},{"$f":"SUM(N53:N55)","v":12974},{"$f":"SQRT((O53^2)+(O54^2)+(O55^2))","v":825.30358050840903},{"$f":"SUM(P53:P55)","v":21111},{"$f":"SQRT((Q53^2)+(Q54^2)+(Q55^2))","v":1159.9090481585183},{"$f":"SUM(R53:R55)","v":11268},{"$f":"SQRT((S53^2)+(S54^2)+(S55^2))","v":653.61839019415606},{"$f":"SUM(T53:T55)","v":10592},{"$f":"SQRT((U53^2)+(U54^2)+(U55^2))","v":743.72978964137235}]
[null,null,null,"Rent 30% or More of HH Income",{"$f":"CntyDataLinkPrior10YearEstimate!$L$156","v":17590},{"$f":"CntyDataLinkPrior10YearEstimate!$M$156","v":944},null,{"$f":"H60+H58","v":10107},{"$f":"SQRT((I58^2)+(I60^2))","v":795.80965060748042},{"$f":"J60+J58","v":16673},{"$f":"SQRT((K58^2)+(K60^2))","v":1007.2904248527333},{"$f":"L60+L58","v":23454},{"$f":"SQRT((M58^2)+(M60^2))","v":1166.8975961925707},{"$f":"N60+N58","v":10139},{"$f":"SQRT((O58^2)+(O60^2))","v":701.2766928966056},3703,{"$f":"SQRT((Q58^2)+(Q60^2))","v":447.0346742703523},{"$f":"R60+R58","v":515},{"$f":"SQRT((S58^2)+(S60^2))","v":163.37074401495514},92,{"$f":"SQRT((U58^2)+(U60^2))","v":66.468037431535464}]
[null,null,null,"Rent 30% to 34.9% of HH Income",{"$f":"CntyDataLinkPrior10YearEstimate!$N$156","v":13589},{"$f":"CntyDataLinkPrior10YearEstimate!$O$156","v":854},null,{"$f":"CntyDataLinkPrior10YearEstimate!$BP$148","v":555},{"$f":"CntyDataLinkPrior10YearEstimate!$BQ$148","v":172},{"$f":"CntyDataLinkPrior10YearEstimate!$CH$148","v":1497},{"$f":"CntyDataLinkPrior10YearEstimate!$CI$148","v":253},{"$f":"CntyDataLinkPrior10YearEstimate!$CZ$148","v":4714},{"$f":"CntyDataLinkPrior10YearEstimate!$DA$148","v":507},{"$f":"CntyDataLinkPrior10YearEstimate!$DR$148","v":4340},{"$f":"CntyDataLinkPrior10YearEstimate!$DS$148","v":445},{"$f":"CntyDataLinkPrior10YearEstimate!$EJ$148","v":2103},{"$f":"CntyDataLinkPrior10YearEstimate!$EK$148","v":324},{"$f":"CntyDataLinkPrior10YearEstimate!$FB$148","v":350},{"$f":"CntyDataLinkPrior10YearEstimate!$FC$148","v":143},{"$f":"CntyDataLinkPrior10YearEstimate!$FT$148","v":30},{"$f":"CntyDataLinkPrior10YearEstimate!$FU$148","v":47}]
[null,null,null,"Rent Less Than 35% of HH Income",{"$f":"CntyDataLinkPrior10YearEstimate!$P$156","v":8875},{"$f":"CntyDataLinkPrior10YearEstimate!$Q$156","v":693},null,{"$f":"SUM(H56,H58)","v":2162},{"$f":"SQRT((I56^2)+(I58^2))","v":357.47587331175237},{"$f":"SUM(J56,J58)","v":6458},{"$f":"SQRT((K56^2)+(K58^2))","v":514.69505534831012},{"$f":"SUM(L56,L58)","v":10753},{"$f":"SQRT((M56^2)+(M58^2))","v":768.64491151636457},17314,1270.3035805084091,23214,{"$f":"SQRT((Q58^2)+(Q56^2))","v":1204.311006343461},{"$f":"SUM(R56,R58)","v":11618},{"$f":"SQRT((S58^2)+(S56^2))","v":669.07847073418827},10622,{"$f":"SQRT((U58^2)+(U56^2))","v":745.21339225754662}]
[null,null,null,"Rent 35% or More of HH Income",{"$f":"CntyDataLinkPrior10YearEstimate!$R$156","v":12387},{"$f":"CntyDataLinkPrior10YearEstimate!$S$156","v":882},null,{"$f":"CntyDataLinkPrior10YearEstimate!$BR$148+CntyDataLinkPrior10YearEstimate!$BT$148+CntyDataLinkPrior10YearEstimate!$BV$148","v":9552},{"$f":"SQRT((CntyDataLinkPrior10YearEstimate!$BS$148^2)+(CntyDataLinkPrior10YearEstimate!$BU$148^2)+(CntyDataLinkPrior10YearEstimate!$BW$148^2))","v":777},{"$f":"CntyDataLinkPrior10YearEstimate!$CJ$148+CntyDataLinkPrior10YearEstimate!$CL$148+CntyDataLinkPrior10YearEstimate!$CN$148","v":15176},{"$f":"SQRT((CntyDataLinkPrior10YearEstimate!$CK$148^2)+(CntyDataLinkPrior10YearEstimate!$CM$148^2)+(CntyDataLinkPrior10YearEstimate!$CO$148^2))","v":975},{"$f":"CntyDataLinkPrior10YearEstimate!$DB$148+CntyDataLinkPrior10YearEstimate!$DD$148+CntyDataLinkPrior10YearEstimate!$DF$148","v":18740},{"$f":"SQRT((CntyDataLinkPrior10YearEstimate!$DC$148^2)+(CntyDataLinkPrior10YearEstimate!$DE$148^2)+(CntyDataLinkPrior10YearEstimate!$DG$148^2))","v":1051},{"$f":"CntyDataLinkPrior10YearEstimate!$DT$148+CntyDataLinkPrior10YearEstimate!$DV$148+CntyDataLinkPrior10YearEstimate!$DX$148","v":5799},{"$f":"SQRT((CntyDataLinkPrior10YearEstimate!$DU$148^2)+(CntyDataLinkPrior10YearEstimate!$DW$148^2)+(CntyDataLinkPrior10YearEstimate!$DY$148^2))","v":542},{"$f":"CntyDataLinkPrior10YearEstimate!$EL$148+CntyDataLinkPrior10YearEstimate!$EN$148+CntyDataLinkPrior10YearEstimate!$EP$148","v":1600},{"$f":"SQRT((CntyDataLinkPrior10YearEstimate!$EM$148^2)+(CntyDataLinkPrior10YearEstimate!$EO$148^2)+(CntyDataLinkPrior10YearEstimate!$EQ$148^2))","v":308},{"$f":"CntyDataLinkPrior10YearEstimate!$FD$148+CntyDataLinkPrior10YearEstimate!$FF$148+CntyDataLinkPrior10YearEstimate!$FH$148","v":165},{"$f":"SQRT((CntyDataLinkPrior10YearEstimate!$FE$148^2)+(CntyDataLinkPrior10YearEstimate!$FG$148^2)+(CntyDataLinkPrior10YearEstimate!$FI$148^2))","v":79},{"$f":"CntyDataLinkPrior10YearEstimate!$FV$148+CntyDataLinkPrior10YearEstimate!$FX$148+CntyDataLinkPrior10YearEstimate!$FZ$148","v":62},{"$f":"SQRT((CntyDataLinkPrior10YearEstimate!$FW$148^2)+(CntyDataLinkPrior10YearEstimate!$FY$148^2)+(CntyDataLinkPrior10YearEstimate!$GA$148^2))","v":47}]
[null,null,null,"Rent 50% or More of HH Income",{"$f":"CntyDataLinkPrior10YearEstimate!$T$156","v":29832},{"$f":"CntyDataLinkPrior10YearEstimate!$U$156","v":1075},null,{"$f":"CntyDataLinkPrior10YearEstimate!$BV$148","v":0},{"$f":"CntyDataLinkPrior10YearEstimate!$BW$148","v":0},{"$f":"CntyDataLinkPrior10YearEstimate!$CN$148","v":0},{"$f":"CntyDataLinkPrior10YearEstimate!$CO$148","v":0},{"$f":"CntyDataLinkPrior10YearEstimate!$DF$148","v":0},{"$f":"CntyDataLinkPrior10YearEstimate!$DG$148","v":0},{"$f":"CntyDataLinkPrior10YearEstimate!$DX$148","v":0},{"$f":"CntyDataLinkPrior10YearEstimate!$DY$148","v":0},{"$f":"CntyDataLinkPrior10YearEstimate!$EP$148","v":0},{"$f":"CntyDataLinkPrior10YearEstimate!$EQ$148","v":0},{"$f":"CntyDataLinkPrior10YearEstimate!$FH$148","v":0},{"$f":"CntyDataLinkPrior10YearEstimate!$FI$148","v":0},{"$f":"CntyDataLinkPrior10YearEstimate!$FZ$148","v":0},{"$f":"CntyDataLinkPrior10YearEstimate!$GA$148","v":0}]
[null,null,null,"Percent not computed",{"$f":"CntyDataLinkPrior10YearEstimate!$V$156","v":8292},{"$f":"CntyDataLinkPrior10YearEstimate!$W$156","v":628},null,{"$f":"CntyDataLinkPrior10YearEstimate!$BX$148","v":3020},{"$f":"CntyDataLinkPrior10YearEstimate!$BY$148","v":484},{"$f":"CntyDataLinkPrior10YearEstimate!$CP$148","v":1182},{"$f":"CntyDataLinkPrior10YearEstimate!$CQ$148","v":214},{"$f":"CntyDataLinkPrior10YearEstimate!$DH$148","v":1326},{"$f":"CntyDataLinkPrior10YearEstimate!$DI$148","v":220},{"$f":"CntyDataLinkPrior10YearEstimate!$DZ$148","v":848},{"$f":"CntyDataLinkPrior10YearEstimate!$EA$148","v":177},{"$f":"CntyDataLinkPrior10YearEstimate!$ER$148","v":809},{"$f":"CntyDataLinkPrior10YearEstimate!$ES$148","v":197},{"$f":"CntyDataLinkPrior10YearEstimate!$FJ$148","v":447},{"$f":"CntyDataLinkPrior10YearEstimate!$FK$148","v":142},{"$f":"CntyDataLinkPrior10YearEstimate!$GB$148","v":660},{"$f":"CntyDataLinkPrior10YearEstimate!$GC148","v":172}]
[]
[]
[null,null,null,"Percent of Households Paying ",null,null,null,"By Household Income"]
[null,null,null,{"$f":"D56","v":"Rent Less Than 30% of HH Income"},{"$f":"E56/E$52","v":0.13331025175408226},null,null,{"$f":"H56/H$52","v":0.10906746301072349},null,{"$f":"J56/J$52","v":0.21743513323983168},null,{"$f":"L56/L$52","v":0.19595054998539863},null,{"$f":"N56/N$52","v":0.54146321105129169},null,{"$f":"P56/P$52","v":0.82390820746985127},null,{"$f":"R56/R$52","v":0.92134096484055605},null,{"$f":"T56/T$52","v":0.93370944992947813}]
[null,null,null,{"$f":"D57","v":"Rent 30% or More of HH Income"},{"$f":"E57/E$52","v":0.12428723847746366},null,null,{"$f":"H57/H$52","v":0.68596443599837109},null,{"$f":"J57/J$52","v":0.73075911640953717},null,{"$f":"L57/L$52","v":0.76102404360946174},null,{"$f":"N57/N$52","v":0.42314594549476231},null,{"$f":"P57/P$52","v":0.14451859657339108},null,{"$f":"R57/R$52","v":4.2109566639411282E-2},null,{"$f":"T57/T$52","v":8.110014104372355E-3}]
[null,null,null,{"$f":"D59","v":"Rent Less Than 35% of HH Income"},{"$f":"E59/E$52","v":6.2708882404064248E-2},null,null,{"$f":"H59/H$52","v":0.14673544183521109},null,{"$f":"J59/J$52","v":0.28304698457222999},null,{"$f":"L59/L$52","v":0.34890814108180018},null,{"$f":"N59/N$52","v":0.72259087684153411},null,{"$f":"P59/P$52","v":0.90598290598290598},null,{"$f":"R59/R$52","v":0.94995911692559276},null,{"$f":"T59/T$52","v":0.93635401974612131}]
[null,null,null,{"$f":"D60","v":"Rent 35% or More of HH Income"},{"$f":"E60/E$52","v":8.7523935362157038E-2},null,null,{"$f":"H60/H$52","v":0.64829645717388351},null,{"$f":"J60/J$52","v":0.66514726507713884},null,{"$f":"L60/L$52","v":0.60806645251306013},null,{"$f":"N60/N$52","v":0.24201827970451983},null,{"$f":"P60/P$52","v":6.2443898060336414E-2},null,{"$f":"R60/R$52","v":1.3491414554374489E-2},null,{"$f":"T60/T$52","v":5.4654442877291962E-3}]
[null,null,null,"Rent 50% or More of HH Income",{"$f":"E61/E$52","v":0.2107866343524557},null,null,{"$f":"H61/H$52","v":0},null,{"$f":"J61/J$52","v":0},null,{"$f":"L61/L$52","v":0},null,{"$f":"N61/N$52","v":0},null,{"$f":"P61/P$52","v":0},null,{"$f":"R61/R$52","v":0},null,{"$f":"T61/T$52","v":0}]
[null,null,null,"Percent not computed",{"$f":"E62/E$52","v":5.8589527086704306E-2},null,null,{"$f":"H62/H$52","v":0.2049681009909054},null,{"$f":"J62/J$52","v":5.1805750350631133E-2},null,{"$f":"L62/L$52","v":4.3025406405139688E-2},null,{"$f":"N62/N$52","v":3.5390843453945997E-2},null,{"$f":"P62/P$52","v":3.1573195956757602E-2},null,{"$f":"R62/R$52","v":3.6549468520032706E-2},null,{"$f":"T62/T$52","v":5.8180535966149506E-2}]
[]
[]
[null,null,null,"Source:  2008-2012 American Community Survey Table B25070; B25074"]
[]
[null,null,null,{"$f":"D41","v":"Income in 2012 Inflation Adjusted Dollars"}]
[null,null,null,"Data from the American Community Survey are estimates"]
[]
[null,null,null,"Data from the American Community Survey are estimates"]
[]
[null,null,null,{"$f":"D2","v":"Grafton County"}]
[null,null,null,{"$f":"D4","v":"RENTAL HOUSING COST CHARACTERISTICS"}]
[]
[null,null,null,"Rental Housing Costs"]
[]
[null,null,null,"Renter Occupied Housing Units By Gross Rent "]
[]
[null,null,null,null,"Units","Margin of Error"]
[null,null,{"$f":"CntyDataLinkPrior5YearEstimates!E$69","v":0},"Specified Renter Occ Housing Units",{"$f":"CntyDataLinkPrior10YearEstimate!$B$148","v":141527},{"$f":"CntyDataLinkPrior10YearEstimate!$C$148","v":1994}]
[null,null,{"$f":"CntyDataLinkPrior5YearEstimates!F$69","v":0},"Renter Occ. Housing Units w/ Cash Rent",{"$f":"CntyDataLinkPrior10YearEstimate!$D$148","v":135132},{"$f":"CntyDataLinkPrior10YearEstimate!$E$148","v":2027}]
[]
[null,null,{"$f":"CntyDataLinkPrior5YearEstimates!G$69","v":0},"Gross Rent","Units","Margin of Error 2011-2015"]
[null,null,{"$f":"CntyDataLinkPrior5YearEstimates!H$69","v":0},"Less than $100",{"$f":"CntyDataLinkPrior10YearEstimate!$F$148","v":408},{"$f":"CntyDataLinkPrior10YearEstimate!$G$148","v":179}]
[null,null,{"$f":"CntyDataLinkPrior5YearEstimates!I$69","v":0},"$100 to $149",{"$f":"CntyDataLinkPrior10YearEstimate!$H$148","v":377},{"$f":"CntyDataLinkPrior10YearEstimate!$I$148","v":100}]
[null,null,{"$f":"CntyDataLinkPrior5YearEstimates!J$69","v":0},"$150 to $199",{"$f":"CntyDataLinkPrior10YearEstimate!J$148","v":2133},{"$f":"CntyDataLinkPrior10YearEstimate!$K$148","v":360}]
[null,null,{"$f":"CntyDataLinkPrior5YearEstimates!K$69","v":0},"$200 to $249",{"$f":"CntyDataLinkPrior10YearEstimate!$L$148","v":2570},{"$f":"CntyDataLinkPrior10YearEstimate!$M$148","v":331}]
[null,null,{"$f":"CntyDataLinkPrior5YearEstimates!L$69","v":0},"$250 to $299",{"$f":"CntyDataLinkPrior10YearEstimate!$N$148","v":2352},{"$f":"CntyDataLinkPrior10YearEstimate!$O$148","v":335}]
[null,null,{"$f":"CntyDataLinkPrior5YearEstimates!M$69","v":0},"$300 to $349",{"$f":"CntyDataLinkPrior10YearEstimate!$P$148","v":2365},{"$f":"CntyDataLinkPrior10YearEstimate!$Q$148","v":331}]
[null,null,{"$f":"CntyDataLinkPrior5YearEstimates!N$69","v":0},"$350 to $399",{"$f":"CntyDataLinkPrior10YearEstimate!$R$148","v":1779},{"$f":"CntyDataLinkPrior10YearEstimate!$S$148","v":295}]
[null,null,{"$f":"CntyDataLinkPrior5YearEstimates!O$69","v":0},"$400 to $449",{"$f":"CntyDataLinkPrior10YearEstimate!$T$148","v":1912},{"$f":"CntyDataLinkPrior10YearEstimate!$U$148","v":325}]
[null,null,{"$f":"CntyDataLinkPrior5YearEstimates!P$69","v":0},"$450 to $499",{"$f":"CntyDataLinkPrior10YearEstimate!$V$148","v":1790},{"$f":"CntyDataLinkPrior10YearEstimate!$W$148","v":261}]
[null,null,{"$f":"CntyDataLinkPrior5YearEstimates!Q$69","v":0},"$500 to $549",{"$f":"CntyDataLinkPrior10YearEstimate!$X$148","v":2651},{"$f":"CntyDataLinkPrior10YearEstimate!$Y$148","v":367}]
[null,null,{"$f":"CntyDataLinkPrior5YearEstimates!R$69","v":0},"$550 to $599",{"$f":"CntyDataLinkPrior10YearEstimate!$Z$148","v":2894},{"$f":"CntyDataLinkPrior10YearEstimate!$AA$148","v":341}]
[null,null,{"$f":"CntyDataLinkPrior5YearEstimates!S$69","v":0},"$600 to $649",{"$f":"CntyDataLinkPrior10YearEstimate!$AB$148","v":3741},{"$f":"CntyDataLinkPrior10YearEstimate!$AC$148","v":524}]
[null,null,{"$f":"CntyDataLinkPrior5YearEstimates!T$69","v":0},"$650 to $699",{"$f":"CntyDataLinkPrior10YearEstimate!$AD$148","v":4516},{"$f":"CntyDataLinkPrior10YearEstimate!$AE$148","v":592}]
[null,null,{"$f":"CntyDataLinkPrior5YearEstimates!U$69","v":0},"$700 to $749",{"$f":"CntyDataLinkPrior10YearEstimate!$AF$148","v":5656},{"$f":"CntyDataLinkPrior10YearEstimate!$AG$148","v":503}]
[null,null,{"$f":"CntyDataLinkPrior5YearEstimates!V$69","v":0},"$750 to $799",{"$f":"CntyDataLinkPrior10YearEstimate!$AH$148","v":7252},{"$f":"CntyDataLinkPrior10YearEstimate!$AI$148","v":622}]
[null,null,{"$f":"CntyDataLinkPrior5YearEstimates!W$69","v":0},"$800 to $899",{"$f":"CntyDataLinkPrior10YearEstimate!$AJ$148","v":15652},{"$f":"CntyDataLinkPrior10YearEstimate!$AK$148","v":879}]
[null,null,{"$f":"CntyDataLinkPrior5YearEstimates!X$69","v":0},"$900 to $999",{"$f":"CntyDataLinkPrior10YearEstimate!$AL$148","v":16861},{"$f":"CntyDataLinkPrior10YearEstimate!$AM$148","v":1054}]
[null,null,{"$f":"CntyDataLinkPrior5YearEstimates!Y$69","v":0},"$1000 to $1249",{"$f":"CntyDataLinkPrior10YearEstimate!$AN$148","v":30529},{"$f":"CntyDataLinkPrior10YearEstimate!$AO$148","v":960}]
[null,null,{"$f":"CntyDataLinkPrior5YearEstimates!Z$69","v":0},"$1250 to $1499",{"$f":"CntyDataLinkPrior10YearEstimate!$AP$148","v":14224},{"$f":"CntyDataLinkPrior10YearEstimate!$AQ$148","v":952}]
[null,null,{"$f":"CntyDataLinkPrior5YearEstimates!AA$69","v":0},"$1500 to $1999",{"$f":"CntyDataLinkPrior10YearEstimate!$AR$148","v":11524},{"$f":"CntyDataLinkPrior10YearEstimate!$AS$148","v":712}]
[null,null,{"$f":"CntyDataLinkPrior5YearEstimates!AB$69","v":0},"$2,000 to $2,499",{"$f":"CntyDataLinkPrior10YearEstimate!$AT$148","v":3946},{"$f":"CntyDataLinkPrior10YearEstimate!$AU$148","v":443}]
[null,null,null,"$2,500 to $2,999",{"$f":"CntyDataLinkPrior10YearEstimate!$AV$148","v":0},{"$f":"CntyDataLinkPrior10YearEstimate!$AW$148","v":0}]
[null,null,null,"$3,000 to $3,499",{"$f":"CntyDataLinkPrior10YearEstimate!$AX$148","v":0},{"$f":"CntyDataLinkPrior10YearEstimate!$AY$148","v":0}]
[null,null,null,"$3,500 or more",{"$f":"CntyDataLinkPrior10YearEstimate!$AZ$148","v":0},{"$f":"CntyDataLinkPrior10YearEstimate!$BA$148","v":0}]
[null,null,{"$f":"CntyDataLinkPrior5YearEstimates!AC$69","v":0},"Renter Occ. Housing Units w/ No Cash Rent",{"$f":"CntyDataLinkPrior10YearEstimate!$BB$148","v":6395},{"$f":"CntyDataLinkPrior10YearEstimate!$BC$148","v":538}]
[]
[null,null,null,"Median Gross Rent",{"$f":"CntyDataLinkPrior10YearEstimate!$BD$148","v":956},{"$f":"CntyDataLinkPrior10YearEstimate!$BE$148","v":7}]
[]
[]
[]
[]
[null,null,null,"Source: 2011-2015 American Community Survey Table B25063; B25064"]
[null,null,null,"Data from the American Community Survey are estimates"]

{"sheet":"ACS_Table_B25063_&_B25064","index":54,"n_rows":162,"n_cols":24,"rows_kept":162,"cut":false,"hidden":true,"merged":[]}
[null,"B25063. GROSS RENT"]
[null,"Universe:  RENTER-OCCUPIED HOUSING UNITS"]
[null,"Data Set: 2018-2022 American Community Survey 5-Year Estimates"]
[]
[null,null,"New Hampshire",null,"Belknap County",null,"Carroll County",null,"Cheshire County",null,"Coos County",null,"Grafton County",null,"Hillsborough County",null,"Merrimack County",null,"Rockingham County",null,"Strafford County",null,"Sullivan County"]
[null," ","Estimate","Margin of Error","Estimate","Margin of Error","Estimate","Margin of Error","Estimate","Margin of Error","Estimate","Margin of Error","Estimate","Margin of Error","Estimate","Margin of Error","Estimate","Margin of Error","Estimate","Margin of Error","Estimate","Margin of Error","Estimate","Margin of Error"]
[null,"Total:",151171,2381,5945,621,3994,494,8885,508,3658,298,10308,707,54683,1409,15698,635,26985,1102,16766,770,4249,483]
[null,"With cash rent:",145182,2355,5375,567,3527,474,8434,502,3409,278,9743,686,53391,1379,15241,620,25611,985,16283,773,4168,481]
[null,"Less than $100",371,160,22,38,0,28,28,34,0,25,56,44,129,121,47,65,41,44,48,41,0,25]
[null,"$100 to $149",239,143,13,20,0,28,46,71,6,8,0,28,122,109,19,28,0,28,0,28,33,49]
[null,"$150 to $199",603,226,37,55,0,28,48,49,22,23,39,69,297,196,70,65,49,42,32,38,9,17]
[null,"$200 to $249",1227,293,43,54,42,38,18,19,42,30,47,35,352,145,203,122,78,63,378,248,24,30]
[null,"$250 to $299",1981,331,49,45,65,72,158,95,72,45,154,134,587,175,500,172,138,90,104,68,154,86]
[null,"$300 to $349",1854,362,120,83,102,93,158,85,76,41,176,89,540,236,306,137,177,113,134,80,65,70]
[null,"$350 to $399",1805,306,48,54,72,86,131,94,158,85,66,43,501,164,155,98,239,124,255,126,180,121]
[null,"$400 to $449",1340,253,76,58,0,28,121,74,92,55,114,75,370,110,152,68,199,111,150,92,66,49]
[null,"$450 to $499",1317,295,93,68,8,9,188,95,95,52,75,61,344,150,159,78,194,135,94,60,67,59]
[null,"$500 to $549",1493,293,36,46,91,84,142,83,147,72,70,48,361,133,254,142,195,111,160,148,37,36]
[null,"$550 to $599",1406,321,53,71,0,28,128,82,154,110,179,107,453,156,175,122,223,140,17,22,24,27]
[null,"$600 to $649",1570,289,40,39,108,74,142,87,182,92,171,94,382,157,100,49,266,196,99,67,80,60]
[null,"$650 to $699",1050,234,78,73,19,25,41,28,112,61,89,54,342,136,157,81,67,46,135,77,10,12]
[null,"$700 to $749",2110,436,59,61,24,21,107,60,178,88,226,109,529,187,280,127,176,120,384,241,147,110]
[null,"$750 to $799",2659,511,244,158,189,161,161,72,257,126,517,186,512,255,242,126,356,161,116,68,65,57]
[null,"$800 to $899",6895,619,574,239,139,109,698,174,443,137,777,234,1964,354,1078,268,455,187,551,191,216,130]
[null,"$900 to $999",8731,716,428,205,450,186,922,222,298,103,643,176,2744,470,1005,221,844,227,1066,305,331,135]
[null,"$1,000 to $1,249",27399,1508,1100,241,826,261,1765,282,727,152,1872,337,8267,712,3420,433,4406,620,3799,600,1217,301]
[null,"$1,250 to $1,499",24934,1208,875,275,754,221,1129,207,200,76,1203,278,10185,846,2812,438,4449,519,2667,451,660,200]
[null,"$1,500 to $1,999",36344,1434,1183,322,474,166,1848,371,120,54,1781,274,16144,851,2937,353,7158,752,4148,499,551,201]
[null,"$2,000 to $2,499",13465,1193,155,57,92,59,381,161,4,5,948,311,5947,814,982,234,3412,484,1342,362,202,140]
[null,"$2,500 to $2,999",3553,519,29,38,51,43,42,39,0,25,210,98,1358,367,130,88,1438,292,288,141,7,11]
[null,"$3,000 to $3,499",1444,359,13,20,18,29,0,28,24,33,95,83,513,203,10,16,572,237,199,112,0,25]
[null,"$3,500 or more",1392,286,7,10,3,6,32,37,0,25,235,103,448,188,48,63,479,144,117,85,23,29]
[null,"No cash rent",5989,689,570,234,467,145,451,104,249,79,565,132,1292,312,457,149,1374,351,483,171,81,49]
[]
[]
[null,"B25064. MEDIAN GROSS RENT (DOLLARS)"]
[null,"Universe:  RENTER-OCCUPIED HOUSING UNITS PAYING CASH RENT"]
[null,"Data Set: 2018-2022 American Community Survey 5-Year Estimates"]
[null,{"$f":"RentalHousingCost!D41","v":"Income in 2022 Inflation Adjusted Dollars"}]
[]
[null,null,"New Hampshire",null,"Belknap County",null,"Carroll County",null,"Cheshire County",null,"Coos County",null,"Grafton County",null,"Hillsborough County",null,"Merrimack County",null,"Rockingham County",null,"Strafford County",null,"Sullivan County"]
[null," ","Estimate","Margin of Error","Estimate","Margin of Error","Estimate","Margin of Error","Estimate","Margin of Error","Estimate","Margin of Error","Estimate","Margin of Error","Estimate","Margin of Error","Estimate","Margin of Error","Estimate","Margin of Error","Estimate","Margin of Error","Estimate","Margin of Error"]
[null,"Median gross rent",1336,15,1153,67,1138,74,1139,43,825,39,1197,55,1444,23,1199,33,1518,48,1308,53,1118,48]
[]
[]
[null,null,1000,9,905,50,899,55,916,38,691,38,881,25,1073,11,939,20,1123,19,959,17,859,38]
[]
[]
[]
[]
[]
[]
[]
[]
[]
[]
[]
[]
[]
[]
[]
[]
[]
[]
[]
[]
[]
[]
[]
[null,"B25063. GROSS RENT"]
[null,"Universe:  RENTER-OCCUPIED HOUSING UNITS"]
[null,"Data Set: 2013-2017 American Community Survey 5-Year Estimates"]
[]
[null,null,"New Hampshire",null,"Belknap County",null,"Carroll County",null,"Cheshire County",null,"Coos County",null,"Grafton County",null,"Hillsborough County",null,"Merrimack County",null,"Rockingham County",null,"Strafford County",null,"Sullivan County"]
[null," ","Estimate","Margin of Error","Estimate","Margin of Error","Estimate","Margin of Error","Estimate","Margin of Error","Estimate","Margin of Error","Estimate","Margin of Error","Estimate","Margin of Error","Estimate","Margin of Error","Estimate","Margin of Error","Estimate","Margin of Error","Estimate","Margin of Error"]
[null,"Total:",154406,2224,5960,463,4333,508,9076,507,3997,319,11054,551,54001,1074,16631,512,27930,1001,16698,721,4726,347]
[null,"With cash rent:",148319,2175,5645,448,3907,484,8570,513,3707,301,10567,536,52615,1059,15761,532,26707,947,16335,701,4505,348]
[null,"Less than $100",353,126,0,27,0,24,40,51,0,24,41,42,63,68,63,55,86,92,22,27,38,35]
[null,"$100 to $149",543,191,43,48,0,24,9,14,7,11,165,118,95,79,23,38,81,72,120,95,0,24]
[null,"$150 to $199",885,204,42,35,28,30,84,54,95,53,59,49,212,98,144,88,152,82,35,35,34,40]
[null,"$200 to $249",2289,317,103,68,76,45,197,105,80,58,179,91,680,166,282,112,218,102,268,130,206,131]
[null,"$250 to $299",1625,296,69,56,6,10,124,62,100,59,108,96,585,147,174,86,281,147,93,51,85,83]
[null,"$300 to $349",2015,315,73,48,49,61,190,104,168,65,221,111,407,122,296,113,271,88,224,85,116,73]
[null,"$350 to $399",1779,276,108,75,68,47,196,93,148,57,203,117,458,132,226,78,159,84,155,86,58,36]
[null,"$400 to $449",1922,311,126,65,167,103,174,102,63,40,296,137,370,142,200,128,237,110,200,126,89,85]
[null,"$450 to $499",1863,353,32,32,135,118,122,69,167,70,100,56,514,160,243,115,152,75,322,171,76,78]
[null,"$500 to $549",2038,348,170,76,112,93,53,40,141,53,154,93,448,159,257,110,349,134,278,152,76,54]
[null,"$550 to $599",2286,368,31,31,45,38,91,39,301,112,365,128,549,160,255,110,200,115,336,149,113,74]
[null,"$600 to $649",3321,403,193,134,87,66,378,153,266,81,613,206,640,155,380,128,320,142,318,144,126,64]
[null,"$650 to $699",3657,408,153,105,164,87,465,173,249,90,400,168,830,188,380,111,540,208,411,174,65,53]
[null,"$700 to $749",4480,550,450,148,172,96,341,138,301,98,513,196,1117,248,459,136,519,166,386,124,222,114]
[null,"$750 to $799",5902,567,300,125,389,184,325,120,408,112,604,188,1568,291,675,162,685,199,596,174,352,167]
[null,"$800 to $899",13931,858,700,203,345,170,1106,194,406,123,1207,276,4242,448,1710,260,1862,314,1709,328,644,177]
[null,"$900 to $999",18050,790,695,171,556,169,1134,249,260,98,1341,243,6177,502,2000,270,2904,361,2422,406,561,177]
[null,"$1,000 to $1,249",34972,1332,1044,216,701,249,1588,285,323,114,1516,270,13963,832,4242,402,6632,571,3879,411,1084,193]
[null,"$1,250 to $1,499",20597,909,788,170,492,193,919,222,150,86,900,231,9073,581,1772,304,4061,431,2233,325,209,88]
[null,"$1,500 to $1,999",19760,911,373,113,247,84,885,213,63,34,1113,208,8811,658,1618,300,4730,461,1630,275,290,128]
[null,"$2,000 to $2,499",4032,473,120,78,42,30,72,77,6,7,300,97,1412,293,219,92,1359,235,466,175,36,37]
[null,"$2,500 to $2,999",1184,264,21,33,26,32,0,27,5,7,82,64,279,105,104,65,502,150,151,77,14,22]
[null,"$3,000 to $3,499",519,200,11,14,0,24,15,12,0,24,62,78,81,62,0,27,313,176,37,36,0,24]
[null,"$3,500 or more",316,121,0,27,0,24,62,73,0,24,25,25,41,38,39,35,94,63,44,40,11,18]
[null,"No cash rent",6087,562,315,104,426,129,506,116,290,70,487,126,1386,211,870,193,1223,273,363,121,221,91]
[]
[]
[null,"B25064. MEDIAN GROSS RENT (DOLLARS)"]
[null,"Universe:  RENTER-OCCUPIED HOUSING UNITS PAYING CASH RENT"]
[null,"Data Set: 2013-2017 American Community Survey 5-Year Estimates"]
[null,{"$f":"'RentalHousingCost-Prior5Yr'!D41","v":"Income in 2017 Inflation Adjusted Dollars"}]
[]
[null,null,"New Hampshire",null,"Belknap County",null,"Carroll County",null,"Cheshire County",null,"Coos County",null,"Grafton County",null,"Hillsborough County",null,"Merrimack County",null,"Rockingham County",null,"Strafford County",null,"Sullivan County"]
[null," ","Estimate","Margin of Error","Estimate","Margin of Error","Estimate","Margin of Error","Estimate","Margin of Error","Estimate","Margin of Error","Estimate","Margin of Error","Estimate","Margin of Error","Estimate","Margin of Error","Estimate","Margin of Error","Estimate","Margin of Error","Estimate","Margin of Error"]
[null,"Median gross rent",1052,9,933,36,920,42,934,27,711,32,904,30,1132,13,1007,20,1164,20,1018,30,893,34]
[]
[]
[]
[]
[null,"B25063. GROSS RENT"]
[null,"Universe:  RENTER-OCCUPIED HOUSING UNITS"]
[null,"Data Set: 2008-2012 American Community Survey 5-Year Estimates"]
[]
[null,null,"New Hampshire",null,"Belknap County",null,"Carroll County",null,"Cheshire County",null,"Coos County",null,"Grafton County",null,"Hillsborough County",null,"Merrimack County",null,"Rockingham County",null,"Strafford County",null,"Sullivan County"]
[null," ","Estimate","Margin of Error","Estimate","Margin of Error","Estimate","Margin of Error","Estimate","Margin of Error","Estimate","Margin of Error","Estimate","Margin of Error","Estimate","Margin of Error","Estimate","Margin of Error","Estimate","Margin of Error","Estimate","Margin of Error","Estimate","Margin of Error"]
[null,"Total:",141527,1994,5664,494,4010,466,8800,567,4194,320,10278,620,48610,1015,15320,627,24897,925,14890,679,4864,373]
[null,"With cash rent:",135132,2027,5193,494,3580,453,8248,568,3906,321,9680,620,47202,987,14706,628,23614,904,14421,663,4582,379]
[null,"Less than $100",408,179,15,24,0,85,0,85,0,85,0,85,75,60,154,105,44,49,50,58,70,58]
[null,"$100 to $149",377,100,0,85,3,5,33,31,32,31,37,40,102,54,70,49,37,40,51,38,12,19]
[null,"$150 to $199",2133,360,106,68,40,40,164,84,87,54,74,48,615,140,305,118,305,153,121,96,316,132]
[null,"$200 to $249",2570,331,157,100,122,81,157,86,172,70,184,86,769,186,298,152,310,107,308,131,93,52]
[null,"$250 to $299",2352,335,58,52,48,55,108,76,153,62,125,59,879,214,270,117,297,105,319,125,95,59]
[null,"$300 to $349",2365,331,115,108,46,32,92,54,198,90,232,88,886,189,202,86,330,116,156,76,108,80]
[null,"$350 to $399",1779,295,135,96,142,95,130,79,40,27,130,62,608,160,205,99,122,90,131,76,136,87]
[null,"$400 to $449",1912,325,201,103,73,59,75,41,65,28,161,123,455,136,201,101,281,125,277,127,123,64]
[null,"$450 to $499",1790,261,147,85,69,61,240,104,162,91,199,95,233,74,110,67,324,136,272,107,34,33]
[null,"$500 to $549",2651,367,116,63,6,7,121,58,300,88,269,106,790,212,355,150,279,119,311,151,104,78]
[null,"$550 to $599",2894,341,137,64,87,50,212,99,667,156,295,121,693,169,249,95,304,119,181,79,69,57]
[null,"$600 to $649",3741,524,278,133,161,92,238,105,382,125,374,142,852,207,562,208,335,123,308,130,251,113]
[null,"$650 to $699",4516,592,190,106,257,150,384,120,345,107,337,131,1247,275,405,162,622,236,408,152,321,125]
[null,"$700 to $749",5656,503,303,138,177,88,292,118,327,99,600,187,1648,270,695,210,632,194,649,193,333,150]
[null,"$750 to $799",7252,622,290,117,297,159,530,151,200,79,756,230,2204,315,975,244,917,250,833,183,250,126]
[null,"$800 to $899",15652,879,879,234,327,178,1224,282,381,103,1101,230,4897,534,1794,293,2254,346,2112,358,683,210]
[null,"$900 to $999",16861,1054,485,166,540,167,993,248,143,61,1142,280,5695,534,2128,370,3322,441,2022,331,391,117]
[null,"$1,000 to $1,249",30529,960,942,177,752,243,1833,282,154,77,1544,267,12608,703,3138,353,5641,521,3172,427,745,179]
[null,"$1,250 to $1,499",14224,952,392,134,300,120,636,154,62,29,1006,225,5463,469,1231,252,3585,522,1291,251,258,116]
[null,"$1,500 to $1,999",11524,712,247,112,124,93,606,168,36,24,812,245,4962,531,880,190,2563,295,1138,286,156,83]
[null,"$2,000 to $2,499",3946,443,0,85,9,14,180,89,0,85,302,115,1521,285,479,160,1110,233,311,129,34,35]
[null,"$2,500 to $2,999"]
[null,"$3,000 to $3,499"]
[null,"$3,500 or more"]
[null,"No cash rent",6395,538,471,159,430,134,552,138,288,64,598,149,1408,253,614,175,1283,273,469,141,282,106]
[]
[]
[]
[]
[]
[null,"B25064. MEDIAN GROSS RENT (DOLLARS)"]
[null,"Universe:  RENTER-OCCUPIED HOUSING UNITS PAYING CASH RENT"]
[null,"Data Set: 2008-2012 American Community Survey 5-Year Estimates"]
[null,{"$f":"'RentalHousingCost-Prior10Yr'!D76","v":"Income in 2012 Inflation Adjusted Dollars"}]
[]
[null,null,"New Hampshire",null,"Belknap County",null,"Carroll County",null,"Cheshire County",null,"Coos County",null,"Grafton County",null,"Hillsborough County",null,"Merrimack County",null,"Rockingham County",null,"Strafford County",null,"Sullivan County"]
[null," ","Estimate","Margin of Error","Estimate","Margin of Error","Estimate","Margin of Error","Estimate","Margin of Error","Estimate","Margin of Error","Estimate","Margin of Error","Estimate","Margin of Error","Estimate","Margin of Error","Estimate","Margin of Error","Estimate","Margin of Error","Estimate","Margin of Error"]
[null,"Median gross rent",956,7,840,26,880,62,912,29,610,22,897,28,1019,14,924,16,1048,21,936,24,795,37]

{"sheet":"ACS_Table_B25070","index":55,"n_rows":220,"n_cols":24,"rows_kept":220,"cut":false,"hidden":true,"merged":[]}
[null,"B25070. GROSS RENT AS A PERCENTAGE OF HOUSEHOLD INCOME IN THE PAST 12 MONTHS"]
[null,"Universe:  RENTER-OCCUPIED HOUSING UNITS"]
[null,"Data Set: 2018-2022 American Community Survey 5-Year Estimates"]
[]
[null,null,"New Hampshire",null,"Belknap County",null,"Carroll County",null,"Cheshire County",null,"Coos County",null,"Grafton County",null,"Hillsborough County",null,"Merrimack County",null,"Rockingham County",null,"Strafford County",null,"Sullivan County"]
[null," ","Estimate","Margin of Error","Estimate","Margin of Error","Estimate","Margin of Error","Estimate","Margin of Error","Estimate","Margin of Error","Estimate","Margin of Error","Estimate","Margin of Error","Estimate","Margin of Error","Estimate","Margin of Error","Estimate","Margin of Error","Estimate","Margin of Error"]
[null,"Total:",151171,2381,5945,621,3994,494,8885,508,3658,298,10308,707,54683,1409,15698,635,26985,1102,16766,770,4249,483]
[null,"Less than 10.0 percent",5236,686,135,88,181,112,350,141,99,49,369,108,2006,375,474,160,663,199,828,323,131,95]
[null,"10.0 to 14.9 percent",12013,991,380,174,465,225,700,183,287,96,740,218,4583,676,1399,269,1756,391,1351,367,352,147]
[null,"15.0 to 19.9 percent",19750,1346,743,241,528,180,1063,253,437,162,1349,231,6762,749,2148,310,3744,507,2551,406,425,135]
[null,"20.0 to 24.9 percent",19648,989,871,259,366,125,1234,242,451,133,1608,320,7038,636,2055,308,3680,460,1795,367,550,177]
[null,"25.0 to 29.9 percent",19573,1112,766,236,287,118,1259,220,513,113,1082,283,7122,623,2349,353,3711,475,2104,451,380,166]
[null,"30.0 to 34.9 percent",14188,954,420,169,250,127,676,182,287,112,861,211,6071,689,1238,248,2585,438,1406,333,394,162]
[null,"35.0 to 39.9 percent",9934,806,306,147,268,127,550,159,248,122,639,183,3725,533,960,283,1742,395,1110,364,386,202]
[null,"40.0 to 49.9 percent",12790,1049,557,235,371,176,725,192,321,149,734,202,4556,550,1526,301,2161,362,1506,346,333,174]
[null,"50.0 percent or more",30176,1332,1102,240,769,251,1799,358,681,165,2081,346,11103,806,2851,414,5329,743,3403,505,1058,270]
[null,"Not computed",7863,775,665,237,509,159,529,140,334,86,845,181,1717,343,698,188,1614,371,712,226,240,112]
[]
[]
[]
[]
[]
[]
[]
[]
[]
[]
[]
[]
[]
[]
[]
[]
[]
[null,"Calculated B25070. GROSS RENT AS A PERCENTAGE OF HOUSEHOLD INCOME IN THE PAST 12 MONTHS"]
[null,"Universe:  RENTER-OCCUPIED HOUSING UNITS"]
[null,"Data Set: 2018-2022 American Community Survey 5-Year Estimates"]
[]
[null,null,"New Hampshire",null,"Belknap County",null,"Carroll County",null,"Cheshire County",null,"Coos County",null,"Grafton County",null,"Hillsborough County",null,"Merrimack County",null,"Rockingham County",null,"Strafford County",null,"Sullivan County"]
[null," ","Estimate","Margin of Error","Estimate","Margin of Error","Estimate","Margin of Error","Estimate","Margin of Error","Estimate","Margin of Error","Estimate","Margin of Error","Estimate","Margin of Error","Estimate","Margin of Error","Estimate","Margin of Error","Estimate","Margin of Error","Estimate","Margin of Error"]
[null,{"$f":"B7","v":"Total:"},{"$f":"C7","v":151171},{"$f":"D7","v":2381},{"$f":"E7","v":5945},621,3994,494,8885,508,3658,298,10308,707,54683,1409,15698,635,26985,1102,16766,770,4249,483]
[null,"Less than 20% of HH Income",{"$f":"C8+C9+C10","v":36999},{"$f":"SQRT((D8^2)+(D9^2)+(D10^2))","v":1806.7631278061881},{"$f":"E8+E9+E10","v":1258},{"$f":"SQRT((F8^2)+(F9^2)+(F10^2))","v":310.00161289902991},{"$f":"G8+G9+G10","v":1174},{"$f":"SQRT((H8^2)+(H9^2)+(H10^2))","v":309.142362027594},{"$f":"I8+I9+I10","v":2113},{"$f":"SQRT((J8^2)+(J9^2)+(J10^2))","v":342.60618791843211},{"$f":"K8+K9+K10","v":823},{"$f":"SQRT((L8^2)+(L9^2)+(L10^2))","v":194.57903278616635},{"$f":"M8+M9+M10","v":2458},{"$f":"SQRT((N8^2)+(N9^2)+(N10^2))","v":335.48323356018852},{"$f":"O8+O9+O10","v":13351},{"$f":"SQRT((P8^2)+(P9^2)+(P10^2))","v":1076.38376056126},{"$f":"Q8+Q9+Q10","v":4021},{"$f":"SQRT((R8^2)+(R9^2)+(R10^2))","v":440.52355215130098},{"$f":"S8+S9+S10","v":6163},{"$f":"SQRT((T8^2)+(T9^2)+(T10^2))","v":670.47073015904277},{"$f":"U8+U9+U10","v":4730},{"$f":"SQRT((V8^2)+(V9^2)+(V10^2))","v":635.4950825930913},{"$f":"W8+W9+W10","v":908},{"$f":"SQRT((X8^2)+(X9^2)+(X10^2))","v":221.0407202304589}]
[null," 20% to 24.9% of HH Income",{"$f":"C11","v":19648},{"$f":"D11","v":989},{"$f":"E11","v":871},259,366,125,1234,242,451,133,1608,320,7038,636,2055,308,3680,460,1795,367,550,177]
[null," 25% to 29.9% of HH Income",{"$f":"C12","v":19573},{"$f":"D12","v":1112},766,236,287,118,1259,220,513,113,1082,283,7122,623,2349,353,3711,475,2104,451,380,166]
[null," Less Than 30% of HH Income",{"$f":"C12+C11+C10+C9+C8","v":76220},{"$f":"SQRT((D12^2)+(D11^2)+(D10^2)+(D9^2)+(D8^2))","v":2340.738772268277},{"$f":"E12+E11+E10+E9+E8","v":2895},{"$f":"SQRT((F12^2)+(F11^2)+(F10^2)+(F9^2)+(F8^2))","v":467.84399109104737},{"$f":"G12+G11+G10+G9+G8","v":1827},{"$f":"SQRT((H12^2)+(H11^2)+(H10^2)+(H9^2)+(H8^2))","v":353.72022842919233},{"$f":"I12+I11+I10+I9+I8","v":4606},{"$f":"SQRT((J12^2)+(J11^2)+(J10^2)+(J9^2)+(J8^2))","v":473.64860392489283},{"$f":"K12+K11+K10+K9+K8","v":1787},{"$f":"SQRT((L12^2)+(L11^2)+(L10^2)+(L9^2)+(L8^2))","v":261.37903511949844},{"$f":"M12+M11+M10+M9+M8","v":5148},{"$f":"SQRT((N12^2)+(N11^2)+(N10^2)+(N9^2)+(N8^2))","v":543.17400526902975},{"$f":"O12+O11+O10+O9+O8","v":27511},{"$f":"SQRT((P12^2)+(P11^2)+(P10^2)+(P9^2)+(P8^2))","v":1396.863271762845},{"$f":"Q12+Q11+Q10+Q9+Q8","v":8425},{"$f":"SQRT((R12^2)+(R11^2)+(R10^2)+(R9^2)+(R8^2))","v":643.0660930262145},{"$f":"S12+S11+S10+S9+S8","v":13554},{"$f":"SQRT((T12^2)+(T11^2)+(T10^2)+(T9^2)+(T8^2))","v":941.67722707942767},{"$f":"U12+U11+U10+U9+U8","v":8629},{"$f":"SQRT((V12^2)+(V11^2)+(V10^2)+(V9^2)+(V8^2))","v":861.36171263877293},{"$f":"W12+W11+W10+W9+W8","v":1838},{"$f":"SQRT((X12^2)+(X11^2)+(X10^2)+(X9^2)+(X8^2))","v":328.24381182285828}]
[null," 30% or More of HH Income",{"$f":"C13+C14+C15+C16","v":67088},{"$f":"SQRT((D13^2)+(D14^2)+(D15^2)+(D16^2))","v":2105.7960490037967},{"$f":"E13+E14+E15+E16","v":2385},{"$f":"SQRT((F13^2)+(F14^2)+(F15^2)+(F16^2))","v":403.72639249868223},{"$f":"G13+G14+G15+G16","v":1658},{"$f":"SQRT((H13^2)+(H14^2)+(H15^2)+(H16^2))","v":355.29565153545013},{"$f":"I13+I14+I15+I16","v":3750},{"$f":"SQRT((J13^2)+(J14^2)+(J15^2)+(J16^2))","v":472.68700003279127},{"$f":"K13+K14+K15+K16","v":1537},{"$f":"SQRT((L13^2)+(L14^2)+(L15^2)+(L16^2))","v":277.22553994897368},{"$f":"M13+M14+M15+M16","v":4315},{"$f":"SQRT((N13^2)+(N14^2)+(N15^2)+(N16^2))","v":488.39533167302079},{"$f":"O13+O14+O15+O16","v":25455},{"$f":"SQRT((P13^2)+(P14^2)+(P15^2)+(P16^2))","v":1308.0313451901679},{"$f":"Q13+Q14+Q15+Q16","v":6575},{"$f":"SQRT((R13^2)+(R14^2)+(R15^2)+(R16^2))","v":635.28733656511679},{"$f":"S13+S14+S15+S16","v":11817},{"$f":"SQRT((T13^2)+(T14^2)+(T15^2)+(T16^2))","v":1015.3629892801885},{"$f":"U13+U14+U15+U16","v":7425},{"$f":"SQRT((V13^2)+(V14^2)+(V15^2)+(V16^2))","v":786.2098956385629},{"$f":"W13+W14+W15+W16","v":2171},{"$f":"SQRT((X13^2)+(X14^2)+(X15^2)+(X16^2))","v":412.58211303933183}]
[null," 30% to 34.9% of HH Income",{"$f":"C13","v":14188},{"$f":"D13","v":954},{"$f":"E13","v":420},169,250,127,676,182,287,112,861,211,6071,689,1238,248,2585,438,1406,333,394,162]
[null," Less Than 35% of HH Income",{"$f":"C13+C12+C11+C10+C9+C8","v":90408},{"$f":"SQRT((D13^2)+(D12^2)+(D11^2)+(D10^2)+(D9^2)+(D8^2))","v":2527.6815463978051},{"$f":"E13+E12+E11+E10+E9+E8","v":3315},{"$f":"SQRT((F13^2)+(F12^2)+(F11^2)+(F10^2)+(F9^2)+(F8^2))","v":497.43240746859266},{"$f":"G13+G12+G11+G10+G9+G8","v":2077},{"$f":"SQRT((H13^2)+(H12^2)+(H11^2)+(H10^2)+(H9^2)+(H8^2))","v":375.82841829749918},{"$f":"I13+I12+I11+I10+I9+I8","v":5282},{"$f":"SQRT((J13^2)+(J12^2)+(J11^2)+(J10^2)+(J9^2)+(J8^2))","v":507.41206134659433},{"$f":"K13+K12+K11+K10+K9+K8","v":2074},{"$f":"SQRT((L13^2)+(L12^2)+(L11^2)+(L10^2)+(L9^2)+(L8^2))","v":284.3642030917394},{"$f":"M13+M12+M11+M10+M9+M8","v":6009},{"$f":"SQRT((N13^2)+(N12^2)+(N11^2)+(N10^2)+(N9^2)+(N8^2))","v":582.71691240258338},{"$f":"O13+O12+O11+O10+O9+O8","v":33582},{"$f":"SQRT((P13^2)+(P12^2)+(P11^2)+(P10^2)+(P9^2)+(P8^2))","v":1557.5455049532261},{"$f":"Q13+Q12+Q11+Q10+Q9+Q8","v":9663},{"$f":"SQRT((R13^2)+(R12^2)+(R11^2)+(R10^2)+(R9^2)+(R8^2))","v":689.23000515067542},{"$f":"S13+S12+S11+S10+S9+S8","v":16139},{"$f":"SQRT((T13^2)+(T12^2)+(T11^2)+(T10^2)+(T9^2)+(T8^2))","v":1038.5566907973778},{"$f":"U13+U12+U11+U10+U9+U8","v":10035},{"$f":"SQRT((V13^2)+(V12^2)+(V11^2)+(V10^2)+(V9^2)+(V8^2))","v":923.48957763474516},{"$f":"W13+W12+W11+W10+W9+W8","v":2232},{"$f":"SQRT((X13^2)+(X12^2)+(X11^2)+(X10^2)+(X9^2)+(X8^2))","v":366.04371323654777}]
[null," 35% or More of HH Income",{"$f":"C14+C15+C16","v":52900},{"$f":"SQRT((D14^2)+(D15^2)+(D16^2))","v":1877.3015208005345},{"$f":"E14+E15+E16","v":1965},{"$f":"SQRT((F14^2)+(F15^2)+(F16^2))","v":366.65242396580442},{"$f":"G14+G15+G16","v":1408},{"$f":"SQRT((H14^2)+(H15^2)+(H16^2))","v":331.82224156918716},{"$f":"I14+I15+I16","v":3074},{"$f":"SQRT((J14^2)+(J15^2)+(J16^2))","v":436.24419766914951},{"$f":"K14+K15+K16","v":1250},{"$f":"SQRT((L14^2)+(L15^2)+(L16^2))","v":253.59416397070339},{"$f":"M14+M15+M16","v":3454},{"$f":"SQRT((N14^2)+(N15^2)+(N16^2))","v":440.46452751612134},{"$f":"O14+O15+O16","v":19384},{"$f":"SQRT((P14^2)+(P15^2)+(P16^2))","v":1111.8565554962565},{"$f":"Q14+Q15+Q16","v":5337},{"$f":"SQRT((R14^2)+(R15^2)+(R16^2))","v":584.8811845152826},{"$f":"S14+S15+S16","v":9232},{"$f":"SQRT((T14^2)+(T15^2)+(T16^2))","v":916.03384216960023},{"$f":"U14+U15+U16","v":6019},{"$f":"SQRT((V14^2)+(V15^2)+(V16^2))","v":712.20572870484546},{"$f":"W14+W15+W16","v":1777},{"$f":"SQRT((X14^2)+(X15^2)+(X16^2))","v":379.44696599129634}]
[null," 50% or More of HH Income",{"$f":"C16","v":30176},{"$f":"D16","v":1332},{"$f":"E16","v":1102},240,769,251,1799,358,681,165,2081,346,11103,806,2851,414,5329,743,3403,505,1058,270]
[null,"Not computed",{"$f":"C17","v":7863},{"$f":"D17","v":775},665,237,509,159,529,140,334,86,845,181,1717,343,698,188,1614,371,712,226,240,112]
[]
[]
[]
[]
[]
[]
[]
[]
[]
[]
[]
[]
[]
[]
[]
[]
[]
[]
[]
[]
[]
[]
[]
[]
[]
[]
[]
[]
[]
[]
[]
[]
[]
[]
[]
[]
[]
[]
[]
[]
[]
[]
[]
[]
[]
[]
[]
[]
[]
[]
[]
[]
[null,"Calculated B25070. GROSS RENT AS A PERCENTAGE OF HOUSEHOLD INCOME IN THE PAST 12 MONTHS"]
[null,"Universe:  RENTER-OCCUPIED HOUSING UNITS"]
[null,"Data Set: 2013-2017 American Community Survey 5-Year Estimates"]
[]
[null,null,"New Hampshire",null,"Belknap County",null,"Carroll County",null,"Cheshire County",null,"Coos County",null,"Grafton County",null,"Hillsborough County",null,"Merrimack County",null,"Rockingham County",null,"Strafford County",null,"Sullivan County"]
[null," ","Estimate","Margin of Error","Estimate","Margin of Error","Estimate","Margin of Error","Estimate","Margin of Error","Estimate","Margin of Error","Estimate","Margin of Error","Estimate","Margin of Error","Estimate","Margin of Error","Estimate","Margin of Error","Estimate","Margin of Error","Estimate","Margin of Error"]
[null,"Total:",154406,2224,5960,463,4333,508,9076,507,3997,319,11054,551,54001,1074,16631,512,27930,1001,16698,721,4726,347]
[null,"Less than 20% of HH Income",4317,453,185,108,132,74,196,89,191,76,485,147,1350,232,445,130,730,212,380,152,223,119]
[null," 20% to 24.9% of HH Income",11953,845,399,164,312,148,431,144,316,96,967,218,4423,483,1136,231,2339,289,1210,293,420,132]
[null," 25% to 29.9% of HH Income",21000,1178,832,223,408,162,1154,270,386,99,1418,282,7536,594,2310,327,3952,470,2417,426,587,176]
[null," Less Than 30% of HH Income",21305,902,762,187,574,176,1114,198,555,141,1242,264,7673,596,2336,313,4109,468,2331,324,609,174]
[null," 30% or More of HH Income",19186,930,773,210,513,178,1408,258,592,135,1390,258,6547,484,2022,290,3237,416,2248,416,456,103]
[null," 30% to 34.9% of HH Income",13884,808,444,138,439,157,816,166,248,81,1018,196,4980,520,1431,217,2670,453,1236,254,602,191]
[null," Less Than 35% of HH Income",9178,761,375,152,259,128,659,181,237,86,772,214,3250,406,800,176,1516,294,948,262,362,130]
[null," 35% or More of HH Income",12928,798,441,136,224,130,642,202,329,115,969,226,4485,464,1504,266,2623,434,1486,288,225,93]
[null," 50% or More of HH Income",32804,1184,1351,252,1007,236,2090,331,803,156,2071,330,11699,756,3627,366,5382,511,3880,508,894,210]
[null,"Not computed",7851,695,398,127,465,150,566,123,340,82,722,183,2058,281,1020,222,1372,276,562,182,348,136]
[]
[]
[]
[]
[null,"Calculated B25070. GROSS RENT AS A PERCENTAGE OF HOUSEHOLD INCOME IN THE PAST 12 MONTHS"]
[null,"Universe:  RENTER-OCCUPIED HOUSING UNITS"]
[null,"Data Set: 2008-2012 American Community Survey 5-Year Estimates"]
[]
[null,null,"New Hampshire",null,"Belknap County",null,"Carroll County",null,"Cheshire County",null,"Coos County",null,"Grafton County",null,"Hillsborough County",null,"Merrimack County",null,"Rockingham County",null,"Strafford County",null,"Sullivan County"]
[null," ","Estimate","Margin of Error","Estimate","Margin of Error","Estimate","Margin of Error","Estimate","Margin of Error","Estimate","Margin of Error","Estimate","Margin of Error","Estimate","Margin of Error","Estimate","Margin of Error","Estimate","Margin of Error","Estimate","Margin of Error","Estimate","Margin of Error"]
[null,"Total:",141527,1994,5664,494,4010,466,8800,567,4194,320,10278,620,48610,1015,15320,627,24897,925,14890,679,4864,373]
[null,"Less than 20% of HH Income",4190,503,160,80,37,28,323,130,146,65,366,143,1313,260,605,176,501,187,555,170,184,87]
[null," 20% to 24.9% of HH Income",10197,742,531,177,214,92,454,147,252,72,833,188,3928,513,992,196,1732,304,880,235,381,137]
[null," 25% to 29.9% of HH Income",17708,1036,753,201,400,157,1048,247,473,144,1524,270,6061,599,1921,245,3158,425,1668,307,702,180]
[null," Less Than 30% of HH Income",18867,922,639,184,489,176,1045,208,526,116,1263,241,6140,542,2297,360,3983,446,1877,330,608,176]
[null," 30% or More of HH Income",17590,944,902,254,454,188,1081,264,576,125,1178,222,6422,570,1584,230,3012,391,1758,288,623,182]
[null," 30% to 34.9% of HH Income",13589,854,357,124,338,154,893,197,411,120,936,180,4836,507,1533,292,2515,347,1232,241,538,174]
[null," Less Than 35% of HH Income",8875,693,408,112,243,138,453,131,252,100,583,198,3063,346,990,242,1496,314,1034,256,353,149]
[null," 35% or More of HH Income",12387,882,340,154,281,142,1096,282,304,114,987,220,4208,449,1477,281,1955,343,1392,287,347,136]
[null," 50% or More of HH Income",29832,1075,1028,210,1087,280,1821,319,923,194,1668,299,10467,686,3148,369,5060,557,3838,421,792,190]
[null,"Not computed",8292,628,546,156,467,137,586,143,331,71,940,193,2172,329,773,187,1485,300,656,188,336,119]
[]
[]
[]
[]
[]
[]
[]
[]
[]
[]
[]
[]
[]
[]
[]
[]
[]
[]
[]
[]
[]
[]
[]
[]
[]
[]
[]
[]
[]
[]
[]
[]
[]
[]
[]
[]
[]
[]
[]
[]
[]
[]
[]
[]
[]
[]
[]
[]
[]
[]
[]
[]
[null,"Calculated B25070. GROSS RENT AS A PERCENTAGE OF HOUSEHOLD INCOME IN THE PAST 12 MONTHS"]
[null,"Universe:  RENTER-OCCUPIED HOUSING UNITS"]
[null,"Data Set: 2005-2009 American Community Survey 5-Year Estimates"]
[]
[null,null,"New Hampshire",null,"Belknap County",null,"Carroll County",null,"Cheshire County",null,"Coos County",null,"Grafton County",null,"Hillsborough County",null,"Merrimack County",null,"Rockingham County",null,"Strafford County",null,"Sullivan County"]
[null," ","Estimate","Margin of Error","Estimate","Margin of Error","Estimate","Margin of Error","Estimate","Margin of Error","Estimate","Margin of Error","Estimate","Margin of Error","Estimate","Margin of Error","Estimate","Margin of Error","Estimate","Margin of Error","Estimate","Margin of Error","Estimate","Margin of Error"]
[null,"Total:",135541,1742,5444,444,3662,410,7730,490,4026,340,9485,519,46198,1066,15033,591,23944,840,14971,669,5048,338]
[null,"Less than 20% of HH Income",32690,1451.1078526422493,1622,322.36935338211043,836,225.94247055390008,1887,286.83270385365751,1009,218.68927728629038,2579,340.41298447620943,11138,799.42854590013235,3449,447.55781749400825,5636,593.65646631701065,3484,446.34515792153496,1050,209.64970784620712]
[null," 20% to 24.9% of HH Income",18699,909,718,216,450,157,1073,168,456,119,1112,201,6251,642,2357,366,3641,440,1779,325,862,209]
[null," 25% to 29.9% of HH Income",16343,898,598,161,307,111,1015,212,624,127,1310,250,5937,493,1777,265,2508,380,1629,311,638,173]
[null," Less Than 30% of HH Income",67732,1933.4939875779289,2938,420.11784061141702,1593,296.68164756182676,3975,394.26006645360371,2089,279.49060807118366,5001,467.74138153471091,23326,1137.6726242641157,7583,635.99449683153705,11785,830.91997207914073,6892,633.69551047802133,2550,342.87461265016401]
[null," 30% or More of HH Income",59953,1551.7954117730856,2073,316.95741038820972,1658,302.62187627466722,3132,371.63019253015489,1555,245.03877244224026,3800,453.43356735027902,20841,992.73662166760016,6686,558.86492106769413,10796,731.54015610901365,7264,685.59390312341611,2148,324.34703636691364]
[null," 30% to 34.9% of HH Income",12647,754,297,100,240,108,651,178,373,113,916,225,4545,489,1500,253,2140,322,1422,275,563,160]
[null," Less Than 35% of HH Income",80379,2075.3108200941851,3235,431.85529984012004,1833,315.72773080614888,4626,432.5794724671988,2462,301.46973314082459,5917,519.04431410044367,27871,1238.3133690629363,9083,684.46913736121076,13925,891.12962020123655,8314,690.79302254727497,3113,378.36886764108908]
[null," 35% or More of HH Income",47306,1356.3012202309633,1776,300.76901436151962,1418,282.69418105083099,2481,326.22844756397319,1182,217.428149051589,2884,393.67118258770222,16296,863.94733635795183,5186,498.3181714527376,8656,656.86147702540757,5842,628.02388489610803,1585,282.1364917907643]
[null," 50% or More of HH Income",27289,994,1004,227,974,234,1354,234,751,175,1493,262,9361,639,2914,359,4860,471,3726,477,852,185]
[null,"Not computed",7856,617,433,134,411,136,623,161,382,124,684,152,2031,304,764,181,1363,219,815,203,350,100]
[null,"Data Set: 2005-2009 American Community Survey 5-Year Estimates"]
[]
[null,null,"New Hampshire",null,"Belknap County",null,"Carroll County",null,"Cheshire County",null,"Coos County",null,"Grafton County",null,"Hillsborough County",null,"Merrimack County",null,"Rockingham County",null,"Strafford County",null,"Sullivan County"]
[null," ","Estimate","Margin of Error","Estimate","Margin of Error","Estimate","Margin of Error","Estimate","Margin of Error","Estimate","Margin of Error","Estimate","Margin of Error","Estimate","Margin of Error","Estimate","Margin of Error","Estimate","Margin of Error","Estimate","Margin of Error","Estimate","Margin of Error"]
[null,"Total:",{"$f":"C164","v":0},0,0,0,0,0,0,0,0,0,0,0,0,0,0,0,0,0,0,0,0,0]
[null,"Less than 30.0 percent",{"$f":"C202+C196+C190+C184+C178+C172+C166","v":18699},{"$f":"SQRT((D202^2)+(D196^2)+(D190^2)+(D184^2)+(D178^2)+(D172^2)+(D166^2))","v":909},{"$f":"E202+E196+E190+E184+E178+E172+E166","v":718},{"$f":"SQRT((F202^2)+(F196^2)+(F190^2)+(F184^2)+(F178^2)+(F172^2)+(F166^2))","v":216},{"$f":"G202+G196+G190+G184+G178+G172+G166","v":450},{"$f":"SQRT((H202^2)+(H196^2)+(H190^2)+(H184^2)+(H178^2)+(H172^2)+(H166^2))","v":157},{"$f":"I202+I196+I190+I184+I178+I172+I166","v":1073},{"$f":"SQRT((J202^2)+(J196^2)+(J190^2)+(J184^2)+(J178^2)+(J172^2)+(J166^2))","v":168},{"$f":"K202+K196+K190+K184+K178+K172+K166","v":456},{"$f":"SQRT((L202^2)+(L196^2)+(L190^2)+(L184^2)+(L178^2)+(L172^2)+(L166^2))","v":119},{"$f":"M202+M196+M190+M184+M178+M172+M166","v":1112},{"$f":"SQRT((N202^2)+(N196^2)+(N190^2)+(N184^2)+(N178^2)+(N172^2)+(N166^2))","v":201},{"$f":"O202+O196+O190+O184+O178+O172+O166","v":6251},{"$f":"SQRT((P202^2)+(P196^2)+(P190^2)+(P184^2)+(P178^2)+(P172^2)+(P166^2))","v":642},{"$f":"Q202+Q196+Q190+Q184+Q178+Q172+Q166","v":2357},{"$f":"SQRT((R202^2)+(R196^2)+(R190^2)+(R184^2)+(R178^2)+(R172^2)+(R166^2))","v":366},{"$f":"S202+S196+S190+S184+S178+S172+S166","v":3641},{"$f":"SQRT((T202^2)+(T196^2)+(T190^2)+(T184^2)+(T178^2)+(T172^2)+(T166^2))","v":440},{"$f":"U202+U196+U190+U184+U178+U172+U166","v":1779},{"$f":"SQRT((V202^2)+(V196^2)+(V190^2)+(V184^2)+(V178^2)+(V172^2)+(V166^2))","v":325},{"$f":"W202+W196+W190+W184+W178+W172+W166","v":862},{"$f":"SQRT((X202^2)+(X196^2)+(X190^2)+(X184^2)+(X178^2)+(X172^2)+(X166^2))","v":209}]
[null,"More than 30.0 percent",{"$f":"C203+C197+C191+C185+C179+C173+C167","v":16343},{"$f":"SQRT((D203^2)+(D197^2)+(D191^2)+(D185^2)+(D179^2)+(D173^2)+(D167^2))","v":898},{"$f":"E203+E197+E191+E185+E179+E173+E167","v":598},{"$f":"SQRT((F203^2)+(F197^2)+(F191^2)+(F185^2)+(F179^2)+(F173^2)+(F167^2))","v":161},{"$f":"G203+G197+G191+G185+G179+G173+G167","v":307},{"$f":"SQRT((H203^2)+(H197^2)+(H191^2)+(H185^2)+(H179^2)+(H173^2)+(H167^2))","v":111},{"$f":"I203+I197+I191+I185+I179+I173+I167","v":1015},{"$f":"SQRT((J203^2)+(J197^2)+(J191^2)+(J185^2)+(J179^2)+(J173^2)+(J167^2))","v":212},{"$f":"K203+K197+K191+K185+K179+K173+K167","v":624},{"$f":"SQRT((L203^2)+(L197^2)+(L191^2)+(L185^2)+(L179^2)+(L173^2)+(L167^2))","v":127},{"$f":"M203+M197+M191+M185+M179+M173+M167","v":1310},{"$f":"SQRT((N203^2)+(N197^2)+(N191^2)+(N185^2)+(N179^2)+(N173^2)+(N167^2))","v":250},{"$f":"O203+O197+O191+O185+O179+O173+O167","v":5937},{"$f":"SQRT((P203^2)+(P197^2)+(P191^2)+(P185^2)+(P179^2)+(P173^2)+(P167^2))","v":493},{"$f":"Q203+Q197+Q191+Q185+Q179+Q173+Q167","v":1777},{"$f":"SQRT((R203^2)+(R197^2)+(R191^2)+(R185^2)+(R179^2)+(R173^2)+(R167^2))","v":265},{"$f":"S203+S197+S191+S185+S179+S173+S167","v":2508},{"$f":"SQRT((T203^2)+(T197^2)+(T191^2)+(T185^2)+(T179^2)+(T173^2)+(T167^2))","v":380},{"$f":"U203+U197+U191+U185+U179+U173+U167","v":1629},{"$f":"SQRT((V203^2)+(V197^2)+(V191^2)+(V185^2)+(V179^2)+(V173^2)+(V167^2))","v":311},{"$f":"W203+W197+W191+W185+W179+W173+W167","v":638},{"$f":"SQRT((X203^2)+(X197^2)+(X191^2)+(X185^2)+(X179^2)+(X173^2)+(X167^2))","v":173}]
[null,"Less Than 35% of HH Income",{"$f":"C204+C198+C192+C186+C180+C174+C168","v":{"$error":"#VALUE!"}},{"$f":"SQRT((D204^2)+(D198^2)+(D192^2)+(D186^2)+(D180^2)+(D174^2)+(D168^2))","v":1933.4939875779289},{"$f":"E204+E198+E192+E186+E180+E174+E168","v":{"$error":"#VALUE!"}},{"$f":"SQRT((F204^2)+(F198^2)+(F192^2)+(F186^2)+(F180^2)+(F174^2)+(F168^2))","v":420.11784061141702},{"$f":"G204+G198+G192+G186+G180+G174+G168","v":{"$error":"#VALUE!"}},{"$f":"SQRT((H204^2)+(H198^2)+(H192^2)+(H186^2)+(H180^2)+(H174^2)+(H168^2))","v":296.68164756182676},{"$f":"I204+I198+I192+I186+I180+I174+I168","v":{"$error":"#VALUE!"}},{"$f":"SQRT((J204^2)+(J198^2)+(J192^2)+(J186^2)+(J180^2)+(J174^2)+(J168^2))","v":394.26006645360371},{"$f":"K204+K198+K192+K186+K180+K174+K168","v":{"$error":"#VALUE!"}},{"$f":"SQRT((L204^2)+(L198^2)+(L192^2)+(L186^2)+(L180^2)+(L174^2)+(L168^2))","v":279.49060807118366},{"$f":"M204+M198+M192+M186+M180+M174+M168","v":{"$error":"#VALUE!"}},{"$f":"SQRT((N204^2)+(N198^2)+(N192^2)+(N186^2)+(N180^2)+(N174^2)+(N168^2))","v":467.74138153471091},{"$f":"O204+O198+O192+O186+O180+O174+O168","v":{"$error":"#VALUE!"}},{"$f":"SQRT((P204^2)+(P198^2)+(P192^2)+(P186^2)+(P180^2)+(P174^2)+(P168^2))","v":1137.6726242641157},{"$f":"Q204+Q198+Q192+Q186+Q180+Q174+Q168","v":{"$error":"#VALUE!"}},{"$f":"SQRT((R204^2)+(R198^2)+(R192^2)+(R186^2)+(R180^2)+(R174^2)+(R168^2))","v":635.99449683153705},{"$f":"S204+S198+S192+S186+S180+S174+S168","v":{"$error":"#VALUE!"}},{"$f":"SQRT((T204^2)+(T198^2)+(T192^2)+(T186^2)+(T180^2)+(T174^2)+(T168^2))","v":830.91997207914073},{"$f":"U204+U198+U192+U186+U180+U174+U168","v":{"$error":"#VALUE!"}},{"$f":"SQRT((V204^2)+(V198^2)+(V192^2)+(V186^2)+(V180^2)+(V174^2)+(V168^2))","v":633.69551047802133},{"$f":"W204+W198+W192+W186+W180+W174+W168","v":{"$error":"#VALUE!"}},{"$f":"SQRT((X204^2)+(X198^2)+(X192^2)+(X186^2)+(X180^2)+(X174^2)+(X168^2))","v":342.87461265016401}]
[null,"35.0 percent or more",{"$f":"C205+C199+C193+C187+C181+C175+C169","v":{"$error":"#VALUE!"}},{"$f":"SQRT((D205^2)+(D199^2)+(D193^2)+(D187^2)+(D181^2)+(D175^2)+(D169^2))","v":{"$error":"#VALUE!"}},{"$f":"E205+E199+E193+E187+E181+E175+E169","v":{"$error":"#VALUE!"}},{"$f":"SQRT((F205^2)+(F199^2)+(F193^2)+(F187^2)+(F181^2)+(F175^2)+(F169^2))","v":{"$error":"#VALUE!"}},{"$f":"G205+G199+G193+G187+G181+G175+G169","v":{"$error":"#VALUE!"}},{"$f":"SQRT((H205^2)+(H199^2)+(H193^2)+(H187^2)+(H181^2)+(H175^2)+(H169^2))","v":{"$error":"#VALUE!"}},{"$f":"I205+I199+I193+I187+I181+I175+I169","v":{"$error":"#VALUE!"}},{"$f":"SQRT((J205^2)+(J199^2)+(J193^2)+(J187^2)+(J181^2)+(J175^2)+(J169^2))","v":{"$error":"#VALUE!"}},{"$f":"K205+K199+K193+K187+K181+K175+K169","v":{"$error":"#VALUE!"}},{"$f":"SQRT((L205^2)+(L199^2)+(L193^2)+(L187^2)+(L181^2)+(L175^2)+(L169^2))","v":{"$error":"#VALUE!"}},{"$f":"M205+M199+M193+M187+M181+M175+M169","v":{"$error":"#VALUE!"}},{"$f":"SQRT((N205^2)+(N199^2)+(N193^2)+(N187^2)+(N181^2)+(N175^2)+(N169^2))","v":{"$error":"#VALUE!"}},{"$f":"O205+O199+O193+O187+O181+O175+O169","v":{"$error":"#VALUE!"}},{"$f":"SQRT((P205^2)+(P199^2)+(P193^2)+(P187^2)+(P181^2)+(P175^2)+(P169^2))","v":{"$error":"#VALUE!"}},{"$f":"Q205+Q199+Q193+Q187+Q181+Q175+Q169","v":{"$error":"#VALUE!"}},{"$f":"SQRT((R205^2)+(R199^2)+(R193^2)+(R187^2)+(R181^2)+(R175^2)+(R169^2))","v":{"$error":"#VALUE!"}},{"$f":"S205+S199+S193+S187+S181+S175+S169","v":{"$error":"#VALUE!"}},{"$f":"SQRT((T205^2)+(T199^2)+(T193^2)+(T187^2)+(T181^2)+(T175^2)+(T169^2))","v":{"$error":"#VALUE!"}},{"$f":"U205+U199+U193+U187+U181+U175+U169","v":{"$error":"#VALUE!"}},{"$f":"SQRT((V205^2)+(V199^2)+(V193^2)+(V187^2)+(V181^2)+(V175^2)+(V169^2))","v":{"$error":"#VALUE!"}},{"$f":"W205+W199+W193+W187+W181+W175+W169","v":{"$error":"#VALUE!"}},{"$f":"SQRT((X205^2)+(X199^2)+(X193^2)+(X187^2)+(X181^2)+(X175^2)+(X169^2))","v":{"$error":"#VALUE!"}}]
[null,"Not Computed",{"$f":"C206+C200+C194+C188+C182+C176+C170","v":148188},{"$f":"SQRT((D206^2)+(D200^2)+(D194^2)+(D188^2)+(D182^2)+(D176^2)+(D170^2))","v":1898.178073838174},{"$f":"E206+E200+E194+E188+E182+E176+E170","v":5741},{"$f":"SQRT((F206^2)+(F200^2)+(F194^2)+(F188^2)+(F182^2)+(F176^2)+(F170^2))","v":455.12196167620829},{"$f":"G206+G200+G194+G188+G182+G176+G170","v":3902},{"$f":"SQRT((H206^2)+(H200^2)+(H194^2)+(H188^2)+(H182^2)+(H176^2)+(H170^2))","v":423.98584882045299},{"$f":"I206+I200+I194+I188+I182+I176+I170","v":8381},{"$f":"SQRT((J206^2)+(J200^2)+(J194^2)+(J188^2)+(J182^2)+(J176^2)+(J170^2))","v":521.32907074131208},{"$f":"K206+K200+K194+K188+K182+K176+K170","v":4399},{"$f":"SQRT((L206^2)+(L200^2)+(L194^2)+(L188^2)+(L182^2)+(L176^2)+(L170^2))","v":358.28619845034501},{"$f":"M206+M200+M194+M188+M182+M176+M170","v":10401},{"$f":"SQRT((N206^2)+(N200^2)+(N194^2)+(N188^2)+(N182^2)+(N176^2)+(N170^2))","v":565.67305044521959},{"$f":"O206+O200+O194+O188+O182+O176+O170","v":50743},{"$f":"SQRT((P206^2)+(P200^2)+(P194^2)+(P188^2)+(P182^2)+(P176^2)+(P170^2))","v":1172.8073158025575},{"$f":"Q206+Q200+Q194+Q188+Q182+Q176+Q170","v":16533},{"$f":"SQRT((R206^2)+(R200^2)+(R194^2)+(R188^2)+(R182^2)+(R176^2)+(R170^2))","v":642.87634891944811},{"$f":"S206+S200+S194+S188+S182+S176+S170","v":26084},{"$f":"SQRT((T206^2)+(T200^2)+(T194^2)+(T188^2)+(T182^2)+(T176^2)+(T170^2))","v":899.60213427937128},{"$f":"U206+U200+U194+U188+U182+U176+U170","v":16393},{"$f":"SQRT((V206^2)+(V200^2)+(V194^2)+(V188^2)+(V182^2)+(V176^2)+(V170^2))","v":723.31597521415222},{"$f":"W206+W200+W194+W188+W182+W176+W170","v":5611},{"$f":"SQRT((X206^2)+(X200^2)+(X194^2)+(X188^2)+(X182^2)+(X176^2)+(X170^2))","v":373.95721680427562}]

{"sheet":"ACS_Table_B25074","index":56,"n_rows":512,"n_cols":24,"rows_kept":512,"cut":false,"hidden":true,"merged":[]}
[null,"B25074. HOUSEHOLD INCOME BY GROSS RENT AS A PERCENTAGE OF HOUSEHOLD INCOME IN THE PAST 12 MONTHS"]
[null,"Universe:  RENTER-OCCUPIED HOUSING UNITS"]
[null,"Data Set: 2018-2022 American Community Survey 5-Year Estimates",null,null,null,null,null,{"$f":"RentalHousingCost!D41","v":"Income in 2022 Inflation Adjusted Dollars"}]
[]
[null,null,"New Hampshire",null,"Belknap County",null,"Carroll County",null,"Cheshire County",null,"Coos County",null,"Grafton County",null,"Hillsborough County",null,"Merrimack County",null,"Rockingham County",null,"Strafford County",null,"Sullivan County"]
[null," ","Estimate","Margin of Error","Estimate","Margin of Error","Estimate","Margin of Error","Estimate","Margin of Error","Estimate","Margin of Error","Estimate","Margin of Error","Estimate","Margin of Error","Estimate","Margin of Error","Estimate","Margin of Error","Estimate","Margin of Error","Estimate","Margin of Error"]
[null,"Total:",151171,2381,5945,621,3994,494,8885,508,3658,298,10308,707,54683,1409,15698,635,26985,1102,16766,770,4249,483]
[null,"Less than $10,000:",8648,839,345,166,220,133,407,177,323,105,867,195,2814,466,1053,269,1148,291,955,231,516,172]
[null,"Less than 20.0 percent",134,117,0,28,0,28,0,28,0,25,19,31,82,114,0,28,0,28,0,28,33,49]
[null,"20.0 to 24.9 percent",21,32,0,28,0,28,21,32,0,25,0,28,0,28,0,28,0,28,0,28,0,25]
[null,"25.0 to 29.9 percent",40,32,0,28,0,28,0,28,0,25,0,28,21,23,19,28,0,28,0,28,0,25]
[null,"30.0 to 34.9 percent",84,65,0,28,0,28,0,28,0,25,0,28,47,41,37,51,0,28,0,28,0,25]
[null,"35.0 to 39.9 percent",111,78,0,28,0,28,20,28,0,25,21,34,13,16,57,66,0,28,0,28,0,25]
[null,"40.0 to 49.9 percent",176,146,0,28,0,28,0,28,0,25,0,28,106,115,59,93,0,28,11,20,0,25]
[null,"50.0 percent or more",5681,713,241,140,109,93,236,123,213,90,504,148,2004,390,573,197,842,254,660,193,299,144]
[null,"Not computed",2401,345,104,65,111,90,130,100,110,53,323,128,541,163,308,98,306,114,284,123,184,101]
[null,"$10,000 to $19,999:",17969,1313,825,216,588,272,1511,285,712,157,1330,355,5522,662,2211,318,2375,499,2147,401,748,200]
[null,"Less than 20.0 percent",621,214,0,28,36,43,79,86,21,18,35,35,177,128,86,71,65,46,90,100,32,37]
[null,"20.0 to 24.9 percent",1030,292,60,60,38,57,107,81,6,6,61,71,412,216,191,86,76,59,46,42,33,35]
[null,"25.0 to 29.9 percent",2525,435,142,91,11,19,287,121,150,58,166,141,688,179,371,150,167,81,475,228,68,76]
[null,"30.0 to 34.9 percent",1382,311,4,7,37,56,110,68,51,39,90,53,350,144,141,89,322,189,99,65,178,111]
[null,"35.0 to 39.9 percent",700,263,22,34,3,6,20,23,41,54,28,38,386,224,155,151,32,25,0,28,13,21]
[null,"40.0 to 49.9 percent",798,241,35,42,12,19,105,70,43,36,61,43,198,107,220,126,8,14,96,115,20,31]
[null,"50.0 percent or more",10219,952,408,162,439,238,756,212,333,117,822,292,3228,449,1006,259,1612,493,1213,312,402,162]
[null,"Not computed",694,194,154,93,12,11,47,48,67,39,67,48,83,61,41,30,93,64,128,111,2,3]
[null,"$20,000 to $34,999:",23078,1179,1259,350,649,209,1663,314,1099,238,1820,307,6972,604,2693,395,3537,425,2483,492,903,239]
[null,"Less than 20.0 percent",1066,214,58,64,3,5,35,33,138,81,53,39,322,141,153,88,170,100,80,52,54,54]
[null,"20.0 to 24.9 percent",1007,205,69,58,67,80,61,50,124,73,160,73,167,89,69,51,194,114,49,54,47,44]
[null,"25.0 to 29.9 percent",1565,380,82,76,27,33,104,63,124,54,91,52,314,117,239,114,187,102,337,249,60,41]
[null,"30.0 to 34.9 percent",1921,381,51,60,67,66,191,97,177,99,241,114,558,214,280,143,216,95,109,81,31,30]
[null,"35.0 to 39.9 percent",2090,369,156,105,91,81,214,118,154,104,276,127,333,116,228,133,248,140,190,106,200,160]
[null,"40.0 to 49.9 percent",4846,642,300,141,128,106,288,121,232,136,427,192,1383,298,608,193,657,195,618,247,205,133]
[null,"50.0 percent or more",9625,734,365,159,163,102,669,240,111,61,440,151,3714,461,1030,259,1776,318,1054,308,303,149]
[null,"Not computed",958,265,178,146,103,65,101,67,39,26,132,67,181,117,86,52,89,63,46,47,3,4]
[null,"$35,000 to $49,999:",21166,1177,926,301,545,192,1141,243,481,132,1151,228,8490,736,2136,317,3457,465,2283,370,556,180]
[null,"Less than 20.0 percent",1055,281,33,50,34,35,37,43,66,46,88,92,362,137,198,103,103,68,107,68,27,31]
[null,"20.0 to 24.9 percent",1624,309,97,76,8,13,129,85,144,77,175,96,495,165,308,158,160,97,37,39,71,56]
[null,"25.0 to 29.9 percent",2815,487,259,199,73,76,250,113,102,58,151,68,818,249,319,141,458,196,286,146,99,76]
[null,"30.0 to 34.9 percent",3949,546,180,111,59,73,206,109,29,33,208,104,1866,438,348,144,541,221,439,181,73,87]
[null,"35.0 to 39.9 percent",3387,478,29,37,77,56,190,100,50,36,152,74,1284,296,290,158,676,277,518,223,121,92]
[null,"40.0 to 49.9 percent",4154,551,208,173,219,141,168,80,39,39,64,42,1693,288,444,151,706,203,514,258,99,100]
[null,"50.0 percent or more",3498,496,74,67,55,42,120,90,0,25,224,116,1841,401,192,92,624,220,314,167,54,56]
[null,"Not computed",684,172,46,39,20,18,41,31,51,41,89,61,131,82,37,31,189,120,68,49,12,12]
[null,"$50,000 to $74,999:",28934,1440,1178,235,652,174,1786,290,572,136,1795,370,10470,882,2945,369,5668,679,3252,465,616,198]
[null,"Less than 20.0 percent",4131,500,238,133,141,94,365,145,226,112,426,213,988,272,592,203,493,195,555,180,107,100]
[null,"20.0 to 24.9 percent",5718,557,419,199,68,39,429,152,142,57,426,172,1497,247,743,169,1009,283,702,251,283,153]
[null,"25.0 to 29.9 percent",6969,642,208,101,176,92,412,123,137,63,307,114,2813,497,856,223,1448,367,563,185,49,44]
[null,"30.0 to 34.9 percent",4937,620,166,102,66,48,169,71,30,24,272,112,2371,489,318,98,851,244,610,220,84,76]
[null,"35.0 to 39.9 percent",3044,539,86,73,97,79,106,72,3,4,139,77,1474,325,225,108,508,181,354,248,52,50]
[null,"40.0 to 49.9 percent",2144,357,14,17,12,6,164,105,7,7,125,80,817,215,175,106,586,201,235,117,9,12]
[null,"50.0 percent or more",943,274,14,12,0,28,1,3,24,33,55,42,280,142,10,16,406,165,153,131,0,25]
[null,"Not computed",1048,297,33,31,92,71,140,71,3,4,45,34,230,107,26,22,367,229,80,55,32,37]
[null,"$75,000 to $99,999:",20139,1342,538,197,665,201,884,188,245,75,1274,234,7658,855,2263,337,4124,485,2099,356,389,155]
[null,"Less than 20.0 percent",7148,729,269,153,408,171,385,130,186,68,575,141,2005,429,1061,265,986,231,1043,278,230,104]
[null,"20.0 to 24.9 percent",5886,640,149,97,178,87,310,126,34,29,376,143,2472,452,461,152,1379,357,495,200,32,32]
[null,"25.0 to 29.9 percent",3837,525,75,61,0,28,177,105,0,25,225,110,1753,345,442,135,720,183,348,155,97,110]
[null,"30.0 to 34.9 percent",1472,293,19,25,3,6,0,28,0,25,15,17,753,199,106,74,438,181,110,85,28,28]
[null,"35.0 to 39.9 percent",471,181,13,23,0,28,0,28,0,25,23,37,192,102,5,9,205,137,33,43,0,25]
[null,"40.0 to 49.9 percent",533,332,0,28,0,28,0,28,0,25,3,4,335,284,20,23,155,162,20,22,0,25]
[null,"50.0 percent or more",121,83,0,28,0,28,0,28,0,25,21,23,15,17,40,62,45,49,0,28,0,25]
[null,"Not computed",671,191,13,21,76,65,12,13,25,24,36,31,133,74,128,97,196,120,50,47,2,3]
[null,"$100,000 or more:",31237,1334,874,293,675,222,1493,293,226,76,2071,342,12757,988,2397,334,6676,584,3547,460,521,201]
[null,"Less than 20.0 percent",22844,1189,660,271,552,208,1212,266,186,67,1262,219,9415,837,1931,305,4346,477,2855,467,425,169]
[null,"20.0 to 24.9 percent",4362,511,77,61,7,10,177,105,1,2,410,173,1995,361,283,117,862,200,466,202,84,94]
[null,"25.0 to 29.9 percent",1822,353,0,28,0,28,29,31,0,25,142,124,715,177,103,68,731,242,95,64,7,11]
[null,"30.0 to 34.9 percent",443,164,0,28,18,29,0,28,0,25,35,35,126,90,8,12,217,105,39,45,0,25]
[null,"35.0 to 39.9 percent",131,61,0,28,0,28,0,28,0,25,0,28,43,36,0,28,73,46,15,24,0,25]
[null,"40.0 to 49.9 percent",139,77,0,28,0,28,0,28,0,25,54,52,24,27,0,28,49,58,12,20,0,25]
[null,"50.0 percent or more",89,59,0,28,3,6,17,28,0,25,15,25,21,23,0,28,24,28,9,16,0,25]
[null,"Not computed",1407,309,137,105,95,55,58,38,39,30,153,72,418,275,72,42,374,145,56,45,5,5]
[]
[]
[]
[]
[]
[]
[]
[]
[]
[]
[]
[]
[]
[]
[]
[null,"Calculated B25074. HOUSEHOLD INCOME BY GROSS RENT AS A PERCENTAGE OF HOUSEHOLD INCOME IN THE PAST 12 MONTHS"]
[null,"Universe:  RENTER-OCCUPIED HOUSING UNITS"]
[null,"Data Set: 2018-2022 American Community Survey 5-Year Estimates",null,null,null,null,null,{"$f":"H3","v":"Income in 2022 Inflation Adjusted Dollars"}]
[]
[null,null,"New Hampshire",null,"Belknap County",null,"Carroll County",null,"Cheshire County",null,"Coos County",null,"Grafton County",null,"Hillsborough County",null,"Merrimack County",null,"Rockingham County",null,"Strafford County",null,"Sullivan County"]
[null," ","Estimate","Margin of Error","Estimate","Margin of Error","Estimate","Margin of Error","Estimate","Margin of Error","Estimate","Margin of Error","Estimate","Margin of Error","Estimate","Margin of Error","Estimate","Margin of Error","Estimate","Margin of Error","Estimate","Margin of Error","Estimate","Margin of Error"]
[null,"Total:",{"$f":"C7","v":151171},{"$f":"D7","v":2381},{"$f":"E7","v":5945},621,3994,494,8885,508,3658,298,10308,707,54683,1409,15698,635,26985,1102,16766,770,4249,483]
[null,"Less than $10,000:",{"$f":"C8","v":8648},{"$f":"D8","v":839},{"$f":"E8","v":345},166,220,133,407,177,323,105,867,195,2814,466,1053,269,1148,291,955,231,516,172]
[null,"Less than 30.0 percent",{"$f":"C9+C10+C11","v":195},{"$f":"SQRT((D9^2)+(D10^2)+(D11^2))","v":125.44720004846661},{"$f":"E9+E10+E11","v":0},{"$f":"SQRT((F9^2)+(F10^2)+(F11^2))","v":48.497422611928563},{"$f":"G9+G10+G11","v":0},{"$f":"SQRT((H9^2)+(H10^2)+(H11^2))","v":48.497422611928563},{"$f":"I9+I10+I11","v":21},{"$f":"SQRT((J9^2)+(J10^2)+(J11^2))","v":50.911688245431421},{"$f":"K9+K10+K11","v":0},{"$f":"SQRT((L9^2)+(L10^2)+(L11^2))","v":43.301270189221931},{"$f":"M9+M10+M11","v":19},{"$f":"SQRT((N9^2)+(N10^2)+(N11^2))","v":50.289163842720633},{"$f":"O9+O10+O11","v":103},{"$f":"SQRT((P9^2)+(P10^2)+(P11^2))","v":119.6202324023825},{"$f":"Q9+Q10+Q11","v":19},{"$f":"SQRT((R9^2)+(R10^2)+(R11^2))","v":48.497422611928563},{"$f":"S9+S10+S11","v":0},{"$f":"SQRT((T9^2)+(T10^2)+(T11^2))","v":48.497422611928563},{"$f":"U9+U10+U11","v":0},{"$f":"SQRT((V9^2)+(V10^2)+(V11^2))","v":48.497422611928563},{"$f":"W9+W10+W11","v":33},{"$f":"SQRT((X9^2)+(X10^2)+(X11^2))","v":60.423505360083176}]
[null,"More than 30.0 percent",{"$f":"C12+C13+C14+C15","v":6052},{"$f":"SQRT((D12^2)+(D13^2)+(D14^2)+(D15^2))","v":734.84284034070845},{"$f":"E12+E13+E14+E15","v":241},{"$f":"SQRT((F12^2)+(F13^2)+(F14^2)+(F15^2))","v":148.16207341961709},{"$f":"G12+G13+G14+G15","v":109},{"$f":"SQRT((H12^2)+(H13^2)+(H14^2)+(H15^2))","v":104.88565202161828},{"$f":"I12+I13+I14+I15","v":256},{"$f":"SQRT((J12^2)+(J13^2)+(J14^2)+(J15^2))","v":132.2157328006013},{"$f":"K12+K13+K14+K15","v":213},{"$f":"SQRT((L12^2)+(L13^2)+(L14^2)+(L15^2))","v":99.874921777190892},{"$f":"M12+M13+M14+M15","v":525},{"$f":"SQRT((N12^2)+(N13^2)+(N14^2)+(N15^2))","v":156.93310676845724},{"$f":"O12+O13+O14+O15","v":2170},{"$f":"SQRT((P12^2)+(P13^2)+(P14^2)+(P15^2))","v":408.97677195655012},{"$f":"Q12+Q13+Q14+Q15","v":726},{"$f":"SQRT((R12^2)+(R13^2)+(R14^2)+(R15^2))","v":233.27022956219682},{"$f":"S12+S13+S14+S15","v":842},{"$f":"SQRT((T12^2)+(T13^2)+(T14^2)+(T15^2))","v":258.58847615468096},{"$f":"U12+U13+U14+U15","v":671},{"$f":"SQRT((V12^2)+(V13^2)+(V14^2)+(V15^2))","v":198.03282556182447},{"$f":"W12+W13+W14+W15","v":299},{"$f":"SQRT((X12^2)+(X13^2)+(X14^2)+(X15^2))","v":150.36954478883015}]
[null,"Less Than 35% of HH Income",{"$f":"C9+C10+C11+C12","v":279},{"$f":"SQRT((D9^2)+(D10^2)+(D11^2)+(D12^2))","v":141.28694207179942},{"$f":"E9+E10+E11+E12","v":0},{"$f":"SQRT((F9^2)+(F10^2)+(F11^2)+(F12^2))","v":56},{"$f":"G9+G10+G11+G12","v":0},{"$f":"SQRT((H9^2)+(H10^2)+(H11^2)+(H12^2))","v":56},{"$f":"I9+I10+I11+I12","v":21},{"$f":"SQRT((J9^2)+(J10^2)+(J11^2)+(J12^2))","v":58.103356185335798},{"$f":"K9+K10+K11+K12","v":0},{"$f":"SQRT((L9^2)+(L10^2)+(L11^2)+(L12^2))","v":50},{"$f":"M9+M10+M11+M12","v":19},{"$f":"SQRT((N9^2)+(N10^2)+(N11^2)+(N12^2))","v":57.55866572463264},{"$f":"O9+O10+O11+O12","v":150},{"$f":"SQRT((P9^2)+(P10^2)+(P11^2)+(P12^2))","v":126.45157175772866},{"$f":"Q9+Q10+Q11+Q12","v":56},{"$f":"SQRT((R9^2)+(R10^2)+(R11^2)+(R12^2))","v":70.377553239651633},{"$f":"S9+S10+S11+S12","v":0},{"$f":"SQRT((T9^2)+(T10^2)+(T11^2)+(T12^2))","v":56},{"$f":"U9+U10+U11+U12","v":0},{"$f":"SQRT((V9^2)+(V10^2)+(V11^2)+(V12^2))","v":56},{"$f":"W9+W10+W11+W12","v":33},{"$f":"SQRT((X9^2)+(X10^2)+(X11^2)+(X12^2))","v":65.391130897087265}]
[null,"35.0 percent or more",{"$f":"C13+C14++C15","v":5968},{"$f":"SQRT((D13^2)+(D14^2)+(D15^2))","v":731.96243072988386},{"$f":"E13+E14++E15","v":241},{"$f":"SQRT((F13^2)+(F14^2)+(F15^2))","v":145.4922678357857},{"$f":"G13+G14++G15","v":109},{"$f":"SQRT((H13^2)+(H14^2)+(H15^2))","v":101.07917688624102},{"$f":"I13+I14++I15","v":256},{"$f":"SQRT((J13^2)+(J14^2)+(J15^2))","v":129.21687196337791},{"$f":"K13+K14++K15","v":213},{"$f":"SQRT((L13^2)+(L14^2)+(L15^2))","v":96.695398029068585},{"$f":"M13+M14++M15","v":525},{"$f":"SQRT((N13^2)+(N14^2)+(N15^2))","v":154.41502517566093},{"$f":"O13+O14++O15","v":2123},{"$f":"SQRT((P13^2)+(P14^2)+(P15^2))","v":406.91645334146909},{"$f":"Q13+Q14++Q15","v":689},{"$f":"SQRT((R13^2)+(R14^2)+(R15^2))","v":227.62688769123915},{"$f":"S13+S14++S15","v":842},{"$f":"SQRT((T13^2)+(T14^2)+(T15^2))","v":257.06808436676846},{"$f":"U13+U14++U15","v":671},{"$f":"SQRT((V13^2)+(V14^2)+(V15^2))","v":196.04336255022764},{"$f":"W13+W14++W15","v":299},{"$f":"SQRT((X13^2)+(X14^2)+(X15^2))","v":148.2767682410161}]
[null,"50.0 percent or more",{"$f":"C15","v":5681},713,241,140,109,93,236,123,213,90,504,148,2004,390,573,197,842,254,660,193,299,144]
[null,"Not Computed",{"$f":"C16","v":2401},345,104,65,111,90,130,100,110,53,323,128,541,163,308,98,306,114,284,123,184,101]
[null,"$10,000 to $19,999:",{"$f":"C17","v":17969},{"$f":"D17","v":1313},{"$f":"E17","v":825},216,588,272,1511,285,712,157,1330,355,5522,662,2211,318,2375,499,2147,401,748,200]
[null,"Less than 30.0 percent",{"$f":"C18+C19+C20","v":4176},{"$f":"SQRT((D18^2)+(D19^2)+(D20^2))","v":565.93727567637745},{"$f":"E18+E19+E20","v":202},{"$f":"SQRT((F18^2)+(F19^2)+(F20^2))","v":112.53888216967503},{"$f":"G18+G19+G20","v":85},{"$f":"SQRT((H18^2)+(H19^2)+(H20^2))","v":73.885045848263502},{"$f":"I18+I19+I20","v":473},{"$f":"SQRT((J18^2)+(J19^2)+(J20^2))","v":169.10943202553784},{"$f":"K18+K19+K20","v":177},{"$f":"SQRT((L18^2)+(L19^2)+(L20^2))","v":61.02458520956943},{"$f":"M18+M19+M20","v":262},{"$f":"SQRT((N18^2)+(N19^2)+(N20^2))","v":161.70034013569668},{"$f":"O18+O19+O20","v":1277},{"$f":"SQRT((P18^2)+(P19^2)+(P20^2))","v":308.35207150268991},{"$f":"Q18+Q19+Q20","v":648},{"$f":"SQRT((R18^2)+(R19^2)+(R20^2))","v":186.91441891946164},{"$f":"S18+S19+S20","v":308},{"$f":"SQRT((T18^2)+(T19^2)+(T20^2))","v":110.26332119068425},{"$f":"U18+U19+U20","v":611},{"$f":"SQRT((V18^2)+(V19^2)+(V20^2))","v":252.4836628378161},{"$f":"W18+W19+W20","v":133},{"$f":"SQRT((X18^2)+(X19^2)+(X20^2))","v":91.487704091861431}]
[null,"More than 30.0 percent",{"$f":"C21+C22+C23+C24","v":13099},{"$f":"SQRT((D21^2)+(D22^2)+(D23^2)+(D24^2))","v":1063.1439225241331},{"$f":"E21+E22+E23+E24","v":469},{"$f":"SQRT((F21^2)+(F22^2)+(F23^2)+(F24^2))","v":170.91810904640855},{"$f":"G21+G22+G23+G24","v":491},{"$f":"SQRT((H21^2)+(H22^2)+(H23^2)+(H24^2))","v":245.31000794912546},{"$f":"I21+I22+I23+I24","v":991},{"$f":"SQRT((J21^2)+(J22^2)+(J23^2)+(J24^2))","v":234.51439188245996},{"$f":"K21+K22+K23+K24","v":468},{"$f":"SQRT((L21^2)+(L22^2)+(L23^2)+(L24^2))","v":139.3628357920432},{"$f":"M21+M22+M23+M24","v":1001},{"$f":"SQRT((N21^2)+(N22^2)+(N23^2)+(N24^2))","v":302.26809292414572},{"$f":"O21+O22+O23+O24","v":4162},{"$f":"SQRT((P21^2)+(P22^2)+(P23^2)+(P24^2))","v":532.8808497215864},{"$f":"Q21+Q22+Q23+Q24","v":1522},{"$f":"SQRT((R21^2)+(R22^2)+(R23^2)+(R24^2))","v":337.16316524792563},{"$f":"S21+S22+S23+S24","v":1974},{"$f":"SQRT((T21^2)+(T22^2)+(T23^2)+(T24^2))","v":528.76365230601846},{"$f":"U21+U22+U23+U24","v":1408},{"$f":"SQRT((V21^2)+(V22^2)+(V23^2)+(V24^2))","v":339.9676455193935},{"$f":"W21+W22+W23+W24","v":613},{"$f":"SQRT((X21^2)+(X22^2)+(X23^2)+(X24^2))","v":199.91748297735242}]
[null,"Less Than 35% of HH Income",{"$f":"C18+C19+C20+C21","v":5558},{"$f":"SQRT((D18^2)+(D19^2)+(D20^2)+(D21^2))","v":645.76001734390468},{"$f":"E18+E19+E20+E21","v":206},{"$f":"SQRT((F18^2)+(F19^2)+(F20^2)+(F21^2))","v":112.75637454263949},{"$f":"G18+G19+G20+G21","v":122},{"$f":"SQRT((H18^2)+(H19^2)+(H20^2)+(H21^2))","v":92.709222842174668},{"$f":"I18+I19+I20+I21","v":583},{"$f":"SQRT((J18^2)+(J19^2)+(J20^2)+(J21^2))","v":182.26903192808152},{"$f":"K18+K19+K20+K21","v":228},{"$f":"SQRT((L18^2)+(L19^2)+(L20^2)+(L21^2))","v":72.422372233999624},{"$f":"M18+M19+M20+M21","v":352},{"$f":"SQRT((N18^2)+(N19^2)+(N20^2)+(N21^2))","v":170.16462617124628},{"$f":"O18+O19+O20+O21","v":1627},{"$f":"SQRT((P18^2)+(P19^2)+(P20^2)+(P21^2))","v":340.31896802852469},{"$f":"Q18+Q19+Q20+Q21","v":789},{"$f":"SQRT((R18^2)+(R19^2)+(R20^2)+(R21^2))","v":207.02173798903343},{"$f":"S18+S19+S20+S21","v":630},{"$f":"SQRT((T18^2)+(T19^2)+(T20^2)+(T21^2))","v":218.81270529838983},{"$f":"U18+U19+U20+U21","v":710},{"$f":"SQRT((V18^2)+(V19^2)+(V20^2)+(V21^2))","v":260.71632093139084},{"$f":"W18+W19+W20+W21","v":311},{"$f":"SQRT((X18^2)+(X19^2)+(X20^2)+(X21^2))","v":143.84366513684222}]
[null,"35.0 percent or more",{"$f":"C22+C23++C24","v":11717},{"$f":"SQRT((D22^2)+(D23^2)+(D24^2))","v":1016.6385788469764},{"$f":"E22+E23++E24","v":465},{"$f":"SQRT((F22^2)+(F23^2)+(F24^2))","v":170.77470538695127},{"$f":"G22+G23++G24","v":454},{"$f":"SQRT((H22^2)+(H23^2)+(H24^2))","v":238.83257734237179},{"$f":"I22+I23++I24","v":881},{"$f":"SQRT((J22^2)+(J23^2)+(J24^2))","v":224.43930137121706},{"$f":"K22+K23++K24","v":417},{"$f":"SQRT((L22^2)+(L23^2)+(L24^2))","v":133.79461872586654},{"$f":"M22+M23++M24","v":911},{"$f":"SQRT((N22^2)+(N23^2)+(N24^2))","v":297.58528189411521},{"$f":"O22+O23++O24","v":3812},{"$f":"SQRT((P22^2)+(P23^2)+(P24^2))","v":513.05555254767489},{"$f":"Q22+Q23++Q24","v":1381},{"$f":"SQRT((R22^2)+(R23^2)+(R24^2))","v":325.20455101366588},{"$f":"S22+S23++S24","v":1652},{"$f":"SQRT((T22^2)+(T23^2)+(T24^2))","v":493.83195522363678},{"$f":"U22+U23++U24","v":1309},{"$f":"SQRT((V22^2)+(V23^2)+(V24^2))","v":333.6959694092813},{"$f":"W22+W23++W24","v":435},{"$f":"SQRT((X22^2)+(X23^2)+(X24^2))","v":166.27086335254293}]
[null,"50.0 percent or more",{"$f":"C24","v":10219},952,408,162,439,238,756,212,333,117,822,292,3228,449,1006,259,1612,493,1213,312,402,162]
[null,"Not Computed",{"$f":"C25","v":694},{"$f":"D25","v":194},{"$f":"E25","v":154},93,12,11,47,48,67,39,67,48,83,61,41,30,93,64,128,111,2,3]
[null,"$20,000 to $34,999:",{"$f":"C26","v":23078},{"$f":"D26","v":1179},{"$f":"E26","v":1259},350,649,209,1663,314,1099,238,1820,307,6972,604,2693,395,3537,425,2483,492,903,239]
[null,"Less than 30.0 percent",{"$f":"C27+C28+C29","v":3638},{"$f":"SQRT((D27^2)+(D28^2)+(D29^2))","v":481.89314168184632},{"$f":"E27+E28+E29","v":209},{"$f":"SQRT((F27^2)+(F28^2)+(F29^2))","v":115.04781614615725},{"$f":"G27+G28+G29","v":97},{"$f":"SQRT((H27^2)+(H28^2)+(H29^2))","v":86.683331731077345},{"$f":"I27+I28+I29","v":200},{"$f":"SQRT((J27^2)+(J28^2)+(J29^2))","v":86.936758623726021},{"$f":"K27+K28+K29","v":386},{"$f":"SQRT((L27^2)+(L28^2)+(L29^2))","v":121.67990795525776},{"$f":"M27+M28+M29","v":304},{"$f":"SQRT((N27^2)+(N28^2)+(N29^2))","v":97.744565066299216},{"$f":"O27+O28+O29","v":803},{"$f":"SQRT((P27^2)+(P28^2)+(P29^2))","v":203.6933970456578},{"$f":"Q27+Q28+Q29","v":461},{"$f":"SQRT((R27^2)+(R28^2)+(R29^2))","v":152.77761616153069},{"$f":"S27+S28+S29","v":551},{"$f":"SQRT((T27^2)+(T28^2)+(T29^2))","v":182.75666882497066},{"$f":"U27+U28+U29","v":466},{"$f":"SQRT((V27^2)+(V28^2)+(V29^2))","v":260.04038147949251},{"$f":"W27+W28+W29","v":161},{"$f":"SQRT((X27^2)+(X28^2)+(X29^2))","v":80.826975694999248}]
[null,"More than 30.0 percent",{"$f":"C30+C31+C32+C33","v":18482},{"$f":"SQRT((D30^2)+(D31^2)+(D32^2)+(D33^2))","v":1110.0639621211023},{"$f":"E30+E31+E32+E33","v":872},{"$f":"SQRT((F30^2)+(F31^2)+(F32^2)+(F33^2))","v":244.51380329134795},{"$f":"G30+G31+G32+G33","v":449},{"$f":"SQRT((H30^2)+(H31^2)+(H32^2)+(H33^2))","v":180.43558407365217},{"$f":"I30+I31+I32+I33","v":1362},{"$f":"SQRT((J30^2)+(J31^2)+(J32^2)+(J33^2))","v":309.15044881093087},{"$f":"K30+K31+K32+K33","v":674},{"$f":"SQRT((L30^2)+(L31^2)+(L32^2)+(L33^2))","v":206.96376494449459},{"$f":"M30+M31+M32+M33","v":1384},{"$f":"SQRT((N30^2)+(N31^2)+(N32^2)+(N33^2))","v":297.97650914124085},{"$f":"O30+O31+O32+O33","v":5988},{"$f":"SQRT((P30^2)+(P31^2)+(P32^2)+(P33^2))","v":600.48064082033488},{"$f":"Q30+Q31+Q32+Q33","v":2146},{"$f":"SQRT((R30^2)+(R31^2)+(R32^2)+(R33^2))","v":377.44933434833342},{"$f":"S30+S31+S32+S33","v":2897},{"$f":"SQRT((T30^2)+(T31^2)+(T32^2)+(T33^2))","v":409.60224608759165},{"$f":"U30+U31+U32+U33","v":1971},{"$f":"SQRT((V30^2)+(V31^2)+(V32^2)+(V33^2))","v":416.73732734181613},{"$f":"W30+W31+W32+W33","v":739},{"$f":"SQRT((X30^2)+(X31^2)+(X32^2)+(X33^2))","v":257.66257004074146}]
[null,"Less Than 35% of HH Income",{"$f":"C27+C28+C29+C30","v":5559},{"$f":"SQRT((D27^2)+(D28^2)+(D29^2)+(D30^2))","v":614.31425182881765},{"$f":"E27+E28+E29+E30","v":260},{"$f":"SQRT((F27^2)+(F28^2)+(F29^2)+(F30^2))","v":129.75361266646874},{"$f":"G27+G28+G29+G30","v":164},{"$f":"SQRT((H27^2)+(H28^2)+(H29^2)+(H30^2))","v":108.94952959971879},{"$f":"I27+I28+I29+I30","v":391},{"$f":"SQRT((J27^2)+(J28^2)+(J29^2)+(J30^2))","v":130.25743740761985},{"$f":"K27+K28+K29+K30","v":563},{"$f":"SQRT((L27^2)+(L28^2)+(L29^2)+(L30^2))","v":156.86618501130192},{"$f":"M27+M28+M29+M30","v":545},{"$f":"SQRT((N27^2)+(N28^2)+(N29^2)+(N30^2))","v":150.16657417681208},{"$f":"O27+O28+O29+O30","v":1361},{"$f":"SQRT((P27^2)+(P28^2)+(P29^2)+(P30^2))","v":295.44373406792704},{"$f":"Q27+Q28+Q29+Q30","v":741},{"$f":"SQRT((R27^2)+(R28^2)+(R29^2)+(R30^2))","v":209.26060307664221},{"$f":"S27+S28+S29+S30","v":767},{"$f":"SQRT((T27^2)+(T28^2)+(T29^2)+(T30^2))","v":205.9732992404598},{"$f":"U27+U28+U29+U30","v":575},{"$f":"SQRT((V27^2)+(V28^2)+(V29^2)+(V30^2))","v":272.36372739408603},{"$f":"W27+W28+W29+W30","v":192},{"$f":"SQRT((X27^2)+(X28^2)+(X29^2)+(X30^2))","v":86.214847909162373}]
[null,"35.0 percent or more",{"$f":"C31+C32+C33","v":16561},{"$f":"SQRT((D31^2)+(D32^2)+(D33^2))","v":1042.6317662530716},{"$f":"E31+E32+E33","v":821},{"$f":"SQRT((F31^2)+(F32^2)+(F33^2))","v":237.03797164167602},{"$f":"G31+G32+G33","v":382},{"$f":"SQRT((H31^2)+(H32^2)+(H33^2))","v":167.93153366774212},{"$f":"I31+I32+I33","v":1171},{"$f":"SQRT((J31^2)+(J32^2)+(J33^2))","v":293.5387538298819},{"$f":"K31+K32+K33","v":497},{"$f":"SQRT((L31^2)+(L32^2)+(L33^2))","v":181.74982806044136},{"$f":"M31+M32+M33","v":1143},{"$f":"SQRT((N31^2)+(N32^2)+(N33^2))","v":275.30710125240142},{"$f":"O31+O32+O33","v":5430},{"$f":"SQRT((P31^2)+(P32^2)+(P33^2))","v":561.05347338734123},{"$f":"Q31+Q32+Q33","v":1866},{"$f":"SQRT((R31^2)+(R32^2)+(R33^2))","v":349.31218129346706},{"$f":"S31+S32+S33","v":2681},{"$f":"SQRT((T31^2)+(T32^2)+(T33^2))","v":398.43318134914415},{"$f":"U31+U32+U33","v":1862},{"$f":"SQRT((V31^2)+(V32^2)+(V33^2))","v":408.78967697337953},{"$f":"W31+W32+W33","v":708},{"$f":"SQRT((X31^2)+(X32^2)+(X33^2))","v":255.91014047903613}]
[null,"50.0 percent or more",{"$f":"C33","v":9625},734,{"$f":"E33","v":365},159,163,102,669,240,111,61,440,151,3714,461,1030,259,1776,318,1054,308,303,149]
[null,"Not Computed",958,265,{"$f":"E34","v":178},146,103,65,101,67,39,26,132,67,181,117,86,52,89,63,46,47,3,4]
[null,"$35,000 to $49,999:",21166,1177,{"$f":"E35","v":926},301,545,192,1141,243,481,132,1151,228,8490,736,2136,317,3457,465,2283,370,556,180]
[null,"Less than 30.0 percent",{"$f":"C36+C37+C38","v":5494},{"$f":"SQRT((D36^2)+(D37^2)+(D38^2))","v":641.56917008222888},{"$f":"E36+E37+E38","v":389},{"$f":"SQRT((F36^2)+(F37^2)+(F38^2))","v":218.80813513212894},{"$f":"G36+G37+G38","v":115},{"$f":"SQRT((H36^2)+(H37^2)+(H38^2))","v":84.675852520066186},{"$f":"I36+I37+I38","v":416},{"$f":"SQRT((J36^2)+(J37^2)+(J38^2))","v":147.79377524104322},{"$f":"K36+K37+K38","v":312},{"$f":"SQRT((L36^2)+(L37^2)+(L38^2))","v":106.81292056675541},{"$f":"M36+M37+M38","v":414},{"$f":"SQRT((N36^2)+(N37^2)+(N38^2))","v":149.34523762075577},{"$f":"O36+O37+O38","v":1675},{"$f":"SQRT((P36^2)+(P37^2)+(P38^2))","v":328.62592715730756},{"$f":"Q36+Q37+Q38","v":825},{"$f":"SQRT((R36^2)+(R37^2)+(R38^2))","v":235.48672998706317},{"$f":"S36+S37+S38","v":721},{"$f":"SQRT((T36^2)+(T37^2)+(T38^2))","v":229.01746658279146},{"$f":"U36+U37+U38","v":430},{"$f":"SQRT((V36^2)+(V37^2)+(V38^2))","v":165.71360837299994},{"$f":"W36+W37+W38","v":197},{"$f":"SQRT((X36^2)+(X37^2)+(X38^2))","v":99.362970970075168}]
[null,"More than 30.0 percent",{"$f":"C39+C40+C41+C42","v":14988},{"$f":"SQRT((D39^2)+(D40^2)+(D41^2)+(D42^2))","v":1037.4087911715419},{"$f":"E39+E40+E41+E42","v":491},{"$f":"SQRT((F39^2)+(F40^2)+(F41^2)+(F42^2))","v":219.33535966642498},{"$f":"G39+G40+G41+G42","v":410},{"$f":"SQRT((H39^2)+(H40^2)+(H41^2)+(H42^2))","v":173.52233285660955},{"$f":"I39+I40+I41+I42","v":684},{"$f":"SQRT((J39^2)+(J40^2)+(J41^2)+(J42^2))","v":190.73804025416641},{"$f":"K39+K40+K41+K42","v":118},{"$f":"SQRT((L39^2)+(L40^2)+(L41^2)+(L42^2))","v":67.31270311018568},{"$f":"M39+M40+M41+M42","v":648},{"$f":"SQRT((N39^2)+(N40^2)+(N41^2)+(N42^2))","v":177.5161964441555},{"$f":"O39+O40+O41+O42","v":6684},{"$f":"SQRT((P39^2)+(P40^2)+(P41^2)+(P42^2))","v":723.32910905064512},{"$f":"Q39+Q40+Q41+Q42","v":1274},{"$f":"SQRT((R39^2)+(R40^2)+(R41^2)+(R42^2))","v":277.42566571966626},{"$f":"S39+S40+S41+S42","v":2547},{"$f":"SQRT((T39^2)+(T40^2)+(T41^2)+(T42^2))","v":463.87390528030352},{"$f":"U39+U40+U41+U42","v":1785},{"$f":"SQRT((V39^2)+(V40^2)+(V41^2)+(V42^2))","v":420.64593187144936},{"$f":"W39+W40+W41+W42","v":347},{"$f":"SQRT((X39^2)+(X40^2)+(X41^2)+(X42^2))","v":170.78934392988339}]
[null,"Less Than 35% of HH Income",{"$f":"C36+C37+C38+C39","v":9443},{"$f":"SQRT((D36^2)+(D37^2)+(D38^2)+(D39^2))","v":842.45296604617636},{"$f":"E36+E37+E38+E39","v":569},{"$f":"SQRT((F36^2)+(F37^2)+(F38^2)+(F39^2))","v":245.3528071981244},{"$f":"G36+G37+G38+G39","v":174},{"$f":"SQRT((H36^2)+(H37^2)+(H38^2)+(H39^2))","v":111.79892664958818},{"$f":"I36+I37+I38+I39","v":622},{"$f":"SQRT((J36^2)+(J37^2)+(J38^2)+(J39^2))","v":183.64095403803586},{"$f":"K36+K37+K38+K39","v":341},{"$f":"SQRT((L36^2)+(L37^2)+(L38^2)+(L39^2))","v":111.79445424527998},{"$f":"M36+M37+M38+M39","v":622},{"$f":"SQRT((N36^2)+(N37^2)+(N38^2)+(N39^2))","v":181.9890106572372},{"$f":"O36+O37+O38+O39","v":3541},{"$f":"SQRT((P36^2)+(P37^2)+(P38^2)+(P39^2))","v":547.57556556150314},{"$f":"Q36+Q37+Q38+Q39","v":1173},{"$f":"SQRT((R36^2)+(R37^2)+(R38^2)+(R39^2))","v":276.02536115364472},{"$f":"S36+S37+S38+S39","v":1262},{"$f":"SQRT((T36^2)+(T37^2)+(T38^2)+(T39^2))","v":318.26089926348163},{"$f":"U36+U37+U38+U39","v":869},{"$f":"SQRT((V36^2)+(V37^2)+(V38^2)+(V39^2))","v":245.40171148547435},{"$f":"W36+W37+W38+W39","v":270},{"$f":"SQRT((X36^2)+(X37^2)+(X38^2)+(X39^2))","v":132.06816421833082}]
[null,"35.0 percent or more",{"$f":"C40+C41+C42","v":11039},{"$f":"SQRT((D40^2)+(D41^2)+(D42^2))","v":882.10033442913959},{"$f":"E40+E41+E42","v":311},{"$f":"SQRT((F40^2)+(F41^2)+(F42^2))","v":189.17452259752105},{"$f":"G40+G41+G42","v":351},{"$f":"SQRT((H40^2)+(H41^2)+(H42^2))","v":157.41982086128797},{"$f":"I40+I41+I42","v":478},{"$f":"SQRT((J40^2)+(J41^2)+(J42^2))","v":156.52475842498527},{"$f":"K40+K41+K42","v":89},{"$f":"SQRT((L40^2)+(L41^2)+(L42^2))","v":58.668560575490517},{"$f":"M40+M41+M42","v":440},{"$f":"SQRT((N40^2)+(N41^2)+(N42^2))","v":143.86104406683555},{"$f":"O40+O41+O42","v":4818},{"$f":"SQRT((P40^2)+(P41^2)+(P42^2))","v":575.6396442219733},{"$f":"Q40+Q41+Q42","v":926},{"$f":"SQRT((R40^2)+(R41^2)+(R42^2))","v":237.1265484925718},{"$f":"S40+S41+S42","v":2006},{"$f":"SQRT((T40^2)+(T41^2)+(T42^2))","v":407.84555900487624},{"$f":"U40+U41+U42","v":1346},{"$f":"SQRT((V40^2)+(V41^2)+(V42^2))","v":379.71304955189515},{"$f":"W40+W41+W42","v":274},{"$f":"SQRT((X40^2)+(X41^2)+(X42^2))","v":146.9693845669907}]
[null,"50.0 percent or more",{"$f":"C42","v":3498},496,74,67,55,42,120,90,0,25,224,116,1841,401,192,92,624,220,314,167,54,56]
[null,"Not Computed",{"$f":"C43","v":684},172,46,39,20,18,41,31,51,41,89,61,131,82,37,31,189,120,68,49,12,12]
[null,"$50,000 to $74,999:",{"$f":"C44","v":28934},{"$f":"D44","v":1440},{"$f":"E44","v":1178},235,652,174,1786,290,572,136,1795,370,10470,882,2945,369,5668,679,3252,465,616,198]
[null,"Less than 30.0 percent",{"$f":"C45+C46+C47","v":16818},{"$f":"SQRT((D45^2)+(D46^2)+(D47^2))","v":986.1100344282072},{"$f":"E45+E46+E47","v":865},{"$f":"SQRT((F45^2)+(F46^2)+(F47^2))","v":259.79030004986714},{"$f":"G45+G46+G47","v":385},{"$f":"SQRT((H45^2)+(H46^2)+(H47^2))","v":137.18964975536602},{"$f":"I45+I46+I47","v":1206},{"$f":"SQRT((J45^2)+(J46^2)+(J47^2))","v":243.42966129870041},{"$f":"K45+K46+K47","v":505},{"$f":"SQRT((L45^2)+(L46^2)+(L47^2))","v":140.57738082636197},{"$f":"M45+M46+M47","v":1159},{"$f":"SQRT((N45^2)+(N46^2)+(N47^2))","v":296.56196654325043},{"$f":"O45+O46+O47","v":5298},{"$f":"SQRT((P45^2)+(P46^2)+(P47^2))","v":618.06310357438417},{"$f":"Q45+Q46+Q47","v":2191},{"$f":"SQRT((R45^2)+(R46^2)+(R47^2))","v":345.68627395371078},{"$f":"S45+S46+S47","v":2950},{"$f":"SQRT((T45^2)+(T46^2)+(T47^2))","v":502.7951869300262},{"$f":"U45+U46+U47","v":1820},{"$f":"SQRT((V45^2)+(V46^2)+(V47^2))","v":360.03610930016453},{"$f":"W45+W46+W47","v":439},{"$f":"SQRT((X45^2)+(X46^2)+(X47^2))","v":188.00265955565629}]
[null,"More than 30.0 percent",{"$f":"C48+C49+C50+C51","v":11068},{"$f":"SQRT((D48^2)+(D49^2)+(D50^2)+(D51^2))","v":936.72087624862934},{"$f":"E48+E49+E50+E51","v":280},{"$f":"SQRT((F48^2)+(F49^2)+(F50^2)+(F51^2))","v":127.14558584551806},{"$f":"G48+G49+G50+G51","v":175},{"$f":"SQRT((H48^2)+(H49^2)+(H50^2)+(H51^2))","v":96.772930099279307},{"$f":"I48+I49+I50+I51","v":440},{"$f":"SQRT((J48^2)+(J49^2)+(J50^2)+(J51^2))","v":145.80466384858889},{"$f":"K48+K49+K50+K51","v":64},{"$f":"SQRT((L48^2)+(L49^2)+(L50^2)+(L51^2))","v":41.593268686170845},{"$f":"M48+M49+M50+M51","v":591},{"$f":"SQRT((N48^2)+(N49^2)+(N50^2)+(N51^2))","v":163.20845566330195},{"$f":"O48+O49+O50+O51","v":4942},{"$f":"SQRT((P48^2)+(P49^2)+(P50^2)+(P51^2))","v":641.19809731470662},{"$f":"Q48+Q49+Q50+Q51","v":728},{"$f":"SQRT((R48^2)+(R49^2)+(R50^2)+(R51^2))","v":180.99723754798026},{"$f":"S48+S49+S50+S51","v":2351},{"$f":"SQRT((T48^2)+(T49^2)+(T50^2)+(T51^2))","v":399.9037384171346},{"$f":"U48+U49+U50+U51","v":1352},{"$f":"SQRT((V48^2)+(V49^2)+(V50^2)+(V51^2))","v":375.17196057274856},{"$f":"W48+W49+W50+W51","v":145},{"$f":"SQRT((X48^2)+(X49^2)+(X50^2)+(X51^2))","v":95.105204904884147}]
[null,"Less Than 35% of HH Income",{"$f":"C48+C47+C46+C45","v":21755},{"$f":"SQRT((D48^2)+(D47^2)+(D46^2)+(D45^2))","v":1164.8231625444269},{"$f":"E48+E47+E46+E45","v":1031},{"$f":"SQRT((F48^2)+(F47^2)+(F46^2)+(F45^2))","v":279.09675741577507},{"$f":"G48+G47+G46+G45","v":451},{"$f":"SQRT((H48^2)+(H47^2)+(H46^2)+(H45^2))","v":145.34441853748632},{"$f":"I48+I47+I46+I45","v":1375},{"$f":"SQRT((J48^2)+(J47^2)+(J46^2)+(J45^2))","v":253.57247484693602},{"$f":"K48+K47+K46+K45","v":535},{"$f":"SQRT((L48^2)+(L47^2)+(L46^2)+(L45^2))","v":142.61135999632006},{"$f":"M48+M47+M46+M45","v":1431},{"$f":"SQRT((N48^2)+(N47^2)+(N46^2)+(N45^2))","v":317.00630908548175},{"$f":"O48+O47+O46+O45","v":7669},{"$f":"SQRT((P48^2)+(P47^2)+(P46^2)+(P45^2))","v":788.11357049602941},{"$f":"Q48+Q47+Q46+Q45","v":2509},{"$f":"SQRT((R48^2)+(R47^2)+(R46^2)+(R45^2))","v":359.30905916773099},{"$f":"S48+S47+S46+S45","v":3801},{"$f":"SQRT((T48^2)+(T47^2)+(T46^2)+(T45^2))","v":558.87297304485924},{"$f":"U48+U47+U46+U45","v":2430},{"$f":"SQRT((V48^2)+(V47^2)+(V46^2)+(V45^2))","v":421.93127402457384},{"$f":"W48+W47+W46+W45","v":523},{"$f":"SQRT((X48^2)+(X47^2)+(X46^2)+(X45^2))","v":202.78313539345424}]
[null,"35.0 percent or more",{"$f":"C49+C50+C51","v":6131},{"$f":"SQRT((D49^2)+(D50^2)+(D51^2))","v":702.17234351688899},{"$f":"E49+E50+E51","v":114},{"$f":"SQRT((F49^2)+(F50^2)+(F51^2))","v":75.907838857393372},{"$f":"G49+G50+G51","v":109},{"$f":"SQRT((H49^2)+(H50^2)+(H51^2))","v":84.029756634182874},{"$f":"I49+I50+I51","v":271},{"$f":"SQRT((J49^2)+(J50^2)+(J51^2))","v":127.34991166074674},{"$f":"K49+K50+K51","v":34},{"$f":"SQRT((L49^2)+(L50^2)+(L51^2))","v":33.97057550292606},{"$f":"M49+M50+M51","v":319},{"$f":"SQRT((N49^2)+(N50^2)+(N51^2))","v":118.71394189394942},{"$f":"O49+O50+O51","v":2571},{"$f":"SQRT((P49^2)+(P50^2)+(P51^2))","v":414.74570522188651},{"$f":"Q49+Q50+Q51","v":410},{"$f":"SQRT((R49^2)+(R50^2)+(R51^2))","v":152.17095649301808},{"$f":"S49+S50+S51","v":1500},{"$f":"SQRT((T49^2)+(T50^2)+(T51^2))","v":316.8390758729106},{"$f":"U49+U50+U51","v":742},{"$f":"SQRT((V49^2)+(V50^2)+(V51^2))","v":303.89800920703641},{"$f":"W49+W50+W51","v":61},{"$f":"SQRT((X49^2)+(X50^2)+(X51^2))","v":57.175169435691224}]
[null,"50.0 percent or more",{"$f":"C51","v":943},274,14,12,0,28,1,3,24,33,55,42,280,142,10,16,406,165,153,131,0,25]
[null,"Not Computed",{"$f":"C52","v":1048},297,33,31,92,71,140,71,3,4,45,34,230,107,26,22,367,229,80,55,32,37]
[null,"$75,000 to $99,999:",{"$f":"C53","v":20139},1342,538,197,665,201,884,188,245,75,1274,234,7658,855,2263,337,4124,485,2099,356,389,155]
[null,"Less than 30.0 percent",{"$f":"C54+C55+C56","v":16871},{"$f":"SQRT((D54^2)+(D55^2)+(D56^2))","v":1103.0258383193025},{"$f":"E54+E55+E56","v":493},{"$f":"SQRT((F54^2)+(F55^2)+(F56^2))","v":191.1517721602392},{"$f":"G54+G55+G56","v":586},{"$f":"SQRT((H54^2)+(H55^2)+(H56^2))","v":193.89172236070317},{"$f":"I54+I55+I56","v":872},{"$f":"SQRT((J54^2)+(J55^2)+(J56^2))","v":209.28688444334011},{"$f":"K54+K55+K56","v":220},{"$f":"SQRT((L54^2)+(L55^2)+(L56^2))","v":78.038452060506685},{"$f":"M54+M55+M56","v":1176},{"$f":"SQRT((N54^2)+(N55^2)+(N56^2))","v":228.97598127314578},{"$f":"O54+O55+O56","v":6230},{"$f":"SQRT((P54^2)+(P55^2)+(P56^2))","v":712.29909448208628},{"$f":"Q54+Q55+Q56","v":1964},{"$f":"SQRT((R54^2)+(R55^2)+(R56^2))","v":333.99700597460452},{"$f":"S54+S55+S56","v":3085},{"$f":"SQRT((T54^2)+(T55^2)+(T56^2))","v":462.92439987540081},{"$f":"U54+U55+U56","v":1886},{"$f":"SQRT((V54^2)+(V55^2)+(V56^2))","v":375.91089369689729},{"$f":"W54+W55+W56","v":359},{"$f":"SQRT((X54^2)+(X55^2)+(X56^2))","v":154.72556349873153}]
[null,"More than 30.0 percent",{"$f":"C57+C58+C59+C60","v":2597},{"$f":"SQRT((D57^2)+(D58^2)+(D59^2)+(D60^2))","v":485.51313061543453},{"$f":"E57+E58+E59+E60","v":32},{"$f":"SQRT((F57^2)+(F58^2)+(F59^2)+(F60^2))","v":52.172789842982326},{"$f":"G57+G58+G59+G60","v":3},{"$f":"SQRT((H57^2)+(H58^2)+(H59^2)+(H60^2))","v":48.867166891482462},{"$f":"I57+I58+I59+I60","v":0},{"$f":"SQRT((J57^2)+(J58^2)+(J59^2)+(J60^2))","v":56},{"$f":"K57+K58+K59+K60","v":0},{"$f":"SQRT((L57^2)+(L58^2)+(L59^2)+(L60^2))","v":50},{"$f":"M57+M58+M59+M60","v":62},{"$f":"SQRT((N57^2)+(N58^2)+(N59^2)+(N60^2))","v":46.936126810805341},{"$f":"O57+O58+O59+O60","v":1295},{"$f":"SQRT((P57^2)+(P58^2)+(P59^2)+(P60^2))","v":361.87014245444453},{"$f":"Q57+Q58+Q59+Q60","v":171},{"$f":"SQRT((R57^2)+(R58^2)+(R59^2)+(R60^2))","v":99.6493853468249},{"$f":"S57+S58+S59+S60","v":843},{"$f":"SQRT((T57^2)+(T58^2)+(T59^2)+(T60^2))","v":283.15190269535537},{"$f":"U57+U58+U59+U60","v":163},{"$f":"SQRT((V57^2)+(V58^2)+(V59^2)+(V60^2))","v":101.69562429131354},{"$f":"W57+W58+W59+W60","v":28},{"$f":"SQRT((X57^2)+(X58^2)+(X59^2)+(X60^2))","v":51.565492337414952}]
[null,"Less Than 35% of HH Income",{"$f":"C54+C55+C56+C57","v":18343},{"$f":"SQRT((D54^2)+(D55^2)+(D56^2)+(D57^2))","v":1141.2777926517276},{"$f":"E54+E55+E56+E57","v":512},{"$f":"SQRT((F54^2)+(F55^2)+(F56^2)+(F57^2))","v":192.77966697761462},{"$f":"G54+G55+G56+G57","v":589},{"$f":"SQRT((H54^2)+(H55^2)+(H56^2)+(H57^2))","v":193.98453546610358},{"$f":"I54+I55+I56+I57","v":872},{"$f":"SQRT((J54^2)+(J55^2)+(J56^2)+(J57^2))","v":211.15160430363773},{"$f":"K54+K55+K56+K57","v":220},{"$f":"SQRT((L54^2)+(L55^2)+(L56^2)+(L57^2))","v":81.945103575503524},{"$f":"M54+M55+M56+M57","v":1191},{"$f":"SQRT((N54^2)+(N55^2)+(N56^2)+(N57^2))","v":229.60618458569448},{"$f":"O54+O55+O56+O57","v":6983},{"$f":"SQRT((P54^2)+(P55^2)+(P56^2)+(P57^2))","v":739.57487788593789},{"$f":"Q54+Q55+Q56+Q57","v":2070},{"$f":"SQRT((R54^2)+(R55^2)+(R56^2)+(R57^2))","v":342.09647761998366},{"$f":"S54+S55+S56+S57","v":3523},{"$f":"SQRT((T54^2)+(T55^2)+(T56^2)+(T57^2))","v":497.0513051989704},{"$f":"U54+U55+U56+U57","v":1996},{"$f":"SQRT((V54^2)+(V55^2)+(V56^2)+(V57^2))","v":385.40108977531446},{"$f":"W54+W55+W56+W57","v":387},{"$f":"SQRT((X54^2)+(X55^2)+(X56^2)+(X57^2))","v":157.23867208800766}]
[null,"35.0 percent or more",{"$f":"C58+C59+C60","v":1125},{"$f":"SQRT((D58^2)+(D59^2)+(D60^2))","v":387.13563514613327},{"$f":"E58+E59+E60","v":13},{"$f":"SQRT((F58^2)+(F59^2)+(F60^2))","v":45.793012567421243},{"$f":"G58+G59+G60","v":0},{"$f":"SQRT((H58^2)+(H59^2)+(H60^2))","v":48.497422611928563},{"$f":"I58+I59+I60","v":0},{"$f":"SQRT((J58^2)+(J59^2)+(J60^2))","v":48.497422611928563},{"$f":"K58+K59+K60","v":0},{"$f":"SQRT((L58^2)+(L59^2)+(L60^2))","v":43.301270189221931},{"$f":"M58+M59+M60","v":47},{"$f":"SQRT((N58^2)+(N59^2)+(N60^2))","v":43.749285708454714},{"$f":"O58+O59+O60","v":542},{"$f":"SQRT((P58^2)+(P59^2)+(P60^2))","v":302.23997088406423},{"$f":"Q58+Q59+Q60","v":65},{"$f":"SQRT((R58^2)+(R59^2)+(R60^2))","v":66.738294853854342},{"$f":"S58+S59+S60","v":405},{"$f":"SQRT((T58^2)+(T59^2)+(T60^2))","v":217.74756026187757},{"$f":"U58+U59+U60","v":53},{"$f":"SQRT((V58^2)+(V59^2)+(V60^2))","v":55.830099408831437},{"$f":"W58+W59+W60","v":0},{"$f":"SQRT((X58^2)+(X59^2)+(X60^2))","v":43.301270189221931}]
[null,"50.0 percent or more",{"$f":"C60","v":121},83,{"$f":"E60","v":0},28,0,28,0,28,0,25,21,23,15,17,40,62,45,49,0,28,0,25]
[null,"Not Computed",671,191,{"$f":"E61","v":13},21,76,65,12,13,25,24,36,31,133,74,128,97,196,120,50,47,2,3]
[null,"$100,000 or more:",31237,1334,{"$f":"E62","v":874},293,675,222,1493,293,226,76,2071,342,12757,988,2397,334,6676,584,3547,460,521,201]
[null,"Less than 30.0 percent",{"$f":"C63+C64+C65","v":29028},{"$f":"SQRT((D63^2)+(D64^2)+(D65^2))","v":1341.4361706767863},{"$f":"E63+E64+E65","v":737},{"$f":"SQRT((F63^2)+(F64^2)+(F65^2))","v":279.18810862928956},{"$f":"G63+G64+G65","v":559},{"$f":"SQRT((H63^2)+(H64^2)+(H65^2))","v":210.11425463304482},{"$f":"I63+I64+I65","v":1418},{"$f":"SQRT((J63^2)+(J64^2)+(J65^2))","v":287.64909177676884},{"$f":"K63+K64+K65","v":187},{"$f":"SQRT((L63^2)+(L64^2)+(L65^2))","v":71.540198490079689},{"$f":"M63+M64+M65","v":1814},{"$f":"SQRT((N63^2)+(N64^2)+(N65^2))","v":305.39482641328419},{"$f":"O63+O64+O65","v":12125},{"$f":"SQRT((P63^2)+(P64^2)+(P65^2))","v":928.55748341177025},{"$f":"Q63+Q64+Q65","v":2317},{"$f":"SQRT((R63^2)+(R64^2)+(R65^2))","v":333.67349310366262},{"$f":"S63+S64+S65","v":5939},{"$f":"SQRT((T63^2)+(T64^2)+(T65^2))","v":571.0455323352071},{"$f":"U63+U64+U65","v":3416},{"$f":"SQRT((V63^2)+(V64^2)+(V65^2))","v":512.82453139451115},{"$f":"W63+W64+W65","v":516},{"$f":"SQRT((X63^2)+(X64^2)+(X65^2))","v":193.69563753476743}]
[null,"More than 30.0 percent",{"$f":"C66+C67+C68+C69","v":802},{"$f":"SQRT((D66^2)+(D67^2)+(D68^2)+(D69^2))","v":200.06748861321771},{"$f":"E66+E67+E68+E69","v":0},{"$f":"SQRT((F66^2)+(F67^2)+(F68^2)+(F69^2))","v":56},{"$f":"G66+G67+G68+G69","v":21},{"$f":"SQRT((H66^2)+(H67^2)+(H68^2)+(H69^2))","v":49.446941260304463},{"$f":"I66+I67+I68+I69","v":17},{"$f":"SQRT((J66^2)+(J67^2)+(J68^2)+(J69^2))","v":56},{"$f":"K66+K67+K68+K69","v":0},{"$f":"SQRT((L66^2)+(L67^2)+(L68^2)+(L69^2))","v":50},{"$f":"M66+M67+M68+M69","v":104},{"$f":"SQRT((N66^2)+(N67^2)+(N68^2)+(N69^2))","v":73.061617830431317},{"$f":"O66+O67+O68+O69","v":214},{"$f":"SQRT((P66^2)+(P67^2)+(P68^2)+(P69^2))","v":103.21821544669332},{"$f":"Q66+Q67+Q68+Q69","v":8},{"$f":"SQRT((R66^2)+(R67^2)+(R68^2)+(R69^2))","v":49.959983987187186},{"$f":"S66+S67+S68+S69","v":363},{"$f":"SQRT((T66^2)+(T67^2)+(T68^2)+(T69^2))","v":131.48764200486676},{"$f":"U66+U67+U68+U69","v":75},{"$f":"SQRT((V66^2)+(V67^2)+(V68^2)+(V69^2))","v":57.070132293521098},{"$f":"W66+W67+W68+W69","v":0},{"$f":"SQRT((X66^2)+(X67^2)+(X68^2)+(X69^2))","v":50}]
[null,"Less Than 35% of HH Income",{"$f":"C63+C64+C65+C66","v":29471},{"$f":"SQRT(((D63^2)+(D64^2)+(D65^2)+(D66^2)))","v":1351.424063719453},{"$f":"E63+E64+E65+E66","v":737},{"$f":"SQRT(((F63^2)+(F64^2)+(F65^2)+(F66^2)))","v":280.58866691297425},{"$f":"G63+G64+G65+G66","v":577},{"$f":"SQRT(((H63^2)+(H64^2)+(H65^2)+(H66^2)))","v":212.10610552268409},{"$f":"I63+I64+I65+I66","v":1418},{"$f":"SQRT(((J63^2)+(J64^2)+(J65^2)+(J66^2)))","v":289.0086503895688},{"$f":"K63+K64+K65+K66","v":187},{"$f":"SQRT(((L63^2)+(L64^2)+(L65^2)+(L66^2)))","v":75.782583751149573},{"$f":"M63+M64+M65+M66","v":1849},{"$f":"SQRT(((N63^2)+(N64^2)+(N65^2)+(N66^2)))","v":307.39388412914138},{"$f":"O63+O64+O65+O66","v":12251},{"$f":"SQRT(((P63^2)+(P64^2)+(P65^2)+(P66^2)))","v":932.90889158588254},{"$f":"Q63+Q64+Q65+Q66","v":2325},{"$f":"SQRT(((R63^2)+(R64^2)+(R65^2)+(R66^2)))","v":333.88920317973748},{"$f":"S63+S64+S65+S66","v":6156},{"$f":"SQRT(((T63^2)+(T64^2)+(T65^2)+(T66^2)))","v":580.61863559482833},{"$f":"U63+U64+U65+U66","v":3455},{"$f":"SQRT(((V63^2)+(V64^2)+(V65^2)+(V66^2)))","v":514.79510487183154},{"$f":"W63+W64+W65+W66","v":516},{"$f":"SQRT(((X63^2)+(X64^2)+(X65^2)+(X66^2)))","v":195.30232973520822}]
[null,"35.0 percent or more",{"$f":"C67+C68+C69","v":359},{"$f":"SQRT((D67^2)+(D68^2)+(D69^2))","v":114.59057552870567},{"$f":"E67+E68+E69","v":0},{"$f":"SQRT((F67^2)+(F68^2)+(F69^2))","v":48.497422611928563},{"$f":"G67+G68+G69","v":3},{"$f":"SQRT((H67^2)+(H68^2)+(H69^2))","v":40.049968789001575},{"$f":"I67+I68+I69","v":17},{"$f":"SQRT((J67^2)+(J68^2)+(J69^2))","v":48.497422611928563},{"$f":"K67+K68+K69","v":0},{"$f":"SQRT((L67^2)+(L68^2)+(L69^2))","v":43.301270189221931},{"$f":"M67+M68+M69","v":69},{"$f":"SQRT((N67^2)+(N68^2)+(N69^2))","v":64.132674979295857},{"$f":"O67+O68+O69","v":88},{"$f":"SQRT((P67^2)+(P68^2)+(P69^2))","v":50.537115073973112},{"$f":"Q67+Q68+Q69","v":0},{"$f":"SQRT((R67^2)+(R68^2)+(R69^2))","v":48.497422611928563},{"$f":"S67+S68+S69","v":146},{"$f":"SQRT((T67^2)+(T68^2)+(T69^2))","v":79.145435749637514},{"$f":"U67+U68+U69","v":36},{"$f":"SQRT((V67^2)+(V68^2)+(V69^2))","v":35.09985754956849},{"$f":"W67+W68+W69","v":0},{"$f":"SQRT((X67^2)+(X68^2)+(X69^2))","v":43.301270189221931}]
[null,"50.0 percent or more",{"$f":"C69","v":89},59,0,28,3,6,17,28,0,25,15,25,21,23,0,28,24,28,9,16,0,25]
[null,"Not Computed",{"$f":"C70","v":1407},309,137,105,95,55,58,38,39,30,153,72,418,275,72,42,374,145,56,45,5,5]
[]
[]
[null,"Calculated GROSS RENT AS A PERCENTAGE OF HOUSEHOLD INCOME IN THE PAST 12 MONTHS"]
[null,"Universe:  RENTER-OCCUPIED HOUSING UNITS"]
[null,"Data Set: 2018-2022 American Community Survey 5-Year Estimates"]
[]
[null,null,"New Hampshire",null,"Belknap County",null,"Carroll County",null,"Cheshire County",null,"Coos County",null,"Grafton County",null,"Hillsborough County",null,"Merrimack County",null,"Rockingham County",null,"Strafford County",null,"Sullivan County"]
[null," ","Estimate","Margin of Error","Estimate","Margin of Error","Estimate","Margin of Error","Estimate","Margin of Error","Estimate","Margin of Error","Estimate","Margin of Error","Estimate","Margin of Error","Estimate","Margin of Error","Estimate","Margin of Error","Estimate","Margin of Error","Estimate","Margin of Error"]
[null,{"$f":"B92","v":"Total:"},{"$f":"C92","v":151171},2381,5945,621,3994,494,8885,508,3658,298,10308,707,54683,1409,15698,635,26985,1102,16766,770,4249,483]
[null,"Less than 30.0 percent",{"$f":"C136+C129+C122+C115+C108+C101+C94","v":76220},{"$f":"SQRT((D136^2)+(D129^2)+(D122^2)+(D115^2)+(D108^2)+(D101^2)+(D94^2))","v":2228.9872139606364},{"$f":"E136+E129+E122+E115+E108+E101+E94","v":2895},{"$f":"SQRT((F136^2)+(F129^2)+(F122^2)+(F115^2)+(F108^2)+(F101^2)+(F94^2))","v":508.04133690084706},{"$f":"G136+G129+G122+G115+G108+G101+G94","v":1827},{"$f":"SQRT((H136^2)+(H129^2)+(H122^2)+(H115^2)+(H108^2)+(H101^2)+(H94^2))","v":350.79623715199682},{"$f":"I136+I129+I122+I115+I108+I101+I94","v":4606},{"$f":"SQRT((J136^2)+(J129^2)+(J122^2)+(J115^2)+(J108^2)+(J101^2)+(J94^2))","v":496.37888754458527},{"$f":"K136+K129+K122+K115+K108+K101+K94","v":1787},{"$f":"SQRT((L136^2)+(L129^2)+(L122^2)+(L115^2)+(L108^2)+(L101^2)+(L94^2))","v":250.5673562138532},{"$f":"M136+M129+M122+M115+M108+M101+M94","v":5148},{"$f":"SQRT((N136^2)+(N129^2)+(N122^2)+(N115^2)+(N108^2)+(N101^2)+(N94^2))","v":542.38270621397953},{"$f":"O136+O129+O122+O115+O108+O101+O94","v":27511},{"$f":"SQRT((P136^2)+(P129^2)+(P122^2)+(P115^2)+(P108^2)+(P101^2)+(P94^2))","v":1417.9093765117714},{"$f":"Q136+Q129+Q122+Q115+Q108+Q101+Q94","v":8425},{"$f":"SQRT((R136^2)+(R129^2)+(R122^2)+(R115^2)+(R108^2)+(R101^2)+(R94^2))","v":677.10782007003877},{"$f":"S136+S129+S122+S115+S108+S101+S94","v":13554},{"$f":"SQRT((T136^2)+(T129^2)+(T122^2)+(T115^2)+(T108^2)+(T101^2)+(T94^2))","v":945.2798527420332},{"$f":"U136+U129+U122+U115+U108+U101+U94","v":8629},{"$f":"SQRT((V136^2)+(V129^2)+(V122^2)+(V115^2)+(V108^2)+(V101^2)+(V94^2))","v":833.73017217802544},{"$f":"W136+W129+W122+W115+W108+W101+W94","v":1838},{"$f":"SQRT((X136^2)+(X129^2)+(X122^2)+(X115^2)+(X108^2)+(X101^2)+(X94^2))","v":353.87851022632049}]
[null,"More than 30.0 percent",{"$f":"C137+C130+C123+C116+C109+C102+C95","v":67088},{"$f":"SQRT((D137^2)+(D130^2)+(D123^2)+(D116^2)+(D109^2)+(D102^2)+(D95^2))","v":2265.3750241405946},{"$f":"E137+E130+E123+E116+E109+E102+E95","v":2385},{"$f":"SQRT((F137^2)+(F130^2)+(F123^2)+(F116^2)+(F109^2)+(F102^2)+(F95^2))","v":425.53965737637191},{"$f":"G137+G130+G123+G116+G109+G102+G95","v":1658},{"$f":"SQRT((H137^2)+(H130^2)+(H123^2)+(H116^2)+(H109^2)+(H102^2)+(H95^2))","v":384.76356376351441},{"$f":"I137+I130+I123+I116+I109+I102+I95","v":3750},{"$f":"SQRT((J137^2)+(J130^2)+(J123^2)+(J116^2)+(J109^2)+(J102^2)+(J95^2))","v":481.6264112359288},{"$f":"K137+K130+K123+K116+K109+K102+K95","v":1537},{"$f":"SQRT((L137^2)+(L130^2)+(L123^2)+(L116^2)+(L109^2)+(L102^2)+(L95^2))","v":288.94982263361919},{"$f":"M137+M130+M123+M116+M109+M102+M95","v":4315},{"$f":"SQRT((N137^2)+(N130^2)+(N123^2)+(N116^2)+(N109^2)+(N102^2)+(N95^2))","v":520.07114897867575},{"$f":"O137+O130+O123+O116+O109+O102+O95","v":25455},{"$f":"SQRT((P137^2)+(P130^2)+(P123^2)+(P116^2)+(P109^2)+(P102^2)+(P95^2))","v":1373.9523281395175},{"$f":"Q137+Q130+Q123+Q116+Q109+Q102+Q95","v":6575},{"$f":"SQRT((R137^2)+(R130^2)+(R123^2)+(R116^2)+(R109^2)+(R102^2)+(R95^2))","v":657.80924286604545},{"$f":"S137+S130+S123+S116+S109+S102+S95","v":11817},{"$f":"SQRT((T137^2)+(T130^2)+(T123^2)+(T116^2)+(T109^2)+(T102^2)+(T95^2))","v":993.37757172185036},{"$f":"U137+U130+U123+U116+U109+U102+U95","v":7425},{"$f":"SQRT((V137^2)+(V130^2)+(V123^2)+(V116^2)+(V109^2)+(V102^2)+(V95^2))","v":812.25673281296963},{"$f":"W137+W130+W123+W116+W109+W102+W95","v":2171},{"$f":"SQRT((X137^2)+(X130^2)+(X123^2)+(X116^2)+(X109^2)+(X102^2)+(X95^2))","v":415.13973551082773}]
[null,"Less Than 35% of HH Income",{"$f":"C138+C131+C124+C117+C110+C103+C96","v":90408},{"$f":"SQRT((D138^2)+(D131^2)+(D124^2)+(D117^2)+(D110^2)+(D103^2)+(D96^2))","v":2451.479553249425},{"$f":"E138+E131+E124+E117+E110+E103+E96","v":3315},{"$f":"SQRT((F138^2)+(F131^2)+(F124^2)+(F117^2)+(F110^2)+(F103^2)+(F96^2))","v":535.41852788262759},{"$f":"G138+G131+G124+G117+G110+G103+G96","v":2077},{"$f":"SQRT((H138^2)+(H131^2)+(H124^2)+(H117^2)+(H110^2)+(H103^2)+(H96^2))","v":373.95721680427562},{"$f":"I138+I131+I124+I117+I110+I103+I96","v":5282},{"$f":"SQRT((J138^2)+(J131^2)+(J124^2)+(J117^2)+(J110^2)+(J103^2)+(J96^2))","v":528.86576746845697},{"$f":"K138+K131+K124+K117+K110+K103+K96","v":2074},{"$f":"SQRT((L138^2)+(L131^2)+(L124^2)+(L117^2)+(L110^2)+(L103^2)+(L96^2))","v":278.65031849972826},{"$f":"M138+M131+M124+M117+M110+M103+M96","v":6009},{"$f":"SQRT((N138^2)+(N131^2)+(N124^2)+(N117^2)+(N110^2)+(N103^2)+(N96^2))","v":579.34618321000437},{"$f":"O138+O131+O124+O117+O110+O103+O96","v":33582},{"$f":"SQRT((P138^2)+(P131^2)+(P124^2)+(P117^2)+(P110^2)+(P103^2)+(P96^2))","v":1599.1704099313495},{"$f":"Q138+Q131+Q124+Q117+Q110+Q103+Q96","v":9663},{"$f":"SQRT((R138^2)+(R131^2)+(R124^2)+(R117^2)+(R110^2)+(R103^2)+(R96^2))","v":724.8489497819528},{"$f":"S138+S131+S124+S117+S110+S103+S96","v":16139},{"$f":"SQRT((T138^2)+(T131^2)+(T124^2)+(T117^2)+(T110^2)+(T103^2)+(T96^2))","v":1044.6276848715049},{"$f":"U138+U131+U124+U117+U110+U103+U96","v":10035},{"$f":"SQRT((V138^2)+(V131^2)+(V124^2)+(V117^2)+(V110^2)+(V103^2)+(V96^2))","v":892.79728942240865},{"$f":"W138+W131+W124+W117+W110+W103+W96","v":2232},{"$f":"SQRT((X138^2)+(X131^2)+(X124^2)+(X117^2)+(X110^2)+(X103^2)+(X96^2))","v":392.21167754160501}]
[null,"35.0 percent or more",{"$f":"C139+C132+C125+C118+C111+C104+C97","v":52900},{"$f":"SQRT((D139^2)+(D132^2)+(D125^2)+(D118^2)+(D111^2)+(D104^2)+(D97^2))","v":2022.512299097338},{"$f":"E139+E132+E125+E118+E111+E104+E97","v":1965},{"$f":"SQRT((F139^2)+(F132^2)+(F125^2)+(F118^2)+(F111^2)+(F104^2)+(F97^2))","v":390.53424945835417},{"$f":"G139+G132+G125+G118+G111+G104+G97","v":1408},{"$f":"SQRT((H139^2)+(H132^2)+(H125^2)+(H118^2)+(H111^2)+(H104^2)+(H97^2))","v":362.29407944375794},{"$f":"I139+I132+I125+I118+I111+I104+I97","v":3074},{"$f":"SQRT((J139^2)+(J132^2)+(J125^2)+(J118^2)+(J111^2)+(J104^2)+(J97^2))","v":445.70954667810292},{"$f":"K139+K132+K125+K118+K111+K104+K97","v":1250},{"$f":"SQRT((L139^2)+(L132^2)+(L125^2)+(L118^2)+(L111^2)+(L104^2)+(L97^2))","v":261.97328108034225},{"$f":"M139+M132+M125+M118+M111+M104+M97","v":3454},{"$f":"SQRT((N139^2)+(N132^2)+(N125^2)+(N118^2)+(N111^2)+(N104^2)+(N97^2))","v":478.55093772763627},{"$f":"O139+O132+O125+O118+O111+O104+O97","v":19384},{"$f":"SQRT((P139^2)+(P132^2)+(P125^2)+(P118^2)+(P111^2)+(P104^2)+(P97^2))","v":1157.9576848918098},{"$f":"Q139+Q132+Q125+Q118+Q111+Q104+Q97","v":5337},{"$f":"SQRT((R139^2)+(R132^2)+(R125^2)+(R118^2)+(R111^2)+(R104^2)+(R97^2))","v":604.79914021102911},{"$f":"S139+S132+S125+S118+S111+S104+S97","v":9232},{"$f":"SQRT((T139^2)+(T132^2)+(T125^2)+(T118^2)+(T111^2)+(T104^2)+(T97^2))","v":888.31638507910009},{"$f":"U139+U132+U125+U118+U111+U104+U97","v":6019},{"$f":"SQRT((V139^2)+(V132^2)+(V125^2)+(V118^2)+(V111^2)+(V104^2)+(V97^2))","v":746.84670448492966},{"$f":"W139+W132+W125+W118+W111+W104+W97","v":1777},{"$f":"SQRT((X139^2)+(X132^2)+(X125^2)+(X118^2)+(X111^2)+(X104^2)+(X97^2))","v":379.13190316827729}]
[null,"50.0 percent or more",{"$f":"C140+C133+C126+C119+C112+C105+C98","v":30176},{"$f":"SQRT((D140^2)+(D133^2)+(D126^2)+(D119^2)+(D112^2)+(D105^2)+(D98^2))","v":1511.5855913576313},{"$f":"E140+E133+E126+E119+E112+E105+E98","v":1102},{"$f":"SQRT((F140^2)+(F133^2)+(F126^2)+(F119^2)+(F112^2)+(F105^2)+(F98^2))","v":278.07552930813597},{"$f":"G140+G133+G126+G119+G112+G105+G98","v":769},{"$f":"SQRT((H140^2)+(H133^2)+(H126^2)+(H119^2)+(H112^2)+(H105^2)+(H98^2))","v":281.1849924871525},{"$f":"I140+I133+I126+I119+I112+I105+I98","v":1799},{"$f":"SQRT((J140^2)+(J133^2)+(J126^2)+(J119^2)+(J112^2)+(J105^2)+(J98^2))","v":356.86131760110959},{"$f":"K140+K133+K126+K119+K112+K105+K98","v":681},{"$f":"SQRT((L140^2)+(L133^2)+(L126^2)+(L119^2)+(L112^2)+(L105^2)+(L98^2))","v":168.74240723659241},{"$f":"M140+M133+M126+M119+M112+M105+M98","v":2081},{"$f":"SQRT((N140^2)+(N133^2)+(N126^2)+(N119^2)+(N112^2)+(N105^2)+(N98^2))","v":382.54803619937718},{"$f":"O140+O133+O126+O119+O112+O105+O98","v":11103},{"$f":"SQRT((P140^2)+(P133^2)+(P126^2)+(P119^2)+(P112^2)+(P105^2)+(P98^2))","v":864.87282302081849},{"$f":"Q140+Q133+Q126+Q119+Q112+Q105+Q98","v":2851},{"$f":"SQRT((R140^2)+(R133^2)+(R126^2)+(R119^2)+(R112^2)+(R105^2)+(R98^2))","v":431.64684639181598},{"$f":"S140+S133+S126+S119+S112+S105+S98","v":5329},{"$f":"SQRT((T140^2)+(T133^2)+(T126^2)+(T119^2)+(T112^2)+(T105^2)+(T98^2))","v":698.21128607320577},{"$f":"U140+U133+U126+U119+U112+U105+U98","v":3403},{"$f":"SQRT((V140^2)+(V133^2)+(V126^2)+(V119^2)+(V112^2)+(V105^2)+(V98^2))","v":524.92570902938257},{"$f":"W140+W133+W126+W119+W112+W105+W98","v":1058},{"$f":"SQRT((X140^2)+(X133^2)+(X126^2)+(X119^2)+(X112^2)+(X105^2)+(X98^2))","v":272.3820845797315}]
[null,"Not Computed",{"$f":"C140+C134+C127+C120+C113+C106+C99","v":6545},{"$f":"SQRT((D140^2)+(D134^2)+(D127^2)+(D120^2)+(D113^2)+(D106^2)+(D99^2))","v":620.19432438551064},{"$f":"E140+E134+E127+E120+E113+E106+E99","v":528},{"$f":"SQRT((F140^2)+(F134^2)+(F127^2)+(F120^2)+(F113^2)+(F106^2)+(F99^2))","v":194.67151820438448},{"$f":"G140+G134+G127+G120+G113+G106+G99","v":417},{"$f":"SQRT((H140^2)+(H134^2)+(H127^2)+(H120^2)+(H113^2)+(H106^2)+(H99^2))","v":148.5664834341851},{"$f":"I140+I134+I127+I120+I113+I106+I99","v":488},{"$f":"SQRT((J140^2)+(J134^2)+(J127^2)+(J120^2)+(J113^2)+(J106^2)+(J99^2))","v":154.10386108076591},{"$f":"K140+K134+K127+K120+K113+K106+K99","v":295},{"$f":"SQRT((L140^2)+(L134^2)+(L127^2)+(L120^2)+(L113^2)+(L106^2)+(L99^2))","v":88.904443083571479},{"$f":"M140+M134+M127+M120+M113+M106+M99","v":707},{"$f":"SQRT((N140^2)+(N134^2)+(N127^2)+(N120^2)+(N113^2)+(N106^2)+(N99^2))","v":172.16271373325876},{"$f":"O140+O134+O127+O120+O113+O106+O99","v":1320},{"$f":"SQRT((P140^2)+(P134^2)+(P127^2)+(P120^2)+(P113^2)+(P106^2)+(P99^2))","v":261.06895640807238},{"$f":"Q140+Q134+Q127+Q120+Q113+Q106+Q99","v":626},{"$f":"SQRT((R140^2)+(R134^2)+(R127^2)+(R120^2)+(R113^2)+(R106^2)+(R99^2))","v":157.62613996415695},{"$f":"S140+S134+S127+S120+S113+S106+S99","v":1264},{"$f":"SQRT((T140^2)+(T134^2)+(T127^2)+(T120^2)+(T113^2)+(T106^2)+(T99^2))","v":321.07008580682191},{"$f":"U140+U134+U127+U120+U113+U106+U99","v":665},{"$f":"SQRT((V140^2)+(V134^2)+(V127^2)+(V120^2)+(V113^2)+(V106^2)+(V99^2))","v":193.77822375076101},{"$f":"W140+W134+W127+W120+W113+W106+W99","v":235},{"$f":"SQRT((X140^2)+(X134^2)+(X127^2)+(X120^2)+(X113^2)+(X106^2)+(X99^2))","v":111.23398761170077}]
[]
[]
[]
[]
[]
[]
[]
[]
[]
[]
[]
[null,"B25074. HOUSEHOLD INCOME BY GROSS RENT AS A PERCENTAGE OF HOUSEHOLD INCOME IN THE PAST 12 MONTHS"]
[null,"Universe:  RENTER-OCCUPIED HOUSING UNITS"]
[null,"Data Set: 2013-2017 American Community Survey 5-Year Estimates",null,null,null,null,null,{"$f":"'RentalHousingCost-Prior5Yr'!D41","v":"Income in 2017 Inflation Adjusted Dollars"}]
[]
[null,null,"New Hampshire",null,"Belknap County",null,"Carroll County",null,"Cheshire County",null,"Coos County",null,"Grafton County",null,"Hillsborough County",null,"Merrimack County",null,"Rockingham County",null,"Strafford County",null,"Sullivan County"]
[null," ","Estimate","Margin of Error","Estimate","Margin of Error","Estimate","Margin of Error","Estimate","Margin of Error","Estimate","Margin of Error","Estimate","Margin of Error","Estimate","Margin of Error","Estimate","Margin of Error","Estimate","Margin of Error","Estimate","Margin of Error","Estimate","Margin of Error"]
[null,"Total:",154406,2224,5960,463,4333,508,9076,507,3997,319,11054,551,54001,1074,16631,512,27930,1001,16698,721,4726,347]
[null,"Less than $10,000:",13365,779,564,157,436,195,1113,223,463,116,1231,279,4306,439,1555,273,1682,347,1491,304,524,201]
[null,"Less than 20.0 percent",253,128,0,27,0,24,16,20,0,24,71,83,12,11,37,50,62,67,17,20,38,35]
[null,"20.0 to 24.9 percent",194,84,13,21,0,24,0,27,41,38,26,31,35,29,20,21,59,57,0,27,0,24]
[null,"25.0 to 29.9 percent",795,206,34,29,31,31,135,110,13,10,51,51,295,113,105,82,58,71,58,52,15,25]
[null,"30.0 to 34.9 percent",296,133,13,22,0,24,0,27,29,45,26,33,77,43,48,43,21,34,0,27,82,104]
[null,"35.0 to 39.9 percent",304,150,30,47,0,24,0,27,2,3,5,8,130,109,13,20,46,42,29,32,49,69]
[null,"40.0 to 49.9 percent",397,176,0,27,0,24,17,23,16,19,157,138,99,77,69,74,39,47,0,27,0,24]
[null,"50.0 percent or more",8828,638,380,125,359,182,810,200,282,72,607,185,2799,364,1041,237,1169,310,1180,307,201,115]
[null,"Not computed",2298,322,94,62,46,47,135,57,80,54,288,144,859,170,222,105,228,76,207,136,139,100]
[null,"$10,000 to $19,999:",22478,1006,1120,238,796,238,1486,243,1003,178,1750,366,7366,585,2595,309,3017,392,2581,451,764,186]
[null,"Less than 20.0 percent",828,195,67,57,36,33,71,49,30,28,103,72,200,105,132,90,113,99,76,91,0,24]
[null,"20.0 to 24.9 percent",925,179,46,38,15,22,62,42,98,63,39,32,262,78,76,45,210,118,67,54,50,63]
[null,"25.0 to 29.9 percent",2170,264,135,68,59,62,171,83,152,76,173,79,643,154,208,81,200,94,358,143,71,55]
[null,"30.0 to 34.9 percent",1472,282,10,16,66,62,147,64,45,26,112,92,433,123,209,92,167,106,212,103,71,64]
[null,"35.0 to 39.9 percent",688,178,27,42,30,37,117,66,50,27,62,54,172,75,33,34,50,41,53,42,94,87]
[null,"40.0 to 49.9 percent",1727,305,152,93,19,19,30,26,83,52,261,150,445,149,209,106,324,153,170,139,34,39]
[null,"50.0 percent or more",13397,789,569,168,457,211,794,196,457,135,891,229,4990,504,1540,255,1791,317,1530,278,378,132]
[null,"Not computed",1271,260,114,74,114,81,94,70,88,39,109,91,221,101,188,73,162,76,115,97,66,49]
[null,"$20,000 to $34,999:",30250,1325,1235,227,871,281,2116,347,1086,159,2433,367,9691,607,3519,352,5012,528,3219,402,1068,230]
[null,"Less than 20.0 percent",1398,293,72,55,37,51,171,102,80,47,154,87,286,111,241,118,139,78,170,119,48,48]
[null,"20.0 to 24.9 percent",1266,248,31,31,49,42,114,75,118,55,106,67,257,115,162,77,259,133,121,70,49,39]
[null,"25.0 to 29.9 percent",3021,440,98,70,183,113,138,72,253,110,394,148,961,248,321,120,320,152,311,132,42,30]
[null,"30.0 to 34.9 percent",3754,398,220,113,102,71,313,115,150,64,394,139,1058,232,435,115,560,212,299,129,223,124]
[null,"35.0 to 39.9 percent",3870,506,193,113,145,110,407,165,138,59,429,182,1190,299,412,124,386,115,436,170,134,81]
[null,"40.0 to 49.9 percent",7218,577,219,91,103,75,457,181,222,101,372,145,2562,317,1017,208,1211,256,896,240,159,81]
[null,"50.0 percent or more",8672,684,343,110,177,96,439,156,64,40,506,167,3119,383,795,204,1943,338,972,256,314,128]
[null,"Not computed",1051,163,59,41,75,52,77,42,61,28,78,39,258,81,136,51,194,110,14,15,99,66]
[null,"$35,000 to $49,999:",24826,1105,873,246,859,217,1271,213,582,142,1656,318,8720,714,2513,317,4659,440,2939,483,754,211]
[null,"Less than 20.0 percent",2165,282,68,61,103,66,135,80,138,48,350,151,331,130,224,110,285,150,426,188,105,63]
[null,"20.0 to 24.9 percent",3824,434,235,127,170,101,285,111,232,88,270,127,1084,227,456,144,537,200,371,165,184,104]
[null,"25.0 to 29.9 percent",5666,639,234,133,103,76,388,137,115,43,383,149,1920,293,658,174,938,241,750,232,177,78]
[null,"30.0 to 34.9 percent",5107,568,87,58,219,110,153,78,20,17,286,133,2272,422,391,109,984,231,501,165,194,122]
[null,"35.0 to 39.9 percent",3026,395,117,73,73,75,100,64,47,57,138,78,1213,258,260,109,684,216,336,141,58,51]
[null,"40.0 to 49.9 percent",2761,447,64,38,98,89,125,70,0,24,110,67,1033,246,205,109,762,245,342,155,22,19]
[null,"50.0 percent or more",1457,309,59,48,9,14,22,20,0,24,39,37,696,257,149,134,360,130,122,72,1,3]
[null,"Not computed",820,175,9,11,84,62,63,39,30,19,80,47,171,70,170,121,109,51,91,56,13,19]
[null,"$50,000 to $74,999:",29465,1271,1112,271,736,212,2016,314,469,117,1825,276,10089,665,3250,417,5902,530,3151,370,915,224]
[null,"Less than 20.0 percent",8834,767,424,177,284,133,663,208,288,95,682,174,2666,410,829,225,1480,301,1069,254,449,185]
[null,"20.0 to 24.9 percent",9003,693,305,128,194,112,490,131,59,42,551,169,3160,414,1162,234,1661,314,1131,252,290,131]
[null,"25.0 to 29.9 percent",5693,525,230,129,104,72,488,175,59,37,209,83,2271,332,548,161,1163,225,500,146,121,59]
[null,"30.0 to 34.9 percent",2757,380,95,58,52,60,200,93,4,5,125,60,994,238,348,112,771,243,163,83,5,8]
[null,"35.0 to 39.9 percent",1093,241,4,6,11,12,35,23,0,24,108,72,519,158,82,57,213,90,94,100,27,31]
[null,"40.0 to 49.9 percent",754,202,6,11,4,6,13,16,8,9,69,40,301,135,4,6,274,106,65,84,10,15]
[null,"50.0 percent or more",425,144,0,27,5,7,18,29,0,24,28,33,95,89,102,63,119,67,58,58,0,24]
[null,"Not computed",906,187,48,33,82,57,109,56,51,40,53,30,83,47,175,80,221,105,71,52,13,10]
[null,"$75,000 to $99,999:",17063,1104,470,167,233,103,716,198,219,86,1103,277,6889,629,1779,245,3340,433,1930,283,384,147]
[null,"Less than 20.0 percent",9785,948,323,152,102,70,437,140,186,85,649,202,3827,519,1184,208,1690,325,1076,243,311,133]
[null,"20.0 to 24.9 percent",4356,482,65,45,85,64,143,66,7,10,189,101,2227,379,380,144,765,195,474,151,21,26]
[null,"25.0 to 29.9 percent",1509,279,31,30,33,34,88,80,0,24,131,111,389,136,162,68,414,145,231,99,30,20]
[null,"30.0 to 34.9 percent",435,121,12,16,0,24,3,4,0,24,60,55,146,79,0,27,140,66,61,51,13,29]
[null,"35.0 to 39.9 percent",180,93,0,27,0,24,0,27,0,24,30,35,26,33,0,27,124,75,0,27,0,24]
[null,"40.0 to 49.9 percent",71,44,0,27,0,24,0,27,0,24,0,27,45,34,0,27,13,21,13,21,0,24]
[null,"50.0 percent or more",25,30,0,27,0,24,7,12,0,24,0,27,0,27,0,27,0,27,18,27,0,24]
[null,"Not computed",702,190,39,29,13,15,38,35,26,19,44,40,229,117,53,37,194,115,57,60,9,15]
[null,"$100,000 or more:",16959,999,586,203,402,129,358,115,175,59,1056,246,6940,629,1420,225,4318,466,1387,290,317,130]
[null,"Less than 20.0 percent",14007,942,462,183,290,119,288,108,171,59,861,222,5987,620,1244,207,3252,412,1173,277,279,130]
[null,"20.0 to 24.9 percent",1737,304,67,66,61,55,20,26,0,24,61,44,648,154,80,55,618,154,167,101,15,18]
[null,"25.0 to 29.9 percent",332,152,11,16,0,24,0,27,0,24,49,41,68,48,20,31,144,114,40,35,0,24]
[null,"30.0 to 34.9 percent",63,45,7,12,0,24,0,27,0,24,15,23,0,27,0,27,27,32,0,27,14,22]
[null,"35.0 to 39.9 percent",17,23,4,6,0,24,0,27,0,24,0,27,0,27,0,27,13,22,0,27,0,24]
[null,"40.0 to 49.9 percent",0,27,0,27,0,24,0,27,0,24,0,27,0,27,0,27,0,27,0,27,0,24]
[null,"50.0 percent or more",0,27,0,27,0,24,0,27,0,24,0,27,0,27,0,27,0,27,0,27,0,24]
[null,"Not computed",803,164,35,26,51,42,50,37,4,6,70,38,237,83,76,48,264,104,7,11,9,11]
[]
[]
[]
[]
[]
[]
[]
[]
[]
[]
[]
[]
[]
[]
[]
[null,"Calculated B25074. HOUSEHOLD INCOME BY GROSS RENT AS A PERCENTAGE OF HOUSEHOLD INCOME IN THE PAST 12 MONTHS"]
[null,"Universe:  RENTER-OCCUPIED HOUSING UNITS"]
[null,{"$f":"B170","v":"Data Set: 2013-2017 American Community Survey 5-Year Estimates"},null,null,null,null,null,{"$f":"H170","v":"Income in 2017 Inflation Adjusted Dollars"}]
[]
[null,null,"New Hampshire",null,"Belknap County",null,"Carroll County",null,"Cheshire County",null,"Coos County",null,"Grafton County",null,"Hillsborough County",null,"Merrimack County",null,"Rockingham County",null,"Strafford County",null,"Sullivan County"]
[null," ","Estimate","Margin of Error","Estimate","Margin of Error","Estimate","Margin of Error","Estimate","Margin of Error","Estimate","Margin of Error","Estimate","Margin of Error","Estimate","Margin of Error","Estimate","Margin of Error","Estimate","Margin of Error","Estimate","Margin of Error","Estimate","Margin of Error"]
[null,"Total:",151076,2110,6163,457,4345,497,8906,488,4255,285,11133,509,51712,1241,15824,637,27708,919,16549,766,4481,345]
[null,"Less than $10,000:",13866,844,546,144,375,163,1070,238,610,117,1182,254,4721,441,1389,222,1686,278,1746,308,541,170]
[null,"Less than 30.0 percent",1236,226.60538387249321,45,48.744230427815765,34,46.335731352812381,170,97.672923576598237,63,38.910152916687437,84,82.121860670591232,378,130.23440405668543,137,67.096944788865017,127,96.602277405866573,166,89.476253833070146,32,45.188494110780013]
[null,"More than 30.0 percent",9982,756.40663667104354,261,107.01401777337396,256,126.8187683270895,731,206.80183751601436,434,107.68008172359454,757,209.13631917962024,3453,391.17515258513032,1037,206.1213234966242,1299,245.91461932955511,1382,275.19629357969194,372,154.39235732380018]
[null,"Less Than 35% of HH Income",1670,280.31232580819562,52,49.759421218498915,51,52.649786324352732,170,101.07423014794622,99,57.991378669591917,93,82.728471519785742,581,168.55266239368632,199,81.920693356440779,150,101.45442326483355,166,93.177250442369242,109,75.113247832855691]
[null,"35.0 percent or more",9548,738.19103218611372,254,106.54576481493763,239,124.33020550131815,731,205.16091245653982,398,98.721831425475486,748,208.8971038573776,3250,376.25656140458204,975,200.6913052426537,1276,243.95286429964293,1382,273.96532627323478,295,142.25681003031102]
[null,"50.0 percent or more",8730,701,254,100,239,120,684,201,377,97,643,181,2951,346,912,191,1172,229,1297,268,201,104]
[null,"Not Computed",2648,425,240,106,85,86,169,85,113,56,341,135,890,250,215,106,260,144,198,116,137,79]
[null,"$10,000 to $19,999:",24599,989,1239,244,756,217,1641,272,1317,182,1624,287,7687,470,3000,373,3391,395,3076,385,868,208]
[null,"Less than 30.0 percent",4580,456.98577658391076,246,91.591484320323147,109,102.46950765959599,230,81.786306922369349,383,108.16191566350885,342,110.2905254316979,1210,207.82203925474315,665,166.65533294797379,559,171.48177745754796,605,197.73972792537162,231,111.20251795710384]
[null,"More than 30.0 percent",18741,1018.5278592164281,877,222.20486043288972,550,201.76719257599834,1294,251.45576151681234,805,158.7041272305166,1226,248.23778922637865,6236,504.64542007235138,2135,316.38584039112749,2648,369.33318291212339,2392,414.58654102611678,578,188.14356220716138]
[null,"Less Than 35% of HH Income",6247,541.77209230450399,265,93.968079686668062,213,131.24023773218335,367,102.02940752547768,464,114.97825881443848,460,135.66502865514016,1611,237.51842033829712,852,185.2970588001871,873,220.11360703055138,854,221.13796598503839,288,123.18684994754919]
[null,"35.0 percent or more",17074,976.07274319079318,858,221.21030717396511,446,184.3529224069963,1157,243.94466585682909,724,153.83757668398187,1108,235.33168082517068,5835,491.36747959139501,1948,305.84146219896348,2334,342.58283669792917,2143,402.59284643421074,521,180.52423659996461]
[null,"50.0 percent or more",14478,915,633,199,386,164,938,215,525,141,874,207,5236,464,1592,263,2057,319,1903,386,334,133]
[null,"Not Computed",1278,220,116,69,97,67,117,67,129,60,56,27,241,85,200,79,184,125,79,71,59,35]
[null,"$20,000 to $34,999:",30930,1392,1120,232,977,241,2186,354,1031,182,2522,360,9832,670,3652,381,5091,526,3526,395,993,196]
[null,"Less than 30.0 percent",5526,580.43604298837272,220,96.384646080171919,140,83.240615086627031,434,134.95554823718808,459,120.34949106664307,685,199.26113519700723,1458,290.99484531517049,703,175.34252193920332,776,208.58571379651102,447,158.05378831271335,204,113.4283915075939]
[null,"More than 30.0 percent",24168,1128.6505216407779,837,183.92389730538008,692,224.17626993060617,1696,316.88325926119859,493,115.32562594670796,1742,294.58105845420545,8138,689.95869441583238,2797,348.29441568879628,4056,480.91787240650558,3036,442.2329702769797,681,178.64210030113281]
[null,"Less Than 35% of HH Income",9605,713.53416176101894,395,135.33292282367952,268,106.23088063270491,751,178.61130983227238,597,138.23168956501979,1119,248.21160327430303,2665,389.56257520454915,1359,235.35929979501554,1284,292.46025370979902,785,193.13725689260474,382,147.31598691248686]
[null,"35.0 percent or more",20089,1049.584203387227,662,157.48968220172392,564,214.24051904343398,1379,294.49278429190758,355,93.145048177560142,1308,254.70374948162817,6931,639.50136825498657,2141,310.90191379275876,3548,435.03678005428463,2698,428.07592784458228,503,151.91115824718077]
[null,"50.0 percent or more",8631,713,315,117,281,151,482,166,90,44,512,157,3066,369,798,174,1897,316,920,246,270,120]
[null,"Not Computed",1236,234,63,41,145,90,56,37,79,32,95,44,236,98,152,58,259,108,43,42,108,61]
[null,"$35,000 to $49,999:",24715,1204,1023,237,894,230,1178,210,478,116,1875,290,8560,620,2446,297,4689,560,2904,417,668,168]
[null,"Less than 30.0 percent",12717,797.53432528010978,653,214.68348795377813,474,186.23103930333417,668,177.9016582272352,406,101.45442326483355,1213,266.71332925071442,3731,446.68669109343296,1357,229.40139493908924,2057,352.82290175100593,1754,330.3255969494341,404,150.79124643028851]
[null,"More than 30.0 percent",11183,826.00121065286578,350,123.88704532758864,359,171.15197924651645,434,137.18964975536602,44,35.7211421989835,574,165.9126276086302,4657,536.77742128371983,921,198.2952344359289,2538,430.97911782359017,1053,258.90345691009998,253,122.04097672503281]
[null,"Less Than 35% of HH Income",17474,975.65618944380196,790,230.16950275829333,635,221.54457790702077,889,208.11775512915759,423,102.55730105653132,1421,282.79321066814884,5788,587.10305739282262,1766,260.77001361352882,2974,457.34560236215236,2271,383.58832099009481,517,163.42276463210382]
[null,"35.0 percent or more",6426,605.33792215588142,213,91.972822072610128,198,122.03687967167957,213,84.599054368237475,27,32.419130154894653,366,136.71503209230505,2600,378.11241714601226,512,154.74172029546526,1621,317.90250077657458,536,170.3114793547399,140,104.52272480183436]
[null,"50.0 percent or more",1051,217,40,43,19,27,27,33,0,23,49,39,525,186,34,31,243,87,99,61,15,20]
[null,"Not Computed",815,187,20,14,61,43,76,50,28,20,88,43,172,74,168,112,94,54,97,67,11,12]
[null,"$50,000 to $74,999:",27716,1087,1216,265,801,223,1765,287,472,115,1789,315,9551,823,2691,305,5859,547,2816,379,756,199]
[null,"Less than 30.0 percent",22180,1078.7427867661504,956,229.2705825002414,560,191.29819654142065,1338,247.05869747895943,407,104.0096149401583,1407,271.23052925509694,7727,707.69061036585754,2285,315.12219851987578,4342,512.96198689571531,2443,396.93954199600722,715,188.48076824970764]
[null,"More than 30.0 percent",4554,488.43628038875244,101,56.577380639262543,145,110.08178777618031,349,154.00973995173163,13,34.957116585897069,323,120.04582458378134,1644,313.71802625925085,312,105.99056561788883,1334,255.2763208760264,299,134.13053343664893,34,37.78888725538237]
[null,"Less Than 35% of HH Income",24792,1139.7850674578958,1018,233.45449235343492,657,214.48543074064494,1556,276.88084079618079,414,104.48923389517219,1578,287.38649933495486,8713,748.89985979435198,2513,327.72244354026168,5069,544.62739556507802,2554,401.59930278823941,720,188.61071019430472]
[null,"35.0 percent or more",1942,321.16350975788021,39,35.566838487557476,48,52.04805471869242,131,89.966660491539869,6,33.496268448888451,152,73.389372527635089,658,195.94386951369518,84,55.982140009113621,607,177.98033599249104,188,119.45710527214361,29,37.134889255254286]
[null,"50.0 percent or more",282,119,16,24,0,23,14,23,0,23,15,24,92,80,21,31,105,68,19,22,0,23]
[null,"Not Computed",982,190,159,118,96,71,78,46,52,40,59,36,180,100,94,56,183,85,74,51,7,10]
[null,"$75,000 to $99,999:",15122,841,488,169,169,82,599,165,264,107,1056,213,5833,577,1438,203,3456,378,1384,276,435,165]
[null,"Less than 30.0 percent",13816,875.10056564945728,415,172.00581385522992,159,86.931007126341285,563,157.85436325930303,240,108.82554847093581,942,228.58477639597962,5427,572.66831586879323,1373,243.30639120253295,3129,394.2562618399358,1197,268.57587382339466,371,155.50562690783894]
[null,"More than 30.0 percent",647,172.56592942988485,14,51.507281038703645,0,46,22,44,0,46,66,58.232293446162672,173,75.379042180171012,13,46.872166581031863,164,82.522724143111034,153,116.30993078838969,42,63.150613615387776]
[null,"Less Than 35% of HH Income",14230,884.85139995368718,429,173.81311803198284,159,89.922188585465378,571,158.17079376420921,240,111.22949249187465,965,231.24878378058554,5558,575.90797876049612,1386,243.65344241360515,3217,398.35536898603488,1292,279.12183719659055,413,163.04293912954341]
[null,"35.0 percent or more",233,112.32987136109433,0,45.033320996790806,0,39.837168574084181,14,42.848570571257099,0,39.837168574084181,43,46.540305112880382,42,44.283179650969061,0,45.033320996790806,76,59.674114991342769,58,88.045442812220557,0,39.837168574084181]
[null,"50.0 percent or more",28,31,0,26,0,23,0,26,0,23,28,31,0,26,0,26,0,26,0,26,0,23]
[null,"Not Computed",659,180,59,30,10,11,14,23,24,17,48,32,233,133,52,35,163,99,34,37,22,21]
[null,"$100,000 or more:",14128,814,531,177,373,145,467,159,83,34,1085,238,5528,511,1208,256,3536,439,1097,226,220,92]
[null,"Less than 30.0 percent",13211,824.63446447501815,501,176.64370920018635,323,139.6925194847598,450,155.4123547212383,79,46.335731352812381,963,226.53917983430591,5306,494.69485544121034,1114,250.26386075500395,3229,420.93348643223908,1049,235.59499145779819,197,91.224996574403889]
[null,"More than 30.0 percent",111,67.208630398186216,12,39.012818406262319,0,46,0,52,0,46,0,52,24,44.294469180700204,0,52,51,59.143892330484981,10,47.465777145223271,14,45.033320996790806]
[null,"Less Than 35% of HH Income",13277,826.14889699133528,508,176.9858751426226,323,141.573302567963,450,157.57220567092409,79,51.730068625510249,963,228.02631427096304,5306,495.37763373006658,1114,251.61081057856001,3264,422.7363244387688,1059,236.07202290826416,211,93.610896801601044]
[null,"35.0 percent or more",45,44.911023145771239,5,37.429934544425805,0,39.837168574084181,0,45.033320996790806,0,39.837168574084181,0,45.033320996790806,24,35.860842154082214,0,45.033320996790806,16,44.463468150831417,0,45.033320996790806,0,39.837168574084181]
[null,"50.0 percent or more",0,26,0,26,0,23,0,26,0,23,0,26,0,26,0,26,0,26,0,26,0,23]
[null,"Not Computed",806,195,18,18,50,37,17,16,4,6,122,71,198,117,94,55,256,134,38,35,9,10]
[]
[]
[null,"Calculated GROSS RENT AS A PERCENTAGE OF HOUSEHOLD INCOME IN THE PAST 12 MONTHS"]
[null,"Universe:  RENTER-OCCUPIED HOUSING UNITS"]
[null,{"$f":"B170","v":"Data Set: 2013-2017 American Community Survey 5-Year Estimates"}]
[]
[null,null,"New Hampshire",null,"Belknap County",null,"Carroll County",null,"Cheshire County",null,"Coos County",null,"Grafton County",null,"Hillsborough County",null,"Merrimack County",null,"Rockingham County",null,"Strafford County",null,"Sullivan County"]
[null," ","Estimate","Margin of Error","Estimate","Margin of Error","Estimate","Margin of Error","Estimate","Margin of Error","Estimate","Margin of Error","Estimate","Margin of Error","Estimate","Margin of Error","Estimate","Margin of Error","Estimate","Margin of Error","Estimate","Margin of Error","Estimate","Margin of Error"]
[null,"Total:",151076,2110,6163,457,4345,497,8906,488,4255,285,11133,509,51712,1241,15824,637,27708,919,16549,766,4481,345]
[null,"Less than 30.0 percent",73266,1960.2708996462709,3036,423.67204297664011,1799,343.40064065170293,3853,419.76183723630714,2037,250.59529125663954,5636,553.97292352605109,25237,1190.7375865403762,7634,580.32577058062827,14219,895.81415483346768,7661,682.93630742551682,2154,343.57095337062475]
[null,"More than 30.0 percent",69386,1959.2207634669453,2452,342.60618791843211,2002,390.75695771156779,4526,503.57918940321593,1789,238.35267986746027,4688,490.07244362440946,24325,1130.4516796396031,7215,565.11149342408532,12090,830.28910627563937,8325,737.55542164640076,1974,336.87683209149304]
[null,"Less Than 35% of HH Income",87295,2144.2299317004226,3457,445.68486624519795,2306,393.0597918892239,4754,471.54109046826454,2316,268.65405264019375,6599,595.72896521824418,30222,1311.1803842339925,9189,628.10667883728161,16831,993.70669716974339,8981,732.7666750064443,2640,374.36078854495435]
[null,"35.0 percent or more",55357,1755.985763040236,2031,313.43579884882325,1495,340.76238055278344,3625,455.45691343967985,1510,217.79577590026855,3725,438.36514459979594,19340,988.22214101891075,5660,511.47922733968386,9478,710.21827630665769,7005,688.07194391284406,1488,302.29290431632694]
[null,"50.0 percent or more",33200,1378.3620714456706,1258,258.97297156267098,925,257.70719819205669,2145,342.27474344450246,992,182.59791893666258,2121,322.479456710036,11870,716.60379569187319,3357,373.0951621235526,5474,517.30358591449954,4238,535.62393523814819,820,211.87732299611491]
[null,"Not Computed",7618,622.83705734325088,657,182.68552214119214,494,165.90660023037057,510,137.49181793837769,425,102.84940447080868,687,160.42132027882079,1952,336.4074909986399,881,196.01530552484925,1143,261.99809159610305,525,171.45261736118232,344,111.35977729862789]
[]
[]
[]
[]
[]
[]
[]
[]
[]
[]
[]
[]
[]
[]
[]
[]
[]
[]
[]
[]
[null,"B25074. HOUSEHOLD INCOME BY GROSS RENT AS A PERCENTAGE OF HOUSEHOLD INCOME IN THE PAST 12 MONTHS"]
[null,"Universe:  RENTER-OCCUPIED HOUSING UNITS"]
[null,"Data Set: 2008-2012 American Community Survey 5-Year Estimates",null,null,null,null,null,"Income in 2011 Inflation Adjusted Dollars"]
[]
[null,null,"New Hampshire",null,"Belknap County",null,"Carroll County",null,"Cheshire County",null,"Coos County",null,"Grafton County",null,"Hillsborough County",null,"Merrimack County",null,"Rockingham County",null,"Strafford County",null,"Sullivan County"]
[null," ","Estimate","Margin of Error","Estimate","Margin of Error","Estimate","Margin of Error","Estimate","Margin of Error","Estimate","Margin of Error","Estimate","Margin of Error","Estimate","Margin of Error","Estimate","Margin of Error","Estimate","Margin of Error","Estimate","Margin of Error","Estimate","Margin of Error"]
[null,"Total:",141527,1994,5664,494,4010,466,8800,567,4194,320,10278,620,48610,1015,15320,627,24897,925,14890,679,4864,373]
[null,"Less than $10,000:",14734,908,660,184,637,202,873,199,734,142,1136,223,4706,529,1596,283,1859,342,1880,336,653,190]
[null,"Less than 20.0 percent",242,110,15,24,3,5,0,85,0,85,0,85,60,53,42,48,40,41,32,53,50,48]
[null,"20.0 to 24.9 percent",287,163,0,85,16,29,0,85,35,34,4,7,75,55,19,22,61,82,12,19,65,92]
[null,"25.0 to 29.9 percent",1078,244,69,80,26,25,75,53,76,42,82,68,337,126,143,73,156,94,92,58,22,25]
[null,"30.0 to 34.9 percent",555,172,14,16,39,44,24,30,7,11,8,13,231,119,51,41,59,44,28,32,94,78]
[null,"35.0 percent or more",9552,777,434,158,425,189,513,172,510,122,619,184,3018,434,1151,236,1189,294,1369,276,324,134]
[]
[]
[null,"Not computed",3020,484,128,88,128,79,261,96,106,51,423,145,985,248,190,108,354,149,347,134,98,83]
[null,"$10,000 to $19,999:",22816,992,1158,223,687,219,1551,257,1181,173,1260,200,7744,612,2449,346,3364,434,2396,322,1026,195]
[null,"Less than 20.0 percent",1074,210,54,49,3,5,81,48,89,67,47,37,362,123,145,69,109,86,92,79,92,48]
[null,"20.0 to 24.9 percent",1663,279,66,53,19,22,74,49,102,53,127,65,478,138,326,130,217,95,107,75,147,94]
[null,"25.0 to 29.9 percent",2224,281,124,89,112,84,69,49,139,59,154,71,844,171,256,76,159,79,281,97,86,57]
[null,"30.0 to 34.9 percent",1497,253,108,58,26,43,66,48,99,50,97,45,475,132,62,38,373,144,95,59,96,82]
[null,"35.0 percent or more",15176,975,681,183,423,190,1138,238,705,145,751,174,5326,571,1510,276,2328,407,1738,310,576,165]
[]
[]
[null,"Not computed",1182,214,125,68,104,51,123,53,47,21,84,42,259,100,150,86,178,90,83,60,29,17]
[null,"$20,000 to $34,999:",30819,1486,1074,230,1214,270,2311,293,1026,205,2513,399,9456,646,3806,446,4975,531,3444,429,1000,232]
[null,"Less than 20.0 percent",1425,249,96,66,123,81,116,54,120,84,130,68,419,128,145,81,134,74,93,68,49,36]
[null,"20.0 to 24.9 percent",1288,249,38,28,56,49,117,82,155,75,166,126,232,85,195,103,201,118,93,73,35,28]
[null,"25.0 to 29.9 percent",3326,458,247,123,166,115,373,147,229,80,316,124,868,195,303,98,430,132,199,91,195,89]
[null,"30.0 to 34.9 percent",4714,507,100,63,137,109,315,115,211,81,429,148,1432,307,667,179,688,201,505,149,230,123]
[null,"35.0 percent or more",18740,1051,468,144,641,209,1323,244,244,119,1327,285,6310,516,2372,360,3154,425,2463,387,438,166]
[]
[]
[null,"Not computed",1326,220,125,73,91,48,67,38,67,27,145,82,195,80,124,55,368,152,91,57,53,35]
[null,"$35,000 to $49,999:",23961,1051,1174,262,517,181,1651,263,690,120,1843,271,8156,586,2164,307,4257,529,2553,397,956,237]
[null,"Less than 20.0 percent",2366,427,236,133,24,28,153,92,207,90,424,165,480,150,78,52,185,107,341,169,238,137]
[null,"20.0 to 24.9 percent",5024,454,354,155,167,118,391,126,218,75,406,135,1253,259,618,206,752,210,685,204,180,96]
[null,"25.0 to 29.9 percent",5584,541,255,114,77,96,369,149,120,73,323,123,2093,357,494,142,1032,261,584,156,237,146]
[null,"30.0 to 34.9 percent",4340,445,135,89,109,75,365,138,71,59,241,102,1752,283,505,184,744,229,330,136,88,46]
[null,"35.0 percent or more",5799,542,179,91,102,77,322,130,20,19,378,141,2285,362,397,133,1422,308,552,164,142,96]
[]
[]
[null,"Not computed",848,177,15,14,38,32,51,40,54,31,71,50,293,128,72,47,122,62,61,48,71,59]
[null,"$50,000 to $74,999:",25623,1212,837,175,663,171,1416,280,388,101,1808,315,8890,614,2898,313,5455,546,2620,356,648,186]
[null,"Less than 20.0 percent",9423,766,450,127,302,136,590,222,312,94,732,198,2833,390,1300,233,1560,317,906,230,438,166]
[null,"20.0 to 24.9 percent",7392,677,100,73,205,100,417,130,11,17,451,143,2488,367,919,183,1907,295,823,225,71,55]
[null,"25.0 to 29.9 percent",4296,548,197,103,70,56,176,89,12,12,253,117,1857,320,265,104,895,226,497,199,74,54]
[null,"30.0 to 34.9 percent",2103,324,0,85,27,31,123,76,23,24,153,88,789,199,212,89,536,158,210,145,30,31]
[null,"35.0 percent or more",1600,308,14,17,20,26,56,51,0,85,114,85,713,198,154,70,375,124,142,81,12,16]
[]
[]
[null,"Not computed",809,197,76,80,39,41,54,31,30,16,105,82,210,111,48,39,182,90,42,42,23,24]
[null,"$75,000 to $99,999:",12230,713,345,146,191,95,597,159,89,45,887,221,4823,462,1481,218,2360,388,1165,222,292,111]
[null,"Less than 20.0 percent",8017,547,269,126,131,81,501,154,69,38,609,184,3001,353,1070,202,1315,261,841,185,211,100]
[null,"20.0 to 24.9 percent",2374,298,61,57,26,28,37,30,5,10,104,69,1218,239,175,88,521,143,157,77,70,48]
[null,"25.0 to 29.9 percent",877,198,10,17,3,4,19,25,0,85,46,37,314,110,89,58,284,130,103,74,9,14]
[null,"30.0 to 34.9 percent",350,143,0,85,0,85,0,85,0,85,8,13,127,84,36,35,115,94,64,50,0,85]
[null,"35.0 percent or more",165,79,0,85,0,85,18,24,0,85,49,41,34,33,31,32,33,25,0,85,0,85]
[]
[]
[null,"Not computed",447,142,5,9,31,38,22,31,15,18,71,47,129,76,80,74,92,57,0,85,2,4]
[null,"$100,000 or more:",11344,741,416,158,101,51,401,145,86,54,831,209,4835,495,926,222,2627,372,832,199,289,99]
[null,"Less than 20.0 percent",9548,707,324,146,65,42,384,148,74,51,781,208,4147,465,738,188,2048,317,798,193,189,84]
[null,"20.0 to 24.9 percent",839,209,20,31,0,85,9,14,0,85,5,7,396,131,45,59,324,136,0,85,40,38]
[null,"25.0 to 29.9 percent",205,98,0,85,0,85,0,85,0,85,4,6,109,94,34,35,56,30,2,4,0,85]
[null,"30.0 to 34.9 percent",30,47,0,85,0,85,0,85,0,85,0,85,30,47,0,85,0,85,0,85,0,85]
[null,"35.0 percent or more",62,47,0,85,0,85,0,85,0,85,0,85,52,43,0,85,10,17,0,85,0,85]
[]
[]
[null,"Not computed",660,172,72,47,36,32,8,9,12,18,41,25,101,58,109,81,189,117,32,29,60,39]
[]
[null,"Calculated B25074. HOUSEHOLD INCOME BY GROSS RENT AS A PERCENTAGE OF HOUSEHOLD INCOME IN THE PAST 12 MONTHS"]
[null,"Universe:  RENTER OCCUPIED HOUSING UNITS"]
[null,{"$f":"B346","v":"Data Set: 2008-2012 American Community Survey 5-Year Estimates"},null,null,null,null,null,{"$f":"H346","v":"Income in 2011 Inflation Adjusted Dollars"}]
[]
[null,null,"New Hampshire",null,"Belknap County",null,"Carroll County",null,"Cheshire County",null,"Coos County",null,"Grafton County",null,"Hillsborough County",null,"Merrimack County",null,"Rockingham County",null,"Strafford County",null,"Sullivan County"]
[null," ","Estimate","Margin of Error","Estimate","Margin of Error","Estimate","Margin of Error","Estimate","Margin of Error","Estimate","Margin of Error","Estimate","Margin of Error","Estimate","Margin of Error","Estimate","Margin of Error","Estimate","Margin of Error","Estimate","Margin of Error","Estimate","Margin of Error"]
[null,"Total:",{"$f":"C350","v":141527},1994,5664,494,4010,466,8800,567,4194,320,10278,620,48610,1015,15320,627,{"$f":"S350","v":24897},925,14890,679,4864,373]
[null,"Less than $10,000:",14734,908,660,184,637,202,873,199,734,142,1136,223,4706,529,1596,283,1859,342,1880,336,653,190]
[null,"Less than 30.0 percent",{"$f":"C352+C353+C354","v":1607},{"$f":"SQRT((D352^2)+(D353^2)+(D355^2))","v":261.25275118168611},{"$f":"E352+E353+E354","v":84},{"$f":"SQRT((F352^2)+(F353^2)+(F355^2))","v":89.760793222876543},{"$f":"G352+G353+G354","v":45},{"$f":"SQRT((H352^2)+(H353^2)+(H355^2))","v":52.933921071464184},{"$f":"I352+I353+I354","v":75},{"$f":"SQRT((J352^2)+(J353^2)+(J355^2))","v":123.89511693363868},{"$f":"K352+K353+K354","v":111},{"$f":"SQRT((L352^2)+(L353^2)+(L355^2))","v":92.2062904578641},{"$f":"M352+M353+M354","v":86},{"$f":"SQRT((N352^2)+(N353^2)+(N355^2))","v":86.272823067290432},{"$f":"O352+O353+O354","v":472},{"$f":"SQRT((P352^2)+(P353^2)+(P355^2))","v":141.40367746278736},{"$f":"Q352+Q353+Q354","v":204},{"$f":"SQRT((R352^2)+(R353^2)+(R355^2))","v":66.850579653433073},{"$f":"S352+S353+S354","v":257},{"$f":"SQRT((T352^2)+(T353^2)+(T355^2))","v":101.69070754006975},{"$f":"U352+U353+U354","v":136},{"$f":"SQRT((V352^2)+(V353^2)+(V355^2))","v":64.76109943476871},{"$f":"W352+W353+W354","v":137},{"$f":"SQRT((X352^2)+(X353^2)+(X355^2))","v":129.81525334104617}]
[null,"More than 30.0 percent",{"$f":"C355+C356+C357+C358","v":10107},{"$f":"SQRT((D355^2)+(D356^2)+(D357^2)+(D358^2))","v":795.80965060748042},{"$f":"E355+E356+E357+E358","v":448},{"$f":"SQRT((F355^2)+(F356^2)+(F357^2)+(F358^2))","v":158.80806024884254},{"$f":"G355+G356+G357+G358","v":464},{"$f":"SQRT((H355^2)+(H356^2)+(H357^2)+(H358^2))","v":194.05411616350733},{"$f":"I355+I356+I357+I358","v":537},{"$f":"SQRT((J355^2)+(J356^2)+(J357^2)+(J358^2))","v":174.59667808981933},{"$f":"K355+K356+K357+K358","v":517},{"$f":"SQRT((L355^2)+(L356^2)+(L357^2)+(L358^2))","v":122.494897852931},{"$f":"M355+M356+M357+M358","v":627},{"$f":"SQRT((N355^2)+(N356^2)+(N357^2)+(N358^2))","v":184.45866745696716},{"$f":"O355+O356+O357+O358","v":3249},{"$f":"SQRT((P355^2)+(P356^2)+(P357^2)+(P358^2))","v":450.01888849247206},{"$f":"Q355+Q356+Q357+Q358","v":1202},{"$f":"SQRT((R355^2)+(R356^2)+(R357^2)+(R358^2))","v":239.53496613229561},{"$f":"S355+S356+S357+S358","v":1248},{"$f":"SQRT((T355^2)+(T356^2)+(T357^2)+(T358^2))","v":297.27428412158361},{"$f":"U355+U356+U357+U358","v":1397},{"$f":"SQRT((V355^2)+(V356^2)+(V357^2)+(V358^2))","v":277.8488797889961},{"$f":"W355+W356+W357+W358","v":418},{"$f":"SQRT((X355^2)+(X356^2)+(X357^2)+(X358^2))","v":155.04837954651444}]
[null,"Less Than 35% of HH Income",{"$f":"C352+C353+C354+C355","v":2162},{"$f":"SQRT((D352^2)+(D353^2)+(D354^2)+(D355^2))","v":357.47587331175231},{"$f":"E352+E353+E354+E355","v":98},{"$f":"SQRT((F352^2)+(F353^2)+(F354^2)+(F355^2))","v":120.23726543796644},{"$f":"G352+G353+G354+G355","v":84},{"$f":"SQRT((H352^2)+(H353^2)+(H354^2)+(H355^2))","v":58.540584213005594},{"$f":"I352+I353+I354+I355","v":99},{"$f":"SQRT((J352^2)+(J353^2)+(J354^2)+(J355^2))","v":134.75533384619698},{"$f":"K352+K353+K354+K355","v":118},{"$f":"SQRT((L352^2)+(L353^2)+(L354^2)+(L355^2))","v":101.32127121192272},{"$f":"M352+M353+M354+M355","v":94},{"$f":"SQRT((N352^2)+(N353^2)+(N354^2)+(N355^2))","v":109.84989758757175},{"$f":"O352+O353+O354+O355","v":703},{"$f":"SQRT((P352^2)+(P353^2)+(P354^2)+(P355^2))","v":189.39640968085959},{"$f":"Q352+Q353+Q354+Q355","v":255},{"$f":"SQRT((R352^2)+(R353^2)+(R354^2)+(R355^2))","v":98.984847325234583},{"$f":"S352+S353+S354+S355","v":316},{"$f":"SQRT((T352^2)+(T353^2)+(T354^2)+(T355^2))","v":138.48104563441163},{"$f":"U352+U353+U354+U355","v":164},{"$f":"SQRT((V352^2)+(V353^2)+(V354^2)+(V355^2))","v":86.936758623726021},{"$f":"W352+W353+W354+W355","v":231},{"$f":"SQRT((X352^2)+(X353^2)+(X354^2)+(X355^2))","v":132.20060514233663}]
[null,"35.0 percent or more",{"$f":"C355+C356+C357+C358","v":10107},{"$f":"SQRT((D355^2)+(D356^2)+(D357^2)+(D358^2))","v":795.80965060748042},{"$f":"E355+E356+E357+E358","v":448},{"$f":"SQRT((F355^2)+(F356^2)+(F357^2)+(F358^2))","v":158.80806024884254},{"$f":"G355+G356+G357+G358","v":464},{"$f":"SQRT((H355^2)+(H356^2)+(H357^2)+(H358^2))","v":194.05411616350733},{"$f":"I355+I356+I357+I358","v":537},{"$f":"SQRT((J355^2)+(J356^2)+(J357^2)+(J358^2))","v":174.59667808981933},{"$f":"K355+K356+K357+K358","v":517},{"$f":"SQRT((L355^2)+(L356^2)+(L357^2)+(L358^2))","v":122.494897852931},{"$f":"M355+M356+M357+M358","v":627},{"$f":"SQRT((N355^2)+(N356^2)+(N357^2)+(N358^2))","v":184.45866745696716},{"$f":"O355+O356+O357+O358","v":3249},{"$f":"SQRT((P355^2)+(P356^2)+(P357^2)+(P358^2))","v":450.01888849247206},{"$f":"Q355+Q356+Q357+Q358","v":1202},{"$f":"SQRT((R355^2)+(R356^2)+(R357^2)+(R358^2))","v":239.53496613229561},{"$f":"S355+S356+S357+S358","v":1248},{"$f":"SQRT((T355^2)+(T356^2)+(T357^2)+(T358^2))","v":297.27428412158361},{"$f":"U355+U356+U357+U358","v":1397},{"$f":"SQRT((V355^2)+(V356^2)+(V357^2)+(V358^2))","v":277.8488797889961},{"$f":"W355+W356+W357+W358","v":418},{"$f":"SQRT((X355^2)+(X356^2)+(X357^2)+(X358^2))","v":155.04837954651444}]
[null,"50.0 percent or more",{"$f":"C358","v":0},0,0,0,0,0,0,0,0,0,0,0,0,0,0,0,{"$f":"S358","v":0},0,0,0,0,0]
[null,"Not Computed",{"$f":"C359","v":3020},{"$f":"D359","v":484},128,88,128,79,261,96,106,51,423,145,985,248,190,108,354,149,347,134,98,83]
[null,"$10,000 to $19,999:",{"$f":"C360","v":22816},{"$f":"D360","v":992},1158,223,687,219,1551,257,1181,173,1260,200,7744,612,2449,346,3364,434,2396,322,1026,195]
[null,"Less than 30.0 percent",{"$f":"C361+C362+C363","v":4961},{"$f":"SQRT((D361^2)+(D362^2)+(D363^2))","v":448.22092766848806},{"$f":"E361+E362+E363","v":244},{"$f":"SQRT((F361^2)+(F362^2)+(F363^2))","v":114.59057552870567},{"$f":"G361+G362+G363","v":134},{"$f":"SQRT((H361^2)+(H362^2)+(H363^2))","v":86.977008456258133},{"$f":"I361+I362+I363","v":224},{"$f":"SQRT((J361^2)+(J362^2)+(J363^2))","v":84.297093662830392},{"$f":"K361+K362+K363","v":330},{"$f":"SQRT((L361^2)+(L362^2)+(L363^2))","v":103.82196299434914},{"$f":"M361+M362+M363","v":328},{"$f":"SQRT((N361^2)+(N362^2)+(N363^2))","v":103.12613635737547},{"$f":"O361+O362+O363","v":1684},{"$f":"SQRT((P361^2)+(P362^2)+(P363^2))","v":251.82136525719974},{"$f":"Q361+Q362+Q363","v":727},{"$f":"SQRT((R361^2)+(R362^2)+(R363^2))","v":165.64117845511726},{"$f":"S361+S362+S363","v":485},{"$f":"SQRT((T361^2)+(T362^2)+(T363^2))","v":150.53903148353254},{"$f":"U361+U362+U363","v":480},{"$f":"SQRT((V361^2)+(V362^2)+(V363^2))","v":145.85952145814821},{"$f":"W361+W362+W363","v":325},{"$f":"SQRT((X361^2)+(X362^2)+(X363^2))","v":119.95415791042844}]
[null,"More than 30.0 percent",{"$f":"C364+C365+C366+C367","v":16673},{"$f":"SQRT((D364^2)+(D365^2)+(D366^2)+(D367^2))","v":1007.2904248527333},{"$f":"E364+E365+E366+E367","v":789},{"$f":"SQRT((F364^2)+(F365^2)+(F366^2)+(F367^2))","v":191.97135202941089},{"$f":"G364+G365+G366+G367","v":449},{"$f":"SQRT((H364^2)+(H365^2)+(H366^2)+(H367^2))","v":194.80503073586164},{"$f":"I364+I365+I366+I367","v":1204},{"$f":"SQRT((J364^2)+(J365^2)+(J366^2)+(J367^2))","v":242.79209212822397},{"$f":"K364+K365+K366+K367","v":804},{"$f":"SQRT((L364^2)+(L365^2)+(L366^2)+(L367^2))","v":153.37861650177967},{"$f":"M364+M365+M366+M367","v":848},{"$f":"SQRT((N364^2)+(N365^2)+(N366^2)+(N367^2))","v":179.7247896090019},{"$f":"O364+O365+O366+O367","v":5801},{"$f":"SQRT((P364^2)+(P365^2)+(P366^2)+(P367^2))","v":586.05887076299769},{"$f":"Q364+Q365+Q366+Q367","v":1572},{"$f":"SQRT((R364^2)+(R365^2)+(R366^2)+(R367^2))","v":278.60366113890177},{"$f":"S364+S365+S366+S367","v":2701},{"$f":"SQRT((T364^2)+(T365^2)+(T366^2)+(T367^2))","v":431.72329100941499},{"$f":"U364+U365+U366+U367","v":1833},{"$f":"SQRT((V364^2)+(V365^2)+(V366^2)+(V367^2))","v":315.56457342357049},{"$f":"W364+W365+W366+W367","v":672},{"$f":"SQRT((X364^2)+(X365^2)+(X366^2)+(X367^2))","v":184.25254408012933}]
[null,"Less Than 35% of HH Income",{"$f":"C361+C362+C363+C364","v":6458},{"$f":"SQRT((D361^2)+(D362^2)+(D363^2)+(D364^2))","v":514.69505534831012},{"$f":"E361+E362+E363+E364","v":352},{"$f":"SQRT((F361^2)+(F362^2)+(F363^2)+(F364^2))","v":128.43286183839399},{"$f":"G361+G362+G363+G364","v":160},{"$f":"SQRT((H361^2)+(H362^2)+(H363^2)+(H364^2))","v":97.02576977277738},{"$f":"I361+I362+I363+I364","v":290},{"$f":"SQRT((J361^2)+(J362^2)+(J363^2)+(J364^2))","v":97.005154502222197},{"$f":"K361+K362+K363+K364","v":429},{"$f":"SQRT((L361^2)+(L362^2)+(L363^2)+(L364^2))","v":115.2345434320803},{"$f":"M361+M362+M363+M364","v":425},{"$f":"SQRT((N361^2)+(N362^2)+(N363^2)+(N364^2))","v":112.51666543228163},{"$f":"O361+O362+O363+O364","v":2159},{"$f":"SQRT((P361^2)+(P362^2)+(P363^2)+(P364^2))","v":284.32024198076368},{"$f":"Q361+Q362+Q363+Q364","v":789},{"$f":"SQRT((R361^2)+(R362^2)+(R363^2)+(R364^2))","v":169.94410845922255},{"$f":"S361+S362+S363+S364","v":858},{"$f":"SQRT((T361^2)+(T362^2)+(T363^2)+(T364^2))","v":208.32186635108664},{"$f":"U361+U362+U363+U364","v":575},{"$f":"SQRT((V361^2)+(V362^2)+(V363^2)+(V364^2))","v":157.34039532173549},{"$f":"W361+W362+W363+W364","v":421},{"$f":"SQRT((X361^2)+(X362^2)+(X363^2)+(X364^2))","v":145.3031314184247}]
[null,"35.0 percent or more",{"$f":"C365+C366+C367","v":15176},{"$f":"SQRT((D365^2)+(D366^2)+(D367^2))","v":975},{"$f":"E365+E366+E367","v":681},{"$f":"SQRT((F365^2)+(F366^2)+(F367^2))","v":183},{"$f":"G365+G366+G367","v":423},{"$f":"SQRT((H365^2)+(H366^2)+(H367^2))","v":190},{"$f":"I365+I366+I367","v":1138},{"$f":"SQRT((J365^2)+(J366^2)+(J367^2))","v":238},{"$f":"K365+K366+K367","v":705},{"$f":"SQRT((L365^2)+(L366^2)+(L367^2))","v":145},{"$f":"M365+M366+M367","v":751},{"$f":"SQRT((N365^2)+(N366^2)+(N367^2))","v":174},{"$f":"O365+O366+O367","v":5326},{"$f":"SQRT((P365^2)+(P366^2)+(P367^2))","v":571},{"$f":"Q365+Q366+Q367","v":1510},{"$f":"SQRT((R365^2)+(R366^2)+(R367^2))","v":276},{"$f":"S365+S366+S367","v":2328},{"$f":"SQRT((T365^2)+(T366^2)+(T367^2))","v":407},{"$f":"U365+U366+U367","v":1738},{"$f":"SQRT((V365^2)+(V366^2)+(V367^2))","v":310},{"$f":"W365+W366+W367","v":576},{"$f":"SQRT((X365^2)+(X366^2)+(X367^2))","v":165}]
[null,"50.0 percent or more",{"$f":"C367","v":0},0,0,0,0,0,0,0,0,0,0,0,0,0,0,0,{"$f":"S367","v":0},0,0,0,0,0]
[null,"Not Computed",{"$f":"C368","v":1182},214,125,68,104,51,123,53,47,21,84,42,259,100,150,86,178,90,83,60,29,17]
[null,"$20,000 to $34,999:",30819,1486,1074,230,1214,270,2311,293,1026,205,2513,399,9456,646,3806,446,4975,531,3444,429,1000,232]
[null,"Less than 30.0 percent",1425,249,96,{"$f":"F370","v":66},123,{"$f":"H370","v":81},116,{"$f":"J370","v":54},120,{"$f":"L370","v":84},130,{"$f":"N370","v":68},419,{"$f":"P370","v":128},145,{"$f":"R370","v":81},134,{"$f":"T370","v":74},93,{"$f":"V370","v":68},49,{"$f":"X370","v":36}]
[null,"More than 30.0 percent",{"$f":"C373+C374+C375+C376","v":23454},{"$f":"SQRT((D373^2)+(D374^2)+(D375^2)+(D376^2))","v":1166.8975961925707},{"$f":"E373+E374+E375+E376","v":568},{"$f":"SQRT((F373^2)+(F374^2)+(F375^2)+(F376^2))","v":157.17824276915684},{"$f":"G373+G374+G375+G376","v":778},{"$f":"SQRT((H373^2)+(H374^2)+(H375^2)+(H376^2))","v":235.71593073019056},{"$f":"I373+I374+I375+I376","v":1638},{"$f":"SQRT((J373^2)+(J374^2)+(J375^2)+(J376^2))","v":269.74246977441277},{"$f":"K373+K374+K375+K376","v":455},{"$f":"SQRT((L373^2)+(L374^2)+(L375^2)+(L376^2))","v":143.95138068111746},{"$f":"M373+M374+M375+M376","v":1756},{"$f":"SQRT((N373^2)+(N374^2)+(N375^2)+(N376^2))","v":321.13704239779003},{"$f":"O373+O374+O375+O376","v":7742},{"$f":"SQRT((P373^2)+(P374^2)+(P375^2)+(P376^2))","v":600.42068585284437},{"$f":"Q373+Q374+Q375+Q376","v":3039},{"$f":"SQRT((R373^2)+(R374^2)+(R375^2)+(R376^2))","v":402.04601726668056},{"$f":"S373+S374+S375+S376","v":3842},{"$f":"SQRT((T373^2)+(T374^2)+(T375^2)+(T376^2))","v":470.13402344437912},{"$f":"U373+U374+U375+U376","v":2968},{"$f":"SQRT((V373^2)+(V374^2)+(V375^2)+(V376^2))","v":414.69265727765185},{"$f":"W373+W374+W375+W376","v":668},{"$f":"SQRT((X373^2)+(X374^2)+(X375^2)+(X376^2))","v":206.60348496576722}]
[null,"Less Than 35% of HH Income",{"$f":"C370+C371+C372+C373","v":10753},{"$f":"SQRT((D372^2)+(D373^2)+(D374^2)+(D375^2))","v":1253.5605290531446},{"$f":"E370+E371+E372+E373","v":481},{"$f":"SQRT((F372^2)+(F373^2)+(F374^2)+(F375^2))","v":199.58456854175876},{"$f":"G370+G371+G372+G373","v":482},{"$f":"SQRT((H372^2)+(H373^2)+(H374^2)+(H375^2))","v":262.27275878367544},{"$f":"I370+I371+I372+I373","v":921},{"$f":"SQRT((J372^2)+(J373^2)+(J374^2)+(J375^2))","v":307.19700519373555},{"$f":"K370+K371+K372+K373","v":715},{"$f":"SQRT((L372^2)+(L373^2)+(L374^2)+(L375^2))","v":164.68758301705688},{"$f":"M370+M371+M372+M373","v":1041},{"$f":"SQRT((N372^2)+(N373^2)+(N374^2)+(N375^2))","v":344.24555189573618},{"$f":"O370+O371+O372+O373","v":2951},{"$f":"SQRT((P372^2)+(P373^2)+(P374^2)+(P375^2))","v":631.29232531371713},{"$f":"Q370+Q371+Q372+Q373","v":1310},{"$f":"SQRT((R372^2)+(R373^2)+(R374^2)+(R375^2))","v":413.81759266614074},{"$f":"S370+S371+S372+S373","v":1453},{"$f":"SQRT((T372^2)+(T373^2)+(T374^2)+(T375^2))","v":488.3134239399937},{"$f":"U370+U371+U372+U373","v":890},{"$f":"SQRT((V372^2)+(V373^2)+(V374^2)+(V375^2))","v":424.55977199918505},{"$f":"W370+W371+W372+W373","v":509},{"$f":"SQRT((X372^2)+(X373^2)+(X374^2)+(X375^2))","v":224.95777381544298}]
[null,"35.0 percent or more",{"$f":"C374+C375+C376","v":18740},{"$f":"SQRT((D369^2)+(D370^2)+(D371^2)+(D372^2))","v":1594.3531603757056},{"$f":"E374+E375+E376","v":468},{"$f":"SQRT((F369^2)+(F370^2)+(F371^2)+(F372^2))","v":270.49768945408755},{"$f":"G374+G375+G376","v":641},{"$f":"SQRT((H369^2)+(H370^2)+(H371^2)+(H372^2))","v":308.36180048767392},{"$f":"I374+I375+I376","v":1323},{"$f":"SQRT((J369^2)+(J370^2)+(J371^2)+(J372^2))","v":342.19585035473472},{"$f":"K374+K375+K376","v":244},{"$f":"SQRT((L369^2)+(L370^2)+(L371^2)+(L372^2))","v":247.19627828913605},{"$f":"M374+M375+M376","v":1327},{"$f":"SQRT((N369^2)+(N370^2)+(N371^2)+(N372^2))","v":441.67522004296325},{"$f":"O374+O375+O376","v":6310},{"$f":"SQRT((P369^2)+(P370^2)+(P371^2)+(P372^2))","v":692.06213593867426},{"$f":"Q374+Q375+Q376","v":2372},{"$f":"SQRT((R369^2)+(R370^2)+(R371^2)+(R372^2))","v":475.06841612550926},{"$f":"S374+S375+S376","v":3154},{"$f":"SQRT((T369^2)+(T370^2)+(T371^2)+(T372^2))","v":564.61048520196653},{"$f":"U374+U375+U376","v":2463},{"$f":"SQRT((V369^2)+(V370^2)+(V371^2)+(V372^2))","v":449.7499305169485},{"$f":"W374+W375+W376","v":438},{"$f":"SQRT((X369^2)+(X370^2)+(X371^2)+(X372^2))","v":252.63610193319562}]
[null,"50.0 percent or more",{"$f":"C376","v":0},{"$f":"SQRT((D373^2)+(D374^2)+(D375^2))","v":1166.8975961925707},{"$f":"E376","v":0},{"$f":"SQRT((F373^2)+(F374^2)+(F375^2))","v":157.17824276915684},0,{"$f":"SQRT((H373^2)+(H374^2)+(H375^2))","v":235.71593073019056},0,{"$f":"SQRT((J373^2)+(J374^2)+(J375^2))","v":269.74246977441277},0,{"$f":"SQRT((L373^2)+(L374^2)+(L375^2))","v":143.95138068111746},0,{"$f":"SQRT((N373^2)+(N374^2)+(N375^2))","v":321.13704239779003},0,{"$f":"SQRT((P373^2)+(P374^2)+(P375^2))","v":600.42068585284437},0,{"$f":"SQRT((R373^2)+(R374^2)+(R375^2))","v":402.04601726668056},0,{"$f":"SQRT((T373^2)+(T374^2)+(T375^2))","v":470.13402344437912},0,{"$f":"SQRT((V373^2)+(V374^2)+(V375^2))","v":414.69265727765185},0,{"$f":"SQRT((X373^2)+(X374^2)+(X375^2))","v":206.60348496576722}]
[null,"Not Computed",1326,220,125,73,91,48,67,38,67,27,145,82,195,80,124,55,368,152,91,57,53,35]
[null,"$35,000 to $49,999:",23961,1051,1174,262,517,181,1651,263,690,120,1843,271,8156,586,2164,307,4257,529,2553,397,956,237]
[null,"Less than 30.0 percent",{"$f":"C379+C380+C381","v":12974},427,{"$f":"E379+E380+E381","v":845},133,{"$f":"G379+G380+G381","v":268},28,{"$f":"I379+I380+I381","v":913},92,{"$f":"K379+K380+K381","v":545},90,{"$f":"M379+M380+M381","v":1153},165,{"$f":"O379+O380+O381","v":3826},150,{"$f":"Q379+Q380+Q381","v":1190},52,{"$f":"S379+S380+S381","v":1969},107,{"$f":"U379+U380+U381","v":1610},169,{"$f":"W379+W380+W381","v":655},137]
[null,"More than 30.0 percent",{"$f":"C382+C383+C384+C385","v":10139},{"$f":"SQRT((D382^2)+(D383^2)+(D384^2)+(D385^2))","v":701.2766928966056},{"$f":"E382+E383+E384+E385","v":314},{"$f":"SQRT((F382^2)+(F383^2)+(F384^2)+(F385^2))","v":127.28707711311466},{"$f":"G382+G383+G384+G385","v":211},{"$f":"SQRT((H382^2)+(H383^2)+(H384^2)+(H385^2))","v":107.48953437428223},{"$f":"I382+I383+I384+I385","v":687},{"$f":"SQRT((J382^2)+(J383^2)+(J384^2)+(J385^2))","v":189.58902921846507},{"$f":"K382+K383+K384+K385","v":91},{"$f":"SQRT((L382^2)+(L383^2)+(L384^2)+(L385^2))","v":61.98386886924694},{"$f":"M382+M383+M384+M385","v":619},{"$f":"SQRT((N382^2)+(N383^2)+(N384^2)+(N385^2))","v":174.02586014727811},{"$f":"O382+O383+O384+O385","v":4037},{"$f":"SQRT((P382^2)+(P383^2)+(P384^2)+(P385^2))","v":459.49211092248362},{"$f":"Q382+Q383+Q384+Q385","v":902},{"$f":"SQRT((R382^2)+(R383^2)+(R384^2)+(R385^2))","v":227.03523955544875},{"$f":"S382+S383+S384+S385","v":2166},{"$f":"SQRT((T382^2)+(T383^2)+(T384^2)+(T385^2))","v":383.80333505585907},{"$f":"U382+U383+U384+U385","v":882},{"$f":"SQRT((V382^2)+(V383^2)+(V384^2)+(V385^2))","v":213.05398376937239},{"$f":"W382+W383+W384+W385","v":230},{"$f":"SQRT((X382^2)+(X383^2)+(X384^2)+(X385^2))","v":106.45186705737011}]
[null,"Less Than 35% of HH Income",{"$f":"C379+C380+C381+C382","v":17314},{"$f":"SQRT((D379^2)+(D380^2)+(D381^2)+(D382^2))","v":937.63052424715784},{"$f":"E379+E380+E381+E382","v":980},{"$f":"SQRT((F379^2)+(F380^2)+(F381^2)+(F382^2))","v":250.26186285568963},{"$f":"G379+G380+G381+G382","v":377},{"$f":"SQRT((H379^2)+(H380^2)+(H381^2)+(H382^2))","v":171.89822570346675},{"$f":"I379+I380+I381+I382","v":1278},{"$f":"SQRT((J379^2)+(J380^2)+(J381^2)+(J382^2))","v":256.09568524284043},{"$f":"K379+K380+K381+K382","v":616},{"$f":"SQRT((L379^2)+(L380^2)+(L381^2)+(L382^2))","v":150.11662133155008},{"$f":"M379+M380+M381+M382","v":1394},{"$f":"SQRT((N379^2)+(N380^2)+(N381^2)+(N382^2))","v":266.42635004818874},{"$f":"O379+O380+O381+O382","v":5578},{"$f":"SQRT((P379^2)+(P380^2)+(P381^2)+(P382^2))","v":545.08623171017632},{"$f":"Q379+Q380+Q381+Q382","v":1695},{"$f":"SQRT((R379^2)+(R380^2)+(R381^2)+(R382^2))","v":314.89680849446535},{"$f":"S379+S380+S381+S382","v":2713},{"$f":"SQRT((T379^2)+(T380^2)+(T381^2)+(T382^2))","v":419.65581135020636},{"$f":"U379+U380+U381+U382","v":1940},{"$f":"SQRT((V379^2)+(V380^2)+(V381^2)+(V382^2))","v":336.16811270553308},{"$f":"W379+W380+W381+W382","v":743},{"$f":"SQRT((X379^2)+(X380^2)+(X381^2)+(X382^2))","v":226.75316976836288}]
[null,"35.0 percent or more",{"$f":"C383+C384+C385","v":5799},{"$f":"SQRT((D383^2)+(D384^2)+(D385^2))","v":542},{"$f":"E383+E384+E385","v":179},{"$f":"SQRT((F383^2)+(F384^2)+(F385^2))","v":91},{"$f":"G383+G384+G385","v":102},{"$f":"SQRT((H383^2)+(H384^2)+(H385^2))","v":77},{"$f":"I383+I384+I385","v":322},{"$f":"SQRT((J383^2)+(J384^2)+(J385^2))","v":130},{"$f":"K383+K384+K385","v":20},{"$f":"SQRT((L383^2)+(L384^2)+(L385^2))","v":19},{"$f":"M383+M384+M385","v":378},{"$f":"SQRT((N383^2)+(N384^2)+(N385^2))","v":141},{"$f":"O383+O384+O385","v":2285},{"$f":"SQRT((P383^2)+(P384^2)+(P385^2))","v":362},{"$f":"Q383+Q384+Q385","v":397},{"$f":"SQRT((R383^2)+(R384^2)+(R385^2))","v":133},{"$f":"S383+S384+S385","v":1422},{"$f":"SQRT((T383^2)+(T384^2)+(T385^2))","v":308},{"$f":"U383+U384+U385","v":552},{"$f":"SQRT((V383^2)+(V384^2)+(V385^2))","v":164},{"$f":"W383+W384+W385","v":142},{"$f":"SQRT((X383^2)+(X384^2)+(X385^2))","v":96}]
[null,"50.0 percent or more",{"$f":"C385","v":0},0,0,0,0,0,0,0,0,0,0,0,0,0,0,0,{"$f":"S385","v":0},0,0,0,0,0]
[null,"Not Computed",848,177,15,14,38,32,51,40,54,31,71,50,293,128,72,47,122,62,61,48,71,59]
[null,"$50,000 to $74,999:",{"$f":"C387","v":25623},1212,837,175,663,171,1416,280,388,101,1808,315,8890,614,2898,313,5455,546,2620,356,648,186]
[null,"Less than 30.0 percent",{"$f":"C388+C389+C390","v":21111},{"$f":"SQRT((D388^2)+(D389^2)+(D390^2))","v":1159.9090481585183},{"$f":"E388+E389+E390","v":747},{"$f":"SQRT((F388^2)+(F389^2)+(F390^2))","v":179.07261097108068},{"$f":"G388+G389+G390","v":577},{"$f":"SQRT((H388^2)+(H389^2)+(H390^2))","v":177.85387260332567},{"$f":"I388+I389+I390","v":1183},{"$f":"SQRT((J388^2)+(J389^2)+(J390^2))","v":272.22233560088341},{"$f":"K388+K389+K390","v":335},{"$f":"SQRT((L388^2)+(L389^2)+(L390^2))","v":96.275645933953612},{"$f":"M388+M389+M390","v":1436},{"$f":"SQRT((N388^2)+(N389^2)+(N390^2))","v":270.81728157560406},{"$f":"O388+O389+O390","v":7178},{"$f":"SQRT((P388^2)+(P389^2)+(P390^2))","v":623.85014226174542},{"$f":"Q388+Q389+Q390","v":2484},{"$f":"SQRT((R388^2)+(R389^2)+(R390^2))","v":313.99681527047375},{"$f":"S388+S389+S390","v":4362},{"$f":"SQRT((T388^2)+(T389^2)+(T390^2))","v":488.45675345930061},{"$f":"U388+U389+U390","v":2226},{"$f":"SQRT((V388^2)+(V389^2)+(V390^2))","v":378.31997039543126},{"$f":"W388+W389+W390","v":583},{"$f":"SQRT((X388^2)+(X389^2)+(X390^2))","v":183.02185661827389}]
[null,"More than 30.0 percent",{"$f":"C391+C392+C393+C394","v":3703},{"$f":"SQRT((D391^2)+(D392^2)+(D393^2)+(D394^2))","v":447.0346742703523},{"$f":"E391+E392+E393+E394","v":14},{"$f":"SQRT((F391^2)+(F392^2)+(F393^2)+(F394^2))","v":86.683331731077345},{"$f":"G391+G392+G393+G394","v":47},{"$f":"SQRT((H391^2)+(H392^2)+(H393^2)+(H394^2))","v":40.459856648287818},{"$f":"I391+I392+I393+I394","v":179},{"$f":"SQRT((J391^2)+(J392^2)+(J393^2)+(J394^2))","v":91.525952603619487},{"$f":"K391+K392+K393+K394","v":23},{"$f":"SQRT((L391^2)+(L392^2)+(L393^2)+(L394^2))","v":88.323269867006175},{"$f":"M391+M392+M393+M394","v":267},{"$f":"SQRT((N391^2)+(N392^2)+(N393^2)+(N394^2))","v":122.34786471369249},{"$f":"O391+O392+O393+O394","v":1502},{"$f":"SQRT((P391^2)+(P392^2)+(P393^2)+(P394^2))","v":280.72228269234347},{"$f":"Q391+Q392+Q393+Q394","v":366},{"$f":"SQRT((R391^2)+(R392^2)+(R393^2)+(R394^2))","v":113.22985472038724},{"$f":"S391+S392+S393+S394","v":911},{"$f":"SQRT((T391^2)+(T392^2)+(T393^2)+(T394^2))","v":200.84820138602188},{"$f":"U391+U392+U393+U394","v":352},{"$f":"SQRT((V391^2)+(V392^2)+(V393^2)+(V394^2))","v":166.0903368652132},{"$f":"W391+W392+W393+W394","v":42},{"$f":"SQRT((X391^2)+(X392^2)+(X393^2)+(X394^2))","v":34.885527085024819}]
[null,"Less Than 35% of HH Income",{"$f":"C388+C389+C390+C391","v":23214},{"$f":"SQRT((D388^2)+(D389^2)+(D390^2)+(D391^2))","v":1204.311006343461},{"$f":"E388+E389+E390+E391","v":747},{"$f":"SQRT((F388^2)+(F389^2)+(F390^2)+(F391^2))","v":198.22209765815717},{"$f":"G388+G389+G390+G391","v":604},{"$f":"SQRT((H388^2)+(H389^2)+(H390^2)+(H391^2))","v":180.53531510482929},{"$f":"I388+I389+I390+I391","v":1306},{"$f":"SQRT((J388^2)+(J389^2)+(J390^2)+(J391^2))","v":282.63226991976694},{"$f":"K388+K389+K390+K391","v":358},{"$f":"SQRT((L388^2)+(L389^2)+(L390^2)+(L391^2))","v":99.221973372837127},{"$f":"M388+M389+M390+M391","v":1589},{"$f":"SQRT((N388^2)+(N389^2)+(N390^2)+(N391^2))","v":284.75603593251537},{"$f":"O388+O389+O390+O391","v":7967},{"$f":"SQRT((P388^2)+(P389^2)+(P390^2)+(P391^2))","v":654.82058611500599},{"$f":"Q388+Q389+Q390+Q391","v":2696},{"$f":"SQRT((R388^2)+(R389^2)+(R390^2)+(R391^2))","v":326.36635856043739},{"$f":"S388+S389+S390+S391","v":4898},{"$f":"SQRT((T388^2)+(T389^2)+(T390^2)+(T391^2))","v":513.37510652543335},{"$f":"U388+U389+U390+U391","v":2436},{"$f":"SQRT((V388^2)+(V389^2)+(V390^2)+(V391^2))","v":405.15552569352923},{"$f":"W388+W389+W390+W391","v":613},{"$f":"SQRT((X388^2)+(X389^2)+(X390^2)+(X391^2))","v":185.62866158004803}]
[null,"35.0 percent or more",{"$f":"C392+C393+C394","v":1600},{"$f":"SQRT((D392^2)+(D393^2)+(D394^2))","v":308},{"$f":"E392+E393+E394","v":14},{"$f":"SQRT((F392^2)+(F393^2)+(F394^2))","v":17},{"$f":"G392+G393+G394","v":20},{"$f":"SQRT((H392^2)+(H393^2)+(H394^2))","v":26},{"$f":"I392+I393+I394","v":56},{"$f":"SQRT((J392^2)+(J393^2)+(J394^2))","v":51},{"$f":"K392+K393+K394","v":0},{"$f":"SQRT((L392^2)+(L393^2)+(L394^2))","v":85},{"$f":"M392+M393+M394","v":114},{"$f":"SQRT((N392^2)+(N393^2)+(N394^2))","v":85},{"$f":"O392+O393+O394","v":713},{"$f":"SQRT((P392^2)+(P393^2)+(P394^2))","v":198},{"$f":"Q392+Q393+Q394","v":154},{"$f":"SQRT((R392^2)+(R393^2)+(R394^2))","v":70},{"$f":"S392+S393+S394","v":375},{"$f":"SQRT((T392^2)+(T393^2)+(T394^2))","v":124},{"$f":"U392+U393+U394","v":142},{"$f":"SQRT((V392^2)+(V393^2)+(V394^2))","v":81},{"$f":"W392+W393+W394","v":12},{"$f":"SQRT((X392^2)+(X393^2)+(X394^2))","v":16}]
[null,"50.0 percent or more",{"$f":"C394","v":0},0,0,0,0,0,0,0,0,0,0,0,0,0,0,0,{"$f":"S394","v":0},0,0,0,0,0]
[null,"Not Computed",{"$f":"C395","v":809},{"$f":"D395","v":197},76,80,39,41,54,31,30,16,105,82,210,111,48,39,182,90,42,42,23,24]
[null,"$75,000 to $99,999:",{"$f":"C396","v":12230},{"$f":"D396","v":713},345,146,191,95,597,159,89,45,887,221,4823,462,1481,218,2360,388,1165,222,292,111]
[null,"Less than 30.0 percent",{"$f":"C397+C398+C399","v":11268},{"$f":"SQRT((D397^2)+(D398^2)+(D399^2))","v":653.61839019415606},{"$f":"E397+E398+E399","v":340},{"$f":"SQRT((F397^2)+(F398^2)+(F399^2))","v":139.33413077921719},{"$f":"G397+G398+G399","v":160},{"$f":"SQRT((H397^2)+(H398^2)+(H399^2))","v":85.796270315206598},{"$f":"I397+I398+I399","v":557},{"$f":"SQRT((J397^2)+(J398^2)+(J399^2))","v":158.8741640418605},{"$f":"K397+K398+K399","v":74},{"$f":"SQRT((L397^2)+(L398^2)+(L399^2))","v":93.642938868875746},{"$f":"M397+M398+M399","v":759},{"$f":"SQRT((N397^2)+(N398^2)+(N399^2))","v":199.96499693696396},{"$f":"O397+O398+O399","v":4533},{"$f":"SQRT((P397^2)+(P398^2)+(P399^2))","v":440.26128605635995},{"$f":"Q397+Q398+Q399","v":1334},{"$f":"SQRT((R397^2)+(R398^2)+(R399^2))","v":227.8420505525703},{"$f":"S397+S398+S399","v":2120},{"$f":"SQRT((T397^2)+(T398^2)+(T399^2))","v":324.76145091435961},{"$f":"U397+U398+U399","v":1101},{"$f":"SQRT((V397^2)+(V398^2)+(V399^2))","v":213.61179742701478},{"$f":"W397+W398+W399","v":290},{"$f":"SQRT((X397^2)+(X398^2)+(X399^2))","v":111.80339887498948}]
[null,"More than 30.0 percent",{"$f":"C391+C392+C393+C394","v":3703},{"$f":"SQRT((D391^2)+(D392^2)+(D393^2)+(D394^2))","v":447.0346742703523},{"$f":"E391+E392+E393+E394","v":14},{"$f":"SQRT((F391^2)+(F392^2)+(F393^2)+(F394^2))","v":86.683331731077345},{"$f":"G391+G392+G393+G394","v":47},{"$f":"SQRT((H391^2)+(H392^2)+(H393^2)+(H394^2))","v":40.459856648287818},{"$f":"I391+I392+I393+I394","v":179},{"$f":"SQRT((J391^2)+(J392^2)+(J393^2)+(J394^2))","v":91.525952603619487},{"$f":"K391+K392+K393+K394","v":23},{"$f":"SQRT((L391^2)+(L392^2)+(L393^2)+(L394^2))","v":88.323269867006175},{"$f":"M391+M392+M393+M394","v":267},{"$f":"SQRT((N391^2)+(N392^2)+(N393^2)+(N394^2))","v":122.34786471369249},{"$f":"O391+O392+O393+O394","v":1502},{"$f":"SQRT((P391^2)+(P392^2)+(P393^2)+(P394^2))","v":280.72228269234347},{"$f":"Q391+Q392+Q393+Q394","v":366},{"$f":"SQRT((R391^2)+(R392^2)+(R393^2)+(R394^2))","v":113.22985472038724},{"$f":"S391+S392+S393+S394","v":911},{"$f":"SQRT((T391^2)+(T392^2)+(T393^2)+(T394^2))","v":200.84820138602188},{"$f":"U391+U392+U393+U394","v":352},{"$f":"SQRT((V391^2)+(V392^2)+(V393^2)+(V394^2))","v":166.0903368652132},{"$f":"W391+W392+W393+W394","v":42},{"$f":"SQRT((X391^2)+(X392^2)+(X393^2)+(X394^2))","v":34.885527085024819}]
[null,"Less Than 35% of HH Income",{"$f":"C388+C389+C390++C391","v":23214},{"$f":"SQRT((D388^2)+(D389^2)+(D390^2)+(D391^2))","v":1204.311006343461},{"$f":"E388+E389+E390++E391","v":747},{"$f":"SQRT((F388^2)+(F389^2)+(F390^2)+(F391^2))","v":198.22209765815717},{"$f":"G388+G389+G390++G391","v":604},{"$f":"SQRT((H388^2)+(H389^2)+(H390^2)+(H391^2))","v":180.53531510482929},{"$f":"I388+I389+I390++I391","v":1306},{"$f":"SQRT((J388^2)+(J389^2)+(J390^2)+(J391^2))","v":282.63226991976694},{"$f":"K388+K389+K390++K391","v":358},{"$f":"SQRT((L388^2)+(L389^2)+(L390^2)+(L391^2))","v":99.221973372837127},{"$f":"M388+M389+M390++M391","v":1589},{"$f":"SQRT((N388^2)+(N389^2)+(N390^2)+(N391^2))","v":284.75603593251537},{"$f":"O388+O389+O390++O391","v":7967},{"$f":"SQRT((P388^2)+(P389^2)+(P390^2)+(P391^2))","v":654.82058611500599},{"$f":"Q388+Q389+Q390++Q391","v":2696},{"$f":"SQRT((R388^2)+(R389^2)+(R390^2)+(R391^2))","v":326.36635856043739},{"$f":"S388+S389+S390++S391","v":4898},{"$f":"SQRT((T388^2)+(T389^2)+(T390^2)+(T391^2))","v":513.37510652543335},{"$f":"U388+U389+U390++U391","v":2436},{"$f":"SQRT((V388^2)+(V389^2)+(V390^2)+(V391^2))","v":405.15552569352923},{"$f":"W388+W389+W390++W391","v":613},{"$f":"SQRT((X388^2)+(X389^2)+(X390^2)+(X391^2))","v":185.62866158004803}]
[null,"35.0 percent or more",{"$f":"C392+C393+C394","v":1600},{"$f":"SQRT((D392^2)+(D393^2)+(D394^2))","v":308},{"$f":"E392+E393+E394","v":14},{"$f":"SQRT((F392^2)+(F393^2)+(F394^2))","v":17},{"$f":"G392+G393+G394","v":20},{"$f":"SQRT((H392^2)+(H393^2)+(H394^2))","v":26},{"$f":"I392+I393+I394","v":56},{"$f":"SQRT((J392^2)+(J393^2)+(J394^2))","v":51},{"$f":"K392+K393+K394","v":0},{"$f":"SQRT((L392^2)+(L393^2)+(L394^2))","v":85},{"$f":"M392+M393+M394","v":114},{"$f":"SQRT((N392^2)+(N393^2)+(N394^2))","v":85},{"$f":"O392+O393+O394","v":713},{"$f":"SQRT((P392^2)+(P393^2)+(P394^2))","v":198},{"$f":"Q392+Q393+Q394","v":154},{"$f":"SQRT((R392^2)+(R393^2)+(R394^2))","v":70},{"$f":"S392+S393+S394","v":375},{"$f":"SQRT((T392^2)+(T393^2)+(T394^2))","v":124},{"$f":"U392+U393+U394","v":142},{"$f":"SQRT((V392^2)+(V393^2)+(V394^2))","v":81},{"$f":"W392+W393+W394","v":12},{"$f":"SQRT((X392^2)+(X393^2)+(X394^2))","v":16}]
[null,"50.0 percent or more",{"$f":"C403","v":0},0,0,0,0,0,0,0,0,0,0,0,0,0,0,0,{"$f":"S403","v":0},0,0,0,0,0]
[null,"Not Computed",{"$f":"C404","v":447},{"$f":"D404","v":142},5,9,31,38,22,31,15,18,71,47,129,76,80,74,92,57,0,85,2,4]
[null,"$100,000 or more:",{"$f":"C405","v":11344},{"$f":"D405","v":741},416,158,101,51,401,145,86,54,831,209,4835,495,926,222,2627,372,832,199,289,99]
[null,"Less than 30.0 percent",{"$f":"C406+C407+C408","v":10592},{"$f":"SQRT((D406^2)+(D407^2)+(D408^2))","v":743.72978964137235},{"$f":"E406+E407+E408","v":344},{"$f":"SQRT((F406^2)+(F407^2)+(F408^2))","v":171.76146249959564},{"$f":"G406+G407+G408","v":65},{"$f":"SQRT((H406^2)+(H407^2)+(H408^2))","v":127.33420593069248},{"$f":"I406+I407+I408","v":393},{"$f":"SQRT((J406^2)+(J407^2)+(J408^2))","v":171.24543789543708},{"$f":"K406+K407+K408","v":74},{"$f":"SQRT((L406^2)+(L407^2)+(L408^2))","v":130.57947771376635},{"$f":"M406+M407+M408","v":790},{"$f":"SQRT((N406^2)+(N407^2)+(N408^2))","v":208.20422666218857},{"$f":"O406+O407+O408","v":4652},{"$f":"SQRT((P406^2)+(P407^2)+(P408^2))","v":492.16054291257439},{"$f":"Q406+Q407+Q408","v":817},{"$f":"SQRT((R406^2)+(R407^2)+(R408^2))","v":200.124960961895},{"$f":"S406+S407+S408","v":2428},{"$f":"SQRT((T406^2)+(T407^2)+(T408^2))","v":346.24413352430969},{"$f":"U406+U407+U408","v":800},{"$f":"SQRT((V406^2)+(V407^2)+(V408^2))","v":210.92652749239485},{"$f":"W406+W407+W408","v":229},{"$f":"SQRT((X406^2)+(X407^2)+(X408^2))","v":125.39936203984452}]
[null,"More than 30.0 percent",{"$f":"C409+C410+C411+C412","v":92},{"$f":"SQRT((D409^2)+(D410^2)+(D411^2)+(D412^2))","v":66.468037431535464},{"$f":"E409+E410+E411+E412","v":0},{"$f":"SQRT((F409^2)+(F410^2)+(F411^2)+(F412^2))","v":120.20815280171308},{"$f":"G409+G410+G411+G412","v":0},{"$f":"SQRT((H409^2)+(H410^2)+(H411^2)+(H412^2))","v":120.20815280171308},{"$f":"I409+I410+I411+I412","v":0},{"$f":"SQRT((J409^2)+(J410^2)+(J411^2)+(J412^2))","v":120.20815280171308},{"$f":"K409+K410+K411+K412","v":0},{"$f":"SQRT((L409^2)+(L410^2)+(L411^2)+(L412^2))","v":120.20815280171308},{"$f":"M409+M410+M411+M412","v":0},{"$f":"SQRT((N409^2)+(N410^2)+(N411^2)+(N412^2))","v":120.20815280171308},{"$f":"O409+O410+O411+O412","v":82},{"$f":"SQRT((P409^2)+(P410^2)+(P411^2)+(P412^2))","v":63.702433234531945},{"$f":"Q409+Q410+Q411+Q412","v":0},{"$f":"SQRT((R409^2)+(R410^2)+(R411^2)+(R412^2))","v":120.20815280171308},{"$f":"S409+S410+S411+S412","v":10},{"$f":"SQRT((T409^2)+(T410^2)+(T411^2)+(T412^2))","v":86.683331731077345},{"$f":"U409+U410+U411+U412","v":0},{"$f":"SQRT((V409^2)+(V410^2)+(V411^2)+(V412^2))","v":120.20815280171308},{"$f":"W409+W410+W411+W412","v":0},{"$f":"SQRT((X409^2)+(X410^2)+(X411^2)+(X412^2))","v":120.20815280171308}]
[null,"Less Than 35% of HH Income",{"$f":"C406+C407+C408+C409","v":10622},{"$f":"SQRT((D406^2)+(D407^2)+(D408^2)+(D409^2))","v":745.21339225754662},{"$f":"E406+E407+E408+E409","v":344},{"$f":"SQRT((F406^2)+(F407^2)+(F408^2)+(F409^2))","v":191.6428970768288},{"$f":"G406+G407+G408+G409","v":65},{"$f":"SQRT((H406^2)+(H407^2)+(H408^2)+(H409^2))","v":153.09800782505303},{"$f":"I406+I407+I408+I409","v":393},{"$f":"SQRT((J406^2)+(J407^2)+(J408^2)+(J409^2))","v":191.18054294305162},{"$f":"K406+K407+K408+K409","v":74},{"$f":"SQRT((L406^2)+(L407^2)+(L408^2)+(L409^2))","v":155.80757362849857},{"$f":"M406+M407+M408+M409","v":790},{"$f":"SQRT((N406^2)+(N407^2)+(N408^2)+(N409^2))","v":224.88663810907042},{"$f":"O406+O407+O408+O409","v":4682},{"$f":"SQRT((P406^2)+(P407^2)+(P408^2)+(P409^2))","v":494.39963592219607},{"$f":"Q406+Q407+Q408+Q409","v":817},{"$f":"SQRT((R406^2)+(R407^2)+(R408^2)+(R409^2))","v":217.428149051589},{"$f":"S406+S407+S408+S409","v":2428},{"$f":"SQRT((T406^2)+(T407^2)+(T408^2)+(T409^2))","v":356.52489394150308},{"$f":"U406+U407+U408+U409","v":800},{"$f":"SQRT((V406^2)+(V407^2)+(V408^2)+(V409^2))","v":227.40932258814721},{"$f":"W406+W407+W408+W409","v":229},{"$f":"SQRT((X406^2)+(X407^2)+(X408^2)+(X409^2))","v":151.49257407543118}]
[null,"35.0 percent or more",{"$f":"C410+C411+C412","v":62},{"$f":"SQRT((D410^2)+(D411^2)+(D412^2))","v":47},{"$f":"E410+E411+E412","v":0},{"$f":"SQRT((F410^2)+(F411^2)+(F412^2))","v":85},{"$f":"G410+G411+G412","v":0},{"$f":"SQRT((H410^2)+(H411^2)+(H412^2))","v":85},{"$f":"I410+I411+I412","v":0},{"$f":"SQRT((J410^2)+(J411^2)+(J412^2))","v":85},{"$f":"K410+K411+K412","v":0},{"$f":"SQRT((L410^2)+(L411^2)+(L412^2))","v":85},{"$f":"M410+M411+M412","v":0},{"$f":"SQRT((N410^2)+(N411^2)+(N412^2))","v":85},{"$f":"O410+O411+O412","v":52},{"$f":"SQRT((P410^2)+(P411^2)+(P412^2))","v":43},{"$f":"Q410+Q411+Q412","v":0},{"$f":"SQRT((R410^2)+(R411^2)+(R412^2))","v":85},{"$f":"S410+S411+S412","v":10},{"$f":"SQRT((T410^2)+(T411^2)+(T412^2))","v":17},{"$f":"U410+U411+U412","v":0},{"$f":"SQRT((V410^2)+(V411^2)+(V412^2))","v":85},{"$f":"W410+W411+W412","v":0},{"$f":"SQRT((X410^2)+(X411^2)+(X412^2))","v":85}]
[null,"50.0 percent or more",{"$f":"C412","v":0},0,0,0,0,0,0,0,0,0,0,0,0,0,0,0,{"$f":"S412","v":0},0,0,0,0,0]
[null,"Not Computed",660,172,72,47,36,32,8,9,12,18,41,25,101,58,109,81,189,117,32,29,60,39]
[]
[]
[null,"Calculated GROSS RENT AS A PERCENTAGE OF HOUSEHOLD INCOME IN THE PAST 12 MONTHS"]
[null,"Universe:  RENTER-OCCUPIED HOUSING UNITS"]
[null,{"$f":"B346","v":"Data Set: 2008-2012 American Community Survey 5-Year Estimates"}]
[]
[null,null,"New Hampshire",null,"Belknap County",null,"Carroll County",null,"Cheshire County",null,"Coos County",null,"Grafton County",null,"Hillsborough County",null,"Merrimack County",null,"Rockingham County",null,"Strafford County",null,"Sullivan County"]
[null," ","Estimate","Margin of Error","Estimate","Margin of Error","Estimate","Margin of Error","Estimate","Margin of Error","Estimate","Margin of Error","Estimate","Margin of Error","Estimate","Margin of Error","Estimate","Margin of Error","Estimate","Margin of Error","Estimate","Margin of Error","Estimate","Margin of Error"]
[null,"Total:",{"$f":"C421","v":141527},1994,5664,494,4010,466,8800,567,4194,320,10278,620,48610,1015,15320,627,24897,925,14890,679,4864,373]
[null,"Less than 30.0 percent",{"$f":"C465+C458+C450+C444+C437+C430+C423","v":68450},{"$f":"SQRT((D465^2)+(D458^2)+(D450^2)+(D444^2)+(D437^2)+(D430^2)+(D423^2))","v":1721.2727848891354},{"$f":"E465+E458+E451+E444+E437+E430+E423","v":2700},{"$f":"SQRT((F465^2)+(F458^2)+(F451^2)+(F444^2)+(F437^2)+(F430^2)+(F423^2))","v":352.44290317723807},{"$f":"G465+G458+G451+G444+G437+G430+G423","v":1372},{"$f":"SQRT((H465^2)+(H458^2)+(H451^2)+(H444^2)+(H437^2)+(H430^2)+(H423^2))","v":270.03518289289639},{"$f":"I465+I458+I451+I444+I437+I430+I423","v":3461},{"$f":"SQRT((J465^2)+(J458^2)+(J451^2)+(J444^2)+(J437^2)+(J430^2)+(J423^2))","v":403.12156975284762},{"$f":"K465+K458+K451+K444+K437+K430+K423","v":1589},{"$f":"SQRT((L465^2)+(L458^2)+(L451^2)+(L444^2)+(L437^2)+(L430^2)+(L423^2))","v":263.67783372896554},{"$f":"M465+M458+M451+M444+M437+M430+M423","v":4682},{"$f":"SQRT((N465^2)+(N458^2)+(N451^2)+(N444^2)+(N437^2)+(N430^2)+(N423^2))","v":454.53712719644807},{"$f":"O465+O458+O451+O444+O437+O430+O423","v":22764},{"$f":"SQRT((P465^2)+(P458^2)+(P451^2)+(P444^2)+(P437^2)+(P430^2)+(P423^2))","v":973.41358116681317},{"$f":"Q465+Q458+Q451+Q444+Q437+Q430+Q423","v":6901},{"$f":"SQRT((R465^2)+(R458^2)+(R451^2)+(R444^2)+(R437^2)+(R430^2)+(R423^2))","v":481.38030703384618},{"$f":"S465+S458+S451+S444+S437+S430+S423","v":11755},{"$f":"SQRT((T465^2)+(T458^2)+(T451^2)+(T444^2)+(T437^2)+(T430^2)+(T423^2))","v":716.84935655966103},{"$f":"U465+U458+U451+U444+U437+U430+U423","v":6446},{"$f":"SQRT((V465^2)+(V458^2)+(V451^2)+(V444^2)+(V437^2)+(V430^2)+(V423^2))","v":540.27770636960395},{"$f":"W465+W458+W451+W444+W437+W430+W423","v":2268},{"$f":"SQRT((X465^2)+(X458^2)+(X451^2)+(X444^2)+(X437^2)+(X430^2)+(X423^2))","v":336.19637118803053}]
[null,"More than 30.0 percent",{"$f":"C466+C459+C452+C445+C438+C431+C424","v":67871},{"$f":"SQRT((D466^2)+(D459^2)+(D452^2)+(D445^2)+(D438^2)+(D431^2)+(D424^2))","v":1976.2297437292052},{"$f":"E466+E459+E452+E445+E438+E431+E424","v":2147},{"$f":"SQRT((F466^2)+(F459^2)+(F452^2)+(F445^2)+(F438^2)+(F431^2)+(F424^2))","v":363.94779845466849},{"$f":"G466+G459+G452+G445+G438+G431+G424","v":1996},{"$f":"SQRT((H466^2)+(H459^2)+(H452^2)+(H445^2)+(H438^2)+(H431^2)+(H424^2))","v":400.55711203272875},{"$f":"I466+I459+I452+I445+I438+I431+I424","v":4424},{"$f":"SQRT((J466^2)+(J459^2)+(J452^2)+(J445^2)+(J438^2)+(J431^2)+(J424^2))","v":478.89560449016443},{"$f":"K466+K459+K452+K445+K438+K431+K424","v":1913},{"$f":"SQRT((L466^2)+(L459^2)+(L452^2)+(L445^2)+(L438^2)+(L431^2)+(L424^2))","v":305.19829619445778},{"$f":"M466+M459+M452+M445+M438+M431+M424","v":4384},{"$f":"SQRT((N466^2)+(N459^2)+(N452^2)+(N445^2)+(N438^2)+(N431^2)+(N424^2))","v":494.09310863439492},{"$f":"O466+O459+O452+O445+O438+O431+O424","v":23915},{"$f":"SQRT((P466^2)+(P459^2)+(P452^2)+(P445^2)+(P438^2)+(P431^2)+(P424^2))","v":1131.0561436109174},{"$f":"Q466+Q459+Q452+Q445+Q438+Q431+Q424","v":7447},{"$f":"SQRT((R466^2)+(R459^2)+(R452^2)+(R445^2)+(R438^2)+(R431^2)+(R424^2))","v":623.11716394270513},{"$f":"S466+S459+S452+S445+S438+S431+S424","v":11789},{"$f":"SQRT((T466^2)+(T459^2)+(T452^2)+(T445^2)+(T438^2)+(T431^2)+(T424^2))","v":855.15027919073975},{"$f":"U466+U459+U452+U445+U438+U431+U424","v":7784},{"$f":"SQRT((V466^2)+(V459^2)+(V452^2)+(V445^2)+(V438^2)+(V431^2)+(V424^2))","v":681.00293685122972},{"$f":"W466+W459+W452+W445+W438+W431+W424","v":2072},{"$f":"SQRT((X466^2)+(X459^2)+(X452^2)+(X445^2)+(X438^2)+(X431^2)+(X424^2))","v":359.01253460011674}]
[null,"Less Than 35% of HH Income",{"$f":"C467+C460+C453+C446+C439+C432+C425","v":93737},{"$f":"SQRT((D467^2)+(D460^2)+(D453^2)+(D446^2)+(D439^2)+(D432^2)+(D425^2))","v":2509.8482025811841},{"$f":"E467+E460+E453+E446+E439+E432+E425","v":3749},{"$f":"SQRT((F467^2)+(F460^2)+(F453^2)+(F446^2)+(F439^2)+(F432^2)+(F425^2))","v":498.72637788671256},{"$f":"G467+G460+G453+G446+G439+G432+G425","v":2376},{"$f":"SQRT((H467^2)+(H460^2)+(H453^2)+(H446^2)+(H439^2)+(H432^2)+(H425^2))","v":446.99216995379237},{"$f":"I467+I460+I453+I446+I439+I432+I425","v":5593},{"$f":"SQRT((J467^2)+(J460^2)+(J453^2)+(J446^2)+(J439^2)+(J432^2)+(J425^2))","v":619.54499433051672},{"$f":"K467+K460+K453+K446+K439+K432+K425","v":2668},{"$f":"SQRT((L467^2)+(L460^2)+(L453^2)+(L446^2)+(L439^2)+(L432^2)+(L425^2))","v":342.29811568280655},{"$f":"M467+M460+M453+M446+M439+M432+M425","v":6922},{"$f":"SQRT((N467^2)+(N460^2)+(N453^2)+(N446^2)+(N439^2)+(N432^2)+(N425^2))","v":653.4225279250785},{"$f":"O467+O460+O453+O446+O439+O432+O425","v":32007},{"$f":"SQRT((P467^2)+(P460^2)+(P453^2)+(P446^2)+(P439^2)+(P432^2)+(P425^2))","v":1383.6072419584975},{"$f":"Q467+Q460+Q453+Q446+Q439+Q432+Q425","v":10258},{"$f":"SQRT((R467^2)+(R460^2)+(R453^2)+(R446^2)+(R439^2)+(R432^2)+(R425^2))","v":754.57869039617071},{"$f":"S467+S460+S453+S446+S439+S432+S425","v":17564},{"$f":"SQRT((T467^2)+(T460^2)+(T453^2)+(T446^2)+(T439^2)+(T432^2)+(T425^2))","v":1063.6512586369652},{"$f":"U467+U460+U453+U446+U439+U432+U425","v":9241},{"$f":"SQRT((V467^2)+(V460^2)+(V453^2)+(V446^2)+(V439^2)+(V432^2)+(V425^2))","v":839.99464284006001},{"$f":"W467+W460+W453+W446+W439+W432+W425","v":3359},{"$f":"SQRT((X467^2)+(X460^2)+(X453^2)+(X446^2)+(X439^2)+(X432^2)+(X425^2))","v":482.16076157232038}]
[null,"35.0 percent or more",{"$f":"C468+C461+C454+C447+C440+C433+C426","v":53084},{"$f":"SQRT((D468^2)+(D461^2)+(D454^2)+(D447^2)+(D440^2)+(D433^2)+(D426^2))","v":2147.4638530135962},{"$f":"E468+E461+E454+E447+E440+E433+E426","v":1804},{"$f":"SQRT((F468^2)+(F461^2)+(F454^2)+(F447^2)+(F440^2)+(F433^2)+(F426^2))","v":384.65828991456817},{"$f":"G468+G461+G454+G447+G440+G433+G426","v":1670},{"$f":"SQRT((H468^2)+(H461^2)+(H454^2)+(H447^2)+(H440^2)+(H433^2)+(H426^2))","v":428.19388132013285},{"$f":"I468+I461+I454+I447+I440+I433+I426","v":3432},{"$f":"SQRT((J468^2)+(J461^2)+(J454^2)+(J447^2)+(J440^2)+(J433^2)+(J426^2))","v":483.2732146519192},{"$f":"K468+K461+K454+K447+K440+K433+K426","v":1486},{"$f":"SQRT((L468^2)+(L461^2)+(L454^2)+(L447^2)+(L440^2)+(L433^2)+(L426^2))","v":345.21297773982946},{"$f":"M468+M461+M454+M447+M440+M433+M426","v":3311},{"$f":"SQRT((N468^2)+(N461^2)+(N454^2)+(N447^2)+(N440^2)+(N433^2)+(N426^2))","v":548.57451636035739},{"$f":"O468+O461+O454+O447+O440+O433+O426","v":18648},{"$f":"SQRT((P468^2)+(P461^2)+(P454^2)+(P447^2)+(P440^2)+(P433^2)+(P426^2))","v":1103.996829705593},{"$f":"Q468+Q461+Q454+Q447+Q440+Q433+Q426","v":5789},{"$f":"SQRT((R468^2)+(R461^2)+(R454^2)+(R447^2)+(R440^2)+(R433^2)+(R426^2))","v":627.6599397763091},{"$f":"S468+S461+S454+S447+S440+S433+S426","v":8912},{"$f":"SQRT((T468^2)+(T461^2)+(T454^2)+(T447^2)+(T440^2)+(T433^2)+(T426^2))","v":835.88934674393352},{"$f":"U468+U461+U454+U447+U440+U433+U426","v":6434},{"$f":"SQRT((V468^2)+(V461^2)+(V454^2)+(V447^2)+(V440^2)+(V433^2)+(V426^2))","v":650.24456937370883},{"$f":"W468+W461+W454+W447+W440+W433+W426","v":1598},{"$f":"SQRT((X468^2)+(X461^2)+(X454^2)+(X447^2)+(X440^2)+(X433^2)+(X426^2))","v":363.37721447553645}]
[null,"50.0 percent or more",{"$f":"C469+C462+C455+C448+C441+C434+C427","v":0},{"$f":"SQRT((D469^2)+(D462^2)+(D455^2)+(D448^2)+(D441^2)+(D434^2)+(D427^2))","v":1166.8975961925707},{"$f":"E469+E462+E455+E448+E441+E434+E427","v":0},{"$f":"SQRT((F469^2)+(F462^2)+(F455^2)+(F448^2)+(F441^2)+(F434^2)+(F427^2))","v":157.17824276915684},{"$f":"G469+G462+G455+G448+G441+G434+G427","v":0},{"$f":"SQRT((H469^2)+(H462^2)+(H455^2)+(H448^2)+(H441^2)+(H434^2)+(H427^2))","v":235.71593073019056},{"$f":"I469+I462+I455+I448+I441+I434+I427","v":0},{"$f":"SQRT((J469^2)+(J462^2)+(J455^2)+(J448^2)+(J441^2)+(J434^2)+(J427^2))","v":269.74246977441277},{"$f":"K469+K462+K455+K448+K441+K434+K427","v":0},{"$f":"SQRT((L469^2)+(L462^2)+(L455^2)+(L448^2)+(L441^2)+(L434^2)+(L427^2))","v":143.95138068111746},{"$f":"M469+M462+M455+M448+M441+M434+M427","v":0},{"$f":"SQRT((N469^2)+(N462^2)+(N455^2)+(N448^2)+(N441^2)+(N434^2)+(N427^2))","v":321.13704239779003},{"$f":"O469+O462+O455+O448+O441+O434+O427","v":0},{"$f":"SQRT((P469^2)+(P462^2)+(P455^2)+(P448^2)+(P441^2)+(P434^2)+(P427^2))","v":600.42068585284437},{"$f":"Q469+Q462+Q455+Q448+Q441+Q434+Q427","v":0},{"$f":"SQRT((R469^2)+(R462^2)+(R455^2)+(R448^2)+(R441^2)+(R434^2)+(R427^2))","v":402.04601726668056},{"$f":"S469+S462+S455+S448+S441+S434+S427","v":0},{"$f":"SQRT((T469^2)+(T462^2)+(T455^2)+(T448^2)+(T441^2)+(T434^2)+(T427^2))","v":470.13402344437912},{"$f":"U469+U462+U455+U448+U441+U434+U427","v":0},{"$f":"SQRT((V469^2)+(V462^2)+(V455^2)+(V448^2)+(V441^2)+(V434^2)+(V427^2))","v":414.69265727765185},{"$f":"W469+W462+W455+W448+W441+W434+W427","v":0},{"$f":"SQRT((X469^2)+(X462^2)+(X455^2)+(X448^2)+(X441^2)+(X434^2)+(X427^2))","v":206.60348496576722}]
[null,"Not Computed",{"$f":"C469+C463+C456+C449+C442+C435+C428","v":7632},{"$f":"SQRT((D469^2)+(D463^2)+(D456^2)+(D449^2)+(D442^2)+(D435^2)+(D428^2))","v":647.11204593949572},{"$f":"E469+E463+E456+E449+E442+E435+E428","v":474},{"$f":"SQRT((F469^2)+(F463^2)+(F456^2)+(F449^2)+(F442^2)+(F435^2)+(F428^2))","v":156.12174736403637},{"$f":"G469+G463+G456+G449+G442+G435+G428","v":431},{"$f":"SQRT((H469^2)+(H463^2)+(H456^2)+(H449^2)+(H442^2)+(H435^2)+(H428^2))","v":123.67295581492341},{"$f":"I469+I463+I456+I449+I442+I435+I428","v":578},{"$f":"SQRT((J469^2)+(J463^2)+(J456^2)+(J449^2)+(J442^2)+(J435^2)+(J428^2))","v":130.34953011039204},{"$f":"K469+K463+K456+K449+K442+K435+K428","v":319},{"$f":"SQRT((L469^2)+(L463^2)+(L456^2)+(L449^2)+(L442^2)+(L435^2)+(L428^2))","v":72.883468633154394},{"$f":"M469+M463+M456+M449+M442+M435+M428","v":899},{"$f":"SQRT((N469^2)+(N463^2)+(N456^2)+(N449^2)+(N442^2)+(N435^2)+(N428^2))","v":202.35117988289568},{"$f":"O469+O463+O456+O449+O442+O435+O428","v":2071},{"$f":"SQRT((P469^2)+(P463^2)+(P456^2)+(P449^2)+(P442^2)+(P435^2)+(P428^2))","v":335.23872091391831},{"$f":"Q469+Q463+Q456+Q449+Q442+Q435+Q428","v":664},{"$f":"SQRT((R469^2)+(R463^2)+(R456^2)+(R449^2)+(R442^2)+(R435^2)+(R428^2))","v":176.89262279699511},{"$f":"S469+S463+S456+S449+S442+S435+S428","v":1296},{"$f":"SQRT((T469^2)+(T463^2)+(T456^2)+(T449^2)+(T442^2)+(T435^2)+(T428^2))","v":261.91219902860576},{"$f":"U469+U463+U456+U449+U442+U435+U428","v":624},{"$f":"SQRT((V469^2)+(V463^2)+(V456^2)+(V449^2)+(V442^2)+(V435^2)+(V428^2))","v":189.99473676920633},{"$f":"W469+W463+W456+W449+W442+W435+W428","v":276},{"$f":"SQRT((X469^2)+(X463^2)+(X456^2)+(X449^2)+(X442^2)+(X435^2)+(X428^2))","v":111.69601604354561}]
[]
[]
[]
[]
[]
[]
[]
[]
[]
[]
[]
[]
[]
[]
[]
[null,"Calculated GROSS RENT AS A PERCENTAGE OF HOUSEHOLD INCOME IN THE PAST 12 MONTHS"]
[null,"Universe:  RENTER OCCUPIED HOUSING UNITS"]
[null,"Data Set: 2005-2009 American Community Survey 5-Year Estimates"]
[]
[null,null,"New Hampshire",null,"Belknap County",null,"Carroll County",null,"Cheshire County",null,"Coos County",null,"Grafton County",null,"Hillsborough County",null,"Merrimack County",null,"Rockingham County",null,"Strafford County",null,"Sullivan County"]
[null," ","Estimate","Margin of Error","Estimate","Margin of Error","Estimate","Margin of Error","Estimate","Margin of Error","Estimate","Margin of Error","Estimate","Margin of Error","Estimate","Margin of Error","Estimate","Margin of Error","Estimate","Margin of Error","Estimate","Margin of Error","Estimate","Margin of Error"]
[null,"Total:",135541,1742,5444,444,3662,410,7730,490,4026,340,9485,519,46198,1066,15033,591,23944,840,14971,669,5048,338]
[null,"Less than 30.0 percent",67732,1932.0965296796121,2938,484.7690171617819,1593,341.07330590358436,3975,462.64024900563936,2089,384.61279229895615,5001,530.45169431344073,23326,1148.8516005124422,7583,606.51298419737066,11785,835.96830083442762,6892,626.77747247328534,2550,376.63377437505522]
[null,"More than 30.0 percent",59953,1756.3632881610797,2073,391.09078229996675,1658,439.45875801945283,3132,424.41135705822012,1555,354.66040094715959,3800,470.08722594854669,20841,1013.7504623920031,6686,626.97767105376249,10796,780.08268792481226,7264,712.55455931458334,2148,424.61865244004531]
[null,"Less Than 35% of HH Income",80379,2101.8211151284972,3235,518.3676301622238,1833,408.91808470646049,4626,525.03618922889495,2462,434.87584435100553,5917,591.38819737969072,27871,1247.0493173888513,9083,689.17994747380749,13925,905.91114354554668,8314,717.63012757269325,3113,454.3919013362804]
[null,"35.0 percent or more",47306,1567.3678572689948,1776,343.51564738742252,1418,374.88398205311466,2481,351.19510247154642,1182,293.95407804621453,2884,397.06170805052454,16296,882.45906420638005,5186,539.0306113756435,8656,699.61203534530478,5842,644.1055814072721,1585,353.93078419374598]
[null,"Not Computed",7856,597.13482564660387,433,127.12592182556632,411,125.98412598418898,623,154.36968614336172,382,112.13384859176109,684,177.22866585290316,2031,304.02631465055782,764,175.72421574728966,1363,242.70352284217054,815,254.77833502870686,350,106.40018796975878]

{"sheet":"PlaceOfBirthAndPriorRes","index":57,"n_rows":58,"n_cols":16,"rows_kept":58,"cut":false,"hidden":true,"merged":[[41,11,41,13],[54,2,55,14],[41,14,41,15],[4,14,4,15],[4,11,4,13],[4,7,4,9],[41,3,41,5],[41,7,41,9],[4,3,4,5]]}
[]
[null,null,{"$f":"CntyDataLink!A50","v":"Grafton County"}]
[null,null,"SOCIAL CHARACTERISTICS"]
[]
[null,null,"Place of Birth","2008-2012",null,null,null,"2013-2017",null,null,null,"2018-2022",null,null,"Statistically Significant Change "]
[null,null,"Universe: Total Population","Estimate","Margin of Error",null,null,"Estimate","Margin of Error",null,null,"Estimate","Margin of Error",null,"2012-2022","2017-2022"]
[null,null,"  Total:",{"$f":"CntyDataLinkPrior10YearEstimate!$B$136","v":1317474},{"$f":"CntyDataLinkPrior10YearEstimate!$C$136","v":"*****"},null,null,{"$f":"CntyDataLinkPrior5YearEstimates!$B$136","v":1331848},{"$f":"CntyDataLinkPrior5YearEstimates!$C$136","v":"*****"},null,null,{"$f":"CntyDataLink!$B$136","v":1372175},{"$f":"CntyDataLink!$C$136","v":"*****"}]
[null,null,"   United States Native",{"$f":"CntyDataLinkPrior10YearEstimate!$D$136","v":1247849},{"$f":"CntyDataLinkPrior10YearEstimate!$E$136","v":1688},{"$f":"D8/$D$7","v":0.94715265728204123},null,{"$f":"CntyDataLinkPrior5YearEstimates!$D$136","v":1252979},{"$f":"CntyDataLinkPrior5YearEstimates!$E$136","v":1881},{"$f":"H8/$H$7","v":0.94078228146154819},null,{"$f":"CntyDataLink!$D$136","v":1289280},{"$f":"CntyDataLink!$E$136","v":2314},{"$f":"L8/$L$7","v":0.93958860932461241},{"$f":"StatisticallySignificantCalcs!A26","v":"Y"},{"$f":"StatisticallySignificantCalcs!J26","v":"Y"}]
[null,null,"      New Hampshire Native",{"$f":"CntyDataLinkPrior10YearEstimate!$F$136","v":555389},{"$f":"CntyDataLinkPrior10YearEstimate!$G$136","v":4234},{"$f":"D9/$D$7","v":0.42155594721413858},null,{"$f":"CntyDataLinkPrior5YearEstimates!$F$136","v":558538},{"$f":"CntyDataLinkPrior5YearEstimates!$G$136","v":4595},{"$f":"H9/$H$7","v":0.41937067893633506},null,{"$f":"CntyDataLink!$F$136","v":564199},{"$f":"CntyDataLink!$G$136","v":5161},{"$f":"L9/$L$7","v":0.41117131561207571},{"$f":"StatisticallySignificantCalcs!A27","v":"Y"},{"$f":"StatisticallySignificantCalcs!J27","v":"N"}]
[null,null,"      Born in Different State",{"$f":"CntyDataLinkPrior10YearEstimate!$H$136","v":678644},{"$f":"CntyDataLinkPrior10YearEstimate!$I$136","v":4187},0.51510997560483163,null,{"$f":"CntyDataLinkPrior5YearEstimates!$H$136","v":679741},{"$f":"CntyDataLinkPrior5YearEstimates!$I$136","v":4480},0.51037430697797348,null,{"$f":"CntyDataLink!$H$136","v":707438},{"$f":"CntyDataLink!$I$136","v":5447},{"$f":"L10/$L$7","v":0.51555960427788006},{"$f":"StatisticallySignificantCalcs!A28","v":"Y"},{"$f":"StatisticallySignificantCalcs!J28","v":"Y"}]
[null,null,"          Northeast",{"$f":"CntyDataLinkPrior10YearEstimate!$J$136","v":545653},{"$f":"CntyDataLinkPrior10YearEstimate!$K$136","v":3913},0.41416604805863344,null,{"$f":"CntyDataLinkPrior5YearEstimates!$J$136","v":544285},{"$f":"CntyDataLinkPrior5YearEstimates!$K$136","v":4266},0.40866900727410332,null,{"$f":"CntyDataLink!$J$136","v":560052},{"$f":"CntyDataLink!$K$136","v":5671},0.40814910634576496,{"$f":"StatisticallySignificantCalcs!A29","v":"Y"},{"$f":"StatisticallySignificantCalcs!J29","v":"Y"}]
[null,null,"          Midwest",{"$f":"CntyDataLinkPrior10YearEstimate!$L$136","v":44536},{"$f":"CntyDataLinkPrior10YearEstimate!$M$136","v":1507},3.3804082661213805E-2,null,{"$f":"CntyDataLinkPrior5YearEstimates!$L$136","v":43198},{"$f":"CntyDataLinkPrior5YearEstimates!$M$136","v":1368},3.24346321802488E-2,null,{"$f":"CntyDataLink!$L$136","v":46570},{"$f":"CntyDataLink!$M$136","v":1653},3.3938819756955202E-2,{"$f":"StatisticallySignificantCalcs!A30","v":"N"},{"$f":"StatisticallySignificantCalcs!J30","v":"Y"}]
[null,null,"          South",{"$f":"CntyDataLinkPrior10YearEstimate!$N$136","v":54290},{"$f":"CntyDataLinkPrior10YearEstimate!$O$136","v":1626},4.1207644325428811E-2,null,{"$f":"CntyDataLinkPrior5YearEstimates!$N$136","v":57078},{"$f":"CntyDataLinkPrior5YearEstimates!$O$136","v":1982},4.2856241853424716E-2,null,{"$f":"CntyDataLink!$N$136","v":61053},{"$f":"CntyDataLink!$O$136","v":2276},4.4493595933463297E-2,{"$f":"StatisticallySignificantCalcs!A31","v":"Y"},{"$f":"StatisticallySignificantCalcs!J31","v":"Y"}]
[null,null,"          West",{"$f":"CntyDataLinkPrior10YearEstimate!$P$136","v":34165},{"$f":"CntyDataLinkPrior10YearEstimate!$Q$136","v":1648},2.5932200559555633E-2,null,{"$f":"CntyDataLinkPrior5YearEstimates!$P$136","v":35180},{"$f":"CntyDataLinkPrior5YearEstimates!$Q$136","v":1614},2.6414425670196598E-2,null,{"$f":"CntyDataLink!$P$136","v":39763},{"$f":"CntyDataLink!$Q$136","v":1673},2.8978082241696578E-2,{"$f":"StatisticallySignificantCalcs!A32","v":"Y"},{"$f":"StatisticallySignificantCalcs!J32","v":"Y"}]
[null,null,"      Native Born Outside US",{"$f":"CntyDataLinkPrior10YearEstimate!$R136","v":13816},{"$f":"CntyDataLinkPrior10YearEstimate!$S$136","v":799},1.0486734463070998E-2,null,{"$f":"CntyDataLinkPrior5YearEstimates!$R136","v":14700},{"$f":"CntyDataLinkPrior5YearEstimates!$S$136","v":843},1.1037295547239624E-2,null,{"$f":"CntyDataLink!$R136","v":17643},{"$f":"CntyDataLink!$S$136","v":1067},1.2857689434656658E-2,{"$f":"StatisticallySignificantCalcs!A33","v":"Y"},{"$f":"StatisticallySignificantCalcs!J33","v":"Y"}]
[null,null,"   Foreign Born",{"$f":"CntyDataLinkPrior10YearEstimate!$Z136","v":69625},{"$f":"CntyDataLinkPrior10YearEstimate!$AA$136","v":1688},5.284734271795876E-2,null,{"$f":"CntyDataLinkPrior5YearEstimates!$Z136","v":78869},{"$f":"CntyDataLinkPrior5YearEstimates!$AA$136","v":1881},5.9217718538451834E-2,null,{"$f":"CntyDataLink!$Z136","v":82895},{"$f":"CntyDataLink!$AA$136","v":2315},6.0411390675387616E-2,{"$f":"StatisticallySignificantCalcs!A34","v":"Y"},{"$f":"StatisticallySignificantCalcs!J34","v":"Y"}]
[null,null,"      Naturalized Citizen",{"$f":"CntyDataLinkPrior10YearEstimate!$AB136","v":36226},{"$f":"CntyDataLinkPrior10YearEstimate!$AC$136","v":1258},{"$f":"D17/$L$7","v":2.6400422686610674E-2},null,{"$f":"CntyDataLinkPrior5YearEstimates!$AB136","v":42465},{"$f":"CntyDataLinkPrior5YearEstimates!$AC$136","v":1470},3.1884269075750385E-2,null,{"$f":"CntyDataLink!$AB136","v":47589},{"$f":"CntyDataLink!$AC$136","v":1739},3.468143640570627E-2,{"$f":"StatisticallySignificantCalcs!A35","v":"Y"},{"$f":"StatisticallySignificantCalcs!J35","v":"Y"}]
[null,null,"      Not a Citizen",{"$f":"CntyDataLinkPrior10YearEstimate!$AD$136","v":33399},{"$f":"CntyDataLinkPrior10YearEstimate!$AE$136","v":1466},{"$f":"D18/$L$7","v":2.4340189844589792E-2},null,{"$f":"CntyDataLinkPrior5YearEstimates!$AD$136","v":36404},{"$f":"CntyDataLinkPrior5YearEstimates!$AE$136","v":1562},2.7333449462701449E-2,null,{"$f":"CntyDataLink!$AD$136","v":35306},{"$f":"CntyDataLink!$AE$136","v":2028},2.5729954269681346E-2,{"$f":"StatisticallySignificantCalcs!A36","v":"N"},{"$f":"StatisticallySignificantCalcs!J36","v":"N"}]
[null,null,null,{"$f":"\"Source: \"&D42&\", \"&H42&\" and \"&L42& \" American Community Survey Table B05002.\"","v":"Source: 2008-2012, 2013-2017 and 2018-2022 American Community Survey Table B05002."}]
[]
[]
[]
[]
[]
[]
[]
[]
[]
[]
[]
[]
[]
[]
[]
[]
[]
[]
[]
[]
[null,null,"Place of Residence Prior year for Population"]
[null,null,"Universe: Population 1 year and older"]
[null,null,null,{"$f":"D5","v":"2008-2012"},null,null,null,{"$f":"H5","v":"2013-2017"},null,null,null,{"$f":"L5","v":"2018-2022"},null,null,"Statistically Significant Change "]
[null,null,null,"Estimate","Margin of Error",null,null,"Estimate","Margin of Error",null,null,"Estimate","Margin of Error",null,{"$f":"O6","v":"2012-2022"},"2017-2022"]
[null,null,"  Total:",{"$f":"CntyDataLinkPrior10YearEstimate!$AF$136","v":1305180},{"$f":"CntyDataLinkPrior10YearEstimate!$AG$136","v":615},null,null,{"$f":"CntyDataLinkPrior5YearEstimates!$AF$136","v":1319364},{"$f":"CntyDataLinkPrior5YearEstimates!$AG$136","v":779},null,null,{"$f":"CntyDataLink!$AF$136","v":1361045},{"$f":"CntyDataLink!$AG$136","v":713},null,{"$f":"StatisticallySignificantCalcs!$A37","v":"Y"},{"$f":"StatisticallySignificantCalcs!$J37","v":"Y"}]
["Same House",null,"    Same House ",{"$f":"CntyDataLinkPrior10YearEstimate!$AH$136","v":1131646},{"$f":"CntyDataLinkPrior10YearEstimate!$AI$136","v":4092},{"$f":"IF($D$45=\"-\",\"-\",VALUE(D45/$D$44))","v":0.86704209381081532},null,{"$f":"CntyDataLinkPrior5YearEstimates!$AH$136","v":1132133},{"$f":"CntyDataLinkPrior5YearEstimates!$AI$136","v":4519},{"$f":"IF($H$45=\"-\",\"-\",VALUE($H$45/$H$44))","v":0.85808995849515368},null,{"$f":"CntyDataLink!$AH$136","v":1187011},{"$f":"CntyDataLink!$AI$136","v":4230},{"$f":"IF($L$45=\"-\",\"-\",VALUE($L$45/$L$44))","v":0.87213207498649936},{"$f":"StatisticallySignificantCalcs!$A38","v":"N"},{"$f":"StatisticallySignificantCalcs!$J38","v":"Y"}]
["Different House",null,"    Different House 1  ",{"$f":"CntyDataLinkPrior10YearEstimate!$AJ$136","v":173534},{"$f":"CntyDataLinkPrior10YearEstimate!$AK$136","v":4405.3974849041715},{"$f":"IF($D$46=\"-\",\"-\",VALUE(D46/$D$44))","v":0.13295790618918463},null,{"$f":"CntyDataLinkPrior5YearEstimates!$AJ$136","v":187231},{"$f":"CntyDataLinkPrior5YearEstimates!$AK$136","v":4420.5905714055898},{"$f":"IF($H$46=\"-\",\"-\",VALUE($H$46/$H$44))","v":0.14191004150484626},null,{"$f":"CntyDataLink!$AJ$136","v":174034},{"$f":"CntyDataLink!$AK$136","v":4425.8777660482219},{"$f":"IF($L$46=\"-\",\"-\",VALUE($L$46/$L$44))","v":0.12786792501350067},{"$f":"StatisticallySignificantCalcs!$A39","v":"Y"},{"$f":"StatisticallySignificantCalcs!$J39","v":"N"}]
[null,null,"      in New Hampshire",{"$f":"CntyDataLinkPrior10YearEstimate!$AL$136","v":125688},{"$f":"CntyDataLinkPrior10YearEstimate!$AM$136","v":4006.0616570392422},{"$f":"IF($D$47=\"-\",\"-\",VALUE(D47/$D$44))","v":9.6299361007677109E-2},null,{"$f":"CntyDataLinkPrior5YearEstimates!$AL$136","v":131945},{"$f":"CntyDataLinkPrior5YearEstimates!$AM$136","v":3906.9170710420767},{"$f":"IF($H$47=\"-\",\"-\",VALUE($H$47/$H$44))","v":0.10000651829214682},null,{"$f":"CntyDataLink!$AL$136","v":116088},{"$f":"CntyDataLink!$AM$136","v":3640.8055427336408},{"$f":"IF($L$47=\"-\",\"-\",VALUE($L$47/$L$44))","v":8.5293285673875591E-2},{"$f":"StatisticallySignificantCalcs!$A40","v":"Y"},{"$f":"StatisticallySignificantCalcs!$J40","v":"Y"}]
[null,null,"          Same county",{"$f":"CntyDataLinkPrior10YearEstimate!$AN$136","v":94280},{"$f":"CntyDataLinkPrior10YearEstimate!$AO$136","v":3537},{"$f":"IF($D$48=\"-\",\"-\",VALUE(D48/$D$44))","v":7.2235247245590647E-2},null,{"$f":"CntyDataLinkPrior5YearEstimates!$AN$136","v":99836},{"$f":"CntyDataLinkPrior5YearEstimates!$AO$136","v":3201},{"$f":"IF($H$48=\"-\",\"-\",VALUE($H$48/$H$44))","v":7.5669792415133358E-2},null,{"$f":"CntyDataLink!$AN$136","v":83584},{"$f":"CntyDataLink!$AO$136","v":3264},{"$f":"IF($L$48=\"-\",\"-\",VALUE($L$48/$L$44))","v":6.1411635912111649E-2},{"$f":"StatisticallySignificantCalcs!$A41","v":"Y"},{"$f":"StatisticallySignificantCalcs!$J41","v":"Y"}]
[null,null,"          Different county",{"$f":"CntyDataLinkPrior10YearEstimate!$AP$136","v":31408},{"$f":"CntyDataLinkPrior10YearEstimate!$AQ$136","v":1881},{"$f":"IF($D$49=\"-\",\"-\",VALUE(D49/$D$44))","v":2.4064113762086455E-2},null,{"$f":"CntyDataLinkPrior5YearEstimates!$AP$136","v":32109},{"$f":"CntyDataLinkPrior5YearEstimates!$AQ$136","v":2240},{"$f":"IF($H$49=\"-\",\"-\",VALUE($H$49/$H$44))","v":2.4336725877013469E-2},null,{"$f":"CntyDataLink!$AP$136","v":32504},{"$f":"CntyDataLink!$AQ$136","v":1613},{"$f":"IF($L$49=\"-\",\"-\",VALUE($L$49/$L$44))","v":2.3881649761763938E-2},{"$f":"StatisticallySignificantCalcs!$A42","v":"N"},{"$f":"StatisticallySignificantCalcs!$J42","v":"Y"}]
["Different State",null,"      in Different state",{"$f":"CntyDataLinkPrior10YearEstimate!$AR$136","v":42232},{"$f":"CntyDataLinkPrior10YearEstimate!$AS$136","v":1714},{"$f":"IF($D$50=\"-\",\"-\",VALUE(D50/$D$44))","v":3.2357222758546716E-2},null,{"$f":"CntyDataLinkPrior5YearEstimates!$AR$136","v":48730},{"$f":"CntyDataLinkPrior5YearEstimates!$AS$136","v":1866},{"$f":"IF($H$50=\"-\",\"-\",VALUE($H$50/$H$44))","v":3.6934462362168435E-2},null,{"$f":"CntyDataLink!$AR$136","v":52297},{"$f":"CntyDataLink!$AS$136","v":2273},{"$f":"IF($L$50=\"-\",\"-\",VALUE($L$50/$L$44))","v":3.8424152030241472E-2},{"$f":"StatisticallySignificantCalcs!$A43","v":"Y"},{"$f":"StatisticallySignificantCalcs!$J43","v":"Y"}]
["Elsewhere",null,"       Elsewhere",{"$f":"CntyDataLinkPrior10YearEstimate!$AT$136","v":5614},{"$f":"CntyDataLinkPrior10YearEstimate!$AU$136","v":649},{"$f":"IF($D$51=\"-\",\"-\",VALUE(D51/$D$44))","v":4.3013224229608181E-3},null,{"$f":"CntyDataLinkPrior5YearEstimates!$AT$136","v":6556},{"$f":"CntyDataLinkPrior5YearEstimates!$AU$136","v":892},{"$f":"IF($H$51=\"-\",\"-\",VALUE($H$51/$H$44))","v":4.9690608505310136E-3},null,{"$f":"CntyDataLink!$AT$136","v":5649},{"$f":"CntyDataLink!$AU$136","v":1080},{"$f":"IF($L$51=\"-\",\"-\",VALUE($L$51/$L$44))","v":4.150487309383599E-3},{"$f":"StatisticallySignificantCalcs!$A44","v":"N"},{"$f":"StatisticallySignificantCalcs!$J44","v":"Y"}]
[]
[null,null,"Data from the American Community Survey are estimates"]
[]
[null,null,"1   The number for Different House was calculated by adding In New Hampshire, In Different State, and Elsewhere totals. The number is not located in the source Table B07003."]
[]
[]
[null,null,{"$f":"\"Source: \"&D42&\", \"&H42&\" and \"&L42& \" American Community Survey Table B07003.\"","v":"Source: 2008-2012, 2013-2017 and 2018-2022 American Community Survey Table B07003."}]

{"sheet":"ACS_Table_B05002","index":58,"n_rows":84,"n_cols":24,"rows_kept":84,"cut":false,"hidden":true,"merged":[]}
[null,"B05002. PLACE OF BIRTH BY CITIZENSHIP STATUS"]
[null,"Universe: TOTAL POPULATION"]
[null,"Data Set: 2018-2022 American Community Survey 5-Year Estimate"]
[]
[null,null,"New Hampshire",null,"Belknap County",null,"Carroll County","2013-2017","Cheshire County",null,"Coos County",null,"Grafton County",null,"Hillsborough County",null,"Merrimack County",null,"Rockingham County",null,"Strafford County",null,"Sullivan County"]
[null,null,"Estimate","Margin of Error","Estimate","Margin of Error","Estimate","Margin of Error","Estimate","Margin of Error","Estimate","Margin of Error","Estimate","Margin of Error","2009-2019","Margin of Error","Estimate","Margin of Error","Estimate","Margin of Error","Estimate","Margin of Error","Estimate","Margin of Error"]
[null,"Total:",1379610,"*****",63914,"*****",50679,"*****",76610,"*****",31430,"*****",90836,"*****",422733,"*****",153918,"*****",315169,"*****",130965,"*****",43356,"*****"]
[null,"Native:",1296242,2575,61843,324,49392,254,74544,333,30533,161,85562,457,380340,1901,146574,667,299621,1202,125624,594,42209,163]
[null,"Born in state of residence",565581,6042,32768,1223,18048,853,33164,1004,17504,544,38701,1183,168349,3259,81830,1668,91013,2224,60241,1768,23963,842]
[null,"Born in other state in the United States:",712639,6321,28456,1214,30664,798,40661,1031,12696,552,45778,1225,204396,3274,63422,1640,205279,2348,63336,1934,17951,815]
[null,"Northeast",562391,5772,23181,1119,25367,895,32469,981,9756,516,31685,1110,159571,2913,46409,1414,174237,2554,45872,1696,13844,672]
[null,"Midwest",46031,1925,1304,246,1734,306,2615,380,844,149,4797,544,13019,895,5475,725,10010,786,4959,572,1274,254]
[null,"South",62866,2394,2500,399,2118,444,3479,443,1352,336,5240,525,19525,1298,7363,790,12339,1081,7215,845,1735,376]
[null,"West",41351,2031,1471,303,1445,401,2098,339,744,181,4056,449,12281,1100,4175,531,8693,783,5290,685,1098,296]
[null,"Born outside the United States:",18022,1102,619,244,680,199,719,248,333,103,1083,234,7595,693,1322,272,3329,437,2047,424,295,132]
[null,"Puerto Rico",5673,722,10,16,97,95,111,66,164,70,246,142,3735,620,218,110,778,282,301,133,13,18]
[null,"U.S. Island Areas",381,183,19,32,0,28,21,25,0,25,11,11,68,70,70,83,126,105,66,88,0,25]
[null,"Born abroad of American parent(s)",11968,911,590,237,583,214,587,242,169,76,826,196,3792,425,1034,243,2425,359,1680,400,282,134]
[null,"Foreign born:",83368,2575,2071,324,1287,254,2066,333,897,160,5274,457,42393,1901,7344,667,15548,1202,5341,594,1147,163]
[null,"Naturalized U.S. citizen",50200,1972,1447,276,919,213,1275,230,485,115,2918,374,24084,1411,4662,506,10486,841,3010,536,914,140]
[null,"Europe",13749,1045,681,225,221,89,448,128,192,108,1053,311,5403,720,1402,288,3347,568,744,207,258,94]
[null,"Asia",17410,876,425,130,236,88,454,164,34,30,1064,166,8030,673,1384,229,4115,448,1336,351,332,90]
[null,"Africa",4347,725,0,28,141,129,129,93,9,4,191,130,2554,554,529,222,375,194,274,168,145,140]
[null,"Oceania",245,116,13,21,9,13,6,7,6,9,43,39,44,45,38,48,37,33,49,76,0,25]
[null,"Latin America",9790,962,96,68,209,108,104,66,62,32,299,134,6036,745,638,216,1868,305,370,179,108,119]
[null,"Northern America",4659,502,232,118,103,48,134,70,182,53,268,93,2017,393,671,184,744,196,237,119,71,33]
[null,"Not a U.S. citizen",33168,1797,624,195,368,147,791,199,412,93,2356,272,18309,1428,2682,512,5062,829,2331,451,233,109]
[null,"Europe",6181,827,262,121,121,69,304,115,61,36,524,152,2142,479,505,222,1692,497,466,174,104,68]
[null,"Asia",11866,993,222,116,132,98,126,102,74,28,1111,217,6146,690,1069,360,1631,390,1298,352,57,59]
[null,"Africa",2246,465,0,28,44,22,151,85,33,37,159,74,1115,355,628,208,72,69,30,22,14,18]
[null,"Oceania",194,91,0,28,28,44,8,12,8,12,76,60,7,11,2,17,43,39,13,18,9,15]
[null,"Latin America",9717,1045,24,26,8,11,85,74,92,43,204,108,7550,933,253,121,1249,413,241,105,11,19]
[null,"Northern America",2964,448,116,75,35,33,117,88,144,58,282,142,1349,375,225,99,375,110,283,140,38,42]
[]
[]
[]
[]
[]
[]
[null,"B05002. PLACE OF BIRTH BY CITIZENSHIP STATUS"]
[null,"Universe: TOTAL POPULATION"]
[null,"Data Set: 2013-2017 American Community Survey 5-Year Estimates"]
[]
[null,null,"New Hampshire",null,"Belknap County",null,"Carroll County",null,"Cheshire County",null,"Coos County",null,"Grafton County",null,"Hillsborough County",null,"Merrimack County",null,"Rockingham County",null,"Strafford County",null,"Sullivan County"]
[null,null,"Estimates","Margin of Error","Estimates","Margin of Error","Estimates","Margin of Error","Estimates","Margin of Error","Estimates","Margin of Error","Estimates","Margin of Error","Estimates","Margin of Error","Estimates","Margin of Error","Estimates","Margin of Error","Estimates","Margin of Error","Estimates","Margin of Error"]
[null,"Total:",1331848,"*****",60383,"*****",47524,"*****",76109,"*****",32119,"*****",89280,"*****",406371,"*****",147958,"*****",302479,"*****",126552,"*****",43073,"*****"]
[null,"Native:",1252979,1881,58770,257,46175,276,73706,337,30936,230,84096,512,368630,1494,140834,486,288098,746,119660,593,42074,198]
[null,"Born in state of residence",558538,4595,31253,974,18214,914,32711,1017,19524,576,37224,1217,169434,2892,78926,1461,88540,1849,60414,1601,22298,742]
[null,"Born in other state in the United States:",679741,4480,27191,995,27626,860,40392,1060,11082,559,45923,1243,193129,2879,60485,1421,196819,1988,57669,1511,19425,763]
[null,"Northeast",544285,4266,21525,1078,22773,801,32558,983,8282,465,33204,1013,153679,2745,45433,1232,167820,2164,44208,1404,14803,710]
[null,"Midwest",43198,1368,1541,309,1562,271,2655,280,809,207,4272,437,12755,931,5215,448,9203,644,3668,400,1518,296]
[null,"South",57078,1982,2519,432,2004,373,3126,396,1308,223,5067,504,16806,955,6443,499,11849,854,6245,680,1711,327]
[null,"West",35180,1614,1606,335,1287,299,2053,334,683,157,3380,352,9889,822,3394,395,7947,804,3548,431,1393,322]
[null,"Born outside the United States:",14700,843,326,125,335,141,603,152,330,139,949,170,6067,614,1423,214,2739,358,1577,293,351,126]
[null,"Puerto Rico",3948,590,32,36,1,3,36,36,103,116,109,92,2955,488,161,61,410,152,140,91,1,4]
[null,"U.S. Island Areas",116,64,0,27,16,22,11,15,0,24,0,27,62,55,10,14,17,21,0,27,0,24]
[null,"Born abroad of American parent(s)",10636,672,294,121,318,136,556,150,227,69,840,158,3050,425,1252,215,2312,335,1437,277,350,125]
[null,"Foreign born:",78869,1881,1613,257,1349,276,2403,337,1183,230,5184,512,37741,1494,7124,486,14381,746,6892,593,999,198]
[null,"Naturalized U.S. citizen",42465,1470,1054,229,792,183,1389,272,796,164,2277,391,20309,979,3581,443,8665,703,2910,355,692,170]
[null,"Not a U.S. citizen",36404,1562,559,170,557,188,1014,214,387,125,2907,422,17432,1384,3543,404,5716,573,3982,530,307,122]
[]
[]
[]
[null,"B05002. PLACE OF BIRTH BY CITIZENSHIP STATUS"]
[null,"Universe: TOTAL POPULATION"]
[null,"Data Set: 2008-2012 American Community Survey 5-Year Estimates"]
[]
[null,null,"New Hampshire",null,"Belknap County",null,"Carroll County",null,"Cheshire County",null,"Coos County",null,"Grafton County",null,"Hillsborough County",null,"Merrimack County",null,"Rockingham County",null,"Strafford County",null,"Sullivan County"]
[null,null,"Estimates","Margin of Error","Estimates","Margin of Error","Estimates","Margin of Error","Estimates","Margin of Error","Estimates","Margin of Error","Estimates","Margin of Error","Estimates","Margin of Error","Estimates","Margin of Error","Estimates","Margin of Error","Estimates","Margin of Error","Estimates","Margin of Error"]
[null,"Total:",1317474,"*****",60206,"*****",47761,"*****",77106,"*****",32872,"*****",88985,"*****",401101,"*****",146742,"*****",295872,"*****",123295,"*****",43534,"*****"]
[null,"Native:",1247849,1688,58187,364,46388,272,74755,330,31949,151,83917,405,367926,1417,141416,484,282929,785,118006,441,42376,181]
[null,"Born in state of residence",555389,4234,30934,1050,18249,820,33846,1086,20418,494,38333,981,169543,2520,77397,1516,83913,1766,60959,1357,21797,623]
[null,"Born in other state in the United States:",678644,4187,26812,1058,27770,798,40205,1081,11259,539,44370,1019,193118,2356,62867,1454,196073,2066,55862,1498,20308,639]
[null,"Northeast",545653,3913,20671,1044,23173,835,32286,983,8805,515,32947,1079,153490,2036,47009,1333,168923,2235,42617,1310,15732,607]
[null,"Midwest",44536,1507,1979,334,1597,273,2380,341,597,160,3826,403,12970,776,5673,453,9598,721,4449,480,1467,242]
[null,"South",54290,1626,2465,395,1917,275,3354,372,1248,215,4238,479,16190,1006,6551,561,10973,813,5716,757,1638,272]
[null,"West",34165,1648,1697,402,1083,252,2185,315,609,154,3359,451,10468,866,3634,492,6579,601,3080,415,1471,275]
[null,"Born outside the United States:",13816,799,441,178,369,131,704,186,272,84,1214,235,5265,537,1152,175,2943,338,1185,225,271,81]
[null,"Puerto Rico",3262,495,43,40,25,40,96,74,28,25,194,108,2094,373,171,83,489,178,114,70,8,15]
[null,"U.S. Island Areas",277,100,0,27,23,29,5,6,0,24,30,41,89,58,36,33,76,47,0,27,18,22]
[null,"Born abroad of American parent(s)",10277,616,398,174,321,118,603,170,244,85,990,234,3082,409,945,159,2378,317,1071,213,245,76]
[null,"Foreign born:",69625,1688,2019,364,1373,272,2351,330,923,151,5068,405,33175,1417,5326,484,12943,785,5289,441,1158,181]
[null,"Naturalized U.S. citizen",36226,1258,1109,236,728,158,1287,223,600,125,2072,320,16239,951,2758,353,8134,624,2577,376,722,140]
[null,"Not a U.S. citizen",33399,1466,910,285,645,222,1064,239,323,97,2996,439,16936,1165,2568,414,4809,542,2712,346,436,112]

{"sheet":"ACS_Table_B07003","index":59,"n_rows":89,"n_cols":47,"rows_kept":89,"cut":false,"hidden":true,"merged":[]}
[null,"B07003. GEOGRAPHICAL MOBILITY IN THE PAST YEAR BY SEX FOR CURRENT RESIDENCE IN THE UNITED STATES - Universe:  POPULATION 1 YEAR AND OVER IN THE UNITED STATES"]
[null,"Data Set: 2018-2022 American Community Survey 5-Year Estimate"]
[null,"Survey: American Community Survey"]
[]
[null,null,"New Hampshire","2007-2012","Belknap County",null,"Carroll County","2013-2017","Cheshire County",null,"Coos County",null,"Grafton County",null,"Hillsborough County",null,"Merrimack County",null,"Rockingham County",null,"Strafford County",null,"Sullivan County",null,null,"New Hampshire",null,"Belknap County",null,"Carroll County",null,"Cheshire County",null,"Coos County",null,"Grafton County",null,"Hillsborough County",null,"Merrimack County",null,"Rockingham County",null,"Strafford County",null,"Sullivan County"]
[null," ","Estimate","Margin of Error","Estimate","Margin of Error","Estimate","Margin of Error","Estimate","Margin of Error","Estimate","Margin of Error","Estimate","Margin of Error","2009-2019","Margin of Error","Estimate","Margin of Error","Estimate","Margin of Error","Estimate","Margin of Error","Estimate","Margin of Error",null,"Coefficient of Variance","Estimate Reliable","Coefficient of Variance","Estimate Reliable","Coefficient of Variance","Estimate Reliable","Coefficient of Variance","Estimate Reliable","Coefficient of Variance","Estimate Reliable","Coefficient of Variance","Estimate Reliable","Coefficient of Variance","Estimate Reliable","Coefficient of Variance","Estimate Reliable","Coefficient of Variance","Estimate Reliable","Coefficient of Variance","Estimate Reliable","Coefficient of Variance","Estimate Reliable"]
[null,"Total:",1368913,808,63392,158,50405,74,76181,113,31245,74,90191,183,419082,429,152852,177,312592,332,129958,231,43015,133]
[null,"Male",684586,704,31382,194,25548,128,37457,134,16495,105,44726,215,210499,294,76346,168,156146,222,64278,267,21709,148,null,{"$f":"(D8/C8)*100","v":0.10283587452854719},{"$f":"IF(Z8<15,\"Yes\",\"No\")","v":"Yes"},{"$f":"(F8/E8)*100","v":0.61818877063284683},{"$f":"IF(AB8<15,\"Yes\",\"No\")","v":"Yes"},{"$f":"(H8/G8)*100","v":0.50101769218725534},{"$f":"IF(AD8<15,\"Yes\",\"No\")","v":"Yes"},{"$f":"(J8/I8)*100","v":0.35774354593266944},{"$f":"IF(AF8<15,\"Yes\",\"No\")","v":"Yes"},{"$f":"(L8/K8)*100","v":0.63655653228250986},{"$f":"IF(AH8<15,\"Yes\",\"No\")","v":"Yes"},{"$f":"(N8/M8)*100","v":0.48070473550060366},{"$f":"IF(AJ8<15,\"Yes\",\"No\")","v":"Yes"},{"$f":"(P8/O8)*100","v":0.13966812193882155},{"$f":"IF(AL8<15,\"Yes\",\"No\")","v":"Yes"},{"$f":"(R8/Q8)*100","v":0.22005082126110076},{"$f":"IF(AN8<15,\"Yes\",\"No\")","v":"Yes"},{"$f":"(T8/S8)*100","v":0.14217463143468292},{"$f":"IF(AP8<15,\"Yes\",\"No\")","v":"Yes"},{"$f":"(V8/U8)*100","v":0.41538317931485114},{"$f":"IF(AR8<15,\"Yes\",\"No\")","v":"Yes"},{"$f":"(X8/W8)*100","v":0.68174489842922292},{"$f":"IF(AT8<15,\"Yes\",\"No\")","v":"Yes"}]
[null,"Female",684327,683,32010,176,24857,121,38724,142,14750,98,45465,191,208583,322,76506,217,156446,299,65680,255,21306,145,null,9.9806086856137496E-2,"Yes",0.54982817869415812,"Yes",0.48678440680693569,"Yes",0.36669765520090902,"Yes",0.66440677966101691,"Yes",0.42010337622346861,"Yes",0.15437499700359089,"Yes",0.28363788461035738,"Yes",0.19112025874742722,"Yes",0.38824604141291108,"Yes",0.68055946681685908,"Yes"]
[null,"Same house 1 year ago:",1206704,4544,56244,939,44933,794,66140,899,27042,471,76845,1191,367914,3132,135832,1356,284031,2281,108304,1325,39419,706,null,0.37656293506941219,"Yes",1.6695114145508856,"Yes",1.7670754234081856,"Yes",1.3592379800423344,"Yes",1.7417350787663635,"Yes",1.5498731212180363,"Yes",0.85128589833493684,"Yes",0.99829200777430938,"Yes",0.80308135379588852,"Yes",1.2234081843699218,"Yes",1.7910144854004415,"Yes"]
[null,"Male",602836,2695,28045,533,22535,534,32727,538,13949,329,37977,672,184394,1891,67713,869,142060,1213,53776,930,19660,482,null,0.44705359334877143,"Yes",1.9005170262078801,"Yes",2.3696472154426447,"Yes",1.643902588077123,"Yes",2.3585920137644276,"Yes",1.7694920609842801,"Yes",1.0255214377908175,"Yes",1.2833577008846158,"Yes",0.85386456426861879,"Yes",1.7293960130913419,"Yes",2.4516785350966428,"Yes"]
[null,"Female",603868,2753,28199,623,22398,439,33413,580,13093,265,38868,714,183520,1596,68119,757,141971,1285,54528,792,19759,387,null,0.45589433452343892,"Yes",2.2092982020639029,"Yes",1.9599964282525226,"Yes",1.7358513153562984,"Yes",2.0239822806079588,"Yes",1.8369867242976228,"Yes",0.86965998256320831,"Yes",1.1112905356802067,"Yes",0.90511442477689097,"Yes",1.4524647887323943,"Yes",1.9586011437825801,"Yes"]
[null,"Moved within same county:",73579,3153,2734,600,2261,501,5576,770,1679,346,4891,794,26442,2183,6332,723,12750,1496,8829,1021,2085,644,null,4.2851900678182631,"Yes",{"$f":"(F13/E13)*100","v":21.945866861741038},{"$f":"IF(AB13<15,\"Yes\",\"No\")","v":"No"},22.158337019018134,"No",13.809182209469153,"Yes",20.607504466944608,"No",16.233898998159884,"No",8.2558051584600243,"Yes",11.418193303853442,"Yes",11.733333333333333,"Yes",11.564163551931136,"Yes",30.887290167865704,"No"]
[null,"Male",35918,1802,1176,302,1044,244,2569,450,985,244,2511,455,13485,1232,2902,434,6234,810,3761,644,1251,422,null,5.0169831282365385,"Yes",25.680272108843539,"No",23.371647509578544,"No",17.516543402101988,"No",24.771573604060915,"No",18.12027080844285,"No",9.1360771227289579,"Yes",14.955203308063405,"Yes",12.993262752646775,"Yes",17.123105557032702,"No",33.733013589128696,"No"]
[null,"Female",37661,1869,1558,434,1217,319,3007,427,694,170,2380,437,12957,1273,3430,424,6516,865,5068,616,834,298,null,4.9626935025623329,"Yes",27.856225930680363,"No",26.211996713229251,"No",14.200199534419689,"Yes",24.495677233429394,"No",18.361344537815128,"No",9.824805124643051,"Yes",12.361516034985423,"Yes",13.275015346838551,"Yes",12.154696132596685,"Yes",35.731414868105517,"No"]
[null,"Moved from different county within same state:",31852,1736,1886,514,737,213,1186,259,1002,228,2048,389,7422,1020,5862,750,5273,805,5563,736,873,284]
[null,"Male",17349,1070,1062,312,536,201,766,159,681,166,1020,272,3405,592,3318,565,2848,557,3267,535,446,155]
[null,"Female",14503,1087,824,276,201,81,420,166,321,111,1028,220,4017,655,2544,366,2425,444,2296,373,427,185]
[null,"Moved from different state:",51926,2344,2439,533,2429,496,3167,511,1447,245,5833,828,15062,1536,4248,803,9857,1148,6844,826,600,181]
[null,"Male",25741,1396,1064,262,1425,388,1312,266,824,180,2942,484,7667,739,2189,429,4615,557,3361,525,342,124]
[null,"Female",26185,1487,1375,351,1004,281,1855,356,623,158,2891,474,7395,969,2059,484,5242,753,3483,562,258,100]
[null,"Moved from abroad:",4852,881,89,76,45,51,112,58,75,56,574,191,2242,753,578,287,681,229,418,191,38,39]
[null,"Male",2742,689,35,29,8,13,83,46,56,41,276,107,1548,654,224,100,389,154,113,66,10,19]
[null,"Female",2110,418,54,54,37,41,29,39,19,20,298,143,694,222,354,214,292,106,305,177,28,34]
[]
[null,"Calculated B07003. GEOGRAPHICAL MOBILITY IN THE PAST YEAR BY SEX FOR CURRENT RESIDENCE IN THE UNITED STATES "]
[null,null,{"$f":"C5","v":"New Hampshire"},null,"Belknap County",null,"Carroll County",null,"Cheshire County",null,"Coos County",null,"Grafton County",null,"Hillsborough County",null,"Merrimack County",null,"Rockingham County",null,"Strafford County",null,"Sullivan County",null,null,"New Hampshire",null,"Belknap County",null,"Carroll County",null,"Cheshire County",null,"Coos County",null,"Grafton County",null,"Hillsborough County",null,"Merrimack County",null,"Rockingham County",null,"Strafford County",null,"Sullivan County"]
[null,null,"Estimate","Margin of Error","Estimate","Margin of Error","Estimate","Margin of Error","Estimate","Margin of Error","Estimate","Margin of Error","Estimate","Margin of Error","2009-2019","Margin of Error","Estimate","Margin of Error","Estimate","Margin of Error","Estimate","Margin of Error","Estimate",{"$f":"X6","v":"Margin of Error"},null,"Coefficient of Variance","Estimate Reliable","Coefficient of Variance","Estimate Reliable","Coefficient of Variance","Estimate Reliable","Coefficient of Variance","Estimate Reliable","Coefficient of Variance","Estimate Reliable","Coefficient of Variance","Estimate Reliable","Coefficient of Variance","Estimate Reliable","Coefficient of Variance","Estimate Reliable","Coefficient of Variance","Estimate Reliable","Coefficient of Variance","Estimate Reliable","Coefficient of Variance","Estimate Reliable"]
[]
[null,"  Total:",{"$f":"C7","v":1368913},{"$f":"D7","v":808},{"$f":"E7","v":63392},158,50405,74,76181,113,31245,74,90191,183,419082,429,152852,177,312592,332,129958,231,43015,133,null,{"$f":"(D30/C30)*100","v":5.9024934382243432E-2},{"$f":"IF(Z30<15,\"Yes\",\"No\")","v":"Yes"},{"$f":"(F30/E30)*100","v":0.24924280666330134},{"$f":"IF(AB30<15,\"Yes\",\"No\")","v":"Yes"},{"$f":"(H30/G30)*100","v":0.14681083225870448},{"$f":"IF(AD30<15,\"Yes\",\"No\")","v":"Yes"},{"$f":"(J30/I30)*100","v":0.14833094866173979},{"$f":"IF(AF30<15,\"Yes\",\"No\")","v":"Yes"},{"$f":"(L30/K30)*100","v":0.23683789406305009},{"$f":"IF(AH30<15,\"Yes\",\"No\")","v":"Yes"},{"$f":"(N30/M30)*100","v":0.20290272865363507},{"$f":"IF(AJ30<15,\"Yes\",\"No\")","v":"Yes"},{"$f":"(P30/O30)*100","v":0.10236660128566724},{"$f":"IF(AL30<15,\"Yes\",\"No\")","v":"Yes"},{"$f":"(R30/Q30)*100","v":0.11579828854054904},{"$f":"IF(AN30<15,\"Yes\",\"No\")","v":"Yes"},{"$f":"(T30/S30)*100","v":0.10620873214925526},{"$f":"IF(AP30<15,\"Yes\",\"No\")","v":"Yes"},{"$f":"(V30/U30)*100","v":0.17774973452961726},{"$f":"IF(AR30<15,\"Yes\",\"No\")","v":"Yes"},{"$f":"(X30/W30)*100","v":0.30919446704637921},{"$f":"IF(AT30<15,\"Yes\",\"No\")","v":"Yes"}]
[null,"    Same house ",{"$f":"C10","v":1206704},{"$f":"D10","v":4544},{"$f":"E10","v":56244},939,44933,794,66140,899,27042,471,76845,1191,367914,3132,135832,1356,284031,2281,108304,1325,39419,706,null,0.37656293506941219,"Yes",1.6695114145508856,"Yes",1.7670754234081856,"Yes",1.3592379800423344,"Yes",1.7417350787663635,"Yes",1.5498731212180363,"Yes",0.85128589833493684,"Yes",0.99829200777430938,"Yes",0.80308135379588852,"Yes",1.2234081843699218,"Yes",1.7910144854004415,"Yes"]
[null,"    Different house 2",{"$f":"C13+C16+C19+C22","v":162209},{"$f":"SQRT((D13^2)+(D16^2)+(D19^2)+(D22^2))","v":4384.7009020000442},{"$f":"E13+E16+E19+E22","v":7148},{"$f":"SQRT((F13^2)+(F16^2)+(F19^2)+(F22^2))","v":956.0653743337848},{"$f":"G13+G16+G19+G22","v":5472},{"$f":"SQRT((H13^2)+(H16^2)+(H19^2)+(H22^2))","v":738.23234824816507},{"$f":"I13+I16+I19+I22","v":10041},{"$f":"SQRT((J13^2)+(J16^2)+(J19^2)+(J22^2))","v":961.49154962485238},{"$f":"K13+K16+K19+K22","v":4203},{"$f":"SQRT((L13^2)+(L16^2)+(L19^2)+(L22^2))","v":484.62459698203514},{"$f":"M13+M16+M19+M22","v":13346},{"$f":"SQRT((N13^2)+(N16^2)+(N19^2)+(N22^2))","v":1226.3042036949885},{"$f":"O13+O16+O19+O22","v":51168},{"$f":"SQRT((P13^2)+(P16^2)+(P19^2)+(P22^2))","v":2955.0285954623182},{"$f":"Q13+Q16+Q19+Q22","v":17020},{"$f":"SQRT((R13^2)+(R16^2)+(R19^2)+(R22^2))","v":1346.2566620076575},{"$f":"S13+S16+S19+S22","v":28561},{"$f":"SQRT((T13^2)+(T16^2)+(T19^2)+(T22^2))","v":2063.1010639326423},{"$f":"U13+U16+U19+U22","v":21654},{"$f":"SQRT((V13^2)+(V16^2)+(V19^2)+(V22^2))","v":1517.5289124099086},{"$f":"W13+W16+W19+W22","v":3596},{"$f":"SQRT((X13^2)+(X16^2)+(X19^2)+(X22^2))","v":727.78705676866775},null,2.7031181389442289,"Yes",13.375285035447465,"Yes",13.491088235529332,"Yes",9.5756553094796573,"Yes",11.530444848490012,"Yes",9.1885524029296306,"Yes",5.7751496940711347,"Yes",7.9098511281295973,"Yes",7.2234902977229174,"Yes",7.0080766251496662,"Yes",20.238794682109781,"No"]
[null,"      in New Hampshire",{"$f":"C16+C13","v":105431},{"$f":"SQRT((D16^2)+(D13^2))","v":3599.3200746807724},{"$f":"E16+E13","v":4620},{"$f":"SQRT((F16^2)+(F13^2))","v":790.0607571573214},{"$f":"G16+G13","v":2998},{"$f":"SQRT((H16^2)+(H13^2))","v":544.39875091700935},{"$f":"I16+I13","v":6762},{"$f":"SQRT((J16^2)+(J13^2))","v":812.39214668779266},{"$f":"K16+K13","v":2681},{"$f":"SQRT((L16^2)+(L13^2))","v":414.36698710201324},{"$f":"M16+M13","v":6939},{"$f":"SQRT((N16^2)+(N13^2))","v":884.17023247788654},{"$f":"O16+O13","v":33864},{"$f":"SQRT((P16^2)+(P13^2))","v":2409.5412426435037},{"$f":"Q16+Q13","v":12194},{"$f":"SQRT((R16^2)+(R13^2))","v":1041.7432505180918},{"$f":"S16+S13","v":18023},{"$f":"SQRT((T16^2)+(T13^2))","v":1698.8351891811049},{"$f":"U16+U13","v":14392},{"$f":"SQRT((V16^2)+(V13^2))","v":1258.6250434501928},{"$f":"W16+W13","v":2958},{"$f":"SQRT((X16^2)+(X13^2))","v":703.8408911110522},null,3.4139105905101657,"Yes",17.100882189552411,"No",18.158730851134404,"No",12.014080844244198,"Yes",15.455687694965059,"No",12.742041107910168,"Yes",7.1153473973644683,"Yes",8.5430806176651792,"Yes",9.4259290305781764,"Yes",8.7453101962909443,"Yes",23.794485838777966,"No"]
[null,"          Same county",{"$f":"C13","v":73579},{"$f":"D13","v":3153},{"$f":"E13","v":2734},600,2261,501,5576,770,1679,346,4891,794,26442,2183,6332,723,12750,1496,8829,1021,2085,644,null,4.2851900678182631,"Yes",21.945866861741038,"No",22.158337019018134,"No",13.809182209469153,"Yes",20.607504466944608,"No",16.233898998159884,"No",8.2558051584600243,"Yes",11.418193303853442,"Yes",11.733333333333333,"Yes",11.564163551931136,"Yes",30.887290167865704,"No"]
[null,"          Different county",{"$f":"C16","v":31852},{"$f":"D16","v":1736},{"$f":"E16","v":1886},514,737,213,1186,259,1002,228,2048,389,7422,1020,5862,750,5273,805,5563,736,873,284,null,5.4502072083385658,"Yes",27.253446447507951,"No",28.900949796472187,"No",21.838111298482293,"No",22.754491017964071,"No",18.994140625,"No",13.7429264349232,"Yes",12.794268167860798,"Yes",15.266451735255075,"No",13.230271436275389,"Yes",32.531500572737684,"No"]
[null,"      in Different state",{"$f":"C19","v":51926},{"$f":"D19","v":2344},{"$f":"E19","v":2439},533,2429,496,3167,511,1447,245,5833,828,15062,1536,4248,803,9857,1148,6844,826,600,181,null,4.5141162423448753,"Yes",21.853218532185323,"No",20.419925895430218,"No",16.135143669087466,"No",16.93158258465791,"No",14.195096862677866,"Yes",10.197848891249501,"Yes",18.903013182674201,"No",11.646545602110175,"Yes",12.068965517241379,"Yes",30.166666666666668,"No"]
[null,"       Elsewhere",{"$f":"C22","v":4852},{"$f":"D22","v":881},{"$f":"E22","v":89},76,45,51,112,58,75,56,574,191,2242,753,578,287,681,229,418,191,38,39,null,18.157460840890355,"No",85.393258426966284,"No",113.33333333333333,"No",51.785714285714292,"No",74.666666666666671,"No",33.275261324041807,"No",33.58608385370205,"No",49.653979238754324,"No",33.627019089574155,"No",45.693779904306218,"No",102.63157894736842,"No"]
[]
[]
[]
[]
[]
[]
[]
[]
[]
[]
[]
[]
[]
[]
[]
[]
[]
[]
[]
[]
[]
[]
[null,"Calculated GEOGRAPHICAL MOBILITY IN THE PAST YEAR BY SEX FOR CURRENT RESIDENCE IN THE UNITED STATES"]
[null,"Universe:  POPULATION 1 YEAR AND OVER IN THE UNITED STATES"]
[null,"Data Set: 2013-2017 American Community Survey 5-Year Estimates"]
[null," ","New Hampshire",null,"Belknap County",null,"Carroll County",null,"Cheshire County",null,"Coos County",null,"Grafton County",null,"Hillsborough County",null,"Merrimack County",null,"Rockingham County",null,"Strafford County",null,"Sullivan County",null,null,"New Hampshire",null,"Belknap County",null,"Carroll County",null,"Cheshire County",null,"Coos County",null,"Grafton County",null,"Hillsborough County",null,"Merrimack County",null,"Rockingham County",null,"Strafford County",null,"Sullivan County"]
[null," ","Estimate","Margin of Error","Estimate","Margin of Error","Estimate","Margin of Error","Estimate","Margin of Error","Estimate","Margin of Error","Estimate","Margin of Error","Estimate","Margin of Error","Estimate","Margin of Error","Estimate","Margin of Error","Estimate","Margin of Error","Estimate","Margin of Error",null,"Coefficient of Variance","Estimate Reliable","Coefficient of Variance","Estimate Reliable","Coefficient of Variance","Estimate Reliable","Coefficient of Variance","Estimate Reliable","Coefficient of Variance","Estimate Reliable","Coefficient of Variance","Estimate Reliable","Coefficient of Variance","Estimate Reliable","Coefficient of Variance","Estimate Reliable","Coefficient of Variance","Estimate Reliable","Coefficient of Variance","Estimate Reliable","Coefficient of Variance","Estimate Reliable"]
[]
[null,"  Total:",1319364,779,59873,162,47261,103,75534,138,31889,69,88662,121,401696,424,146622,211,299751,358,125302,266,42774,124,null,4.8812903637853879E-2,"Yes",0.22366137000934702,"Yes",0.22080210611239676,"Yes",0.18766933192361065,"Yes",0.23467567821271001,"Yes",0.14920311970159375,"Yes",0.1023988811049089,"Yes",0.11130078525093889,"Yes",0.10916370525127805,"Yes",0.15463876224891232,"Yes",0.26199443261830685,"Yes"]
[null,"    Same house ",1132133,4519,53471,763,41331,761,62858,1088,27584,524,74025,1053,340959,2717,127908,1222,266084,1867,100708,1447,37205,773,null,0.39869938155132562,"Yes",1.5365107779518163,"Yes",1.8797898491348146,"Yes",1.6530917152633864,"Yes",1.7912269366070785,"Yes",1.2745999134948096,"Yes",0.7962681139311869,"Yes",0.99960047316511413,"Yes",0.73455986927709027,"Yes",1.6621111021786317,"Yes",2.1750346213376055,"Yes"]
[null,"    Different house 2",187231,4420.5905714055898,6402,840.93697742458676,5930,869.79365369034508,12676,1133.09796575583,4305,567.30150713707781,14637,1079.5369377654476,60737,2651.6393042795244,18714,1163.0709350680206,33667,2013.2672450521814,24594,1522.7182930535773,5569,778.35981396780755,null,2.3606397912708963,"Yes",12.837198143800046,"Yes",14.371845664505271,"Yes",8.4900825771083746,"Yes",11.725322790703647,"Yes",6.9962357863742151,"Yes",4.560179067118062,"Yes",6.9630713169417779,"Yes",6.5590868152065811,"Yes",6.0264338167482041,"Yes",14.546154017589895,"Yes"]
[null,"      in New Hampshire",131945,3906.9170710420767,5235,796.67935833684055,4303,785.82758923315998,9422,1043.7839814827587,3423,506.44051970591767,7747,865.60268021766194,42827,2186.6460618947913,14533,1061.476801442217,21311,1686.5882722229512,18516,1393.6462965903509,4628,735.04421635708422,null,2.8418727836684945,"Yes",14.971082259238935,"Yes",17.156302242290941,"No",10.326424698581002,"Yes",13.648059502452414,"Yes",10.200476145858921,"Yes",5.5649373432155977,"Yes",8.2245096386348937,"Yes",7.7898017813384621,"Yes",7.159457633337639,"Yes",16.819546083002567,"No"]
[null,"          Same county",99836,3201,3539,693,2884,647,7614,979,2520,441,5549,732,35205,2010,9055,877,16685,1528,13238,1189,3547,631,null,3.1719094086510293,"Yes",18.704600484261501,"No",19.939917386406307,"No",11.865918939587051,"Yes",15.221655551196548,"No",12.576744186046513,"Yes",6.1603130888534574,"Yes",10.314245045439614,"Yes",8.8903991103422708,"Yes",8.3863045362611963,"Yes",19.533203667685466,"No"]
[null,"          Different county",32109,2240,1696,393,1419,446,1808,362,903,249,2198,462,7622,861,5478,598,4626,714,5278,727,1081,377,null,6.2677336053814523,"Yes",24.69609724888036,"No",32.643678160919542,"No",18.891537544696067,"No",30.499325236167341,"No",17.340339531123686,"No",12.923728813559322,"Yes",13.622974963181148,"Yes",16.161825726141078,"No",13.74779368503628,"Yes",33.021276595744681,"No"]
[null,"      in Different state",48730,1866,1089,261,1570,370,2991,415,858,255,6025,584,15035,1357,3698,424,11340,1032,5223,514,901,255,null,4.5015149329101138,"Yes",26.286619160728424,"No",26.942355889724311,"No",15.285045442026989,"No",21.618204804045511,"No",9.833024118738404,"Yes",8.4042706680132735,"Yes",13.561762165274979,"Yes",12.206988058381247,"Yes",11.576487506740966,"Yes",28.170289855072461,"No"]
[null,"       Elsewhere",6556,892,78,66,57,46,263,149,24,18,865,274,2875,639,483,215,1016,379,855,335,40,23,null,12.453300124533001,"Yes",63.636363636363633,"No",74.418604651162795,"No",57.034220532319388,"No",95,"No",30.36723163841808,"No",20.873228648027574,"No",31.274638633377133,"No",43.452958292919497,"No",33.460076045627375,"No",54.54545454545454,"No"]
[]
[]
[]
[null,"Calculated GEOGRAPHICAL MOBILITY IN THE PAST YEAR BY SEX FOR CURRENT RESIDENCE IN THE UNITED STATES"]
[null,"Universe:  POPULATION 1 YEAR AND OVER IN THE UNITED STATES"]
[null,"Data Set: 2008-2012 American Community Survey 5-Year Estimates"]
[null," ","New Hampshire",null,"Belknap County",null,"Carroll County",null,"Cheshire County",null,"Coos County",null,"Grafton County",null,"Hillsborough County",null,"Merrimack County",null,"Rockingham County",null,"Strafford County",null,"Sullivan County"]
[null," ","Estimate","Margin of Error","Estimate","Margin of Error","Estimate","Margin of Error","Estimate","Margin of Error","Estimate","Margin of Error","Estimate","Margin of Error","Estimate","Margin of Error","Estimate","Margin of Error","Estimate","Margin of Error","Estimate","Margin of Error","Estimate","Margin of Error"]
[null,"Total",1305180,615,59743,135,47314,195,76332,155,32545,89,88174,145,397114,333,145602,199,293195,303,122092,207,43069,124]
[null,"    Same house ",1131646,4092,53118,880,42010,797,64369,991,28223,509,74524,1014,344758,2435,126203,1316,263238,1586,97868,1571,37335,728]
[null,"    Different house ",173534,4405.3974849041715,6625,864.60742536714326,5304,759.27662943093412,11963,1015.8941874033929,4322,510.29599253766435,13650,1096.9726523482707,52356,2631.9213514085104,19399,1333.9692650132538,29957,1638.7937637176924,24224,1670.1215524625745,5734,785.23117615132935]
[null,"      in New Hampshire",125688,4006.0616570392422,5151,780.49535552750092,3652,617.96197294008311,7547,800.12998943921605,3437,476.49554037787175,7845,863.73375527415851,39800,2387.2923993511981,15365,1221.3357441752044,20027,1373.9887190221032,18270,1467.9172319991342,4594,736.91519186402991]
[null,"          Same county",94280,3537,2980,617,2780,534,5940,728,2741,442,5438,700,32891,2197,10050,1005,15293,1169,13009,1234,3158,512]
[null,"          Different county",31408,1881,2171,478,872,311,1607,332,696,178,2407,506,6909,934,5315,694,4734,722,5261,795,1436,530]
[null,"      in Different state",42232,1714,1184,318,1618,440,4090,603,855,177,4751,568,10683,1009,3486,497,9245,862,5306,778,1014,262]
[null,"       Elsewhere",5614,649,290,193,34,32,326,168,30,45,1054,367,1873,458,548,202,685,234,648,171,126,70]

{"sheet":"ACS_Table_B14001","index":60,"n_rows":98,"n_cols":24,"rows_kept":98,"cut":false,"hidden":true,"merged":[]}
[null,"B14001. SCHOOL ENROLLMENT BY LEVEL OF SCHOOL FOR THE POPULATION 3 YEARS AND OVER"]
[null,"Universe: POPULATION 3 YEARS AND OVER"]
[null,"Data Set: 2018-2022 American Community Survey 5-Year Estimate"]
[]
[null,null,"New Hampshire",null,"Belknap County",null,"Carroll County",null,"Cheshire County",null,"Coos County",null,"Grafton County",null,"Hillsborough County",null,"Merrimack County",null,"Rockingham County",null,"Strafford County",null,"Sullivan County"]
[null," ","Estimate","Margin of Error","Estimate","Margin of Error","Estimate","Margin of Error","Estimate","Margin of Error","Estimate","Margin of Error","Estimate","Margin of Error","Estimate","Margin of Error","Estimate","Margin of Error","Estimate","Margin of Error","Estimate","Margin of Error","Estimate","Margin of Error"]
[null,"Total:",1343687,902,62356,191,49864,143,74517,203,30645,108,88719,219,410651,532,150090,292,306996,425,127502,290,42347,149]
[null,"Enrolled in school:",294770,2242,11971,443,8341,508,17339,551,5002,232,20007,634,91692,1201,34112,789,64955,1086,33565,808,7786,330]
[null,"Enrolled in nursery school, preschool",17844,968,764,218,546,136,946,204,220,79,708,193,5840,623,2087,265,4655,478,1517,296,561,145]
[null,"Enrolled in kindergarten",13308,952,491,179,623,152,702,127,179,57,699,195,4411,555,1446,238,3014,453,1309,275,434,165]
[null,"Enrolled in grade 1 to grade 4",55196,1300,2369,303,1678,228,2807,274,901,119,3283,271,18290,894,6291,422,13404,702,4383,427,1790,227]
[null,"Enrolled in grade 5 to grade 8",59504,1439,3014,327,1905,275,3376,294,1343,162,3182,309,19066,1076,6707,427,13080,579,6184,500,1647,216]
[null,"Enrolled in grade 9 to grade 12",64906,1415,3204,376,1980,155,3080,263,1297,124,3186,276,20993,693,8043,465,16085,602,5160,359,1878,163]
[null,"Enrolled in college, undergraduate years",66391,1696,1525,330,1186,362,5552,396,839,155,7334,487,17548,867,7624,673,10932,937,12676,605,1175,247]
[null,"Graduate or professional school",17621,1009,604,147,423,169,876,220,223,77,1615,288,5544,690,1914,285,3785,504,2336,424,301,144]
[null,"Not enrolled in school",1048917,2172,50385,402,41523,484,57178,499,25643,212,68712,652,318959,1226,115978,843,242041,1059,93937,836,34561,339]
[]
[]
[]
[null,"B14001. Calculated  SCHOOL ENROLLMENT BY LEVEL OF SCHOOL FOR THE POPULATION 3 YEARS AND OVER "]
[null,"Universe: POPULATION 3 YEARS AND OVER"]
[null,"Data Set: 2018-2022 American Community Survey 5-Year Estimates"]
[]
[null,null,"New Hampshire",null,"Belknap County",null,"Carroll County",null,"Cheshire County",null,"Coos County",null,"Grafton County",null,"Hillsborough County",null,"Merrimack County",null,"Rockingham County",null,"Strafford County",null,"Sullivan County"]
[null,null,"Estimate","Margin Of Error","Estimate","Margin Of Error","Estimate","Margin Of Error","Estimate","Margin Of Error","Estimate","Margin Of Error","Estimate","Margin Of Error","Estimate","Margin Of Error","Estimate","Margin Of Error","Estimate","Margin Of Error","Estimate","Margin Of Error","Estimate","Margin Of Error"]
[null,"Total:",{"$f":"C7","v":1343687},902,62356,191,49864,143,74517,203,30645,108,88719,219,410651,532,150090,292,{"$f":"S7","v":306996},425,127502,290,42347,149]
[null,"Enrolled in school:",294770,2242,11971,443,8341,508,17339,551,5002,232,20007,634,91692,1201,34112,789,64955,1086,33565,808,7786,330]
[null,"Enrolled in nursery school, preschool, and Kindergarten",{"$f":"C9+C10","v":31152},{"$f":"SQRT((D9^2)+(D10^2))","v":1357.6921595118681},{"$f":"E9+E10","v":1255},{"$f":"SQRT((F9^2)+(F10^2))","v":282.07268566807386},{"$f":"G9+G10","v":1169},{"$f":"SQRT((H9^2)+(H10^2))","v":203.96078054371139},{"$f":"I9+I10","v":1648},{"$f":"SQRT((J9^2)+(J10^2))","v":240.3018934590404},{"$f":"K9+K10","v":399},{"$f":"SQRT((L9^2)+(L10^2))","v":97.416631023660429},{"$f":"M9+M10","v":1407},{"$f":"SQRT((N9^2)+(N10^2))","v":274.36107595648474},{"$f":"O9+O10","v":10251},{"$f":"SQRT((P9^2)+(P10^2))","v":834.35843616517718},{"$f":"Q9+Q10","v":3533},{"$f":"SQRT((R9^2)+(R10^2))","v":356.18674877092212},{"$f":"S9+S10","v":7669},{"$f":"SQRT((T9^2)+(T10^2))","v":658.55371838597955},{"$f":"U9+U10","v":2826},{"$f":"SQRT((V9^2)+(V10^2))","v":404.0309394093477},{"$f":"W9+W10","v":995},{"$f":"SQRT((X9^2)+(X10^2))","v":219.65882636488797}]
[null,"Enrolled in nursery school, preschool",{"$f":"C9","v":17844},968,764,218,546,136,946,204,220,79,708,193,5840,623,2087,265,4655,478,1517,296,561,145]
[null,"Enrolled in kindergarten",{"$f":"C10","v":13308},952,491,179,623,152,702,127,179,57,699,195,4411,555,1446,238,3014,453,1309,275,434,165]
[null,"Enrolled in grade Elementary School (grade 1 to grade 8)",{"$f":"C11+C12","v":114700},{"$f":"SQRT((D11^2)+(D12^2))","v":1939.2578477345398},{"$f":"E11+E12","v":5383},{"$f":"SQRT((F11^2)+(F12^2))","v":445.80040376832318},{"$f":"G11+G12","v":3583},{"$f":"SQRT((H11^2)+(H12^2))","v":357.22401934920333},{"$f":"I11+I12","v":6183},{"$f":"SQRT((J11^2)+(J12^2))","v":401.88555584892572},{"$f":"K11+K12","v":2244},{"$f":"SQRT((L11^2)+(L12^2))","v":201.00995000248122},{"$f":"M11+M12","v":6465},{"$f":"SQRT((N11^2)+(N12^2))","v":411.00121654321168},{"$f":"O11+O12","v":37356},{"$f":"SQRT((P11^2)+(P12^2))","v":1398.932450120448},{"$f":"Q11+Q12","v":12998},{"$f":"SQRT((R11^2)+(R12^2))","v":600.34406801433454},{"$f":"S11+S12","v":26484},{"$f":"SQRT((T11^2)+(T12^2))","v":909.96977971798606},{"$f":"U11+U12","v":10567},{"$f":"SQRT((V11^2)+(V12^2))","v":657.51730015262717},{"$f":"W11+W12","v":3437},{"$f":"SQRT((X11^2)+(X12^2))","v":313.34485794408693}]
[null,"Enrolled in grade 9 to grade 12",{"$f":"C13","v":64906},1415,3204,376,1980,155,3080,263,1297,124,3186,276,20993,693,8043,465,16085,602,5160,359,1878,163]
[null,"Enrolled in Elementary and High School",{"$f":"C11+C12+C13","v":179606},{"$f":"SQRT((D11^2)+(D12^2)+(D13^2))","v":2400.6136715431744},{"$f":"E11+E12+E13","v":8587},{"$f":"SQRT((F11^2)+(F12^2)+(F13^2))","v":583.19293548533324},{"$f":"G11+G12+G13","v":5563},{"$f":"SQRT((H11^2)+(H12^2)+(H13^2))","v":389.40210579810685},{"$f":"I11+I12+I13","v":9263},{"$f":"SQRT((J11^2)+(J12^2)+(J13^2))","v":480.29261913962409},{"$f":"K11+K12+K13","v":3541},{"$f":"SQRT((L11^2)+(L12^2)+(L13^2))","v":236.18001608942276},{"$f":"M11+M12+M13","v":9651},{"$f":"SQRT((N11^2)+(N12^2)+(N13^2))","v":495.07373188243383},{"$f":"O11+O12+O13","v":58349},{"$f":"SQRT((P11^2)+(P12^2)+(P13^2))","v":1561.1729564657467},{"$f":"Q11+Q12+Q13","v":21041},{"$f":"SQRT((R11^2)+(R12^2)+(R13^2))","v":759.36684151995996},{"$f":"S11+S12+S13","v":42569},{"$f":"SQRT((T11^2)+(T12^2)+(T13^2))","v":1091.0769908672805},{"$f":"U11+U12+U13","v":15727},{"$f":"SQRT((V11^2)+(V12^2)+(V13^2))","v":749.13950636713855},{"$f":"W11+W12+W13","v":5315},{"$f":"SQRT((X11^2)+(X12^2)+(X13^2))","v":353.2053227232002}]
[null,"Enrolled in College or Graduate School",{"$f":"C14+C15","v":84012},{"$f":"SQRT((D14^2)+(D15^2))","v":1973.4479977947228},{"$f":"E14+E15","v":2129},{"$f":"SQRT((F14^2)+(F15^2))","v":361.26029397098154},{"$f":"G14+G15","v":1609},{"$f":"SQRT((H14^2)+(H15^2))","v":399.50594488693156},{"$f":"I14+I15","v":6428},{"$f":"SQRT((J14^2)+(J15^2))","v":453.00772620342804},{"$f":"K14+K15","v":1062},{"$f":"SQRT((L14^2)+(L15^2))","v":173.07223925286226},{"$f":"M14+M15","v":8949},{"$f":"SQRT((N14^2)+(N15^2))","v":565.78529496620888},{"$f":"O14+O15","v":23092},{"$f":"SQRT((P14^2)+(P15^2))","v":1108.0564065064557},{"$f":"Q14+Q15","v":9538},{"$f":"SQRT((R14^2)+(R15^2))","v":730.85839941810889},{"$f":"S14+S15","v":14717},{"$f":"SQRT((T14^2)+(T15^2))","v":1063.9478370672125},{"$f":"U14+U15","v":15012},{"$f":"SQRT((V14^2)+(V15^2))","v":738.78345947916296},{"$f":"W14+W15","v":1476},{"$f":"SQRT((X14^2)+(X15^2))","v":285.91082525850607}]
[null,"Not enrolled in school",{"$f":"C16","v":1048917},2172,50385,402,41523,484,57178,499,25643,212,68712,652,318959,1226,115978,843,242041,1059,93937,836,34561,339]
[]
[]
[null,"B14001. Calculated  SCHOOL ENROLLMENT BY LEVEL OF SCHOOL FOR THE POPULATION 3 YEARS AND OVER "]
[null,"Universe: POPULATION 3 YEARS AND OVER"]
[null,"Data Set: 2013-2017 American Community Survey 5-Year Estimates"]
[]
[null,null,"New Hampshire",null,"Belknap County",null,"Carroll County",null,"Cheshire County",null,"Coos County",null,"Grafton County",null,"Hillsborough County",null,"Merrimack County",null,"Rockingham County",null,"Strafford County",null,"Sullivan County"]
[null," ","Estimate","Margin of Error","Estimate","Margin of Error","Estimate","Margin of Error","Estimate","Margin of Error","Estimate","Margin of Error","Estimate","Margin of Error","Estimate","Margin of Error","Estimate","Margin of Error","Estimate","Margin of Error","Estimate","Margin of Error","Estimate","Margin of Error"]
[null,"Total:",1295006,880,58945,208,46435,122,74038,161,31405,96,87119,169,393580,494,143946,249,294630,356,122864,306,42044,168]
[null,"Enrolled in school:",312824,2351,12818,482,8236,392,18937,593,5863,244,22341,583,97392,1177,34807,746,67892,852,36099,766,8439,309]
[null,"Enrolled in nursery school, preschool, and Kindergarten",32171,1098.847578147215,1140,220.90722034374522,913,195.57607215607945,2047,281.11385593741193,710,130.81666560496029,1751,255.03333115496883,10390,653.52123148372152,3846,361.08863177895813,7378,526.10360196448005,2968,370.41868203426242,1028,186.69761648183942]
[null,"Enrolled in nursery school, preschool",18034,775,573,164,600,165,1273,220,383,93,856,169,5766,493,2192,284,4260,404,1608,283,523,134]
[null,"Enrolled in kindergarten",14137,779,567,148,313,105,774,175,327,92,895,191,4624,429,1654,223,3118,337,1360,239,505,130]
[null,"Enrolled in grade Elementary School (grade 1 to grade 8)",120070,1893.0319595822994,5549,415.78119245583969,3494,297.98154305258572,6112,406.12559633689676,2428,209.38003725283841,6599,459.65748117484173,39479,1114.4222718521019,13059,549.28772059823075,28422,820.68386117919977,10955,595.76169732536516,3973,332.50112781763613]
[null,"Enrolled in grade 9 to grade 12",66638,935,2931,193,2300,213,3181,191,1487,131,3585,210,21242,514,7653,285,16398,372,5843,397,2018,167]
[null,"Enrolled in Elementary and High School",186708,2111.3490947732921,8480,458.39175385253168,5794,366.28131265463162,9293,448.79728163169614,3915,246.98380513709802,10184,505.35630994378607,60721,1227.2461040883366,20712,618.8230764927888,44820,901.05826670643228,16798,715.91968823325431,5991,372.083324001493]
[null,"Enrolled in College or Graduate School",93945,2072.6470997253728,3198,432.11341103927799,1529,294.73038526762048,7597,612.6279458202996,1238,212.07781590727495,10406,683.67609289779909,26281,1176.4799190806445,10249,656.72292483207866,15694,893.11141522208754,16333,648.93297034439547,1420,224.32119828495925]
[null,"Not enrolled in school",982182,2307,46127,464,38199,394,55101,599,25542,227,64778,635,296188,1131,109139,758,226738,889,86765,740,33605,319]
[]
[]
[]
[]
[]
[]
[]
[]
[]
[]
[]
[]
[]
[]
[]
[]
[]
[]
[]
[]
[]
[]
[]
[]
[]
[]
[]
[]
[]
[null,"B14001. Calculated  SCHOOL ENROLLMENT BY LEVEL OF SCHOOL FOR THE POPULATION 3 YEARS AND OVER "]
[null,"Universe: POPULATION 3 YEARS AND OVER"]
[null,"Data Set: 2008-2012 American Community Survey 5-Year Estimates"]
[]
[null,null,"New Hampshire",null,"Belknap County",null,"Carroll County",null,"Cheshire County",null,"Coos County",null,"Grafton County",null,"Hillsborough County",null,"Merrimack County",null,"Rockingham County",null,"Strafford County",null,"Sullivan County"]
[null," ","Estimate","Margin of Error","Estimate","Margin of Error","Estimate","Margin of Error","Estimate","Margin of Error","Estimate","Margin of Error","Estimate","Margin of Error","Estimate","Margin of Error","Estimate","Margin of Error","Estimate","Margin of Error","Estimate","Margin of Error","Estimate","Margin of Error"]
[null,"Total:",1278001,866,58574,148,46559,163,74731,187,32067,96,86575,153,387774,501,142562,256,287383,437,119461,272,42315,150]
[null,"Enrolled in school:",330248,1773,12501,434,9297,306,20998,559,6521,249,24113,593,102100,1042,36507,567,73397,843,35676,939,9138,358]
[null,"Enrolled in nursery school, preschool, and Kindergarten",34584,1210.2239462182195,912,181.81309083781619,1110,234.00854685246006,1622,242.5633937757303,698,114.82595525402782,1871,260.96743091811283,11780,694.92517582830453,3880,364.17715469260287,8657,575.91058333737885,3223,416.09253778456542,831,189.58902921846507]
[null,"Enrolled in nursery school, preschool",19380,891,421,116,651,186,925,174,349,63,959,170,6630,461,2072,260,5193,443,1730,342,450,138]
[null,"Enrolled in kindergarten",15204,819,491,140,459,142,697,169,349,96,912,198,5150,520,1808,255,3464,368,1493,237,381,130]
[null,"Enrolled in grade Elementary School (grade 1 to grade 8)",129869,1758.1427700843865,5753,391.03068933269162,4179,352.6655639554279,6854,408.24012541640246,2974,222.76669409945464,7286,365.42714732214409,41899,1125.7219905465115,14346,611.66739327840583,31156,941.40373910453536,11164,546.03479742595164,4258,395.6071283483148]
[null,"Enrolled in grade 9 to grade 12",73304,1068,3442,286,2435,151,3696,274,1636,111,4059,204,23576,597,8201,290,17936,486,6072,371,2251,164]
[null,"Enrolled in Elementary and High School",203173,2057.107192151153,9195,484.45949263070486,6614,383.63263677638275,10550,491.66655367230339,4610,248.88953372932338,11345,418.51284329157687,65475,1274.2287863645211,22547,676.93204976570576,49092,1059.4512730654487,17236,660.14771074358805,6509,428.25342964184188]
[null,"Enrolled in College or Graduate School",92491,1760.007102258397,2394,331.85689686972006,1573,232.12496634356245,8826,598.31931274195051,1213,179.94721448246983,10897,739.6735766539183,24845,1037.5880685512916,1037.5880685512916,546.32316443658146,15648,850.94418148313343,15217,873.54908276524452,1798,307.41665537182593]
[null,"Not enrolled in school",947753,1896,46073,414,37262,249,53733,565,25546,239,62462,569,285674,1144,106055,590,213986,951,83785,915,33177,368]

{"sheet":"ACS_Table_B15002","index":61,"n_rows":141,"n_cols":24,"rows_kept":141,"cut":false,"hidden":true,"merged":[]}
[null,"B15002. SEX BY EDUCATIONAL ATTAINMENT FOR THE POPULATION 25 YEARS AND OVER"]
[null,"Universe: Population 25 years an over"]
[null,"Data Set: 2018-2022 American Community Survey 5-Year Estimate"]
[]
[null,null,"New Hampshire",null,"Belknap County",null,"Carroll County",null,"Cheshire County",null,"Coos County",null,"Grafton County",null,"Hillsborough County",null,"Merrimack County",null,"Rockingham County",null,"Strafford County",null,"Sullivan County"]
[null," ","Estimate","Margin of Error","Estimate","Margin of Error","Estimate","Margin of Error","Estimate","Margin of Error","Estimate","Margin of Error","Estimate","Margin of Error","Estimate","Margin of Error","Estimate","Margin of Error","Estimate","Margin of Error","Estimate","Margin of Error","Estimate","Margin of Error"]
[null,"Total:",997353,505,47981,168,39992,87,54560,173,24511,99,65142,163,301873,70,110798,253,231996,186,87852,211,32648,94]
[null,"Male:",493934,401,23632,164,19899,130,26723,141,12979,116,31918,147,150135,44,54838,204,114333,115,43268,139,16209,150]
[null,"No schooling completed",3615,559,174,117,137,60,283,128,134,65,209,83,1101,294,400,147,598,166,237,139,342,270]
[null,"Nursery to 4th grade",944,219,0,28,0,28,75,61,5,7,3,4,430,159,175,97,209,119,47,42,0,25]
[null,"5th and 6th grade",1007,250,50,57,9,19,25,38,27,21,42,30,645,240,61,47,65,42,35,40,48,44]
[null,"7th and 8th grade",4723,691,91,60,191,98,267,95,336,106,459,175,1622,448,611,215,475,183,522,170,149,80]
[null,"9th grade",4455,585,267,160,145,80,217,166,218,56,271,107,1702,386,592,186,410,129,360,142,273,149]
[null,"10th grade",7174,751,576,292,218,142,445,143,406,113,394,133,1933,494,942,216,1333,469,579,180,348,172]
[null,"11th grade",5889,652,450,140,242,108,465,132,367,112,447,186,1483,303,828,225,884,227,375,140,348,176]
[null,"12th grade, no diploma",7167,571,315,147,316,186,302,102,232,71,661,261,2368,364,694,183,1405,257,637,167,237,135]
[null,"High school graduate, GED, or alternative",142533,2497,7961,568,5820,557,9151,542,5266,392,9447,583,39405,1454,16818,868,30872,1178,11455,683,6338,512]
[null,"Some college, less than 1 year",29562,1332,1445,248,1315,256,1554,279,794,148,1626,244,8438,742,3124,355,7076,643,3565,483,625,193]
[null,"Some college, 1 or more years, no degree",55646,1867,2732,375,2542,386,3438,452,1540,199,2870,323,17761,1091,5929,530,12602,946,4702,566,1530,312]
[null,"Associate's degree",43481,1463,2402,366,1921,348,1981,296,1228,186,2226,296,12650,868,5749,519,9631,756,4244,597,1449,246]
[null,"Bachelor's degree",116707,2593,4336,461,4012,438,5256,473,1502,189,6441,535,38808,1598,11046,587,31854,1174,10663,733,2789,422]
[null,"Master's degree",49994,1585,2106,342,2042,347,2159,262,576,169,3519,339,16092,924,5113,496,12467,936,4581,495,1339,308]
[null,"Professional school degree",11204,726,381,126,540,157,593,124,229,93,1500,256,2909,388,1681,281,2609,407,528,164,234,122]
[null,"Doctorate degree",9833,672,346,138,449,185,512,145,119,51,1803,284,2788,414,1075,240,1843,276,738,164,160,87]
[null,"Female:",503419,388,24349,102,20093,91,27837,158,11532,66,33224,125,151738,72,55960,163,117663,100,44584,219,16439,107]
[null,"No schooling completed",3537,501,91,68,73,60,114,54,82,43,250,109,1492,351,309,130,517,171,460,174,149,116]
[null,"Nursery to 4th grade",1064,258,0,28,68,82,68,70,58,68,141,123,472,135,68,61,123,98,40,39,26,29]
[null,"5th and 6th grade",1041,313,0,28,6,9,20,30,32,29,20,26,676,271,117,72,157,97,2,8,11,12]
[null,"7th and 8th grade",4297,660,294,150,129,81,260,147,214,75,181,147,1511,384,521,215,581,222,450,187,156,98]
[null,"9th grade",2893,375,172,94,115,89,132,74,74,56,233,124,1271,291,297,122,284,116,151,77,164,99]
[null,"10th grade",4789,513,272,194,105,65,234,106,174,90,451,174,1430,278,554,132,929,246,376,170,264,123]
[null,"11th grade",4704,562,221,128,113,77,214,113,179,73,350,133,1601,371,642,204,909,267,262,95,213,145]
[null,"12th grade, no diploma",4425,501,188,94,122,60,286,108,179,72,327,179,1416,299,427,130,898,169,344,139,238,150]
[null,"High school graduate, GED, or alternative",128441,2547,6281,598,4929,542,8081,660,4087,264,7536,593,38043,1350,15278,750,27232,1154,11405,756,5569,492]
[null,"Some college, less than 1 year",30598,1285,2093,320,1536,341,1806,269,904,142,1684,245,8884,682,3309,334,6740,536,2769,528,873,205]
[null,"Some college, 1 or more years, no degree",58860,1898,3441,499,2563,391,3188,348,1437,222,4179,501,17938,1235,6133,466,13614,1115,4782,560,1585,326]
[null,"Associate's degree",57060,1679,3138,438,2363,285,3205,439,1535,184,2934,309,16210,861,6421,610,13350,781,6034,692,1870,353]
[null,"Bachelor's degree",119482,2592,4791,472,4635,433,6323,517,1684,197,7364,552,37303,1324,12189,600,31009,1114,10987,815,3197,398]
[null,"Master's degree",66384,1840,2850,309,2899,340,3358,425,700,146,5211,595,19639,1018,7524,595,17320,849,5174,541,1709,309]
[null,"Professional school degree",8735,775,361,154,198,91,336,112,110,44,1114,259,1995,353,1291,196,2410,430,680,202,240,84]
[null,"Doctorate degree",7109,614,156,99,239,94,212,82,83,38,1249,251,1857,350,880,266,1590,260,668,173,175,69]
[]
[]
[]
[]
[]
[]
[]
[]
[null,"Calculated B15002. SEX BY EDUCATIONAL ATTAINMENT FOR THE POPULATION 25 YEARS AND OVER"]
[]
[null,null,"New Hampshire",null,"Belknap County",null,"Carroll County",null,"Cheshire County",null,"Coos County",null,"Grafton County",null,"Hillsborough County",null,"Merrimack County",null,"Rockingham County",null,"Strafford County",null,"Sullivan County"]
[null," ","Estimate","Margin of Error","Estimate","Margin of Error","Estimate","Margin of Error","Estimate","Margin of Error","Estimate","Margin of Error","Estimate","Margin of Error","Estimate","Margin of Error","Estimate","Margin of Error","Estimate","Margin of Error","Estimate","Margin of Error","Estimate","Margin of Error"]
[null,"Total:",{"$f":"C7","v":997353},{"$f":"D7","v":505},{"$f":"E7","v":47981},168,39992,87,54560,173,24511,99,65142,163,301873,70,110798,253,231996,186,87852,211,32648,94]
[null,"Less than 9th grade",{"$f":"(C12+C11+C10)+(C27+C28+C29)","v":13076},{"$f":"SQRT((D12^2)+(D11^2)+(D10^2)+(D27^2)+(D28^2)+(D29^2))","v":1089.9885320497642},{"$f":"(E12+E11+E10)+(E27+E28+E29)","v":435},{"$f":"SQRT((F12^2)+(F11^2)+(F10^2)+(F27^2)+(F28^2)+(F29^2))","v":178.04774640528311},{"$f":"(G12+G11+G10)+(G27+G28+G29)","v":403},{"$f":"SQRT((H12^2)+(H11^2)+(H10^2)+(H27^2)+(H28^2)+(H29^2))","v":155.2900511945308},{"$f":"(I12+I11+I10)+(I27+I28+I29)","v":715},{"$f":"SQRT((J12^2)+(J11^2)+(J10^2)+(J27^2)+(J28^2)+(J29^2))","v":203.9583290772897},{"$f":"(K12+K11+K10)+(K27+K28+K29)","v":672},{"$f":"SQRT((L12^2)+(L11^2)+(L10^2)+(L27^2)+(L28^2)+(L29^2))","v":151.04966070799364},{"$f":"(M12+M11+M10)+(M27+M28+M29)","v":846},{"$f":"SQRT((N12^2)+(N11^2)+(N10^2)+(N27^2)+(N28^2)+(N29^2))","v":262.592840724952},{"$f":"(O12+O11+O10)+(O27+O28+O29)","v":5356},{"$f":"SQRT((P12^2)+(P11^2)+(P10^2)+(P27^2)+(P28^2)+(P29^2))","v":722.98478545540638},{"$f":"(Q12+Q11+Q10)+(Q27+Q28+Q29)","v":1553},{"$f":"SQRT((R12^2)+(R11^2)+(R10^2)+(R27^2)+(R28^2)+(R29^2))","v":336.11456380228452},{"$f":"(S12+S11+S10)+(S27+S28+S29)","v":1610},{"$f":"SQRT((T12^2)+(T11^2)+(T10^2)+(T27^2)+(T28^2)+(T29^2))","v":343.09036710464488},{"$f":"(U12+U11+U10)+(U27+U28+U29)","v":1096},{"$f":"SQRT((V12^2)+(V11^2)+(V10^2)+(V27^2)+(V28^2)+(V29^2))","v":262.33185090644253},{"$f":"(W12+W11+W10)+(W27+W28+W29)","v":390},{"$f":"SQRT((X12^2)+(X11^2)+(X10^2)+(X27^2)+(X28^2)+(X29^2))","v":139.82131454109563}]
[null,"9th to 12th grade, no diploma",{"$f":"(C13+C14+C15+C16)+(C30+C31+C32+C33)","v":41496},{"$f":"SQRT((D13^2)+(D14^2)+(D15^2)+(D16^2)+(D30^2)+(D31^2)+(D32^2)+(D33^2))","v":1621.113814634864},{"$f":"(E13+E14+E15+E16)+(E30+E31+E32+E33)","v":2461},{"$f":"SQRT((F13^2)+(F14^2)+(F15^2)+(F16^2)+(F30^2)+(F31^2)+(F32^2)+(F33^2))","v":473.03805343756437},{"$f":"(G13+G14+G15+G16)+(G30+G31+G32+G33)","v":1376},{"$f":"SQRT((H13^2)+(H14^2)+(H15^2)+(H16^2)+(H30^2)+(H31^2)+(H32^2)+(H33^2))","v":307.40689647436346},{"$f":"(I13+I14+I15+I16)+(I30+I31+I32+I33)","v":2295},{"$f":"SQRT((J13^2)+(J14^2)+(J15^2)+(J16^2)+(J30^2)+(J31^2)+(J32^2)+(J33^2))","v":342.02046722381982},{"$f":"(K13+K14+K15+K16)+(K30+K31+K32+K33)","v":1829},{"$f":"SQRT((L13^2)+(L14^2)+(L15^2)+(L16^2)+(L30^2)+(L31^2)+(L32^2)+(L33^2))","v":235.02978534645348},{"$f":"(M13+M14+M15+M16)+(M30+M31+M32+M33)","v":3134},{"$f":"SQRT((N13^2)+(N14^2)+(N15^2)+(N16^2)+(N30^2)+(N31^2)+(N32^2)+(N33^2))","v":476.69382207030964},{"$f":"(O13+O14+O15+O16)+(O30+O31+O32+O33)","v":13204},{"$f":"SQRT((P13^2)+(P14^2)+(P15^2)+(P16^2)+(P30^2)+(P31^2)+(P32^2)+(P33^2))","v":1003.1669851026797},{"$f":"(Q13+Q14+Q15+Q16)+(Q30+Q31+Q32+Q33)","v":4976},{"$f":"SQRT((R13^2)+(R14^2)+(R15^2)+(R16^2)+(R30^2)+(R31^2)+(R32^2)+(R33^2))","v":506.15215103761045},{"$f":"(S13+S14+S15+S16)+(S30+S31+S32+S33)","v":7052},{"$f":"SQRT((T13^2)+(T14^2)+(T15^2)+(T16^2)+(T30^2)+(T31^2)+(T32^2)+(T33^2))","v":726.63746118680115},{"$f":"(U13+U14+U15+U16)+(U30+U31+U32+U33)","v":3084},{"$f":"SQRT((V13^2)+(V14^2)+(V15^2)+(V16^2)+(V30^2)+(V31^2)+(V32^2)+(V33^2))","v":404.01485121218008},{"$f":"(W13+W14+W15+W16)+(W30+W31+W32+W33)","v":2085},{"$f":"SQRT((X13^2)+(X14^2)+(X15^2)+(X16^2)+(X30^2)+(X31^2)+(X32^2)+(X33^2))","v":411.63211730864731}]
[null,"High school graduate (includes equivalency)",{"$f":"C17+C34","v":270974},{"$f":"SQRT((D17^2)+(D34^2))","v":3566.8218346309363},{"$f":"E17+E34","v":14242},{"$f":"SQRT((F17^2)+(F34^2))","v":824.75935884353567},{"$f":"G17+G34","v":10749},{"$f":"SQRT((H17^2)+(H34^2))","v":777.18273269547103},{"$f":"I17+I34","v":17232},{"$f":"SQRT((J17^2)+(J34^2))","v":854.02810258211059},{"$f":"K17+K34","v":9353},{"$f":"SQRT((L17^2)+(L34^2))","v":472.60977560774177},{"$f":"M17+M34","v":16983},{"$f":"SQRT((N17^2)+(N34^2))","v":831.5876381957587},{"$f":"O17+O34","v":77448},{"$f":"SQRT((P17^2)+(P34^2))","v":1984.0907237321583},{"$f":"Q17+Q34","v":32096},{"$f":"SQRT((R17^2)+(R34^2))","v":1147.1373065156586},{"$f":"S17+S34","v":58104},{"$f":"SQRT((T17^2)+(T34^2))","v":1649.0603384958356},{"$f":"U17+U34","v":22860},{"$f":"SQRT((V17^2)+(V34^2))","v":1018.8351191434265},{"$f":"W17+W34","v":11907},{"$f":"SQRT((X17^2)+(X34^2))","v":710.0760522648261}]
[null,"Some college, no degree",{"$f":"(C18+C19)+(C35+C36)","v":174666},{"$f":"SQRT((D18^2)+(D19^2)+(D35^2)+(D36^2))","v":3242.4592518642389},{"$f":"(E18+E19)+(E35+E36)","v":9711},{"$f":"SQRT((F18^2)+(F19^2)+(F35^2)+(F36^2))","v":743.99596773100859},{"$f":"(G18+G19)+(G35+G36)","v":7956},{"$f":"SQRT((H18^2)+(H19^2)+(H35^2)+(H36^2))","v":695.48112842837077},{"$f":"(I18+I19)+(I35+I36)","v":9986},{"$f":"SQRT((J18^2)+(J19^2)+(J35^2)+(J36^2))","v":689.64483612943843},{"$f":"(K18+K19)+(K35+K36)","v":4675},{"$f":"SQRT((L18^2)+(L19^2)+(L35^2)+(L36^2))","v":361.87428756406553},{"$f":"(M18+M19)+(M35+M36)","v":10359},{"$f":"SQRT((N18^2)+(N19^2)+(N35^2)+(N36^2))","v":689.123356156211},{"$f":"(O18+O19)+(O35+O36)","v":53021},{"$f":"SQRT((P18^2)+(P19^2)+(P35^2)+(P36^2))","v":1931.6298817320051},{"$f":"(Q18+Q19)+(Q35+Q36)","v":18495},{"$f":"SQRT((R18^2)+(R19^2)+(R35^2)+(R36^2))","v":857.69283546034126},{"$f":"(S18+S19)+(S35+S36)","v":40032},{"$f":"SQRT((T18^2)+(T19^2)+(T35^2)+(T36^2))","v":1684.8994035253263},{"$f":"(U18+U19)+(U35+U36)","v":15818},{"$f":"SQRT((V18^2)+(V19^2)+(V35^2)+(V36^2))","v":1070.527440096703},{"$f":"(W18+W19)+(W35+W36)","v":4613},{"$f":"SQRT((X18^2)+(X19^2)+(X35^2)+(X36^2))","v":531.87780551551498}]
[null,"Associate's degree",{"$f":"C20+C37","v":100541},{"$f":"SQRT((D20^2)+(D37^2))","v":2226.9732822824794},{"$f":"E20+E37","v":5540},{"$f":"SQRT((F20^2)+(F37^2))","v":570.78892771321341},{"$f":"G20+G37","v":4284},{"$f":"SQRT((H20^2)+(H37^2))","v":449.80995987194416},{"$f":"I20+I37","v":5186},{"$f":"SQRT((J20^2)+(J37^2))","v":529.46860152420743},{"$f":"K20+K37","v":2763},{"$f":"SQRT((L20^2)+(L37^2))","v":261.63333120992058},{"$f":"M20+M37","v":5160},{"$f":"SQRT((N20^2)+(N37^2))","v":427.89835241561752},{"$f":"O20+O37","v":28860},{"$f":"SQRT((P20^2)+(P37^2))","v":1222.5976443621998},{"$f":"Q20+Q37","v":12170},{"$f":"SQRT((R20^2)+(R37^2))","v":800.91260447067509},{"$f":"S20+S37","v":22981},{"$f":"SQRT((T20^2)+(T37^2))","v":1086.9668808202023},{"$f":"U20+U37","v":10278},{"$f":"SQRT((V20^2)+(V37^2))","v":913.93271087099185},{"$f":"W20+W37","v":3319},{"$f":"SQRT((X20^2)+(X37^2))","v":430.26154836331818}]
[null,"Bachelor's degree",{"$f":"C21+C38","v":236189},{"$f":"SQRT((D21^2)+(D38^2))","v":3666.3487286399804},{"$f":"E21+E38","v":9127},{"$f":"SQRT((F21^2)+(F38^2))","v":659.77647730121453},{"$f":"G21+G38","v":8647},{"$f":"SQRT((H21^2)+(H38^2))","v":615.90015424579985},{"$f":"I21+I38","v":11579},{"$f":"SQRT((J21^2)+(J38^2))","v":700.72676557985142},{"$f":"K21+K38","v":3186},{"$f":"SQRT((L21^2)+(L38^2))","v":273.00183149568795},{"$f":"M21+M38","v":13805},{"$f":"SQRT((N21^2)+(N38^2))","v":768.71906441820477},{"$f":"O21+O38","v":76111},{"$f":"SQRT((P21^2)+(P38^2))","v":2075.2301077229968},{"$f":"Q21+Q38","v":23235},{"$f":"SQRT((R21^2)+(R38^2))","v":839.38608518368949},{"$f":"S21+S38","v":62863},{"$f":"SQRT((T21^2)+(T38^2))","v":1618.4165100492519},{"$f":"U21+U38","v":21650},{"$f":"SQRT((V21^2)+(V38^2))","v":1096.1359404745381},{"$f":"W21+W38","v":5986},{"$f":"SQRT((X21^2)+(X38^2))","v":580.07585710836133}]
[null,"Graduate or professional degree",{"$f":"(C22+C23+C24)+(C39+C40+C41)","v":153259},{"$f":"SQRT((D22^2)+(D23^2)+(D24^2)+(D39^2)+(D41^2)+(D40^2))","v":2802.5177965536632},{"$f":"(E22+E23+E24)+(E39+E40+E41)","v":6200},{"$f":"SQRT((F22^2)+(F23^2)+(F24^2)+(F39^2)+(F41^2)+(F40^2))","v":529.98301859587912},{"$f":"(G22+G23+G24)+(G39+G40+G41)","v":6367},{"$f":"SQRT((H22^2)+(H23^2)+(H24^2)+(H39^2)+(H41^2)+(H40^2))","v":558.56960175075767},{"$f":"(I22+I23+I24)+(I39+I40+I41)","v":7170},{"$f":"SQRT((J22^2)+(J23^2)+(J24^2)+(J39^2)+(J41^2)+(J40^2))","v":552.21191584390863},{"$f":"(K22+K23+K24)+(K39+K40+K41)","v":1817},{"$f":"SQRT((L22^2)+(L23^2)+(L24^2)+(L39^2)+(L41^2)+(L40^2))","v":253.98228284665842},{"$f":"(M22+M23+M24)+(M39+M40+M41)","v":14396},{"$f":"SQRT((N22^2)+(N23^2)+(N24^2)+(N39^2)+(N41^2)+(N40^2))","v":863.2612582526798},{"$f":"(O22+O23+O24)+(O39+O40+O41)","v":45280},{"$f":"SQRT((P22^2)+(P23^2)+(P24^2)+(P39^2)+(P41^2)+(P40^2))","v":1568.1674017782668},{"$f":"(Q22+Q23+Q24)+(Q39+Q40+Q41)","v":17564},{"$f":"SQRT((R22^2)+(R23^2)+(R24^2)+(R39^2)+(R41^2)+(R40^2))","v":919.65971967896905},{"$f":"(S22+S23+S24)+(S39+S40+S41)","v":38239},{"$f":"SQRT((T22^2)+(T23^2)+(T24^2)+(T39^2)+(T41^2)+(T40^2))","v":1446.1058052576927},{"$f":"(U22+U23+U24)+(U39+U40+U41)","v":12369},{"$f":"SQRT((V22^2)+(V23^2)+(V24^2)+(V39^2)+(V41^2)+(V40^2))","v":813.7757676411851},{"$f":"(W22+W23+W24)+(W39+W40+W41)","v":3857},{"$f":"SQRT((X22^2)+(X23^2)+(X24^2)+(X39^2)+(X41^2)+(X40^2))","v":473.93564964032828}]
[]
[]
[]
[]
[]
[]
[]
[]
[]
[]
[]
[]
[]
[]
[]
[]
[]
[]
[]
[]
[]
[]
[]
[]
[]
[]
[]
[null,"Calculated B15002. SEX BY EDUCATIONAL ATTAINMENT FOR THE POPULATION 25 YEARS AND OVER"]
[null,"Universe:  POPULATION 25 YEARS AND OVER"]
[null,"Data Set: 2013-2017 American Community Survey 5-Year Estimates"]
[null,null,"New Hampshire",null,"Belknap County",null,"Carroll County",null,"Cheshire County",null,"Coos County",null,"Grafton County",null,"Hillsborough County",null,"Merrimack County",null,"Rockingham County",null,"Strafford County",null,"Sullivan County"]
[null," ","Estimates","Margin of Error","Estimates","Margin of Error","Estimates","Margin of Error","Estimates","Margin of Error","Estimates","Margin of Error","Estimates","Margin of Error","Estimates","Margin of Error","Estimates","Margin of Error","Estimates","Margin of Error","Estimates","Margin of Error","Estimates","Margin of Error"]
[null,"Total:",939471,460,44469,111,36574,69,52603,184,24528,93,62303,183,283506,61,104448,175,217737,155,81763,203,31540,104]
[null,"Less than 9th grade",15948,932.72075135058515,539,171.21623754772793,517,180.36352181081406,869,209.36570874906903,734,150.31965939290842,1194,263.51091059005506,6536,600.52227269269542,1433,227.97587591672939,2366,350.19280403800417,1137,248.09675531937131,623,143.5060974314332]
[null,"9th to 12th grade, no diploma",46172,1506.9595216859675,2682,406.97788637713472,1760,313.41346493091197,2526,314.56954715928879,1992,237.04851824046486,3137,354.05508046065376,14686,876.93728396048937,5051,428.59538028308236,7689,631.25034653455839,4510,494.83835744614623,2139,318.28289303699626]
[null,"High school graduate (includes equivalency)",262891,3134.7918591191983,13123,656.58510491786217,10928,647.22252742005207,16649,677.69757266792681,9839,349.29214133730522,17447,731.28517009440304,76015,1855.4333725574734,29204,916.57296490786814,55276,1303.9670241229262,22569,915,11841,592.56223301860882]
[null,"Some college, no degree",176656,2794.364686292754,9446,624.16904761450644,7046,582.01546371209076,9981,576.08853486248097,4792,332.06926988205339,10562,586.87903353246486,52149,1637.0403171577664,19753,770.70227714727821,41118,1333.7488519207805,16075,906.80483015916934,5734,495.80439691475107]
[null,"Associate's degree",94088,1944.3147893281068,4518,439.14120735817994,3745,457.98799110893725,5114,441.88799485842566,2544,231.22499864850255,5150,431.51940860174528,28495,1150.4264426724553,11759,635.07873527618608,22140,896.89464264204412,7766,558.02598505804372,2857,301.47968422432712]
[null,"Bachelor's degree",209224,2801.7626594699273,8666,568.62641514442498,7979,557.41725843393112,10363,524.55028357632216,3033,222.62299971027252,12183,614.03990098364125,66236,1850.612060913902,22026,725.07447893302663,55341,1412.6673352208579,18165,787.27695253957484,5232,451.10641760010463]
[null,"Graduate or professional degree",129334,2099.3987234444057,5327,476.6927731778614,4464,407.00122849937441,6776,437.22419878135747,1444,157.89553508570151,12314,689.56217993738608,37335,1111.4342085791673,14696,633.80596399844649,33019,1070.2733295752071,11009,634.31143770233246,2950,284.7542800380707]
[]
[]
[]
[]
[]
[]
[]
[]
[]
[]
[]
[]
[]
[]
[]
[]
[]
[]
[]
[]
[]
[]
[]
[]
[]
[]
[]
[null,"Calculated B15002. SEX BY EDUCATIONAL ATTAINMENT FOR THE POPULATION 25 YEARS AND OVER"]
[null,"Universe:  POPULATION 25 YEARS AND OVER"]
[null,"Data Set: 2008-2012 American Community Survey 5-Year Estimates"]
[null,null,"New Hampshire",null,"Belknap County",null,"Carroll County",null,"Cheshire County",null,"Coos County",null,"Grafton County",null,"Hillsborough County",null,"Merrimack County",null,"Rockingham County",null,"Strafford County",null,"Sullivan County"]
[null," ","Estimates","Margin of Error","Estimates","Margin of Error","Estimates","Margin of Error","Estimates","Margin of Error","Estimates","Margin of Error","Estimates","Margin of Error","Estimates","Margin of Error","Estimates","Margin of Error","Estimates","Margin of Error","Estimates","Margin of Error","Estimates","Margin of Error"]
[null,"Total:",907338,486,43478,184,36107,135,51511,141,24548,63,60080,205,272916,95,101607,187,206861,102,78797,234,31433,60]
[null,"Less than 9th grade",19734,929.05435793606819,1160,234.58687090287043,621,185.93009439033801,1043,194.62785001124581,1103,149.18780110987626,1184,203.21171226088322,7777,595.62907920953626,1428,226.27196026021431,2359,345.95375413485544,2094,325.70845859449213,965,188.24983399727077]
[null,"9th to 12th grade, no diploma",52584,1493.7439539626596,3050,383.70431324132909,2223,308.90937182286973,3340,339.38915716327767,2538,243.46046907044274,3750,380.74794812316452,15820,863.83505369948955,6071,501.95916168549013,9142,659.62337739046211,4595,464.05279872014563,2055,275.3960784034515]
[null,"High school graduate (includes equivalency)",265671,2897.7360128210439,13253,659.86741092434625,11190,565.65095244328904,17587,639.57016815983525,9583,396.07070075934678,17841,605.38913105538984,74178,1634.396830638141,1634.396830638141,866.27074289739232,57968,1380.4785402171235,23245,853.15473391407727,11646,551.11976919722269]
[null,"Some college, no degree",173637,2501.2474887543617,8973,594.11025912704122,7335,531.23347033107768,9937,578.65101745352524,4662,316.15976973675828,10656,588.59323815348068,50718,1454.4820383902993,20123,856.77943486057131,39755,1219.6995531687301,15652,843.97689541835211,5826,433.9930875025546]
[null,"Associate's degree",87017,1810.2411441573192,4448,476.64032561251048,3742,417.19539786531681,3816,324.58126871401561,2514,241.14933132812124,4072,346.20369726506391,26041,1004.9726364434009,10381,657.79328059809188,20868,918.92110651567907,8429,652.17328985477468,2706,332.35222279984828]
[null,"Bachelor's degree",191995,2866.5787971029158,8235,534.57272657702993,6825,545.51351953915866,9799,553.31184697239223,2621,217.79348015953096,12581,639.24956003113527,62046,1488.8398167700916,21252,824.3421619691668,48621,1275.6590453565561,14987,741.28874266374771,5028,349.05157212079706]
[null,"Graduate or professional degree",59089,1479.8016759012,2323,294.74056388627611,1916,264.99811320083018,3014,330.42094364613149,657,120.40764095355411,5395,468.17304493103831,18554,915.85970541344375,6597,448.85855233024131,14234,634.01025228303683,4799,417.20258867845007,1600,196.89083269670022]

{"sheet":"OwnerHousingCost","index":62,"n_rows":112,"n_cols":17,"rows_kept":112,"cut":false,"hidden":true,"merged":[]}
[]
[null,null,"HIDE THIS COLUMN",{"$f":"CntyDataLink!$A35","v":"Grafton County"}]
[]
[]
[]
[]
[null,null,528078]
[]
[null,null,19962]
[null,null,17120]
[null,null,19075]
[null,null,19686]
[null,null,19732]
[null,null,21875]
[null,null,19149]
[null,null,19683]
[null,null,18692]
[null,null,38093]
[null,null,54158]
[null,null,73982]
[null,null,58038]
[null,null,39393]
[null,null,44900]
[null,null,44540]
[]
[]
[]
[]
[]
[]
[]
[]
[]
[]
[]
[]
[]
[]
[null,null,null,"Data from the American Community Survey are estimates."]
[]
[]
[null,null,null,{"$f":"CntyDataLink!A$35","v":"Grafton County"}]
[]
[]
[]
[null,null,null,"Owner Households by "]
[null,null,null,"Selected Monthly Housing Costs as a Percent of 2022 Household Income",null,null,null,"By Household Income"]
[null,null,"H73RenterOccHU",null,"Specified Owner Occ Housing Units","Margin of Error Owner Occ Housing Units",null,"Less than $20,000",{"$f":"\"Margin of Error \"&H48","v":"Margin of Error Less than $20,000"},"$20,000 to $34,999",{"$f":"\"Margin of Error \"&J48","v":"Margin of Error $20,000 to $34,999"},"$35,000 to $49,999",{"$f":"\"Margin of Error \"&L48","v":"Margin of Error $35,000 to $49,999"},"$50,000 to $74,999",{"$f":"\"Margin of Error \"&N48","v":"Margin of Error $50,000 to $74,999"},"$75,000 or More",{"$f":"\"Margin of Error \"&P48","v":"Margin of Error $75,000 or More"}]
[]
[null,null,null,"Total Households",{"$f":"CntyDataLink!$BF144","v":387149},{"$f":"CntyDataLink!$BG$144","v":2619},null,{"$f":"CntyDataLink!$BZ$144","v":18493},{"$f":"CntyDataLink!$CA$144","v":1146},{"$f":"CntyDataLink!$CH$144","v":27544},{"$f":"CntyDataLink!$CI$144","v":1188},{"$f":"CntyDataLink!$CP$144","v":30558},{"$f":"CntyDataLink!$CQ$144","v":1297},{"$f":"CntyDataLink!$CX$144","v":57067},{"$f":"CntyDataLink!$CY$144","v":1615},{"$f":"CntyDataLink!$DF$144","v":251557},{"$f":"CntyDataLink!$DG$144","v":2633}]
[null,null,null,"Monthly Costs Less than 20% of HH Income",{"$f":"CntyDataLink!$BH$144","v":195187},{"$f":"CntyDataLink!$BI$144","v":3317.8167520223296},null,{"$f":"CntyDataLink!$CB$144","v":858},{"$f":"CntyDataLink!$CC$144","v":248},{"$f":"CntyDataLink!CJ$144","v":2900},{"$f":"CntyDataLink!CK$144","v":412},{"$f":"CntyDataLink!CR$144","v":5772},{"$f":"CntyDataLink!CS$144","v":555},{"$f":"CntyDataLink!CZ$144","v":19753},{"$f":"CntyDataLink!DA$144","v":971},{"$f":"CntyDataLink!DH$144","v":165904},{"$f":"CntyDataLink!DI$144","v":2605}]
[null,null,null,"Monthly Costs 20% to 29.9% of HH Income",{"$f":"CntyDataLink!$BJ$144","v":94180},{"$f":"CntyDataLink!$BK$144","v":2264.1446508560362},null,{"$f":"CntyDataLink!$CD$144","v":717},{"$f":"CntyDataLink!$CE$144","v":282},{"$f":"CntyDataLink!CL$144","v":5354},{"$f":"CntyDataLink!CM$144","v":664},{"$f":"CntyDataLink!CT$144","v":8783},{"$f":"CntyDataLink!CU$144","v":818},{"$f":"CntyDataLink!DB$144","v":14934},{"$f":"CntyDataLink!DC$144","v":892},{"$f":"CntyDataLink!DJ$144","v":64392},{"$f":"CntyDataLink!DK$144","v":1800}]
[null,null,null,"Monthly Costs Less Than 30% of HH Income",{"$f":"CntyDataLink!$BL$144","v":289367},{"$f":"CntyDataLink!$BM$144","v":4016.7473159261585},null,{"$f":"H52+H51","v":1575},{"$f":"SQRT((I52^2)+(I51^2))","v":375.5369489144843},{"$f":"J52+J51","v":8254},{"$f":"SQRT((K52^2)+(K51^2))","v":781.4345781957694},{"$f":"L52+L51","v":14555},{"$f":"SQRT((M52^2)+(M51^2))","v":988.50847239667098},{"$f":"N52+N51","v":34687},{"$f":"SQRT((O52^2)+(O51^2))","v":1318.5237957655524},{"$f":"P52+P51","v":230296},{"$f":"SQRT((Q52^2)+(Q51^2))","v":3166.3899001860145}]
[null,null,null,"Monthly Costs 30% or More of HH Income",{"$f":"CntyDataLink!$BN$144","v":95852},{"$f":"CntyDataLink!$BO$144","v":2390.2732061419256},null,{"$f":"CntyDataLink!$CF$144","v":16918},{"$f":"CntyDataLink!$CG$144","v":1129},{"$f":"CntyDataLink!CN$144","v":19290},{"$f":"CntyDataLink!CO$144","v":1075},{"$f":"CntyDataLink!CV$144","v":16003},{"$f":"CntyDataLink!CW$144","v":878},{"$f":"CntyDataLink!DD$144","v":22380},{"$f":"CntyDataLink!DE$144","v":1200},{"$f":"CntyDataLink!$DL$144","v":21261},{"$f":"CntyDataLink!$DM$144","v":1170}]
[]
[null,null,null,"Monthly Costs 35% or More of HH Income",{"$f":"CntyDataLink!$BT$144","v":70079},{"$f":"CntyDataLink!$BU$144","v":2094.6152391310438},null,"NA","NA","NA","NA","NA","NA","NA","NA","NA","NA"]
[null,null,null,"Monthly Costs 50% or More of HH Income",{"$f":"CntyDataLink!$BV$144","v":34685},{"$f":"CntyDataLink!$BW$144","v":1508.9420134650636},null,"NA","NA","NA","NA","NA","NA","NA","NA","NA","NA"]
[null,null,null,"Percent not computed",{"$f":"CntyDataLink!$BX$144","v":1930},{"$f":"CntyDataLink!$BY$144","v":348.60005737234178},null,"NA","NA","NA","NA","NA","NA","NA","NA","NA","NA"]
[]
[null,null,null,"Percent of Owner Households Paying ",null,null,null,"By Household Income"]
[null,null,null,{"$f":"D53","v":"Monthly Costs Less Than 30% of HH Income"},{"$f":"E53/E$50","v":0.74743057582481165},null,null,{"$f":"H53/H$50","v":8.5167360622938407E-2},null,{"$f":"J53/J$50","v":0.29966598896311358},null,{"$f":"L53/L$50","v":0.47630734995745794},null,{"$f":"N53/N$50","v":0.60782939351989762},null,{"$f":"P53/P$50","v":0.91548237576374336}]
[null,null,null,{"$f":"D54","v":"Monthly Costs 30% or More of HH Income"},{"$f":"E54/E$50","v":0.2475842634231265},null,null,{"$f":"H54/H50","v":0.91483263937706161},null,{"$f":"J54/J50","v":0.70033401103688642},null,{"$f":"L54/L50","v":0.52369265004254206},null,{"$f":"N54/N50","v":0.39217060648010232},null,{"$f":"P54/P50","v":8.4517624236256597E-2}]
[]
[null,null,null,"Monthly Costs 35% or More of HH Income",{"$f":"E56/E$50","v":0.18101299499675835},null,null,"NA","NA","NA","NA","NA","NA","NA","NA","NA","NA"]
[null,null,null,"Monthly Costs 50% or More of HH Income",{"$f":"E57/E$50","v":8.9590829370604086E-2},null,null,"NA","NA","NA","NA","NA","NA","NA","NA","NA","NA"]
[null,null,null,"Percent not computed",{"$f":"E58/$E$50","v":4.9851607520618674E-3},null,null,"NA","NA","NA","NA","NA","NA","NA","NA","NA","NA"]
[]
[null,null,null,"Income in 2022 Inflation Adjusted Dollars"]
[null,null,null,"Source: Source: 2018-2022 American Community Survey Table B25091; B25106",null,null,null,null,"NA indicates that the American Community Survey does not provide that data."]
[null,null,null,"Data from the American Community Survey are estimates."]
[]
[null,null,null,{"$f":"CntyDataLink!$A35","v":"Grafton County"}]
[null,null,"H62ROHUGRent250to299"]
[null,null,"H62ROHUGRent300to349"]
[null,null,"H62ROHUGRent350to399","Value of Owner Occupied Housing Units"]
[null,null,"H62ROHUGRent400to449"]
[null,null,"H62ROHUGRent450to499","Owner Occupied Housing Units",{"$f":"CntyDataLink!$B$144","v":383839},{"$f":"CntyDataLink!$C$144","v":2913}]
[null,null,"H62ROHUGRent500to549"]
[null,null,"H62ROHUGRent550to599","Value","Housing Units","Margin of Error"]
[null,null,"H62ROHUGRent600to649","Less than $10,000",{"$f":"CntyDataLink!$D$144","v":2227},{"$f":"CntyDataLink!$E$144","v":345}]
[null,null,"H62ROHUGRent650to699","$10,000 to $14,999",{"$f":"CntyDataLink!$F$144","v":1694},{"$f":"CntyDataLink!$G$144","v":323}]
[null,null,"H62ROHUGRent700to749","$15,000 to $19,999",{"$f":"CntyDataLink!$H$144","v":1688},{"$f":"CntyDataLink!$I$144","v":284}]
[null,null,"H62ROHUGRent750to799","$20,000 to $24,999",{"$f":"CntyDataLink!$J$144","v":1958},{"$f":"CntyDataLink!$K$144","v":295}]
[null,null,"H62ROHUGRent800to899","$25,000 to $29,999",{"$f":"CntyDataLink!$L$144","v":1556},{"$f":"CntyDataLink!$M$144","v":295}]
[null,null,"H62ROHUGRent900to999","$30,000 to $34,999",{"$f":"CntyDataLink!$N$144","v":2106},{"$f":"CntyDataLink!$O$144","v":346}]
[null,null,"H62ROHUGRent1000to1249","$35,000 to $39,999",{"$f":"CntyDataLink!$P$144","v":1312},{"$f":"CntyDataLink!$Q$144","v":260}]
[null,null,"H62ROHUGRent1250to1499","$40,000 to $49,999",{"$f":"CntyDataLink!$R$144","v":2776},{"$f":"CntyDataLink!$S$144","v":399}]
[null,null,"H62ROHUGRent1500to1999","$50,000 to $59,999",{"$f":"CntyDataLink!$T$144","v":3664},{"$f":"CntyDataLink!$U$144","v":552}]
[null,null,"H62ROHUGRent2000>","$60,000 to $69,999",{"$f":"CntyDataLink!$V$144","v":2953},{"$f":"CntyDataLink!$W$144","v":408}]
[null,null,"H62ROHUNoGRent","$70,000 to $79,999",{"$f":"CntyDataLink!$X$144","v":3973},{"$f":"CntyDataLink!$Y$144","v":513}]
[null,null,"H63MedianGrossRnt","$80,000 to $89,999",{"$f":"CntyDataLink!$Z$144","v":3553},{"$f":"CntyDataLink!$AA$144","v":408}]
[null,null,null,"$90,000 to $99,999",{"$f":"CntyDataLink!$AB$144","v":3366},{"$f":"CntyDataLink!$AC$144","v":428}]
[null,null,null,"$100,000 to $124,999",{"$f":"CntyDataLink!$AD$144","v":12494},{"$f":"CntyDataLink!$AE$144","v":897}]
[null,null,null,"$125,000 to $149,999",{"$f":"CntyDataLink!$AF$144","v":15021},{"$f":"CntyDataLink!$AG$144","v":882}]
[null,null,null,"$150,000 to $174,999",{"$f":"CntyDataLink!$AH$144","v":24410},{"$f":"CntyDataLink!$AI$144","v":1207}]
[null,null,null,"$175,000 to $199,999",{"$f":"CntyDataLink!$AJ$144","v":25315},{"$f":"CntyDataLink!$AK$144","v":1210}]
[null,null,null,"$200,000 to $249,999",{"$f":"CntyDataLink!$AL$144","v":55585},{"$f":"CntyDataLink!$AM$144","v":1650}]
[null,null,null,"$250,000 to $299,999",{"$f":"CntyDataLink!$AN$144","v":58982},{"$f":"CntyDataLink!$AO$144","v":1629}]
[null,null,null,"$300,000 to $399,999",{"$f":"CntyDataLink!$AP$144","v":80082},{"$f":"CntyDataLink!$AQ$144","v":1827}]
[null,null,null,"$400,000 to $499,999",{"$f":"CntyDataLink!$AR$144","v":37912},{"$f":"CntyDataLink!$AS$144","v":1408}]
[null,null,null,"$500,000 to $749,999",{"$f":"CntyDataLink!$AT$144","v":28569},{"$f":"CntyDataLink!$AU$144","v":951}]
[null,null,null,"$750,000 to $999,999",{"$f":"CntyDataLink!$AV$144","v":6803},{"$f":"CntyDataLink!$AW$144","v":577}]
[null,null,null,"$1,000,000 to $1,499,999",{"$f":"CntyDataLink!$AX$144","v":3092},{"$f":"CntyDataLink!$AY$144","v":435}]
[null,null,null,"$1,500,000 to $1,999,999",{"$f":"CntyDataLink!$AZ$144","v":1104},{"$f":"CntyDataLink!$BA$144","v":197}]
[null,null,null,"$2,000,000 or more",{"$f":"CntyDataLink!$BB$144","v":1644},{"$f":"CntyDataLink!$BC$144","v":304}]
[]
[null,null,null,"Median Value",{"$f":"CntyDataLink!$BD$144","v":272300},{"$f":"CntyDataLink!$BE$144","v":1600}]
[]
[]
[]
[null,null,null,"Source: 2018-2022 American Community Survey Tables B25075 and B25077"]
[null,null,null,"Data from the American Community Survey are estimates."]

{"sheet":"OwnerHousingCostPrior5Year","index":63,"n_rows":112,"n_cols":17,"rows_kept":112,"cut":false,"hidden":true,"merged":[]}
[]
[null,null,"HIDE THIS COLUMN",{"$f":"CntyDataLink!$A35","v":"Grafton County"}]
[null,null,"HIDE THIS COLUMN",{"$f":"CntyDataLink!$A35","v":"Grafton County"}]
[null,null,"HIDE THIS COLUMN"]
[]
[]
[]
[]
[]
[]
[]
[]
[]
[]
[]
[]
[]
[]
[]
[]
[]
[]
[]
[]
[]
[]
[]
[]
[]
[]
[]
[]
[]
[]
[]
[]
[null,null,null,"Income in 2017 Inflation Adjusted Dollars"]
[null,null,null,"Source: 2013-2017 American Community Survey Table B25106"]
[null,null,null,"Data from the American Community Survey are estimates."]
[]
[]
[null,null,null,{"$f":"CntyDataLinkPrior5YearEstimates!$A$144","v":"Grafton County"}]
[]
[]
[]
[null,null,null,"Owner Households by "]
[null,null,null,"Selected Monthly Housing Costs as a Percent of 2017 Household Income",null,null,null,"By Household Income"]
[null,null,"H73RenterOccHU",null,"Specified Owner Occ Housing Units","Margin of Error Owner Occ Housing Units",null,"Less than $20,000",{"$f":"\"Margin of Error \"&H48","v":"Margin of Error Less than $20,000"},"$20,000 to $34,999",{"$f":"\"Margin of Error \"&J48","v":"Margin of Error $20,000 to $34,999"},"$35,000 to $49,999",{"$f":"\"Margin of Error \"&L48","v":"Margin of Error $35,000 to $49,999"},"$50,000 to $74,999",{"$f":"\"Margin of Error \"&N48","v":"Margin of Error $50,000 to $74,999"},"$75,000 or More",{"$f":"\"Margin of Error \"&P48","v":"Margin of Error $75,000 or More"}]
[]
[null,null,null,"Total Households",{"$f":"CntyDataLinkPrior5YearEstimates!$BF144","v":372304},{"$f":"CntyDataLinkPrior5YearEstimates!$BG$144","v":2503},null,{"$f":"CntyDataLinkPrior5YearEstimates!$BZ$144","v":20982},{"$f":"CntyDataLinkPrior5YearEstimates!$CA$144","v":891},{"$f":"CntyDataLinkPrior5YearEstimates!$CH$144","v":32859},{"$f":"CntyDataLinkPrior5YearEstimates!$CI$144","v":1176},{"$f":"CntyDataLinkPrior5YearEstimates!$CP$144","v":35858},{"$f":"CntyDataLinkPrior5YearEstimates!$CQ$144","v":1201},{"$f":"CntyDataLinkPrior5YearEstimates!$CX$144","v":65247},{"$f":"CntyDataLinkPrior5YearEstimates!$CY$144","v":1423},{"$f":"CntyDataLinkPrior5YearEstimates!$DF$144","v":215630},{"$f":"CntyDataLinkPrior5YearEstimates!$DG$144","v":2487}]
[null,null,null,"Monthly Costs Less than 20% of HH Income",{"$f":"CntyDataLinkPrior5YearEstimates!$BH$144","v":171986},{"$f":"CntyDataLinkPrior5YearEstimates!$BI$144","v":2507.9675037767138},null,{"$f":"CntyDataLinkPrior5YearEstimates!$CB$144","v":835},{"$f":"CntyDataLinkPrior5YearEstimates!$CC$144","v":204},{"$f":"CntyDataLinkPrior5YearEstimates!CJ$144","v":3464},{"$f":"CntyDataLinkPrior5YearEstimates!CK$144","v":298},{"$f":"CntyDataLinkPrior5YearEstimates!CR$144","v":8786},{"$f":"CntyDataLinkPrior5YearEstimates!CS$144","v":563},{"$f":"CntyDataLinkPrior5YearEstimates!CZ$144","v":22741},{"$f":"CntyDataLinkPrior5YearEstimates!DA$144","v":801},{"$f":"CntyDataLinkPrior5YearEstimates!DH$144","v":136160},{"$f":"CntyDataLinkPrior5YearEstimates!DI$144","v":2366}]
[null,null,null,"Monthly Costs 20% to 29.9% of HH Income",{"$f":"CntyDataLinkPrior5YearEstimates!$BJ$144","v":98790},{"$f":"CntyDataLinkPrior5YearEstimates!$BK$144","v":1960.4504584406102},null,{"$f":"CntyDataLinkPrior5YearEstimates!$CD$144","v":1203},{"$f":"CntyDataLinkPrior5YearEstimates!$CE$144","v":217},{"$f":"CntyDataLinkPrior5YearEstimates!CL$144","v":6996},{"$f":"CntyDataLinkPrior5YearEstimates!CM$144","v":474},{"$f":"CntyDataLinkPrior5YearEstimates!CT$144","v":9279},{"$f":"CntyDataLinkPrior5YearEstimates!CU$144","v":617},{"$f":"CntyDataLinkPrior5YearEstimates!DB$144","v":20020},{"$f":"CntyDataLinkPrior5YearEstimates!DC$144","v":874},{"$f":"CntyDataLinkPrior5YearEstimates!DJ$144","v":61292},{"$f":"CntyDataLinkPrior5YearEstimates!DK$144","v":1594}]
[null,null,null,"Monthly Costs Less Than 30% of HH Income",{"$f":"CntyDataLinkPrior5YearEstimates!$BL$144","v":270776},{"$f":"CntyDataLinkPrior5YearEstimates!$BM$144","v":3183.2792840088664},null,{"$f":"H52+H51","v":2038},{"$f":"SQRT((I52^2)+(I51^2))","v":297.83384629689084},{"$f":"J52+J51","v":10460},{"$f":"SQRT((K52^2)+(K51^2))","v":559.89284689126009},{"$f":"L52+L51","v":18065},{"$f":"SQRT((M52^2)+(M51^2))","v":835.25924119401395},{"$f":"N52+N51","v":42761},{"$f":"SQRT((O52^2)+(O51^2))","v":1185.5281523439248},{"$f":"P52+P51","v":197452},{"$f":"SQRT((Q52^2)+(Q51^2))","v":2852.8568137920979}]
[null,null,null,"Monthly Costs 30% or More of HH Income",{"$f":"CntyDataLinkPrior5YearEstimates!$BN$144","v":99800},{"$f":"CntyDataLinkPrior5YearEstimates!$BO$144","v":2059.650698540896},null,{"$f":"CntyDataLinkPrior5YearEstimates!$CF$144","v":18944},{"$f":"CntyDataLinkPrior5YearEstimates!$CG$144","v":834},{"$f":"CntyDataLinkPrior5YearEstimates!CN$144","v":22399},{"$f":"CntyDataLinkPrior5YearEstimates!CO$144","v":1014},{"$f":"CntyDataLinkPrior5YearEstimates!CV$144","v":17793},{"$f":"CntyDataLinkPrior5YearEstimates!CW$144","v":829},{"$f":"CntyDataLinkPrior5YearEstimates!DD$144","v":22486},{"$f":"CntyDataLinkPrior5YearEstimates!DE$144","v":903},{"$f":"CntyDataLinkPrior5YearEstimates!$DL$144","v":18178},{"$f":"CntyDataLinkPrior5YearEstimates!$DM$144","v":760}]
[]
[null,null,null,"Monthly Costs 35% or More of HH Income",{"$f":"CntyDataLinkPrior5YearEstimates!$BT$144","v":73608},{"$f":"CntyDataLinkPrior5YearEstimates!$BU$144","v":1759.7724284690905},null,"NA","NA","NA","NA","NA","NA","NA","NA","NA","NA"]
[null,null,null,"Monthly Costs 50% or More of HH Income",{"$f":"CntyDataLinkPrior5YearEstimates!$BV$144","v":35695},{"$f":"CntyDataLinkPrior5YearEstimates!$BW$144","v":1252.6140666621943},null,"NA","NA","NA","NA","NA","NA","NA","NA","NA","NA"]
[null,null,null,"Percent not computed",{"$f":"CntyDataLinkPrior5YearEstimates!$BX$144","v":1728},{"$f":"CntyDataLinkPrior5YearEstimates!$BY$144","v":291.57846285348307},null,"NA","NA","NA","NA","NA","NA","NA","NA","NA","NA"]
[]
[null,null,null,"Percent of Owner Households Paying ",null,null,null,"By Household Income"]
[null,null,null,{"$f":"D53","v":"Monthly Costs Less Than 30% of HH Income"},{"$f":"E53/E$50","v":0.72729812196484589},null,null,{"$f":"H53/H$50","v":9.7130874082546947E-2},null,{"$f":"J53/J$50","v":0.31832983353114824},null,{"$f":"L53/L$50","v":0.50379273802219871},null,{"$f":"N53/N$50","v":0.6553711281744754},null,{"$f":"P53/P$50","v":0.91569818670871395}]
[null,null,null,{"$f":"D54","v":"Monthly Costs 30% or More of HH Income"},{"$f":"E54/E$50","v":0.2680605096910052},null,null,{"$f":"H54/H50","v":0.90286912591745305},null,{"$f":"J54/J50","v":0.68167016646885181},null,{"$f":"L54/L50","v":0.49620726197780135},null,{"$f":"N54/N50","v":0.34462887182552454},null,{"$f":"P54/P50","v":8.4301813291285999E-2}]
[]
[null,null,null,"Monthly Costs 35% or More of HH Income",{"$f":"E56/E$50","v":0.19770939877089691},null,null,"NA","NA","NA","NA","NA","NA","NA","NA","NA","NA"]
[null,null,null,"Monthly Costs 50% or More of HH Income",{"$f":"E57/E$50","v":9.5875950835876064E-2},null,null,"NA","NA","NA","NA","NA","NA","NA","NA","NA","NA"]
[null,null,null,"Percent not computed",{"$f":"E58/$E$50","v":4.6413683441488673E-3},null,null,"NA","NA","NA","NA","NA","NA","NA","NA","NA","NA"]
[]
[null,null,"H62ROHUGRent200to249",{"$f":"D37","v":"Income in 2017 Inflation Adjusted Dollars"}]
[null,null,null,"Source: 2013-2017 American Community Survey Table B25091; B25106",null,null,null,null,"NA indicates that the American Community Survey does not provide that data."]
[null,null,null,"Data from the American Community Survey are estimates."]
[]
[null,null,null,{"$f":"CntyDataLink!$A35","v":"Grafton County"}]
[null,null,"H62ROHUGRent250to299"]
[null,null,"H62ROHUGRent300to349"]
[null,null,"H62ROHUGRent350to399","Value of Owner Occupied Housing Units"]
[null,null,"H62ROHUGRent400to449"]
[null,null,"H62ROHUGRent450to499","Owner Occupied Housing Units",{"$f":"CntyDataLinkPrior5YearEstimates!$B$144","v":372304},{"$f":"CntyDataLinkPrior5YearEstimates!$C$144","v":2503}]
[null,null,"H62ROHUGRent500to549"]
[null,null,"H62ROHUGRent550to599","Value","Housing Units","Margin of Error"]
[null,null,"H62ROHUGRent600to649","Less than $10,000",{"$f":"CntyDataLinkPrior5YearEstimates!$D$144","v":3797},{"$f":"CntyDataLinkPrior5YearEstimates!$E$144","v":383}]
[null,null,"H62ROHUGRent650to699","$10,000 to $14,999",{"$f":"CntyDataLinkPrior5YearEstimates!$F$144","v":1852},{"$f":"CntyDataLinkPrior5YearEstimates!$G$144","v":320}]
[null,null,"H62ROHUGRent700to749","$15,000 to $19,999",{"$f":"CntyDataLinkPrior5YearEstimates!$H$144","v":2838},{"$f":"CntyDataLinkPrior5YearEstimates!$I$144","v":431}]
[null,null,"H62ROHUGRent750to799","$20,000 to $24,999",{"$f":"CntyDataLinkPrior5YearEstimates!$J$144","v":2178},{"$f":"CntyDataLinkPrior5YearEstimates!$K$144","v":338}]
[null,null,"H62ROHUGRent800to899","$25,000 to $29,999",{"$f":"CntyDataLinkPrior5YearEstimates!$L$144","v":1541},{"$f":"CntyDataLinkPrior5YearEstimates!$M$144","v":243}]
[null,null,"H62ROHUGRent900to999","$30,000 to $34,999",{"$f":"CntyDataLinkPrior5YearEstimates!$N$144","v":1943},{"$f":"CntyDataLinkPrior5YearEstimates!$O$144","v":285}]
[null,null,"H62ROHUGRent1000to1249","$35,000 to $39,999",{"$f":"CntyDataLinkPrior5YearEstimates!$P$144","v":1323},{"$f":"CntyDataLinkPrior5YearEstimates!$Q$144","v":234}]
[null,null,"H62ROHUGRent1250to1499","$40,000 to $49,999",{"$f":"CntyDataLinkPrior5YearEstimates!$R$144","v":2905},{"$f":"CntyDataLinkPrior5YearEstimates!$S$144","v":297}]
[null,null,"H62ROHUGRent1500to1999","$50,000 to $59,999",{"$f":"CntyDataLinkPrior5YearEstimates!$T$144","v":2926},{"$f":"CntyDataLinkPrior5YearEstimates!$U$144","v":362}]
[null,null,"H62ROHUGRent2000>","$60,000 to $69,999",{"$f":"CntyDataLinkPrior5YearEstimates!$V$144","v":3062},{"$f":"CntyDataLinkPrior5YearEstimates!$W$144","v":374}]
[null,null,"H62ROHUNoGRent","$70,000 to $79,999",{"$f":"CntyDataLinkPrior5YearEstimates!$X$144","v":3686},{"$f":"CntyDataLinkPrior5YearEstimates!$Y$144","v":344}]
[null,null,"H63MedianGrossRnt","$80,000 to $89,999",{"$f":"CntyDataLinkPrior5YearEstimates!$Z$144","v":4490},{"$f":"CntyDataLinkPrior5YearEstimates!$AA$144","v":466}]
[null,null,null,"$90,000 to $99,999",{"$f":"CntyDataLinkPrior5YearEstimates!$AB$144","v":3979},{"$f":"CntyDataLinkPrior5YearEstimates!$AC$144","v":393}]
[null,null,null,"$100,000 to $124,999",{"$f":"CntyDataLinkPrior5YearEstimates!$AD$144","v":15466},{"$f":"CntyDataLinkPrior5YearEstimates!$AE$144","v":817}]
[null,null,null,"$125,000 to $149,999",{"$f":"CntyDataLinkPrior5YearEstimates!$AF$144","v":18040},{"$f":"CntyDataLinkPrior5YearEstimates!$AG$144","v":749}]
[null,null,null,"$150,000 to $174,999",{"$f":"CntyDataLinkPrior5YearEstimates!$AH$144","v":30347},{"$f":"CntyDataLinkPrior5YearEstimates!$AI$144","v":899}]
[null,null,null,"$175,000 to $199,999",{"$f":"CntyDataLinkPrior5YearEstimates!$AJ$144","v":29191},{"$f":"CntyDataLinkPrior5YearEstimates!$AK$144","v":1080}]
[null,null,null,"$200,000 to $249,999",{"$f":"CntyDataLinkPrior5YearEstimates!$AL$144","v":62985},{"$f":"CntyDataLinkPrior5YearEstimates!$AM$144","v":1739}]
[null,null,null,"$250,000 to $299,999",{"$f":"CntyDataLinkPrior5YearEstimates!$AN$144","v":58041},{"$f":"CntyDataLinkPrior5YearEstimates!$AO$144","v":1253}]
[null,null,null,"$300,000 to $399,999",{"$f":"CntyDataLinkPrior5YearEstimates!$AP$144","v":66026},{"$f":"CntyDataLinkPrior5YearEstimates!$AQ$144","v":1572}]
[null,null,null,"$400,000 to $499,999",{"$f":"CntyDataLinkPrior5YearEstimates!$AR$144","v":26680},{"$f":"CntyDataLinkPrior5YearEstimates!$AS$144","v":961}]
[null,null,null,"$500,000 to $749,999",{"$f":"CntyDataLinkPrior5YearEstimates!$AT$144","v":19302},{"$f":"CntyDataLinkPrior5YearEstimates!$AU$144","v":753}]
[null,null,null,"$750,000 to $999,999",{"$f":"CntyDataLinkPrior5YearEstimates!$AV$144","v":5244},{"$f":"CntyDataLinkPrior5YearEstimates!$AW$144","v":430}]
[null,null,null,"$1,000,000 to $1,499,999",{"$f":"CntyDataLinkPrior5YearEstimates!$AX$144","v":2363},{"$f":"CntyDataLinkPrior5YearEstimates!$AY$144","v":317}]
[null,null,null,"$1,500,000 to $1,999,999",{"$f":"CntyDataLinkPrior5YearEstimates!$AZ$144","v":710},{"$f":"CntyDataLinkPrior5YearEstimates!$BA$144","v":167}]
[null,null,null,"$2,000,000 or more",{"$f":"CntyDataLinkPrior5YearEstimates!$BB$144","v":1389},{"$f":"CntyDataLinkPrior5YearEstimates!$BC$144","v":223}]
[]
[null,null,null,"Median Value",{"$f":"CntyDataLinkPrior5YearEstimates!$BD$144","v":244900},{"$f":"CntyDataLinkPrior5YearEstimates!$BE$144","v":1359}]
[]
[]
[]
[null,null,null,"Source: 2013-2017 American Community Survey Tables B25075 and B25077"]
[null,null,null,"Data from the American Community Survey are estimates."]

{"sheet":"OwnerHousingCostPrior10Year","index":64,"n_rows":112,"n_cols":17,"rows_kept":112,"cut":false,"hidden":true,"merged":[]}
[]
[null,null,"HIDE THIS COLUMN",{"$f":"CntyDataLink!$A35","v":"Grafton County"}]
[null,null,"HIDE THIS COLUMN",{"$f":"CntyDataLink!$A35","v":"Grafton County"}]
[null,null,"HIDE THIS COLUMN"]
[]
[]
[]
[]
[]
[]
[]
[]
[]
[]
[]
[]
[]
[]
[]
[]
[]
[]
[]
[]
[]
[]
[]
[]
[]
[]
[]
[]
[]
[]
[]
[]
[null,null,null,"Income in 2012 Inflation Adjusted Dollars"]
[null,null,null,"Source: 2008-2012 American Community Survey Table B25106"]
[null,null,null,"Data from the American Community Survey are estimates."]
[]
[]
[null,null,null,{"$f":"CntyDataLinkPrior5YearEstimates!$A$144","v":"Grafton County"}]
[]
[]
[]
[null,null,null,"Owner Households by "]
[null,null,null,"Selected Monthly Housing Costs as a Percent of 2012 Household Income",null,null,null,"By Household Income"]
[null,null,"H73RenterOccHU",null,"Specified Owner Occ Housing Units","Margin of Error Owner Occ Housing Units",null,"Less than $20,000",{"$f":"\"Margin of Error \"&H48","v":"Margin of Error Less than $20,000"},"$20,000 to $34,999",{"$f":"\"Margin of Error \"&J48","v":"Margin of Error $20,000 to $34,999"},"$35,000 to $49,999",{"$f":"\"Margin of Error \"&L48","v":"Margin of Error $35,000 to $49,999"},"$50,000 to $74,999",{"$f":"\"Margin of Error \"&N48","v":"Margin of Error $50,000 to $74,999"},"$75,000 or More",{"$f":"\"Margin of Error \"&P48","v":"Margin of Error $75,000 or More"}]
[]
[null,null,null,"Total Households",{"$f":"CntyDataLinkPrior10YearEstimate!$BF144","v":372021},{"$f":"CntyDataLinkPrior10YearEstimate!$BG$144","v":2148},null,{"$f":"CntyDataLinkPrior10YearEstimate!$BZ$144","v":23863},{"$f":"CntyDataLinkPrior10YearEstimate!$CA$144","v":963},{"$f":"CntyDataLinkPrior10YearEstimate!$CH$144","v":36940},{"$f":"CntyDataLinkPrior10YearEstimate!$CI$144","v":1186},{"$f":"CntyDataLinkPrior10YearEstimate!$CP$144","v":41706},{"$f":"CntyDataLinkPrior10YearEstimate!$CQ$144","v":1234},{"$f":"CntyDataLinkPrior10YearEstimate!$CX$144","v":70085},{"$f":"CntyDataLinkPrior10YearEstimate!$CY$144","v":1505},{"$f":"CntyDataLinkPrior10YearEstimate!$DF$144","v":197810},{"$f":"CntyDataLinkPrior10YearEstimate!$DG$144","v":2111}]
[null,null,null,"Monthly Costs Less than 20% of HH Income",{"$f":"CntyDataLinkPrior10YearEstimate!$BH$144","v":140167},{"$f":"CntyDataLinkPrior10YearEstimate!$BI$144","v":2289.5359791887963},null,{"$f":"CntyDataLinkPrior10YearEstimate!$CB$144","v":1028},{"$f":"CntyDataLinkPrior10YearEstimate!$CC$144","v":233},{"$f":"CntyDataLinkPrior10YearEstimate!CJ$144","v":4477},{"$f":"CntyDataLinkPrior10YearEstimate!CK$144","v":397},{"$f":"CntyDataLinkPrior10YearEstimate!CR$144","v":9533},{"$f":"CntyDataLinkPrior10YearEstimate!CS$144","v":619},{"$f":"CntyDataLinkPrior10YearEstimate!CZ$144","v":21664},{"$f":"CntyDataLinkPrior10YearEstimate!DA$144","v":817},{"$f":"CntyDataLinkPrior10YearEstimate!DH$144","v":103465},{"$f":"CntyDataLinkPrior10YearEstimate!DI$144","v":1725}]
[null,null,null,"Monthly Costs 20% to 29.9% of HH Income",{"$f":"CntyDataLinkPrior10YearEstimate!$BJ$144","v":100733},{"$f":"CntyDataLinkPrior10YearEstimate!$BK$144","v":1901.4447138952005},null,{"$f":"CntyDataLinkPrior10YearEstimate!$CD$144","v":1610},{"$f":"CntyDataLinkPrior10YearEstimate!$CE$144","v":223},{"$f":"CntyDataLinkPrior10YearEstimate!CL$144","v":7666},{"$f":"CntyDataLinkPrior10YearEstimate!CM$144","v":604},{"$f":"CntyDataLinkPrior10YearEstimate!CT$144","v":10172},{"$f":"CntyDataLinkPrior10YearEstimate!CU$144","v":559},{"$f":"CntyDataLinkPrior10YearEstimate!DB$144","v":17338},{"$f":"CntyDataLinkPrior10YearEstimate!DC$144","v":800},{"$f":"CntyDataLinkPrior10YearEstimate!DJ$144","v":63947},{"$f":"CntyDataLinkPrior10YearEstimate!DK$144","v":1367}]
[null,null,null,"Monthly Costs Less Than 30% of HH Income",{"$f":"CntyDataLinkPrior10YearEstimate!$BL$144","v":240900},{"$f":"CntyDataLinkPrior10YearEstimate!$BM$144","v":2976.1496938158202},null,{"$f":"H52+H51","v":2638},{"$f":"SQRT((I52^2)+(I51^2))","v":322.51821653977936},{"$f":"J52+J51","v":12143},{"$f":"SQRT((K52^2)+(K51^2))","v":722.78973429345274},{"$f":"L52+L51","v":19705},{"$f":"SQRT((M52^2)+(M51^2))","v":834.05155715938804},{"$f":"N52+N51","v":39002},{"$f":"SQRT((O52^2)+(O51^2))","v":1143.4548526286467},{"$f":"P52+P51","v":167412},{"$f":"SQRT((Q52^2)+(Q51^2))","v":2200.9802361675129}]
[null,null,null,"Monthly Costs 30% or More of HH Income",{"$f":"CntyDataLinkPrior10YearEstimate!$BN$144","v":129504},{"$f":"CntyDataLinkPrior10YearEstimate!$BO$144","v":2269.2333507156113},null,{"$f":"CntyDataLinkPrior10YearEstimate!$CF$144","v":21225},{"$f":"CntyDataLinkPrior10YearEstimate!$CG$144","v":915},{"$f":"CntyDataLinkPrior10YearEstimate!CN$144","v":24797},{"$f":"CntyDataLinkPrior10YearEstimate!CO$144","v":982},{"$f":"CntyDataLinkPrior10YearEstimate!CV$144","v":22001},{"$f":"CntyDataLinkPrior10YearEstimate!CW$144","v":842},{"$f":"CntyDataLinkPrior10YearEstimate!DD$144","v":31083},{"$f":"CntyDataLinkPrior10YearEstimate!DE$144","v":1070},{"$f":"CntyDataLinkPrior10YearEstimate!$DL$144","v":30398},{"$f":"CntyDataLinkPrior10YearEstimate!$DM$144","v":1034}]
[]
[null,null,null,"Monthly Costs 35% or More of HH Income",{"$f":"CntyDataLinkPrior10YearEstimate!$BT$144","v":97268},{"$f":"CntyDataLinkPrior10YearEstimate!$BU$144","v":1937.6250927359504},null,"NA","NA","NA","NA","NA","NA","NA","NA","NA","NA"]
[null,null,null,"Monthly Costs 50% or More of HH Income",{"$f":"CntyDataLinkPrior10YearEstimate!$BV$144","v":45940},{"$f":"CntyDataLinkPrior10YearEstimate!$BW$144","v":1263.9481793174909},null,"NA","NA","NA","NA","NA","NA","NA","NA","NA","NA"]
[null,null,null,"Percent not computed",{"$f":"CntyDataLinkPrior10YearEstimate!$BX$144","v":1617},{"$f":"CntyDataLinkPrior10YearEstimate!$BY$144","v":284.42925306655786},null,"NA","NA","NA","NA","NA","NA","NA","NA","NA","NA"]
[]
[null,null,null,"Percent of Owner Households Paying ",null,null,null,"By Household Income"]
[null,null,null,{"$f":"D53","v":"Monthly Costs Less Than 30% of HH Income"},{"$f":"E53/E$50","v":0.64754409025296955},null,null,{"$f":"H53/H$50","v":0.11054770984369107},null,{"$f":"J53/J$50","v":0.32872225230102869},null,{"$f":"L53/L$50","v":0.4724739845585767},null,{"$f":"N53/N$50","v":0.55649568381251335},null,{"$f":"P53/P$50","v":0.84632728375714072}]
[null,null,null,{"$f":"D54","v":"Monthly Costs 30% or More of HH Income"},{"$f":"E54/E$50","v":0.34810938092204474},null,null,{"$f":"H54/H50","v":0.88945229015630889},null,{"$f":"J54/J50","v":0.67127774769897131},null,{"$f":"L54/L50","v":0.5275260154414233},null,{"$f":"N54/N50","v":0.44350431618748665},null,{"$f":"P54/P50","v":0.1536727162428593}]
[]
[null,null,null,"Monthly Costs 35% or More of HH Income",{"$f":"E56/E$50","v":0.26145835853352367},null,null,"NA","NA","NA","NA","NA","NA","NA","NA","NA","NA"]
[null,null,null,"Monthly Costs 50% or More of HH Income",{"$f":"E57/E$50","v":0.12348765257875227},null,null,"NA","NA","NA","NA","NA","NA","NA","NA","NA","NA"]
[null,null,null,"Percent not computed",{"$f":"E58/$E$50","v":4.3465288249856862E-3},null,null,"NA","NA","NA","NA","NA","NA","NA","NA","NA","NA"]
[]
[null,null,"H62ROHUGRent200to249",{"$f":"D37","v":"Income in 2012 Inflation Adjusted Dollars"}]
[null,null,null,"Source: 2008-2012 American Community Survey Table B25091; B25106",null,null,null,null,"NA indicates that the American Community Survey does not provide that data."]
[null,null,null,"Data from the American Community Survey are estimates."]
[]
[null,null,null,{"$f":"CntyDataLink!$A35","v":"Grafton County"}]
[null,null,"H62ROHUGRent250to299"]
[null,null,"H62ROHUGRent300to349"]
[null,null,"H62ROHUGRent350to399","Value of Owner Occupied Housing Units"]
[null,null,"H62ROHUGRent400to449"]
[null,null,"H62ROHUGRent450to499","Owner Occupied Housing Units",{"$f":"CntyDataLinkPrior10YearEstimate!$B$144","v":372021},{"$f":"CntyDataLinkPrior10YearEstimate!$C$144","v":2148}]
[null,null,"H62ROHUGRent500to549"]
[null,null,"H62ROHUGRent550to599","Value","Housing Units","Margin of Error"]
[null,null,"H62ROHUGRent600to649","Less than $10,000",{"$f":"CntyDataLinkPrior10YearEstimate!$D$144","v":1581},{"$f":"CntyDataLinkPrior10YearEstimate!$E$144","v":249}]
[null,null,"H62ROHUGRent650to699","$10,000 to $14,999",{"$f":"CntyDataLinkPrior10YearEstimate!$F$144","v":1978},{"$f":"CntyDataLinkPrior10YearEstimate!$G$144","v":261}]
[null,null,"H62ROHUGRent700to749","$15,000 to $19,999",{"$f":"CntyDataLinkPrior10YearEstimate!$H$144","v":2416},{"$f":"CntyDataLinkPrior10YearEstimate!$I$144","v":312}]
[null,null,"H62ROHUGRent750to799","$20,000 to $24,999",{"$f":"CntyDataLinkPrior10YearEstimate!$J$144","v":2509},{"$f":"CntyDataLinkPrior10YearEstimate!$K$144","v":258}]
[null,null,"H62ROHUGRent800to899","$25,000 to $29,999",{"$f":"CntyDataLinkPrior10YearEstimate!$L$144","v":2178},{"$f":"CntyDataLinkPrior10YearEstimate!$M$144","v":249}]
[null,null,"H62ROHUGRent900to999","$30,000 to $34,999",{"$f":"CntyDataLinkPrior10YearEstimate!$N$144","v":1753},{"$f":"CntyDataLinkPrior10YearEstimate!$O$144","v":281}]
[null,null,"H62ROHUGRent1000to1249","$35,000 to $39,999",{"$f":"CntyDataLinkPrior10YearEstimate!$P$144","v":1274},{"$f":"CntyDataLinkPrior10YearEstimate!$Q$144","v":239}]
[null,null,"H62ROHUGRent1250to1499","$40,000 to $49,999",{"$f":"CntyDataLinkPrior10YearEstimate!$R$144","v":2961},{"$f":"CntyDataLinkPrior10YearEstimate!$S$144","v":305}]
[null,null,"H62ROHUGRent1500to1999","$50,000 to $59,999",{"$f":"CntyDataLinkPrior10YearEstimate!$T$144","v":2820},{"$f":"CntyDataLinkPrior10YearEstimate!$U$144","v":292}]
[null,null,"H62ROHUGRent2000>","$60,000 to $69,999",{"$f":"CntyDataLinkPrior10YearEstimate!$V$144","v":2460},{"$f":"CntyDataLinkPrior10YearEstimate!$W$144","v":337}]
[null,null,"H62ROHUNoGRent","$70,000 to $79,999",{"$f":"CntyDataLinkPrior10YearEstimate!$X$144","v":3699},{"$f":"CntyDataLinkPrior10YearEstimate!$Y$144","v":318}]
[null,null,"H63MedianGrossRnt","$80,000 to $89,999",{"$f":"CntyDataLinkPrior10YearEstimate!$Z$144","v":4545},{"$f":"CntyDataLinkPrior10YearEstimate!$AA$144","v":374}]
[null,null,null,"$90,000 to $99,999",{"$f":"CntyDataLinkPrior10YearEstimate!$AB$144","v":4342},{"$f":"CntyDataLinkPrior10YearEstimate!$AC$144","v":378}]
[null,null,null,"$100,000 to $124,999",{"$f":"CntyDataLinkPrior10YearEstimate!$AD$144","v":13784},{"$f":"CntyDataLinkPrior10YearEstimate!$AE$144","v":674}]
[null,null,null,"$125,000 to $149,999",{"$f":"CntyDataLinkPrior10YearEstimate!$AF$144","v":15695},{"$f":"CntyDataLinkPrior10YearEstimate!$AG$144","v":858}]
[null,null,null,"$150,000 to $174,999",{"$f":"CntyDataLinkPrior10YearEstimate!$AH$144","v":28275},{"$f":"CntyDataLinkPrior10YearEstimate!$AI$144","v":957}]
[null,null,null,"$175,000 to $199,999",{"$f":"CntyDataLinkPrior10YearEstimate!$AJ$144","v":30413},{"$f":"CntyDataLinkPrior10YearEstimate!$AK$144","v":1205}]
[null,null,null,"$200,000 to $249,999",{"$f":"CntyDataLinkPrior10YearEstimate!$AL$144","v":69457},{"$f":"CntyDataLinkPrior10YearEstimate!$AM$144","v":1385}]
[null,null,null,"$250,000 to $299,999",{"$f":"CntyDataLinkPrior10YearEstimate!$AN$144","v":61728},{"$f":"CntyDataLinkPrior10YearEstimate!$AO$144","v":1460}]
[null,null,null,"$300,000 to $399,999",{"$f":"CntyDataLinkPrior10YearEstimate!$AP$144","v":65946},{"$f":"CntyDataLinkPrior10YearEstimate!$AQ$144","v":1167}]
[null,null,null,"$400,000 to $499,999",{"$f":"CntyDataLinkPrior10YearEstimate!$AR$144","v":25516},{"$f":"CntyDataLinkPrior10YearEstimate!$AS$144","v":1049}]
[null,null,null,"$500,000 to $749,999",{"$f":"CntyDataLinkPrior10YearEstimate!$AT$144","v":17350},{"$f":"CntyDataLinkPrior10YearEstimate!$AU$144","v":768}]
[null,null,null,"$750,000 to $999,999",{"$f":"CntyDataLinkPrior10YearEstimate!$AV$144","v":4779},{"$f":"CntyDataLinkPrior10YearEstimate!$AW$144","v":370}]
[null,null,null,"$1,000,000 to $1,499,999",{"$f":"CntyDataLinkPrior10YearEstimate!$AX$144","v":4562},{"$f":"CntyDataLinkPrior10YearEstimate!$AY$144","v":367}]
[null,null,null,"$1,500,000 to $1,999,999",{"$f":"CntyDataLinkPrior10YearEstimate!$AZ$144","v":0},{"$f":"CntyDataLinkPrior10YearEstimate!$BA$144","v":0}]
[null,null,null,"$2,000,000 or more",{"$f":"CntyDataLinkPrior10YearEstimate!$BB$144","v":0},{"$f":"CntyDataLinkPrior10YearEstimate!$BC$144","v":0}]
[]
[null,null,null,"Median Value",{"$f":"CntyDataLinkPrior10YearEstimate!$BD$144","v":245600},{"$f":"CntyDataLinkPrior10YearEstimate!$BE$144","v":1111}]
[]
[]
[]
[null,null,null,"Source: 2006-2010 American Community Survey Tables B25075 and B25077"]
[null,null,null,"Data from the American Community Survey are estimates."]

{"sheet":"ACS_Table_B25075_&_B25077","index":65,"n_rows":160,"n_cols":24,"rows_kept":160,"cut":false,"hidden":true,"merged":[]}
[null,"B25075. VALUE"]
[null,"Universe:  OWNER-OCCUPIED HOUSING UNITS"]
[null,"Data Set: 2018-2022 American Community Survey 5-Year Estimates"]
[]
[null,null,"New Hampshire",null,"Belknap County",null,"Carroll County",null,"Cheshire County",null,"Coos County",null,"Grafton County",null,"Hillsborough County",null,"Merrimack County",null,"Rockingham County",null,"Strafford County",null,"Sullivan County"]
[null," ","Estimate","Margin of Error","Estimate","Margin of Error","Estimate","Margin of Error","Estimate","Margin of Error","Estimate","Margin of Error","Estimate","Margin of Error","Estimate","Margin of Error","Estimate","Margin of Error","Estimate","Margin of Error","Estimate","Margin of Error","Estimate","Margin of Error"]
[null,"Total:",393945,2574,20011,643,17650,585,21422,534,9962,337,24776,629,111661,1241,44153,622,98479,1164,34187,889,11644,493]
[null,"Less than $10,000",2757,395,245,145,75,44,259,160,114,49,250,105,583,189,410,124,544,181,224,118,53,49]
[null,"$10,000 to $14,999",1373,265,214,103,28,37,196,104,93,57,71,48,144,69,140,83,225,119,106,95,156,118]
[null,"$15,000 to $19,999",1051,270,49,41,5,7,112,59,118,71,154,109,197,113,181,78,66,63,93,102,76,46]
[null,"$20,000 to $24,999",1825,292,117,74,61,58,163,73,117,66,267,136,372,141,201,77,149,73,260,125,118,90]
[null,"$25,000 to $29,999",1499,266,100,67,159,112,163,91,63,35,172,106,187,89,187,68,107,74,291,110,70,49]
[null,"$30,000 to $34,999",1749,284,108,68,26,26,280,150,100,46,52,29,349,151,181,79,269,118,344,156,40,32]
[null,"$35,000 to $39,999",1069,218,26,22,65,41,120,72,81,42,57,31,156,82,118,61,252,124,114,83,80,80]
[null,"$40,000 to $49,999",2237,364,12,13,67,63,177,92,228,80,175,94,368,130,303,103,511,206,305,136,91,57]
[null,"$50,000 to $59,999",3078,496,240,157,164,100,48,26,397,105,157,79,444,249,453,185,651,207,396,184,128,93]
[null,"$60,000 to $69,999",2027,304,128,91,195,130,100,60,273,97,191,74,456,185,148,81,230,107,241,131,65,43]
[null,"$70,000 to $79,999",2200,343,84,65,62,56,82,50,350,99,143,73,319,137,484,196,327,253,158,85,191,108]
[null,"$80,000 to $89,999",2962,458,110,62,222,174,148,63,507,154,214,88,470,142,533,265,380,131,173,96,205,101]
[null,"$90,000 to $99,999",2762,358,150,126,158,91,136,66,305,86,430,131,287,138,318,151,417,162,350,152,211,130]
[null,"$100,000 to $124,999",7986,600,440,130,514,150,753,185,988,150,918,192,1086,238,922,223,838,197,762,270,765,189]
[null,"$125,000 to $149,999",9483,631,514,218,389,147,809,143,969,170,1005,153,1933,300,1159,243,863,212,917,219,925,230]
[null,"$150,000 to $174,999",14076,940,1044,270,662,183,1826,321,878,153,1579,316,2661,359,1628,252,1271,332,1290,283,1237,275]
[null,"$175,000 to $199,999",15303,908,1137,267,772,250,1886,319,597,147,1933,382,3350,427,1793,247,1669,347,1145,241,1021,225]
[null,"$200,000 to $249,999",43001,1445,3004,407,2244,356,4450,444,1116,170,3295,415,10807,879,6319,565,5050,477,5011,663,1705,335]
[null,"$250,000 to $299,999",47969,1432,2487,345,2451,368,3643,399,975,128,2865,330,14588,876,6928,530,7950,732,4894,588,1188,197]
[null,"$300,000 to $399,999",87735,1905,3973,414,3193,361,3404,361,950,179,3913,364,30357,1252,10061,592,22499,1107,7924,607,1461,186]
[null,"$400,000 to $499,999",62041,1807,2237,317,2357,345,1431,221,399,90,2511,360,21359,980,5909,416,20599,1137,4386,444,853,178]
[null,"$500,000 to $749,999",54833,1727,1979,261,1920,314,812,143,243,74,2018,293,16648,958,4538,441,22465,1086,3562,402,648,152]
[null,"$750,000 to $999,999",14983,715,612,173,861,237,231,63,29,19,1309,228,3377,389,804,155,6957,520,677,200,126,68]
[null,"$1,000,000 to $1,499,999",5779,555,536,171,444,133,146,81,49,25,530,124,763,210,265,123,2528,345,399,149,119,89]
[null,"$1,500,000 to $1,999,999",1590,263,225,122,180,92,18,21,7,9,230,151,89,57,68,36,639,160,69,61,65,47]
[null,"$2,000,000 or more",2577,367,240,86,376,167,29,20,16,15,337,99,311,129,102,53,1023,249,96,64,47,34]
[]
[]
[null,"B25077. MEDIAN VALUE (Dollars)"]
[null,"Universe:  OWNER-OCCUPIED HOUSING UNITS"]
[null,"Data Set: 2018-2022 American Community Survey 5-Year Estimates"]
[]
[null,null,"New Hampshire",null,"Belknap County",null,"Carroll County",null,"Cheshire County",null,"Coos County",null,"Grafton County",null,"Hillsborough County",null,"Merrimack County",null,"Rockingham County",null,"Strafford County",null,"Sullivan County"]
[null," ","Estimate","Margin of Error","Estimate","Margin of Error","Estimate","Margin of Error","Estimate","Margin of Error","Estimate","Margin of Error","Estimate","Margin of Error","Estimate","Margin of Error","Estimate","Margin of Error","Estimate","Margin of Error","Estimate","Margin of Error","Estimate","Margin of Error"]
[]
[null,"Median value (dollars)",337100,2106,295900,10175,315800,14368,238800,5276,157900,6726,273100,8018,356200,3255,297600,4921,424100,5724,300200,8376,211400,9387]
[]
[]
[]
[]
[]
[]
[]
[]
[]
[]
[]
[]
[]
[]
[]
[]
[]
[]
[]
[]
[]
[]
[]
[]
[]
[]
[null,"B25075. VALUE"]
[null,"Universe:  OWNER-OCCUPIED HOUSING UNITS"]
[null,"Data Set: 2013-2017 American Community Survey 5-Year Estimates"]
[]
[null,null,"New Hampshire",null,"Belknap County",null,"Carroll County",null,"Cheshire County",null,"Coos County",null,"Grafton County",null,"Hillsborough County",null,"Merrimack County",null,"Rockingham County",null,"Strafford County",null,"Sullivan County"]
[null," ","Estimate","Margin of Error","Estimate","Margin of Error","Estimate","Margin of Error","Estimate","Margin of Error","Estimate","Margin of Error","Estimate","Margin of Error","Estimate","Margin of Error","Estimate","Margin of Error","Estimate","Margin of Error","Estimate","Margin of Error","Estimate","Margin of Error"]
[null,"Total:",372304,2503,18619,570,16870,580,21453,535,9882,234,23802,583,104138,1144,40616,598,92025,1019,31845,665,13054,429]
[null,"Less than $10,000",3797,383,340,133,168,87,338,109,216,69,235,94,837,170,460,115,791,166,281,131,131,65]
[null,"$10,000 to $14,999",1852,320,129,75,147,142,235,94,107,47,206,95,208,87,271,101,181,72,236,105,132,66]
[null,"$15,000 to $19,999",2838,431,314,158,88,50,359,144,198,76,254,120,402,138,367,111,371,114,377,140,108,80]
[null,"$20,000 to $24,999",2178,338,152,70,159,139,231,85,187,67,129,59,262,100,294,96,308,104,446,177,10,9]
[null,"$25,000 to $29,999",1541,243,44,38,22,26,185,108,44,24,61,37,362,118,243,72,323,117,187,89,70,53]
[null,"$30,000 to $34,999",1943,285,116,76,102,62,178,101,138,59,58,41,213,81,200,66,462,127,400,165,76,48]
[null,"$35,000 to $39,999",1323,234,32,42,94,74,135,79,112,34,148,75,151,70,173,81,326,114,117,81,35,42]
[null,"$40,000 to $49,999",2905,297,190,99,161,77,238,76,314,67,197,99,357,111,230,75,622,142,360,134,236,107]
[null,"$50,000 to $59,999",2926,362,104,53,217,122,144,66,384,88,177,59,547,160,386,125,446,122,305,138,216,94]
[null,"$60,000 to $69,999",3062,374,177,93,102,72,139,60,511,110,295,85,287,103,355,138,357,119,608,247,231,86]
[null,"$70,000 to $79,999",3686,344,281,113,212,129,167,62,499,96,378,101,638,174,445,111,456,141,303,119,307,109]
[null,"$80,000 to $89,999",4490,466,220,112,342,120,400,104,612,127,482,97,702,159,396,116,520,145,438,165,378,121]
[null,"$90,000 to $99,999",3979,393,175,86,246,88,285,94,630,126,369,89,760,151,382,97,306,88,437,158,389,115]
[null,"$100,000 to $124,999",15466,817,1081,202,796,197,1394,242,1067,135,1671,229,2932,327,1773,274,2282,361,1302,206,1168,189]
[null,"$125,000 to $149,999",18040,749,1175,192,816,223,1759,188,1010,156,1603,206,4291,481,1901,233,2199,306,1781,255,1505,224]
[null,"$150,000 to $174,999",30347,899,2006,282,1985,316,3191,344,980,119,2567,278,6869,502,3957,377,3564,341,3406,403,1822,275]
[null,"$175,000 to $199,999",29191,1080,1731,252,1623,266,2455,296,509,92,2025,242,8833,578,4298,306,4194,347,2483,354,1040,161]
[null,"$200,000 to $249,999",62985,1739,2553,330,2094,269,3696,367,863,128,3356,333,20959,883,7814,499,13850,673,5879,480,1921,262]
[null,"$250,000 to $299,999",58041,1253,2713,335,2237,321,2402,254,641,90,2839,301,19578,832,6592,428,15753,750,4234,414,1052,165]
[null,"$300,000 to $399,999",66026,1572,2264,293,2265,328,2184,245,521,95,2734,271,20674,838,6355,434,22829,904,5029,461,1171,164]
[null,"$400,000 to $499,999",26680,961,950,169,1034,205,592,118,159,43,1389,217,8063,561,1837,241,10310,539,1851,269,495,122]
[null,"$500,000 to $749,999",19302,753,812,165,1167,219,463,100,106,31,1577,230,4476,426,1199,161,8214,462,944,192,344,78]
[null,"$750,000 to $999,999",5244,430,550,152,405,136,152,62,47,25,510,108,1017,243,356,88,1887,251,211,87,109,52]
[null,"$1,000,000 to $1,499,999",2363,317,323,144,285,96,80,42,19,13,274,79,267,108,128,46,808,160,127,60,52,26]
[null,"$1,500,000 to $1,999,999",710,167,80,58,45,38,13,10,0,24,124,45,152,76,30,24,245,98,0,27,21,21]
[null,"$2,000,000 or more",1389,223,107,47,58,36,38,26,8,6,144,63,301,113,174,65,421,123,103,63,35,22]
[]
[]
[null,"B25077. MEDIAN VALUE (Dollars)"]
[null,"Universe:  OWNER-OCCUPIED HOUSING UNITS"]
[null,"Data Set: 2013-2017 American Community Survey 5-Year Estimates"]
[]
[null,null,"New Hampshire",null,"Belknap County",null,"Carroll County",null,"Cheshire County",null,"Coos County",null,"Grafton County",null,"Hillsborough County",null,"Merrimack County",null,"Rockingham County",null,"Strafford County",null,"Sullivan County"]
[null," ","Estimate","Margin of Error","Estimate","Margin of Error","Estimate","Margin of Error","Estimate","Margin of Error","Estimate","Margin of Error","Estimate","Margin of Error","Estimate","Margin of Error","Estimate","Margin of Error","Estimate","Margin of Error","Estimate","Margin of Error","Estimate","Margin of Error"]
[]
[null,"Median value (dollars)",244900,1359,220400,7978,227600,9292,188700,3570,123200,5681,215600,6379,256300,2290,226700,2508,295900,2610,220900,4727,171100,4490]
[]
[]
[]
[]
[]
[null,"B25075. VALUE"]
[null,"Universe:  OWNER-OCCUPIED HOUSING UNITS"]
[null,"Data Set: 2008-2012 American Community Survey 5-Year Estimates"]
[]
[null,null,"New Hampshire",null,"Belknap County",null,"Carroll County",null,"Cheshire County",null,"Coos County",null,"Grafton County",null,"Hillsborough County",null,"Merrimack County",null,"Rockingham County",null,"Strafford County",null,"Sullivan County"]
[null," ","Estimate","Margin of Error","Estimate","Margin of Error","Estimate","Margin of Error","Estimate","Margin of Error","Estimate","Margin of Error","Estimate","Margin of Error","Estimate","Margin of Error","Estimate","Margin of Error","Estimate","Margin of Error","Estimate","Margin of Error","Estimate","Margin of Error"]
[null,"Total:",372021,2148,19080,584,16618,522,21503,556,10539,314,24393,589,104710,1010,41226,668,89320,795,31293,680,13339,358]
[null,"Less than $10,000",1581,249,108,61,116,63,272,109,127,50,159,74,160,74,119,56,316,116,138,87,66,41]
[null,"$10,000 to $14,999",1978,261,120,71,204,127,203,79,94,40,317,123,213,89,264,105,264,106,180,90,119,59]
[null,"$15,000 to $19,999",2416,312,112,65,160,94,171,79,99,44,226,78,367,113,329,107,444,146,275,112,233,108]
[null,"$20,000 to $24,999",2509,258,121,64,61,52,217,71,150,59,244,94,411,121,378,100,509,124,241,100,177,98]
[null,"$25,000 to $29,999",2178,249,221,94,117,62,217,95,48,33,109,56,359,105,251,121,408,116,325,118,123,66]
[null,"$30,000 to $34,999",1753,281,39,31,112,68,178,98,113,61,193,92,232,91,253,75,258,97,281,111,94,55]
[null,"$35,000 to $39,999",1274,239,78,53,46,40,51,51,78,36,93,52,160,89,122,54,333,118,224,109,89,68]
[null,"$40,000 to $49,999",2961,305,280,136,176,85,228,73,199,64,174,92,303,93,308,106,674,130,495,166,124,64]
[null,"$50,000 to $59,999",2820,292,178,85,109,60,115,61,322,89,331,88,356,87,280,108,583,153,383,152,163,66]
[null,"$60,000 to $69,999",2460,337,141,69,153,91,99,47,353,99,141,51,286,104,314,130,445,136,314,118,214,97]
[null,"$70,000 to $79,999",3699,318,167,82,92,53,257,83,709,139,402,114,696,159,318,105,393,126,342,129,323,104]
[null,"$80,000 to $89,999",4545,374,228,107,258,93,276,103,867,143,511,123,543,145,298,107,650,147,530,172,384,162]
[null,"$90,000 to $99,999",4342,378,225,88,181,99,336,108,631,132,486,93,844,215,289,98,578,149,471,175,301,102]
[null,"$100,000 to $124,999",13784,674,759,163,742,181,974,184,1301,174,1673,200,2820,307,1738,220,1856,278,900,164,1021,166]
[null,"$125,000 to $149,999",15695,858,987,176,878,179,1523,221,979,139,1600,196,3194,397,1463,228,2277,275,1333,228,1461,260]
[null,"$150,000 to $174,999",28275,957,1886,252,1497,238,2869,302,1125,147,2481,252,7230,445,3057,321,3837,400,2630,325,1663,244]
[null,"$175,000 to $199,999",30413,1205,2168,326,1426,220,2861,313,722,135,2084,269,8284,595,4149,345,4352,389,3284,353,1083,178]
[null,"$200,000 to $249,999",69457,1385,3504,363,3103,277,3585,350,972,138,3794,325,22539,874,8922,550,14402,688,6862,516,1774,198]
[null,"$250,000 to $299,999",61728,1460,2433,297,2228,351,3072,304,678,96,3018,280,21068,834,7511,501,15679,664,4781,394,1260,151]
[null,"$300,000 to $399,999",65946,1167,2861,319,2209,298,2300,246,445,92,2881,300,21120,776,6844,430,21343,698,4399,447,1544,164]
[null,"$400,000 to $499,999",25516,1049,921,176,942,221,757,143,239,63,1314,171,7651,513,1929,202,9632,610,1700,252,431,119]
[null,"$500,000 to $749,999",17350,768,729,163,932,171,565,111,195,62,1314,167,4219,359,1349,181,6884,468,787,153,376,88]
[null,"$750,000 to $999,999",4779,370,421,136,402,125,216,79,20,18,381,95,827,181,305,87,1884,261,211,78,112,45]
[null,"$1,000,000 or more",4562,367,393,116,474,133,161,65,73,36,467,109,828,150,436,98,1319,209,207,75,204,69]
[]
[]
[]
[]
[null,"B25077.MEDIAN VALUE (Dollars)"]
[null,"Universe:  OWNER-OCCUPIED HOUSING UNITS"]
[null,"Data Set: 2008-2012 American Community Survey 5-Year Estimates"]
[]
[null,null,"New Hampshire",null,"Belknap County",null,"Carroll County",null,"Cheshire County",null,"Coos County",null,"Grafton County",null,"Hillsborough County",null,"Merrimack County",null,"Rockingham County",null,"Strafford County",null,"Sullivan County"]
[null," ","Estimate","Margin of Error","Estimate","Margin of Error","Estimate","Margin of Error","Estimate","Margin of Error","Estimate","Margin of Error","Estimate","Margin of Error","Estimate","Margin of Error","Estimate","Margin of Error","Estimate","Margin of Error","Estimate","Margin of Error","Estimate","Margin of Error"]
[]
[null,"Median value (dollars)",245600,1111,224600,5438,231900,6009,199200,3985,129600,5917,212800,5311,258000,2016,237500,3107,288500,2356,224000,3893,177600,6838]

{"sheet":"ACS_Table_B25088","index":66,"n_rows":62,"n_cols":24,"rows_kept":62,"cut":false,"hidden":true,"merged":[]}
[null,"B25088. MEDIAN SELECTED MONTHLY OWNER COSTS (DOLLARS) BY MORTGAGE STATUS"]
[null,"Universe:  OWNER-OCCUPIED HOUSING UNITS"]
[null,"Data Set: 2018-2022 American Community Survey 5-Year Estimates"]
[]
[null,null,"New Hampshire",null,"Belknap County",null,"Carroll County",null,"Cheshire County",null,"Coos County",null,"Grafton County",null,"Hillsborough County",null,"Merrimack County",null,"Rockingham County",null,"Strafford County",null,"Sullivan County"]
[null,null,"Estimate","Margin of Error","Estimate","Margin of Error","Estimate","Margin of Error","Estimate","Margin of Error","Estimate","Margin of Error","Estimate","Margin of Error","Estimate","Margin of Error","Estimate","Margin of Error","Estimate","Margin of Error","Estimate","Margin of Error","Estimate","Margin of Error"]
[null,"Median selected monthly owner costs (dollars)"]
[null,"Total:",1717,18,1492,61,1240,62,1439,56,894,31,1399,58,1885,32,1681,46,2026,37,1727,59,1267,71]
[null,"Housing units with a mortgage (dollars)",2226,15,1946,64,1776,67,1846,32,1397,44,1937,53,2326,26,2151,38,2487,28,2220,43,1764,71]
[null,"Housing units without a mortgage (dollars)",926,9,803,35,702,38,852,25,649,20,847,27,984,18,920,19,1049,13,899,31,833,32]
[]
[]
[]
[]
[]
[]
[]
[]
[]
[]
[]
[]
[]
[]
[]
[]
[]
[]
[]
[]
[]
[]
[]
[]
[]
[]
[]
[]
[]
[null,"B25088. MEDIAN SELECTED MONTHLY OWNER COSTS (DOLLARS) BY MORTGAGE STATUS"]
[null,"Universe:  OWNER-OCCUPIED HOUSING UNITS"]
[null,"Data Set: 2013-2017 American Community Survey 5-Year Estimates"]
[]
[null,null,"New Hampshire",null,"Belknap County",null,"Carroll County",null,"Cheshire County",null,"Coos County",null,"Grafton County",null,"Hillsborough County",null,"Merrimack County",null,"Rockingham County",null,"Strafford County",null,"Sullivan County"]
[null,null,"Estimate","Margin of Error","Estimate","Margin of Error","Estimate","Margin of Error","Estimate","Margin of Error","Estimate","Margin of Error","Estimate","Margin of Error","Estimate","Margin of Error","Estimate","Margin of Error","Estimate","Margin of Error","Estimate","Margin of Error","Estimate","Margin of Error"]
[null,"Median selected monthly owner costs (dollars)"]
[null,"Total:",1485,13,1292,54,1053,48,1276,29,821,26,1198,45,1660,20,1451,26,1773,24,1434,43,1243,51]
[null,"Housing units with a mortgage (dollars)",1878,10,1652,37,1465,49,1620,30,1208,35,1603,34,1985,19,1821,30,2131,22,1837,40,1591,39]
[null,"Housing units without a mortgage (dollars)",773,6,718,35,605,23,747,19,565,17,688,24,827,12,792,15,845,14,770,22,693,29]
[]
[]
[]
[null,"B25088. MEDIAN SELECTED MONTHLY OWNER COSTS (DOLLARS) BY MORTGAGE STATUS"]
[null,"Universe:  OWNER-OCCUPIED HOUSING UNITS"]
[null,"Data Set: 2008-2012 American Community Survey 5-Year Estimates"]
[]
[null,null,"New Hampshire",null,"Belknap County",null,"Carroll County",null,"Cheshire County",null,"Coos County",null,"Grafton County",null,"Hillsborough County",null,"Merrimack County",null,"Rockingham County",null,"Strafford County",null,"Sullivan County"]
[null,null,"Estimate","Margin of Error","Estimate","Margin of Error","Estimate","Margin of Error","Estimate","Margin of Error","Estimate","Margin of Error","Estimate","Margin of Error","Estimate","Margin of Error","Estimate","Margin of Error","Estimate","Margin of Error","Estimate","Margin of Error","Estimate","Margin of Error"]
[null,"Median selected monthly owner costs (dollars)"]
[null,"Total:",1562,11,1377,40,991,47,1325,35,863,35,1151,35,1788,22,1592,27,1856,25,1529,40,1169,40]
[null,"Housing units with a mortgage (dollars)",1948,11,1744,50,1508,60,1681,36,1241,37,1555,43,2092,21,1922,27,2203,24,1896,38,1511,47]
[null,"Housing units without a mortgage (dollars)",722,6,640,18,571,27,740,17,529,13,626,16,780,10,730,16,811,12,736,14,628,26]

{"sheet":"PopComparison","index":67,"n_rows":43,"n_cols":14,"rows_kept":43,"cut":false,"hidden":true,"merged":[[40,1,40,2],[36,1,36,2],[37,1,37,2],[38,1,38,2],[30,1,30,2],[31,1,31,2],[32,1,32,2],[33,1,33,2],[34,1,34,2],[35,1,35,2],[29,1,29,2],[26,12,26,14],[27,3,27,4],[27,5,27,6],[27,7,27,8],[27,9,27,10]]}
[]
[]
[]
[]
[]
[]
[]
[]
[]
[]
[]
[]
[]
[]
[]
[]
[]
[]
[]
[]
[]
[]
[]
[]
[]
[]
[]
[null,null,null,2000,null,2010,null,2020,null,2030,null,null,"2000-2010","2010-2020"]
[null,null,null,"#","%","#","%","#","%","#","%",null,"% Change","% Change"]
[null,"Belknap County",null,{"$f":"CntyQuery!G55","v":56325},{"$f":"D30/$D$41","v":4.5578279734517141E-2},{"$f":"CntyQuery!H55","v":60088},{"$f":"F30/$F$41","v":4.5643273299049734E-2},{"$f":"CntyQuery!I55","v":63705},{"$f":"H30/H$41","v":4.6245850359593159E-2},{"$f":"CntyQuery!J55","v":66371},{"$f":"J30/$J$41","v":4.63937883448984E-2},null,{"$f":"(F30-D30)/D30","v":6.680869951176209E-2},{"$f":"(H30-F30)/F30","v":6.0195047264012778E-2}]
[null,"Carroll County",null,{"$f":"CntyQuery!G56","v":43666},3.5334596766754114E-2,{"$f":"CntyQuery!H56","v":47818},3.6322893799326988E-2,{"$f":"CntyQuery!I56","v":50107},3.6374551824317307E-2,{"$f":"CntyQuery!J56","v":52293},{"$f":"J31/$J$41","v":3.6553168912925406E-2},null,{"$f":"(F31-D31)/D31","v":9.5085421151467966E-2},{"$f":"(H31-F31)/F31","v":4.7869003304195072E-2}]
[null,"Cheshire County",null,{"$f":"CntyQuery!G57","v":73825},5.9739307614748834E-2,{"$f":"CntyQuery!H57","v":77117},5.8578623136114005E-2,{"$f":"CntyQuery!I57","v":76458},5.550373168187385E-2,{"$f":"CntyQuery!J57","v":77722},5.4328215903665662E-2,null,4.4591940399593633E-2,-8.5454569031471663E-3]
[null,"Coos County",null,{"$f":"CntyQuery!G58","v":33111},2.6793473950991516E-2,{"$f":"CntyQuery!H58","v":33055},2.5108813721543218E-2,{"$f":"CntyQuery!I58","v":31268},2.2698614693411175E-2,{"$f":"CntyQuery!J58","v":31274},2.1860742443210929E-2,null,{"$f":"(F33-D33)/D33","v":-1.6912808432243062E-3},-5.4061412796853732E-2]
[null,"Grafton County",null,{"$f":"CntyQuery!G59","v":81743},6.6146565829358808E-2,{"$f":"CntyQuery!H59","v":89118},6.7694668317546169E-2,{"$f":"CntyQuery!I59","v":91118},6.6145975874192117E-2,{"$f":"CntyQuery!J59","v":94984},6.6394473371680848E-2,null,{"$f":"(F34-D34)/D34","v":9.0221792691728961E-2},2.2442155344599295E-2]
[null,"Hillsborough County",null,{"$f":"CntyQuery!G60","v":380841},0.30817714393916101,{"$f":"CntyQuery!H60","v":400721},0.3043905292182883,{"$f":"CntyQuery!I60","v":422937},0.30702584119826154,{"$f":"CntyQuery!J60","v":440881},0.30817887027899465,null,5.220026205161734E-2,5.5440069275131579E-2]
[null,"Merrimack County",null,{"$f":"CntyQuery!G61","v":136225},0.11023348702768926,{"$f":"CntyQuery!H61","v":146445},0.11124066632737548,{"$f":"CntyQuery!I61","v":153808},0.11165499964066092,{"$f":"CntyQuery!J61","v":159385},0.11141121808247023,null,7.5022939988988804E-2,5.0278261463348017E-2]
[null,"Rockingham County",null,{"$f":"CntyQuery!G63","v":277359},0.22443934467618179,{"$f":"CntyQuery!H63","v":295223},{"$f":"F37/$F$41","v":0.2242534960918213},{"$f":"CntyQuery!I63","v":314176},0.22807214947924873,{"$f":"CntyQuery!J63","v":327586},0.22898488117930857,null,6.4407500748127872E-2,6.4198927590330024E-2]
[null,"Strafford County",null,{"$f":"CntyQuery!G64","v":112233},9.0819122404688188E-2,{"$f":"CntyQuery!H64","v":123143},9.3540300956345385E-2,{"$f":"CntyQuery!I64","v":130889},9.5017237386653935E-2,{"$f":"CntyQuery!J64","v":136162},9.5178180359163742E-2,null,9.7208485917689089E-2,6.290247923146261E-2]
[null,"Sullivan County",null,{"$f":"CntyQuery!G65","v":40458},3.2738678055909354E-2,{"$f":"CntyQuery!H65","v":43742},3.3226735132589426E-2,{"$f":"CntyQuery!I65","v":43063},{"$f":"H39/H$41","v":3.1261047861787301E-2},{"$f":"CntyQuery!J65","v":43943},3.0716461123681586E-2,null,{"$f":"(F39-D39)/D39","v":8.1170596668149686E-2},-1.5522838461890174E-2]
[]
[null,"New Hampshire",null,{"$f":"CntyQuery!G62","v":1235786},null,{"$f":"CntyQuery!H62","v":1316470},null,{"$f":"CntyQuery!I62","v":1377529},null,{"$f":"SUM(J30:J39)","v":1430601},null,null,{"$f":"(F41-D41)/D41","v":6.5289621342206505E-2},{"$f":"(H41-F41)/F41","v":4.6380851823436917E-2}]
[]
[null,"Source: US Census and Office of Planning and Development, NH BEA"]

{"sheet":"HousingComparison","index":68,"n_rows":47,"n_cols":15,"rows_kept":47,"cut":false,"hidden":true,"merged":[[38,1,38,2],[39,1,39,2],[40,1,40,2],[41,1,41,2],[32,1,32,2],[33,1,33,2],[34,1,34,2],[35,1,35,2],[36,1,36,2],[37,1,37,2],[28,3,28,4],[28,5,28,8],[28,9,28,14],[29,5,29,6],[29,7,29,8],[29,9,29,10],[29,11,29,12],[29,13,29,14]]}
[]
[]
[]
[]
[]
[]
[]
[]
[]
[]
[]
[]
[]
[]
[]
[]
[]
[]
[]
[]
[]
[]
[]
[]
[]
[]
[]
[null,"Housing Units",null,"In 2021"]
[null,null,null,"Total Units",null,"Occupied Units",null,null,null,"Vacant Units"]
[null,null,null,null,null,"Owner",null,"Renter",null,"For Sale",null,"For Rent",null,"Seasonal"]
[null,null,null,"#","%","#","%","#","%","#","%","#","%","#","%"]
[]
[null,"Belknap County",null,{"$f":"ACS_Table_B25001!$E$7","v":38478},{"$f":"D33/D$44","v":6.0090421420037947E-2},{"$f":"ACS_Table_B25003!$E$8","v":20011},{"$f":"F33/F$44","v":5.0796430973866907E-2},{"$f":"ACS_Table_B25003!$E$9","v":5945},{"$f":"H33/H$44","v":3.9326325816459506E-2},{"$f":"ACS_Table_B25004!$E$10","v":263},{"$f":"J33/J$44","v":0.11688888888888889},{"$f":"ACS_Table_B25004!$E$8","v":171},{"$f":"L33/L$44","v":2.8358208955223882E-2},{"$f":"ACS_Table_B25004!$E$12","v":10970},{"$f":"N33/N$44","v":0.16224690518095633}]
[null,"Carroll County",null,{"$f":"ACS_Table_B25001!$G$7","v":39889},{"$f":"D34/D$44","v":6.2293955507663958E-2},{"$f":"ACS_Table_B25003!$G$8","v":17650},{"$f":"F34/F$44","v":4.4803208569724202E-2},{"$f":"ACS_Table_B25003!$G$9","v":3994},2.6420411322277421E-2,{"$f":"ACS_Table_B25004!$G$10","v":283},0.12577777777777777,{"$f":"ACS_Table_B25004!$G$8","v":202},{"$f":"L34/L$44","v":3.3499170812603646E-2},{"$f":"ACS_Table_B25004!$G$12","v":16743},{"$f":"N34/N$44","v":0.24762989365950336}]
[null,"Cheshire County",null,{"$f":"ACS_Table_B25001!$I$7","v":35706},5.5761437372625268E-2,{"$f":"ACS_Table_B25003!$I$8","v":21422},5.4378149234030129E-2,{"$f":"ACS_Table_B25003!$I$9","v":8885},5.8774500400209033E-2,{"$f":"ACS_Table_B25004!$I$10","v":93},4.1333333333333333E-2,{"$f":"ACS_Table_B25004!$I$8","v":228},3.7810945273631838E-2,{"$f":"ACS_Table_B25004!$I$12","v":3248},4.8038099182109946E-2]
[null,"Coos County",null,{"$f":"ACS_Table_B25001!$K$7","v":20570},3.2123810193102051E-2,{"$f":"ACS_Table_B25003!$K$8","v":9962},2.5287793981393341E-2,{"$f":"ACS_Table_B25003!$K$9","v":3658},2.4197762798420331E-2,{"$f":"ACS_Table_B25004!$K$10","v":182},8.0888888888888885E-2,{"$f":"ACS_Table_B25004!$K$8","v":217},3.5986733001658375E-2,{"$f":"ACS_Table_B25004!$K$12","v":5129},7.5858192951059708E-2]
[null,"Grafton County",null,{"$f":"ACS_Table_B25001!$M$7","v":51191},7.994409176446704E-2,{"$f":"ACS_Table_B25003!$M$8","v":24776},6.289202807498509E-2,{"$f":"ACS_Table_B25003!$M$9","v":10308},6.8187681499758554E-2,{"$f":"ACS_Table_B25004!$M$10","v":293},0.13022222222222221,{"$f":"ACS_Table_B25004!$M$8","v":657},0.10895522388059702,{"$f":"ACS_Table_B25004!$M$12","v":13769},0.20364426959312559]
[null,"Hillsborough County",null,{"$f":"ACS_Table_B25001!$O$7","v":175630},0.27427830744844495,{"$f":"ACS_Table_B25003!$O$8","v":111661},0.28344312023251977,{"$f":"ACS_Table_B25003!$O$9","v":54683},0.36172943223237264,{"$f":"ACS_Table_B25004!$O$10","v":361},0.16044444444444445,{"$f":"ACS_Table_B25004!$O$8","v":1514},0.25107794361525704,{"$f":"ACS_Table_B25004!$O$12","v":2463},3.642790587608892E-2]
[null,"Merrimack County",null,{"$f":"ACS_Table_B25001!$Q$7","v":65744},0.10267125801338362,{"$f":"ACS_Table_B25003!$Q$8","v":44153},0.11207909733592253,{"$f":"ACS_Table_B25003!$Q$9","v":15698},0.10384266823663268,{"$f":"ACS_Table_B25004!$Q$10","v":141},6.2666666666666662E-2,{"$f":"ACS_Table_B25004!$Q$8","v":662},0.10978441127694859,{"$f":"ACS_Table_B25004!$Q$12","v":3223},4.7668347802937307E-2]
[null,"Rockingham County",null,{"$f":"ACS_Table_B25001!$S$7","v":135585},0.21174072946192227,{"$f":"ACS_Table_B25003!$S$8","v":98479},0.2499815964157433,{"$f":"ACS_Table_B25003!$S$9","v":26985},0.17850645957227246,{"$f":"ACS_Table_B25004!$S$10","v":501},0.22266666666666668,{"$f":"ACS_Table_B25004!$S$8","v":906},0.15024875621890546,{"$f":"ACS_Table_B25004!$S$12","v":5616},8.3060949817342813E-2]
[null,"Strafford County",null,{"$f":"ACS_Table_B25001!$U$7","v":55672},8.6941991301428156E-2,{"$f":"ACS_Table_B25003!$U$8","v":34187},8.6781149652870329E-2,{"$f":"ACS_Table_B25003!$U$9","v":16766},0.1109075153303213,{"$f":"ACS_Table_B25004!$U$10","v":95},4.2222222222222223E-2,{"$f":"ACS_Table_B25004!$U$8","v":1156},0.19170812603648424,{"$f":"ACS_Table_B25004!$U$12","v":1875},2.7731353437948324E-2]
[null,"Sullivan County",null,{"$f":"ACS_Table_B25001!$W$7","v":21870},3.4153997516924738E-2,{"$f":"ACS_Table_B25003!$W$8","v":11644},2.9557425528944397E-2,{"$f":"ACS_Table_B25003!$W$9","v":4249},2.8107242791276105E-2,{"$f":"ACS_Table_B25004!$W$10","v":38},1.6888888888888887E-2,{"$f":"ACS_Table_B25004!$W$8","v":317},5.2570480928689885E-2,{"$f":"ACS_Table_B25004!$W$12","v":4577},6.7694082498927721E-2]
[]
[null,"New Hampshire",null,{"$f":"ACS_Table_B25001!$C$7","v":640335},null,{"$f":"ACS_Table_B25003!$C$8","v":393945},null,{"$f":"ACS_Table_B25003!$C$9","v":151171},null,{"$f":"ACS_Table_B25004!$C$10","v":2250},null,{"$f":"ACS_Table_B25004!$C$8","v":6030},null,{"$f":"ACS_Table_B25004!$C$12","v":67613}]
[]
[null,"Source: 2017-2021 American Community Survey Tables B25001; B25003; and B25004"]
[null,"Margin of error is not displayed.  The American Community Survey data are estimates only."]

{"sheet":"Housing_EmploymentComparison","index":69,"n_rows":47,"n_cols":11,"rows_kept":47,"cut":false,"hidden":true,"merged":[[32,1,32,2],[33,1,33,2],[34,1,34,2],[35,1,35,2],[36,1,36,2],[37,1,37,2],[38,1,38,2],[39,1,39,2],[40,1,40,2],[41,1,41,2],[46,4,48,15],[28,3,28,4],[28,5,28,10],[29,3,29,4],[29,5,29,6],[29,7,29,8],[29,9,29,10]]}
[]
[]
[]
[]
[]
[]
[]
[]
[]
[]
[]
[]
[]
[]
[]
[]
[]
[]
[]
[]
[]
[]
[]
[]
[]
[]
[]
[null,null,null,"In 2019"]
[null,null,null,"Total Units",null,"Employment"]
[null,null,null,null,null,"Total Private",null,"Goods Producing",null,"Service Providing"]
[null,null,null,"#","%","#","%","#","%","#","%"]
[]
[null,"Belknap County",null,{"$f":"ACS_Table_B25001!$E$7","v":38478},{"$f":"D33/D$44","v":6.0090421420037947E-2},{"$f":"CntyQuery!FB75","v":16439},{"$f":"F33/F$44","v":2.8323862755300709E-2},{"$f":"CntyQuery!FD75","v":948},{"$f":"H33/H$44","v":1.9812450494997775E-3},{"$f":"CntyQuery!FE75","v":1212.92},{"$f":"J33/J$44","v":1.0750263678020333}]
[null,"Carroll County",null,{"$f":"ACS_Table_B25001!$G$7","v":39889},{"$f":"D34/D$44","v":6.2293955507663958E-2},{"$f":"CntyQuery!FB76","v":12926},{"$f":"F34/F$44","v":2.2271077922928217E-2},{"$f":"CntyQuery!FD76","v":832.06},{"$f":"H34/H$44","v":1.7389396159143298E-3},{"$f":"CntyQuery!FE76","v":1019.76},{"$f":"J34/J$44","v":0.90382621181100264}]
[null,"Cheshire County",null,{"$f":"ACS_Table_B25001!I$7","v":35706},5.5761437372625268E-2,{"$f":"CntyQuery!FB77","v":18816},3.2419356506097584E-2,{"$f":"CntyQuery!FD77","v":1013.03},2.1171526081168348E-3,{"$f":"CntyQuery!FE77","v":1159.32},1.0275200085086016]
[null,"Coos County",null,{"$f":"ACS_Table_B25001!$K$7","v":20570},3.2123810193102051E-2,{"$f":"CntyQuery!FB78","v":6884},1.186090827954803E-2,{"$f":"CntyQuery!FD78","v":825.46},1.72514613772161E-3,{"$f":"CntyQuery!FE78","v":905.94},0.80294610332633154]
[null,"Grafton County",null,{"$f":"ACS_Table_B25001!$M$7","v":51191},7.994409176446704E-2,{"$f":"CntyQuery!FB79","v":37870},6.5248779277525273E-2,{"$f":"CntyQuery!FD79","v":1287.53},2.6908359056776882E-3,{"$f":"CntyQuery!FE79","v":1194.47},1.0586738989780815]
[null,"Hillsborough County",null,{"$f":"ACS_Table_B25001!$O$7","v":175630},0.27427830744844495,{"$f":"CntyQuery!FB80","v":138510},0.23864822861711182,{"$f":"CntyQuery!FD80","v":1366.74},2.8563785431997106E-3,{"$f":"CntyQuery!FE80","v":1698.45},1.5053577601106118]
[null,"Merrimack County",null,{"$f":"ACS_Table_B25001!$Q$7","v":65744},0.10267125801338362,{"$f":"CntyQuery!FB81","v":47587},8.1990854488502643E-2,{"$f":"CntyQuery!FD81","v":1126.1500000000001},2.3535644646563024E-3,{"$f":"CntyQuery!FE81","v":1268.4000000000001},1.1241989949214284]
[null,"Rockingham County",null,{"$f":"ACS_Table_B25001!$S$7","v":135585},0.21174072946192227,{"$f":"CntyQuery!FB83","v":105086},0.18105976285075312,{"$f":"CntyQuery!FD83","v":1216.3900000000001},2.5421589301276733E-3,{"$f":"CntyQuery!FE83","v":1435.04},1.2718941388142908]
[null,"Strafford County",null,{"$f":"ACS_Table_B25001!$U$7","v":55672},8.6941991301428156E-2,{"$f":"CntyQuery!FB84","v":30321},5.2242097609554887E-2,{"$f":"CntyQuery!FD84","v":1099.0999999999999},2.2970321032755327E-3,{"$f":"CntyQuery!FE84","v":1214.9000000000001},1.0767812668953354]
[null,"Sullivan County",null,{"$f":"ACS_Table_B25001!$W$7","v":21870},3.4153997516924738E-2,{"$f":"CntyQuery!FB85","v":7231},1.2458778002529316E-2,{"$f":"CntyQuery!FD85","v":950.68},1.9868460376143969E-3,{"$f":"CntyQuery!FE85","v":1145.6400000000001},1.0153952511366962]
[]
[null,"New Hampshire",null,{"$f":"ACS_Table_B25001!$C$7","v":640335},null,{"$f":"CntyQuery!$ER$82","v":580394},null,{"$f":"CntyQuery!$ET$82","v":478487},null,{"$f":"CntyQuery!$EU$82","v":1128.27}]
[]
[null,null,null,"Source: ","2017-2021 American Community Survey Table B25001"]
[null,null,null,null,"Employment data provided by NH Department of Employment Security 2021 Covered Private Employment. Margin of error is not displayed.  The American Community Survey data are estimates only. Total Employment at the county level is the number provided by NH Department of Employment Security."]

{"sheet":"ACS_Table_B25091","index":70,"n_rows":219,"n_cols":24,"rows_kept":219,"cut":false,"hidden":true,"merged":[]}
[null,"B25091. MORTGAGE STATUS BY SELECTED MONTHLY OWNER COSTS AS A PERCENTAGE OF HOUSEHOLD INCOME IN THE PAST 12 MONTHS "]
[null,"Universe:  OWNER-OCCUPIED HOUSING UNITS"]
[null,"Data Set: 2018-2022 American Community Survey 5-Year Estimates"]
[]
[null,null,"New Hampshire",null,"Belknap County",null,"Carroll County",null,"Cheshire County",null,"Coos County",null,"Grafton County",null,"Hillsborough County",null,"Merrimack County",null,"Rockingham County",null,"Strafford County",null,"Sullivan County"]
[null," ","Estimate","Margin of Error","Estimate","Margin of Error","Estimate","Margin of Error","Estimate","Margin of Error","Estimate","Margin of Error","Estimate","Margin of Error","Estimate","Margin of Error","Estimate","Margin of Error","Estimate","Margin of Error","Estimate","Margin of Error","Estimate","Margin of Error"]
[null,"Total:",393945,2574,20011,643,17650,585,21422,534,9962,337,24776,629,111661,1241,44153,622,98479,1164,34187,889,11644,493]
[null,"Housing units with a mortgage:",250376,2301,12027,606,9642,593,12778,521,4297,265,13371,577,75514,1428,28098,840,66696,1459,21553,884,6400,446]
[null,"Less than 10.0 percent",15471,881,835,195,773,164,717,189,328,93,995,232,4509,582,1602,223,4229,521,949,243,534,195]
[null,"10.0 to 14.9 percent",37600,1573,1849,359,1734,346,1864,273,734,135,1925,261,11555,842,4123,400,9802,790,3063,419,951,180]
[null,"15.0 to 19.9 percent",52702,1662,2564,357,1847,304,2738,382,881,177,2568,314,16042,1036,6220,493,14093,1009,4641,542,1108,213]
[null,"20.0 to 24.9 percent",45856,1803,1970,357,1006,198,2322,362,658,139,2289,381,14302,936,5192,522,13289,917,3703,488,1125,254]
[null,"25.0 to 29.9 percent",27629,1186,1252,273,786,167,1374,234,519,120,1607,254,8678,703,3357,414,6858,586,2518,400,680,166]
[null,"30.0 to 34.9 percent",19975,1016,840,188,728,215,1072,252,351,78,991,198,5719,609,2467,330,5502,646,1780,404,525,160]
[null,"35.0 to 39.9 percent",12558,864,605,185,469,155,523,115,206,65,493,113,4085,496,1209,233,3190,424,1384,355,394,144]
[null,"40.0 to 49.9 percent",14249,869,683,191,820,228,792,187,294,81,869,214,3932,471,1619,281,3411,503,1432,292,397,125]
[null,"50.0 percent or more",23664,1304,1429,311,1452,301,1353,237,325,81,1571,290,6612,694,2238,331,6059,657,2017,395,608,151]
[null,"Not computed",672,195,0,28,27,21,23,22,1,2,63,47,80,57,71,45,263,132,66,57,78,89]
[null,"Housing units without a mortgage:",143569,2447,7984,548,8008,550,8644,543,5665,309,11405,566,36147,1242,16055,792,31783,1215,12634,822,5244,429]
[null,"Less than 10.0 percent",43893,1356,2580,334,2748,388,2574,296,1676,189,3497,313,11816,718,4238,409,9715,675,3585,462,1464,239]
[null,"10.0 to 14.9 percent",30210,1396,1231,209,1547,261,1869,292,1193,160,2555,336,7665,677,4007,408,6292,725,2945,467,906,205]
[null,"15.0 to 19.9 percent",18845,834,1164,217,1057,258,1116,223,885,174,1313,197,4827,427,1759,197,4241,550,1659,285,824,194]
[null,"20.0 to 24.9 percent",12366,806,808,228,419,107,970,217,494,119,975,176,2587,475,1376,220,2925,459,1251,325,561,189]
[null,"25.0 to 29.9 percent",9209,867,466,173,483,212,507,143,414,115,665,176,2421,373,1363,403,1947,290,723,237,220,77]
[null,"30.0 to 34.9 percent",6348,537,421,156,197,88,295,102,204,75,581,156,1455,312,850,172,1461,330,562,154,322,133]
[null,"35.0 to 39.9 percent",4363,485,245,110,175,80,270,118,135,51,358,107,1200,280,552,160,923,192,420,134,85,55]
[null,"40.0 to 49.9 percent",5484,613,322,127,386,146,353,119,215,92,495,210,1288,270,723,150,1146,300,392,167,164,84]
[null,"50.0 percent or more",11609,749,704,184,974,253,585,151,426,111,896,231,2664,338,1106,211,2789,469,1018,261,447,162]
[null,"Not computed",1242,289,43,35,22,24,105,88,23,19,70,37,224,100,81,58,344,142,79,52,251,170]
[]
[]
[]
[null,"Calculated B25091. MORTGAGE STATUS BY SELECTED MONTHLY OWNER COSTS AS A PERCENTAGE OF HOUSEHOLD INCOME IN THE PAST 12 MONTHS "]
[null,"Universe:  OWNER-OCCUPIED HOUSING UNITS"]
[null,"Data Set: 2018-2022 American Community Survey 5-Year Estimates"]
[]
[null,null,"New Hampshire",null,"Belknap County",null,"Carroll County",null,"Cheshire County",null,"Coos County",null,"Grafton County",null,"Hillsborough County",null,"Merrimack County",null,"Rockingham County",null,"Strafford County",null,"Sullivan County"]
[null," ","Estimate","Margin of Error","Estimate","Margin of Error","Estimate","Margin of Error","Estimate","Margin of Error","Estimate","Margin of Error","Estimate","Margin of Error","Estimate","Margin of Error","Estimate","Margin of Error","Estimate","Margin of Error","Estimate","Margin of Error","Estimate","Margin of Error"]
[null,"Total:",{"$f":"C7","v":393945},{"$f":"D7","v":2574},{"$f":"E7","v":20011},643,17650,585,21422,534,9962,337,24776,629,111661,1241,44153,622,98479,1164,34187,889,11644,493]
[null,"Less than 10.0 percent",{"$f":"C9+C20","v":59364},{"$f":"SQRT((D9^2)+(D20^2))","v":1617.0643153566898},{"$f":"E9+E20","v":3415},{"$f":"SQRT((F9^2)+(F20^2))","v":386.7570296710843},{"$f":"G9+G20","v":3521},{"$f":"SQRT((H9^2)+(H20^2))","v":421.23627574082457},{"$f":"I9+I20","v":3291},{"$f":"SQRT((J9^2)+(J20^2))","v":351.19367875860178},{"$f":"K9+K20","v":2004},{"$f":"SQRT((L9^2)+(L20^2))","v":210.64187617850351},{"$f":"M9+M20","v":4492},{"$f":"SQRT((N9^2)+(N20^2))","v":389.60621144945827},{"$f":"O9+O20","v":16325},{"$f":"SQRT((P9^2)+(P20^2))","v":924.25537596488994},{"$f":"Q9+Q20","v":5840},{"$f":"SQRT((R9^2)+(R20^2))","v":465.84332130019851},{"$f":"S9+S20","v":13944},{"$f":"SQRT((T9^2)+(T20^2))","v":852.68165220086678},{"$f":"U9+U20","v":4534},{"$f":"SQRT((V9^2)+(V20^2))","v":522.00862061847215},{"$f":"W9+W20","v":1998},{"$f":"SQRT((X9^2)+(X20^2))","v":308.45745249547787}]
[null,"10.0 to 14.9 percent",{"$f":"C10+C21","v":67810},2103.1274331338082,3080,415.40582566930857,3281,433.40166127969559,3733,399.74116625636645,1927,209.34421415458323,4480,425.46092652557417,19220,1080.4133468261118,8130,571.37028274141107,16094,1072.2523023990202,6008,627.4153329334564,1857,{"$f":"SQRT((X10^2)+(X21^2))","v":272.80945731407479}]
[null,"15.0 to 19.9 percent",71547,1859.5160660774081,3728,417.77745271854968,2904,398.72296146572745,3854,442.32680226276136,1766,248.20354550247666,3881,370.6818042472546,20869,1120.5467415507485,7979,530.90300432376534,18334,1149.1653492861678,6300,612.36345416753932,1932,288.10588331375669]
[null,"20.0 to 24.9 percent",58222,1974.9544298540156,2778,423.59532575324766,1425,225.06221362103412,3292,422.05805287898488,1152,182.98087331740442,3264,419.68678797407955,16889,1049.6289820693787,6568,566.46623906460661,16214,1025.460871998537,4954,586.31817300847842,1686,316.60227415481398]
[null,"25.0 to 29.9 percent",36838,1469.1102749623665,1718,323.19962871265801,1269,269.87589740471452,1881,274.23530042647684,933,166.20770138594662,2272,309.01779884013155,11099,795.82535772617848,4720,577.75860010907672,8805,653.83178264749415,3241,464.93978104696527,900,182.98907071188705]
[null,"30.0 to 34.9 percent",26323,1149.1844934561204,1261,244.29490375363952,925,232.31228981696168,1367,271.86025822102062,555,108.2081327812286,1572,252.07141845120006,7174,684.26968367742256,3317,372.13438432910226,6963,725.40747170125007,2342,432.35633452049711,847,208.06008747474851]
[null,"35.0 to 39.9 percent",16921,990.81834863914389,850,215.23243250030885,644,174.42763542512407,793,164.76953601925328,341,82.619610262939389,851,155.62133529821674,5285,569.57528036248198,1761,282.64642223102703,4113,465.44602264924339,1804,379.44828369621069,479,154.14603465545261]
[null,"40.0 to 49.9 percent",19733,1063.45192651102,1005,229.36869882353173,1206,270.73972741361769,1145,221.65288177689007,509,122.57650672131263,1364,299.82661656364002,5220,542.9005433778824,2342,318.52943349084711,4557,585.66970213593947,1824,336.38222307369335,561,150.60212481900777]
[null,"50.0 percent or more",{"$f":"C17+C28","v":35273},1503.8008511767773,2133,361.35439668004597,2426,393.20478125272081,1938,281.01601377857457,751,137.41178988718545,2467,370.75733303604392,9276,771.93263954829638,3344,392.53280117717549,8848,807.22363691854321,3035,473.44059817468127,1055,221.46105752479374]
[null,"Not computed",{"$f":"C18+C29","v":1914},348.63447907514825,43,44.82186966202994,49,31.89043743820395,128,90.708323763588538,24,19.104973174542799,133,59.816385714952723,304,115.10430052782563,152,73.409808608931812,607,193.87624919004389,145,77.155686763841331,329,191.88798815975949]
[]
[]
[]
[]
[null,"Calculated MONTHLY OWNER COSTS AS A PERCENTAGE OF HOUSEHOLD INCOME IN THE PAST 12 MONTHS "]
[null,"Universe:  OWNER-OCCUPIED HOUSING UNITS"]
[null,"Data Set: 2018-2022 American Community Survey 5-Year Estimates"]
[null,null,"New Hampshire",null,"Belknap County",null,"Carroll County",null,"Cheshire County",null,"Coos County",null,"Grafton County",null,"Hillsborough County",null,"Merrimack County",null,"Rockingham County",null,"Strafford County",null,"Sullivan County"]
[null," ","Estimate","Margin of Error","Estimate","Margin of Error","Estimate","Margin of Error","Estimate","Margin of Error","Estimate","Margin of Error","Estimate","Margin of Error","Estimate","Margin of Error","Estimate","Margin of Error","Estimate","Margin of Error","Estimate","Margin of Error","Estimate","Margin of Error"]
[null,"Total:",{"$f":"C39","v":393945},2574,20011,643,17650,585,21422,534,9962,337,24776,629,111661,1241,44153,622,98479,1164,34187,889,11644,493]
[null,"Less than 20% of HH Income",{"$f":"C40+C41+C42","v":198721},{"$f":"SQRT((D40^2)+(D41^2)+(D42^2))","v":3239.7286923444685},{"$f":"E40+E41+E42","v":10223},{"$f":"SQRT((F40^2)+(F41^2)+(F42^2))","v":704.7559861398837},{"$f":"G40+G41+G42","v":9706},{"$f":"SQRT((H40^2)+(H41^2)+(H42^2))","v":724.05593706563855},{"$f":"I40+I41+I42","v":10878},{"$f":"SQRT((J40^2)+(J41^2)+(J42^2))","v":691.94147151330651},{"$f":"K40+K41+K42","v":5697},{"$f":"SQRT((L40^2)+(L41^2)+(L42^2))","v":387.04004960727258},{"$f":"M40+M41+M42","v":12853},{"$f":"SQRT((N40^2)+(N41^2)+(N42^2))","v":685.72224697759373},{"$f":"O40+O41+O42","v":56414},{"$f":"SQRT((P40^2)+(P41^2)+(P42^2))","v":1810.2944511874305},{"$f":"Q40+Q41+Q42","v":21949},{"$f":"SQRT((R40^2)+(R41^2)+(R42^2))","v":908.47784783119505},{"$f":"S40+S41+S42","v":48372},{"$f":"SQRT((T40^2)+(T41^2)+(T42^2))","v":1788.1196827953099},{"$f":"U40+U41+U42","v":16842},{"$f":"SQRT((V40^2)+(V41^2)+(V42^2))","v":1020.3587604367398},{"$f":"W40+W41+W42","v":5787},{"$f":"SQRT((X40^2)+(X41^2)+(X42^2))","v":502.5693981929262}]
[null," 20% to 29.9% of HH Income",{"$f":"C43+C44","v":95060},{"$f":"SQRT((D43^2)+(D44^2))","v":2461.4487603848265},{"$f":"E43+E44","v":4496},{"$f":"SQRT((F43^2)+(F44^2))","v":532.81422653679203},{"$f":"G43+G44","v":2694},{"$f":"SQRT((H43^2)+(H44^2))","v":351.40574838781453},{"$f":"I43+I44","v":5173},{"$f":"SQRT((J43^2)+(J44^2))","v":503.32693152661722},{"$f":"K43+K44","v":2085},{"$f":"SQRT((L43^2)+(L44^2))","v":247.19830096503495},{"$f":"M43+M44","v":5536},{"$f":"SQRT((N43^2)+(N44^2))","v":521.18039103557987},{"$f":"O43+O44","v":27988},{"$f":"SQRT((P43^2)+(P44^2))","v":1317.2163831352843},{"$f":"Q43+Q44","v":11288},{"$f":"SQRT((R43^2)+(R44^2))","v":809.12854355782065},{"$f":"S43+S44","v":25019},{"$f":"SQRT((T43^2)+(T44^2))","v":1216.1685738416363},{"$f":"U43+U44","v":8195},{"$f":"SQRT((V43^2)+(V44^2))","v":748.29005071562995},{"$f":"W43+W44","v":2586},{"$f":"SQRT((X43^2)+(X44^2))","v":365.68018814259}]
[null," Less Than 30% of HH Income",{"$f":"C40+C41+C42+C43+C44","v":293781},{"$f":"SQRT((D40^2)+(D41^2)+(D42^2)+(D43^2)+(D44^2))","v":4068.7310061000594},{"$f":"E40+E41+E42+E43+E44","v":14719},{"$f":"SQRT((F40^2)+(F41^2)+(F42^2)+(F43^2)+(F44^2))","v":883.49985851724955},{"$f":"G40+G41+G42+G43+G44","v":12400},{"$f":"SQRT((H40^2)+(H41^2)+(H42^2)+(H43^2)+(H44^2))","v":804.82482566083911},{"$f":"I40+I41+I42+I43+I44","v":16051},{"$f":"SQRT((J40^2)+(J41^2)+(J42^2)+(J43^2)+(J44^2))","v":855.64069561937038},{"$f":"K40+K41+K42+K43+K44","v":7782},{"$f":"SQRT((L40^2)+(L41^2)+(L42^2)+(L43^2)+(L44^2))","v":459.24612137719794},{"$f":"M40+M41+M42+M43+M44","v":18389},{"$f":"SQRT((N40^2)+(N41^2)+(N42^2)+(N43^2)+(N44^2))","v":861.30366305966675},{"$f":"O40+O41+O42+O43+O44","v":84402},{"$f":"SQRT((P40^2)+(P41^2)+(P42^2)+(P43^2)+(P44^2))","v":2238.799901733069},{"$f":"Q40+Q41+Q42+Q43+Q44","v":33237},{"$f":"SQRT((R40^2)+(R41^2)+(R42^2)+(R43^2)+(R44^2))","v":1216.5611369758612},{"$f":"S40+S41+S42+S43+S44","v":73391},{"$f":"SQRT((T40^2)+(T41^2)+(T42^2)+(T43^2)+(T44^2))","v":2162.507341028002},{"$f":"U40+U41+U42+U43+U44","v":25037},{"$f":"SQRT((V40^2)+(V41^2)+(V42^2)+(V43^2)+(V44^2))","v":1265.3339480153056},{"$f":"W40+W41+W42+W43+W44","v":8373},{"$f":"SQRT((X40^2)+(X41^2)+(X42^2)+(X43^2)+(X44^2))","v":621.52876039649198}]
[null," 30% or More of HH Income",{"$f":"C45+C46+C47+C48","v":98250},{"$f":"SQRT((D45^2)+(D46^2)+(D47^2)+(D48^2))","v":2386.3555895968229},{"$f":"E45+E46+E47+E48","v":5249},{"$f":"SQRT((F45^2)+(F46^2)+(F47^2)+(F48^2))","v":537.76574825847729},{"$f":"G45+G46+G47+G48","v":5201},{"$f":"SQRT((H45^2)+(H46^2)+(H47^2)+(H48^2))","v":558.84165914863581},{"$f":"I45+I46+I47+I48","v":5243},{"$f":"SQRT((J45^2)+(J46^2)+(J47^2)+(J48^2))","v":478.70345726764913},{"$f":"K45+K46+K47+K48","v":2156},{"$f":"SQRT((L45^2)+(L46^2)+(L47^2)+(L48^2))","v":229.00218339570478},{"$f":"M45+M46+M47+M48","v":6254},{"$f":"SQRT((N45^2)+(N46^2)+(N47^2)+(N48^2))","v":561.35104880992253},{"$f":"O45+O46+O47+O48","v":26955},{"$f":"SQRT((P45^2)+(P46^2)+(P47^2)+(P48^2))","v":1297.4058732717376},{"$f":"Q45+Q46+Q47+Q48","v":10764},{"$f":"SQRT((R45^2)+(R46^2)+(R47^2)+(R48^2))","v":688.41557216553429},{"$f":"S45+S46+S47+S48","v":24481},{"$f":"SQRT((T45^2)+(T46^2)+(T47^2)+(T48^2))","v":1318.1331495717723},{"$f":"U45+U46+U47+U48","v":9005},{"$f":"SQRT((V45^2)+(V46^2)+(V47^2)+(V48^2))","v":817.44235270751665},{"$f":"W45+W46+W47+W48","v":2942},{"$f":"SQRT((X45^2)+(X46^2)+(X47^2)+(X48^2))","v":372.52650912384746}]
[null," 30% to 34.9% of HH Income",{"$f":"C45","v":26323},{"$f":"D45","v":1149.1844934561204},{"$f":"E45","v":1261},244.29490375363952,925,232.31228981696168,1367,271.86025822102062,555,108.2081327812286,1572,252.07141845120006,7174,684.26968367742256,3317,372.13438432910226,6963,725.40747170125007,2342,432.35633452049711,847,208.06008747474851]
[null," Less Than 35% of HH Income",{"$f":"C40+C41+C42+C43+C44+C45","v":320104},{"$f":"SQRT((D40^2)+(D41^2)+(D42^2)+(D43^2)+(D44^2)+(D45^2))","v":4227.906928966152},{"$f":"E40+E41+E42+E43+E44+E45","v":15980},{"$f":"SQRT((F40^2)+(F41^2)+(F42^2)+(F43^2)+(F44^2)+(F45^2))","v":916.65260595276766},{"$f":"G40+G41+G42+G43+G44+G45","v":13325},{"$f":"SQRT((H40^2)+(H41^2)+(H42^2)+(H43^2)+(H44^2)+(H45^2))","v":837.6825174253072},{"$f":"I40+I41+I42+I43+I44+I45","v":17418},{"$f":"SQRT((J40^2)+(J41^2)+(J42^2)+(J43^2)+(J44^2)+(J45^2))","v":897.79117839283765},{"$f":"K40+K41+K42+K43+K44+K45","v":8337},{"$f":"SQRT((L40^2)+(L41^2)+(L42^2)+(L43^2)+(L44^2)+(L45^2))","v":471.82200033487203},{"$f":"M40+M41+M42+M43+M44+M45","v":19961},{"$f":"SQRT((N40^2)+(N41^2)+(N42^2)+(N43^2)+(N44^2)+(N45^2))","v":897.43189156615108},{"$f":"O40+O41+O42+O43+O44+O45","v":91576},{"$f":"SQRT((P40^2)+(P41^2)+(P42^2)+(P43^2)+(P44^2)+(P45^2))","v":2341.0360954073303},{"$f":"Q40+Q41+Q42+Q43+Q44+Q45","v":36554},{"$f":"SQRT((R40^2)+(R41^2)+(R42^2)+(R43^2)+(R44^2)+(R45^2))","v":1272.2047791138029},{"$f":"S40+S41+S42+S43+S44+S45","v":80354},{"$f":"SQRT((T40^2)+(T41^2)+(T42^2)+(T43^2)+(T44^2)+(T45^2))","v":2280.9327039612544},{"$f":"U40+U41+U42+U43+U44+U45","v":27379},{"$f":"SQRT((V40^2)+(V41^2)+(V42^2)+(V43^2)+(V44^2)+(V45^2))","v":1337.1619198885376},{"$f":"W40+W41+W42+W43+W44+W45","v":9220},{"$f":"SQRT((X40^2)+(X41^2)+(X42^2)+(X43^2)+(X44^2)+(X45^2))","v":655.42886723121978}]
[null," 35% or More of HH Income",{"$f":"C46+C47+C48","v":71927},{"$f":"SQRT((D46^2)+(D47^2)+(D48^2))","v":2091.4272638559532},{"$f":"E46+E47+E48","v":3988},{"$f":"SQRT((F46^2)+(F47^2)+(F48^2))","v":479.07410700224659},{"$f":"G46+G47+G48","v":4276},{"$f":"SQRT((H46^2)+(H47^2)+(H48^2))","v":508.26666229450859},{"$f":"I46+I47+I48","v":3876},{"$f":"SQRT((J46^2)+(J47^2)+(J48^2))","v":394.01649711655477},{"$f":"K46+K47+K48","v":1601},{"$f":"SQRT((L46^2)+(L47^2)+(L48^2))","v":201.82418091001881},{"$f":"M46+M47+M48","v":4682},{"$f":"SQRT((N46^2)+(N47^2)+(N48^2))","v":501.5725271583363},{"$f":"O46+O47+O48","v":19781},{"$f":"SQRT((P46^2)+(P47^2)+(P48^2))","v":1102.2871676654863},{"$f":"Q46+Q47+Q48","v":7447},{"$f":"SQRT((R46^2)+(R47^2)+(R48^2))","v":579.16491606450063},{"$f":"S46+S47+S48","v":17518},{"$f":"SQRT((T46^2)+(T47^2)+(T48^2))","v":1100.5721239428156},{"$f":"U46+U47+U48","v":6663},{"$f":"SQRT((V46^2)+(V47^2)+(V48^2))","v":693.74346843772162},{"$f":"W46+W47+W48","v":2095},{"$f":"SQRT((X46^2)+(X47^2)+(X48^2))","v":309.00970858534527}]
[null," 50% or More of HH Income",{"$f":"C48","v":35273},{"$f":"D48","v":1503.8008511767773},{"$f":"E48","v":2133},361.35439668004597,2426,393.20478125272081,1938,281.01601377857457,751,137.41178988718545,2467,370.75733303604392,9276,771.93263954829638,3344,392.53280117717549,8848,807.22363691854321,3035,473.44059817468127,1055,221.46105752479374]
[null,"Not computed",{"$f":"C49","v":1914},{"$f":"D49","v":348.63447907514825},{"$f":"E49","v":43},44.82186966202994,49,31.89043743820395,128,90.708323763588538,24,19.104973174542799,133,59.816385714952723,304,115.10430052782563,152,73.409808608931812,607,193.87624919004389,145,77.155686763841331,329,191.88798815975949]
[]
[]
[]
[]
[]
[]
[]
[]
[]
[]
[]
[]
[null,"B25091. MORTGAGE STATUS BY SELECTED MONTHLY OWNER COSTS AS A PERCENTAGE OF HOUSEHOLD INCOME IN THE PAST 12 MONTHS "]
[null,"Universe:  OWNER-OCCUPIED HOUSING UNITS"]
[null,"Data Set: 2013-2017 American Community Survey 5-Year Estimates"]
[]
[null,null,"New Hampshire",null,"Belknap County",null,"Carroll County",null,"Cheshire County",null,"Coos County",null,"Grafton County",null,"Hillsborough County",null,"Merrimack County",null,"Rockingham County",null,"Strafford County",null,"Sullivan County"]
[null," ","Estimate","Margin of Error","Estimate","Margin of Error","Estimate","Margin of Error","Estimate","Margin of Error","Estimate","Margin of Error","Estimate","Margin of Error","Estimate","Margin of Error","Estimate","Margin of Error","Estimate","Margin of Error","Estimate","Margin of Error","Estimate","Margin of Error"]
[null,"Total:",372304,2503,18619,570,16870,580,21453,535,9882,234,23802,583,104138,1144,40616,598,92025,1019,31845,665,13054,429]
[null,"Housing units with a mortgage:",249098,2495,11806,500,9365,499,13309,526,4833,258,13927,598,74569,1183,27010,599,65248,1087,21009,751,8022,436]
[null,"Less than 10.0 percent",12784,811,650,165,570,185,896,179,332,75,768,133,3822,411,1267,188,3361,389,842,203,276,87]
[null,"10.0 to 14.9 percent",32929,1160,1534,259,1316,291,1521,235,813,118,1687,217,9933,585,3385,342,9014,572,2597,377,1129,178]
[null,"15.0 to 19.9 percent",49407,1345,2230,324,1628,215,2401,269,929,114,3090,386,15294,706,5646,406,12386,628,4419,417,1384,165]
[null,"20.0 to 24.9 percent",46960,1300,2077,318,1582,275,2562,273,813,126,2215,242,14484,780,5138,390,12483,696,4221,439,1385,264]
[null,"25.0 to 29.9 percent",32020,1189,1519,232,1263,247,1806,263,478,96,1846,257,9296,627,3368,330,8763,605,2712,343,969,186]
[null,"30.0 to 34.9 percent",20457,961,971,228,750,173,1229,206,313,81,1095,182,5822,462,2286,310,5535,520,1753,304,703,187]
[null,"35.0 to 39.9 percent",12727,709,672,155,392,138,617,138,199,63,1004,212,3431,405,1481,225,3491,389,877,169,563,170]
[null,"40.0 to 49.9 percent",16019,764,700,155,654,154,867,150,312,84,907,165,4864,509,1729,212,3884,411,1501,307,601,163]
[null,"50.0 percent or more",25138,1059,1430,218,1195,245,1392,224,641,93,1288,151,7365,598,2586,301,6168,482,2064,338,1009,188]
[null,"Not computed",657,227,23,35,15,24,18,14,3,4,27,25,258,147,124,69,163,81,23,19,3,4]
[null,"Housing units without a mortgage:",123206,1934,6813,459,7505,421,8144,353,5049,229,9875,597,29569,978,13606,519,26777,849,10836,582,5032,334]
[null,"Less than 10.0 percent",33827,1115,1794,282,2429,272,1797,230,1349,155,2986,308,8407,610,3716,330,7559,480,2621,329,1169,189]
[null,"10.0 to 14.9 percent",26219,887,1385,231,1460,255,1849,236,1090,147,1994,273,6493,508,2846,244,5455,489,2619,380,1028,172]
[null,"15.0 to 19.9 percent",16820,669,948,160,956,215,1048,158,760,112,1424,238,3733,381,2007,255,3391,260,1690,276,863,155]
[null,"20.0 to 24.9 percent",11551,651,553,111,761,198,812,155,522,88,888,171,2986,350,1090,137,2585,306,908,187,446,99]
[null,"25.0 to 29.9 percent",8259,562,511,138,443,140,517,115,381,95,655,151,1846,263,1000,209,1797,244,781,171,328,92]
[null,"30.0 to 34.9 percent",5735,471,307,133,333,130,424,120,252,53,322,79,1385,214,682,164,1399,271,340,127,291,95]
[null,"35.0 to 39.9 percent",4347,442,286,138,287,109,401,124,150,46,374,112,960,224,538,124,813,167,368,128,170,88]
[null,"40.0 to 49.9 percent",4820,496,282,105,179,66,439,131,207,66,339,87,1315,208,470,101,921,228,446,155,222,64]
[null,"50.0 percent or more",10557,669,641,152,562,162,810,154,316,65,863,186,2108,280,1156,209,2675,319,1012,268,414,110]
[null,"Not computed",1071,183,106,61,95,60,47,27,22,19,30,13,336,144,101,48,182,80,51,43,101,74]
[]
[]
[]
[null,"Calculated B25091. MORTGAGE STATUS BY SELECTED MONTHLY OWNER COSTS AS A PERCENTAGE OF HOUSEHOLD INCOME IN THE PAST 12 MONTHS "]
[null,"Universe:  OWNER-OCCUPIED HOUSING UNITS"]
[null,{"$f":"B83","v":"Data Set: 2013-2017 American Community Survey 5-Year Estimates"}]
[]
[null,null,"New Hampshire",null,"Belknap County",null,"Carroll County",null,"Cheshire County",null,"Coos County",null,"Grafton County",null,"Hillsborough County",null,"Merrimack County",null,"Rockingham County",null,"Strafford County",null,"Sullivan County"]
[null," ","Estimate","Margin of Error","Estimate","Margin of Error","Estimate","Margin of Error","Estimate","Margin of Error","Estimate","Margin of Error","Estimate","Margin of Error","Estimate","Margin of Error","Estimate","Margin of Error","Estimate","Margin of Error","Estimate","Margin of Error","Estimate","Margin of Error"]
[null,"Total:",{"$f":"C87","v":372304},{"$f":"D87","v":2503},{"$f":"E87","v":18619},570,16870,580,21453,535,9882,234,23802,583,104138,1144,40616,598,92025,1019,31845,665,13054,429]
[null,"Less than 10.0 percent",{"$f":"C89+C100","v":46611},{"$f":"SQRT((D89^2)+(D100^2))","v":1378.7479827727764},{"$f":"E89+E100","v":2444},{"$f":"SQRT((F89^2)+(F100^2))","v":326.72465471708745},{"$f":"G89+G100","v":2999},{"$f":"SQRT((H89^2)+(H100^2))","v":328.95136418625776},{"$f":"I89+I100","v":2693},{"$f":"SQRT((J89^2)+(J100^2))","v":291.44639301250584},{"$f":"K89+K100","v":1681},{"$f":"SQRT((L89^2)+(L100^2))","v":172.19175357722565},{"$f":"M89+M100","v":3754},{"$f":"SQRT((N89^2)+(N100^2))","v":335.48919505700923},{"$f":"O89+O100","v":12229},{"$f":"SQRT((P89^2)+(P100^2))","v":735.54129727704617},{"$f":"Q89+Q100","v":4983},{"$f":"SQRT((R89^2)+(R100^2))","v":379.7946813740287},{"$f":"S89+S100","v":10920},{"$f":"SQRT((T89^2)+(T100^2))","v":617.8357386878813},{"$f":"U89+U100","v":3463},{"$f":"SQRT((V89^2)+(V100^2))","v":386.58763560155415},{"$f":"W89+W100","v":1445},{"$f":"SQRT((X89^2)+(X100^2))","v":208.06249061279644}]
[null,"10.0 to 14.9 percent",{"$f":"C90+C101","v":59148},1460.2633324164515,2919,347.04754717473514,2776,386.91859608966843,3370,333.04804458215932,1903,188.50198937942272,3681,348.73772379827221,16426,774.78319548116167,6231,420.11903075200007,14469,752.53239132943645,5216,535.28403675058348,2157,{"$f":"SQRT((X90^2)+(X101^2))","v":247.52373623553763}]
[null,"15.0 to 19.9 percent",{"$f":"C91+C102","v":66227},1502.1937291840889,3178,361.35301299421872,2584,304.05591591021545,3449,311.96954979612997,1689,159.81239000778382,4514,453.47546791419711,19027,802.2449750543783,7653,479.43821291173691,15777,679.69404881902562,6109,500.06499577554916,2247,226.38462845343543]
[null,"20.0 to 24.9 percent",58511,1453.8916740940501,2630,336.81597349294464,2343,338.86427961648599,3374,313.93311389530095,1335,153.68799562750502,3103,296.31908477180474,17470,854.92689745966004,6228,413.36303656713187,15068,760.29731026750324,5129,477.16873325900139,1831,281.95212359547855]
[null,"25.0 to 29.9 percent",40279,1315.1292712125298,2030,269.94073423623934,1706,283.91724146307143,2323,287.0435507026765,859,135.05924625881784,2501,298.07717121577758,11142,679.92499586351437,4368,390.6161799004235,10560,652.35036598441491,3493,383.26231226145887,1297,207.50903594783529]
[null,"30.0 to 34.9 percent",26192,1070.2158660756249,1278,263.95643579954628,1083,216.40009242142204,1653,238.40302011509837,565,96.79876032264049,1417,198.40614909825754,7207,509.15616464892184,2968,350.70785562915466,6934,586.37956990331782,2093,329.46168214224855,994,209.74746720759228]
[null,"35.0 to 39.9 percent",17074,835.49087367846221,958,207.53072061745462,679,175.85505395068975,1018,185.52627846210896,349,78.006409993025571,1378,239.76655313033135,4391,462.81853895452372,2019,256.90659781329089,4304,423.33202099534122,1245,212.00235847744713,733,191.42622599842477]
[null,"40.0 to 49.9 percent",20839,910.88528366639014,982,187.21645226849054,833,167.54700832900599,1306,199.15069670980316,519,106.82696288858914,1246,186.53149868051776,6179,549.85907285412691,2199,234.82972554597939,4805,470.00531911883724,1947,343.90987191413973,823,175.11424842085239]
[null,"50.0 percent or more",{"$f":"C97+C108","v":35695},1252.6140666621943,2071,265.75928958363806,1757,293.7158490786631,2202,271.83082974526639,957,113.46365056704283,2151,239.57671005337727,9473,660.30598967448418,3742,366.44508456247576,8843,578.0008650512558,3076,431.35600146514713,1423,217.81643647805828]
[null,"Not computed",{"$f":"C98+C109","v":1728},291.57846285348307,129,70.327803890068964,110,64.621977685614041,65,30.413812651491099,25,19.416487838947599,57,28.178005607210743,594,205.7790076757102,225,84.053554356731397,345,113.84638773364749,74,47.010637094172637,104,74.108029254595621]
[]
[]
[]
[]
[null,"Calculated MONTHLY OWNER COSTS AS A PERCENTAGE OF HOUSEHOLD INCOME IN THE PAST 12 MONTHS "]
[null,"Universe:  OWNER-OCCUPIED HOUSING UNITS"]
[null,{"$f":"B83","v":"Data Set: 2013-2017 American Community Survey 5-Year Estimates"}]
[null,null,"New Hampshire",null,"Belknap County",null,"Carroll County",null,"Cheshire County",null,"Coos County",null,"Grafton County",null,"Hillsborough County",null,"Merrimack County",null,"Rockingham County",null,"Strafford County",null,"Sullivan County"]
[null," ","Estimate","Margin of Error","Estimate","Margin of Error","Estimate","Margin of Error","Estimate","Margin of Error","Estimate","Margin of Error","Estimate","Margin of Error","Estimate","Margin of Error","Estimate","Margin of Error","Estimate","Margin of Error","Estimate","Margin of Error","Estimate","Margin of Error"]
[null,"Total:",{"$f":"C119","v":372304},{"$f":"D119","v":2503},18619,570,16870,580,21453,535,9882,234,23802,583,104138,1144,40616,598,92025,1019,31845,665,13054,429]
[null,"Less than 20% of HH Income",{"$f":"C120+C121+C122","v":171986},{"$f":"SQRT((D120^2)+(D121^2)+(D122^2))","v":2507.9675037767138},{"$f":"E120+E121+E122","v":8541},{"$f":"SQRT((F120^2)+(F121^2)+(F122^2))","v":598.13627209859123},{"$f":"G120+G121+G122","v":8359},{"$f":"SQRT((H120^2)+(H121^2)+(H122^2))","v":591.91637922936377},{"$f":"I120+I121+I122","v":9512},{"$f":"SQRT((J120^2)+(J121^2)+(J122^2))","v":541.46745054527514},{"$f":"K120+K121+K122","v":5273},{"$f":"SQRT((L120^2)+(L121^2)+(L122^2))","v":301.20258963030182},{"$f":"M120+M121+M122","v":11949},{"$f":"SQRT((N120^2)+(N121^2)+(N122^2))","v":663.18247865877754},{"$f":"O120+O121+O122","v":47682},{"$f":"SQRT((P120^2)+(P121^2)+(P122^2))","v":1336.0041167601244},{"$f":"Q120+Q121+Q122","v":18867},{"$f":"SQRT((R120^2)+(R121^2)+(R122^2))","v":742.02762751800549},{"$f":"S120+S121+S122","v":41166},{"$f":"SQRT((T120^2)+(T121^2)+(T122^2))","v":1187.4384194559311},{"$f":"U120+U121+U122","v":14788},{"$f":"SQRT((V120^2)+(V121^2)+(V122^2))","v":828.27773119890162},{"$f":"W120+W121+W122","v":5849},{"$f":"SQRT((X120^2)+(X121^2)+(X122^2))","v":394.72522088156467}]
[null," 20% to 29.9% of HH Income",{"$f":"C123+C124","v":98790},{"$f":"SQRT((D123^2)+(D124^2))","v":1960.4504584406102},{"$f":"E123+E124","v":4660},{"$f":"SQRT((F123^2)+(F124^2))","v":431.63989620979197},{"$f":"G123+G124","v":4049},{"$f":"SQRT((H123^2)+(H124^2))","v":442.08370248178113},{"$f":"I123+I124","v":5697},{"$f":"SQRT((J123^2)+(J124^2))","v":425.37983026937229},{"$f":"K123+K124","v":2194},{"$f":"SQRT((L123^2)+(L124^2))","v":204.59960899278374},{"$f":"M123+M124","v":5604},{"$f":"SQRT((N123^2)+(N124^2))","v":420.30346179873419},{"$f":"O123+O124","v":28612},{"$f":"SQRT((P123^2)+(P124^2))","v":1092.3360288848849},{"$f":"Q123+Q124","v":10596},{"$f":"SQRT((R123^2)+(R124^2))","v":568.72664787224448},{"$f":"S123+S124","v":25628},{"$f":"SQRT((T123^2)+(T124^2))","v":1001.8048712199399},{"$f":"U123+U124","v":8622},{"$f":"SQRT((V123^2)+(V124^2))","v":612.02941105799812},{"$f":"W123+W124","v":3128},{"$f":"SQRT((X123^2)+(X124^2))","v":350.08141910132849}]
[null," Less Than 30% of HH Income",{"$f":"C120+C121+C122+C123+C124","v":270776},{"$f":"SQRT((D120^2)+(D121^2)+(D122^2)+(D123^2)+(D124^2))","v":3183.2792840088664},{"$f":"E120+E121+E122+E123+E124","v":13201},{"$f":"SQRT((F120^2)+(F121^2)+(F122^2)+(F123^2)+(F124^2))","v":737.61778720418613},{"$f":"G120+G121+G122+G123+G124","v":12408},{"$f":"SQRT((H120^2)+(H121^2)+(H122^2)+(H123^2)+(H124^2))","v":738.78481305451862},{"$f":"I120+I121+I122+I123+I124","v":15209},{"$f":"SQRT((J120^2)+(J121^2)+(J122^2)+(J123^2)+(J124^2))","v":688.57461469328075},{"$f":"K120+K121+K122+K123+K124","v":7467},{"$f":"SQRT((L120^2)+(L121^2)+(L122^2)+(L123^2)+(L124^2))","v":364.12085905644022},{"$f":"M120+M121+M122+M123+M124","v":17553},{"$f":"SQRT((N120^2)+(N121^2)+(N122^2)+(N123^2)+(N124^2))","v":785.15348817922222},{"$f":"O120+O121+O122+O123+O124","v":76294},{"$f":"SQRT((P120^2)+(P121^2)+(P122^2)+(P123^2)+(P124^2))","v":1725.7186908647654},{"$f":"Q120+Q121+Q122+Q123+Q124","v":29463},{"$f":"SQRT((R120^2)+(R121^2)+(R122^2)+(R123^2)+(R124^2))","v":934.90908648916229},{"$f":"S120+S121+S122+S123+S124","v":66794},{"$f":"SQRT((T120^2)+(T121^2)+(T122^2)+(T123^2)+(T124^2))","v":1553.5839211320385},{"$f":"U120+U121+U122+U123+U124","v":23410},{"$f":"SQRT((V120^2)+(V121^2)+(V122^2)+(V123^2)+(V124^2))","v":1029.8660107023632},{"$f":"W120+W121+W122+W123+W124","v":8977},{"$f":"SQRT((X120^2)+(X121^2)+(X122^2)+(X123^2)+(X124^2))","v":527.60307049902576}]
[null," 30% or More of HH Income",{"$f":"C125+C126+C127+C128","v":99800},{"$f":"SQRT((D125^2)+(D126^2)+(D127^2)+(D128^2))","v":2059.650698540896},{"$f":"E125+E126+E127+E128","v":5289},{"$f":"SQRT((F125^2)+(F126^2)+(F127^2)+(F128^2))","v":467.35425535668338},{"$f":"G125+G126+G127+G128","v":4352},{"$f":"SQRT((H125^2)+(H126^2)+(H127^2)+(H128^2))","v":438.28643602101124},{"$f":"I125+I126+I127+I128","v":6179},{"$f":"SQRT((J125^2)+(J126^2)+(J127^2)+(J128^2))","v":452.55828353925864},{"$f":"K125+K126+K127+K128","v":2390},{"$f":"SQRT((L125^2)+(L126^2)+(L127^2)+(L128^2))","v":199.3514484522247},{"$f":"M125+M126+M127+M128","v":6192},{"$f":"SQRT((N125^2)+(N126^2)+(N127^2)+(N128^2))","v":434.79190424845768},{"$f":"O125+O126+O127+O128","v":27250},{"$f":"SQRT((P125^2)+(P126^2)+(P127^2)+(P128^2))","v":1100.8133356750363},{"$f":"Q125+Q126+Q127+Q128","v":10928},{"$f":"SQRT((R125^2)+(R126^2)+(R127^2)+(R128^2))","v":615.16176734254213},{"$f":"S125+S126+S127+S128","v":24886},{"$f":"SQRT((T125^2)+(T126^2)+(T127^2)+(T128^2))","v":1038.2875324302031},{"$f":"U125+U126+U127+U128","v":8361},{"$f":"SQRT((V125^2)+(V126^2)+(V127^2)+(V128^2))","v":676.63283987698969},{"$f":"W125+W126+W127+W128","v":3973},{"$f":"SQRT((X125^2)+(X126^2)+(X127^2)+(X128^2))","v":398.43067151011354}]
[null," 30% to 34.9% of HH Income",{"$f":"C125","v":26192},{"$f":"D125","v":1070.2158660756249},{"$f":"E125","v":1278},263.95643579954628,1083,216.40009242142204,1653,238.40302011509837,565,96.79876032264049,1417,198.40614909825754,7207,509.15616464892184,2968,350.70785562915466,6934,586.37956990331782,2093,329.46168214224855,994,209.74746720759228]
[null," Less Than 35% of HH Income",{"$f":"C120+C121+C122+C123+C124+C125","v":296968},{"$f":"SQRT((D120^2)+(D121^2)+(D122^2)+(D123^2)+(D124^2)+(D125^2))","v":3358.3670138923171},{"$f":"E120+E121+E122+E123+E124+E125","v":14479},{"$f":"SQRT((F120^2)+(F121^2)+(F122^2)+(F123^2)+(F124^2)+(F125^2))","v":783.42389547421897},{"$f":"G120+G121+G122+G123+G124+G125","v":13491},{"$f":"SQRT((H120^2)+(H121^2)+(H122^2)+(H123^2)+(H124^2)+(H125^2))","v":769.82595435591804},{"$f":"I120+I121+I122+I123+I124+I125","v":16862},{"$f":"SQRT((J120^2)+(J121^2)+(J122^2)+(J123^2)+(J124^2)+(J125^2))","v":728.67756929934376},{"$f":"K120+K121+K122+K123+K124+K125","v":8032},{"$f":"SQRT((L120^2)+(L121^2)+(L122^2)+(L123^2)+(L124^2)+(L125^2))","v":376.76783302187567},{"$f":"M120+M121+M122+M123+M124+M125","v":18970},{"$f":"SQRT((N120^2)+(N121^2)+(N122^2)+(N123^2)+(N124^2)+(N125^2))","v":809.83393359379556},{"$f":"O120+O121+O122+O123+O124+O125","v":83501},{"$f":"SQRT((P120^2)+(P121^2)+(P122^2)+(P123^2)+(P124^2)+(P125^2))","v":1799.262348852996},{"$f":"Q120+Q121+Q122+Q123+Q124+Q125","v":32431},{"$f":"SQRT((R120^2)+(R121^2)+(R122^2)+(R123^2)+(R124^2)+(R125^2))","v":998.52441131902219},{"$f":"S120+S121+S122+S123+S124+S125","v":73728},{"$f":"SQRT((T120^2)+(T121^2)+(T122^2)+(T123^2)+(T124^2)+(T125^2))","v":1660.5613508690367},{"$f":"U120+U121+U122+U123+U124+U125","v":25503},{"$f":"SQRT((V120^2)+(V121^2)+(V122^2)+(V123^2)+(V124^2)+(V125^2))","v":1081.2811845213992},{"$f":"W120+W121+W122+W123+W124+W125","v":9971},{"$f":"SQRT((X120^2)+(X121^2)+(X122^2)+(X123^2)+(X124^2)+(X125^2))","v":567.76667743008659}]
[null," 35% or More of HH Income",{"$f":"C126+C127+C128","v":73608},{"$f":"SQRT((D126^2)+(D127^2)+(D128^2))","v":1759.7724284690905},{"$f":"E126+E127+E128","v":4011},{"$f":"SQRT((F126^2)+(F127^2)+(F128^2))","v":385.67732627158676},{"$f":"G126+G127+G128","v":3269},{"$f":"SQRT((H126^2)+(H127^2)+(H128^2))","v":381.13777036656967},{"$f":"I126+I127+I128","v":4526},{"$f":"SQRT((J126^2)+(J127^2)+(J128^2))","v":384.67258805378896},{"$f":"K126+K127+K128","v":1825},{"$f":"SQRT((L126^2)+(L127^2)+(L128^2))","v":174.27277469530347},{"$f":"M126+M127+M128","v":4775},{"$f":"SQRT((N126^2)+(N127^2)+(N128^2))","v":386.88370345621951},{"$f":"O126+O127+O128","v":20043},{"$f":"SQRT((P126^2)+(P127^2)+(P128^2))","v":975.98668023697951},{"$f":"Q126+Q127+Q128","v":7960},{"$f":"SQRT((R126^2)+(R127^2)+(R128^2))","v":505.3988523928403},{"$f":"S126+S127+S128","v":17952},{"$f":"SQRT((T126^2)+(T127^2)+(T128^2))","v":856.85471347247665},{"$f":"U126+U127+U128","v":6268},{"$f":"SQRT((V126^2)+(V127^2)+(V128^2))","v":591.00507612033243},{"$f":"W126+W127+W128","v":2979},{"$f":"SQRT((X126^2)+(X127^2)+(X128^2))","v":338.75212176457285}]
[null," 50% or More of HH Income",{"$f":"C128","v":35695},{"$f":"D128","v":1252.6140666621943},{"$f":"E128","v":2071},265.75928958363806,1757,293.7158490786631,2202,271.83082974526639,957,113.46365056704283,2151,239.57671005337727,9473,660.30598967448418,3742,366.44508456247576,8843,578.0008650512558,3076,431.35600146514713,1423,217.81643647805828]
[null,"Not computed",{"$f":"C129","v":1728},{"$f":"D129","v":291.57846285348307},129,70.327803890068964,110,64.621977685614041,65,30.413812651491099,25,19.416487838947599,57,28.178005607210743,594,205.7790076757102,225,84.053554356731397,345,113.84638773364749,74,47.010637094172637,104,74.108029254595621]
[]
[]
[]
[null,"B25091. MORTGAGE STATUS BY SELECTED MONTHLY OWNER COSTS AS A PERCENTAGE OF HOUSEHOLD INCOME IN THE PAST 12 MONTHS "]
[null,"Universe:  OWNER-OCCUPIED HOUSING UNITS"]
[null,"Data Set: 2008-2012 American Community Survey 5-Year Estimates"]
[]
[null,null,"New Hampshire",null,"Belknap County",null,"Carroll County",null,"Cheshire County",null,"Coos County",null,"Grafton County",null,"Hillsborough County",null,"Merrimack County",null,"Rockingham County",null,"Strafford County",null,"Sullivan County"]
[null," ","Estimate","Margin of Error","Estimate","Margin of Error","Estimate","Margin of Error","Estimate","Margin of Error","Estimate","Margin of Error","Estimate","Margin of Error","Estimate","Margin of Error","Estimate","Margin of Error","Estimate","Margin of Error","Estimate","Margin of Error","Estimate","Margin of Error"]
[null,"Total:",372021,2148,19080,584,16618,522,21503,556,10539,314,24393,589,104710,1010,41226,668,89320,795,31293,680,13339,358]
[null,"Housing units with a mortgage:",261039,2325,12601,562,9608,553,13750,568,5770,265,14790,519,78858,1176,29417,662,65929,894,21561,703,8755,395]
[null,"Less than 10.0 percent",9153,617,401,110,291,103,441,114,213,75,724,195,2924,375,978,207,2238,318,637,157,306,99]
[null,"10.0 to 14.9 percent",24015,846,1137,210,853,177,1179,180,685,116,1806,216,6946,535,2760,313,5836,466,1869,262,944,201]
[null,"15.0 to 19.9 percent",41138,1344,1867,292,1607,252,2290,280,998,163,2543,233,12352,761,4245,314,10230,644,3392,356,1614,219]
[null,"20.0 to 24.9 percent",43964,1276,1705,224,1463,288,2296,260,828,141,2461,259,13921,764,5010,406,11220,660,3579,380,1481,208]
[null,"25.0 to 29.9 percent",37323,1116,1722,260,1068,189,1957,224,819,124,1621,199,11593,680,4675,409,9660,624,3040,334,1168,202]
[null,"30.0 to 34.9 percent",26687,1102,1234,220,924,223,1321,202,557,130,1314,180,8456,550,3124,310,6248,526,2625,303,884,167]
[null,"35.0 to 39.9 percent",19118,950,966,234,753,194,959,218,411,110,1101,172,6005,555,2146,244,4779,475,1436,211,562,119]
[null,"40.0 to 49.9 percent",23455,935,1402,264,1064,222,1284,243,442,100,1060,163,6938,556,2724,307,5829,418,2018,300,694,143]
[null,"50.0 percent or more",35381,1102,2073,301,1560,247,1976,246,804,114,2121,247,9465,539,3664,370,9750,629,2866,319,1102,226]
[null,"Not computed",805,194,94,73,25,33,47,42,13,13,39,36,258,104,91,71,139,75,99,81,0,24]
[null,"Housing units without a mortgage:",110982,1537,6479,328,7010,481,7753,395,4769,223,9603,434,25852,963,11809,490,23391,713,9732,479,4584,290]
[null,"Less than 10.0 percent",26990,992,1851,265,2164,293,1464,225,1078,153,2261,267,6531,550,2619,283,6087,460,1912,289,1023,172]
[null,"10.0 to 14.9 percent",22611,961,1062,165,1437,268,1472,204,1014,144,2056,219,5129,395,2349,271,5079,495,2072,318,941,138]
[null,"15.0 to 19.9 percent",16260,657,931,192,1001,256,1350,231,856,109,1395,178,3853,350,1659,216,2922,371,1493,251,800,143]
[null,"20.0 to 24.9 percent",11230,616,575,171,586,176,935,196,526,93,1110,195,2842,367,1241,219,1874,247,1120,215,421,114]
[null,"25.0 to 29.9 percent",8216,602,491,139,425,164,434,96,331,88,708,164,1671,253,1112,198,1904,273,823,179,317,83]
[null,"30.0 to 34.9 percent",5549,425,433,119,269,96,354,98,275,92,499,108,1144,193,561,114,1314,226,531,151,169,65]
[null,"35.0 to 39.9 percent",3765,399,305,130,174,96,257,81,134,48,316,73,896,209,514,134,791,163,216,86,162,72]
[null,"40.0 to 49.9 percent",4990,470,164,67,282,110,496,136,144,56,360,97,1319,254,433,125,1007,201,510,159,275,134]
[null,"50.0 percent or more",10559,619,592,155,561,176,966,171,359,101,858,168,2309,307,1257,175,2202,266,1022,160,433,107]
[null,"Not computed",812,208,75,64,111,54,25,23,52,50,40,28,158,74,64,33,211,99,33,46,43,28]
[]
[]
[]
[null,"Calculated B25091. MORTGAGE STATUS BY SELECTED MONTHLY OWNER COSTS AS A PERCENTAGE OF HOUSEHOLD INCOME IN THE PAST 12 MONTHS "]
[null,"Universe:  OWNER-OCCUPIED HOUSING UNITS"]
[null,{"$f":"B154","v":"Data Set: 2008-2012 American Community Survey 5-Year Estimates"}]
[]
[null,null,"New Hampshire",null,"Belknap County",null,"Carroll County",null,"Cheshire County",null,"Coos County",null,"Grafton County",null,"Hillsborough County",null,"Merrimack County",null,"Rockingham County",null,"Strafford County",null,"Sullivan County"]
[null," ","Estimate","Margin of Error","Estimate","Margin of Error","Estimate","Margin of Error","Estimate","Margin of Error","Estimate","Margin of Error","Estimate","Margin of Error","Estimate","Margin of Error","Estimate","Margin of Error","Estimate","Margin of Error","Estimate","Margin of Error","Estimate","Margin of Error"]
[null,"Total:",{"$f":"C158","v":372021},{"$f":"D158","v":2148},{"$f":"E158","v":19080},584,16618,522,21503,556,10539,314,24393,589,104710,1010,41226,668,89320,795,31293,680,13339,358]
[null,"Less than 10.0 percent",{"$f":"C160+C171","v":36143},{"$f":"SQRT((D160^2)+(D171^2))","v":1168.2264335307602},{"$f":"E160+E171","v":2252},{"$f":"SQRT((F160^2)+(F171^2))","v":286.92333470807148},{"$f":"G160+G171","v":2455},{"$f":"SQRT((H160^2)+(H171^2))","v":310.57688259109045},{"$f":"I160+I171","v":1905},{"$f":"SQRT((J160^2)+(J171^2))","v":252.23203603031871},{"$f":"K160+K171","v":1291},{"$f":"SQRT((L160^2)+(L171^2))","v":170.39366185395511},{"$f":"M160+M171","v":2985},{"$f":"SQRT((N160^2)+(N171^2))","v":330.62667768950524},{"$f":"O160+O171","v":9455},{"$f":"SQRT((P160^2)+(P171^2))","v":665.67634778471734},{"$f":"Q160+Q171","v":3597},{"$f":"SQRT((R160^2)+(R171^2))","v":350.62515597144483},{"$f":"S160+S171","v":8325},{"$f":"SQRT((T160^2)+(T171^2))","v":559.21731017557033},{"$f":"U160+U171","v":2549},{"$f":"SQRT((V160^2)+(V171^2))","v":328.89207956410263},{"$f":"W160+W171","v":1329},{"$f":"SQRT((X160^2)+(X171^2))","v":198.45654436173174}]
[null,"10.0 to 14.9 percent",{"$f":"C161+C172","v":46626},1280.3269113784963,2199,267.06740722147282,2290,321.17440744866332,2651,272.05881717011124,1699,184.91078930121952,3862,307.59876462690806,12075,665.01879672682935,5109,414.01690786729955,10915,679.83895151719571,3941,412.02912518413063,1885,{"$f":"SQRT((X161^2)+(X172^2))","v":243.81345327934633}]
[null,"15.0 to 19.9 percent",57398,1495.989639001554,2798,349.46816736292305,2608,359.2213802100315,3640,362.98898054899684,1854,196.08671551127577,3938,293.21152774063984,16205,837.62819914327144,5904,381.11940386183437,13152,743.22069400683404,4885,435.58810819396803,2414,261.55305389155751]
[null,"20.0 to 24.9 percent",55194,1416.9093125532065,2280,281.81021982887705,2049,337.52036975566381,3231,325.60098279949955,1354,168.90825912311098,3571,324.20055521235616,16763,847.57595529840273,6251,461.29925211298576,13094,704.70490277846091,4699,436.6062299143245,1902,237.19190542680835]
[null,"25.0 to 29.9 percent",45539,1268.0141955041356,2213,294.82367611845558,1493,250.23389059038345,2391,243.70473938764508,1150,152.05262246998569,2329,257.87012234844116,13264,725.54048818794388,5787,454.4062059435368,11564,681.10571866634621,3863,378.94194806064951,1485,218.38727069131113]
[null,"30.0 to 34.9 percent",32236,1181.1134577169121,1667,250.12197024651792,1193,242.78591392418136,1675,224.51725991557976,832,159.26079241294764,1813,209.91426821443082,9600,582.87991902277781,3685,330.29683619435411,7562,572.49628819757424,3156,338.54098717880527,1053,179.20379460268134]
[null,"35.0 to 39.9 percent",22883,1030.388761584675,1271,267.68638366566199,927,216.45322820415501,1216,232.56181973832247,545,120.01666550941998,1417,186.85020738548835,6901,593.04805876083935,2660,278.37384934652175,5570,502.18920737108635,1652,227.85302280198084,724,139.08630414242805]
[null,"40.0 to 49.9 percent",28445,1046.4822024286891,1566,272.3692346796899,1346,247.7579463912308,1780,278.46902879853621,586,114.61239025515522,1420,189.67867565965344,8257,611.27080741681095,3157,331.47247246189238,6836,463.81569615527241,2528,339.53055827126957,969,195.97193676646665]
[null,"50.0 percent or more",{"$f":"C168+C179","v":45940},1263.9481793174909,2665,338.56461717078469,2121,303.29028998634294,2942,299.59472625531981,1163,152.30561381643159,2979,298.71893143890293,11774,620.29831532900357,4921,409.29817981515629,11952,682.93264675222554,3888,356.87672941787616,1535,250.04999500099976]
[null,"Not computed",{"$f":"C169+C180","v":1617},284.42925306655786,169,97.082439194738001,136,63.28506932918696,72,47.885279575251516,65,51.662365412357957,79,45.607017003965517,416,127.6401190848708,155,78.294316524253531,350,124.20144926690671,132,93.150415994776964,43,36.878177829171548]
[]
[]
[]
[]
[null,"Calculated MONTHLY OWNER COSTS AS A PERCENTAGE OF HOUSEHOLD INCOME IN THE PAST 12 MONTHS "]
[null,"Universe:  OWNER-OCCUPIED HOUSING UNITS"]
[null,{"$f":"B154","v":"Data Set: 2008-2012 American Community Survey 5-Year Estimates"}]
[null,null,"New Hampshire",null,"Belknap County",null,"Carroll County",null,"Cheshire County",null,"Coos County",null,"Grafton County",null,"Hillsborough County",null,"Merrimack County",null,"Rockingham County",null,"Strafford County",null,"Sullivan County"]
[null," ","Estimate","Margin of Error","Estimate","Margin of Error","Estimate","Margin of Error","Estimate","Margin of Error","Estimate","Margin of Error","Estimate","Margin of Error","Estimate","Margin of Error","Estimate","Margin of Error","Estimate","Margin of Error","Estimate","Margin of Error","Estimate","Margin of Error"]
[null,"Total:",{"$f":"C190","v":372021},{"$f":"D190","v":2148},19080,584,16618,522,21503,556,10539,314,24393,589,104710,1010,41226,668,89320,795,31293,680,13339,358]
[null,"Less than 20% of HH Income",{"$f":"C191+C192+C193","v":140167},{"$f":"SQRT((D191^2)+(D192^2)+(D193^2))","v":2289.5359791887963},{"$f":"E191+E192+E193","v":7249},{"$f":"SQRT((F191^2)+(F192^2)+(F193^2))","v":525.14569406975056},{"$f":"G191+G192+G193","v":7353},{"$f":"SQRT((H191^2)+(H192^2)+(H193^2))","v":573.28090845588076},{"$f":"I191+I192+I193","v":8196},{"$f":"SQRT((J191^2)+(J192^2)+(J193^2))","v":519.0356442480612},{"$f":"K191+K192+K193","v":4844},{"$f":"SQRT((L191^2)+(L192^2)+(L193^2))","v":318.86674332705189},{"$f":"M191+M192+M193","v":10785},{"$f":"SQRT((N191^2)+(N192^2)+(N193^2))","v":538.427339573317},{"$f":"O191+O192+O193","v":37735},{"$f":"SQRT((P191^2)+(P192^2)+(P193^2))","v":1259.7602946592658},{"$f":"Q191+Q192+Q193","v":14610},{"$f":"SQRT((R191^2)+(R192^2)+(R193^2))","v":663.02337817003104},{"$f":"S191+S192+S193","v":32392},{"$f":"SQRT((T191^2)+(T192^2)+(T193^2))","v":1152.0772543540645},{"$f":"U191+U192+U193","v":11375},{"$f":"SQRT((V191^2)+(V192^2)+(V193^2))","v":683.86767725927803},{"$f":"W191+W192+W193","v":5628},{"$f":"SQRT((X191^2)+(X192^2)+(X193^2))","v":408.9498746790369}]
[null," 20% to 29.9% of HH Income",{"$f":"C194+C195","v":100733},{"$f":"SQRT((D194^2)+(D195^2))","v":1901.4447138952005},{"$f":"E194+E195","v":4493},{"$f":"SQRT((F194^2)+(F195^2))","v":407.84555900487624},{"$f":"G194+G195","v":3542},{"$f":"SQRT((H194^2)+(H195^2))","v":420.16306358365199},{"$f":"I194+I195","v":5622},{"$f":"SQRT((J194^2)+(J195^2))","v":406.70382343912138},{"$f":"K194+K195","v":2504},{"$f":"SQRT((L194^2)+(L195^2))","v":227.26636354727023},{"$f":"M194+M195","v":5900},{"$f":"SQRT((N194^2)+(N195^2))","v":414.24992456245542},{"$f":"O194+O195","v":30027},{"$f":"SQRT((P194^2)+(P195^2))","v":1115.7033655949954},{"$f":"Q194+Q195","v":12038},{"$f":"SQRT((R194^2)+(R195^2))","v":647.51988386458061},{"$f":"S194+S195","v":24658},{"$f":"SQRT((T194^2)+(T195^2))","v":980.05816153940577},{"$f":"U194+U195","v":8562},{"$f":"SQRT((V194^2)+(V195^2))","v":578.11936483740101},{"$f":"W194+W195","v":3387},{"$f":"SQRT((X194^2)+(X195^2))","v":322.41743129055538}]
[null," Less Than 30% of HH Income",{"$f":"C191+C192+C193+C194+C195","v":240900},{"$f":"SQRT((D191^2)+(D192^2)+(D193^2)+(D194^2)+(D195^2))","v":2976.1496938158202},{"$f":"E191+E192+E193+E194+E195","v":11742},{"$f":"SQRT((F191^2)+(F192^2)+(F193^2)+(F194^2)+(F195^2))","v":664.91804006208167},{"$f":"G191+G192+G193+G194+G195","v":10895},{"$f":"SQRT((H191^2)+(H192^2)+(H193^2)+(H194^2)+(H195^2))","v":710.76578420742794},{"$f":"I191+I192+I193+I194+I195","v":13818},{"$f":"SQRT((J191^2)+(J192^2)+(J193^2)+(J194^2)+(J195^2))","v":659.39821049196064},{"$f":"K191+K192+K193+K194+K195","v":7348},{"$f":"SQRT((L191^2)+(L192^2)+(L193^2)+(L194^2)+(L195^2))","v":391.5686402152246},{"$f":"M191+M192+M193+M194+M195","v":16685},{"$f":"SQRT((N191^2)+(N192^2)+(N193^2)+(N194^2)+(N195^2))","v":679.34306502679487},{"$f":"O191+O192+O193+O194+O195","v":67762},{"$f":"SQRT((P191^2)+(P192^2)+(P193^2)+(P194^2)+(P195^2))","v":1682.7923223024284},{"$f":"Q191+Q192+Q193+Q194+Q195","v":26648},{"$f":"SQRT((R191^2)+(R192^2)+(R193^2)+(R194^2)+(R195^2))","v":926.75886831473053},{"$f":"S191+S192+S193+S194+S195","v":57050},{"$f":"SQRT((T191^2)+(T192^2)+(T193^2)+(T194^2)+(T195^2))","v":1512.5461976415795},{"$f":"U191+U192+U193+U194+U195","v":19937},{"$f":"SQRT((V191^2)+(V192^2)+(V193^2)+(V194^2)+(V195^2))","v":895.4870183313659},{"$f":"W191+W192+W193+W194+W195","v":9015},{"$f":"SQRT((X191^2)+(X192^2)+(X193^2)+(X194^2)+(X195^2))","v":520.76194177378204}]
[null," 30% or More of HH Income",{"$f":"C196+C197+C198+C199","v":129504},{"$f":"SQRT((D196^2)+(D197^2)+(D198^2)+(D199^2))","v":2269.2333507156113},{"$f":"E196+E197+E198+E199","v":7169},{"$f":"SQRT((F196^2)+(F197^2)+(F198^2)+(F199^2))","v":568.35552253848994},{"$f":"G196+G197+G198+G199","v":5587},{"$f":"SQRT((H196^2)+(H197^2)+(H198^2)+(H199^2))","v":509.08349020568323},{"$f":"I196+I197+I198+I199","v":7613},{"$f":"SQRT((J196^2)+(J197^2)+(J198^2)+(J199^2))","v":521.33962059294902},{"$f":"K196+K197+K198+K199","v":3126},{"$f":"SQRT((L196^2)+(L197^2)+(L198^2)+(L199^2))","v":275.86409697530411},{"$f":"M196+M197+M198+M199","v":7629},{"$f":"SQRT((N196^2)+(N197^2)+(N198^2)+(N199^2))","v":451.87166319653193},{"$f":"O196+O197+O198+O199","v":36532},{"$f":"SQRT((P196^2)+(P197^2)+(P198^2)+(P199^2))","v":1204.1083838259744},{"$f":"Q196+Q197+Q198+Q199","v":14423},{"$f":"SQRT((R196^2)+(R197^2)+(R198^2)+(R199^2))","v":681.16591224165052},{"$f":"S196+S197+S198+S199","v":31920},{"$f":"SQRT((T196^2)+(T197^2)+(T198^2)+(T199^2))","v":1123.1509248538239},{"$f":"U196+U197+U198+U199","v":11224},{"$f":"SQRT((V196^2)+(V197^2)+(V198^2)+(V199^2))","v":639.66319262561922},{"$f":"W196+W197+W198+W199","v":4281},{"$f":"SQRT((X196^2)+(X197^2)+(X198^2)+(X199^2))","v":390.37033698784029}]
[null," 30% to 34.9% of HH Income",{"$f":"C196","v":32236},{"$f":"D196","v":1181.1134577169121},{"$f":"E196","v":1667},250.12197024651792,1193,242.78591392418136,1675,224.51725991557976,832,159.26079241294764,1813,209.91426821443082,9600,582.87991902277781,3685,330.29683619435411,7562,572.49628819757424,3156,338.54098717880527,1053,179.20379460268134]
[null," Less Than 35% of HH Income",{"$f":"C191+C192+C193+C194+C195+C196","v":273136},{"$f":"SQRT((D191^2)+(D192^2)+(D193^2)+(D194^2)+(D195^2)+(D196^2))","v":3201.9519046981327},{"$f":"E191+E192+E193+E194+E195+E196","v":13409},{"$f":"SQRT((F191^2)+(F192^2)+(F193^2)+(F194^2)+(F195^2)+(F196^2))","v":710.40622181960089},{"$f":"G191+G192+G193+G194+G195+G196","v":12088},{"$f":"SQRT((H191^2)+(H192^2)+(H193^2)+(H194^2)+(H195^2)+(H196^2))","v":751.0878776814335},{"$f":"I191+I192+I193+I194+I195+I196","v":15493},{"$f":"SQRT((J191^2)+(J192^2)+(J193^2)+(J194^2)+(J195^2)+(J196^2))","v":696.57303996063467},{"$f":"K191+K192+K193+K194+K195+K196","v":8180},{"$f":"SQRT((L191^2)+(L192^2)+(L193^2)+(L194^2)+(L195^2)+(L196^2))","v":422.71739968920133},{"$f":"M191+M192+M193+M194+M195+M196","v":18498},{"$f":"SQRT((N191^2)+(N192^2)+(N193^2)+(N194^2)+(N195^2)+(N196^2))","v":711.03516087462231},{"$f":"O191+O192+O193+O194+O195+O196","v":77362},{"$f":"SQRT((P191^2)+(P192^2)+(P193^2)+(P194^2)+(P195^2)+(P196^2))","v":1780.8815232912043},{"$f":"Q191+Q192+Q193+Q194+Q195+Q196","v":30333},{"$f":"SQRT((R191^2)+(R192^2)+(R193^2)+(R194^2)+(R195^2)+(R196^2))","v":983.85872969649461},{"$f":"S191+S192+S193+S194+S195+S196","v":64612},{"$f":"SQRT((T191^2)+(T192^2)+(T193^2)+(T194^2)+(T195^2)+(T196^2))","v":1617.2655935250709},{"$f":"U191+U192+U193+U194+U195+U196","v":23093},{"$f":"SQRT((V191^2)+(V192^2)+(V193^2)+(V194^2)+(V195^2)+(V196^2))","v":957.34372092785986},{"$f":"W191+W192+W193+W194+W195+W196","v":10068},{"$f":"SQRT((X191^2)+(X192^2)+(X193^2)+(X194^2)+(X195^2)+(X196^2))","v":550.73314772219771}]
[null," 35% or More of HH Income",{"$f":"C197+C198+C199","v":97268},{"$f":"SQRT((D197^2)+(D198^2)+(D199^2))","v":1937.6250927359504},{"$f":"E197+E198+E199","v":5502},{"$f":"SQRT((F197^2)+(F198^2)+(F199^2))","v":510.35967709057888},{"$f":"G197+G198+G199","v":4394},{"$f":"SQRT((H197^2)+(H198^2)+(H199^2))","v":447.46061279178531},{"$f":"I197+I198+I199","v":5938},{"$f":"SQRT((J197^2)+(J198^2)+(J199^2))","v":470.51779987583893},{"$f":"K197+K198+K199","v":2294},{"$f":"SQRT((L197^2)+(L198^2)+(L199^2))","v":225.24875138388668},{"$f":"M197+M198+M199","v":5816},{"$f":"SQRT((N197^2)+(N198^2)+(N199^2))","v":400.15496998038145},{"$f":"O197+O198+O199","v":26932},{"$f":"SQRT((P197^2)+(P198^2)+(P199^2))","v":1053.6261196458638},{"$f":"Q197+Q198+Q199","v":10738},{"$f":"SQRT((R197^2)+(R198^2)+(R199^2))","v":595.72728660016912},{"$f":"S197+S198+S199","v":24358},{"$f":"SQRT((T197^2)+(T198^2)+(T199^2))","v":966.28981159898399},{"$f":"U197+U198+U199","v":8068},{"$f":"SQRT((V197^2)+(V198^2)+(V199^2))","v":542.73289931604484},{"$f":"W197+W198+W199","v":3228},{"$f":"SQRT((X197^2)+(X198^2)+(X199^2))","v":346.80686267719676}]
[null," 50% or More of HH Income",{"$f":"C199","v":45940},{"$f":"D199","v":1263.9481793174909},{"$f":"E199","v":2665},338.56461717078469,2121,303.29028998634294,2942,299.59472625531981,1163,152.30561381643159,2979,298.71893143890293,11774,620.29831532900357,4921,409.29817981515629,11952,682.93264675222554,3888,356.87672941787616,1535,250.04999500099976]
[null,"Not computed",{"$f":"C200","v":1617},{"$f":"D200","v":284.42925306655786},{"$f":"E200","v":169},97.082439194738001,136,63.28506932918696,72,47.885279575251516,65,51.662365412357957,79,45.607017003965517,416,127.6401190848708,155,78.294316524253531,350,124.20144926690671,132,93.150415994776964,43,36.878177829171548]

{"sheet":"ACS_Table_B25106","index":71,"n_rows":255,"n_cols":24,"rows_kept":255,"cut":false,"hidden":true,"merged":[]}
[null,"B25106. TENURE BY HOUSING COSTS AS A PERCENTAGE OF HOUSEHOLD INCOME IN THE PAST 12 MONTHS"]
[null,"Universe:  OCCUPIED HOUSING UNITS"]
[null,"Data Set: 2018-2022 American Community Survey 5-Year Estimates"]
[]
[null,null,"New Hampshire",null,"Belknap County",null,"Carroll County",null,"Cheshire County",null,"Coos County",null,"Grafton County",null,"Hillsborough County",null,"Merrimack County",null,"Rockingham County",null,"Strafford County",null,"Sullivan County"]
[null,null,"Estimate","Margin of Error","Estimate","Margin of Error","Estimate","Margin of Error","Estimate","Margin of Error","Estimate","Margin of Error","Estimate","Margin of Error","Estimate","Margin of Error","Estimate","Margin of Error","Estimate","Margin of Error","Estimate","Margin of Error","Estimate","Margin of Error"]
[null,"Total:",545116,1916,25956,632,21644,671,30307,459,13620,292,35084,684,166344,838,59851,448,125464,710,50953,591,15893,458]
[null,"Owner occupied housing units:",393945,2574,20011,643,17650,585,21422,534,9962,337,24776,629,111661,1241,44153,622,98479,1164,34187,889,11644,493]
[null,"Less than $20,000:",17589,938,1283,324,1519,306,1155,203,786,136,1861,351,3372,353,1695,272,3794,499,1536,304,588,185]
[null,"Less than 20 percent",739,268,19,30,53,37,3,4,41,29,130,101,62,68,47,38,217,170,150,105,17,19]
[null,"20 to 29 percent",601,192,25,47,15,12,60,42,65,34,79,60,127,125,36,26,95,80,29,41,70,93]
[null,"30 percent or more",16249,932,1239,317,1451,299,1092,199,680,127,1652,342,3183,332,1612,261,3482,503,1357,282,501,163]
[null,"$20,000 to $34,999:",25121,1411,1794,300,1827,336,1554,229,1104,138,1964,294,5761,599,3260,517,4341,586,2532,446,984,190]
[null,"Less than 20 percent",2524,402,305,220,348,144,121,62,174,55,299,107,304,140,329,122,300,147,247,91,97,85]
[null,"20 to 29 percent",4311,752,381,169,320,196,274,131,424,100,466,158,783,368,817,372,255,109,431,150,160,71]
[null,"30 percent or more",18286,1147,1108,220,1159,237,1159,186,506,105,1199,239,4674,542,2114,280,3786,551,1854,399,727,174]
[null,"$35,000 to $49,999:",28037,1147,1721,273,1807,367,1852,310,1625,202,1966,248,7284,627,3013,317,5094,523,2469,421,1206,231]
[null,"Less than 20 percent",5198,550,384,160,610,217,402,170,589,127,442,116,1065,206,435,164,585,167,462,180,224,90]
[null,"20 to 29 percent",7680,554,461,143,313,84,514,137,553,125,576,146,1835,307,905,165,1251,265,904,317,368,164]
[null,"30 percent or more",15159,868,876,189,884,263,936,187,483,104,948,171,4384,498,1673,236,3258,437,1103,226,614,167]
[null,"$50,000 to $74,999:",53293,1581,2880,412,2657,367,3740,455,1934,251,3680,332,14401,921,6200,549,11068,743,4838,530,1895,279]
[null,"Less than 20 percent",16123,909,916,225,1108,250,1219,276,1219,202,1286,171,3439,405,1948,348,2552,323,1546,301,890,210]
[null,"20 to 29 percent",14338,818,850,227,569,160,1216,308,417,111,1120,214,3784,508,1660,242,3333,478,986,212,403,118]
[null,"30 percent or more",22832,1152,1114,242,980,237,1305,201,298,75,1274,219,7178,671,2592,330,5183,590,2306,389,602,172]
[null,"$75,000 or more:",267991,2713,12290,622,9791,663,12993,560,4489,305,15172,550,80539,1380,29833,703,73575,1419,22667,842,6642,429]
[null,"Less than 20 percent",174137,2452,8599,583,7587,631,9133,508,3674,284,10696,581,51544,1414,19190,706,44718,1297,14437,752,4559,418]
[null,"20 to 29 percent",68130,1937,2779,415,1477,243,3109,369,626,143,3295,418,21459,1074,7870,549,20085,1028,5845,578,1585,258]
[null,"30 percent or more",25724,1216,912,194,727,174,751,194,189,74,1181,249,7536,637,2773,342,8772,787,2385,429,498,141]
[null,"Zero or negative income",1914,337,43,35,49,34,128,91,24,19,133,63,304,120,152,78,607,205,145,77,329,177]
[null,"Renter occupied housing units:",151171,2381,5945,621,3994,494,8885,508,3658,298,10308,707,54683,1409,15698,635,26985,1102,16766,770,4249,483]
[null,"Less than $20,000:",23522,1362,912,248,685,282,1741,323,858,168,1807,358,7712,751,2915,394,3124,524,2690,451,1078,232]
[null,"Less than 20 percent",755,260,0,28,36,43,79,86,21,18,54,37,259,173,86,71,65,46,90,100,65,59]
[null,"20 to 29 percent",3616,551,202,110,49,61,415,154,156,59,227,161,1121,274,581,185,243,103,521,232,101,73]
[null,"30 percent or more",19151,1065,710,206,600,259,1247,253,681,166,1526,326,6332,638,2248,385,2816,530,2079,386,912,213]
[null,"$20,000 to $34,999:",22120,1183,1081,303,546,203,1562,302,1060,233,1688,301,6791,598,2607,393,3448,419,2437,488,900,239]
[null,"Less than 20 percent",1066,214,58,64,3,5,35,33,138,81,53,39,322,141,153,88,170,100,80,52,54,54]
[null,"20 to 29 percent",2572,395,151,87,94,87,165,84,248,84,251,86,481,144,308,127,381,150,386,251,107,57]
[null,"30 percent or more",18482,1115,872,252,449,198,1362,289,674,211,1384,301,5988,587,2146,361,2897,408,1971,401,739,225]
[null,"$35,000 to $49,999:",20482,1168,880,296,525,188,1100,240,430,124,1062,218,8359,729,2099,317,3268,454,2215,375,544,180]
[null,"Less than 20 percent",1055,281,33,50,34,35,37,43,66,46,88,92,362,137,198,103,103,68,107,68,27,31]
[null,"20 to 29 percent",4439,576,356,203,81,78,379,148,246,93,326,123,1313,303,627,221,618,211,323,154,170,96]
[null,"30 percent or more",14988,964,491,212,410,176,684,186,118,65,648,162,6684,632,1274,286,2547,408,1785,369,347,154]
[null,"$50,000 to $74,999:",27886,1408,1145,235,560,159,1646,286,569,136,1750,361,10240,879,2919,368,5301,633,3172,464,584,202]
[null,"Less than 20 percent",4131,500,238,133,141,94,365,145,226,112,426,213,988,272,592,203,493,195,555,180,107,100]
[null,"20 to 29 percent",12687,916,627,212,244,104,841,185,279,79,733,206,4310,541,1599,267,2457,439,1265,307,332,162]
[null,"30 percent or more",11068,903,280,129,175,99,440,163,64,46,591,157,4942,589,728,200,2351,418,1352,370,145,86]
[null,"$75,000 or more:",49298,1678,1262,355,1169,298,2307,345,407,93,3156,388,19864,1144,4460,440,10230,651,5540,562,903,268]
[null,"Less than 20 percent",29992,1405,929,311,960,280,1597,310,372,95,1837,261,11420,934,2992,379,5332,508,3898,541,655,190]
[null,"20 to 29 percent",15907,962,301,127,185,87,693,200,35,29,1153,254,6935,685,1289,225,3692,485,1404,275,220,152]
[null,"30 percent or more",3399,519,32,35,24,30,17,28,0,25,166,72,1509,374,179,95,1206,299,238,101,28,28]
[null,"Zero or negative income",1874,316,95,64,42,54,78,88,85,50,280,131,425,143,241,97,240,101,229,118,159,97]
[null,"No cash rent",5989,689,570,234,467,145,451,104,249,79,565,132,1292,312,457,149,1374,351,483,171,81,49]
[]
[]
[]
[]
[]
[]
[null,"Calculated B25106. TENURE BY HOUSING COSTS AS A PERCENTAGE OF HOUSEHOLD INCOME IN THE PAST 12 MONTHS"]
[null,"Universe:  OCCUPIED HOUSING UNITS"]
[null,"Data Set: 2018-2022 American Community Survey 5-Year Estimates"]
[]
[null,null,"New Hampshire",null,"Belknap County",null,"Carroll County",null,"Cheshire County",null,"Coos County",null,"Grafton County",null,"Hillsborough County",null,"Merrimack County",null,"Rockingham County",null,"Strafford County",null,"Sullivan County"]
[null,null,"Estimate","Margin of Error","Estimate","Margin of Error","Estimate","Margin of Error","Estimate","Margin of Error","Estimate","Margin of Error","Estimate","Margin of Error","Estimate","Margin of Error","Estimate","Margin of Error","Estimate","Margin of Error","Estimate","Margin of Error","Estimate","Margin of Error"]
[null,{"$f":"B7","v":"Total:"},545116,1916,25956,632,21644,671,30307,459,13620,292,35084,684,166344,838,59851,448,125464,710,50953,591,15893,458]
[null,"Owner occupied housing units:",393945,2574,20011,643,17650,585,21422,534,9962,337,24776,629,111661,1241,44153,622,98479,1164,34187,889,11644,493]
[null,"Less than 20 percent",{"$f":"C10+C14+C18+C22+C26","v":198721},{"$f":"SQRT((D10^2)+(D14^2)+(D18^2)+(D22^2)+(D26^2))","v":2715.6054573520064},{"$f":"SQRT((E10^2)+(E14^2)+(E18^2)+(E22^2)+(E26^2))","v":8661.564466076552},682.21257684097259,7699.7562299075416,727.91139570692258,9223.5515936107822,605.80524923443841,3919.5809725020354,376.10503851982628,10787.023546836263,633.96214398022221,51670.505532653733,1493.3455728665083,19296.385127790127,814.10318756285437,44796.110791005063,1365.6265961089071,14529.763865940837,841.31504206212787,4651.5002956035596,484.26232560462518]
[null,"20 to 29 percent",{"$f":"C11+C15+C19+C23+C27","v":95060},{"$f":"SQRT((D11^2)+(D15^2)+(D19^2)+(D23^2)+(D27^2))","v":2308.760923092731},2967.094201403117,524.37867996324951,1644.9571422988504,360.92242933904788,3389.3080414739525,518.38113391596346,1027.4117967008165,244.03073576908298,3559.0164371635037,520,21881.585408740382,1287.1821937861012,8135.1281489599169,725.43090642734546,20399.881494753838,1172.0810552175988,6011.6585897737077,709.71684494592625,1685.3955025453224,347.9568938819865]
[null,"30 percent or more",{"$f":"C12+C16+C20+C24+C28","v":98250},{"$f":"SQRT((D12^2)+(D16^2)+(D20^2)+(D24^2)+(D28^2))","v":2396.5427181671516},2367.0447820013883,529.91508753761673,2391.4570872169124,548.80233235655987,2383.0373475881574,432.66961991801548,1037.4246960623213,221.51975081242756,2843.1049927851768,559.72135924940369,12629.813973293511,1228.0073289683576,4926.9120146395953,654.27899247950791,11869.463214484469,1309.598411727809,4183.4477407994473,790.67249857320826,1329.2606967784761,366.33181680001536]
[null,"Zero or negative income",{"$f":"C29","v":1914},{"$f":"D29","v":337},{"$f":"E29","v":43},35,49,34,128,91,24,19,133,63,304,120,152,78,607,205,145,77,329,177]
[null,"Renter occupied housing units:",{"$f":"C30","v":151171},{"$f":"D30","v":2381},5945,621,3994,494,8885,508,3658,298,10308,707,54683,1409,15698,635,26985,1102,16766,770,4249,483]
[null,"Less than 20 percent",{"$f":"C32+C36+C40+C44+C48","v":36999},{"$f":"SQRT((D32^2)+(D36^2)+(D40^2)+(D44^2)+(D48^2))","v":1554.4716144079312},{"$f":"SQRT((E32^2)+(E36^2)+(E40^2)+(E44^2)+(E48^2))","v":961.32096617102866},348.98424033185222,971.56677588316074,300.55781473786368,1640.8744619866566,357.01400532752211,461.8452121652881,174.84278652549551,1889.3157491536454,353.33270440195599,11475.816005844639,1007.4318835534242,3061.4599458428329,456.3375943312144,5358.8251510942209,559.31118351057489,3940.6062985281847,585.15724382425617,669.58494606733802,231.20986138138659]
[null,"20 to 29 percent",{"$f":"C33+C37+C41+C45+C49","v":39221},{"$f":"SQRT((D33^2)+(D37^2)+(D41^2)+(D45^2)+(D49^2))","v":1598.7188620892668},821.01827019866005,349.21483359101455,334.00449098777102,189.10050237902595,1237.1826865907881,356.23166619490752,474.78626770368999,162.07405714672538,1444.8197119364063,394.2055301489313,8359.5631464808012,974.43676039032925,2245.8575199687089,470.22228785968878,4500.4274241454004,711.03867686645572,2023.9088418206982,557.14899264020926,457.35544164249319,259.11773385856861]
[null,"30 percent or more",{"$f":"C34+C38+C42+C46+C50","v":67088},{"$f":"SQRT((D34^2)+(D38^2)+(D42^2)+(D46^2)+(D50^2))","v":2095.5944264098434},1258.963462535748,410.79191812887461,872.29696778104187,384.65828991456817,2017.869668734827,457.68875887441237,967.50038759682161,281.1458696121997,2245.1888561989613,502.94532506028924,12137.819779515594,1279.7788871519954,3441.499818393138,639.81794285562205,5458.1417167383988,936.99146207422825,3643.8791143505296,770.10323983216688,1232.9164610791763,357.61711368445441]
[null,"Zero or negative income",{"$f":"C51","v":1874},{"$f":"D51","v":316},{"$f":"E51","v":95},64,42,54,78,88,85,50,280,131,425,143,241,97,240,101,229,118,159,97]
[null,"No cash rent",{"$f":"C52","v":5989},{"$f":"D52","v":689},570,234,467,145,451,104,249,79,565,132,1292,312,457,149,1374,351,483,171,81,49]
[]
[]
[]
[]
[]
[]
[]
[]
[]
[]
[]
[]
[]
[]
[]
[]
[]
[]
[]
[]
[]
[]
[]
[null,"B25106. TENURE BY HOUSING COSTS AS A PERCENTAGE OF HOUSEHOLD INCOME IN THE PAST 12 MONTHS"]
[null,"Universe:  OCCUPIED HOUSING UNITS"]
[null,"Data Set: 2013-2017 American Community Survey 5-Year Estimates"]
[]
[null,null,"New Hampshire",null,"Belknap County",null,"Carroll County",null,"Cheshire County",null,"Coos County",null,"Grafton County",null,"Hillsborough County",null,"Merrimack County",null,"Rockingham County",null,"Strafford County",null,"Sullivan County"]
[null,null,"Estimate","Margin of Error","Estimate","Margin of Error","Estimate","Margin of Error","Estimate","Margin of Error","Estimate","Margin of Error","Estimate","Margin of Error","Estimate","Margin of Error","Estimate","Margin of Error","Estimate","Margin of Error","Estimate","Margin of Error","Estimate","Margin of Error"]
[null,"Total:",526710,2332,24579,676,21203,654,30529,470,13879,324,34856,606,158139,795,57247,533,119955,768,48543,627,17780,377]
[null,"Owner occupied housing units:",372304,2503,18619,570,16870,580,21453,535,9882,234,23802,583,104138,1144,40616,598,92025,1019,31845,665,13054,429]
[null,"Less than $20,000:",20982,891,1446,261,1584,262,1691,262,1155,128,1736,203,4526,427,1928,261,4079,409,1812,320,1025,180]
[null,"Less than 20 percent",835,204,96,99,162,86,79,55,56,25,116,57,105,58,69,43,55,38,74,85,23,25]
[null,"20 to 29 percent",1203,217,61,44,205,91,95,77,165,73,68,32,287,109,56,32,132,58,44,36,90,54]
[null,"30 percent or more",18944,834,1289,245,1217,228,1517,246,934,107,1552,197,4134,418,1803,254,3892,424,1694,334,912,178]
[null,"$20,000 to $34,999:",32859,1176,1846,282,2408,328,2363,288,1627,160,2707,287,7684,564,3625,344,5941,468,2947,334,1711,194]
[null,"Less than 20 percent",3464,298,232,73,361,126,207,99,412,96,388,111,487,160,345,107,411,121,344,108,277,101]
[null,"20 to 29 percent",6996,474,459,111,681,201,401,99,512,110,773,180,1367,276,653,137,1145,218,706,167,299,100]
[null,"30 percent or more",22399,1014,1155,233,1366,224,1755,244,703,113,1546,191,5830,459,2627,268,4385,412,1897,326,1135,170]
[null,"$35,000 to $49,999:",35858,1201,2152,276,1927,275,2637,289,1587,173,2895,267,8704,579,4248,351,6998,528,3155,352,1555,217]
[null,"Less than 20 percent",8786,563,678,181,675,170,699,164,767,125,1025,162,1500,238,1028,170,1265,222,719,178,430,132]
[null,"20 to 29 percent",9279,617,477,128,428,129,738,146,462,97,670,120,2286,280,1204,197,1857,244,703,181,454,117]
[null,"30 percent or more",17793,829,997,207,824,176,1200,189,358,71,1200,166,4918,435,2016,232,3876,452,1733,274,671,141]
[null,"$50,000 to $74,999:",65247,1423,3415,341,3727,412,4010,344,2285,229,4632,423,16646,813,7311,470,14931,853,5619,448,2671,240]
[null,"Less than 20 percent",22741,801,1172,204,1656,253,1527,232,1346,188,1937,238,5107,522,2559,244,4136,397,2211,291,1090,174]
[null,"20 to 29 percent",20020,874,1113,220,1440,330,1451,215,636,132,1545,266,4762,403,2186,245,4518,470,1632,251,737,165]
[null,"30 percent or more",22486,903,1130,191,631,171,1032,159,303,82,1150,253,6777,463,2566,365,6277,568,1776,272,844,189]
[null,"$75,000 or more:",215630,2487,9631,450,7114,498,10687,503,3203,192,11775,547,65984,1056,23279,562,59731,949,18238,725,5988,328]
[null,"Less than 20 percent",136160,2366,6363,493,5505,456,7000,426,2692,195,8483,524,40483,1040,14866,555,35299,907,11440,629,4029,269]
[null,"20 to 29 percent",61292,1594,2550,312,1295,276,3012,290,419,66,2548,244,19910,942,6497,424,17976,831,5537,523,1548,249]
[null,"30 percent or more",18178,760,718,181,314,114,675,159,92,35,744,157,5591,488,1916,229,6456,520,1261,216,411,129]
[null,"Zero or negative income",1728,306,129,71,110,65,65,31,25,19,57,28,594,219,225,86,345,114,74,47,104,73]
[null,"Renter occupied housing units:",154406,2224,5960,463,4333,508,9076,507,3997,319,11054,551,54001,1074,16631,512,27930,1001,16698,721,4726,347]
[null,"Less than $20,000:",32274,1058,1476,234,1072,225,2370,263,1298,211,2584,398,10592,691,3740,334,4309,462,3750,532,1083,248]
[null,"Less than 20 percent",1081,232,67,57,36,33,87,55,30,28,174,111,212,106,169,112,175,121,93,92,38,35]
[null,"20 to 29 percent",4084,381,228,74,105,72,368,123,304,101,289,106,1235,209,409,133,527,186,483,145,136,86]
[null,"30 percent or more",27109,1002,1181,217,931,217,1915,266,964,188,2121,378,9145,688,3162,341,3607,473,3174,478,909,222]
[null,"$20,000 to $34,999:",29199,1289,1176,231,796,265,2039,347,1025,159,2355,362,9433,597,3383,354,4818,509,3205,402,969,219]
[null,"Less than 20 percent",1398,293,72,55,37,51,171,102,80,47,154,87,286,111,241,118,139,78,170,119,48,48]
[null,"20 to 29 percent",4287,537,129,75,232,116,252,94,371,125,500,157,1218,265,483,153,579,199,432,147,91,51]
[null,"30 percent or more",23514,1029,975,200,527,197,1616,320,574,130,1701,322,7929,517,2659,296,4100,494,2603,389,830,201]
[null,"$35,000 to $49,999:",24006,1087,864,247,775,207,1208,219,552,138,1576,305,8549,716,2343,303,4550,433,2848,477,741,211]
[null,"Less than 20 percent",2165,282,68,61,103,66,135,80,138,48,350,151,331,130,224,110,285,150,426,188,105,63]
[null,"20 to 29 percent",9490,765,469,201,273,125,673,176,347,96,653,192,3004,379,1114,199,1475,263,1121,277,361,151]
[null,"30 percent or more",12351,871,327,111,399,165,400,122,67,57,573,163,5214,596,1005,222,2790,357,1301,286,275,134]
[null,"$50,000 to $74,999:",28559,1237,1064,270,654,202,1907,316,418,122,1772,275,10006,658,3075,410,5681,524,3080,364,902,223]
[null,"Less than 20 percent",8834,767,424,177,284,133,663,208,288,95,682,174,2666,410,829,225,1480,301,1069,254,449,185]
[null,"20 to 29 percent",14696,907,535,174,298,130,978,227,118,60,760,185,5431,522,1710,292,2824,374,1631,289,411,141]
[null,"30 percent or more",5029,480,105,59,72,62,266,105,12,10,330,96,1909,335,536,128,1377,297,380,165,42,34]
[null,"$75,000 or more:",32517,1350,982,249,571,160,986,233,364,107,2045,344,13363,789,3070,341,7200,564,3253,395,683,188]
[null,"Less than 20 percent",23792,1260,785,220,392,137,725,178,357,108,1510,294,9814,698,2428,319,4942,495,2249,369,590,177]
[null,"20 to 29 percent",7934,600,174,94,179,75,251,114,7,10,430,151,3332,411,642,178,1941,316,912,198,66,39]
[null,"30 percent or more",791,197,23,20,0,24,10,12,0,24,105,68,217,90,0,27,317,124,92,61,27,36]
[null,"Zero or negative income",1764,292,83,62,39,46,60,39,50,47,235,137,672,145,150,90,149,65,199,134,127,100]
[null,"No cash rent",6087,562,315,104,426,129,506,116,290,70,487,126,1386,211,870,193,1223,273,363,121,221,91]
[]
[]
[]
[]
[]
[]
[null,"Calculated B25106. TENURE BY HOUSING COSTS AS A PERCENTAGE OF HOUSEHOLD INCOME IN THE PAST 12 MONTHS"]
[null,"Universe:  OCCUPIED HOUSING UNITS"]
[null,{"$f":"B102","v":"Data Set: 2013-2017 American Community Survey 5-Year Estimates"}]
[]
[null,null,"New Hampshire",null,"Belknap County",null,"Carroll County",null,"Cheshire County",null,"Coos County",null,"Grafton County",null,"Hillsborough County",null,"Merrimack County",null,"Rockingham County",null,"Strafford County",null,"Sullivan County"]
[null,null,"Estimate","Margin of Error","Estimate","Margin of Error","Estimate","Margin of Error","Estimate","Margin of Error","Estimate","Margin of Error","Estimate","Margin of Error","Estimate","Margin of Error","Estimate","Margin of Error","Estimate","Margin of Error","Estimate","Margin of Error","Estimate","Margin of Error"]
[null,{"$f":"B106","v":"Total:"},{"$f":"C106","v":526710},2332,24579,676,21203,654,30529,470,13879,324,34856,606,158139,795,57247,533,119955,768,48543,627,17780,377]
[null,"Owner occupied housing units:",{"$f":"C107","v":372304},2503,18619,570,16870,580,21453,535,9882,234,23802,583,104138,1144,40616,598,92025,1019,31845,665,13054,429]
[null,"Less than 20 percent",{"$f":"C109+C113+C117+C121+C125","v":171986},{"$f":"SQRT((D109^2)+(D113^2)+(D117^2)+(D121^2)+(D125^2))","v":2585.9129915757026},{"$f":"SQRT((E109^2)+(E113^2)+(E117^2)+(E121^2)+(E125^2))","v":6510.3054459833138},576.67668584745127,5801.6851862196036,569.31274357772816,7202.042765771389,524.42539984253244,3133.647874283261,314.38034289694389,8770.8541773307352,610.76509396002655,40834.457655269529,1199.8716598036642,15123.723318019276,640.12420669741903,35565.405494665742,1022.5590447499841,11679.164953026393,728.62541816766179,4205.1277031738291,361.78308418166819]
[null,"20 to 29 percent",{"$f":"C110+C114+C118+C122+C126","v":98790},{"$f":"SQRT((D110^2)+(D114^2)+(D118^2)+(D122^2)+(D126^2))","v":1989.2626774762552},2860.6293013950617,419.98214247751059,2107.0346461318572,500.39884092591581,3448.4800999860795,409.11000965510488,1040.6103977954479,220.49489790015551,3151.2508627527577,422.03791298886881,20646.103700214237,1102.8281824472931,6990.6198580669516,546.26275728810219,18663.488366326375,1010.883277139354,5858.0179241787919,631.24955445528826,1800.8581287819427,340.3395363456911]
[null,"30 percent or more",{"$f":"C111+C115+C119+C123+C127","v":99800},{"$f":"SQRT((D111^2)+(D115^2)+(D119^2)+(D123^2)+(D127^2))","v":1950.385090180911},2404.5745985516855,475.82034424770029,2126.6823928363165,418.77559623263625,2888.2456612968363,454.2411253948722,1262.933885838843,192.89375313887177,2848.658631707211,437.61170002640466,12347.169311222715,1013.4806362235048,4946.8784096640175,613.04975328271689,11422.781184982929,1070.9098935017828,3770.3887067515998,643.07697828487062,1857.8124232548344,364.45438672075278]
[null,"Zero or negative income",{"$f":"C128","v":1728},{"$f":"D128","v":306},{"$f":"E128","v":129},71,110,65,65,31,25,19,57,28,594,219,225,86,345,114,74,47,104,73]
[null,"Renter occupied housing units:",{"$f":"C129","v":154406},{"$f":"D129","v":2224},5960,463,4333,508,9076,507,3997,319,11054,551,54001,1074,16631,512,27930,1001,16698,721,4726,347]
[null,"Less than 20 percent",{"$f":"C131+C135+C139+C143+C147","v":37270},{"$f":"SQRT((D131^2)+(D135^2)+(D139^2)+(D143^2)+(D147^2))","v":1547.60653914359},{"$f":"SQRT((E131^2)+(E135^2)+(E139^2)+(E143^2)+(E147^2))","v":900.16554033133264},299.5396467915391,497.58818313943107,210.95971179350809,1010.0638593673174,307.85873383745343,486.55626601658309,161.20173696334663,1709.3027818382559,399.25305258695266,10181.279536482632,834.12289262434228,2592.1502657060605,436.98283719157666,5171.5505411820159,615.50873267566237,2533.7298593180767,508.57251203736917,751.3148474507874,270.28133490864661]
[null,"20 to 29 percent",{"$f":"C132+C136+C140+C144+C148","v":40491},{"$f":"SQRT((D132^2)+(D136^2)+(D140^2)+(D144^2)+(D148^2))","v":1483.7129102356696},777.87338301294255,301.02159390980574,510.12057398226943,238.30652529882602,1292.8039294494738,345.63853951780317,603.6878332383385,196.82987578109172,1233.8679021678131,360.24297356090096,7254.7053696204648,836.03349215207879,2231.1051073403064,444.57507802394861,3811.961699702661,618.94910937814586,2273.4245094130574,492.0243896393755,574.78256758534349,232.80893453645632]
[null,"30 percent or more",{"$f":"C133+C137+C141+C145+C149","v":68794},{"$f":"SQRT((D133^2)+(D137^2)+(D141^2)+(D145^2)+(D149^2))","v":1758.0372578532003},1569.6716217094581,321.38917218848553,1144.0607501352365,342.84544622905526,2551.3794308177685,446.32835446563331,1124.0129002818428,237,2800.0528566439598,535.70234272401683,13318.304396581421,1102.8027928872868,4285.5391726129401,519.8980669323555,6292.945812574585,835.94198363283556,4323.8119755604548,701.81692769553513,1262.2594820400438,331.80265218952064]
[null,"Zero or negative income",{"$f":"C150","v":1764},{"$f":"D150","v":292},{"$f":"E150","v":83},62,39,46,60,39,50,47,235,137,672,145,150,90,149,65,199,134,127,100]
[null,"No cash rent",{"$f":"C151","v":6087},{"$f":"D151","v":562},315,104,426,129,506,116,290,70,487,126,1386,211,870,193,1223,273,363,121,221,91]
[]
[]
[]
[]
[null,"B25106. TENURE BY HOUSING COSTS AS A PERCENTAGE OF HOUSEHOLD INCOME IN THE PAST 12 MONTHS"]
[null,"Universe:  OCCUPIED HOUSING UNITS"]
[null,"Data Set: 2008-2012 American Community Survey 5-Year Estimates"]
[]
[null,null,"New Hampshire",null,"Belknap County",null,"Carroll County",null,"Cheshire County",null,"Coos County",null,"Grafton County",null,"Hillsborough County",null,"Merrimack County",null,"Rockingham County",null,"Strafford County",null,"Sullivan County"]
[null,null,"Estimate","Margin of Error","Estimate","Margin of Error","Estimate","Margin of Error","Estimate","Margin of Error","Estimate","Margin of Error","Estimate","Margin of Error","Estimate","Margin of Error","Estimate","Margin of Error","Estimate","Margin of Error","Estimate","Margin of Error","Estimate","Margin of Error"]
[null,"Total:",516845,1886,25127,635,20632,626,30173,528,14704,342,34816,560,153747,897,57224,541,115552,673,46821,560,18049,319]
[null,"Owner occupied housing units:",372021,2148,19080,584,16618,522,21503,556,10539,314,24393,589,104710,1010,41226,668,89320,795,31293,680,13339,358]
[null,"Less than $20,000:",23863,963,1556,230,1672,238,1869,227,1361,166,2358,202,4931,368,2306,227,4270,430,2217,281,1323,232]
[null,"Less than 20 percent",1028,233,118,76,119,68,64,42,126,60,63,34,125,57,38,28,163,92,112,77,100,60]
[null,"20 to 29 percent",1610,223,114,60,113,52,124,49,185,63,262,78,234,94,195,69,167,62,94,68,122,63]
[null,"30 percent or more",21225,915,1324,203,1440,218,1681,214,1050,160,2033,211,4572,338,2073,224,3940,405,2011,263,1101,210]
[null,"$20,000 to $34,999:",36940,1186,2581,320,2209,369,2489,234,1905,190,3457,301,8378,607,4001,357,7378,565,2919,342,1623,189]
[null,"Less than 20 percent",4477,397,396,122,539,172,248,85,516,93,694,139,593,138,395,98,591,173,219,97,286,86]
[null,"20 to 29 percent",7666,604,583,146,492,198,356,92,584,93,904,167,1608,249,885,193,1211,255,680,171,363,91]
[null,"30 percent or more",24797,982,1602,283,1178,251,1885,213,805,131,1859,238,6177,575,2721,313,5576,448,2020,276,974,159]
[null,"$35,000 to $49,999:",41706,1234,2188,322,3058,364,2929,332,1795,190,3481,275,9540,585,4649,355,8157,586,4057,403,1852,229]
[null,"Less than 20 percent",9533,619,449,88,1068,219,693,165,650,116,1184,155,1564,192,1068,161,1467,244,823,164,567,147]
[null,"20 to 29 percent",10172,559,329,98,775,185,725,152,482,96,917,163,2440,277,1173,187,1752,244,1144,210,435,104]
[null,"30 percent or more",22001,842,1410,298,1215,247,1511,237,663,125,1380,203,5536,494,2408,278,4938,466,2090,328,850,174]
[null,"$50,000 to $74,999:",70085,1505,4416,355,3949,404,4613,367,2406,203,4613,320,18846,792,7866,503,14195,607,6145,425,3036,286]
[null,"Less than 20 percent",21664,817,1379,218,1785,270,1519,225,1260,154,1916,220,4776,387,2060,263,3763,371,1920,266,1286,206]
[null,"20 to 29 percent",17338,800,1147,204,942,188,1465,232,732,126,1327,165,4127,392,2043,262,3017,378,1622,238,916,170]
[null,"30 percent or more",31083,1070,1890,281,1222,240,1629,244,414,91,1370,197,9943,627,3763,381,7415,510,2603,354,834,191]
[null,"$75,000 or more:",197810,2111,8170,433,5594,447,9531,454,3007,220,10405,490,62599,1037,22249,667,54970,1000,15823,568,5462,385]
[null,"Less than 20 percent",103465,1725,4907,396,3842,368,5672,373,2292,210,6928,463,30677,944,11049,541,26408,783,8301,452,3389,353]
[null,"20 to 29 percent",63947,1367,2320,273,1220,211,2952,296,521,114,2490,244,21618,860,7742,439,18511,704,5022,386,1551,218]
[null,"30 percent or more",30398,1034,943,199,532,142,907,157,194,64,987,166,10304,582,3458,345,10051,649,2500,286,522,137]
[null,"Zero or negative income",1617,298,169,101,136,62,72,46,65,52,79,47,416,135,155,79,350,130,132,94,43,28]
[null,"Renter occupied housing units:",144824,1991,6047,468,4014,460,8670,599,4165,319,10423,566,49037,936,15998,713,26232,838,15528,646,4710,398]
[null,"Less than $20,000:",33506,1136,1620,242,1008,258,1981,290,1800,232,2078,331,11104,640,3908,427,4702,524,3923,467,1382,240]
[null,"Less than 20 percent",1280,270,72,57,7,7,83,54,111,77,34,24,388,120,151,74,173,112,184,105,77,54]
[null,"20 to 29 percent",5244,465,310,150,175,109,227,88,376,86,382,106,1599,256,716,184,588,171,568,162,303,146]
[null,"30 percent or more",26982,1034,1238,223,826,228,1671,276,1313,213,1662,296,9117,654,3041,391,3941,484,3171,449,1002,206]
[null,"$20,000 to $34,999:",30574,1128,1062,262,1010,252,2286,317,926,176,2112,303,9623,588,4019,479,4789,473,3782,405,965,211]
[null,"Less than 20 percent",1271,210,76,44,72,56,146,64,136,81,48,35,438,145,144,76,121,67,70,63,20,15]
[null,"20 to 29 percent",4801,467,298,138,194,144,475,138,356,121,565,157,1133,244,502,188,755,178,311,139,212,102]
[null,"30 percent or more",24502,1095,688,208,744,237,1665,286,434,103,1499,284,8052,556,3373,419,3913,434,3401,363,733,187]
[null,"$35,000 to $49,999:",23607,1114,1185,244,609,179,1370,234,586,149,1922,296,7919,513,2329,366,4352,435,2420,402,915,241]
[null,"Less than 20 percent",2483,418,266,174,83,78,114,81,191,81,447,148,615,168,162,104,144,95,216,136,245,144]
[null,"20 to 29 percent",10505,706,609,201,277,153,689,169,308,103,786,177,3177,401,1195,245,1770,320,1304,310,390,144]
[null,"30 percent or more",10619,764,310,117,249,107,567,158,87,66,689,196,4127,419,972,217,2438,339,900,232,280,140]
[null,"$50,000 to $74,999:",24638,1183,934,224,603,177,1409,261,360,85,1580,291,8369,793,2609,356,5628,535,2556,376,590,167]
[null,"Less than 20 percent",8593,643,502,183,309,115,543,159,252,71,679,178,2390,374,1187,231,1389,276,1061,302,281,107]
[null,"20 to 29 percent",11966,851,356,149,203,95,562,136,78,53,633,184,4434,532,1074,206,3160,431,1208,247,258,107]
[null,"30 percent or more",4079,523,76,51,91,72,304,144,30,27,268,111,1545,315,348,127,1079,234,287,139,51,36]
[null,"$75,000 or more:",23733,1060,627,235,270,115,1043,219,148,57,1654,261,9710,700,2364,348,5204,501,2172,349,541,135]
[null,"Less than 20 percent",18198,983,565,223,232,102,836,177,133,52,1383,252,7387,666,1854,309,3745,404,1651,298,412,116]
[null,"20 to 29 percent",4764,445,62,53,29,41,170,117,15,24,186,83,2050,286,440,129,1303,274,392,162,117,79]
[null,"30 percent or more",771,167,0,27,9,15,37,31,0,24,85,56,273,106,70,52,156,78,129,83,12,18]
[null,"Zero or negative income",2126,358,128,84,25,28,63,54,47,39,385,162,775,218,149,86,305,148,188,91,61,53]
[null,"No cash rent",6640,523,491,135,489,146,518,136,298,76,692,175,1537,246,620,153,1252,200,487,125,256,91]
[]
[]
[]
[]
[]
[]
[null,"Calculated B25106. TENURE BY HOUSING COSTS AS A PERCENTAGE OF HOUSEHOLD INCOME IN THE PAST 12 MONTHS"]
[null,"Universe:  OCCUPIED HOUSING UNITS"]
[null,{"$f":"B182","v":"Data Set: 2008-2012 American Community Survey 5-Year Estimates"}]
[]
[null,null,"New Hampshire",null,"Belknap County",null,"Carroll County",null,"Cheshire County",null,"Coos County",null,"Grafton County",null,"Hillsborough County",null,"Merrimack County",null,"Rockingham County",null,"Strafford County",null,"Sullivan County"]
[null,null,"Estimate","Margin of Error","Estimate","Margin of Error","Estimate","Margin of Error","Estimate","Margin of Error","Estimate","Margin of Error","Estimate","Margin of Error","Estimate","Margin of Error","Estimate","Margin of Error","Estimate","Margin of Error","Estimate","Margin of Error","Estimate","Margin of Error"]
[null,{"$f":"B186","v":"Total:"},516845,1886,25127,635,20632,626,30173,528,14704,342,34816,560,153747,897,57224,541,115552,673,46821,560,18049,319]
[null,{"$f":"B187","v":"Owner occupied housing units:"},372021,2148,19080,584,16618,522,21503,556,10539,314,24393,589,104710,1010,41226,668,89320,795,31293,680,13339,358]
[null,"Less than 20 percent",{"$f":"C189+C193+C197+C201+C205","v":140167},{"$f":"SQRT((D189^2)+(D193^2)+(D197^2)+(D201^2)+(D205^2))","v":2058.6823455793269},{"$f":"SQRT((E189^2)+(E193^2)+(E197^2)+(E201^2)+(E205^2))","v":5133.4813723242432},482.43548791522375,4403.6910654586118,{"$f":"SQRT((H189^2)+(H193^2)+(H197^2)+(H201^2)+(H205^2))","v":538.97402534816092},5918.1748875814746,475.36091551577942,2746.9066238225137,305.81203377238114,7318.1760705793349,554.32030451716275,31091.829714572927,1048.8384050939401,11296.994910151991,630.99841521195594,26722.098944506586,921.22689930331501,8563.3425132946777,563.28855837838569,3681.358716561047,446.82211225497781]
[null,"20 to 29 percent",{"$f":"C190+C194+C198+C202+C206","v":100733},{"$f":"SQRT((D190^2)+(D194^2)+(D198^2)+(D202^2)+(D206^2))","v":1798.8093284169947},{"$f":"SQRT((E190^2)+(E194^2)+(E198^2)+(E202^2)+(E206^2))","v":2675.6559943311099},388.15589651582002,1797.5600129063841,394.96582130609733,3395.3300281415945,418.81857647434884,1189.4830810061992,225.17992805754247,3112.5195581714825,383.8007295459455,22202.794261083447,1020.2107625388002,8143.0701826768018,581.67344790698496,18876.528388451094,875.73112311941952,5443.4676448014279,532.54577268062133,1892.2301657039504,315.42035444783841]
[null,"30 percent or more",{"$f":"C191+C195+C199+C203+C207","v":129504},{"$f":"SQRT((D191^2)+(D195^2)+(D199^2)+(D203^2)+(D207^2))","v":2173.607370248822},{"$f":"SQRT((E191^2)+(E195^2)+(E199^2)+(E203^2)+(E207^2))","v":3281.5894014943428},573.29224658981741,2591.1034329026697,499.29750650288651,3484.0202353028894,481.16421313310491,1548.9112305099993,266.01315756932024,3513.4653833501761,456.87963403942621,17168.036404900824,1191.9555360834565,6604.3596964429489,699.7249459609111,15066.653443947,1123.9154772490679,5051.5571856606748,678.26322324006333,1962.5027388515921,393.58226586064569]
[null,"Zero or negative income",{"$f":"C208","v":1617},{"$f":"D208","v":298},{"$f":"E208","v":169},101,136,62,72,46,65,52,79,47,416,135,155,79,350,130,132,94,43,28]
[null,"Renter occupied housing units:",{"$f":"C209","v":144824},{"$f":"D209","v":1991},{"$f":"E209","v":6047},468,4014,460,8670,599,4165,319,10423,566,49037,936,15998,713,26232,838,15528,646,4710,398]
[null,"Less than 20 percent",{"$f":"C211+C215+C219+C223+C227","v":31825},{"$f":"SQRT((D211^2)+(D215^2)+(D219^2)+(D223^2)+(D227^2))","v":1292.8503393664712},{"$f":"SQRT((E211^2)+(E215^2)+(E219^2)+(E223^2)+(E227^2))","v":808.05012220777496},{"$f":"SQRT((F211^2)+(F215^2)+(F219^2)+(F223^2)+(F227^2))","v":344.49818577171055},401.77979043252037,181.3780582099169,1017.3229575705052,264.92074286472928,385.34529969885449,163.69483803712322,1605.3033981151352,344.80864258309998,7810.2805327337637,804.41345090693255,2217.2203318569855,413.41262680281068,4002.4557461638474,515.2184002925361,1984.1708595783782,462.05843786257168,561.30116693269042,220.86647550047064]
[null,"20 to 29 percent",{"$f":"C212+C216+C220+C224+C228","v":37280},{"$f":"SQRT((D212^2)+(D216^2)+(D220^2)+(D224^2)+(D228^2))","v":1361.9750364819467},{"$f":"SQRT((E212^2)+(E216^2)+(E220^2)+(E224^2)+(E228^2))","v":828.47148412000274},327.03975293532744,432.48121346481628,258.32537622153967,1047.1957792122732,295.86145406253922,607.68824244015127,189.81833420404891,1232.1647617100564,328.57114906820408,6147.9000479838642,806.65544069323676,1881.4252576172139,433.93778355888765,3966.3683641336188,651.27720672536975,1932.0168218729359,478.45375952123106,607.54094512221968,264.85090145211893]
[null,"30 percent or more",{"$f":"C213+C217+C221+C225+C229","v":66953},{"$f":"SQRT((D213^2)+(D217^2)+(D221^2)+(D225^2)+(D229^2))","v":1775.7519533988975},{"$f":"SQRT((E213^2)+(E217^2)+(E221^2)+(E225^2)+(E229^2))","v":1451.8484769424115},331.68056922285933,1142.8801336973183,353.56894660023522,2445.3506905963404,452.36379165446033,1385.9271265113473,248.27202822710416,2358.6044602688262,471.32260713867737,12940.172950930757,1011.3723349983427,4657.8533682373472,627.98407623123694,6162.4241171798622,773.54573232615019,4746.6885299121959,642.96500682385511,1273.7495829243674,314.04617494884411]
[null,"Zero or negative income",{"$f":"C230","v":2126},{"$f":"D230","v":358},{"$f":"E230","v":128},84,25,28,63,54,47,39,385,162,775,218,149,86,305,148,188,91,61,53]
[null,"No cash rent",{"$f":"C231","v":6640},{"$f":"D231","v":523},{"$f":"E231","v":491},135,489,146,518,136,298,76,692,175,1537,246,620,153,1252,200,487,125,256,91]

{"sheet":"StatisticallySignificantCalcs","index":72,"n_rows":271,"n_cols":16,"rows_kept":271,"cut":false,"hidden":true,"merged":[]}
[]
["Statistically Significant Change  10 Year","Standard Error Estimate  1","Standard Error Estimate  2","Square Root of Sum of Squared SE","Difference between the estimates","Value","Test Statistic (90%) Confidence Interval",null,null,"Statistically Significant Change  5Year","Standard Error Estimate  1","Standard Error Estimate  2","Square Root of Sum of Squared SE","Difference between the estimates","Value","Test Statistic (90%) Confidence Interval"]
[{"$f":"IF(F3>G3,\"Y\",\"N\")","v":"Y"},{"$f":"PopulationCharacteristics!Q22/1.645","v":1068.1044815932382},{"$f":"PopulationCharacteristics!T22/1.645","v":1411.5362764359161},{"$f":"SQRT((B3^2)+(C3^2))","v":1770.1078620508217},{"$f":"(PopulationCharacteristics!M22-PopulationCharacteristics!S22)","v":-211268},{"$f":"ABS((E3/D3))","v":119.35317871263953},1.645,"Population By Age Under 15 yrs.",null,{"$f":"IF(O3>P3,\"Y\",\"N\")","v":"N"},{"$f":"PopulationCharacteristics!P22/1.645","v":131389.05775075988},{"$f":"PopulationCharacteristics!T22/1.645","v":1411.5362764359161},{"$f":"SQRT((K3^2)+(L3^2))","v":131396.63972603032},{"$f":"(PopulationCharacteristics!P22-PopulationCharacteristics!S22)","v":4867},{"$f":"ABS((N3/M3))","v":3.7040521052501642E-2},1.645]
["Y",{"$f":"PopulationCharacteristics!Q23/1.645","v":1079.9133312039537},{"$f":"PopulationCharacteristics!T23/1.645","v":1289.812463034332},1682.2095567172096,{"$f":"(PopulationCharacteristics!M23-PopulationCharacteristics!S23)","v":-174801},103.91154853567699,1.645,"Population By Age 15 to 24 yrs.",null,{"$f":"IF(O4>P4,\"Y\",\"N\")","v":"N"},{"$f":"PopulationCharacteristics!P23/1.645","v":108829.17933130699},{"$f":"PopulationCharacteristics!T23/1.645","v":1289.812463034332},108836.822308057,{"$f":"(PopulationCharacteristics!P23-PopulationCharacteristics!S23)","v":4223},3.8801206342160714E-2,1.645]
["Y",{"$f":"PopulationCharacteristics!Q24/1.645","v":305.98408442269243},{"$f":"PopulationCharacteristics!T24/1.645","v":404.08753974248128},506.86585966616923,{"$f":"(PopulationCharacteristics!M24-PopulationCharacteristics!S24)","v":-171559},338.47022191037246,1.645,"Population By Age 25 to 34 yrs.",null,"N",{"$f":"PopulationCharacteristics!P24/1.645","v":93917.933130699093},{"$f":"PopulationCharacteristics!T24/1.645","v":404.08753974248128},93918.802432112818,{"$f":"(PopulationCharacteristics!P24-PopulationCharacteristics!S24)","v":-17064},0.18168885844061253,1.645]
["Y",{"$f":"PopulationCharacteristics!Q25/1.645","v":1264.7155995738171},{"$f":"PopulationCharacteristics!T25/1.645","v":1418.0391676454883},1900.0896370387554,{"$f":"(PopulationCharacteristics!M25-PopulationCharacteristics!S25)","v":-160635},84.540748430345545,1.645,"Population By Age 35 to 44 yrs.",null,"N",{"$f":"PopulationCharacteristics!P25/1.645","v":96854.103343465045},{"$f":"PopulationCharacteristics!T25/1.645","v":1418.0391676454883},96864.483530071957,{"$f":"(PopulationCharacteristics!P25-PopulationCharacteristics!S25)","v":-1310},1.352404877679759E-2,1.645]
["Y",{"$f":"PopulationCharacteristics!Q26/1.645","v":278.70335003577367},{"$f":"PopulationCharacteristics!T26/1.645","v":308.95456703626752},416.08710844453054,{"$f":"(PopulationCharacteristics!M26-PopulationCharacteristics!S26)","v":-187228},449.9730854433808,1.645,"Population By Age 45 to 54 yrs.",null,"N",{"$f":"PopulationCharacteristics!P26/1.645","v":127796.35258358663},{"$f":"PopulationCharacteristics!T26/1.645","v":308.95456703626752},127796.72604019589,{"$f":"(PopulationCharacteristics!P26-PopulationCharacteristics!S26)","v":22997},0.17994983684297794,1.645]
["Y",{"$f":"PopulationCharacteristics!Q27/1.645","v":1299.3883645229805},{"$f":"PopulationCharacteristics!T27/1.645","v":1676.8554828551755},2121.3803129658691,{"$f":"(PopulationCharacteristics!M27-PopulationCharacteristics!S27)","v":-216548},102.07882041539624,1.645,"Population By Age 55 to 64 yrs.",null,"N",{"$f":"PopulationCharacteristics!P27/1.645","v":120312.46200607903},{"$f":"PopulationCharacteristics!T27/1.645","v":1676.8554828551755},120324.14702907555,{"$f":"(PopulationCharacteristics!P27-PopulationCharacteristics!S27)","v":-18634},0.15486500806440134,1.645]
["Y",{"$f":"PopulationCharacteristics!Q28/1.645","v":992.04977089967224},{"$f":"PopulationCharacteristics!T28/1.645","v":1401.6618375081262},1717.2124663735553,{"$f":"(PopulationCharacteristics!M28-PopulationCharacteristics!S28)","v":-154122},89.751270164884147,1.645,"Population By Age 65 to 74 yrs.",null,"N",{"$f":"PopulationCharacteristics!P28/1.645","v":74784.802431610937},{"$f":"PopulationCharacteristics!T28/1.645","v":1401.6618375081262},74797.936673693126,{"$f":"(PopulationCharacteristics!P28-PopulationCharacteristics!S28)","v":-31101},0.41580023972691221,1.645]
["Y",{"$f":"PopulationCharacteristics!Q29/1.645","v":879.59198571048546},{"$f":"PopulationCharacteristics!T29/1.645","v":1132.0792635447785},1433.626701855892,{"$f":"(PopulationCharacteristics!M29-PopulationCharacteristics!S29)","v":-96014},66.972803921485081,1.645,"Population By Age Over 74 yrs. ",null,"N",{"$f":"PopulationCharacteristics!P29/1.645","v":53108.81458966565},{"$f":"PopulationCharacteristics!T29/1.645","v":1132.0792635447785},53120.879045610978,{"$f":"(PopulationCharacteristics!P29-PopulationCharacteristics!S29)","v":-8650},0.16283616076030827,1.645]
["Y",{"$f":"PopulationCharacteristics!Q$30/1.645","v":6.0790273556231005E-2},{"$f":"PopulationCharacteristics!T$30/1.645","v":6.0790273556231005E-2},8.5970429323592404E-2,{"$f":"(PopulationCharacteristics!P30-PopulationCharacteristics!S30)","v":-0.60000000000000142},6.979143930311241,1.645,"Population By Age Median Age        ",null,"N",{"$f":"PopulationCharacteristics!P30/1.645","v":25.775075987841944},{"$f":"PopulationCharacteristics!T30/1.645","v":6.0790273556231005E-2},{"$f":"SQRT((K11^2)+(L11^2))","v":25.7751476743856},{"$f":"(PopulationCharacteristics!P30-PopulationCharacteristics!S30)","v":-0.60000000000000142},2.3278237144544453E-2,1.645]
["Y",{"$f":"PopulationCharacteristics!E51/1.645","v":989.05775075987845},{"$f":"PopulationCharacteristics!K51/1.645","v":1200},1555.0675979963669,{"$f":"PopulationCharacteristics!D51-PopulationCharacteristics!J51","v":-25629},16.480955575835925,1.645,"Total Households",null,"Y",{"$f":"PopulationCharacteristics!H51/1.645","v":1284.4984802431611},{"$f":"PopulationCharacteristics!K51/1.645","v":1200},1757.821477211776,{"$f":"PopulationCharacteristics!G51-PopulationCharacteristics!J51","v":-19125},10.879944435731733,1.645]
["N",{"$f":"PopulationCharacteristics!E52/1.645","v":6.0790273556231003E-3},{"$f":"PopulationCharacteristics!K52/1.645","v":6.0790273556231003E-3},8.5970429323592393E-3,{"$f":"PopulationCharacteristics!D52-PopulationCharacteristics!J52","v":1.3969397501393921E-2},1.6249072630326362,1.645,"Persons per Household",null,"N",{"$f":"PopulationCharacteristics!H52/1.645","v":1.82370820668693E-2},{"$f":"PopulationCharacteristics!K52/1.645","v":6.0790273556231003E-3},1.9223572402239389E-2,{"$f":"PopulationCharacteristics!G52-PopulationCharacteristics!J52","v":1.2579484380847994E-3},6.5437807903917941E-2,1.645]
["Y",{"$f":"PopulationCharacteristics!E53/1.645","v":989.05775075987845},{"$f":"PopulationCharacteristics!K53/1.645","v":1200},1555.0675979963669,{"$f":"PopulationCharacteristics!D53-PopulationCharacteristics!J53","v":-4170},2.6815554548065004,1.645,"Family Households",null,"Y",{"$f":"PopulationCharacteristics!H53/1.645","v":1284.4984802431611},{"$f":"PopulationCharacteristics!K53/1.645","v":1200},1757.821477211776,{"$f":"PopulationCharacteristics!G53-PopulationCharacteristics!J53","v":-5734},3.2619922297770336,1.645]
["Y",{"$f":"PopulationCharacteristics!E54/1.645","v":1.319990763291954E-2},{"$f":"PopulationCharacteristics!K54/1.645","v":1.5796558593554399E-2},2.0585646089379971E-2,{"$f":"PopulationCharacteristics!D54-PopulationCharacteristics!J54","v":-3.489837859338607E-2},1.6952773035085824,1.645,"Persons per Family Household",null,"N",{"$f":"PopulationCharacteristics!H54/1.645","v":1.6168713624481992E-2},{"$f":"PopulationCharacteristics!K54/1.645","v":1.5796558593554399E-2},2.260439257467687E-2,{"$f":"PopulationCharacteristics!G54-PopulationCharacteristics!J54","v":-3.0869808835833457E-2},1.3656553138444483,1.645]
["N",{"$f":"PopulationCharacteristics!E55/1.645","v":1300.3039513677811},{"$f":"PopulationCharacteristics!K55/1.645","v":1711.8541033434651},2149.7057559295235,{"$f":"PopulationCharacteristics!D55-PopulationCharacteristics!J55","v":-2769},1.2880832608659487,1.645,"Married-Couple Family Hh",null,"Y",{"$f":"PopulationCharacteristics!H55/1.645","v":1623.70820668693},{"$f":"PopulationCharacteristics!K55/1.645","v":1711.8541033434651},2359.4221350992589,{"$f":"PopulationCharacteristics!G55-PopulationCharacteristics!J55","v":-8056},3.414395364083965,1.645]
["N",{"$f":"PopulationCharacteristics!E56/1.645","v":1068.6930091185411},{"$f":"PopulationCharacteristics!K56/1.645","v":1179.3313069908816},1591.5172256019296,{"$f":"PopulationCharacteristics!D56-PopulationCharacteristics!J56","v":-1401},0.88029207441982049,1.645,"Single-Parent Family Hh",null,"N",{"$f":"PopulationCharacteristics!H56/1.645","v":1204.8632218844984},{"$f":"PopulationCharacteristics!K56/1.645","v":1179.3313069908816},1685.9767836772592,{"$f":"PopulationCharacteristics!G56-PopulationCharacteristics!J56","v":2322},1.3772431640105507,1.645]
["Y",{"$f":"PopulationCharacteristics!E57/1.645","v":1321.580547112462},{"$f":"PopulationCharacteristics!K57/1.645","v":1615.80547112462},2087.4392118148808,{"$f":"PopulationCharacteristics!D57-PopulationCharacteristics!J57","v":-21459},10.280059835295955,1.645,"Non-Family Households*",null,"Y",{"$f":"PopulationCharacteristics!H57/1.645","v":1446.2006079027356},{"$f":"PopulationCharacteristics!K57/1.645","v":1615.80547112462},2168.4841523088189,{"$f":"PopulationCharacteristics!G57-PopulationCharacteristics!J57","v":-13391},6.1752814682746902,1.645]
["N",{"$f":"PopulationCharacteristics!E58/1.645","v":1.5514711443395481E-2},{"$f":"PopulationCharacteristics!K58/1.645","v":1.75448000876866E-2},2.3420637935135637E-2,{"$f":"PopulationCharacteristics!D58-PopulationCharacteristics!J58","v":-1.7367194492350135E-2},0.74153379341968617,1.645,"Persons per Non-Family Hh",null,"N",{"$f":"PopulationCharacteristics!H58/1.645","v":1.6926090904468675E-2},{"$f":"PopulationCharacteristics!K58/1.645","v":1.75448000876866E-2},2.4378526686886247E-2,{"$f":"PopulationCharacteristics!G58-PopulationCharacteristics!J58","v":-3.363576498994103E-3},0.1379729194547038,1.645]
["Y",{"$f":"PopulationCharacteristics!D36/1.645","v":317.93313069908817},{"$f":"PopulationCharacteristics!J36/1.645","v":939.209726443769},991.5625980454804,{"$f":"PopulationCharacteristics!C36-PopulationCharacteristics!I36","v":-4140},4.1752280775420179,1.645,"Ethnicity -White",null,"Y",{"$f":"PopulationCharacteristics!G36/1.645","v":280.85106382978722},{"$f":"PopulationCharacteristics!J36/1.645","v":939.209726443769},980.30211174969043,{"$f":"PopulationCharacteristics!F36-PopulationCharacteristics!I36","v":-9234},{"$f":"ABS((N20/M20))","v":9.4195451476879022},1.645]
["Y",{"$f":"PopulationCharacteristics!D37/1.645","v":320.97264437689967},{"$f":"PopulationCharacteristics!J37/1.645","v":591.48936170212767},672.96590065551618,{"$f":"PopulationCharacteristics!C37-PopulationCharacteristics!I37","v":-5037},7.4847774532017262,1.645,"Ethnicity -Black",null,"Y",{"$f":"PopulationCharacteristics!G37/1.645","v":475.98784194528872},{"$f":"PopulationCharacteristics!J37/1.645","v":591.48936170212767},759.22598130367192,{"$f":"PopulationCharacteristics!F37-PopulationCharacteristics!I37","v":-3140},{"$f":"ABS((N21/M21))","v":4.135791025760585},1.645]
["Y",{"$f":"PopulationCharacteristics!D38/1.645","v":165.95744680851064},{"$f":"PopulationCharacteristics!J38/1.645","v":153.79939209726444},226.26561197116925,{"$f":"PopulationCharacteristics!C38-PopulationCharacteristics!I38","v":806},3.5621851370976358,1.645,"Ethnicity -American Indian",null,"Y",{"$f":"PopulationCharacteristics!G38/1.645","v":177.50759878419453},{"$f":"PopulationCharacteristics!J38/1.645","v":153.79939209726444},234.86847518476947,{"$f":"PopulationCharacteristics!F38-PopulationCharacteristics!I38","v":403},1.7158539462691302,1.645]
["Y",{"$f":"PopulationCharacteristics!D39/1.645","v":459.11630239244789},{"$f":"PopulationCharacteristics!J39/1.645","v":579.67853036503129},739.46938928442216,{"$f":"PopulationCharacteristics!C39-PopulationCharacteristics!I39","v":-8969},12.128967243227228,1.645,"Ethnicity -Asian &Pacific Is",null,"Y",{"$f":"PopulationCharacteristics!G39/1.645","v":491.9431994945179},{"$f":"PopulationCharacteristics!J39/1.645","v":579.67853036503129},760.28633428141109,{"$f":"PopulationCharacteristics!F39-PopulationCharacteristics!I39","v":-4845},6.3725990873941978,1.645]
["Y",{"$f":"PopulationCharacteristics!D40/1.645","v":631.48104014469948},{"$f":"PopulationCharacteristics!J40/1.645","v":1139.0230259665786},1302.3600722320584,{"$f":"PopulationCharacteristics!C40-PopulationCharacteristics!I40","v":-19461},14.942872109589967,1.645,"Ethnicity -Other*",null,"Y",{"$f":"PopulationCharacteristics!G40/1.645","v":756.72952420605964},{"$f":"PopulationCharacteristics!J40/1.645","v":1139.0230259665786},1367.4841960648725,{"$f":"PopulationCharacteristics!F40-PopulationCharacteristics!I40","v":-15441},11.291538172385204,1.645]
[{"$error":"#VALUE!"},{"$f":"PopulationCharacteristics!D42/1.645","v":{"$error":"#VALUE!"}},{"$f":"PopulationCharacteristics!J42/1.645","v":{"$error":"#VALUE!"}},{"$error":"#VALUE!"},{"$f":"PopulationCharacteristics!C42-PopulationCharacteristics!I42","v":-19463},{"$error":"#VALUE!"},1.645,"Ethnicity -Hispanic",null,{"$error":"#VALUE!"},{"$f":"PopulationCharacteristics!G42/1.645","v":{"$error":"#VALUE!"}},{"$f":"PopulationCharacteristics!J42/1.645","v":{"$error":"#VALUE!"}},{"$error":"#VALUE!"},{"$f":"PopulationCharacteristics!F42-PopulationCharacteristics!I41","v":-1328675},{"$error":"#VALUE!"},1.645]
["Y",{"$f":"PlaceOfBirthAndPriorRes!E8/1.645","v":1026.1398176291793},{"$f":"PlaceOfBirthAndPriorRes!M8/1.645","v":1406.6869300911853},1741.1866771295399,{"$f":"PlaceOfBirthAndPriorRes!D8-PlaceOfBirthAndPriorRes!L8","v":-41431},23.794691599812669,1.645,"Place of Birth - United States Native",null,"Y",{"$f":"PlaceOfBirthAndPriorRes!I8/1.645","v":1143.4650455927051},{"$f":"PlaceOfBirthAndPriorRes!M8/1.645","v":1406.6869300911853},1812.8100920343782,{"$f":"PlaceOfBirthAndPriorRes!H8-PlaceOfBirthAndPriorRes!L8","v":-36301},20.024711997968947,1.645]
["Y",{"$f":"PlaceOfBirthAndPriorRes!E9/1.645","v":2573.8601823708204},{"$f":"PlaceOfBirthAndPriorRes!M9/1.645","v":3137.3860182370822},4058.071865532138,{"$f":"PlaceOfBirthAndPriorRes!D9-PlaceOfBirthAndPriorRes!L9","v":-8810},2.170981759793142,1.645,"Place of Birth - New Hampshire Native",null,"N",{"$f":"PlaceOfBirthAndPriorRes!I9/1.645","v":2793.3130699088147},{"$f":"PlaceOfBirthAndPriorRes!M9/1.645","v":3137.3860182370822},4200.6891022727377,{"$f":"PlaceOfBirthAndPriorRes!H9-PlaceOfBirthAndPriorRes!L9","v":-5661},1.347636033558679,1.645]
["Y",{"$f":"PlaceOfBirthAndPriorRes!E10/1.645","v":2545.288753799392},{"$f":"PlaceOfBirthAndPriorRes!M10/1.645","v":3311.2462006079027},4176.4633652479142,{"$f":"PlaceOfBirthAndPriorRes!D10-PlaceOfBirthAndPriorRes!L10","v":-28794},6.8943499515865598,1.645,"Place of Birth - Born in Different State",null,"Y",{"$f":"PlaceOfBirthAndPriorRes!I10/1.645","v":2723.4042553191489},{"$f":"PlaceOfBirthAndPriorRes!M10/1.645","v":3311.2462006079027},4287.3397508164335,{"$f":"PlaceOfBirthAndPriorRes!H10-PlaceOfBirthAndPriorRes!L10","v":-27697},6.4601831461399088,1.645]
["Y",{"$f":"PlaceOfBirthAndPriorRes!E11/1.645","v":2378.7234042553191},{"$f":"PlaceOfBirthAndPriorRes!M11/1.645","v":3447.41641337386},4188.437054696119,{"$f":"PlaceOfBirthAndPriorRes!D11-PlaceOfBirthAndPriorRes!L11","v":-14399},3.4377978735184027,1.645,"Place of Birth - Northeast",null,"Y",{"$f":"PlaceOfBirthAndPriorRes!I11/1.645","v":2593.3130699088147},{"$f":"PlaceOfBirthAndPriorRes!M11/1.645","v":3447.41641337386},4313.9254288593547,{"$f":"PlaceOfBirthAndPriorRes!H11-PlaceOfBirthAndPriorRes!L11","v":-15767},3.6549078698768684,1.645]
["N",{"$f":"PlaceOfBirthAndPriorRes!E12/1.645","v":916.10942249240122},{"$f":"PlaceOfBirthAndPriorRes!M12/1.645","v":1004.8632218844984},1359.7818092162638,{"$f":"PlaceOfBirthAndPriorRes!D12-PlaceOfBirthAndPriorRes!L12","v":-2034},1.4958282175964206,1.645,"Place of Birth - Midwest",null,"Y",{"$f":"PlaceOfBirthAndPriorRes!I12/1.645","v":831.61094224924011},{"$f":"PlaceOfBirthAndPriorRes!M12/1.645","v":1004.8632218844984},1304.3492070625732,{"$f":"PlaceOfBirthAndPriorRes!H12-PlaceOfBirthAndPriorRes!L12","v":-3372},2.5851972629276387,1.645]
["Y",{"$f":"PlaceOfBirthAndPriorRes!E13/1.645","v":988.44984802431611},{"$f":"PlaceOfBirthAndPriorRes!M13/1.645","v":1383.5866261398176},1700.3955581253019,{"$f":"PlaceOfBirthAndPriorRes!D13-PlaceOfBirthAndPriorRes!L13","v":-6763},3.97730984868971,1.645,"Place of Birth - South",null,"Y",{"$f":"PlaceOfBirthAndPriorRes!I13/1.645","v":1204.8632218844984},{"$f":"PlaceOfBirthAndPriorRes!M13/1.645","v":1383.5866261398176},1834.6681813022367,{"$f":"PlaceOfBirthAndPriorRes!H13-PlaceOfBirthAndPriorRes!L13","v":-3975},2.1666043159796713,1.645]
["Y",{"$f":"PlaceOfBirthAndPriorRes!E14/1.645","v":1001.8237082066869},{"$f":"PlaceOfBirthAndPriorRes!M14/1.645","v":1017.0212765957447},1427.5794266426772,{"$f":"PlaceOfBirthAndPriorRes!D14-PlaceOfBirthAndPriorRes!L14","v":-5598},3.9213229719660134,1.645,"Place of Birth - West",null,"Y",{"$f":"PlaceOfBirthAndPriorRes!I14/1.645","v":981.15501519756833},{"$f":"PlaceOfBirthAndPriorRes!M14/1.645","v":1017.0212765957447},1413.1515986955465,{"$f":"PlaceOfBirthAndPriorRes!H14-PlaceOfBirthAndPriorRes!L14","v":-4583},3.2431056966786018,1.645]
["Y",{"$f":"PlaceOfBirthAndPriorRes!E15/1.645","v":485.71428571428572},{"$f":"PlaceOfBirthAndPriorRes!M15/1.645","v":648.63221884498478},810.3345745250582,{"$f":"PlaceOfBirthAndPriorRes!D15-PlaceOfBirthAndPriorRes!L15","v":-3827},4.7227406065488777,1.645,"Place of Birth - Native Born Outside US",null,"Y",{"$f":"PlaceOfBirthAndPriorRes!I15/1.645","v":512.46200607902733},{"$f":"PlaceOfBirthAndPriorRes!M15/1.645","v":648.63221884498478},826.64445984855502,{"$f":"PlaceOfBirthAndPriorRes!H15-PlaceOfBirthAndPriorRes!L15","v":-2943},3.5601762824844565,1.645]
["Y",{"$f":"PlaceOfBirthAndPriorRes!E16/1.645","v":1026.1398176291793},{"$f":"PlaceOfBirthAndPriorRes!M16/1.645","v":1407.2948328267478},1741.6778323860326,{"$f":"PlaceOfBirthAndPriorRes!D16-PlaceOfBirthAndPriorRes!L16","v":-13270},7.6190899104575518,1.645,"Place of Birth - Foreign Born",null,"Y",{"$f":"PlaceOfBirthAndPriorRes!I16/1.645","v":1143.4650455927051},{"$f":"PlaceOfBirthAndPriorRes!M16/1.645","v":1407.2948328267478},1813.2818470919492,{"$f":"PlaceOfBirthAndPriorRes!H16-PlaceOfBirthAndPriorRes!L16","v":-4026},2.2202836290765817,1.645]
["Y",{"$f":"PlaceOfBirthAndPriorRes!E17/1.645","v":764.741641337386},{"$f":"PlaceOfBirthAndPriorRes!M17/1.645","v":1057.1428571428571},1304.7531561194105,{"$f":"PlaceOfBirthAndPriorRes!D17-PlaceOfBirthAndPriorRes!L17","v":-11363},8.708927007922151,1.645,"Place of Birth - Naturalized Citizen",null,"Y",{"$f":"PlaceOfBirthAndPriorRes!I17/1.645","v":893.61702127659578},{"$f":"PlaceOfBirthAndPriorRes!M17/1.645","v":1057.1428571428571},1384.233506718942,{"$f":"PlaceOfBirthAndPriorRes!H17-PlaceOfBirthAndPriorRes!L17","v":-5124},3.701687594707523,1.645]
["N",{"$f":"PlaceOfBirthAndPriorRes!E18/1.645","v":891.18541033434644},{"$f":"PlaceOfBirthAndPriorRes!M18/1.645","v":1232.8267477203647},1521.2078179813466,{"$f":"PlaceOfBirthAndPriorRes!D18-PlaceOfBirthAndPriorRes!L18","v":-1907},1.2536091239200982,1.645,"Place of Birth - Not a Citizen",null,"N",{"$f":"PlaceOfBirthAndPriorRes!I18/1.645","v":949.54407294832822},{"$f":"PlaceOfBirthAndPriorRes!M18/1.645","v":1232.8267477203647},1556.1155922250994,{"$f":"PlaceOfBirthAndPriorRes!H18-PlaceOfBirthAndPriorRes!L18","v":1098},0.70560310910448687,1.645]
["Y",{"$f":"PlaceOfBirthAndPriorRes!E44/1.645","v":373.86018237082067},{"$f":"PlaceOfBirthAndPriorRes!I44/1.645","v":473.5562310030395},603.34645095844178,{"$f":"PlaceOfBirthAndPriorRes!D44-PlaceOfBirthAndPriorRes!H44","v":-14184},23.508881136978772,1.645,"Place of Residence for Population Total:",null,"Y",{"$f":"PlaceOfBirthAndPriorRes!I44/1.645","v":473.5562310030395},{"$f":"PlaceOfBirthAndPriorRes!M44/1.645","v":433.43465045592706},{"$f":"SQRT((K37^2)+(L37^2))","v":641.96658802281581},{"$f":"PlaceOfBirthAndPriorRes!H44-PlaceOfBirthAndPriorRes!L44","v":-41681},64.927055048725734,1.645]
["N",{"$f":"PlaceOfBirthAndPriorRes!E45/1.645","v":2487.5379939209724},{"$f":"PlaceOfBirthAndPriorRes!I45/1.645","v":2747.1124620060791},3706.0048772376808,{"$f":"PlaceOfBirthAndPriorRes!D45-PlaceOfBirthAndPriorRes!H45","v":-487},0.13140835377502033,1.645,"Place of Residence for Population  Same house ",null,"Y",{"$f":"PlaceOfBirthAndPriorRes!I8/1.645","v":1143.4650455927051},{"$f":"PlaceOfBirthAndPriorRes!M8/1.645","v":1406.6869300911853},{"$f":"SQRT((K38^2)+(L38^2))","v":1812.8100920343782},{"$f":"PlaceOfBirthAndPriorRes!H8-PlaceOfBirthAndPriorRes!L8","v":-36301},20.024711997968947,1.645]
["Y",{"$f":"PlaceOfBirthAndPriorRes!E46/1.645","v":2678.0531823125662},{"$f":"PlaceOfBirthAndPriorRes!I46/1.645","v":2687.2891011584134},3793.8755330794993,{"$f":"PlaceOfBirthAndPriorRes!D46-PlaceOfBirthAndPriorRes!H46","v":-13697},3.6102923990450755,1.645,"Place of Residence for Population  Different house",null,"N",{"$f":"PlaceOfBirthAndPriorRes!I9/1.645","v":2793.3130699088147},{"$f":"PlaceOfBirthAndPriorRes!M9/1.645","v":3137.3860182370822},4200.6891022727377,{"$f":"PlaceOfBirthAndPriorRes!H9-PlaceOfBirthAndPriorRes!L9","v":-5661},1.347636033558679,1.645]
["Y",{"$f":"PlaceOfBirthAndPriorRes!E47/1.645","v":2435.2958401454362},{"$f":"PlaceOfBirthAndPriorRes!I47/1.645","v":2375.0255751015666},3401.6778670850349,{"$f":"PlaceOfBirthAndPriorRes!D47-PlaceOfBirthAndPriorRes!H47","v":-6257},1.8393863982663787,1.645,"Place of Residence for Population in New Hampshire",null,"Y",{"$f":"PlaceOfBirthAndPriorRes!I10/1.645","v":2723.4042553191489},{"$f":"PlaceOfBirthAndPriorRes!M10/1.645","v":3311.2462006079027},4287.3397508164335,{"$f":"PlaceOfBirthAndPriorRes!H10-PlaceOfBirthAndPriorRes!L10","v":-27697},6.4601831461399088,1.645]
["Y",{"$f":"PlaceOfBirthAndPriorRes!E48/1.645","v":2150.1519756838907},{"$f":"PlaceOfBirthAndPriorRes!I48/1.645","v":1945.8966565349544},2899.9426402001909,{"$f":"PlaceOfBirthAndPriorRes!D48-PlaceOfBirthAndPriorRes!H48","v":-5556},1.9158999640132379,1.645,"Place of Residence for Population Same county",null,"Y",{"$f":"PlaceOfBirthAndPriorRes!I11/1.645","v":2593.3130699088147},{"$f":"PlaceOfBirthAndPriorRes!M11/1.645","v":3447.41641337386},4313.9254288593547,{"$f":"PlaceOfBirthAndPriorRes!H11-PlaceOfBirthAndPriorRes!L11","v":-15767},3.6549078698768684,1.645]
["N",{"$f":"PlaceOfBirthAndPriorRes!E49/1.645","v":1143.4650455927051},{"$f":"PlaceOfBirthAndPriorRes!I49/1.645","v":1361.7021276595744},1778.1296339032594,{"$f":"PlaceOfBirthAndPriorRes!D49-PlaceOfBirthAndPriorRes!H49","v":-701},0.39423447347941698,1.645,"Place of Residence for Population Different county",null,"Y",{"$f":"PlaceOfBirthAndPriorRes!I12/1.645","v":831.61094224924011},{"$f":"PlaceOfBirthAndPriorRes!M12/1.645","v":1004.8632218844984},1304.3492070625732,{"$f":"PlaceOfBirthAndPriorRes!H12-PlaceOfBirthAndPriorRes!L12","v":-3372},2.5851972629276387,1.645]
["Y",{"$f":"PlaceOfBirthAndPriorRes!E50/1.645","v":1041.9452887537993},{"$f":"PlaceOfBirthAndPriorRes!I50/1.645","v":1134.3465045592704},1540.2571139787258,{"$f":"PlaceOfBirthAndPriorRes!D50-PlaceOfBirthAndPriorRes!H50","v":-6498},4.218776164723983,1.645,"Place of Residence for Population in Different state",null,"Y",{"$f":"PlaceOfBirthAndPriorRes!I13/1.645","v":1204.8632218844984},{"$f":"PlaceOfBirthAndPriorRes!M13/1.645","v":1383.5866261398176},1834.6681813022367,{"$f":"PlaceOfBirthAndPriorRes!H13-PlaceOfBirthAndPriorRes!L13","v":-3975},2.1666043159796713,1.645]
["N",{"$f":"PlaceOfBirthAndPriorRes!E51/1.645","v":394.52887537993922},{"$f":"PlaceOfBirthAndPriorRes!I51/1.645","v":542.24924012158056},670.58725899094679,{"$f":"PlaceOfBirthAndPriorRes!D51-PlaceOfBirthAndPriorRes!H51","v":-942},1.4047388872515358,1.645,"Place of Residence for Population Elsewhere",null,"Y",{"$f":"PlaceOfBirthAndPriorRes!I14/1.645","v":981.15501519756833},{"$f":"PlaceOfBirthAndPriorRes!M14/1.645","v":1017.0212765957447},1413.1515986955465,{"$f":"PlaceOfBirthAndPriorRes!H14-PlaceOfBirthAndPriorRes!L14","v":-4583},3.2431056966786018,1.645]
["Y",{"$f":"SchoolEnrolEduAttain!G23/1.645","v":551.97568389057756},{"$f":"SchoolEnrolEduAttain!M23/1.645","v":506.38297872340422},{"$f":"SQRT((B45^2)+(C45^2))","v":749.06667042877996},{"$f":"SchoolEnrolEduAttain!F23-SchoolEnrolEduAttain!L23","v":-60414},80.652366985461896,1.645,"Total Population 3 years & over",null,"Y",{"$f":"SchoolEnrolEduAttain!J23/1.645","v":444.98480243161094},{"$f":"SchoolEnrolEduAttain!M23/1.645","v":506.38297872340422},{"$f":"SQRT((K45^2)+(L45^2))","v":674.11808723389663},{"$f":"SchoolEnrolEduAttain!I23-SchoolEnrolEduAttain!L23","v":-45663},67.737390324844455,1.645]
["Y",{"$f":"SchoolEnrolEduAttain!G24/1.645","v":1159.8784194528876},{"$f":"SchoolEnrolEduAttain!M24/1.645","v":1603.0395136778116},{"$f":"SQRT((B46^2)+(C46^2))","v":1978.6494460426595},{"$f":"SchoolEnrolEduAttain!F24-SchoolEnrolEduAttain!L24","v":30324},15.325605079084948,1.645,"Population 3 years & over enrolled in school",null,"Y",{"$f":"SchoolEnrolEduAttain!J24/1.645","v":1269.3009118541033},{"$f":"SchoolEnrolEduAttain!M24/1.645","v":1603.0395136778116},{"$f":"SQRT((K46^2)+(L46^2))","v":2044.7152582318286},{"$f":"SchoolEnrolEduAttain!I24-SchoolEnrolEduAttain!L24","v":14156},6.9232133633322759,1.645]
["Y",{"$f":"SchoolEnrolEduAttain!G25/1.645","v":661.14837496148459},{"$f":"SchoolEnrolEduAttain!M25/1.645","v":766.14100179172976},1011.9729286599752,{"$f":"SchoolEnrolEduAttain!F25-SchoolEnrolEduAttain!L25","v":3489},3.4477206861847889,1.645,"Preprimary (Nursery, Preschool, Kindergarten)",null,"N",{"$f":"SchoolEnrolEduAttain!J25/1.645","v":687.39285593282625},{"$f":"SchoolEnrolEduAttain!M25/1.645","v":766.14100179172976},1029.3109214488704,{"$f":"SchoolEnrolEduAttain!I25-SchoolEnrolEduAttain!L25","v":1671},1.6234161759868246,1.645]
["Y",{"$f":"SchoolEnrolEduAttain!G26/1.645","v":432.21884498480244},{"$f":"SchoolEnrolEduAttain!M26/1.645","v":562.31003039513678},709.22894769106563,{"$f":"SchoolEnrolEduAttain!F26-SchoolEnrolEduAttain!L26","v":1554},2.1911119181741432,1.645,"Nursery school and Preschool",null,"N",{"$f":"SchoolEnrolEduAttain!J26/1.645","v":492.40121580547111},{"$f":"SchoolEnrolEduAttain!M26/1.645","v":562.31003039513678},747.42994829594954,{"$f":"SchoolEnrolEduAttain!I26-SchoolEnrolEduAttain!L26","v":289},0.38665830912834742,1.645]
["Y",{"$f":"SchoolEnrolEduAttain!G27/1.645","v":500.30395136778117},{"$f":"SchoolEnrolEduAttain!M27/1.645","v":520.36474164133733},721.86114183939208,{"$f":"SchoolEnrolEduAttain!F27-SchoolEnrolEduAttain!L27","v":1935},2.6805709406512435,1.645,"Kindergarten",null,"Y",{"$f":"SchoolEnrolEduAttain!J27/1.645","v":479.63525835866261},{"$f":"SchoolEnrolEduAttain!M27/1.645","v":520.36474164133733},707.69304462050263,{"$f":"SchoolEnrolEduAttain!I27-SchoolEnrolEduAttain!L27","v":1382},1.9528240534582215,1.645]
["Y",{"$f":"SchoolEnrolEduAttain!G28/1.645","v":1306.3416780243026},{"$f":"SchoolEnrolEduAttain!M28/1.645","v":1494.1221606791737},1984.6736786625536,{"$f":"SchoolEnrolEduAttain!F28-SchoolEnrolEduAttain!L28","v":23743},11.963175737786832,1.645,"Elementary through High school",null,"Y",{"$f":"SchoolEnrolEduAttain!J28/1.645","v":1122.540918805583},{"$f":"SchoolEnrolEduAttain!M28/1.645","v":1494.1221606791737},1868.8229304633132,{"$f":"SchoolEnrolEduAttain!I28-SchoolEnrolEduAttain!L28","v":6085},3.2560602188733978,1.645]
["Y",{"$f":"SchoolEnrolEduAttain!G29/1.645","v":1161.9667626543053},{"$f":"SchoolEnrolEduAttain!M29/1.645","v":1334.9130216537942},1769.7908161401986,{"$f":"SchoolEnrolEduAttain!F29-SchoolEnrolEduAttain!L29","v":14693},8.30211111166488,1.645,"Elementary school (grades 1-8)",null,"Y",{"$f":"SchoolEnrolEduAttain!J29/1.645","v":910.52730219049101},{"$f":"SchoolEnrolEduAttain!M29/1.645","v":1334.9130216537942},1615.875225200002,{"$f":"SchoolEnrolEduAttain!I29-SchoolEnrolEduAttain!L29","v":3554},2.1994272482023542,1.645]
["Y",{"$f":"SchoolEnrolEduAttain!G30/1.645","v":596.96048632218844},{"$f":"SchoolEnrolEduAttain!M30/1.645","v":671.12462006079022},898.20380642800865,{"$f":"SchoolEnrolEduAttain!F30-SchoolEnrolEduAttain!L30","v":9050},10.07566427044012,1.645,"High school (grades 9-12)",null,"Y",{"$f":"SchoolEnrolEduAttain!J30/1.645","v":656.53495440729478},{"$f":"SchoolEnrolEduAttain!M30/1.645","v":671.12462006079022},938.85377030202562,{"$f":"SchoolEnrolEduAttain!I30-SchoolEnrolEduAttain!L30","v":2531},2.695840481298581,1.645]
["Y",{"$f":"SchoolEnrolEduAttain!G31/1.645","v":1028.3802735420722},{"$f":"SchoolEnrolEduAttain!M31/1.645","v":1418.3456040569083},1751.933286274915,{"$f":"SchoolEnrolEduAttain!F31-SchoolEnrolEduAttain!L31","v":3092},1.7649073878688784,1.645,"College or Graduate School",null,"Y",{"$f":"SchoolEnrolEduAttain!J31/1.645","v":975.15329909004276},{"$f":"SchoolEnrolEduAttain!M31/1.645","v":1418.3456040569083},1721.2286917413824,{"$f":"SchoolEnrolEduAttain!I31-SchoolEnrolEduAttain!L31","v":6400},3.7182740624228514,1.645]
["Y",{"$f":"SchoolEnrolEduAttain!G52/1.645","v":289.36170212765956},{"$f":"SchoolEnrolEduAttain!M52/1.645","v":316.7173252279635},{"$f":"SQRT((B54^2)+(C54^2))","v":428.99890297968358},{"$f":"SchoolEnrolEduAttain!I52-SchoolEnrolEduAttain!L52","v":-53762},125.31966778140234,1.645,"Population 25 years and over",null,"Y",{"$f":"SchoolEnrolEduAttain!J52/1.645","v":284.49848024316111},{"$f":"SchoolEnrolEduAttain!M52/1.645","v":316.7173252279635},{"$f":"SQRT((K54^2)+(L54^2))","v":425.73377756553913},{"$f":"SchoolEnrolEduAttain!I52-SchoolEnrolEduAttain!L52","v":-53762},126.28079525995248,1.645]
["Y",{"$f":"SchoolEnrolEduAttain!G53/1.645","v":642.26700513566766},{"$f":"SchoolEnrolEduAttain!M53/1.645","v":625.7439655233236},{"$f":"SQRT((B55^2)+(C55^2))","v":896.6952750376206},{"$f":"SchoolEnrolEduAttain!I53-SchoolEnrolEduAttain!L53","v":2836},3.1627243713099933,1.645,"Less than 9th Grade",null,"Y",{"$f":"SchoolEnrolEduAttain!J53/1.645","v":581.85978047251331},{"$f":"SchoolEnrolEduAttain!M53/1.645","v":625.7439655233236},{"$f":"SQRT((K55^2)+(L55^2))","v":854.4684397450709},{"$f":"SchoolEnrolEduAttain!I53-SchoolEnrolEduAttain!L53","v":2836},3.3190225268543743,1.645]
["Y",{"$f":"SchoolEnrolEduAttain!G54/1.645","v":931.83359844636607},{"$f":"SchoolEnrolEduAttain!M54/1.645","v":986.76434092671445},1357.2095341980312,{"$f":"SchoolEnrolEduAttain!I54-SchoolEnrolEduAttain!L54","v":5304},3.9080185235613665,1.645,"9th to 12th Grade, no Diploma",null,"Y",{"$f":"SchoolEnrolEduAttain!J54/1.645","v":900.01021377557777},{"$f":"SchoolEnrolEduAttain!M54/1.645","v":986.76434092671445},1335.5606498489294,{"$f":"SchoolEnrolEduAttain!I54-SchoolEnrolEduAttain!L54","v":5304},3.9713658833838483,1.645]
["Y",{"$f":"SchoolEnrolEduAttain!G55/1.645","v":1872.7048356544942},{"$f":"SchoolEnrolEduAttain!M55/1.645","v":2189.1806446141841},2880.8914065332451,{"$f":"SchoolEnrolEduAttain!I55-SchoolEnrolEduAttain!L55","v":-4970},1.7251604794020017,1.645,"High School Graduate ",null,"Y",{"$f":"SchoolEnrolEduAttain!J55/1.645","v":1772.8605486079205},{"$f":"SchoolEnrolEduAttain!M55/1.645","v":2189.1806446141841},2817.0101915974233,{"$f":"SchoolEnrolEduAttain!I55-SchoolEnrolEduAttain!L55","v":-4970},1.7642818669327196,1.645]
["N",{"$f":"SchoolEnrolEduAttain!G56/1.645","v":1512.5458102839154},{"$f":"SchoolEnrolEduAttain!M56/1.645","v":2105.5370082404379},2592.5047581976623,{"$f":"SchoolEnrolEduAttain!I56-SchoolEnrolEduAttain!L56","v":1158},0.44667227565863921,1.645,"Some College, No Degree",null,"N",{"$f":"SchoolEnrolEduAttain!J56/1.645","v":1734.2835397786141},{"$f":"SchoolEnrolEduAttain!M56/1.645","v":2105.5370082404379},2727.8243142506694,{"$f":"SchoolEnrolEduAttain!I56-SchoolEnrolEduAttain!L56","v":1158},0.42451414262655746,1.645]
["Y",{"$f":"SchoolEnrolEduAttain!G57/1.645","v":1161.0593734326119},{"$f":"SchoolEnrolEduAttain!M57/1.645","v":1394.7134334617103},1814.7408713406667,{"$f":"SchoolEnrolEduAttain!I57-SchoolEnrolEduAttain!L57","v":-10056},5.5412870007005361,1.645,"Associate Degree",null,"Y",{"$f":"SchoolEnrolEduAttain!J57/1.645","v":1302.2760792814395},{"$f":"SchoolEnrolEduAttain!M57/1.645","v":1394.7134334617103},1908.1793804952381,{"$f":"SchoolEnrolEduAttain!I57-SchoolEnrolEduAttain!L57","v":-10056},5.2699447980567333,1.645]
["Y",{"$f":"SchoolEnrolEduAttain!G58/1.645","v":1632.6529226448329},{"$f":"SchoolEnrolEduAttain!M58/1.645","v":2058.8710791509743},2627.6426100946478,{"$f":"SchoolEnrolEduAttain!I58-SchoolEnrolEduAttain!L58","v":-24253},9.2299462289228167,1.645,"Bachelor's Degree",null,"Y",{"$f":"SchoolEnrolEduAttain!J58/1.645","v":1597.8665296650213},{"$f":"SchoolEnrolEduAttain!M58/1.645","v":2058.8710791509743},2606.171054859607,{"$f":"SchoolEnrolEduAttain!I58-SchoolEnrolEduAttain!L58","v":-24253},9.3059893189959837,1.645]
["Y",{"$f":"SchoolEnrolEduAttain!G59/1.645","v":903.80009485994844},{"$f":"SchoolEnrolEduAttain!M59/1.645","v":1606.2709125172728},1843.0846035567452,{"$f":"SchoolEnrolEduAttain!I59-SchoolEnrolEduAttain!L59","v":-22106},11.994023474202061,1.645,"Graduate or Professional Degree",null,"Y",{"$f":"SchoolEnrolEduAttain!J59/1.645","v":1227.4286354969272},{"$f":"SchoolEnrolEduAttain!M59/1.645","v":1606.2709125172728},2021.5556632546434,{"$f":"SchoolEnrolEduAttain!I59-SchoolEnrolEduAttain!L59","v":-22106},10.935142871312289,1.645]
["Y",{"$f":"HousingCharacteristics!D32/1.645","v":171.42857142857142},{"$f":"HousingCharacteristics!J32/1.645","v":111.85410334346504},204.69268559675348,{"$f":"HousingCharacteristics!C32-HousingCharacteristics!I32","v":-24564},120.00428803006334,1.645,"Total Housing Units",null,"Y",{"$f":"HousingCharacteristics!G32/1.645","v":171.42857142857142},{"$f":"HousingCharacteristics!J32/1.645","v":111.85410334346504},{"$f":"SQRT((K62^2)+(L62^2))","v":204.69268559675348},{"$f":"HousingCharacteristics!F32-HousingCharacteristics!I32","v":-15751},{"$f":"ABS((N62/M62))","v":76.949500926621383},1.645]
["Y",{"$f":"HousingCharacteristics!D33/1.645","v":1284.4984802431611},{"$f":"HousingCharacteristics!J33/1.645","v":1200},1757.821477211776,{"$f":"HousingCharacteristics!C33-HousingCharacteristics!I33","v":-25629},14.579978872855875,1.645,"Occupied Units",null,"Y",{"$f":"HousingCharacteristics!G33/1.645","v":1284.4984802431611},{"$f":"HousingCharacteristics!J33/1.645","v":1200},{"$f":"SQRT((K63^2)+(L63^2))","v":1757.821477211776},{"$f":"HousingCharacteristics!F33-HousingCharacteristics!I33","v":-19125},{"$f":"ABS((N63/M63))","v":10.879944435731733},1.645]
["Y",{"$f":"HousingCharacteristics!D34/1.645","v":1721.580547112462},{"$f":"HousingCharacteristics!J34/1.645","v":1592.09726443769},2344.9122114966308,{"$f":"HousingCharacteristics!C34-HousingCharacteristics!I34","v":-13807},5.8880669102694201,1.645,"Owner Occupied",null,"Y",{"$f":"HousingCharacteristics!G34/1.645","v":1721.580547112462},{"$f":"HousingCharacteristics!J34/1.645","v":1592.09726443769},2344.9122114966308,{"$f":"HousingCharacteristics!F34-HousingCharacteristics!I34","v":-18596},7.9303608505374186,1.645]
["Y",{"$f":"HousingCharacteristics!D35/1.645","v":1348.936170212766},{"$f":"HousingCharacteristics!J35/1.645","v":1204.2553191489362},1808.2753288719034,{"$f":"HousingCharacteristics!C35-HousingCharacteristics!I35","v":-11822},6.5377212259900608,1.645,"Renter Occupied",null,"N",{"$f":"HousingCharacteristics!G35/1.645","v":1348.936170212766},{"$f":"HousingCharacteristics!J35/1.645","v":1204.2553191489362},1808.2753288719034,{"$f":"HousingCharacteristics!F35-HousingCharacteristics!I35","v":-529},0.29254394591006105,1.645]
["N",{"$f":"HousingCharacteristics!D36/1.645","v":1246.8085106382978},{"$f":"HousingCharacteristics!J36/1.645","v":1176.29179331307},1714.1160536019049,{"$f":"HousingCharacteristics!C36-HousingCharacteristics!I36","v":1065},0.62131149041052092,1.645,"Vacant Units",null,"Y",{"$f":"HousingCharacteristics!G36/1.645","v":1246.8085106382978},{"$f":"HousingCharacteristics!J36/1.645","v":1176.29179331307},1714.1160536019049,{"$f":"HousingCharacteristics!F36-HousingCharacteristics!I36","v":3374},1.9683614729061951,1.645]
["Y",{"$f":"HousingCharacteristics!D37/1.645","v":327.05167173252278},{"$f":"HousingCharacteristics!J37/1.645","v":289.96960486322189},437.0871397416891,{"$f":"HousingCharacteristics!C37-HousingCharacteristics!I37","v":3903},8.9295695185783899,1.645,"Vacant For Sale",null,"Y",{"$f":"HousingCharacteristics!G37/1.645","v":327.05167173252278},{"$f":"HousingCharacteristics!J37/1.645","v":289.96960486322189},437.0871397416891,{"$f":"HousingCharacteristics!F37-HousingCharacteristics!I37","v":2326},5.321593312890939,1.645]
[{"$f":"IF(F68>G68,\"Y\",\"N\")","v":"Y"},{"$f":"HousingCharacteristics!D38/1.645","v":399.39209726443767},{"$f":"HousingCharacteristics!J38/1.645","v":478.419452887538},623.21683245761039,{"$f":"HousingCharacteristics!C38-HousingCharacteristics!I38","v":2125},{"$f":"ABS((E68/D68))","v":3.409728186609172},1.645,"Vacant For Rent",null,"N",{"$f":"HousingCharacteristics!G38/1.645","v":399.39209726443767},{"$f":"HousingCharacteristics!J38/1.645","v":478.419452887538},623.21683245761039,{"$f":"HousingCharacteristics!F38-HousingCharacteristics!I38","v":1017},1.6318557956618955,1.645]
["Y",{"$f":"HousingCharacteristics!D39/1.645","v":779.93920972644378},{"$f":"HousingCharacteristics!J39/1.645","v":848.63221884498478},1152.5978542971836,{"$f":"HousingCharacteristics!C39-HousingCharacteristics!I39","v":-3807},3.3029733534610681,1.645,"Vacant Seasonal",null,{"$f":"IF(O69>P69,\"Y\",\"N\")","v":"N"},{"$f":"HousingCharacteristics!G39/1.645","v":779.93920972644378},{"$f":"HousingCharacteristics!J39/1.645","v":848.63221884498478},1152.5978542971836,{"$f":"HousingCharacteristics!F39-HousingCharacteristics!I39","v":-680},0.58997159977765334,1.645]
["Y",{"$f":"HousingCharacteristics!E71/1.645","v":361.09422492401217},{"$f":"HousingCharacteristics!K71/1.645","v":111.85410334346504},378.02166565984504,{"$f":"HousingCharacteristics!D71-HousingCharacteristics!J71","v":-24564},64.980402530958116,1.645,"Total Housing Units",null,"Y",{"$f":"HousingCharacteristics!H71/1.645","v":171.42857142857142},{"$f":"HousingCharacteristics!K71/1.645","v":111.85410334346504},204.69268559675348,{"$f":"HousingCharacteristics!G71-HousingCharacteristics!J71","v":-15751},76.949500926621383,1.645]
["Y",{"$f":"HousingCharacteristics!E72/1.645","v":1148.936170212766},{"$f":"HousingCharacteristics!K72/1.645","v":1644.3768996960487},2005.9984325709647,{"$f":"HousingCharacteristics!D72-HousingCharacteristics!J72","v":-13773},6.8659076579376954,1.645,"Single Family Units",null,"Y",{"$f":"HousingCharacteristics!H72/1.645","v":1397.5683890577507},{"$f":"HousingCharacteristics!K72/1.645","v":1644.3768996960487},2158.0483753492331,{"$f":"HousingCharacteristics!G72-HousingCharacteristics!J72","v":-8839},4.09583033492917,1.645]
["Y",{"$f":"HousingCharacteristics!E73/1.645","v":1173.8601823708207},{"$f":"HousingCharacteristics!K73/1.645","v":1626.1398176291793},2005.561874945452,{"$f":"HousingCharacteristics!D73-HousingCharacteristics!J73","v":-13691},6.8265158861640067,1.645,"SF Owner Occ.",null,"Y",{"$f":"HousingCharacteristics!H73/1.645","v":1793.9209726443769},{"$f":"HousingCharacteristics!K73/1.645","v":1626.1398176291793},2421.2565255611412,{"$f":"HousingCharacteristics!G73-HousingCharacteristics!J73","v":-14026},5.792859968337881,1.645]
["N",{"$f":"HousingCharacteristics!E74/1.645","v":646.80851063829789},{"$f":"HousingCharacteristics!K74/1.645","v":642.55319148936167},911.72136825199914,{"$f":"HousingCharacteristics!D74-HousingCharacteristics!J74","v":564},0.61861004868332847,1.645,"SF Renter Occ.",null,"Y",{"$f":"HousingCharacteristics!H74/1.645","v":649.24012158054711},{"$f":"HousingCharacteristics!K74/1.645","v":642.55319148936167},913.44804962465594,{"$f":"HousingCharacteristics!G74-HousingCharacteristics!J74","v":4414},4.8322397774167367,1.645]
["Y",{"$f":"HousingCharacteristics!E75/1.645","v":1783.2479378746375},{"$f":"HousingCharacteristics!K75/1.645","v":2004.0667811494905},2682.583991460664,{"$f":"HousingCharacteristics!D75-HousingCharacteristics!J75","v":-12419},4.6294915795862437,1.645,"Multi-family Units",null,"Y",{"$f":"HousingCharacteristics!H75/1.645","v":1780.911214991942},{"$f":"HousingCharacteristics!K75/1.645","v":2004.0667811494905},2681.0312230540985,{"$f":"HousingCharacteristics!G75-HousingCharacteristics!J75","v":-8514},3.1756437324520492,1.645]
["N",{"$f":"HousingCharacteristics!E76/1.645","v":809.78850953749179},{"$f":"HousingCharacteristics!K76/1.645","v":1016.1832028036008},1299.3789792970858,{"$f":"HousingCharacteristics!D76-HousingCharacteristics!J76","v":-1703},1.310626096876877,1.645,"MF Owner Occ.",null,"Y",{"$f":"HousingCharacteristics!H76/1.645","v":764.17557006352388},{"$f":"HousingCharacteristics!K76/1.645","v":1016.1832028036008},1271.4529497948777,{"$f":"HousingCharacteristics!G76-HousingCharacteristics!J76","v":-4427},3.4818433515091565,1.645]
["Y",{"$f":"HousingCharacteristics!E77/1.645","v":1493.83448469062},{"$f":"HousingCharacteristics!K77/1.645","v":1674.0874267523395},2243.6822814429765,{"$f":"HousingCharacteristics!D77-HousingCharacteristics!J77","v":-13294},5.9250813316804578,1.645,"MF Renter Occ.",null,"Y",{"$f":"HousingCharacteristics!H77/1.645","v":1432.3514627863201},{"$f":"HousingCharacteristics!K77/1.645","v":1674.0874267523395},2203.2247786724761,{"$f":"HousingCharacteristics!G77-HousingCharacteristics!J77","v":-5791},2.6284199669764474,1.645]
["Y",{"$f":"HousingCharacteristics!E78/1.645","v":619.38487505861201},{"$f":"HousingCharacteristics!K78/1.645","v":647.90055673668178},896.33294866978679,{"$f":"HousingCharacteristics!D78-HousingCharacteristics!J78","v":1628},1.8162893625812284,1.645,"Mobile Home & Other",null,"Y",{"$f":"HousingCharacteristics!H78/1.645","v":661.93462287508567},{"$f":"HousingCharacteristics!K78/1.645","v":647.90055673668178},926.24649871429153,{"$f":"HousingCharacteristics!G78-HousingCharacteristics!J78","v":1602},1.729561193725117,1.645]
["Y",{"$f":"HousingCharacteristics!$D88/1.645","v":465.6534954407295},{"$f":"HousingCharacteristics!L88/1.645","v":559.27051671732522},727.74768201996596,{"$f":"HousingCharacteristics!$D88-HousingCharacteristics!$K88","v":-11732},16.120971993254841,1.645,"No Bedrooms",null,"N",{"$f":"HousingCharacteristics!H88/1.645","v":485.10638297872339},{"$f":"HousingCharacteristics!L88/1.645","v":559.27051671732522},740.34567174797735,{"$f":"HousingCharacteristics!G88-HousingCharacteristics!K88","v":-371},0.50111726745704932,1.645]
["Y",{"$f":"HousingCharacteristics!$D89/1.645","v":982.370820668693},{"$f":"HousingCharacteristics!L89/1.645","v":1119.1489361702127},1489.1429651420981,{"$f":"HousingCharacteristics!$D89-HousingCharacteristics!$K89","v":-68749},46.166823205883247,1.645,"1 Bedroom",null,"Y",{"$f":"HousingCharacteristics!H89/1.645","v":899.08814589665656},{"$f":"HousingCharacteristics!L89/1.645","v":1119.1489361702127},1435.5674262892728,{"$f":"HousingCharacteristics!G89-HousingCharacteristics!K89","v":-3889},2.7090333263220407,1.645]
["Y",{"$f":"HousingCharacteristics!$D90/1.645","v":1296.0486322188449},{"$f":"HousingCharacteristics!L90/1.645","v":1850.4559270516718},2259.187729038249,{"$f":"HousingCharacteristics!$D90-HousingCharacteristics!$K90","v":-187664},83.067023420798137,1.645,"2 Bedrooms",null,"N",{"$f":"HousingCharacteristics!H90/1.645","v":1418.8449848024316},{"$f":"HousingCharacteristics!L90/1.645","v":1850.4559270516718},2331.8036428609666,{"$f":"HousingCharacteristics!G90-HousingCharacteristics!K90","v":-2077},0.89072680127202319,1.645]
["Y",{"$f":"HousingCharacteristics!$D91/1.645","v":1548.3282674772036},{"$f":"HousingCharacteristics!L91/1.645","v":1890.5775075987842},2443.6865052840535,{"$f":"HousingCharacteristics!$D91-HousingCharacteristics!$K91","v":-237889},97.348411707314256,1.645,"3 Bedrooms",null,"N",{"$f":"HousingCharacteristics!H91/1.645","v":1497.872340425532},{"$f":"HousingCharacteristics!L91/1.645","v":1890.5775075987842},2412.0333456339886,{"$f":"HousingCharacteristics!G91-HousingCharacteristics!K91","v":-3513},1.4564475264651155,1.645]
["Y",{"$f":"HousingCharacteristics!$D92/1.645","v":1139.1552279899447},{"$f":"HousingCharacteristics!L92/1.645","v":1466.7149867752594},1857.1288285652054,{"$f":"HousingCharacteristics!$D92-HousingCharacteristics!$K92","v":-121511.08964995654},65.429542517970873,1.645,"4+ Bedrooms",null,"Y",{"$f":"HousingCharacteristics!H92/1.645","v":1030.3951367781156},{"$f":"HousingCharacteristics!L92/1.645","v":1466.7149867752594},1792.4751017314413,{"$f":"HousingCharacteristics!G92-HousingCharacteristics!K92","v":-27598},15.396587642049651,1.645]
["Y",{"$f":"'HHIncome-10YearComparison'!$F$30/1.645","v":170.82066869300911},{"$f":"'HHIncome-10YearComparison'!$M$30/1.645","v":195.13677811550153},{"$f":"SQRT((B83^2)+(C83^2))","v":259.34159524847774},{"$f":"'HHIncome-10YearComparison'!$E$30-'HHIncome-10YearComparison'!$L$30","v":504},1.9433828172342065,1.645,"Household Income Less than $10,000",null,"N",{"$f":"'HHIncome-10YearComparison'!$F$30/1.645","v":170.82066869300911},{"$f":"'HHIncome-10YearComparison'!$J$30/1.645","v":178.11550151975683},{"$f":"SQRT((K83^2)+(L83^2))","v":246.78904500475963},{"$f":"'HHIncome-10YearComparison'!$E$30-'HHIncome-10YearComparison'!$I$30","v":230},0.93197005562205637,1.645]
["N",{"$f":"'HHIncome-10YearComparison'!$F$31/1.645","v":157.44680851063831},{"$f":"'HHIncome-10YearComparison'!$M$31/1.645","v":183.58662613981764},{"$f":"SQRT((B84^2)+(C84^2))","v":241.85439174756942},{"$f":"'HHIncome-10YearComparison'!$E$31-'HHIncome-10YearComparison'!$L$31","v":301},1.2445504827307936,1.645,"Household Income $10,000 to $14,999",null,"N",{"$f":"'HHIncome-10YearComparison'!$F$31/1.645","v":157.44680851063831},{"$f":"'HHIncome-10YearComparison'!$J$31/1.645","v":173.25227963525836},{"$f":"SQRT((K84^2)+(L84^2))","v":234.10649266733157},{"$f":"'HHIncome-10YearComparison'!$E$31-'HHIncome-10YearComparison'!$I$31","v":-114},0.48695787417564501,1.645]
["Y",{"$f":"'HHIncome-10YearComparison'!$F$32/1.645","v":240.9726750480751},{"$f":"'HHIncome-10YearComparison'!$M$32/1.645","v":241.38638076166072},341.07948477889818,{"$f":"'HHIncome-10YearComparison'!$E$32-'HHIncome-10YearComparison'!$L$32","v":794},2.3279031294265722,1.645,"Household Income $15,000 to $24,999",null,"N",{"$f":"'HHIncome-10YearComparison'!$F$32/1.645","v":240.9726750480751},{"$f":"'HHIncome-10YearComparison'!$J$32/1.645","v":229.18578111263079},332.55669048153567,{"$f":"'HHIncome-10YearComparison'!$E$32-'HHIncome-10YearComparison'!$I$32","v":0},0,1.645]
["Y",{"$f":"'HHIncome-10YearComparison'!$F$33/1.645","v":191.93560201487344},{"$f":"'HHIncome-10YearComparison'!$M$33/1.645","v":212.68778416266824},286.48799076547283,{"$f":"'HHIncome-10YearComparison'!$E$33-'HHIncome-10YearComparison'!$L$33","v":898},3.1345118432385815,1.645,"Household Income $25,000 to $34,999",null,"N",{"$f":"'HHIncome-10YearComparison'!$F$33/1.645","v":191.93560201487344},{"$f":"'HHIncome-10YearComparison'!$J$33/1.645","v":218.98087641768421},291.19048672212659,{"$f":"'HHIncome-10YearComparison'!$E$33-'HHIncome-10YearComparison'!$I$33","v":36},0.123630412535948,1.645]
["Y",{"$f":"'HHIncome-10YearComparison'!$F$34/1.645","v":284.86065326980986},{"$f":"'HHIncome-10YearComparison'!$M$34/1.645","v":266.34743443488605},389.98275296652383,{"$f":"'HHIncome-10YearComparison'!$E$34-'HHIncome-10YearComparison'!$L$34","v":1729},4.4335293980255006,1.645,"Household Income $35,000 to $49,999",null,"N",{"$f":"'HHIncome-10YearComparison'!$F$34/1.645","v":284.86065326980986},{"$f":"'HHIncome-10YearComparison'!$J$34/1.645","v":251.31760763289179},379.87646898383031,{"$f":"'HHIncome-10YearComparison'!$E$34-'HHIncome-10YearComparison'!$I$34","v":312},0.82131962749522258,1.645]
["Y",{"$f":"'HHIncome-10YearComparison'!$F$35/1.645","v":286.71170402199556},{"$f":"'HHIncome-10YearComparison'!$M$35/1.645","v":291.75088343997902},409.05033823626724,{"$f":"'HHIncome-10YearComparison'!$E$35-'HHIncome-10YearComparison'!$L$35","v":816},1.9948645037635413,1.645,"Household Income $50,000 to $74,999",null,"N",{"$f":"'HHIncome-10YearComparison'!$F$35/1.645","v":286.71170402199556},{"$f":"'HHIncome-10YearComparison'!$J$35/1.645","v":277.27096180503565},398.85183650509362,{"$f":"'HHIncome-10YearComparison'!$E$35-'HHIncome-10YearComparison'!$I$35","v":-289},0.72457984030445666,1.645]
["N",{"$f":"'HHIncome-10YearComparison'!$F$36/1.645","v":224.31610942249239},{"$f":"'HHIncome-10YearComparison'!$M$36/1.645","v":279.02735562310028},358.01394125433671,{"$f":"'HHIncome-10YearComparison'!$E$36-'HHIncome-10YearComparison'!$L$36","v":-522},1.458043779443678,1.645,"Household Income $75,000 to $99,999",null,"N",{"$f":"'HHIncome-10YearComparison'!$F$36/1.645","v":224.31610942249239},{"$f":"'HHIncome-10YearComparison'!$J$36/1.645","v":207.90273556231003},305.84516409571592,{"$f":"'HHIncome-10YearComparison'!$E$36-'HHIncome-10YearComparison'!$I$36","v":-213},0.69643082515223453,1.645]
["Y",{"$f":"'HHIncome-10YearComparison'!$F$37/1.645","v":245.72884366620198},{"$f":"'HHIncome-10YearComparison'!$M$37/1.645","v":296.7873048762284},385.31204100731668,{"$f":"'HHIncome-10YearComparison'!$E$37-'HHIncome-10YearComparison'!$L$37","v":-1399},3.6308234654245712,1.645,"Household Income $100,000 to $149,999",null,"N",{"$f":"'HHIncome-10YearComparison'!$F$37/1.645","v":245.72884366620198},{"$f":"'HHIncome-10YearComparison'!$J$37/1.645","v":214.84524590700744},326.4064097078537,{"$f":"'HHIncome-10YearComparison'!$E$37-'HHIncome-10YearComparison'!$I$37","v":-28},8.5782629161789678E-2,1.645]
["Y",{"$f":"'HHIncome-10YearComparison'!$F$38/1.645","v":109.42249240121581},{"$f":"'HHIncome-10YearComparison'!$M$38/1.645","v":220.06079027355622},245.76418221359319,{"$f":"'HHIncome-10YearComparison'!$E$38-'HHIncome-10YearComparison'!$L$38","v":-917},3.7312190561724612,1.645,"Household Income $150,000 to $199,999",null,"N",{"$f":"'HHIncome-10YearComparison'!$F$38/1.645","v":109.42249240121581},{"$f":"'HHIncome-10YearComparison'!$J$38/1.645","v":137.38601823708206},175.63655613320927,{"$f":"'HHIncome-10YearComparison'!$E$38-'HHIncome-10YearComparison'!$I$38","v":-123},0.70030979146910766,1.645]
["Y",{"$f":"'HHIncome-10YearComparison'!$F$39/1.645","v":137.38601823708206},{"$f":"'HHIncome-10YearComparison'!$M$39/1.645","v":175.68389057750758},223.02409604230996,{"$f":"'HHIncome-10YearComparison'!$E$39-'HHIncome-10YearComparison'!$L$39","v":-1745},7.8242666643022982,1.645,"Household Income Greater than $200,000",null,"N",{"$f":"'HHIncome-10YearComparison'!$F$39/1.645","v":137.38601823708206},{"$f":"'HHIncome-10YearComparison'!$J$39/1.645","v":142.85714285714286},198.19959957665395,{"$f":"'HHIncome-10YearComparison'!$E$39-'HHIncome-10YearComparison'!$I$39","v":-106},0.53481440036413574,1.645]
["Y",{"$f":"'HHIncome-10YearComparison'!$G$41/1.645","v":0},{"$f":"'HHIncome-10YearComparison'!$M$41/1.645","v":1224.3161094224924},1224.3161094224924,{"$f":"'HHIncome-10YearComparison'!$E$41-'HHIncome-10YearComparison'!$I$41","v":-7650},6.2483862959285004,1.645,"Median Household Income",null,"Y",{"$f":"'HHIncome-10YearComparison'!$G$41/1.645","v":0},{"$f":"'HHIncome-10YearComparison'!$J$41/1.645","v":1545.8966565349544},1545.8966565349544,{"$f":"'HHIncome-10YearComparison'!$E$41-'HHIncome-10YearComparison'!$I$41","v":-7650},4.9485843491938653,1.645]
["Y",{"$f":"PovertyCharacteristics!$E$54/1.645","v":899.08814589665656},{"$f":"PovertyCharacteristics!$M54/1.645","v":994.52887537993922},1340.6890683735637,{"$f":"PovertyCharacteristics!$D54-PovertyCharacteristics!$L54","v":2499},1.8639668652118,1.645,"Total Households Below Poverty Level",null,"N",{"$f":"PovertyCharacteristics!$I$54/1.645","v":713.06990881458967},{"$f":"PovertyCharacteristics!$M54/1.645","v":994.52887537993922},1223.746860597131,{"$f":"PovertyCharacteristics!$H54-PovertyCharacteristics!$L54","v":1280},1.0459679540059617,1.645]
["Y",{"$f":"PovertyCharacteristics!$E$55/1.645","v":644.37689969604867},{"$f":"PovertyCharacteristics!$M55/1.645","v":686.93009118541033},941.85696315198925,{"$f":"PovertyCharacteristics!$D55-PovertyCharacteristics!$L55","v":2800},2.9728505596323322,1.645,"Family Households Below Poverty Level",null,"N",{"$f":"PovertyCharacteristics!$I$55/1.645","v":476.59574468085106},{"$f":"PovertyCharacteristics!$M55/1.645","v":686.93009118541033},836.07203877649874,{"$f":"PovertyCharacteristics!$H55-PovertyCharacteristics!$L55","v":899},1.0752661951422147,1.645]
["N",{"$f":"PovertyCharacteristics!$E$56/1.645","v":317.32522796352583},{"$f":"PovertyCharacteristics!$M56/1.645","v":406.07902735562311},515.35956065662788,{"$f":"PovertyCharacteristics!$D56-PovertyCharacteristics!$L56","v":488},0.94691170447722239,1.645,"Married Couple Fam HH Below Poverty Level",null,"N",{"$f":"PovertyCharacteristics!$I$56/1.645","v":262.00607902735561},{"$f":"PovertyCharacteristics!$M56/1.645","v":406.07902735562311},483.26738137947797,{"$f":"PovertyCharacteristics!$H56-PovertyCharacteristics!$L56","v":-42},8.6908410578242959E-2,1.645]
["Y",{"$f":"PovertyCharacteristics!$E$57/1.645","v":221.88449848024317},{"$f":"PovertyCharacteristics!$M57/1.645","v":258.35866261398178},340.56119745724749,{"$f":"PovertyCharacteristics!$D57-PovertyCharacteristics!$L57","v":1169},3.4325695608547742,1.645,"M C Fam HH w/Children Below Poverty Level",null,"Y",{"$f":"PovertyCharacteristics!$I$57/1.645","v":170.82066869300911},{"$f":"PovertyCharacteristics!$M57/1.645","v":258.35866261398178},309.72390834485486,{"$f":"PovertyCharacteristics!$H57-PovertyCharacteristics!$L57","v":557},1.7983758598959088,1.645]
["Y",{"$f":"PovertyCharacteristics!$E$58/1.645","v":217.02127659574467},{"$f":"PovertyCharacteristics!$M58/1.645","v":235.86626139817628},320.51696953702708,{"$f":"PovertyCharacteristics!$D58-PovertyCharacteristics!$L58","v":-591},1.8438961308465944,1.645,"Male Head of Family HH  Below Poverty Level",null,"N",{"$f":"PovertyCharacteristics!$I$58/1.645","v":231.00303951367781},{"$f":"PovertyCharacteristics!$M58/1.645","v":235.86626139817628},330.14435862287667,{"$f":"PovertyCharacteristics!$H58-PovertyCharacteristics!$L58","v":-408},1.235823025121134,1.645]
["Y",{"$f":"PovertyCharacteristics!$E$59/1.645","v":172.03647416413375},{"$f":"PovertyCharacteristics!$M59/1.645","v":226.74772036474164},284.62444928964504,{"$f":"PovertyCharacteristics!$D59-PovertyCharacteristics!$L59","v":-533},1.8726430611644267,1.645,"Male Head of HH w/Children Below Poverty Level",null,"N",{"$f":"PovertyCharacteristics!$I$59/1.645","v":226.13981762917933},{"$f":"PovertyCharacteristics!$M59/1.645","v":226.74772036474164},320.24013772162533,{"$f":"PovertyCharacteristics!$H59-PovertyCharacteristics!$L59","v":-400},1.2490626654292392,1.645]
["Y",{"$f":"PovertyCharacteristics!$E$60/1.645","v":500.91185410334344},{"$f":"PovertyCharacteristics!$M60/1.645","v":485.10638297872339},697.30975067608881,{"$f":"PovertyCharacteristics!$D60-PovertyCharacteristics!$L60","v":2903},4.1631427026301377,1.645,"Female Head of Family HH  Below Poverty Level",null,"Y",{"$f":"PovertyCharacteristics!$I$60/1.645","v":352.58358662613983},{"$f":"PovertyCharacteristics!$M60/1.645","v":485.10638297872339},599.70275000607808,{"$f":"PovertyCharacteristics!$H60-PovertyCharacteristics!$L60","v":1349},2.2494477472153123,1.645]
["Y",{"$f":"PovertyCharacteristics!$E$61/1.645","v":497.87234042553189},{"$f":"PovertyCharacteristics!$M61/1.645","v":477.81155015197567},690.05850825812638,{"$f":"PovertyCharacteristics!$D61-PovertyCharacteristics!$L61","v":2808},4.0692201695883252,1.645,"Female Head of HH w/Children Below Poverty Level",null,"Y",{"$f":"PovertyCharacteristics!$I$61/1.645","v":350.15197568389056},{"$f":"PovertyCharacteristics!$M61/1.645","v":477.81155015197567},592.37680874082662,{"$f":"PovertyCharacteristics!$H61-PovertyCharacteristics!$L61","v":1097},1.8518618281694976,1.645]
["N",{"$f":"PovertyCharacteristics!$E$62/1.645","v":651.67173252279633},{"$f":"PovertyCharacteristics!$M62/1.645","v":738.60182370820667},984.99172633801948,{"$f":"PovertyCharacteristics!$D62-PovertyCharacteristics!$L62","v":-301},0.30558632316542511,1.645,"Non-Family HH  Below Poverty Level",null,"N",{"$f":"PovertyCharacteristics!$I$62/1.645","v":562.91793313069911},{"$f":"PovertyCharacteristics!$M62/1.645","v":738.60182370820667},928.65992345165137,{"$f":"PovertyCharacteristics!$H62-PovertyCharacteristics!$L62","v":381},0.41026859281694406,1.645]
["Y",{"$f":"PovertyCharacteristics!$E$68/1.645","v":1285.7142857142858},{"$f":"PovertyCharacteristics!$M68/1.645","v":1669.9088145896656},2107.5238251403134,{"$f":"PovertyCharacteristics!$D68-PovertyCharacteristics!$L68","v":-26152},12.40887513964824,1.645,"Total Households At or Above Poverty Level",null,"Y",{"$f":"PovertyCharacteristics!$I$68/1.645","v":1520.3647416413373},{"$f":"PovertyCharacteristics!$M68/1.645","v":1669.9088145896656},2258.3410718202845,{"$f":"PovertyCharacteristics!$H68-PovertyCharacteristics!$L68","v":-15068},6.6721542587253131,1.645]
["Y",{"$f":"PovertyCharacteristics!$E$69/1.645","v":1303.9513677811551},{"$f":"PovertyCharacteristics!$M69/1.645","v":1728.8753799392098},2165.4789883299013,{"$f":"PovertyCharacteristics!$D69-PovertyCharacteristics!$L69","v":-7766},3.5862735412590778,1.645,"Family Households At or Above Poverty Level",null,"N",{"$f":"PovertyCharacteristics!$I$69/1.645","v":1434.0425531914893},{"$f":"PovertyCharacteristics!$M69/1.645","v":1728.8753799392098},2246.2164018019084,{"$f":"PovertyCharacteristics!$H69-PovertyCharacteristics!$L69","v":-2451},1.0911682409734942,1.645]
["Y",{"$f":"PovertyCharacteristics!$E$70/1.645","v":1263.8297872340424},{"$f":"PovertyCharacteristics!$M70/1.645","v":1751.3677811550151},2159.7580503306121,{"$f":"PovertyCharacteristics!$D70-PovertyCharacteristics!$L70","v":-5015},2.3220193573221373,1.645,"Married Couple Fam HH At or Above Poverty Level",null,"N",{"$f":"PovertyCharacteristics!$I$70/1.645","v":1778.7234042553191},{"$f":"PovertyCharacteristics!$M70/1.645","v":1751.3677811550151},2496.2263626749623,{"$f":"PovertyCharacteristics!$H70-PovertyCharacteristics!$L70","v":-3998},1.6016175695363355,1.645]
["N",{"$f":"PovertyCharacteristics!$E$71/1.645","v":1116.7173252279636},{"$f":"PovertyCharacteristics!$M71/1.645","v":1257.7507598784193},1681.9615210934639,{"$f":"PovertyCharacteristics!$D71-PovertyCharacteristics!$L71","v":1833},1.089799009675527,1.645,"M C Fam HH w/Children At or Above Poverty Level",null,"N",{"$f":"PovertyCharacteristics!$I$71/1.645","v":1116.7173252279636},{"$f":"PovertyCharacteristics!$M71/1.645","v":1257.7507598784193},1681.9615210934639,{"$f":"PovertyCharacteristics!$H71-PovertyCharacteristics!$L71","v":1833},1.089799009675527,1.645]
["Y",{"$f":"PovertyCharacteristics!$E$72/1.645","v":501.51975683890578},{"$f":"PovertyCharacteristics!$M72/1.645","v":765.34954407294833},915.03114215442145,{"$f":"PovertyCharacteristics!$D72-PovertyCharacteristics!$L72","v":-2677},2.9255834874614872,1.645,"Male Head of Family HH  At or Above Poverty Level",null,"N",{"$f":"PovertyCharacteristics!$I$72/1.645","v":689.96960486322189},{"$f":"PovertyCharacteristics!$M72/1.645","v":765.34954407294833},1030.4455251238564,{"$f":"PovertyCharacteristics!$H72-PovertyCharacteristics!$L72","v":-460},0.44640884819671511,1.645]
["N",{"$f":"PovertyCharacteristics!$E$73/1.645","v":412.7659574468085},{"$f":"PovertyCharacteristics!$M73/1.645","v":589.66565349544078},719.77865940800564,{"$f":"PovertyCharacteristics!$D73-PovertyCharacteristics!$L73","v":-358},0.49737512403388462,1.645,"Male Head of HH w/Children At or Above Poverty Level",null,"N",{"$f":"PovertyCharacteristics!$I$73/1.645","v":527.05167173252278},{"$f":"PovertyCharacteristics!$M73/1.645","v":589.66565349544078},790.87865541323856,{"$f":"PovertyCharacteristics!$H73-PovertyCharacteristics!$L73","v":251},0.31736853470757925,1.645]
["N",{"$f":"PovertyCharacteristics!$E$74/1.645","v":760.48632218844989},{"$f":"PovertyCharacteristics!$M74/1.645","v":892.40121580547111},1172.484275462489,{"$f":"PovertyCharacteristics!$D74-PovertyCharacteristics!$L74","v":-74},6.3113852824005279E-2,1.645,"Female Head of Family HH  At or Above Poverty Level",null,"N",{"$f":"PovertyCharacteristics!$I$74/1.645","v":836.47416413373855},{"$f":"PovertyCharacteristics!$M74/1.645","v":892.40121580547111},1223.1389770726464,{"$f":"PovertyCharacteristics!$H74-PovertyCharacteristics!$L74","v":2007},1.6408601455930854,1.645]
["N",{"$f":"PovertyCharacteristics!$E$75/1.645","v":553.19148936170211},{"$f":"PovertyCharacteristics!$M75/1.645","v":737.99392097264433},922.31006244906371,{"$f":"PovertyCharacteristics!$D75-PovertyCharacteristics!$L75","v":1351},1.4648002391002988,1.645,"Female Head of HH w/Children At or Above Poverty Level",null,"N",{"$f":"PovertyCharacteristics!$I$75/1.645","v":534.34650455927056},{"$f":"PovertyCharacteristics!$M75/1.645","v":737.99392097264433},911.13183147516474,{"$f":"PovertyCharacteristics!$H75-PovertyCharacteristics!$L75","v":1387},1.5222824536317456,1.645]
["Y",{"$f":"PovertyCharacteristics!$E$76/1.645","v":1415.80547112462},{"$f":"PovertyCharacteristics!$M76/1.645","v":1555.6231003039513},2103.4420273127766,{"$f":"PovertyCharacteristics!$D76-PovertyCharacteristics!$L76","v":-18386},8.7409112118429917,1.645,"Non-Family HH  At or Above Poverty Level",null,"Y",{"$f":"PovertyCharacteristics!$I$76/1.645","v":1296.6565349544073},{"$f":"PovertyCharacteristics!$M76/1.645","v":1555.6231003039513},2025.1620675489771,{"$f":"PovertyCharacteristics!$H76-PovertyCharacteristics!$L76","v":-12617},6.2301186666359811,1.645]
["Y",{"$f":"PovertyCharacteristics!$E24/1.645","v":2164.1337386018236},{"$f":"PovertyCharacteristics!M24/1.645","v":2338.6018237082067},3186.3040232228395,{"$f":"PovertyCharacteristics!H24-PovertyCharacteristics!L24","v":6041},1.895927054032255,1.645,"Total Individuals Living in Poverty",null,{"$f":"IF(O112>P112,\"Y\",\"N\")","v":"Y"},{"$f":"PovertyCharacteristics!$I24/1.645","v":1856.5349544072949},{"$f":"PovertyCharacteristics!$M24/1.645","v":2338.6018237082067},2985.9304289931883,{"$f":"PovertyCharacteristics!$H24-PovertyCharacteristics!$L24","v":6041},2.0231549741890458,1.645]
["Y",{"$f":"PovertyCharacteristics!$E25/1.645","v":464.89458580936025},{"$f":"PovertyCharacteristics!M25/1.645","v":485.99533088885937},672.54623451524026,{"$f":"PovertyCharacteristics!H25-PovertyCharacteristics!L25","v":1471},2.1872102236365527,1.645,"Individuals Under 5 yrs. Living in Poverty",null,"Y",{"$f":"PovertyCharacteristics!$I25/1.645","v":407.83206414456276},{"$f":"PovertyCharacteristics!$M25/1.645","v":485.99533088885937},634.44342079509875,{"$f":"PovertyCharacteristics!$H25-PovertyCharacteristics!$L25","v":1471},2.3185676638533184,1.645]
["N",{"$f":"PovertyCharacteristics!$E26/1.645","v":676.91791650731341},{"$f":"PovertyCharacteristics!M26/1.645","v":681.54898011561443},960.58673631548561,{"$f":"PovertyCharacteristics!H26-PovertyCharacteristics!L26","v":867},0.90257336190747806,1.645,"Individuals 5 to 17 yrs. Living in Poverty",null,"N",{"$f":"PovertyCharacteristics!$I26/1.645","v":652.2343100872821},{"$f":"PovertyCharacteristics!$M26/1.645","v":681.54898011561443},943.35497430801047,{"$f":"PovertyCharacteristics!$H26-PovertyCharacteristics!$L26","v":867},0.91906018795944766,1.645]
["Y",{"$f":"PovertyCharacteristics!$E27/1.645","v":1112.0937155082186},{"$f":"PovertyCharacteristics!M27/1.645","v":1216.4130700606763},1648.1544797400863,{"$f":"PovertyCharacteristics!H27-PovertyCharacteristics!L27","v":8135},4.9358237349710619,1.645,"Individuals 18 to 64 yrs. Living in Poverty",null,"Y",{"$f":"PovertyCharacteristics!$I27/1.645","v":1139.4127751106878},{"$f":"PovertyCharacteristics!$M27/1.645","v":1216.4130700606763},1666.7100014999246,{"$f":"PovertyCharacteristics!$H27-PovertyCharacteristics!$L27","v":8135},4.8808730929070192,1.645]
["Y",{"$f":"PovertyCharacteristics!$E28/1.645","v":278.49178126366593},{"$f":"PovertyCharacteristics!M28/1.645","v":475.83215301157992},551.33829004617951,{"$f":"PovertyCharacteristics!H28-PovertyCharacteristics!L28","v":-3194},5.793176453847372,1.645,"Individuals 65 to 74 yrs. Living in Poverty",null,"Y",{"$f":"PovertyCharacteristics!$I28/1.645","v":249.37130508689435},{"$f":"PovertyCharacteristics!$M28/1.645","v":475.83215301157992},537.21716804321932,{"$f":"PovertyCharacteristics!$H28-PovertyCharacteristics!$L28","v":-3194},5.945454073320013,1.645]
["Y",{"$f":"PovertyCharacteristics!$E29/1.645","v":279.50043003042327},{"$f":"PovertyCharacteristics!M29/1.645","v":394.89588167706745},483.80083479950713,{"$f":"PovertyCharacteristics!H29-PovertyCharacteristics!L29","v":-1238},2.5589042245308278,1.645,"Individuals 75 yrs. & Over Living in Poverty",null,"Y",{"$f":"PovertyCharacteristics!$I29/1.645","v":287.97014120974552},{"$f":"PovertyCharacteristics!$M29/1.645","v":394.89588167706745},488.74283584915003,{"$f":"PovertyCharacteristics!$H29-PovertyCharacteristics!$L29","v":-1238},2.5330294567880016,1.645]
[null,null,null,null,null,null,null,"Under 5",null,"Y",{"$f":"DisabilityByAgePrior5YearEst!$E$31/1.645","v":45.234663032913403},{"$f":"DisabilityByAge!$E$31/1.645","v":79.244499431941946},{"$f":"SQRT((K118^2)+(L118^2))","v":91.246180357975916},{"$f":"DisabilityByAge!$D$31-DisabilityByAgePrior5YearEst!$D$31","v":-173},1.8959697745296129,1.645]
[null,null,null,null,null,null,null,"5 to 17",null,"N",{"$f":"DisabilityByAgePrior5YearEst!$F$31/1.645","v":6871.1246200607902},{"$f":"DisabilityByAge!$F$31/1.645","v":6639.5136778115502},{"$f":"SQRT((K119^2)+(L119^2))","v":9554.8676297608745},{"$f":"DisabilityByAge!$D$31-DisabilityByAgePrior5YearEst!$D$31","v":-173},1.8105954650920641E-2,1.645]
[null,null,null,null,null,null,null,"18 to 34",null,"N",{"$f":"DisabilityByAgePrior5YearEst!$I$31/1.645","v":80.134862905019304},{"$f":"DisabilityByAge!$I$31/1.645","v":98.729468123471094},127.15779224549998,{"$f":"DisabilityByAge!$D$31-DisabilityByAgePrior5YearEst!$D$31","v":-173},1.3605143416299157,1.645]
[null,null,null,null,null,null,null,"35 to 64",null,"N",{"$f":"DisabilityByAgePrior5YearEst!$K$31/1.645","v":119.34881813585366},{"$f":"DisabilityByAge!$K$31/1.645","v":119.51126596557751},168.89962428353735,{"$f":"DisabilityByAge!$D$31-DisabilityByAgePrior5YearEst!$D$31","v":-173},1.0242769972630561,1.645]
[null,null,null,null,null,null,null,"65 to 74",null,"N",{"$f":"DisabilityByAgePrior5YearEst!$M$31/1.645","v":59.871475998760516},{"$f":"DisabilityByAge!$M$31/1.645","v":102.88652781085619},119.03878041732551,{"$f":"DisabilityByAge!$D$31-DisabilityByAgePrior5YearEst!$D$31","v":-173},1.4533079001103466,1.645]
[null,null,null,null,null,null,null,"75 and Over",null,"N",{"$f":"DisabilityByAgePrior5YearEst!$O$31/1.645","v":101.0381163440405},{"$f":"DisabilityByAge!$O$31/1.645","v":97.273935706465082},140.25305530425129,{"$f":"DisabilityByAge!$D$31-DisabilityByAgePrior5YearEst!$D$31","v":-173},1.2334847153576134,1.645]
[null,null,null,null,null,null,null,"With a Disability -Under 5",null,"Y",{"$f":"DisabilityByAgePrior5YearEst!$E$33/1.645","v":17.118696462405744},{"$f":"DisabilityByAge!$E$33/1.645","v":24.071720210605871},29.538068360501743,{"$f":"DisabilityByAge!$D$31-DisabilityByAgePrior5YearEst!$D$31","v":-173},5.856848792161891,1.645]
[null,null,null,null,null,null,null,"With a Disability -5 to 17",null,"N",{"$f":"DisabilityByAgePrior5YearEst!$F$33/1.645","v":506.38297872340422},{"$f":"DisabilityByAge!$F$33/1.645","v":260.790273556231},569.5922119572225,{"$f":"DisabilityByAge!$D$31-DisabilityByAgePrior5YearEst!$D$31","v":-173},0.30372606290654941,1.645]
[null,null,null,null,null,null,null,"With a Disability -18 to 34",null,"N",{"$f":"DisabilityByAgePrior5YearEst!$I$33/1.645","v":157.31648970626139},{"$f":"DisabilityByAge!$I$33/1.645","v":209.06905472293516},261.64546160069722,{"$f":"DisabilityByAge!$D$31-DisabilityByAgePrior5YearEst!$D$31","v":-173},0.66120007945721238,1.645]
[null,null,null,null,null,null,null,"With a Disability -35 to 64",null,"N",{"$f":"DisabilityByAgePrior5YearEst!$K$33/1.645","v":265.1459613088677},{"$f":"DisabilityByAge!$K$33/1.645","v":279.37942572337192},385.16911132115024,{"$f":"DisabilityByAge!$D$31-DisabilityByAgePrior5YearEst!$D$31","v":-173},{"$f":"ABS((N127/M127))","v":0.44915335865485406},1.645]
[null,null,null,null,null,null,null,"With a Disability -65 to 74",null,"N",{"$f":"DisabilityByAgePrior5YearEst!$M$33/1.645","v":142.51657004279653},{"$f":"DisabilityByAge!$M$33/1.645","v":171.34232239341358},222.86579858724801,{"$f":"DisabilityByAge!$D$31-DisabilityByAgePrior5YearEst!$D$31","v":-173},0.77625190180212222,1.645]
[null,null,null,null,null,null,null,"With a Disability -75 and Over",null,"N",{"$f":"DisabilityByAgePrior5YearEst!$O$33/1.645","v":156.98139188696081},{"$f":"DisabilityByAge!$O$33/1.645","v":193.29490843937938},249.01019864125169,{"$f":"DisabilityByAge!$D$31-DisabilityByAgePrior5YearEst!$D$31","v":-173},0.69475066059137858,1.645]
[null,null,null,null,null,null,null,"Hearing Disability - Under 5",null,"Y",{"$f":"DisabilityByAgePrior5YearEst!$E$38/1.645","v":23.21201591736995},{"$f":"DisabilityByAge!$E$38/1.645","v":24.071720210605871},33.440176387781321,{"$f":"DisabilityByAge!$D$31-DisabilityByAgePrior5YearEst!$D$31","v":-173},5.173417687569744,1.645]
[null,null,null,null,null,null,null,"Hearing Disability - 5 to 17",null,"Y",{"$f":"DisabilityByAgePrior5YearEst!$F$38/1.645","v":28.571428571428569},{"$f":"DisabilityByAge!$F$38/1.645","v":21.88449848024316},35.989690250737219,{"$f":"DisabilityByAge!$D$31-DisabilityByAgePrior5YearEst!$D$31","v":-173},4.8069321740399316,1.645]
[null,null,null,null,null,null,null,"Hearing Disability - 18 to 34",null,"Y",{"$f":"DisabilityByAgePrior5YearEst!$I$38/1.645","v":57.394517942478636},{"$f":"DisabilityByAge!$I$38/1.645","v":57.365536502558442},81.147615295065009,{"$f":"DisabilityByAge!$D$31-DisabilityByAgePrior5YearEst!$D$31","v":-173},2.1319172396002743,1.645]
[null,null,null,null,null,null,null,"Hearing Disability - 35 to 64",null,"N",{"$f":"DisabilityByAgePrior5YearEst!$K$38/1.645","v":133.77313729279871},{"$f":"DisabilityByAge!$K$38/1.645","v":156.84479619484571},206.14446961915002,{"$f":"DisabilityByAge!$D$31-DisabilityByAgePrior5YearEst!$D$31","v":-173},0.83921727475695029,1.645]
[null,null,null,null,null,null,null,"Hearing Disability - 65 to 74",null,"N",{"$f":"DisabilityByAgePrior5YearEst!$M$38/1.645","v":108.04263374122257},{"$f":"DisabilityByAge!$M$38/1.645","v":110.52801878944115},154.56278220599881,{"$f":"DisabilityByAge!$D$31-DisabilityByAgePrior5YearEst!$D$31","v":-173},1.1192862701541459,1.645]
[null,null,null,null,null,null,null,"Hearing Disability - 75 and Over",null,"N",{"$f":"DisabilityByAgePrior5YearEst!$O$38/1.645","v":150.00546609774949},{"$f":"DisabilityByAge!$O$38/1.645","v":174.27416862810631},229.94157020908747,{"$f":"DisabilityByAge!$D$31-DisabilityByAgePrior5YearEst!$D$31","v":-173},0.75236504579267638,1.645]
[null,null,null,null,null,null,null,"Visual Disability - Under 5",null,"Y",{"$f":"DisabilityByAgePrior5YearEst!$E$39/1.645","v":17.118696462405744},{"$f":"DisabilityByAge!$E$39/1.645","v":24.071720210605871},29.538068360501743,{"$f":"DisabilityByAge!$D$31-DisabilityByAgePrior5YearEst!$D$31","v":-173},5.856848792161891,1.645]
[null,null,null,null,null,null,null,"Visual Disability - 5 to 17",null,"Y",{"$f":"DisabilityByAgePrior5YearEst!$F$39/1.645","v":79.635258358662611},{"$f":"DisabilityByAge!$F$39/1.645","v":26.747720364741642},84.007231346839177,{"$f":"DisabilityByAge!$D$31-DisabilityByAgePrior5YearEst!$D$31","v":-173},2.0593465256072769,1.645]
[null,null,null,null,null,null,null,"Visual Disability - 18 to 34",null,"Y",{"$f":"DisabilityByAgePrior5YearEst!$I$39/1.645","v":62.884886259817634},{"$f":"DisabilityByAge!$I$39/1.645","v":67.279757127161275},92.092750197830497,{"$f":"DisabilityByAge!$D$31-DisabilityByAgePrior5YearEst!$D$31","v":-173},1.8785409234534458,1.645]
[null,null,null,null,null,null,null,"Visual Disability - 35 to 64",null,"Y",{"$f":"DisabilityByAgePrior5YearEst!$K$39/1.645","v":82.817684454353326},{"$f":"DisabilityByAge!$K$39/1.645","v":121.33866516554744},{"$f":"SQRT((K140^2)+(L140^2))","v":69.175485066768459},{"$f":"DisabilityByAge!$D$31-DisabilityByAgePrior5YearEst!$D$31","v":-173},{"$f":"ABS((N140/M140))","v":2.5008859689674701},1.645]
[null,null,null,null,null,null,null,"Visual Disability - 65 to 74",null,"Y",{"$f":"DisabilityByAgePrior5YearEst!$M$39/1.645","v":50.671528228996245},{"$f":"DisabilityByAge!$M$39/1.645","v":47.091867250733891},69.175485066768459,{"$f":"DisabilityByAge!$D$31-DisabilityByAgePrior5YearEst!$D$31","v":-173},2.5008859689674701,1.645]
[null,null,null,null,null,null,null,"Visual Disability - 75 and Over",null,"N",{"$f":"DisabilityByAgePrior5YearEst!$O$39/1.645","v":115.38307796935624},{"$f":"DisabilityByAge!$O$39/1.645","v":136.80107878835403},178.96309630574675,{"$f":"DisabilityByAge!$D$31-DisabilityByAgePrior5YearEst!$D$31","v":-173},0.96667974331669371,1.645]
[null,null,null,null,null,null,null,"Cognative Disability - 5 to 17",null,"N",{"$f":"DisabilityByAgePrior5YearEst!$F$40/1.645","v":417.629179331307},{"$f":"DisabilityByAge!$F$40/1.645","v":213.98176291793314},469.25720696693355,{"$f":"DisabilityByAge!$D$31-DisabilityByAgePrior5YearEst!$D$31","v":-173},0.36866775284751363,1.645]
[null,null,null,null,null,null,null,"Cognative Disability - 18 to 34",null,"N",{"$f":"DisabilityByAgePrior5YearEst!$I$40/1.645","v":119.8786660663197},{"$f":"DisabilityByAge!$I$40/1.645","v":182.71295162113765},218.52898496068747,{"$f":"DisabilityByAge!$D$31-DisabilityByAgePrior5YearEst!$D$31","v":-173},0.79165699703918935,1.645]
[null,null,null,null,null,null,null,"Cognative Disability - 35 to 64",null,{"$f":"IF(O144>P144,\"Y\",\"N\")","v":"N"},{"$f":"DisabilityByAgePrior5YearEst!$K$40/1.645","v":172.20072282200206},{"$f":"DisabilityByAge!$K$40/1.645","v":204.01092630528311},{"$f":"SQRT((K145^2)+(L145^2))","v":146.70747339699133},{"$f":"DisabilityByAge!$D$31-DisabilityByAgePrior5YearEst!$D$31","v":-173},{"$f":"ABS((N145/M145))","v":1.1792173636026089},1.645]
[null,null,null,null,null,null,null,"Cognative Disability - 65 to 74",null,"N",{"$f":"DisabilityByAgePrior5YearEst!$M$40/1.645","v":62.258856590034824},{"$f":"DisabilityByAge!$M$40/1.645","v":132.84170100774227},{"$f":"SQRT((K145^2)+(L145^2))","v":146.70747339699133},{"$f":"DisabilityByAge!$D$31-DisabilityByAgePrior5YearEst!$D$31","v":-173},{"$f":"ABS((N145/M145))","v":1.1792173636026089},1.645]
[null,null,null,null,null,null,null,"Cognative Disability - 75 and Over",null,"N",{"$f":"DisabilityByAgePrior5YearEst!$O$40/1.645","v":104.20701247777498},{"$f":"DisabilityByAge!$O$40/1.645","v":119.68893203769503},{"$f":"SQRT((K146^2)+(L146^2))","v":158.69638276239044},{"$f":"DisabilityByAge!$D$31-DisabilityByAgePrior5YearEst!$D$31","v":-173},{"$f":"ABS((N146/M146))","v":1.0901319676518764},1.645]
[null,null,null,null,null,null,null,"Amblatory Disability - 5 to 17",null,"Y",{"$f":"DisabilityByAgePrior5YearEst!$F$41/1.645","v":65.653495440729486},{"$f":"DisabilityByAge!$F$41/1.645","v":38.297872340425535},{"$f":"SQRT((K147^2)+(L147^2))","v":76.00729234349437},{"$f":"DisabilityByAge!$D$31-DisabilityByAgePrior5YearEst!$D$31","v":-173},{"$f":"ABS((N147/M147))","v":2.2760973936313027},1.645]
[null,null,null,null,null,null,null,"Amblatory Disability - 18 to 34",null,"Y",{"$f":"DisabilityByAgePrior5YearEst!$I$41/1.645","v":78.237814191835469},{"$f":"DisabilityByAge!$I$41/1.645","v":57.107277288923811},{"$f":"SQRT((K148^2)+(L148^2))","v":96.862772461199995},{"$f":"DisabilityByAge!$D$31-DisabilityByAgePrior5YearEst!$D$31","v":-173},{"$f":"ABS((N148/M148))","v":1.7860318841203728},1.645]
[null,null,null,null,null,null,null,"Amblatory Disability - 35 to 64",null,"N",{"$f":"DisabilityByAgePrior5YearEst!$K$41/1.645","v":193.48122143269967},{"$f":"DisabilityByAge!$K$41/1.645","v":184.02692827335673},{"$f":"SQRT((K150^2)+(L150^2))","v":178.63343681849312},{"$f":"DisabilityByAge!$D$31-DisabilityByAgePrior5YearEst!$D$31","v":-173},{"$f":"ABS((N150/M150))","v":0.96846370467463394},1.645]
[null,null,null,null,null,null,null,"Amblatory Disability - 65 to 74",null,"N",{"$f":"DisabilityByAgePrior5YearEst!$M$41/1.645","v":115.5015197568389},{"$f":"DisabilityByAge!$M$41/1.645","v":136.26923234335447},{"$f":"SQRT((K150^2)+(L150^2))","v":178.63343681849312},{"$f":"DisabilityByAge!$D$31-DisabilityByAgePrior5YearEst!$D$31","v":-173},{"$f":"ABS((N150/M150))","v":0.96846370467463394},1.645]
[null,null,null,null,null,null,null,"Amblatory Disability - 75 and Over",null,"N",{"$f":"DisabilityByAgePrior5YearEst!$O$41/1.645","v":144.23189006336895},{"$f":"DisabilityByAge!$O$41/1.645","v":175.20364309248075},{"$f":"SQRT((K151^2)+(L151^2))","v":226.93425185310639},{"$f":"DisabilityByAge!$D$31-DisabilityByAgePrior5YearEst!$D$31","v":-173},{"$f":"ABS((N151/M151))","v":0.76233533980574331},1.645]
[null,null,null,null,null,null,null,"Self Care Disability - 5 to 17",null,"N",{"$f":"DisabilityByAgePrior5YearEst!$F$42/1.645","v":73.556231003039514},{"$f":"DisabilityByAge!$F$42/1.645","v":79.027355623100306},{"$f":"SQRT((K152^2)+(L152^2))","v":107.96222513524106},{"$f":"DisabilityByAge!$D$31-DisabilityByAgePrior5YearEst!$D$31","v":-173},{"$f":"ABS((N152/M152))","v":1.6024123232296117},1.645]
[null,null,null,null,null,null,null,"Self Care Disability - 18 to 34",null,"Y",{"$f":"DisabilityByAgePrior5YearEst!$I$42/1.645","v":61.229416874142267},{"$f":"DisabilityByAge!$I$42/1.645","v":78.720470307134974},{"$f":"SQRT((K153^2)+(L153^2))","v":99.729403568476314},{"$f":"DisabilityByAge!$D$31-DisabilityByAgePrior5YearEst!$D$31","v":-173},{"$f":"ABS((N153/M153))","v":1.7346940201162895},1.645]
[null,null,null,null,null,null,null,"Self Care Disability - 35 to 64",null,"N",{"$f":"DisabilityByAgePrior5YearEst!$K$42/1.645","v":117.44485766785202},{"$f":"DisabilityByAge!$K$42/1.645","v":143.67739680736548},{"$f":"SQRT((K155^2)+(L155^2))","v":117.94723069284562},{"$f":"DisabilityByAge!$D$31-DisabilityByAgePrior5YearEst!$D$31","v":-173},{"$f":"ABS((N155/M155))","v":1.4667576252851668},1.645]
[null,null,null,null,null,null,null,"Self Care Disability - 65 to 74",null,"N",{"$f":"DisabilityByAgePrior5YearEst!$M$42/1.645","v":52.957365774522025},{"$f":"DisabilityByAge!$M$42/1.645","v":105.39006897395421},{"$f":"SQRT((K155^2)+(L155^2))","v":117.94723069284562},{"$f":"DisabilityByAge!$D$31-DisabilityByAgePrior5YearEst!$D$31","v":-173},{"$f":"ABS((N155/M155))","v":1.4667576252851668},1.645]
[null,null,null,null,null,null,null,"Self Care Disability - 75 and Over",null,"N",{"$f":"DisabilityByAgePrior5YearEst!$O$42/1.645","v":101.66707546319404},{"$f":"DisabilityByAge!$O$42/1.645","v":130.66656837249178},{"$f":"SQRT((K156^2)+(L156^2))","v":165.55949481525323},{"$f":"DisabilityByAge!$D$31-DisabilityByAgePrior5YearEst!$D$31","v":-173},{"$f":"ABS((N156/M156))","v":1.0449415794186228},1.645]
[null,null,null,null,null,null,null,"Independant Living Disability - 18 to 34",null,"N",{"$f":"DisabilityByAgePrior5YearEst!$I$43/1.645","v":114.0672425170735},{"$f":"DisabilityByAge!$I$43/1.645","v":150.20980144905047},{"$f":"SQRT((K157^2)+(L157^2))","v":188.61155920783864},{"$f":"DisabilityByAge!$D$31-DisabilityByAgePrior5YearEst!$D$31","v":-173},{"$f":"ABS((N157/M157))","v":0.9172290432600918},1.645]
[null,null,null,null,null,null,null,"Independant Living Disability - 35 to 64",null,"N",{"$f":"DisabilityByAgePrior5YearEst!$K$43/1.645","v":181.5625452167734},{"$f":"DisabilityByAge!$K$43/1.645","v":203.0477038189434},{"$f":"SQRT((K159^2)+(L159^2))","v":148.14129428489292},{"$f":"DisabilityByAge!$D$31-DisabilityByAgePrior5YearEst!$D$31","v":-173},{"$f":"ABS((N159/M159))","v":1.1678040267914827},1.645]
[null,null,null,null,null,null,null,"Independant Living Disability - 65 to 74",null,"N",{"$f":"DisabilityByAgePrior5YearEst!$M$43/1.645","v":78.240175838581024},{"$f":"DisabilityByAge!$M$43/1.645","v":125.79474534793245},{"$f":"SQRT((K159^2)+(L159^2))","v":148.14129428489292},{"$f":"DisabilityByAge!$D$31-DisabilityByAgePrior5YearEst!$D$31","v":-173},{"$f":"ABS((N159/M159))","v":1.1678040267914827},1.645]
[null,null,null,null,null,null,null,"Independant Living Disability - 75 and Over",null,"N",{"$f":"DisabilityByAgePrior5YearEst!$O$43/1.645","v":152.39940930278991},{"$f":"DisabilityByAge!$O$43/1.645","v":158.5239702157163},{"$f":"SQRT((K160^2)+(L160^2))","v":219.89867914290116},{"$f":"DisabilityByAge!$D$31-DisabilityByAgePrior5YearEst!$D$31","v":-173},0.78672596249464488,1.645]
[null,null,null,null,null,null,null,"No Disability - Under 5",null,"Y",{"$f":"DisabilityByAgePrior5YearEst!$E$47/1.645","v":44.443469243609094},{"$f":"DisabilityByAge!$E$47/1.645","v":79.244499431941946},{"$f":"SQRT((K161^2)+(L161^2))","v":90.856549838889848},{"$f":"DisabilityByAge!$D$47-DisabilityByAgePrior5YearEst!$D$47","v":-167},1.8380623113702919,1.645]
[null,null,null,null,null,null,null,"No Disability - 5 to 17",null,"N",{"$f":"DisabilityByAgePrior5YearEst!$F$47/1.645","v":6364.7416413373858},{"$f":"DisabilityByAge!$F$47/1.645","v":6378.7234042553191},{"$f":"SQRT((K162^2)+(L162^2))","v":9010.9959731967865},{"$f":"DisabilityByAge!$D$47-DisabilityByAgePrior5YearEst!$D$47","v":-167},1.8532912510086746E-2,1.645]
[null,null,null,null,null,null,null,"No Disability - 18 to 34",null,"N",{"$f":"DisabilityByAgePrior5YearEst!$I$47/1.645","v":183.35801704684454},{"$f":"DisabilityByAge!$I$47/1.645","v":228.28751040274045},292.80599348584423,{"$f":"DisabilityByAge!$D$47-DisabilityByAgePrior5YearEst!$D$47","v":-167},0.57034351657857596,1.645]
[null,null,null,null,null,null,null,"No Disability - 35 to 64",null,"N",{"$f":"DisabilityByAgePrior5YearEst!$K$47/1.645","v":282.00201015128096},{"$f":"DisabilityByAge!$K$47/1.645","v":289.382773619131},404.06376154867485,{"$f":"DisabilityByAge!$D$47-DisabilityByAgePrior5YearEst!$D$47","v":-167},0.41330110713203028,1.645]
[null,null,null,null,null,null,null,"No Disability - 65 to 74",null,{"$f":"IF(O165>P165,\"Y\",\"N\")","v":"N"},{"$f":"DisabilityByAgePrior5YearEst!$M$47/1.645","v":152.38122184114656},{"$f":"DisabilityByAge!$M$47/1.645","v":169.41628675013135},227.86380797749223,{"$f":"DisabilityByAge!$D$47-DisabilityByAgePrior5YearEst!$D$47","v":-167},0.73289392239286988,1.645]
[null,null,null,null,null,null,null,"No Disability - 75 and Over",null,"N",{"$f":"DisabilityByAgePrior5YearEst!$O$47/1.645","v":162.54096022621115},{"$f":"DisabilityByAge!$O$47/1.645","v":200.00277157381524},257.7220836258827,{"$f":"DisabilityByAge!$D$47-DisabilityByAgePrior5YearEst!$D$47","v":-167},{"$f":"ABS((N166/M166))","v":0.64798482788313294},1.645]
[{"$f":"IF(F167>G167,\"Y\",\"N\")","v":"N"},null,null,null,null,null,null,"Renter Total:",null,"N",{"$f":"'RentalHousingCost-Prior5Yr'!$F$52/1.645","v":1351.9756838905776},{"$f":"RentalHousingCost!$F$52/1.645","v":1204.2553191489362},1810.5438750634853,{"$f":"'RentalHousingCost-Prior5Yr'!$E$52-RentalHousingCost!$E$52","v":1057},{"$f":"ABS((N167/M167))","v":0.58380247756378567},1.645]
["N",null,null,null,null,null,null,"Renter Less than 20.0 percent",null,"Y",{"$f":"'RentalHousingCost-Prior5Yr'!$F$53/1.645","v":275.37993920972644},{"$f":"RentalHousingCost!$F$53/1.645","v":1007.528868369775},1044.4848163174188,{"$f":"'RentalHousingCost-Prior5Yr'!$E$53-RentalHousingCost!$E$53","v":-34339},32.876495152002654,1.645]
["N",null,null,null,null,null,null,"Renter 20.0 to 24.9 percent",null,"Y",{"$f":"'RentalHousingCost-Prior5Yr'!$F$54/1.645","v":513.677811550152},{"$f":"RentalHousingCost!$F$54/1.645","v":615.80547112462},801.92348284980949,{"$f":"'RentalHousingCost-Prior5Yr'!$E$54-RentalHousingCost!$E$54","v":-8203},10.229155493550152,1.645]
["N",null,null,null,null,null,null,"Renter 25.0 to 29.9 percent",null,"Y",{"$f":"'RentalHousingCost-Prior5Yr'!$F$55/1.645","v":716.10942249240122},{"$f":"RentalHousingCost!$F$55/1.645","v":609.726443768997},940.52062242865702,{"$f":"'RentalHousingCost-Prior5Yr'!$E$55-RentalHousingCost!$E$55","v":1566},1.6650352609560015,1.645]
["N",null,null,null,null,null,null,"Renter 30.0 to 34.9 percent",null,"Y",{"$f":"'RentalHousingCost-Prior5Yr'!$F$56/1.645","v":548.32826747720367},{"$f":"RentalHousingCost!$F$56/1.645","v":1328.9458736520019},1437.623394360023,{"$f":"'RentalHousingCost-Prior5Yr'!$E$56-RentalHousingCost!$E$56","v":-56941},39.607730524827772,1.645]
["N",null,null,null,null,null,null,"Renter 35.0 to 39.9 percent",null,"Y",{"$f":"'RentalHousingCost-Prior5Yr'!$F$57/1.645","v":565.34954407294833},{"$f":"RentalHousingCost!$F$57/1.645","v":1334.214254927504},1449.050649575523,{"$f":"'RentalHousingCost-Prior5Yr'!$E$57-RentalHousingCost!$E$57","v":-48019},33.138248144788051,1.645]
["N",null,null,null,null,null,null,"Renter 40.0 to 49.9 percent",null,"N",{"$f":"'RentalHousingCost-Prior5Yr'!$F$58/1.645","v":491.1854103343465},{"$f":"RentalHousingCost!$F$58/1.645","v":604.25531914893611},778.70893024614986,{"$f":"'RentalHousingCost-Prior5Yr'!$E$58-RentalHousingCost!$E$58","v":-25},3.2104421856440635E-2,1.645]
["N",null,null,null,null,null,null,"Renter 50.0 percent or more",null,"Y",{"$f":"'RentalHousingCost-Prior5Yr'!$F$59/1.645","v":462.61398176291794},{"$f":"RentalHousingCost!$F$59/1.645","v":1459.8704140492966},1531.4154635300658,{"$f":"'RentalHousingCost-Prior5Yr'!$E$59-RentalHousingCost!$E$59","v":-82977},54.183206305576746,1.645]
["N",null,null,null,null,null,null,"Renter Not computed",null,"Y",{"$f":"'RentalHousingCost-Prior5Yr'!$F$60/1.645","v":485.10638297872339},{"$f":"RentalHousingCost!$F$60/1.645","v":1189.5390650718336},{"$f":"SQRT((K175^2)+(L175^2))","v":1284.6522448268527},{"$f":"'RentalHousingCost-Prior5Yr'!$E$60-RentalHousingCost!$E$60","v":-40368},31.423289970151306,1.645]
["N",null,null,null,null,null,null,"Renter Less than $10,000:",null,"N",{"$f":"'RentalHousingCost-Prior5Yr'!$I$52/1.645","v":473.5562310030395},{"$f":"RentalHousingCost!$I$52/1.645","v":473.5562310030395},{"$f":"SQRT((K176^2)+(L176^2))","v":669.70964443078481},{"$f":"'RentalHousingCost-Prior5Yr'!$H$52-RentalHousingCost!$H$52","v":0},0,1.645]
["N",null,null,null,null,null,null,"Renter Less than 20.0 percent",null,"N",{"$f":"'RentalHousingCost-Prior5Yr'!$I$53/1.645","v":77.81155015197568},{"$f":"RentalHousingCost!$I$53/1.645","v":77.81155015197568},110.04214953419827,{"$f":"'RentalHousingCost-Prior5Yr'!$H$53-RentalHousingCost!$H$53","v":0},0,1.645]
["N",null,null,null,null,null,null,"Renter 20.0 to 24.9 percent",null,"N",{"$f":"'RentalHousingCost-Prior5Yr'!$I$54/1.645","v":51.063829787234042},{"$f":"RentalHousingCost!$I$54/1.645","v":51.063829787234042},72.215160631817625,{"$f":"'RentalHousingCost-Prior5Yr'!$H$54-RentalHousingCost!$H$54","v":0},0,1.645]
["N",null,null,null,null,null,null,"Renter 25.0 to 29.9 percent",null,"N",{"$f":"'RentalHousingCost-Prior5Yr'!$I$55/1.645","v":125.22796352583586},{"$f":"RentalHousingCost!$I$55/1.645","v":125.22796352583586},177.09908440660033,{"$f":"'RentalHousingCost-Prior5Yr'!$H$55-RentalHousingCost!$H$55","v":0},0,1.645]
["N",null,null,null,null,null,null,"Renter 30.0 to 34.9 percent",null,"N",{"$f":"'RentalHousingCost-Prior5Yr'!$I$56/1.645","v":156.02626348926361},{"$f":"RentalHousingCost!$I$56/1.645","v":156.02626348926361},220.65445791291467,{"$f":"'RentalHousingCost-Prior5Yr'!$H$56-RentalHousingCost!$H$56","v":0},0,1.645]
["N",null,null,null,null,null,null,"Renter 35.0 to 39.9 percent",null,"N",{"$f":"'RentalHousingCost-Prior5Yr'!$I$57/1.645","v":420.38089492861451},{"$f":"RentalHousingCost!$I$57/1.645","v":420.38089492861451},594.50836297058572,{"$f":"'RentalHousingCost-Prior5Yr'!$H$57-RentalHousingCost!$H$57","v":0},0,1.645]
["N",null,null,null,null,null,null,"Renter 40.0 to 49.9 percent",null,"N",{"$f":"'RentalHousingCost-Prior5Yr'!$I$58/1.645","v":80.851063829787236},{"$f":"RentalHousingCost!$I$58/1.645","v":80.851063829787236},114.3406710003779,{"$f":"'RentalHousingCost-Prior5Yr'!$H$58-RentalHousingCost!$H$58","v":0},0,1.645]
["N",null,null,null,null,null,null,"Renter 50.0 percent or more",null,"N",{"$f":"'RentalHousingCost-Prior5Yr'!$I$59/1.645","v":175.73016081717287},{"$f":"RentalHousingCost!$I$59/1.645","v":175.73016081717287},248.51997674565095,{"$f":"'RentalHousingCost-Prior5Yr'!$H$59-RentalHousingCost!$H$59","v":0},0,1.645]
["N",null,null,null,null,null,null,"Renter Not computed",null,"N",{"$f":"'RentalHousingCost-Prior5Yr'!$I$60/1.645","v":412.53266815923132},{"$f":"RentalHousingCost!$I$60/1.645","v":412.53266815923132},{"$f":"SQRT((K184^2)+(L184^2))","v":583.4092942327444},{"$f":"'RentalHousingCost-Prior5Yr'!$H$60-RentalHousingCost!$H$60","v":0},0,1.645]
["N",null,null,null,null,null,null,"Renter $10,000 to $19,999:",null,"N",{"$f":"'RentalHousingCost-Prior5Yr'!$K$52/1.645","v":611.55015197568389},{"$f":"RentalHousingCost!$K$52/1.645","v":611.55015197568389},{"$f":"SQRT((K185^2)+(L185^2))","v":864.86251899533954},{"$f":"'RentalHousingCost-Prior5Yr'!$J$52-RentalHousingCost!$J$52","v":0},0,1.645]
["N",null,null,null,null,null,null,"Renter Less than 20.0 percent",null,"N",{"$f":"'RentalHousingCost-Prior5Yr'!$K$53/1.645","v":118.54103343465046},{"$f":"RentalHousingCost!$K$53/1.645","v":118.54103343465046},167.64233718100519,{"$f":"'RentalHousingCost-Prior5Yr'!$J$53-RentalHousingCost!$J$53","v":0},0,1.645]
["N",null,null,null,null,null,null,"Renter 20.0 to 24.9 percent",null,"N",{"$f":"'RentalHousingCost-Prior5Yr'!$K$54/1.645","v":108.8145896656535},{"$f":"RentalHousingCost!$K$54/1.645","v":108.8145896656535},153.88706848923042,{"$f":"'RentalHousingCost-Prior5Yr'!$J$54-RentalHousingCost!$J$54","v":0},0,1.645]
["N",null,null,null,null,null,null,"Renter 25.0 to 29.9 percent",null,"N",{"$f":"'RentalHousingCost-Prior5Yr'!$K$55/1.645","v":160.48632218844983},{"$f":"RentalHousingCost!$K$55/1.645","v":160.48632218844983},226.96193341428392,{"$f":"'RentalHousingCost-Prior5Yr'!$J$55-RentalHousingCost!$J$55","v":0},0,1.645]
["N",null,null,null,null,null,null,"Renter 30.0 to 34.9 percent",null,"N",{"$f":"'RentalHousingCost-Prior5Yr'!$K$56/1.645","v":227.26295593746551},{"$f":"RentalHousingCost!$K$56/1.645","v":227.26295593746551},321.39835451176282,{"$f":"'RentalHousingCost-Prior5Yr'!$J$56-RentalHousingCost!$J$56","v":0},0,1.645]
["N",null,null,null,null,null,null,"Renter 35.0 to 39.9 percent",null,"N",{"$f":"'RentalHousingCost-Prior5Yr'!$K$57/1.645","v":552.74172571074394},{"$f":"RentalHousingCost!$K$57/1.645","v":552.74172571074394},781.69484498964334,{"$f":"'RentalHousingCost-Prior5Yr'!$J$57-RentalHousingCost!$J$57","v":0},0,1.645]
["N",null,null,null,null,null,null,"Renter 40.0 to 49.9 percent",null,"N",{"$f":"'RentalHousingCost-Prior5Yr'!$K$58/1.645","v":171.42857142857142},{"$f":"RentalHousingCost!$K$58/1.645","v":171.42857142857142},242.43661069253056,{"$f":"'RentalHousingCost-Prior5Yr'!$J$58-RentalHousingCost!$J$58","v":0},0,1.645]
["N",null,null,null,null,null,null,"Renter 50.0 percent or more",null,"N",{"$f":"'RentalHousingCost-Prior5Yr'!$K$59/1.645","v":284.66859019476527},{"$f":"RentalHousingCost!$K$59/1.645","v":284.66859019476527},402.58218103506573,{"$f":"'RentalHousingCost-Prior5Yr'!$J$59-RentalHousingCost!$J$59","v":0},0,1.645]
["N",null,null,null,null,null,null,"Renter Not computed",null,"N",{"$f":"'RentalHousingCost-Prior5Yr'!$K$60/1.645","v":525.48611802753692},{"$f":"RentalHousingCost!$K$60/1.645","v":525.48611802753692},{"$f":"SQRT((K193^2)+(L193^2))","v":743.14959495333164},{"$f":"'RentalHousingCost-Prior5Yr'!$J$60-RentalHousingCost!$J$60","v":0},0,1.645]
["N",null,null,null,null,null,null,"Renter $20,000 to $34,999:",null,"N",{"$f":"'RentalHousingCost-Prior5Yr'!$M$52/1.645","v":805.47112462006078},{"$f":"RentalHousingCost!$M$52/1.645","v":805.47112462006078},{"$f":"SQRT((K194^2)+(L194^2))","v":1139.1081885375993},{"$f":"'RentalHousingCost-Prior5Yr'!$L$52-RentalHousingCost!$L$52","v":0},0,1.645]
["N",null,null,null,null,null,null,"Renter Less than 20.0 percent",null,"N",{"$f":"'RentalHousingCost-Prior5Yr'!$M$53/1.645","v":178.11550151975683},{"$f":"RentalHousingCost!$M$53/1.645","v":178.11550151975683},251.89335791812573,{"$f":"'RentalHousingCost-Prior5Yr'!$L$53-RentalHousingCost!$L$53","v":0},0,1.645]
["N",null,null,null,null,null,null,"Renter 20.0 to 24.9 percent",null,"N",{"$f":"'RentalHousingCost-Prior5Yr'!$M$54/1.645","v":150.75987841945289},{"$f":"RentalHousingCost!$M$54/1.645","v":150.75987841945289},213.20666472250917,{"$f":"'RentalHousingCost-Prior5Yr'!$L$54-RentalHousingCost!$L$54","v":0},0,1.645]
["N",null,null,null,null,null,null,"Renter 25.0 to 29.9 percent",null,"N",{"$f":"'RentalHousingCost-Prior5Yr'!$M$55/1.645","v":267.47720364741639},{"$f":"RentalHousingCost!$M$55/1.645","v":267.47720364741639},378.26988902380651,{"$f":"'RentalHousingCost-Prior5Yr'!$L$55-RentalHousingCost!$L$55","v":0},0,1.645]
["N",null,null,null,null,null,null,"Renter 30.0 to 34.9 percent",null,"N",{"$f":"'RentalHousingCost-Prior5Yr'!$M$56/1.645","v":354.9615856592431},{"$f":"RentalHousingCost!$M$56/1.645","v":354.9615856592431},501.99148856076073,{"$f":"'RentalHousingCost-Prior5Yr'!$L$56-RentalHousingCost!$L$56","v":0},0,1.645]
["N",null,null,null,null,null,null,"Renter 35.0 to 39.9 percent",null,"N",{"$f":"'RentalHousingCost-Prior5Yr'!$M$57/1.645","v":670.13522285737849},{"$f":"RentalHousingCost!$M$57/1.645","v":670.13522285737849},947.71432078882117,{"$f":"'RentalHousingCost-Prior5Yr'!$L$57-RentalHousingCost!$L$57","v":0},0,1.645]
["N",null,null,null,null,null,null,"Renter 40.0 to 49.9 percent",null,"N",{"$f":"'RentalHousingCost-Prior5Yr'!$M$58/1.645","v":241.94528875379939},{"$f":"RentalHousingCost!$M$58/1.645","v":241.94528875379939},342.16230870789775,{"$f":"'RentalHousingCost-Prior5Yr'!$L$58-RentalHousingCost!$L$58","v":0},0,1.645]
["N",null,null,null,null,null,null,"Renter 50.0 percent or more",null,"N",{"$f":"'RentalHousingCost-Prior5Yr'!$M$59/1.645","v":429.57566276953298},{"$f":"RentalHousingCost!$M$59/1.645","v":429.57566276953298},607.51172835408454,{"$f":"'RentalHousingCost-Prior5Yr'!$L$59-RentalHousingCost!$L$59","v":0},0,1.645]
["N",null,null,null,null,null,null,"Renter Not computed",null,"N",{"$f":"'RentalHousingCost-Prior5Yr'!$M$60/1.645","v":624.9349519461598},{"$f":"RentalHousingCost!$M$60/1.645","v":624.9349519461598},883.7914846432376,{"$f":"'RentalHousingCost-Prior5Yr'!$L$60-RentalHousingCost!$L$60","v":0},0,1.645]
["N",null,null,null,null,null,null,"Renter $35,000 to $49,999:",null,"N",{"$f":"'RentalHousingCost-Prior5Yr'!$O$52/1.645","v":671.73252279635255},{"$f":"RentalHousingCost!$O$52/1.645","v":671.73252279635255},949.97324402569609,{"$f":"'RentalHousingCost-Prior5Yr'!$N$52-RentalHousingCost!$N$52","v":0},0,1.645]
["N",null,null,null,null,null,null,"Renter Less than 20.0 percent",null,"N",{"$f":"'RentalHousingCost-Prior5Yr'!$O$53/1.645","v":171.42857142857142},{"$f":"RentalHousingCost!$O$53/1.645","v":171.42857142857142},242.43661069253056,{"$f":"'RentalHousingCost-Prior5Yr'!$N$53-RentalHousingCost!$N$53","v":0},0,1.645]
["N",null,null,null,null,null,null,"Renter 20.0 to 24.9 percent",null,"N",{"$f":"'RentalHousingCost-Prior5Yr'!$O$54/1.645","v":263.82978723404256},{"$f":"RentalHousingCost!$O$54/1.645","v":263.82978723404256},373.11166326439104,{"$f":"'RentalHousingCost-Prior5Yr'!$N$54-RentalHousingCost!$N$54","v":0},0,1.645]
["N",null,null,null,null,null,null,"Renter 25.0 to 29.9 percent",null,"N",{"$f":"'RentalHousingCost-Prior5Yr'!$O$55/1.645","v":388.44984802431611},{"$f":"RentalHousingCost!$O$55/1.645","v":388.44984802431611},549.35104337775545,{"$f":"'RentalHousingCost-Prior5Yr'!$N$55-RentalHousingCost!$N$55","v":0},0,1.645]
["N",null,null,null,null,null,null,"Renter 30.0 to 34.9 percent",null,"N",{"$f":"'RentalHousingCost-Prior5Yr'!$O$56/1.645","v":499.88718343653824},{"$f":"RentalHousingCost!$O$56/1.645","v":499.88718343653824},706.9472344724395,{"$f":"'RentalHousingCost-Prior5Yr'!$N$56-RentalHousingCost!$N$56","v":0},0,1.645]
["N",null,null,null,null,null,null,"Renter 35.0 to 39.9 percent",null,{"$f":"IF(O208>P208,\"Y\",\"N\")","v":"N"},{"$f":"'RentalHousingCost-Prior5Yr'!$O$57/1.645","v":534.79515452172348},{"$f":"RentalHousingCost!$O$57/1.645","v":534.79515452172348},756.31456061603637,{"$f":"'RentalHousingCost-Prior5Yr'!$N$57-RentalHousingCost!$N$57","v":0},0,1.645]
["N",null,null,null,null,null,null,"Renter 40.0 to 49.9 percent",null,"N",{"$f":"'RentalHousingCost-Prior5Yr'!$O$58/1.645","v":345.28875379939211},{"$f":"RentalHousingCost!$O$58/1.645","v":345.28875379939211},488.31203855800487,{"$f":"'RentalHousingCost-Prior5Yr'!$N$58-RentalHousingCost!$N$58","v":0},0,1.645]
["N",null,null,null,null,null,null,"Renter 50.0 percent or more",null,"N",{"$f":"'RentalHousingCost-Prior5Yr'!$O$59/1.645","v":845.17593723593029},{"$f":"RentalHousingCost!$O$59/1.645","v":845.17593723593029},1195.2592730304443,{"$f":"'RentalHousingCost-Prior5Yr'!$N$59-RentalHousingCost!$N$59","v":0},0,1.645]
["N",null,null,null,null,null,null,"Renter Not computed",null,"N",{"$f":"'RentalHousingCost-Prior5Yr'!$O$60/1.645","v":408.38894916436811},{"$f":"RentalHousingCost!$O$60/1.645","v":408.38894916436811},577.5491906315458,{"$f":"'RentalHousingCost-Prior5Yr'!$N$60-RentalHousingCost!$N$60","v":0},0,1.645]
["N",null,null,null,null,null,null,"Renter $50,000 to $74,999:",null,"N",{"$f":"'RentalHousingCost-Prior5Yr'!$Q$52/1.645","v":772.644376899696},{"$f":"RentalHousingCost!$Q$52/1.645","v":772.644376899696},1092.6841567028594,{"$f":"'RentalHousingCost-Prior5Yr'!$P$52-RentalHousingCost!$P$52","v":0},0,1.645]
["N",null,null,null,null,null,null,"Renter Less than 20.0 percent",null,"N",{"$f":"'RentalHousingCost-Prior5Yr'!$Q$53/1.645","v":466.26139817629178},{"$f":"RentalHousingCost!$Q$53/1.645","v":466.26139817629178},659.39319291195375,{"$f":"'RentalHousingCost-Prior5Yr'!$P$53-RentalHousingCost!$P$53","v":0},0,1.645]
["N",null,null,null,null,null,null,"Renter 20.0 to 24.9 percent",null,"N",{"$f":"'RentalHousingCost-Prior5Yr'!$Q$54/1.645","v":421.27659574468083},{"$f":"RentalHousingCost!$Q$54/1.645","v":421.27659574468083},595.77507521249538,{"$f":"'RentalHousingCost-Prior5Yr'!$P$54-RentalHousingCost!$P$54","v":0},0,1.645]
["N",null,null,null,null,null,null,"Renter 25.0 to 29.9 percent",null,"N",{"$f":"'RentalHousingCost-Prior5Yr'!$Q$55/1.645","v":319.14893617021278},{"$f":"RentalHousingCost!$Q$55/1.645","v":319.14893617021278},451.34475394886016,{"$f":"'RentalHousingCost-Prior5Yr'!$P$55-RentalHousingCost!$P$55","v":0},0,1.645]
["N",null,null,null,null,null,null,"Renter 30.0 to 34.9 percent",null,"N",{"$f":"'RentalHousingCost-Prior5Yr'!$Q$56/1.645","v":704.79053981315349},{"$f":"RentalHousingCost!$Q$56/1.645","v":704.79053981315349},996.72434003601643,{"$f":"'RentalHousingCost-Prior5Yr'!$P$56-RentalHousingCost!$P$56","v":0},0,1.645]
["N",null,null,null,null,null,null,"Renter 35.0 to 39.9 percent",null,"N",{"$f":"'RentalHousingCost-Prior5Yr'!$Q$57/1.645","v":312.35850354864186},{"$f":"RentalHousingCost!$Q$57/1.645","v":312.35850354864186},441.74163204105389,{"$f":"'RentalHousingCost-Prior5Yr'!$P$57-RentalHousingCost!$P$57","v":0},0,1.645]
["N",null,null,null,null,null,null,"Renter 40.0 to 49.9 percent",null,"N",{"$f":"'RentalHousingCost-Prior5Yr'!$Q$58/1.645","v":231.00303951367781},{"$f":"RentalHousingCost!$Q$58/1.645","v":231.00303951367781},326.68763142965111,{"$f":"'RentalHousingCost-Prior5Yr'!$P$58-RentalHousingCost!$P$58","v":0},0,1.645]
["N",null,null,null,null,null,null,"Renter 50.0 percent or more",null,"N",{"$f":"'RentalHousingCost-Prior5Yr'!$Q$59/1.645","v":741.68194617010465},{"$f":"RentalHousingCost!$Q$59/1.645","v":741.68194617010465},1048.8966672410338,{"$f":"'RentalHousingCost-Prior5Yr'!$P$59-RentalHousingCost!$P$59","v":0},0,1.645]
["N",null,null,null,null,null,null,"Renter Not computed",null,"N",{"$f":"'RentalHousingCost-Prior5Yr'!$Q$60/1.645","v":210.25087508638128},{"$f":"RentalHousingCost!$Q$60/1.645","v":210.25087508638128},297.3396390479719,{"$f":"'RentalHousingCost-Prior5Yr'!$P$60-RentalHousingCost!$P$60","v":0},0,1.645]
["N",null,null,null,null,null,null,"Renter $75,000 to $99,999:",null,"N",{"$f":"'RentalHousingCost-Prior5Yr'!$S$52/1.645","v":671.12462006079022},{"$f":"RentalHousingCost!$S$52/1.645","v":671.12462006079022},949.11353973246003,{"$f":"'RentalHousingCost-Prior5Yr'!$R$52-RentalHousingCost!$R$52","v":0},0,1.645]
["N",null,null,null,null,null,null,"Renter Less than 20.0 percent",null,"N",{"$f":"'RentalHousingCost-Prior5Yr'!$S$53/1.645","v":576.29179331306989},{"$f":"RentalHousingCost!$S$53/1.645","v":576.29179331306989},814.99966998765592,{"$f":"'RentalHousingCost-Prior5Yr'!$R$53-RentalHousingCost!$R$53","v":0},0,1.645]
["N",null,null,null,null,null,null,"Renter 20.0 to 24.9 percent",null,"N",{"$f":"'RentalHousingCost-Prior5Yr'!$S$54/1.645","v":293.00911854103344},{"$f":"RentalHousingCost!$S$54/1.645","v":293.00911854103344},414.37746933971539,{"$f":"'RentalHousingCost-Prior5Yr'!$R$54-RentalHousingCost!$R$54","v":0},0,1.645]
["N",null,null,null,null,null,null,"Renter 25.0 to 29.9 percent",null,"N",{"$f":"'RentalHousingCost-Prior5Yr'!$S$55/1.645","v":169.6048632218845},{"$f":"RentalHousingCost!$S$55/1.645","v":169.6048632218845},239.85749781282283,{"$f":"'RentalHousingCost-Prior5Yr'!$R$55-RentalHousingCost!$R$55","v":0},0,1.645]
["N",null,null,null,null,null,null,"Renter 30.0 to 34.9 percent",null,"N",{"$f":"'RentalHousingCost-Prior5Yr'!$S$56/1.645","v":668.38041878611443},{"$f":"RentalHousingCost!$S$56/1.645","v":668.38041878611443},945.23265307193208,{"$f":"'RentalHousingCost-Prior5Yr'!$R$56-RentalHousingCost!$R$56","v":0},0,1.645]
["N",null,null,null,null,null,null,"Renter 35.0 to 39.9 percent",null,"N",{"$f":"'RentalHousingCost-Prior5Yr'!$S$57/1.645","v":98.258597060163424},{"$f":"RentalHousingCost!$S$57/1.645","v":98.258597060163424},138.95864058223626,{"$f":"'RentalHousingCost-Prior5Yr'!$R$57-RentalHousingCost!$R$57","v":0},0,1.645]
["N",null,null,null,null,null,null,"Renter 40.0 to 49.9 percent",null,"N",{"$f":"'RentalHousingCost-Prior5Yr'!$S$58/1.645","v":73.556231003039514},{"$f":"RentalHousingCost!$S$58/1.645","v":73.556231003039514},104.02421948154681,{"$f":"'RentalHousingCost-Prior5Yr'!$R$58-RentalHousingCost!$R$58","v":0},0,1.645]
["N",null,null,null,null,null,null,"Renter 50.0 percent or more",null,"N",{"$f":"'RentalHousingCost-Prior5Yr'!$S$59/1.645","v":672.41572210655079},{"$f":"RentalHousingCost!$S$59/1.645","v":672.41572210655079},950.93943375598235,{"$f":"'RentalHousingCost-Prior5Yr'!$R$59-RentalHousingCost!$R$59","v":0},0,1.645]
["N",null,null,null,null,null,null,"Renter Not computed",null,"N",{"$f":"'RentalHousingCost-Prior5Yr'!$S$60/1.645","v":65.147776453682951},{"$f":"RentalHousingCost!$S$60/1.645","v":65.147776453682951},92.132869019249,{"$f":"'RentalHousingCost-Prior5Yr'!$R$60-RentalHousingCost!$R$60","v":0},0,1.645]
["N",null,null,null,null,null,null,"Renter $100,000 or more:",null,"N",{"$f":"'RentalHousingCost-Prior5Yr'!$U$52/1.645","v":607.29483282674767},{"$f":"RentalHousingCost!$U$52/1.645","v":607.29483282674767},858.84458894268801,{"$f":"'RentalHousingCost-Prior5Yr'!$T$52-RentalHousingCost!$T$52","v":0},0,1.645]
[{"$f":"IF(F231>G231,\"Y\",\"N\")","v":"N"},null,null,null,null,null,null,"Renter Less than 20.0 percent",null,"N",{"$f":"'RentalHousingCost-Prior5Yr'!$U$53/1.645","v":572.644376899696},{"$f":"RentalHousingCost!$U$53/1.645","v":572.644376899696},809.84144422824033,{"$f":"'RentalHousingCost-Prior5Yr'!$T$53-RentalHousingCost!$T$53","v":0},{"$f":"ABS((N231/M231))","v":0},1.645]
["N",null,null,null,null,null,null,"Renter 20.0 to 24.9 percent",null,"N",{"$f":"'RentalHousingCost-Prior5Yr'!$U$54/1.645","v":184.80243161094225},{"$f":"RentalHousingCost!$U$54/1.645","v":184.80243161094225},261.3501051437209,{"$f":"'RentalHousingCost-Prior5Yr'!$T$54-RentalHousingCost!$T$54","v":0},0,1.645]
["N",null,null,null,null,null,null,"Renter 25.0 to 29.9 percent",null,"N",{"$f":"'RentalHousingCost-Prior5Yr'!$U$55/1.645","v":92.401215805471125},{"$f":"RentalHousingCost!$U$55/1.645","v":92.401215805471125},130.67505257186045,{"$f":"'RentalHousingCost-Prior5Yr'!$T$55-RentalHousingCost!$T$55","v":0},0,1.645]
["N",null,null,null,null,null,null,"Renter 30.0 to 34.9 percent",null,"N",{"$f":"'RentalHousingCost-Prior5Yr'!$U$56/1.645","v":608.7787001912003},{"$f":"RentalHousingCost!$U$56/1.645","v":608.7787001912003},860.94309429425982,{"$f":"'RentalHousingCost-Prior5Yr'!$T$56-RentalHousingCost!$T$56","v":0},0,1.645]
["N",null,null,null,null,null,null,"Renter 35.0 to 39.9 percent",null,"N",{"$f":"'RentalHousingCost-Prior5Yr'!$U$57/1.645","v":38.504772333405754},{"$f":"RentalHousingCost!$U$57/1.645","v":38.504772333405754},54.453971249990744,{"$f":"'RentalHousingCost-Prior5Yr'!$T$57-RentalHousingCost!$T$57","v":0},0,1.645]
["N",null,null,null,null,null,null,"Renter 40.0 to 49.9 percent",null,"N",{"$f":"'RentalHousingCost-Prior5Yr'!$U$58/1.645","v":27.355623100303951},{"$f":"RentalHousingCost!$U$58/1.645","v":27.355623100303951},38.686693195616584,{"$f":"'RentalHousingCost-Prior5Yr'!$T$58-RentalHousingCost!$T$58","v":0},0,1.645]
["N",null,null,null,null,null,null,"Renter 50.0 percent or more",null,"N",{"$f":"'RentalHousingCost-Prior5Yr'!$U$59/1.645","v":609.39300613125943},{"$f":"RentalHousingCost!$U$59/1.645","v":609.39300613125943},861.81185408613771,{"$f":"'RentalHousingCost-Prior5Yr'!$T$59-RentalHousingCost!$T$59","v":0},0,1.645]
["N",null,null,null,null,null,null,"Renter Not computed",null,"N",{"$f":"'RentalHousingCost-Prior5Yr'!$U$60/1.645","v":27.097737493036682},{"$f":"RentalHousingCost!$U$60/1.645","v":27.097737493036682},38.321987872278392,{"$f":"'RentalHousingCost-Prior5Yr'!$T$60-RentalHousingCost!$T$60","v":0},0,1.645]
[null,null,null,null,null,null,null,"Total Owner Housing",null,"Y",{"$f":"OwnerHousingCostPrior5Year!$F$50/1.645","v":1521.580547112462},{"$f":"OwnerHousingCost!$F$50/1.645","v":1592.09726443769},2202.2672546221625,{"$f":"OwnerHousingCostPrior5Year!$E$50-OwnerHousingCost!$E$50","v":-14845},6.7407804247386496,1.645]
[null,null,null,null,null,null,null,"Monthly Costs Less than 20% of HH Income",null,"Y",{"$f":"OwnerHousingCostPrior5Year!$F$51/1.645","v":1524.6003062472423},{"$f":"OwnerHousingCost!$F$51/1.645","v":2016.9098796488327},2528.3060646279068,{"$f":"OwnerHousingCostPrior5Year!$E$51-OwnerHousingCost!$E$51","v":-23201},9.1764997618729804,1.645]
[null,null,null,null,null,null,null,"Monthly Costs 20% to 29.9% of HH Income",null,"Y",{"$f":"OwnerHousingCostPrior5Year!$F$52/1.645","v":1191.7631966204317},{"$f":"OwnerHousingCost!$F$52/1.645","v":1376.3797269641557},1820.6374349707503,{"$f":"OwnerHousingCostPrior5Year!$E$52-OwnerHousingCost!$E$52","v":4610},2.5320801997428237,1.645]
[null,null,null,null,null,null,null,"Monthly Costs Less Than 30% of HH Income",null,"Y",{"$f":"OwnerHousingCostPrior5Year!$F$53/1.645","v":1935.1241848078214},{"$f":"OwnerHousingCost!$F$53/1.645","v":2441.7916814140781},3115.6142614340315,{"$f":"OwnerHousingCostPrior5Year!$E$53-OwnerHousingCost!$E$53","v":-18591},5.9670416296794953,1.645]
[null,null,null,null,null,null,null,"Monthly Costs 30% or More of HH Income",null,"Y",{"$f":"OwnerHousingCostPrior5Year!$F$54/1.645","v":1252.0672939458334},{"$f":"OwnerHousingCost!$F$54/1.645","v":1453.0536207549699},1918.0816805751442,{"$f":"OwnerHousingCostPrior5Year!$E$54-OwnerHousingCost!$E$54","v":3948},2.0583065048701039,1.645]
[null,null,null,null,null,null,null,"Monthly Costs 35% or More of HH Income",null,"Y",{"$f":"OwnerHousingCostPrior5Year!$F$56/1.645","v":1069.7704732334896},{"$f":"OwnerHousingCost!$F$56/1.645","v":1273.3223338182638},1663.057013816001,{"$f":"OwnerHousingCostPrior5Year!$E$56-OwnerHousingCost!$E$56","v":3529},2.1219958009151241,1.645]
[null,null,null,null,null,null,null,"Monthly Costs 50% or More of HH Income",null,"N",{"$f":"OwnerHousingCostPrior5Year!$F$57/1.645","v":761.4675177277777},{"$f":"OwnerHousingCost!$F$57/1.645","v":917.28997779031226},1192.1634468096456,{"$f":"OwnerHousingCostPrior5Year!$E$57-OwnerHousingCost!$E$57","v":1010},0.8471992684416435,1.645]
[null,null,null,null,null,null,null,"Percent not computed",null,"N",{"$f":"OwnerHousingCostPrior5Year!$F$58/1.645","v":177.25134519968574},{"$f":"OwnerHousingCost!$F$58/1.645","v":211.91492849382479},276.27156258587496,{"$f":"OwnerHousingCostPrior5Year!$E$58-OwnerHousingCost!$E$58","v":-202},0.7311646486858786,1.645]
[null,null,null,null,null,null,null,"Owner Less than $20,000:",null,"Y",{"$f":"OwnerHousingCostPrior5Year!$I$50/1.645","v":541.64133738601822},{"$f":"OwnerHousingCost!$I$50/1.645","v":696.65653495440733},882.44301009186745,{"$f":"OwnerHousingCostPrior5Year!$H$50-OwnerHousingCost!$H$50","v":2489},2.8205787473356274,1.645]
[null,null,null,null,null,null,null,"Owner Less than 20.0 percent",null,"N",{"$f":"OwnerHousingCostPrior5Year!$I$51/1.645","v":124.01215805471125},{"$f":"OwnerHousingCost!$I$51/1.645","v":150.75987841945289},195.21156801387284,{"$f":"OwnerHousingCostPrior5Year!$H$51-OwnerHousingCost!$H$51","v":-23},0.11782088650794245,1.645]
[null,null,null,null,null,null,null,"Owner 20.0 to 24.9 percent",null,"Y",{"$f":"OwnerHousingCostPrior5Year!$I$52/1.645","v":131.91489361702128},{"$f":"OwnerHousingCost!$I$52/1.645","v":171.42857142857142},216.30833146236154,{"$f":"OwnerHousingCostPrior5Year!$H$52-OwnerHousingCost!$H$52","v":486},2.2467927920962483,1.645]
[null,null,null,null,null,null,null,"Owner 25.0 to 29.9 percent",null,"N",{"$f":"OwnerHousingCostPrior5Year!$I$53/1.645","v":181.05400990692453},{"$f":"OwnerHousingCost!$I$53/1.645","v":228.28993854983847},291.37064118827374,{"$f":"OwnerHousingCostPrior5Year!$H$53-OwnerHousingCost!$H$53","v":463},1.589041360213177,1.645]
[null,null,null,null,null,null,null,"Owner 30.0 or more",null,"Y",{"$f":"OwnerHousingCostPrior5Year!$I$54/1.645","v":506.99088145896656},{"$f":"OwnerHousingCost!$I$54/1.645","v":686.322188449848},853.27480933233255,{"$f":"OwnerHousingCostPrior5Year!$H$54-OwnerHousingCost!$H$54","v":2026},2.3743815917702964,1.645]
[null,null,null,null,null,null,null,"Owner $20,000 to $34,999:",null,"N",{"$f":"OwnerHousingCostPrior5Year!$J$50/1.645","v":19975.075987841945},{"$f":"OwnerHousingCost!$J$50/1.645","v":16744.072948328267},26064.681843809227,{"$f":"OwnerHousingCostPrior5Year!$K$50-OwnerHousingCost!$K$50","v":-12},4.6039311248490032E-4,1.645]
[null,null,null,null,null,null,null,"Owner Less than 20.0 percent",null,"N",{"$f":"OwnerHousingCostPrior5Year!$J$51/1.645","v":2105.7750759878418},{"$f":"OwnerHousingCost!$J$51/1.645","v":1762.9179331306991},2746.3008410597367,{"$f":"OwnerHousingCostPrior5Year!$K$51-OwnerHousingCost!$K$51","v":-114},4.1510383092629402E-2,1.645]
[null,null,null,null,null,null,null,"Owner 20.0 to 24.9 percent",null,"N",{"$f":"OwnerHousingCostPrior5Year!$J$52/1.645","v":4252.8875379939209},{"$f":"OwnerHousingCost!$J$52/1.645","v":3254.711246200608},5355.3895943216594,{"$f":"OwnerHousingCostPrior5Year!$K$52-OwnerHousingCost!$K$52","v":-190},3.5478277845828014E-2,1.645]
[null,null,null,null,null,null,null,"Owner 25.0 to 29.9 percent",null,"N",{"$f":"OwnerHousingCostPrior5Year!$J$53/1.645","v":6358.6626139817627},{"$f":"OwnerHousingCost!$J$53/1.645","v":5017.6291793313067},8099.9501739039324,{"$f":"OwnerHousingCostPrior5Year!$K$53-OwnerHousingCost!$K$53","v":-221.54173130450931},2.7350999271361302E-2,1.645]
[null,null,null,null,null,null,null,"Owner 30.0 or more",null,"N",{"$f":"OwnerHousingCostPrior5Year!$J$54/1.645","v":13616.413373860183},{"$f":"OwnerHousingCost!$J$54/1.645","v":11726.44376899696},17969.869132391759,{"$f":"OwnerHousingCostPrior5Year!$K$54-OwnerHousingCost!$K$54","v":-61},3.3945711875020762E-3,1.645]
[null,null,null,null,null,null,null,"Owner $35,000 to $49,999:",null,"Y",{"$f":"OwnerHousingCostPrior5Year!$M$50/1.645","v":730.09118541033433},{"$f":"OwnerHousingCost!$M$50/1.645","v":788.44984802431611},1074.5633075177257,{"$f":"OwnerHousingCostPrior5Year!$L$50-OwnerHousingCost!$L$50","v":5300},4.9322361585592969,1.645]
[null,null,null,null,null,null,null,"Owner Less than 20.0 percent",null,"Y",{"$f":"OwnerHousingCostPrior5Year!$M$51/1.645","v":342.24924012158056},{"$f":"OwnerHousingCost!$M$51/1.645","v":337.38601823708206},{"$f":"SQRT((K258^2)+(L258^2))","v":480.58700322176003},{"$f":"OwnerHousingCostPrior5Year!$L$51-OwnerHousingCost!$L$51","v":3014},6.2714971062362093,1.645]
[null,null,null,null,null,null,null,"Owner 20.0 to 24.9 percent",null,"N",{"$f":"OwnerHousingCostPrior5Year!$M$52/1.645","v":375.07598784194528},{"$f":"OwnerHousingCost!$M$52/1.645","v":497.26443768996961},622.85946861770731,{"$f":"OwnerHousingCostPrior5Year!$L$52-OwnerHousingCost!$L$52","v":496},0.79632730172788002,1.645]
[null,null,null,null,null,null,null,"Owner 25.0 to 29.9 percent",null,"Y",{"$f":"OwnerHousingCostPrior5Year!$M$53/1.645","v":507.75637762554038},{"$f":"OwnerHousingCost!$M$53/1.645","v":600.91700449645657},786.71328024408274,{"$f":"OwnerHousingCostPrior5Year!$L$53-OwnerHousingCost!$L$53","v":3510},4.4616000366880808,1.645]
[null,null,null,null,null,null,null,"Owner 30.0 or more",null,"Y",{"$f":"OwnerHousingCostPrior5Year!$M$54/1.645","v":503.951367781155},{"$f":"OwnerHousingCost!$M$54/1.645","v":533.73860182370822},734.0598587071928,{"$f":"OwnerHousingCostPrior5Year!$L$54-OwnerHousingCost!$L$54","v":1790},2.4384932356231843,1.645]
[null,null,null,null,null,null,null,"Owner $50,000 to $74,999:",null,"Y",{"$f":"OwnerHousingCostPrior5Year!$O$50/1.645","v":865.04559270516711},{"$f":"OwnerHousingCost!$O$50/1.645","v":981.76291793313067},1308.4961996456882,{"$f":"OwnerHousingCostPrior5Year!$N$50-OwnerHousingCost!$N$50","v":8180},6.2514510949401023,1.645]
[null,null,null,null,null,null,null,"Owner Less than 20.0 percent",null,"Y",{"$f":"OwnerHousingCostPrior5Year!$O$51/1.645","v":486.93009118541033},{"$f":"OwnerHousingCost!$O$51/1.645","v":590.273556231003},765.19525932106183,{"$f":"OwnerHousingCostPrior5Year!$N$51-OwnerHousingCost!$N$51","v":2988},3.9048856662431182,1.645]
[null,null,null,null,null,null,null,"Owner 20.0 to 24.9 percent",null,"Y",{"$f":"OwnerHousingCostPrior5Year!$O$52/1.645","v":531.306990881459},{"$f":"OwnerHousingCost!$O$52/1.645","v":542.24924012158056},759.15832141388148,{"$f":"OwnerHousingCostPrior5Year!$N$52-OwnerHousingCost!$N$52","v":5086},6.699524798104914,1.645]
[null,null,null,null,null,null,null,"Owner 25.0 to 29.9 percent",null,"Y",{"$f":"OwnerHousingCostPrior5Year!$O$53/1.645","v":720.68580689600287},{"$f":"OwnerHousingCost!$O$53/1.645","v":801.53422234987988},1077.8892066717106,{"$f":"OwnerHousingCostPrior5Year!$N$53-OwnerHousingCost!$N$53","v":8074},7.4905657743162406,1.645]
[null,null,null,null,null,null,null,"Owner 30.0 or more",null,"N",{"$f":"OwnerHousingCostPrior5Year!$O$54/1.645","v":548.936170212766},{"$f":"OwnerHousingCost!$O$54/1.645","v":729.483282674772},912.94949404105603,{"$f":"OwnerHousingCostPrior5Year!$N$54-OwnerHousingCost!$N$54","v":106},0.11610718960016544,1.645]
[null,null,null,null,null,null,null,"Owner $75,000 or more",null,"Y",{"$f":"OwnerHousingCostPrior5Year!$Q$50/1.645","v":1511.8541033434651},{"$f":"OwnerHousingCost!$Q$50/1.645","v":1600.6079027355622},2201.7376065498834,{"$f":"OwnerHousingCostPrior5Year!$P$50-OwnerHousingCost!$P$50","v":-35927},16.317566586100835,1.645]
[null,null,null,null,null,null,null,"Owner Less than 20.0 percent",null,"Y",{"$f":"OwnerHousingCostPrior5Year!$Q$51/1.645","v":1438.2978723404256},{"$f":"OwnerHousingCost!$Q$51/1.645","v":1583.5866261398176},2139.2632778757938,{"$f":"OwnerHousingCostPrior5Year!$P$51-OwnerHousingCost!$P$51","v":-29744},13.90385199784042,1.645]
[null,null,null,null,null,null,null,"Owner 20.0 to 24.9 percent",null,"Y",{"$f":"OwnerHousingCostPrior5Year!$Q$52/1.645","v":968.99696048632222},{"$f":"OwnerHousingCost!$Q$52/1.645","v":1094.224924012158},1461.6029877368012,{"$f":"OwnerHousingCostPrior5Year!$P$52-OwnerHousingCost!$P$52","v":-3100},2.1209589922911638,1.645]
[null,null,null,null,null,null,null,"Owner 25.0 to 29.9 percent",null,"Y",{"$f":"OwnerHousingCostPrior5Year!$Q$53/1.645","v":1734.2594612717921},{"$f":"OwnerHousingCost!$Q$53/1.645","v":1924.8570821799481},2590.8937967097436,{"$f":"OwnerHousingCostPrior5Year!$P$53-OwnerHousingCost!$P$53","v":-32844},12.67670640985347,1.645]
[null,null,null,null,null,null,null,"Owner 30.0 or more",null,"Y",{"$f":"OwnerHousingCostPrior5Year!$Q$54/1.645","v":462.00607902735561},{"$f":"OwnerHousingCost!$Q$54/1.645","v":711.24620060790278},848.12780578012428,{"$f":"OwnerHousingCostPrior5Year!$P$54-OwnerHousingCost!$P$54","v":-3083},3.6350653509870452,1.645]

{"sheet":"DropDownList","index":73,"n_rows":19,"n_cols":1,"rows_kept":19,"cut":false,"hidden":true,"merged":[]}
["List Range for Combo Box on Start Page"]
["Belknap County"]
["Carroll County"]
["Cheshire County"]
["Coos County"]
["Grafton County"]
["Hillsborough County"]
["Merrimack County"]
["Rockingham County"]
["Strafford County"]
["Sullivan County"]
["New Hampshire"]
[]
[]
[]
[]
[]
["Linked Cell for Combo Box on Start Page"]
["Grafton County"]

{"sheet":"CntyQryCensus","index":74,"n_rows":194,"n_cols":216,"rows_kept":194,"cut":false,"hidden":true,"merged":[]}
[]
["Census 2000 Data   -           Query Name:  CountyQuery3"]
[]
["NAME","COUNTY","LOGRECNO","COUSUB","TRACT","AREALAND","AREAWATR","POP100","HU100","P01TotalPopulation","P03PopOfOneRace","P03PopWhite","P03PopBlack","P03PopAmIndian","P03PopAsian","P03PopHawaiian","P03PopOtherRace","P03Pop2orMoreRaces","P04PopHispanicLatino","P04PopNotHispanicLatino","P12PopMale","P12PopMale<15","P12PopMale15to24","P12PopMale25to34","P12PopMale35to44","P12PopMale45to54","P12PopMale55to64","P12PopMale65to74","P12PopMale75to84","P12PopMale85andOver","P12PopFemale","P12PopFemale<15","P12PopFemale15to24","P12PopFemale25to34","P12PopFemale35t44","P12PopFemale45to54","P12PopFemale55to64","P12PopFemale65to74","P12PopFemale75to84","P12PopFemale85andOver","P15Households2000","P16PopInHH","P17AvgHHSize","P18HHs1Person","P18HHs2orMorePerson","P18HHsFamily","P18HHMarriedCoupleFam","P18HHSingleParentFam","P18HHsNonFamily","P31Families","P32PopInFam","P33AvgFamSize","H01TotHsUnits","H04OccHsUnits","H04OwnerOccHU","H04RenterOccHU","H05VctHsUnits","H05VctHUForRent","H05VctHUForSale","H05VctHUSeasonal","H10PopInOccHU","H11PopInOwnOccHU","H11PopInRntOccHU","H12AvgHHSize2","H12AvgHHSizOwnOcc","H12AvgHHSizRntOcc","H14OwnOccWhtHsHldr","H14OwnOccBlkHsHldr","H14OwnOccAmIHsHldr","H14OwnOccAsnHsHldr","H14OwnOccPIsHsHldr","H14OwnOccORHsHldr","H14OwnOcc2RcHsHldr","H14RntOccWhtHsHldr","H14RntOccBlkHsHldr","H14RntOccAmIHsHldr","H14RntOccAsnHsHldr","H14RntOccPIsHsHldr","H14RntOccORHsHldr","H14RntOcc2RcHsHldr","H16OwnOccHH15to24","H16OwnOccHH25to34","H16OwnOccHH35to44","H16OwnOccHH45to54","H16OwnOccHH55to64","H16OwnOccHH65to74","H16OwnOccHH75to84","H16OwnOccHH85Over","H16RntOccHH15to24","H16RntOccHH25to34","H16RntOccHH35to44","H16RntOccHH45to54","H16RntOccHH55to64","H16RntOccHH65to74","H16RntOccHH75to84","H16RntOccHH85Over","P27TotalPop","P27PopInHseHlds","P27PopInGrpQtrs","SUMLEV","Median Age Total","Median Age (Male)","Median Age (Female)"]
["Belknap County","001","0000034","","","    1039344300","     174204374",56325,"    32121",56325,55730,54979,165,170,311,13,92,595,418,55907,27742,5531,3210,3195,4598,4461,2985,2151,1308,303,28583,5321,3050,3182,4848,4523,2925,2354,1710,670,22459,55112,2.4500000000000002,5480,16979,15501,12499,3002,1478,15501,45045,2.91,32121,22459,16634,5825,9662,403,240,8569,55112,42372,12740,2.4500000000000002,2.5499999999999998,2.19,16420,14,30,46,0,10,114,5625,28,31,39,2,13,87,163,1595,3612,4109,2996,2361,1466,332,617,1403,1420,894,490,395,446,160,56325,55112,1213,null,40.1,39.5,40.700000000000003]
["Carroll County","003","0002056","","","    2418526952","     151350772",43666,"    34750",43666,43331,42890,73,122,167,4,75,335,209,43457,21455,4115,2168,2134,3473,3450,2557,2126,1171,261,22211,3912,2007,2333,3634,3578,2516,2210,1437,584,18351,43097,2.35,4881,13470,12312,10145,2167,1158,12312,34774,2.82,34750,18351,14278,4073,16399,334,335,14887,43097,34349,8748,2.35,2.41,2.15,14142,7,26,27,1,11,64,3956,9,17,20,1,11,59,117,1160,2870,3246,2619,2418,1479,369,331,1006,1050,666,350,285,266,119,43666,43097,569,null,42.5,42,42.9]
["Cheshire County","005","0004850","","","    1832146309","      56330923",73825,"    31876",73825,73171,72167,271,226,350,26,131,654,529,73296,35944,7215,5884,4045,5701,5430,3409,2487,1416,357,37881,6812,5960,4167,6020,5582,3514,2819,2086,921,28299,69795,2.4700000000000002,7217,21082,18784,15129,3655,2298,18784,55677,2.96,31876,28299,20049,8250,3577,302,246,2532,69795,52556,17239,2.4700000000000002,2.62,2.09,19801,29,40,60,3,9,107,8034,40,35,39,3,20,79,186,1941,4609,5001,3393,2757,1719,443,1274,1943,1662,1293,697,590,550,241,73825,69795,4030,null,37.6,36.5,38.5]
["Coos County","007","0007906","","","    4662978515","      80433674",33111,"    19623",33111,32780,32466,40,93,123,5,53,331,201,32910,16185,3160,1821,1783,2632,2531,1720,1458,869,211,16926,2932,1740,1825,2603,2469,1782,1669,1314,592,13961,32465,2.33,4019,9942,9164,7302,1862,778,9164,25884,2.82,19623,13961,9942,4019,5662,505,271,4203,32465,24384,8081,2.33,2.4500000000000002,2.0099999999999998,9803,6,30,16,0,8,79,3934,3,15,16,2,3,46,97,931,2018,2292,1695,1608,1042,259,452,850,801,538,335,425,443,175,33111,32465,646,null,41.5,40.5,42.5]
["Grafton County","009","0010321","","","    4437509185","      95176279",81743,"    43729",81743,80717,78276,435,255,1414,22,315,1026,914,80829,40186,7446,7414,4802,5991,5983,3794,2739,1622,395,41557,7141,6942,4890,6383,6128,3856,2962,2267,988,31598,75355,2.38,8644,22954,20266,16543,3723,2688,20266,58780,2.9,43729,31598,21677,9921,12131,386,433,10428,75355,54413,20942,2.38,2.5099999999999998,2.11,21285,36,42,135,4,35,140,9342,88,64,222,4,58,143,186,2060,4718,5539,3758,3004,1905,507,1516,2755,2089,1444,775,584,548,210,81743,75355,6388,null,37,35.799999999999997,38.1]
["Hillsborough County","011","0014296","","","    2269764589","      41021469",380841,"   149961",380841,376181,357615,4904,943,7601,112,5006,4660,12166,368675,187827,43130,22951,27245,35292,27346,15498,9577,5506,1282,193014,41194,22231,27199,34968,27375,15886,11481,8905,3775,144455,373172,2.58,35166,109289,98855,79432,19423,10434,98855,306805,3.1,149961,144455,93748,50707,5506,1324,480,2283,373172,262190,110982,2.58,2.8,2.19,91289,526,128,1065,13,229,498,46021,1171,189,1450,17,1077,782,656,11790,26290,23540,14329,9757,6042,1344,4931,14369,11786,7688,4242,3388,3121,1182,380841,373172,7669,null,35.9,35.200000000000003,36.700000000000003]
["Merrimack County","013","0022468","","","    2420162999","      57136156",136225,"    56244",136225,134810,132254,730,311,1171,29,315,1415,1362,134863,67074,14564,8633,8390,12303,10499,5858,3906,2250,671,69151,13543,8257,8512,12468,10301,5974,4641,3602,1853,51843,129932,2.5099999999999998,12769,39074,35473,28446,7027,3601,35473,106288,3,56244,51843,36019,15824,4401,460,332,2892,129932,97015,32917,2.5099999999999998,2.69,2.08,35539,78,51,119,7,36,189,15150,142,44,248,2,43,195,315,3823,9364,9395,5606,4236,2600,680,1567,4068,3713,2421,1329,1042,1167,517,136225,129932,6293,null,37.700000000000003,36.700000000000003,38.6]
["New Hampshire","","0000001","","","   23227265747","     988970050",1235786,"   547024",1235786,1222572,1186851,9035,2964,15931,371,7420,13214,20489,1215297,607687,131860,78417,79429,109654,91793,54400,36565,20520,5049,628099,125617,77037,80632,111525,92193,55259,41762,30892,13182,474606,1200247,2.5299999999999998,116014,358592,323651,262438,61213,34941,323651,979685,3.03,547024,474606,330700,143906,72418,5218,3252,56413,1200247,892020,308227,2.5299999999999998,2.7,2.14,324538,1098,502,2146,50,538,1828,135270,1961,552,2711,46,1416,1950,2588,37118,86331,82778,52700,39413,23990,5782,16052,38907,33046,21738,11950,9577,9073,3563,1235786,1200247,35539,null,37.1,36.4,37.799999999999997]
["Rockingham County","015","0026815","","","    1799950065","     256409214",277359,"   113023",277359,274816,268486,1619,487,3084,98,1042,2543,3314,274045,136871,31258,14826,17789,26990,21668,12258,7379,3780,923,140488,30241,14187,18525,27683,21677,12170,8170,5592,2243,104529,274950,2.63,23040,81489,74358,62165,12193,7131,74358,231475,3.11,113023,104529,78992,25537,8494,871,516,6031,274950,221855,53095,2.63,2.81,2.08,77499,310,100,492,18,158,415,24331,288,84,383,9,141,301,445,9303,22993,20363,12133,8123,4549,1083,2136,7194,6275,4128,2243,1613,1391,557,277359,274950,2409,null,37.200000000000003,36.799999999999997,37.700000000000003]
["Strafford County","017","0033388","","","     955086700","      39247782",112233,"    45539",112233,110959,108073,702,238,1560,53,333,1274,1155,111078,54475,11293,9316,7607,9479,7264,4294,3127,1687,408,57758,10727,10545,7643,9560,7427,4485,3633,2677,1061,42581,106468,2.5,10555,32026,27759,21743,6016,4267,27759,82773,2.98,45539,42581,27458,15123,2958,370,202,1823,106468,72990,33478,2.5,2.66,2.21,26991,80,36,166,3,32,150,14376,168,53,276,6,47,197,288,3251,7370,6454,4176,3359,2076,484,2730,4244,3251,1939,1043,872,766,278,112233,106468,5765,null,34.4,33.799999999999997,35]
["Sullivan County","019","0035913","","","    1391796133","      37659407",40458,"    20158",40458,40077,39645,96,119,150,9,58,381,221,40237,19928,4148,2194,2439,3195,3161,2027,1615,911,238,20530,3794,2118,2356,3358,3133,2151,1823,1302,495,16530,39901,2.41,4243,12287,11179,9034,2145,1108,11179,32184,2.88,20158,16530,11903,4627,3628,263,197,2765,39901,29896,10005,2.41,2.5099999999999998,2.16,11769,12,19,20,1,10,72,4501,24,20,18,0,3,61,135,1264,2487,2839,1995,1790,1112,281,498,1075,999,727,446,383,375,124,40458,39901,557,null,40,39,41]
[]
[]
["Census 2000 DemoProfile Sample Data Tables 2&3   -  DPTab23CountyQry"]
[]
["NAME","COUSUB","AREANAME","PopInSchool","Preschool","Kindergarten","Elementary","HighSchool","College","Pop25andOver","HighSchoolGrad","SomeCollege","AssocDegree","BachelDegree","GradDegree","HSGradorHigher","CollegeGradorHigher","Pop5to20yrs","Pop5to20wDis","Pop21to64","Pop21to64wDis","Pop65over","Pop65overwDis","Pop5yrsOver","SameHUin95","DiffHUinUSin95","HUinSameCountyin95","HUinSameStatein95","TotalPop","NativePop","NatPopBornUS","NatPopBornInStatRes","NatPopBornDiffState","NatPopBornOutUS","FornBornPop","FornPopEnt90to00","FornPopNatCit","FornPopNotCit","Households","HHIncLessThn10k","HHInc10to15K","HHInc15to25K","HHInc25to35K","HHInc35to50K","HHInc50to75K","HHInc75to100K","HHInc100to150K","HHInc150to200K","HHIncOver200K","MedianHHInc","HHwithPubAssistInc","MeanPubAssist","FamilyHH","FHHIncLessThn10k","FHHInc10to15K","FHHInc15to25K","FHHInc25to35K","FHHInc35to50K","FHHInc50to75K","FHHInc75to100K","FHHInc100to150K","FHHInc150to200K","FHHIncOver200K","MedianFHHInc","PerCapitaInc","PovStatFamilies","PovStatFHHwChilUnd18","PovStatFHHwChilUnd5","PovStFmalHH","DP3088","DP3089","PovStatIndiv","PovStatIndiv18yrOver","PovStatIndiv65yrOver","DP3093","DP3094","DP3095"]
["Belknap County","00001","Belknap County, New Hampshire",13322,800,706,6457,3353,2006,39260,12809,8425,3263,6161,2979,33637,9140,11902,1011,32432,5612,7922,2904,53328,29798,23079,11475,11604,56325,54903,54532,29954,24578,371,1422,423,778,644,22444,1328,1286,2815,3189,4308,5113,2321,1235,372,477,43605,670,2208,15565,466,454,1458,2015,3266,4196,1957,1063,321,369,50510,22758,704,548,331,357,338,209,3350,2302,392,996,607,1333]
["Carroll County","00002","Carroll County, New Hampshire",9809,552,464,5059,2503,1231,31534,10166,6437,2863,5380,2966,27812,8346,8904,730,24829,5077,7481,2776,41581,24466,16732,7361,9371,43666,42623,42298,16438,25860,325,1043,272,643,400,18387,1306,1143,2814,2615,3546,3776,1458,1062,331,336,39990,584,2693,12389,441,463,1461,1780,2571,2960,1248,907,278,280,46922,21931,684,471,198,263,259,124,3411,2389,500,955,721,1350]
["Cheshire County","00003","Cheshire County, New Hampshire",21073,871,847,8524,4114,6717,48032,16539,8925,3158,8273,4510,41405,12783,17748,1390,41928,7182,9498,3748,70018,40240,29205,15626,13579,73825,72180,71608,32655,38953,572,1645,431,949,696,28321,2086,1467,3637,4175,5133,6581,2804,1579,446,413,42382,875,2298,18886,528,453,1792,2548,3807,5298,2379,1348,379,354,51043,20685,823,616,337,390,345,174,5550,4044,594,1418,957,2762]
["Coos County","00004","Coos County, New Hampshire",7435,397,391,3629,2086,932,23490,9770,3596,1891,1897,902,18056,2799,6911,651,18351,4678,5690,2705,31434,20144,11115,7116,3999,33111,31789,31565,21994,9571,224,1322,192,841,481,13977,1567,1369,2189,2096,2791,2607,781,453,60,64,33593,834,1946,9197,382,562,1255,1504,2162,2221,672,352,42,45,40654,17218,628,436,204,301,272,134,3231,2367,709,773,513,1485]
["Grafton County","00005","Grafton County, New Hampshire",24139,1043,883,8565,4476,9172,52795,16355,8932,3754,9736,7511,46288,17247,19647,1542,46659,6917,10187,3876,77524,42233,34231,15297,18934,81743,78552,77848,36964,40884,704,3191,1209,1527,1664,31608,2486,1738,4278,4246,6123,6587,2947,1905,708,590,41962,923,2370,20415,679,627,2036,2517,4215,5191,2524,1534,605,487,50424,22227,1033,754,341,495,450,201,6462,4786,759,1489,1043,3350]
["Hillsborough County","00006","Hillsborough County, New Hampshire",103468,7242,5172,49270,21190,20594,251908,69169,51234,22849,50475,25328,219055,75803,86850,7460,226348,36826,37965,14915,355128,190183,156149,90858,65291,380841,355048,350553,168236,182317,4495,25793,11512,10465,15328,144477,8074,6169,14069,14827,23140,34071,20083,15857,4538,3649,53384,4724,2709,99448,2874,2315,6499,8366,15501,26519,16699,13620,3885,3170,62363,25198,4303,3383,1807,2391,2192,1208,23358,15589,3125,7399,5012,9388]
["Merrimack County","00007","Merrimack County, New Hampshire",36957,2361,1708,16659,8013,8216,91278,27044,18823,8029,17126,9447,80469,26573,31158,2949,77848,12289,15581,5979,128235,71290,55653,27798,27855,136225,131874,130869,74005,56864,1005,4351,1485,2258,2093,51892,3126,2363,5634,6308,9238,12098,6893,4234,1016,982,48522,1488,2390,35786,972,946,2767,3768,6192,9715,5989,3638,924,875,56842,23208,1467,1173,579,799,743,373,7721,5422,890,2176,1473,3343]
["New Hampshire","00000","New Hampshire",332888,20868,15899,151310,69979,74832,823987,247723,164634,71772,153874,82230,720233,236104,281938,23641,724541,116642,139078,53610,1160340,642397,501335,259110,242225,1235786,1181632,1170140,534558,635582,11492,54154,20191,25761,28393,474750,28808,22635,51226,55301,81875,109447,60009,43093,12118,10238,49467,14148,2609,325581,9076,8532,25007,33215,56422,86260,50886,36995,10390,8798,57575,23844,13948,10833,5332,7237,6656,3342,78530,54895,9992,22028,15234,35034]
["Rockingham County","00008","Rockingham County, New Hampshire",73404,5511,3753,35943,15942,12255,187172,53593,38725,17788,39430,19831,169367,59261,62744,4824,167920,23267,26752,9809,259267,148115,108652,51059,57593,277359,266969,264688,76716,187972,2281,10390,2904,5849,4541,104586,4644,3743,8733,9928,15981,25258,16406,13210,3707,2976,58150,1634,2913,74836,1503,1318,4304,5997,10944,19625,13864,11518,3173,2590,66345,26656,2320,1799,691,1085,968,355,12347,8412,1699,3594,2689,4992]
["Strafford County","00009","Strafford County, New Hampshire",34333,1631,1480,12599,5967,12656,70319,21412,14412,6311,11903,6689,60727,18592,27522,2248,65053,10652,11920,4581,105623,53173,51317,24053,27264,112233,108420,107132,56313,50819,1288,3813,1454,1831,1982,42531,2898,2451,4793,5624,8275,9678,4840,2748,746,478,44803,1650,2652,27840,888,957,2252,3251,5377,7483,4261,2323,620,428,53075,20479,1401,1209,599,870,835,394,9733,7224,787,2344,1622,5499]
["Sullivan County","00010","Sullivan County, New Hampshire",8948,460,495,4605,2335,1053,28199,10866,5125,1866,3493,2067,23417,5560,8552,836,23173,4142,6082,2317,38202,22755,15202,8467,6735,40458,39274,39047,21283,17764,227,1184,309,620,564,16527,1293,906,2264,2293,3340,3678,1476,810,194,273,40938,766,3321,11219,343,437,1183,1469,2387,3052,1293,692,163,200,48516,21319,585,444,245,286,254,170,3367,2360,537,884,597,1532]
[]
[]
["Census 2000 DemoProfile Sample Data Table 4   -  DPTab4CountyQry"]
[]
["NAME","COUSUB","TotHousingUnits","1UnitDet","1UnitAtt","2Units","3to4Units","5to9Units","10to19Units","20orMoreUnits","MobileHomes","BoatRvVan","SingleFamilyUnits","MultiFamUnits","MobileHomeUnits","YearBuilt99to00","YearBuilt95to98","YearBUilt90to94","YearBuilt80to89","YearBuilt70to79","YearBuilt60to69","YearBuilt40to59","YearBuilt39orEarlier","Rooms1","Rooms2","Rooms3","Rooms4","Rooms5","Rooms6","Rooms7","Rooms8","Rooms9orMore","MedianRooms","OccHU1","YrHHMvdIn99to00","YrHHMvdIn95to98","YrHHMvdIn90to94","YrHHMvdIn80to89","YrHHMvdIn70to79","YrHHMvdIn69orBefore","HeatFuelNatGas","HeatFuelBotGas","HeatFuelElectric","HeatFuelOil","HeatFuelCoal","HeatFuelWood","HeatFuelSolar","HeatFuelOther","HeatFuelNone","LackCompPlumb","LackCompKit","NoTelephone","OccHU","OccPerRm1orLess","OccPerRm1to1_5","OccPerRm1_5orMore","SpecOwnOccUnits","Value<50K","Value50to100K","Value100to150K","Value150to200K","Value200to300K","Value300to500K","Value500Kto1mil","Value1MilorMore","MedianValue","WithMortg","MnthOwnCst<300","MnthOwnCst300to500","MnthOwnCst500to700","MnthOwnCst700to1000","MnthOwnCst1000to1500","MnthOwnCst1500to2000","MnthOwnCst2000orMore","MediMnthOwnCst","NotMrtg","NotMrtgMediMnthOwnCst","OwnCst%HHInc<15","OwnCst%HHInc15to20","OwnCst%HHInc20to25","OwnCst%HHInc25to30","OwnCst%HHInc30to35","OwnCst%HHInc35orMor","NotComputed","SpecRntOccUnits","Rnt<200","Rnt200to300","Rnt300to500","Rnt500to750","Rnt750to1000","Rnt1000to1500","Rnt1500orMore","NoRent","MedianRent","Rnt%HHInc<15","Rnt%HHInc15to20","Rnt%HHInc20to25","Rnt%HHInc25to30","Rnt%HHInc30to35","Rnt%HHInc35orMore","Rnt%NotCompute"]
["Belknap County","00001",32121,22862,848,1561,1599,968,468,1095,2688,32,22862,6539,2720,551,1914,1887,6820,5151,3759,4912,7127,269,1199,2526,6412,6964,6151,3701,2636,2263,5.3,22459,4099,6278,3714,4568,2218,1582,1659,2540,1255,15745,47,1076,12,70,55,70,67,247,22459,22112,273,74,11943,253,4924,3810,1559,791,385,168,53,109600,8360,0,211,824,2777,3195,869,484,1044,3583,405,3706,2128,2101,1220,756,1946,86,5636,263,206,1194,2418,940,234,4,377,588,959,924,811,655,411,1453,423]
["Carroll County","00002",34750,26304,1761,866,1271,1243,360,464,2411,70,26304,5965,2481,749,2086,2730,9010,6132,3497,3795,6751,275,1048,2784,5902,7901,7247,4157,2704,2732,5.4,18351,2825,5412,2847,3943,1995,1329,197,3284,1294,11722,25,1761,6,34,28,160,122,172,18351,18117,194,40,10248,307,3429,3057,1338,1241,529,277,70,119900,6265,14,328,973,2292,1749,570,339,934,3983,375,3434,1754,1397,966,724,1885,88,3894,232,183,990,1373,575,151,27,363,552,704,621,527,379,302,972,389]
["Cheshire County","00003",31876,21723,640,2040,1756,1425,852,1038,2370,32,21723,7751,2402,429,1071,1596,5351,4965,3364,4836,10264,426,1076,2742,5393,6374,5969,4275,2748,2873,5.5,28299,4920,7462,4346,5608,2921,3042,841,2251,1648,20656,147,2568,12,107,69,211,180,358,28299,27945,294,60,14350,427,6052,5201,1492,834,291,39,14,105300,9766,6,253,972,3116,4015,966,438,1052,4584,434,3986,2800,2370,1602,1013,2503,76,7915,422,372,1556,3622,1188,288,53,414,596,1241,1160,1155,1060,669,2145,485]
["Coos County","00004",19623,12538,277,1720,1389,1063,232,288,1943,173,12538,4969,2116,439,887,967,2673,2902,1503,2750,7502,361,824,2054,3679,4702,3521,2024,1232,1226,5.0999999999999996,13961,2174,3107,1798,2928,1792,2162,16,500,248,12231,16,911,0,30,9,84,58,376,13961,13792,136,33,6648,1426,4055,786,268,85,21,4,3,70500,3691,7,310,1067,1544,651,95,17,775,2957,348,2492,1330,961,541,390,886,48,3900,426,427,1953,742,115,11,0,226,399,821,565,537,457,301,978,241]
["Grafton County","00005",43729,26879,2429,2152,2707,2605,1615,1594,3661,87,26879,13102,3748,538,1906,2903,10408,6914,3909,4925,12226,582,2103,4290,7818,8872,7556,5388,3567,3553,5.3,31598,5982,8462,4852,6354,3183,2765,487,4580,2608,20768,42,2950,11,115,37,217,179,457,31598,31187,331,80,14515,723,5577,4325,1682,1282,759,156,11,109500,9590,13,414,1391,3054,3156,856,706,992,4925,405,5158,2740,2231,1458,883,1969,76,9552,481,535,2497,3651,1171,501,160,556,560,1678,1504,1414,1160,722,2354,720]
["Hillsborough County","00006",149961,84445,7895,13344,11065,8730,6352,14459,3611,60,84445,61845,3671,2946,7151,9154,32360,26746,16600,21065,33939,1603,4926,13411,25075,29320,27837,20126,14466,13197,5.5,144455,27193,44204,22802,24904,12887,12465,51455,13697,11251,63455,226,3167,29,822,353,538,548,1502,144455,141511,2007,937,75683,538,12964,31498,16193,10699,3315,418,58,139100,58565,20,482,2062,9082,26074,13852,6993,1334,17118,471,21061,15124,13538,9369,5444,10878,269,50285,2156,1655,5556,19685,13393,5710,702,1428,694,9113,8295,7709,6248,3839,12707,2374]
["Merrimack County","00007",56244,35167,1881,3637,3411,2949,1685,3256,4224,34,35167,16819,4258,988,2672,3421,12304,9180,5526,6474,15679,506,1584,4895,9825,10973,10706,7978,4842,4935,5.5,51843,8898,15292,8253,10184,4892,4324,11219,5948,4727,26854,69,2525,26,387,88,287,235,572,51843,51099,542,202,26262,452,8563,9717,4202,2478,666,162,22,117900,19451,16,261,1304,5235,8464,2937,1234,1143,6811,436,7917,5279,4611,3204,1628,3496,127,15437,713,828,2709,6793,2798,811,156,629,613,2691,2573,2509,1852,1100,3946,766]
["New Hampshire","00000",547024,341299,24233,35664,32724,27581,17279,31915,35544,785,341299,169396,36329,10612,28419,34207,117865,95757,57023,73643,129498,5938,17715,47008,96034,109727,101578,72036,50193,46795,5.5,474606,85476,138834,74269,90136,45468,40423,87287,50823,36223,275827,873,20226,180,2263,904,2254,1974,5263,474606,466964,5641,2001,249345,5006,61539,86992,48253,32989,11491,2614,461,133300,184745,112,3034,11870,39914,75801,35244,18770,1226,64600,441,71803,48513,43062,29313,17367,38137,1150,141227,6580,6090,22330,56341,30305,11854,1980,5747,646,25470,23350,21447,16646,10517,36119,7678]
["Rockingham County","00008",113023,72946,6368,6249,4329,4842,4165,6362,7579,183,72946,32315,7762,2678,7716,7846,26139,22387,12726,14488,19043,1229,2841,7912,18942,21192,20405,16316,12744,11442,5.7,104529,17542,31715,16852,20975,10236,7209,14251,11491,9311,65947,245,2629,79,457,119,306,275,603,104529,103115,1061,353,62328,299,5524,19290,17487,13296,4944,1284,204,164900,49757,21,441,1715,6835,20601,12783,7361,1390,12571,471,16170,11978,10744,7816,4720,10673,227,25199,850,774,2265,9473,7175,2864,675,1123,717,4839,4524,3915,2489,1754,6298,1380]
["Strafford County","00009",45539,25095,1504,3006,3871,3025,1318,2631,4996,93,25095,15355,5089,964,2200,2479,9394,7683,4442,7031,11346,479,1483,4971,9366,8924,8324,5395,3588,3009,5.2,42581,9270,12523,6318,7185,3574,3711,6904,4001,3258,26999,34,1166,2,120,97,280,210,543,42581,41778,639,164,19570,220,6229,7360,3409,1880,408,58,6,121000,14272,15,181,894,3998,6158,1985,1041,1142,5298,437,5420,3904,3698,2344,1334,2759,111,14977,686,796,2467,6718,2578,1093,176,463,623,2623,2449,2106,1871,1124,4137,667]
["Sullivan County","00010",20158,13340,630,1089,1326,731,232,728,2061,21,13340,4736,2082,330,816,1224,3406,3697,1697,3367,5621,208,631,1423,3622,4505,3862,2676,1666,1565,5.4,16530,2573,4379,2487,3487,1770,1834,258,2531,623,11450,22,1473,3,121,49,101,100,433,16530,16308,164,58,7798,361,4222,1948,623,403,173,48,20,91900,5028,0,153,668,1981,1738,331,157,955,2770,409,2459,1476,1411,793,475,1142,42,4432,351,314,1143,1866,372,191,27,168,537,801,735,764,475,295,1129,233]
[]
[]
[]
[]
["Census 2000 SummaryFile3 Sample Data  -  SF3CountyQry1SocialChar"]
[]
["NAME","LOGRECNO","COUNTY","P01TotalPopulation","P02SampleCountOfPop","P03Pop100pctCount","P05UrbanPopulation","P05RuralPopulation","P06WhiteAlone","P06BlackOrAfAm","P06AmIndAlone","P06AsianAlone","P06HawaiianOrPI","P06OtherRace","P06TwoPlusRaces","P07NotHispanicOrLatino","P07HispanicOrLatino","P08MalePop","P08FemalePop","P09PopInHouseholds","P09PopInFamHH","P09PopInNonFamHH","P09PopInGroupQtr","P13TotalHH","P13FamilyHH","P13FamHHolder15to24yrs","P13FamHHolder25to34yrs","P13FamHHolder35to44yrs","P13FamHHolder45to54yrs","P13FamHHolder55to64yrs","P13FamHHolder65to74yrs","P13FamHHolder75to84yrs","P13FamHHolder85yrsOver","P13NonFamilyHH","P13NonFamHHolder15to24yrs","P13NonFamHHolder25to34yrs","P13NonFamHHolder35to44yrs","P13NonFamHHolder45to54yrs","P13NonFamHHolder55to64yrs","P13NonFamHHolder65to74yrs","P13NonFamHHolder75to84yrs","P13NonFamHHolder85yrsOver","P18Pop15yrsOver","P18MaritalStatNeverMarried","P18MaritalStatNowMarried","P18MaritalStatSeparated","P18MaritalStatWidowed","P18MaritalStatWidowFemale","P18MaritalStatDivorced","P18MaritalStatDivorcedFemale","P21NativeBornPop","P21NatPopBornInState","P21NatPopBornOtherState","P021005","P021006","P021007","P021008","P21NatPopBornOutUS","P21ForeignBornPop","P021014","P021015","P24Pop5YrsPlus","P24ResSameHouseIn95","P24ResDiffHouseIn95","P24ResDiffHouseInUSIn95","P24ResDiffHouseSameCountyIn95","P24ResDiffHouseDiffCountyIn95","P24ResDiffHouseDiffCntySamStIn95","P24ResDiffHouseDiffCntyDifStIn95","P24ResDiffHouseDiffCntyNEStIn95","P24ResDiffHouseDiffCntyMWStIn95","P24ResDiffHouseDiffCntySoStIn95","P24ResDiffHouseDiffCntyWstStIn95","P24ResDiffInPR","P24ResDiffElsewhereIn95","P26Workers16yrsOver","P26WorkedInState","P26WorkedInCnty","P26WorkedOutsideCnty","P26WorkedOutsideState","P30Workers16Over","P30TranspToWrkCar","P30TranspToWrkPublic","P30TranspToWrkOther","P30WrkdAtHome","P31WrkrsNotWrkAtHom","P31TravTim<5min","P31TravTim5to9Min","P31TravTim10to14Min","P31TravTim15to19Min","P31TravTim20to24Min","P31TravTim25to29Min","P31TravTim30to34Min","P31TravTim35to39Min","P31TravTim40to44Min","P31TravTim45to59Min","P31TravTim60to89Min","P31TravTim90MinMore","P31WorkAtHome","P36SchEnrlPop3yrOver","P36NurserSchEnrl","P36KinderSchEnrl","P36ElemSchEnrl","P36HighSchEnrl","P36CollGradSchEnrl","P37Pop25yrsOver","P37EduAtain<9grd","P37EduAtainHSnoDip","P37EduAtainHSgrad","P37EduAtainCollNoDeg","P37EduAtainAssocDeg","P37EduAtainBachDeg","P37EduAtainGradProfDeg","P42NIPop5to15","P42NIPop5to15wDisabl","P42NIPop16to20","P42NIPop16to20wDisab","P42NIPop16to20wDisEmp","P42NIPop16to21NoDis","P42NIPop16to21NoDisEmpl","P42NIPop21to64","P42NIPop21to64wDis","P42NIPop21to64wDisEmp","P42NIPop21to64NoDis","P42NIPop21to64NoDisEmp","P42NIPop65to74","P42NIPop65to74wDis","P42NIPop75Over","P42NIPop75OverwDis","P43Pop16YrsOver","P43Pop16OvrInLaborForce","P43Pop16OvrCivlLabFrc","P43Pop16OvrCivlLbrFrcEmp","P48Families","P48MarriedFam","P48MarrFamNoWorkers","P48MarrFam1Worker","P48MarrFam2Worker","P48MarrFamHusbWifeWorked","P48MarrFamOther","P48MarrFam3PlusWorker","P48MarrFam3WorkHsbWif","P48MarrFam3PlsWrkOther","P48OtherFam","P48MaleHHNoWif","P48MaleHHNoWifNoWorker","P48MaleHHNoWif1Worker","P48MaleHHNoWif2Worker","P48MaleHHNoWif3PlusWorker","P48FemaleHHNoHsb","P48FemaleHHNoHsbNoWorker","P48FemaleHHNoHsb1Worker","P48FemaleHHNoHsb2Worker","P48FemaleHHNoHsb3Worker","P49EmpCivPop16YrOver","P49IndustAgricult","P49IndustConst","P49IndustMnftg","P49IndustWhlslTrd","P49IndustRtlTrd","P49IndustTrspWrhsUtlt","P49IndustInfrm","P49IndustFinInsRE","P49IndustPrfsScntfMngmt","P49IndustEduHlthSocSrv","P49IndustArtsEntRec","P49IndustOthrSrvc","P49IndustPubAdm","P50OccupMngmtProfs","P50OccupService","P50OccupSalesOff","P50OccupFarmFishForest","P50OccupConstExtrctMaint","P50OccupPrdctTrnspMatMv"]
["Belknap County","0000095","001",56325,9696,56325,22471,33854,54685,138,232,347,7,111,805,55959,366,27828,28497,55116,46549,8567,1209,22444,15565,511,2057,3919,3659,2491,1809,948,171,6879,398,788,1147,1212,977,1033,917,407,45486,9680,27003,507,2978,2346,5318,3045,54903,29954,24578,19998,1641,1802,1137,371,1422,778,644,53328,29798,23530,23079,11475,11604,6184,5420,3511,209,1066,634,14,437,28253,27228,19044,8184,1025,28253,26004,140,121,1115,27138,1291,3860,4942,4127,3006,1446,2634,719,819,1801,1484,1009,1115,54622,800,706,6457,3353,2006,39260,1731,3892,12809,8425,3263,6161,2979,8714,588,3188,423,244,2765,1524,32432,5612,3465,26820,22476,4471,1152,3451,1752,44614,29882,29865,28848,15565,12761,1683,2334,7165,6726,439,1579,1509,70,2804,896,44,529,264,59,1908,254,1072,505,77,28848,318,2715,4807,711,4311,916,574,1654,1963,5772,2391,1260,1456,8855,4480,7381,107,3375,4650]
["Carroll County","0000304","003",43666,12113,43666,0,43666,42911,34,149,137,1,55,379,43454,212,21439,22227,43096,35806,7290,570,18387,12389,215,1501,2919,2774,2189,1755,927,109,5998,226,654,955,1168,850,964,840,341,35649,7118,21387,447,2521,1999,4176,2176,42623,16438,25860,21633,1497,1859,871,325,1043,643,400,41581,24466,17115,16732,7361,9371,3382,5989,4427,227,958,377,0,383,20785,19399,15816,3583,1386,20785,18598,63,212,1185,19600,1360,2856,3291,3043,2123,935,1890,371,519,1136,1032,1044,1185,42504,552,464,5059,2503,1231,31534,922,2800,10166,6437,2863,5380,2966,6572,391,2332,339,195,1993,967,24829,5077,3371,19752,15677,4294,1084,3187,1692,35009,22270,22262,21418,12389,10236,1747,2216,5151,4867,284,1122,1089,33,2153,687,68,402,184,33,1466,188,754,432,92,21418,351,2361,1823,655,3429,733,366,1222,1529,4060,3145,978,766,6421,3847,5844,185,2864,2257]
["Cheshire County","0000508","005",73825,15852,73825,24961,48864,72216,190,135,486,0,201,597,73361,464,36100,37725,69758,57571,12187,4067,28321,18886,405,2580,4998,4672,2831,2028,1129,243,9435,1034,1226,1291,1678,1213,1307,1242,444,59873,16060,33013,1018,3768,2943,6014,3356,72180,32655,38953,32393,2559,2353,1648,572,1645,949,696,70018,40240,29778,29205,15626,13579,3953,9626,7053,603,1011,959,71,502,37235,31611,28611,3000,5624,37235,33631,132,116,1669,35566,1829,5587,6907,5555,4689,2009,3599,698,657,1557,1436,1043,1669,71504,871,847,8524,4114,6717,48032,1923,4704,16539,8925,3158,8273,4510,11140,678,6608,712,416,5896,2396,41928,7182,4458,34746,29263,5228,1527,4270,2221,58826,40926,40909,38065,18886,15364,1706,2728,8818,8322,496,2112,2015,97,3522,1219,53,762,341,63,2303,266,1187,728,122,38065,551,2637,7181,1710,5268,1461,983,2519,2221,8303,2297,1981,953,12337,4931,10067,243,3757,6730]
["Coos County","0000814","007",33111,9831,33111,11387,21724,32528,28,67,89,0,30,369,32939,172,16211,16900,32463,26837,5626,648,13977,9197,259,1349,2200,2165,1358,1181,531,154,4780,242,498,576,764,548,905,876,371,27023,5916,15303,293,2538,2018,2973,1440,31789,21994,9571,7833,566,819,353,224,1322,841,481,31434,20144,11290,11115,7116,3999,1347,2652,1787,167,449,249,3,172,15230,14248,12591,1657,982,15230,13740,27,168,572,14658,1467,3091,2856,2216,1631,436,1062,219,339,588,343,410,572,32120,397,391,3629,2086,932,23490,2024,3410,9770,3596,1891,1897,902,4921,397,1990,254,162,1736,872,18351,4678,2845,13673,11203,3081,1248,2609,1457,26513,16589,16574,15686,9197,7288,1178,1418,3746,3570,176,946,904,42,1909,722,59,458,198,7,1187,150,674,301,62,15686,486,918,3415,360,2279,695,204,568,506,3212,1551,707,785,3815,2664,3645,291,1816,3455]
["Grafton County","0001145","009",81743,20541,81743,28746,52997,78213,470,306,1251,12,294,1197,80789,954,40105,41638,75316,60719,14597,6427,31608,20415,431,3145,5143,5099,2958,2240,1188,211,11193,1116,1752,1578,1946,1596,1375,1250,580,67226,19685,35685,675,4119,3397,7062,3838,78552,36964,40884,31013,3650,3563,2658,704,3191,1527,1664,77524,42233,35291,34231,15297,18934,4855,14079,8926,1405,2024,1724,10,1050,41333,38337,33872,4465,2996,41333,35125,287,263,2200,39133,2815,6566,6937,6386,4711,1960,4020,663,986,1877,1234,978,2200,79314,1043,883,8565,4476,9172,52795,1951,4556,16355,8932,3754,9736,7511,11286,825,8361,717,360,7644,3519,46659,6917,4511,39742,32312,5617,1543,4570,2333,66228,44513,44478,42329,20415,16759,1855,3143,9456,9085,371,2305,2220,85,3656,1021,71,640,259,51,2635,303,1466,736,130,42329,761,2857,5376,883,5418,1520,1035,1725,2620,12828,4401,1676,1229,15473,6789,9991,435,3959,5682]
["Hillsborough County","0001543","011",380841,52794,380841,297060,83781,357571,4875,783,7366,79,4960,5207,369097,11744,188054,192787,373162,316158,57004,7679,144477,99448,2032,18316,29906,22984,13327,7977,4151,755,45029,3283,8008,7921,7945,5704,5130,5321,1717,296517,75911,169425,4628,16376,13121,30177,16865,355048,168236,182317,144631,13058,15635,8993,4495,25793,10465,15328,355128,190183,164945,156149,90858,65291,17318,47973,31452,3318,8250,4953,482,8314,198868,165215,142472,22743,33653,198868,184546,1758,13359,6951,191917,5424,21135,33314,30456,25886,10705,20947,5413,6614,13804,13368,4851,6951,365998,7242,5172,49270,21190,20594,251908,10865,21988,69169,51234,22849,50475,25328,64176,4200,22674,3260,2052,19414,11471,226348,36826,23849,189522,159168,20745,5987,17220,8928,290803,209738,209503,202366,99448,80974,6785,15455,46239,43699,2540,12495,11749,746,18474,5698,368,3258,1690,382,12776,1589,7254,3192,741,202366,840,12494,41534,7820,26786,9028,6168,13645,20905,36503,12314,8392,5937,76455,24107,54457,353,16986,30008]
["Merrimack County","0002571","013",136225,25081,136225,62852,73373,132079,904,228,1134,30,253,1597,135148,1077,67032,69193,129892,109712,20180,6333,51892,35786,840,5466,10452,8876,4768,3278,1683,423,16106,985,2267,2587,3167,2110,2103,2038,849,108182,25393,62586,1438,6861,5679,11904,6621,131874,74005,56864,43361,4728,5284,3491,1005,4351,2258,2093,128235,71290,56945,55653,27798,27855,14798,13057,7559,884,2737,1877,12,1280,69676,67241,48051,19190,2435,69676,64001,444,1998,2819,66857,3082,7754,9833,10662,9817,4599,7930,1931,2228,4311,2958,1752,2819,131581,2361,1708,16659,8013,8216,91278,3611,7198,27044,18823,8029,17126,9447,21997,1726,9161,1223,648,7938,4279,77848,12289,7460,65559,56154,8375,2509,7206,3470,106078,74113,74056,70851,35786,28950,2983,5084,16696,16004,692,4187,4009,178,6836,1799,108,1219,382,90,5037,520,2933,1258,326,70851,570,5124,9672,2667,9316,2308,1627,5423,6120,15730,3856,3323,5115,25499,8965,19760,265,7099,9263]
["New Hampshire","0000001","33",1235786,213016,1235786,731352,504434,1186448,8984,2660,15422,257,7441,14574,1215876,19910,608140,627646,1200159,1009425,190734,35627,474750,325581,6914,52644,94203,77856,45105,30451,15489,2919,149169,11086,23081,24955,26715,19977,18902,17585,6868,978641,243840,560995,13320,57763,46372,102723,56832,1181632,534558,635582,518034,42169,47139,28240,11492,54154,25761,28393,1160340,642397,517943,501335,259110,242225,79975,162250,111485,10282,24988,15495,672,15936,638565,538457,426058,112399,100108,638565,584806,4645,32149,25307,613258,24932,74466,97185,91417,83562,36290,69722,17218,20648,44234,36458,17126,25307,1191571,20868,15899,151310,69979,74832,823987,32426,71328,247723,164634,71772,153874,82230,199403,13558,82535,10083,5926,72452,38730,724541,116642,74900,607899,510171,77634,22585,61444,31025,960498,677190,676371,650871,325581,266624,26421,50463,150534,142660,7874,39206,37087,2119,58957,17938,1115,10730,5020,1073,41019,4604,23026,10849,2540,650871,5837,44269,117673,23426,89089,27006,17478,40731,57369,130390,45001,27780,24822,232927,84618,173282,2902,60988,96154]
["Rockingham County","0003030","015",277359,40044,277359,195666,81693,268507,1546,443,2946,57,1237,2623,273856,3503,136849,140510,274953,237222,37731,2406,104586,74836,1036,11332,23867,18798,10192,6138,2977,496,29750,1398,4896,5710,5678,4230,3671,2855,1312,215889,49569,130945,2529,11250,8893,21596,12010,266969,76716,187972,162802,9524,9983,5663,2281,10390,5849,4541,259267,148115,111152,108652,51059,57593,14333,43260,33056,2190,5168,2846,71,2429,148703,104009,78659,25350,44694,148703,137687,1150,8020,6087,142616,4653,14203,17641,17352,19631,9033,18845,5168,6276,14026,11516,4272,6087,266717,5511,3753,35943,15942,12255,187172,4604,13201,53593,38725,17788,39430,19831,47487,2904,15257,1920,1150,13337,7642,167920,23267,15975,144653,122022,15491,4387,11261,5422,211780,155700,155473,151291,74836,63012,4831,12484,35715,33600,2115,9982,9336,646,11824,3566,198,2035,1077,256,8258,737,4336,2518,667,151291,1024,10560,27498,6324,21011,7332,4772,9401,15618,26865,9347,6047,5492,58147,17363,41411,573,13998,19799]
["Strafford County","0003819","017",112233,17376,112233,73263,38970,108051,702,209,1477,63,257,1474,110989,1244,54599,57634,106497,85495,21002,5736,42531,27840,793,5261,8035,6166,3381,2726,1308,170,14691,2133,2461,2459,2180,1835,1576,1439,608,90290,27822,46555,1401,4884,4062,9628,5388,108420,56313,50819,39578,3911,4590,2740,1288,3813,1831,1982,105623,53173,52450,51317,24053,27264,11524,15740,10834,1034,2444,1428,0,1133,58403,53097,34364,18733,5306,58403,52994,556,7777,1780,56623,2112,6732,8568,8851,9074,3886,6502,1489,1616,3863,2654,1276,1780,108184,1631,1480,12599,5967,12656,70319,3243,6349,21412,14412,6311,11903,6689,16803,1328,10719,920,560,9799,4893,65053,10652,6673,54401,45741,6913,2132,5007,2449,88752,62266,62065,59534,27840,22092,2343,3929,12502,11932,570,3318,3141,177,5748,1707,105,1013,482,107,4041,386,2598,804,253,59534,571,3209,11322,1704,8538,2356,1421,3774,4677,12681,4546,2368,2367,20214,8725,15818,277,4957,9543]
["Sullivan County","0004137","019",40458,9688,40458,14946,25512,39687,97,108,189,8,43,326,40284,174,19923,20535,39906,33356,6550,552,16527,11219,392,1637,2764,2663,1610,1319,647,187,5308,271,531,731,977,914,838,807,239,32506,6686,19093,384,2468,1914,3875,2093,39274,21283,17764,14792,1035,1251,686,227,1184,620,564,38202,22755,15447,15202,8467,6735,2281,4454,2880,245,881,448,9,236,20079,18072,12578,5494,2007,20079,18480,88,115,929,19150,899,2682,2896,2769,2994,1281,2293,547,594,1271,433,491,929,39027,460,495,4605,2335,1053,28199,1552,3230,10866,5125,1866,3493,2067,6307,521,2245,315,139,1930,1167,23173,4142,2293,19031,16155,3419,1016,2663,1301,31895,21193,21186,20483,11219,9188,1310,1672,5046,4855,191,1160,1115,45,2031,623,41,414,143,25,1408,211,752,375,70,20483,365,1394,5045,592,2733,657,328,800,1210,4436,1153,1048,722,5711,2747,4908,173,2177,4767]
[]
[]
["Census 2000 SummaryFile3 Sample Data  -  SF3CountyQry2aIncomeChar"]
[]
["NAME","LOGRECNO","COUNTY","TotalPop","P52Households1","P52HHInc<10K","P52HHInc10to15K","P52HHInc15to20K","P52HHInc20to25K","P52HHInc25to30K","P52HHInc30to35K","P52HHInc35to40K","P52HHInc40to45K","P52HHInc45to50K","P52HHInc50to60K","P52HHInc60to75K","P52HHInc75to100K","P52HHInc100to125K","P52HHInc125to150K","P52HHInc150to200K","P52HHInc>200K","P53MedianHHInc","P54AggregHHInc","P55Households2","P55HHUnder25yrs","P55HH<25HHInc<10K","P55HH<25HHInc10to15K","P55HH<25HHInc15to20K","P55HH<25HHInc20to25K","P55HH<25HHInc25to30K","P55HH<25HHInc30to35K","P55HH<25HHInc35to40K","P55HH<25HHInc40to45K","P55HH<25HHInc45to50K","P55HH<25HHInc50to60K","P55HH<25HHInc60to75K","P55HH<25HHInc75to100K","P55HH<25HHInc100to125K","P55HH<25HHInc125to150K","P55HH<25HHInc150to200K","P55HH<25HHInc>200K","P55HH25to34yrs","P55HH25to34HHInc<10K","P55HH25to34HHInc10to15K","P55HH25to34HHInc15to20K","P55HH25to34HHInc20to25K","P55HH25to34HHInc25to30K","P55HH25to34HHInc30to35K","P55HH25to34HHInc35to40K","P55HH25to34HHInc40to45K","P55HH25to34HHInc45to50K","P55HH25to34HHInc50to60K","P55HH25to34HHInc60to75K","P55HH25to34HHInc75to100K","P55HH25to34HHInc100to125K","P55HH25to34HHInc125to150K","P55HH25to34HHInc150to200K","P55HH25to34HHInc>200K","P55HH35to44yrs","P55HH35to44HHInc<10K","P55HH35to44HHInc10to15K","P55HH35to44HHInc15to20K","P55HH35to44HHInc20to25K","P55HH35to44HHInc25to30K","P55HH35to44HHInc30to35K","P55HH35to44HHInc35to40K","P55HH35to44HHInc40to45K","P55HH35to44HHInc45to50K","P55HH35to44HHInc50to60K","P55HH35to44HHInc60to75K","P55HH35to44HHInc75to100K","P55HH35to44HHInc100to125K","P55HH35to44HHInc125to150K","P55HH35to44HHInc150to200K","P55HH35to44HHInc>200K","P55HH45to54yrs","P55HH45to55HHInc<10K","P55HH45to55HHInc10to15K","P55HH45to55HHInc15to20K","P55HH45to55HHInc20to25K","P55HH45to55HHInc25to30K","P55HH45to55HHInc30to35K","P55HH45to55HHInc35to40K","P55HH45to55HHInc40to45K","P55HH45to55HHInc45to50K","P55HH45to55HHInc50to60K","P55HH45to55HHInc60to75K","P55HH45to55HHInc75to100K","P55HH45to55HHInc100to125K","P55HH45to55HHInc125to150K","P55HH45to55HHInc150to200K","P55HH45to55HHInc>200K","P55HH55to64yrs","P55HH55to64HHInc<10K","P55HH55to64HHInc10to15K","P55HH55to64HHInc15to20K","P55HH55to64HHInc20to25K","P55HH55to64HHInc25to30K","P55HH55to64HHInc30to35K","P55HH55to64HHInc35to40K","P55HH55to64HHInc40to45K","P55HH55to64HHInc45to50K","P55HH55to64HHInc50to60K","P55HH55to64HHInc60to75K","P55HH55to64HHInc75to100K","P55HH55to64HHInc100to125K","P55HH55to64HHInc125to150K","P55HH55to64HHInc150to200K","P55HH55to64HHInc>200K","P55HH65to74yrs","P55HH65to74HHInc<10K","P55HH65to74HHInc10to15K","P55HH65to74HHInc15to20K","P55HH65to74HHInc20to25K","P55HH65to74HHInc25to30K","P55HH65to74HHInc30to35K","P55HH65to74HHInc35to40K","P55HH65to74HHInc40to45K","P55HH65to74HHInc45to50K","P55HH65to74HHInc50to60K","P55HH65to74HHInc60to75K","P55HH65to74HHInc75to100K","P55HH65to74HHInc100to125K","P55HH65to74HHInc125to150K","P55HH65to74HHInc150to200K","P55HH65to74HHInc>200K","P55HH>75yrs","P55HH>75HHInc<10K","P55HH>75HHInc10to15K","P55HH>75HHInc15to20K","P55HH>75HHInc20to25K","P55HH>75HHInc25to30K","P55HH>75HHInc30to35K","P55HH>75HHInc35to40K","P55HH>75HHInc40to45K","P55HH>75HHInc45to50K","P55HH>75HHInc50to60K","P55HH>75HHInc60to75K","P55HH>75HHInc75to100K","P55HH>75HHInc100to125K","P55HH>75HHInc125to150K","P55HH>75HHInc150to200K","P55HH>75HHInc>200K","P56MedHHInc","P56MedHHIncHH<25y","P56MedHHIncHH25to34y","P56MedHHIncHH35to44y","P56MedHHIncHH45to54y","P56MedHHIncHH55to64y","P56MedHHIncHH65to74y","P56MedHHIncHH>75y","P58Households3","P58HHwithEarnings","P58HHNoEarnings","P59HHwWageSalInc","P59HHNoWageSalInc","P60HHwSelfEmpInc","P60HHNoSelfEmpInc","P61HHwIndDivInc","P61HHNoIndDivInc","P62HHwSocSecInc","P62HHNoSocSecInc","P63HHwSSI","P63HHNoSSI","P64HHwPubAssInc","P64HHNoPubAssInc","P65HHwRetInc","P65HHNoRetInc","P66HHwOtherTypInc","P66HHNoOtherTypInc","P67AggregEarnings","P68AggregWageSalInc","P69AggregSelfEmpInc","P70AggregIntDivInc","P71AggregSocSecInc","P72AggregSSIInc","P73AggregPublicAssInc","P74AggregRetireInc","P76Families1","P76FamInc<10K","P76FamInc10to15K","P76FamInc15to20K","P76FamInc20to25K","P76FamInc25to30K","P76FamInc30to35K","P76FamInc35to40K","P76FamInc40to45K","P76FamInc45to50K","P76FamInc50to60K","P76FamInc60to75K","P76FamInc75to100K","P76FamInc100to125K","P76FamInc125to150K","P76FamInc150to200K","P76FamInc>200K","P77MedFamInc","P78AggregFamInc","P79NonFamHH","P79NonFamHHwInc<10K","P79NonFamHHwInc10to15K","P79NonFamHHwInc15to20K","P79NonFamHHwInc20to25K","P79NonFamHHwInc25to30K","P79NonFamHHwInc30to35K","P79NonFamHHwInc35to40K","P79NonFamHHwInc40to45K","P79NonFamHHwInc45to50K","P79NonFamHHwInc50to60K","P79NonFamHHwInc60to75K","P79NonFamHHwInc75to100K","P79NonFamHHwInc100to125K","P79NonFamHHwInc125to150K","P79NonFamHHwInc150to200K","P79NonFamHHwInc200KorMore","P80MedNonFamInc","P82PerCapitaInc"]
["Belknap County","0000095","001",56325,22444,1328,1286,1258,1557,1526,1663,1452,1551,1305,2455,2658,2321,905,330,372,477,43605,1258677900,22444,909,142,62,46,143,93,77,81,66,59,90,23,19,4,4,0,0,2845,132,73,134,190,176,338,196,207,246,338,375,326,67,8,13,26,5066,169,148,159,274,265,333,275,457,427,744,768,524,231,85,99,108,4871,160,173,123,219,273,231,356,302,228,525,707,794,353,108,138,181,3468,162,152,216,207,205,236,206,260,156,357,483,379,146,99,101,103,2842,182,298,220,258,306,294,175,170,139,303,229,137,74,7,9,41,2443,381,380,360,266,208,154,163,89,50,98,73,142,30,19,12,18,43605,28031,44284,50232,57242,47770,32761,21551,22444,18194,4250,17280,5164,3727,18717,9235,13209,6631,15813,813,21631,670,21774,4260,18184,3205,19239,987808100,875304500,112503600,100550700,78044000,5785700,1479700,60196600,15565,466,454,550,908,895,1120,1058,1184,1024,2059,2137,1957,783,280,321,369,50510,988280800,6879,971,897,757,719,681,541,354,359,305,349,431,246,91,50,28,100,25651,22758]
["Carroll County","0000304","003",43666,18387,1306,1143,1422,1392,1380,1235,1318,1190,1038,1912,1864,1458,702,360,331,336,39990,949835800,18387,441,36,30,93,57,29,21,42,35,64,16,5,9,4,0,0,0,2155,111,90,136,181,199,225,191,190,137,284,224,115,32,19,13,8,3874,206,168,200,206,294,276,318,282,247,554,464,323,151,65,55,65,3942,143,131,171,249,247,249,259,275,231,435,565,471,207,109,95,105,3039,221,168,223,232,207,125,189,168,202,297,272,289,148,82,92,124,2719,218,241,311,224,252,217,176,139,128,177,217,162,105,65,57,30,2217,371,315,288,243,152,122,143,101,29,149,117,89,55,20,19,4,39990,25865,38539,44717,50328,44544,32056,22795,18387,14243,4144,13033,5354,3750,14637,7002,11385,5999,12388,520,17867,584,17803,3737,14650,2295,16092,676046500,572009600,104036800,106630800,69461100,3568900,1572500,72798200,12389,441,463,653,808,923,857,879,846,846,1458,1502,1248,565,342,278,280,46922,723197000,5998,939,732,802,604,522,405,404,289,164,379,351,176,119,15,46,51,24076,21931]
["Cheshire County","0000508","005",73825,28321,2086,1467,1750,1887,2018,2157,1814,1742,1577,3131,3450,2804,1083,496,446,413,42382,1493077600,28321,1439,403,142,192,147,137,85,127,61,34,49,46,8,0,8,0,0,3806,163,124,184,282,273,328,357,333,279,531,531,269,95,15,14,28,6289,211,133,212,315,382,460,392,474,449,845,1068,834,221,129,94,70,6350,286,143,164,305,357,444,315,324,312,828,970,946,479,110,214,153,4044,206,193,229,200,327,335,271,248,199,443,465,479,153,141,73,82,3335,357,227,379,329,254,337,169,182,186,277,229,168,82,74,38,47,3058,460,505,390,309,288,168,183,120,118,158,141,100,53,19,13,33,42382,19460,42518,50933,55945,45269,31433,22430,28321,23312,5009,22291,6030,4458,23863,12110,16211,7695,20626,854,27467,875,27446,4980,23341,3576,24745,1182188300,1074153200,108035100,118267400,90687700,5852600,2010400,67561100,18886,528,453,742,1050,1055,1493,1219,1289,1299,2480,2818,2379,899,449,379,354,51043,1161182200,9435,1630,1070,1060,907,1016,786,546,448,265,556,538,318,144,41,55,55,25245,20685]
["Coos County","0000814","007",33111,13977,1567,1369,1114,1075,1124,972,1022,938,831,1261,1346,781,340,113,60,64,33593,559083200,13977,501,74,70,73,35,76,46,39,28,25,16,13,3,3,0,0,0,1847,66,94,96,150,207,211,203,161,154,209,173,63,42,13,2,3,2776,155,108,99,155,208,212,216,281,183,392,433,218,51,38,18,9,2929,170,164,93,160,154,159,234,201,215,400,445,312,145,35,23,19,1906,228,127,136,137,167,147,142,114,143,155,179,141,46,22,2,20,2086,346,378,288,263,202,138,141,77,68,57,69,26,20,2,9,2,1932,528,428,329,175,110,59,47,76,43,32,34,18,33,3,6,11,33593,24837,37536,44154,48002,35313,20507,15129,13977,10213,3764,9845,4132,1546,12431,3971,10006,4992,8985,632,13345,834,13143,2583,11394,2008,11969,432216800,396989700,35227100,26520000,53567200,3978700,1623100,28817800,9197,382,562,592,663,792,712,778,739,645,1059,1162,672,265,87,42,45,40654,427204200,4780,1265,852,547,439,347,284,256,195,151,118,156,80,41,19,13,17,17283,17218]
["Grafton County","0001145","009",81743,31608,2486,1738,2196,2082,2155,2091,2087,2160,1876,3387,3200,2947,1264,641,708,590,41962,1725250600,31608,1547,379,152,139,211,178,72,115,92,55,80,48,18,3,0,0,5,4897,272,133,352,406,415,437,411,455,442,671,432,338,94,14,14,11,6721,253,223,347,323,441,490,454,650,447,783,855,738,291,140,143,143,7045,267,223,263,377,404,435,364,441,419,801,974,952,437,243,262,183,4554,311,192,238,250,300,308,379,212,254,468,497,491,236,114,174,130,3615,357,321,425,274,221,191,227,177,193,358,258,251,137,64,76,85,3229,647,494,432,241,196,158,137,133,66,226,136,159,66,66,39,33,41962,22779,40188,47049,53690,46713,35379,20857,31608,26017,5591,24743,6865,5402,26206,13369,18239,8565,23043,880,30728,923,30685,5150,26458,4117,27491,1331352600,1196952900,134399700,146511100,98975900,6140600,2188000,108612300,20415,679,627,943,1093,1226,1291,1325,1500,1390,2637,2554,2524,1013,521,605,487,50424,1294920900,11193,1919,1161,1373,1090,957,830,756,592,429,639,574,394,211,95,88,85,25251,22227]
["Hillsborough County","0001543","011",380841,144477,8074,6169,6485,7584,7198,7629,8088,7570,7482,14713,19358,20083,10808,5049,4538,3649,53384,9475107800,144477,5315,627,337,437,496,520,539,473,327,331,457,456,218,67,12,0,18,26324,1080,641,767,1273,1375,1576,1854,1700,1830,3470,4568,3579,1361,456,503,291,37827,1094,785,1068,1305,1396,1525,1816,1852,1930,4169,6128,6912,3813,1641,1334,1059,30929,1081,606,688,1031,1197,1157,1381,1370,1367,3220,4415,5321,3360,1850,1621,1264,19031,908,737,739,1034,711,973,1087,969,965,1890,2284,2796,1617,818,810,693,13107,1351,1136,1123,1176,1066,1044,890,773,715,949,1084,832,386,219,210,153,11944,1933,1927,1663,1269,933,815,587,579,344,558,423,425,204,53,60,171,53384,31616,51987,64182,68034,56956,33614,21568,144477,123245,21232,119776,24701,17846,126631,62067,82410,32535,111942,4539,139938,4724,139753,21430,123047,16674,127803,8048133200,7523634800,524498400,535900400,378368800,31460900,12799000,333775000,99448,2874,2315,3028,3471,4005,4361,5345,5085,5071,11275,15244,16699,9172,4448,3885,3170,62363,7470692800,45029,5687,4064,3829,4363,3547,3419,2891,2423,2280,3359,3474,2896,1318,515,531,433,31154,25198]
["Merrimack County","0002571","013",136225,51892,3126,2363,2640,2994,3023,3285,3165,3093,2980,5755,6343,6893,2846,1388,1016,982,48522,3088618000,51892,1825,218,174,147,252,192,179,161,107,105,179,73,31,0,7,0,0,7733,421,233,350,468,518,626,667,630,542,938,933,926,305,60,85,31,13039,491,241,347,580,611,678,757,781,797,1698,2100,2271,815,369,265,238,12043,393,293,378,440,547,671,581,593,743,1356,1714,2043,1113,518,315,345,6878,351,268,289,334,399,420,368,483,365,764,842,1011,348,259,232,145,5381,531,436,486,432,363,430,372,332,227,531,453,373,157,77,43,138,4993,721,718,643,488,393,281,259,167,201,289,228,238,108,98,76,85,48522,28519,44404,56936,60184,51467,35193,24348,51892,43236,8656,41874,10018,7300,44592,22783,29109,13356,38536,1640,50252,1488,50404,8828,43064,6659,45233,2483818100,2291384000,192434100,226511000,154989500,12002700,3556400,152532600,35786,972,946,1278,1489,1773,1995,2086,2058,2048,4527,5188,5989,2474,1164,924,875,56842,2439146700,16106,2391,1560,1551,1544,1467,1385,1062,926,778,1093,990,729,276,183,83,88,28268,23208]
["New Hampshire","0000001","33",1235786,474750,28808,22635,24358,26868,26984,28317,27995,28081,25799,49814,59633,60009,29231,13862,12118,10238,49467,28999065300,474750,18000,2718,1552,1730,1918,1742,1513,1515,1177,1028,1402,993,491,149,41,0,31,75725,3284,2275,2810,4110,4549,5244,5478,5590,5402,9992,11525,9099,3393,1183,1139,652,119158,3716,2723,3537,4497,5450,6070,6350,7351,6828,14177,18934,19528,9371,4310,3510,2806,104571,3494,2544,2691,4014,4499,5207,5124,5631,5333,11290,14970,17582,9719,4762,4199,3512,65082,3729,2617,2980,3552,3546,3738,3810,3710,3442,6755,7610,8711,4346,2310,2230,1996,49353,4634,4359,4930,4431,4016,3998,3453,2795,2442,3864,3788,2970,1450,788,706,729,42861,7233,6565,5680,4346,3182,2547,2265,1827,1324,2334,1813,1628,803,468,334,512,49467,27718,49047,59054,62125,51647,32944,22065,474750,397947,76803,383741,91009,67067,407683,198754,275996,117266,357484,14160,460590,14148,460602,78017,396733,59264,415486,23908207400,22050663800,1857543700,1842070100,1350662700,98221600,36908800,1295829800,325581,9076,8532,11142,13865,15650,17565,18404,19272,18746,38328,47932,50886,25001,11994,10390,8798,57575,22784352600,149169,21310,15101,14295,13897,12295,11434,9653,8477,6756,10536,10225,7602,3432,1535,1333,1288,28945,23844]
["Rockingham County","0003030","015",277359,104586,4644,3743,4156,4577,4719,5209,5141,5811,5029,10876,14382,16406,8616,4594,3707,2976,58150,7341529500,104586,2434,260,159,180,202,171,225,173,309,117,341,164,83,50,0,0,0,16228,542,465,358,560,749,853,853,1024,907,2224,2830,2635,1107,480,419,222,29577,634,469,704,753,1090,1199,1215,1520,1395,3152,4919,5772,2901,1638,1266,950,24476,491,516,452,755,731,1074,929,1190,1119,2314,3441,4777,2834,1480,1282,1091,14422,783,451,520,679,781,647,711,765,641,1599,1773,2145,1249,667,503,508,9809,744,712,984,845,721,798,781,640,524,765,815,677,321,193,166,123,7640,1190,971,958,783,476,413,479,363,326,481,440,317,154,136,71,82,58150,35397,57411,67115,71159,57493,35513,24381,104586,90898,13688,87753,16833,15378,89208,45158,59428,22361,82225,2297,102289,1634,102952,16359,88227,12871,91715,6285473800,5817853500,467620300,400690700,253935100,16356400,4759800,277297800,74836,1503,1318,1807,2497,2806,3191,3354,3853,3737,7983,11642,13864,7558,3960,3173,2590,66345,5906370100,29750,3350,2607,2454,2278,2018,2178,1906,1965,1396,2746,2502,2162,957,512,366,353,34969,26656]
["Strafford County","0003819","017",112233,42531,2898,2451,2170,2623,2683,2941,2615,2981,2679,4462,5216,4840,2076,672,746,478,44803,2251454800,42531,2926,494,357,348,286,245,202,249,126,229,120,145,91,16,10,0,8,7722,374,325,315,461,512,468,553,701,632,1043,1197,689,266,105,62,19,10494,363,323,221,392,570,648,664,778,727,1288,1682,1563,784,182,199,110,8346,338,201,185,363,406,527,410,646,464,1012,1203,1504,552,228,184,123,5216,396,224,233,361,256,390,237,353,353,500,561,665,289,64,206,128,4302,307,419,491,383,423,423,344,235,182,275,307,233,111,51,75,43,3525,626,602,377,377,271,283,158,142,92,224,121,95,58,32,20,47,44803,24530,46030,54030,55825,47380,31829,21866,42531,35635,6896,34839,7692,5041,37490,16363,26168,10048,32483,1332,41199,1650,40881,7370,35161,5805,36726,1844443800,1726153200,118290600,113893900,113217000,8369700,4376100,122968800,27840,888,957,962,1290,1412,1839,1481,1955,1941,3350,4133,4261,1756,567,620,428,53075,1709934000,14691,2148,1621,1305,1431,1300,1186,1098,1002,749,1019,950,451,215,74,98,44,27602,20479]
["Sullivan County","0004137","019",40458,16527,1293,906,1167,1097,1158,1135,1293,1045,1002,1862,1816,1476,591,219,194,273,40938,856430100,16527,663,85,69,75,89,101,67,55,26,9,54,20,11,2,0,0,0,2168,123,97,118,139,125,182,193,189,233,284,262,159,24,13,14,13,3495,140,125,180,194,193,249,243,276,226,552,517,373,113,23,37,54,3640,165,94,174,115,183,260,295,289,235,399,536,462,239,81,65,48,2524,163,105,157,118,193,157,220,138,164,282,254,315,114,44,37,63,2157,241,191,223,247,208,126,178,70,80,172,127,111,57,36,23,67,1880,376,225,240,195,155,94,109,57,55,119,100,45,42,22,18,28,40938,25427,42410,47890,50207,45367,29220,22692,16527,12954,3573,12307,4220,2619,13908,6696,9831,5084,11443,653,15874,766,15761,3320,13207,2054,14473,636726200,576228300,60497900,66594200,59416500,4705300,2543800,71269600,11219,343,437,587,596,763,706,879,763,745,1500,1552,1293,516,176,163,200,48516,663423700,5308,1010,537,617,522,440,420,380,278,239,278,259,150,60,31,25,62,24720,21319]
[]
[]
["Census 2000 SummaryFile3 Sample Data  -  SF3CountyQry2bPovertyChar"]
[]
["NAME","LOGRECNO","COUNTY","TotalPop","P52Households1","P82PerCapitaInc","P87PopForPovStatus","P87PopWIncBelowPovStatus","P87PopUnder5yrBelowPoverty","P87Pop5yrBelowPoverty","P87Pop5to11yrBelowPoverty","P87Pop12to17yrBelowPoverty","P87Pop18to64yrBelowPoverty","P87Pop65to74yrBelowPoverty","P87PopOver75yrBelowPoverty","P87PopWIncAbovePovStatus","P87PopUnder5yrAbovePoverty","P87Pop5yrAbovePoverty","P87Pop5to11yrAbovePoverty","P87Pop12to17yrAbovePoverty","P87Pop18to64yrAbovePoverty","P87Pop65to74yrAbovePoverty","P87PopOver75yrAbovePoverty","P90Families","P90FamWIncBelowPov","P90MarCupFamWIncBelowPov","P90MCFamWRltdChld<18WIncBelowPov","P90MCFamWRltdChld<5WIncBelowPov","P90MaleHhlrWIncBelowPov","P90MaleHhlrWRltdChld<18yrWIncBelowPov","P90MaleHhlrWRltdChld<5yrWIncBelowPov","P90FemaleHhlrWIncBelowPov","P90FemaleHhlrWRltdChld<18yWIncBelowPov","P90FemaleHhlrWRltdChld<5yWIncBelowPov","P90FamWIncAbovePov","P90MarCupFamWIncAbovePov","P90MCFamWRltdChld<18WIncAbovePov","P90MCFamWRltdChld<5WIncAbovePov","P90MaleHhlrWIncAbovePov","P90MaleHhlrWRltdChld<18yrWIncAbovePov","P90MaleHhlrWRltdChld<5yrWIncAbovePov","P90FemaleHhlrWIncAbovePov","P90FemaleHhlrWRltdChld<18yWIncAbovePov","P90FemaleHhlrWRltdChld<5yWIncAbovePov","P92Households","P92HHwIncBelowPov","P92FamHHwIncBelowPov","P92MCFamHHwIncBelowPov","P92MaleFamHHwIncBelowPov","P92FemaleFamHHwIncBelowPov","P92NonFamHHwIncBelowPov","P92NonFamMaleHHwIncBelowPov","P92NonFamFemaleHHwIncBelowPov","P92HHwIncAbovePov","P92FamHHwIncAbovePov","P92MCFamHHwIncAbovePov","P92MaleFamHHwIncAbovePov","P92FemaleFamHHwIncAbovePov","P92NonFamHHwIncAbovePov","P92NonFamMaleHHwIncAbovePov","P92NonFamFemaleHHwIncAbovePov"]
["Belknap County","0000095","001",56325,22444,22758,55031,3350,389,48,328,283,1910,170,222,51681,2557,678,3982,4866,32068,4301,3229,15565,704,242,118,45,105,92,30,357,338,107,14861,12519,5181,851,791,519,163,1551,934,109,22444,1465,704,242,105,357,761,335,426,20979,14861,12519,791,1551,6118,2944,3174]
["Carroll County","0000304","003",43666,18387,21931,43095,3411,234,37,347,404,1889,194,306,39684,1814,386,3202,3248,24053,4100,2881,12389,684,329,142,11,92,70,7,263,259,69,11705,9907,3687,550,595,372,57,1203,778,102,18387,1453,684,329,92,263,769,287,482,16934,11705,9907,595,1203,5229,2515,2714]
["Cheshire County","0000508","005",73825,28321,20685,69792,5550,461,45,520,480,3450,345,249,64242,3307,747,5513,5666,40105,4883,4021,18886,823,365,219,37,68,52,14,390,345,94,18063,14999,6503,1067,1151,725,156,1913,1154,134,28321,2317,823,365,68,390,1494,656,838,26004,18063,14999,1151,1913,7941,3644,4297]
["Coos County","0000814","007",33111,13977,17218,32370,3231,260,60,240,304,1658,348,361,29139,1356,320,2234,2515,17733,2733,2248,9197,628,242,94,10,85,70,7,301,272,102,8569,7046,2780,399,637,401,108,886,506,73,13977,1638,628,242,85,301,1010,320,690,12339,8569,7046,637,886,3770,1906,1864]
["Grafton County","0001145","009",81743,31608,22227,75374,6462,446,81,509,640,4027,303,456,68912,3695,689,5580,5900,43620,5314,4114,20415,1033,442,219,28,96,85,16,495,450,138,19382,16317,7098,1267,925,641,128,2140,1352,245,31608,2649,1033,442,96,495,1616,625,991,28959,19382,16317,925,2140,9577,4737,4840]
["Hillsborough County","0001543","011",380841,144477,25198,372902,23358,2387,442,2967,1973,12464,1308,1817,349544,22931,4647,32357,30566,224203,19437,15403,99448,4303,1572,940,199,340,251,22,2391,2192,508,95145,79402,40256,7979,5358,3312,752,10385,6531,856,144477,9285,4303,1572,340,2391,4982,1572,3410,135192,95145,79402,5358,10385,40047,20106,19941]
["Merrimack County","0002571","013",136225,51892,23208,129830,7721,703,164,845,587,4532,380,510,122109,7164,1498,10846,11302,76608,7995,6696,35786,1467,499,269,90,169,161,42,799,743,187,34319,28451,13442,2500,1630,1048,240,4238,2977,434,51892,3425,1467,499,169,799,1958,855,1103,48467,34319,28451,1630,4238,14148,6195,7953]
["New Hampshire","0000001","33",1235786,474750,23844,1199322,78530,6794,1396,8221,7224,44903,4357,5635,1120792,67506,14241,99649,98349,711961,73277,55809,325581,13948,5352,3036,604,1359,1141,229,7237,6656,1663,311633,261272,124393,24049,16579,10317,2327,33782,21615,2960,474750,32524,13948,5352,1359,7237,18576,6811,11765,442226,311633,261272,16579,33782,130593,64193,66400]
["Rockingham County","0003030","015",277359,104586,26656,274866,12347,905,252,1346,1432,6713,792,907,262519,17015,3599,24839,22962,169051,14699,10354,74836,2320,1027,649,93,208,182,51,1085,968,165,72516,61985,31540,6446,3358,1939,454,7173,4476,569,104586,5061,2320,1027,208,1085,2741,965,1776,99525,72516,61985,3358,7173,27009,13646,13363]
["Strafford County","0003819","017",112233,42531,20479,106246,9733,722,205,791,791,6437,286,501,96513,5779,1242,8046,8309,62004,6627,4506,27840,1401,384,243,73,147,131,34,870,835,222,26439,21708,10293,2232,1560,944,201,3171,2219,340,42531,3762,1401,384,147,870,2361,877,1484,38769,26439,21708,1560,3171,12330,6280,6050]
["Sullivan County","0004137","019",40458,16527,21319,39816,3367,287,62,328,330,1823,231,306,36449,1888,435,3050,3015,22516,3188,2357,11219,585,250,143,18,49,47,6,286,254,71,10634,8938,3613,758,574,416,68,1122,688,98,16527,1469,585,250,49,286,884,319,565,15058,10634,8938,574,1122,4424,2220,2204]
[]
[]
["Census 2000 SummaryFile3 Sample Data  -  SF3CountyQry7HousingA"]
[]
["NAME","LOGRECNO","COUNTY","TotalPop","H1HousingUnitsTotal","H2SampleHU","H2SampleOccHU","H2SampleVacHU","H3HU100pctCount","H5HUTotal","H5HUUrban","H5HUUrbanInUrbanAreas","H5HUUrbanInUrbanClusters","H5HURural","H5HURuralFarm","H5HURuralNonFarm","H7HUOcc","H7HUOwnrOcc","H7HURentrOcc","H8HUVacant","H8HUVacantForRent","H8HUVacantForSale","H8HUVacRentedorSold","H8HUVacSeasonal","H8HUVacForMigrantWrkrs","H8HUOtherVacant","H14OccHUa","H14OwnerOccHU","H14OwnOccHuHh15to24","H14OwnOccHuHh25to34","H14OwnOccHuHh35to44","H14OwnOccHuHh45to54","H14OwnOccHuHh55to59","H14OwnOccHuHh60to64","H14OwnOccHuHh65to74","H14OwnOccHuHh75to84","H14OwnOccHuHh85Over","H14RenterOccHU1","H14RntrOccHuHh15to24","H14RntrOccHuHh25to34","H14RntrOccHuHh35to44","H14RntrOccHuHh45to54","H14RntrOccHuHh55to59","H14RntrOccHuHh60to64","H14RntrOccHuHh65to74","H14RntrOccHuHh75to84","H14RntrOccHuHh85Over","H15PopInOccHU","H15PopInOwnOccHU1","H15PopInRentOccHU1","H17OccupHUb","H17OwnOccHU2","H17OwnOccHU1PersonHH","H17OwnOccHU2PersonHH","H17OwnOccHU3PersonHH","H17OwnOccHU4PersonHH","H17OwnOccHU5PersonHH","H17OwnOccHU6PersonHH","H17OwnOccHU7PlusPersonHH","H17RentOccHU2","H17RntOccHU1PersonHH","H17RntOccHU2PersonHH","H17RntOccHU3PersonHH","H17RntOccHU4PersonHH","H17RntOccHU5PersonHH","H17RntOccHU6PersonHH","H17RntOccHU7PlusPersonHH","H18AvgHHSize","H18AvgHHSizeOwnOcc","H18AvgHHSizeRentOcc","H23TotHU","H23HU1Room","H23HU2Room","H23HU3Room","H23HU4Room","H23HU5Room","H23HU6Room","H23HU7Room","H23HU8Room","H23HU9orMoreRoom","H24MedianNumRooms","H25AggregNumRooms","H30TotalHU","H30Det1HU","H30Att1HU","H30Units2","H30Units3or4","H30Units5to9","H30Units10to19","H30Units20to49","H30Units50orMore","H30UnitsMobileHome","H30UnitsBoatRv","H32OccHUcTotal","H32OwnerOccHU3","H32OwnOccHU1Det","H32OwnOccHU1Att","H32OwnOccHU2Unit","H32OwnOccHU3to4Unit","H32OwnOccHU5to9Unit","H32OwnOccHU10to19Unit","H32OwnOccHU20to49Unit","H32OwnOccHU50plusUnit","H32OwnOccHUMobHom","H32OwnOccHUBoatRVOth","H32RentrOccHU3","H32RntrOccHU1Det","H32RntrOccHU1Att","H32RntrOccHU2Unit","H32RntrOccHU3to4Unit","H32RntrOccHU5to9Unit","H32RntrOccHU10to19Unit","H32RntrOccHU20to49Unit","H32RntrOccHU50PlusUnit","H32RntrOccHUMobHom","H32RntrOccHUBoatRVOth","H33TotPopInOccHU","H33PopInOwnOccHU2","H33PopInOOHU1Det","H33PopInOOHU1Att","H33PopInOOHU2unit","H33PopInOOHU3to4Unit","H33PopInOOHU5to9Unit","H33PopInOOHU10to19Unit","H33PopInOOHU20to49Unit","H33PopInOOHU50PlusUnit","H33PopInOOHUMobilHome","H33PopInOOHUOtherUnit","H33PopInRentOccHU2","H33PopInROHU1Det","H33PopInROHU1Att","H33PopInROHU2Unit","H33PopInROHU3to4Unit","H33PopInROHU5to9Unit","H33PopInROHU10to19Unit","H33PopInROHU20to49Unit","H33PopInROHU50PlusUnit","H33PopInROHUMobilHome","H33PopInROHUOtherUnit","H36OccHousingUnitsdTotal","H36OwnerOccHU4","H36OOHUBuilt99to0300","H36OOHUBuilt95to98","H36OOHUBuilt90to94","H36OOHUBuilt80to89","H36OOHUBuilt70to79","H36OOHUBuilt60to69","H36OOHUBuilt50to59","H36OOHUBuilt40to49","H36OOHUBuilt39Earlier","H36RentOccHU4","H36ROHUBuilt99to0300","H36ROHUBuilt95to98","H36ROHUBuilt90to94","H36ROHUBuilt80to89","H36ROHUBuilt70to79","H36ROHUBuilt60to69","H36ROHUBuilt50to59","H36ROHUBuilt40to49","H36ROHUBuilt39Earlier","H40OccupHousUnitse","H40HeatFuelUtilGas","H40HeatFuelBotGas","H40HeatFuelElect","H40HeatFuelOilKero","H40HeatFuelCoal","H40HeatFuelWood","H40HeatFuelSolar","H40HeatFuelOther","H40HeatFuelNone","H41TotalHU","H41HUNoBdrm","H41HU1Bdrm","H41HU2Bdrm","H41HU3Bdrm","H41HU4Bdrm","H41HU5MoreBdrm","H42OccuHousUnitf","H42OwnerOccHU5","H42OOHUNoBdrm","H42OOHU1Bdrm","H42OOHU2Bdrm","H42OOHU3Bdrm","H42OOHU4Bdrm","H42OOHU5PlusBdrm","H42RentOccHU5","H42ROHUNoBdrm","H42ROHU1Bdrm","H42ROHU2Bdrm","H42ROHU3Bdrm","H42ROHU4Bdrm","H42ROHU5PlusBdrm","H48OccupHousUnitsg","H48OwnerOccHU6","H48OOHUwCompltPlumFacil","H48OOHULackCompltPlumFacil","H48RentOccHU6","H48ROHUwCompltPlumFacil","H48ROHULackCompltPlumFacil","H51OccupHousUnitf","H51OwnerOccHU7","H51OOHUwCompleteKitFacil","H51OOHULackCompleteKitFacil","H51RenterOccHU7","H51ROHUwCompleteKitFacil","H51ROHULackCompleteKitFacil"]
["Belknap County","0000095","001",56325,32121,5455,3828,1627,32121,32121,12044,0,12044,20077,142,19935,22459,16640,5819,9662,387,256,121,8702,0,196,22459,16640,206,1525,3665,4160,1608,1251,2497,1359,369,5819,691,1348,1346,814,352,228,354,498,188,55116,42721,12395,22459,16640,3268,6826,2569,2596,946,288,147,5819,2208,1807,998,487,215,69,35,2,3,2,32121,269,1199,2526,6412,6964,6151,3701,2636,2263,5,177244,32121,22862,848,1561,1599,968,468,697,398,2688,32,22459,16640,13718,330,401,110,89,57,45,0,1880,10,5819,1487,228,1013,1206,666,321,362,233,296,7,55116,42721,36217,681,1034,313,195,95,73,0,4092,21,12395,3720,478,2253,2478,1267,563,665,287,668,16,22459,16640,399,1155,1226,4002,2788,1562,1126,754,3628,5819,2,100,293,985,899,593,461,368,2118,22459,1659,2540,1255,15745,47,1076,12,70,55,32121,356,3440,10889,12656,3755,1025,22459,16640,30,563,4580,8087,2660,720,5819,153,1722,2375,1200,277,92,22459,16640,16589,51,5819,5800,19,22459,16640,16597,43,5819,5795,24]
["Carroll County","0000304","003",43666,34750,10385,5101,5284,34750,34750,0,0,0,34750,127,34623,18351,14266,4085,16399,311,358,95,15110,4,521,18351,14266,108,1157,2709,3268,1515,1185,2455,1546,323,4085,323,998,1094,660,185,165,295,254,111,43096,34567,8529,18351,14266,3208,6325,1934,1834,697,159,109,4085,1670,1142,593,426,180,47,27,2,2,2,34750,275,1048,2784,5902,7901,7247,4157,2704,2732,5,195369,34750,26304,1761,866,1271,1243,360,464,0,2411,70,18351,14266,12285,363,157,47,68,13,74,0,1249,10,4085,1637,170,458,594,370,168,284,0,399,5,43096,34567,30340,773,358,102,117,21,95,0,2749,12,8529,3937,313,928,1096,628,262,406,0,956,3,18351,14266,360,1009,1143,3537,2719,1160,791,398,3149,4085,18,103,264,847,688,384,281,142,1358,18351,197,3284,1294,11722,25,1761,6,34,28,34750,322,3452,11610,13946,4143,1277,18351,14266,21,566,4089,6802,2173,615,4085,74,1191,1502,1016,238,64,18351,14266,14152,114,4085,4039,46,18351,14266,14202,64,4085,4027,58]
["Cheshire County","0000508","005",73825,31876,7255,6222,1033,31876,31876,10796,0,10796,21080,196,20884,28299,20057,8242,3577,283,301,137,2608,0,248,28299,20057,117,1991,4575,4967,1759,1466,2953,1805,424,8242,1230,2022,1571,1296,342,253,681,569,278,69758,53624,16134,28299,20057,3798,7720,3318,3302,1319,415,185,8242,3422,2584,1184,719,202,81,50,2,3,2,31876,426,1076,2742,5393,6374,5969,4275,2748,2873,6,180699,31876,21723,640,2040,1756,1425,852,828,210,2370,32,28299,20057,16892,390,635,138,101,57,2,0,1842,0,8242,1936,181,1284,1532,1250,750,767,210,326,6,69758,53624,46164,864,1543,343,167,83,4,0,4456,0,16134,4824,367,2755,2839,2182,1143,1100,226,692,6,28299,20057,322,755,1201,3878,3193,2150,1868,1102,5588,8242,41,233,269,993,1356,812,632,513,3393,28299,841,2251,1648,20656,147,2568,12,107,69,31876,512,4006,9762,11834,4597,1165,28299,20057,33,711,5179,9405,3827,902,8242,347,2769,3305,1372,328,121,28299,20057,19899,158,8242,8189,53,28299,20057,19962,95,8242,8157,85]
["Coos County","0000814","007",33111,19623,6165,4132,2033,19623,19623,5754,0,5754,13869,107,13762,13961,9925,4036,5662,477,299,165,4176,2,543,13961,9925,89,1015,2000,2377,842,673,1589,992,348,4036,424,826,733,582,152,175,451,500,193,32463,24826,7637,13961,9925,2108,4185,1533,1390,527,121,61,4036,1913,1037,575,347,134,27,3,2,2,2,19623,361,824,2054,3679,4702,3521,2024,1232,1226,5,103807,19623,12538,277,1720,1389,1063,232,184,104,1943,173,13961,9925,7943,66,611,144,8,2,0,0,1151,0,4036,884,57,822,889,740,170,178,96,200,0,32463,24826,20260,175,1277,309,16,3,0,0,2786,0,7637,2281,85,1515,1605,1134,277,191,136,413,0,13961,9925,130,349,404,1416,1587,708,911,543,3877,4036,33,22,83,415,523,236,325,257,2142,13961,16,500,248,12231,16,911,0,30,9,19623,398,2936,6283,7188,2145,673,13961,9925,27,470,2768,4583,1601,476,4036,60,1288,1529,928,178,53,13961,9925,9848,77,4036,4029,7,13961,9925,9872,53,4036,4031,5]
["Grafton County","0001145","009",81743,43729,12874,8167,4707,43729,43729,10662,0,10662,33067,265,32802,31598,21687,9911,12131,381,445,198,10583,4,520,31598,21687,123,1893,4589,5775,2133,1686,3076,1898,514,9911,1487,2755,2131,1405,403,312,530,611,277,75316,54700,20616,31598,21687,4587,8752,3390,3224,1263,335,136,9911,4084,2967,1422,991,292,82,73,2,3,2,43729,582,2103,4290,7818,8872,7556,5388,3567,3553,5,240408,43729,26879,2429,2152,2707,2605,1615,795,799,3661,87,31598,21687,17609,508,614,246,159,133,33,24,2356,5,9911,2634,319,1269,1828,1580,923,609,225,517,7,75316,54700,45641,1149,1435,527,255,278,33,35,5336,11,20616,6743,673,2788,3408,2895,1524,1060,350,1166,9,31598,21687,313,1227,1542,4421,3858,1861,1381,984,6100,9911,43,214,283,1828,1443,930,803,523,3844,31598,487,4580,2608,20768,42,2950,11,115,37,43729,759,5958,13787,15746,5735,1744,31598,21687,75,925,5582,9925,4070,1110,9911,327,3171,3899,1801,546,167,31598,21687,21517,170,9911,9864,47,31598,21687,21560,127,9911,9859,52]
["Hillsborough County","0001543","011",380841,149961,20836,20043,793,149961,149961,118938,116073,2865,31023,201,30822,144455,93820,50635,5506,1319,665,473,2351,0,698,144455,93820,520,11919,26466,23363,8489,5956,9337,6265,1505,50635,4525,14203,11154,7887,2561,1764,3623,3826,1092,373162,265183,107979,144455,93820,15218,32711,17206,18286,7371,2191,837,50635,19960,14896,7295,5102,2264,735,383,3,3,2,149961,1603,4926,13411,25075,29320,27837,20126,14466,13197,6,854190,149961,84445,7895,13344,11065,8730,6352,10716,3743,3611,60,144455,93820,76766,5250,4297,1545,867,575,1270,126,3101,23,50635,4748,2396,8588,8985,7477,5408,9231,3424,372,6,373162,265183,227024,11504,11236,3604,1722,836,2039,211,6960,47,107979,12995,6024,19486,21676,15880,10041,16521,4714,625,17,144455,93820,2011,5725,6568,21984,17296,11707,9041,3825,15663,50635,573,1241,2365,9703,8738,4242,3713,3616,16444,144455,51455,13697,11251,63455,226,3167,29,822,353,149961,2168,17781,47046,55027,23721,4218,144455,93820,105,2097,21597,44573,21661,3787,50635,1812,14690,23278,8886,1648,321,144455,93820,93585,235,50635,50332,303,144455,93820,93682,138,50635,50225,410]
["Merrimack County","0002571","013",136225,56244,10945,9683,1262,56244,56244,26535,2994,23541,29709,230,29479,51843,36048,15795,4401,508,429,210,2911,15,328,51843,36048,291,3599,9627,9223,3315,2301,4392,2571,729,15795,1588,3912,3600,2457,793,588,1102,1187,568,129892,98253,31639,51843,36048,6259,13480,6455,6363,2536,709,246,15795,6514,4711,2322,1556,476,123,93,3,3,2,56244,506,1584,4895,9825,10973,10706,7978,4842,4935,6,320692,56244,35167,1881,3637,3411,2949,1685,2348,908,4224,34,51843,36048,29358,1338,1070,487,242,102,69,0,3366,16,15795,2637,423,2338,2733,2558,1495,2157,898,556,0,129892,98253,82858,2921,2714,1270,531,199,99,0,7634,27,31639,6257,1024,5226,5282,4878,2545,3752,1444,1231,0,51843,36048,830,2313,2290,8535,6187,3425,2405,1442,8621,15795,85,209,938,3229,2398,1500,1023,730,5683,51843,11219,5948,4727,26854,69,2525,26,387,88,56244,678,6688,17926,21861,7189,1902,51843,36048,52,1037,8910,18136,6334,1579,15795,496,4965,7229,2353,587,165,51843,36048,35865,183,15795,15691,104,51843,36048,35950,98,15795,15658,137]
["New Hampshire","0000001","33",1235786,547024,102169,82605,19564,547024,547024,303785,224486,79299,243239,1790,241449,474606,330783,143823,72418,5213,3800,1956,57251,39,4159,474606,330783,2158,36972,86321,82646,30040,22434,39919,24287,6006,143823,15550,38406,32009,21731,6910,5102,9963,10150,4002,1200159,901037,299122,474606,330783,58473,122366,57610,59427,23852,6473,2582,143823,57552,43229,20989,14042,5474,1708,829,3,3,2,547024,5938,17715,47008,96034,109727,101578,72036,50193,46795,6,3098377,547024,341299,24233,35664,32724,27581,17279,22989,8926,35544,785,474606,330783,268611,14023,10867,4106,2640,1588,2001,318,26492,137,143823,23386,5837,22092,25198,21560,13899,19587,7564,4660,40,1200159,901037,761413,31508,27446,9282,5121,2679,3209,488,59609,282,299122,59485,13785,49865,53628,42158,24845,34589,10412,10295,60,474606,330783,7387,21438,23576,76026,59278,34820,27513,14215,66530,143823,1185,3465,6111,26369,25906,13222,11117,8729,47719,474606,87287,50823,36223,275827,873,20226,180,2263,904,547024,7508,63282,174580,206252,78223,17179,474606,330783,446,9689,82961,157989,66246,13452,143823,4873,43266,63949,24933,5357,1445,474606,330783,329397,1386,143823,142955,868,474606,330783,329938,845,143823,142694,1129]
["Rockingham County","0003030","015",277359,113023,15944,14918,1026,113023,113023,82734,76001,6733,30289,179,30110,104529,78999,25530,8494,859,593,400,6059,14,569,104529,78999,335,9195,22997,20379,7005,5289,8162,4559,1078,25530,2198,7066,6102,3860,1265,962,1602,1652,823,274953,222932,52021,104529,78999,12828,27041,14361,15889,6646,1591,643,25530,10215,8109,3655,2281,959,232,79,3,3,2,113023,1229,2841,7912,18942,21192,20405,16316,12744,11442,6,665389,113023,72946,6368,6249,4329,4842,4165,4734,1628,7579,183,104529,78999,63335,4591,1992,915,920,626,489,168,5899,64,25530,4300,1432,3609,3088,3583,3205,3850,1373,1090,0,274953,222932,188469,10841,5032,1862,1715,1123,841,242,12666,141,52021,10548,3300,8282,6155,6611,5876,6898,1920,2431,0,104529,78999,2154,6585,6638,19760,15016,8712,5988,3005,11141,25530,164,883,923,5300,6274,2681,2169,1139,5997,104529,14251,11491,9311,65947,245,2629,79,457,119,113023,1493,10598,35503,43720,18452,3257,104529,78999,73,2057,19502,37766,16905,2696,25530,991,7367,12420,3814,704,234,104529,78999,78818,181,25530,25405,125,104529,78999,78934,65,25530,25320,210]
["Strafford County","0003819","017",112233,45539,7266,6631,635,45539,45539,29425,29418,7,16114,175,15939,42581,27426,15155,2958,384,265,74,1905,0,330,42581,27426,242,3450,7274,6379,2284,1737,3489,2181,390,15155,2561,4383,3255,1966,620,427,899,669,375,106497,74096,32401,42581,27426,4813,10289,4919,4925,1833,493,154,15155,5730,4651,2261,1627,588,250,48,2,3,2,45539,479,1483,4971,9366,8924,8324,5395,3588,3009,5,246945,45539,25095,1504,3006,3871,3025,1318,1848,783,4996,93,42581,27426,21147,975,765,340,163,13,19,0,3998,6,15155,2003,497,2091,3355,2720,1278,1782,759,661,9,106497,74096,59769,2131,2004,697,352,23,25,0,9085,10,32401,5145,1201,5252,6994,5511,2367,3483,923,1516,9,42581,27426,655,1695,1851,6423,4326,2565,2878,1413,5620,15155,220,415,545,2470,2723,1444,1331,983,5024,42581,6904,4001,3258,26999,34,1166,2,120,97,45539,567,6303,15398,16235,5830,1206,42581,27426,19,853,7470,13048,5001,1035,15155,465,4900,6545,2468,632,145,42581,27426,27276,150,15155,15025,130,42581,27426,27329,97,15155,15042,113]
["Sullivan County","0004137","019",40458,20158,5044,3880,1164,20158,20158,6897,0,6897,13261,168,13093,16530,11915,4615,3628,304,189,83,2846,0,206,16530,11915,127,1228,2419,2755,1090,890,1969,1111,326,4615,523,893,1023,804,237,228,426,384,97,39906,30135,9771,16530,11915,2386,5037,1925,1618,714,171,64,4615,1836,1325,684,506,164,62,38,2,3,2,20158,208,631,1423,3622,4505,3862,2676,1666,1565,5,113634,20158,13340,630,1089,1326,731,232,375,353,2061,21,16530,11915,9558,212,325,134,23,10,0,0,1650,3,4615,1120,134,620,988,616,181,367,346,243,0,39906,30135,24671,469,813,255,51,18,0,0,3845,13,9771,3035,320,1380,2095,1172,247,513,412,597,0,16530,11915,213,625,713,2070,2308,970,1124,749,3143,4615,6,45,148,599,864,400,379,458,1716,16530,258,2531,623,11450,22,1473,3,121,49,20158,255,2120,6376,8039,2656,712,16530,11915,11,410,3284,5664,2014,532,4615,148,1203,1867,1095,219,83,16530,11915,11848,67,4615,4581,34,16530,11915,11850,65,4615,4580,35]
[]
[]
["Census 2000 SummaryFile3 Sample Data  -  SF3CountyQry8HousingCostA"]
[]
["NAME","LOGRECNO","COUNTY","TotalPop","H62RntrOccHU","H62RntrOccHUwRent","H62ROHUGRent<100","H62ROHUGRent100to149","H62ROHUGRent150to199","H62ROHUGRent200to249","H62ROHUGRent250to299","H62ROHUGRent300to349","H62ROHUGRent350to399","H62ROHUGRent400to449","H62ROHUGRent450to499","H62ROHUGRent500to549","H62ROHUGRent550to599","H62ROHUGRent600to649","H62ROHUGRent650to699","H62ROHUGRent700to749","H62ROHUGRent750to799","H62ROHUGRent800to899","H62ROHUGRent900to999","H62ROHUGRent1000to1249","H62ROHUGRent1250to1499","H62ROHUGRent1500to1999","H62ROHUGRent2000>","H62ROHUNoGRent","H63MedianGrossRnt","H69RenterOccHsU","H69GRnt<10PctHHInc","H69GRnt10to15PctHHInc","H69GRnt15to20PctHHInc","H69GRnt20to25PctHHInc","H69GRnt25to30PctHHInc","H69GRnt30to35PctHHInc","H69GRnt35to40PctHHInc","H69GRnt40to50PctHHInc","H69GRnt>50PctHHInc","H69GRntPctNotcomputed","H73RenterOccHU","H73ROHUHhInc<10k","H73ROHUHhInc<10kRnt<20pct","H73ROHUHhInc<10kRnt20to25pct","H73ROHUHhInc<10kRnt25to30pct","H73ROHUHhInc<10kRnt30to35pct","H73ROHUHhInc<10kRnt>35pct","H73ROHUHhInc<10kPctNotComput","H73ROHUHhInc10to20k","H73ROHUHhInc10to20kRnt<20pct","H73ROHUHhInc10to20kRnt20to25pct","H73ROHUHhInc10to20kRnt25to30pct","H73ROHUHhInc10to20kRnt30to35pct","H73ROHUHhInc10to20kRnt>35pct","H73ROHUHhInc10to20kRntPctNC","H73ROHUHhInc20to35k","H73ROHUHhInc20to35kRnt<20pct","H73ROHUHhInc20to35kRnt20to25pct","H73ROHUHhInc20to35kRnt25to30pct","H73ROHUHhInc20to35kRnt30to35pct","H73ROHUHhInc20to35kRnt>35pct","H73ROHUHhInc20to35kRntPctNC","H73ROHUHhInc35to40k","H73ROHUHhInc35to40kRnt<20pct","H73ROHUHhInc35to40kRnt20to25pct","H73ROHUHhInc35to40kRnt25to30pct","H73ROHUHhInc35to40kRnt30to35pct","H73ROHUHhInc35to40kRnt>35pct","H73ROHUHhInc35to40kRntPctNC","H73ROHUHhInc50to75k","H73ROHUHhInc50to75kRnt<20pct","H73ROHUHhInc50to75kRnt20to25pct","H73ROHUHhInc50to75kRnt25to30pct","H73ROHUHhInc50to75kRnt30to35pct","H73ROHUHhInc50to75kRnt>35pct","H73ROHUHhInc50to75kRntPctNC","H73ROHUHhInc75to100k","H73ROHUHhInc75to100kRnt<20pct","H73ROHUHhInc75to100kRnt20to25pct","H73ROHUHhInc75to100kRnt25to30pct","H73ROHUHhInc75to100kRnt30to35pct","H73ROHUHhInc75to100kRnt>35pct","H73ROHUHhInc75to100kRntPctNC","H73ROHUHhInc>100k","H73ROHUHhInc>100kRnt<20pct","H73ROHUHhInc>100kRnt20to25pct","H73ROHUHhInc>100kRnt25to30pct","H73ROHUHhInc>100kRnt30to35pct","H73ROHUHhInc>100kRnt>35pct","H73ROHUHhInc>100kRntPctNC"]
["Belknap County","0000095","001",56325,5636,5259,32,91,140,93,113,148,223,410,413,532,574,620,378,314,266,465,209,185,49,4,0,377,588,5636,267,692,924,811,655,411,277,338,838,423,5636,805,12,33,89,25,533,113,1162,131,62,107,115,699,48,1591,249,448,378,245,195,76,964,562,195,75,26,26,80,728,595,67,6,0,0,60,280,246,6,0,0,0,28,106,88,0,0,0,0,18]
["Carroll County","0000304","003",43666,3894,3531,36,80,116,98,85,153,158,304,375,348,281,332,257,155,171,275,129,117,34,18,9,363,552,3894,307,397,621,527,379,302,237,223,512,389,3894,590,37,49,38,15,382,69,765,70,49,64,88,422,72,1085,249,197,203,171,157,108,683,356,156,62,19,11,79,555,435,66,12,0,0,42,161,123,10,0,9,0,19,55,55,0,0,0,0,0]
["Cheshire County","0000508","005",73825,7915,7501,35,169,218,193,179,229,316,419,592,760,689,805,727,641,395,462,331,214,74,53,0,414,596,7915,425,816,1160,1155,1060,669,485,409,1251,485,7915,1308,14,76,106,79,877,156,1501,102,112,173,184,850,80,2204,386,433,559,353,384,89,1378,657,421,172,47,26,55,1044,829,113,33,6,8,55,289,260,0,17,0,0,12,191,153,0,0,0,0,38]
["Coos County","0000814","007",33111,3900,3674,57,201,168,150,277,436,556,599,362,253,177,110,97,105,28,72,15,11,0,0,0,226,399,3900,300,521,565,537,457,301,232,221,525,241,3900,910,60,57,108,83,559,43,1024,90,146,209,128,392,59,1041,466,293,111,86,27,58,554,443,39,29,4,0,39,244,218,2,0,0,0,24,69,53,0,0,0,0,16,58,56,0,0,0,0,2]
["Grafton County","0001145","009",81743,9552,8996,19,118,344,245,290,388,524,774,811,800,894,646,691,620,388,461,322,364,137,104,56,556,560,9552,564,1114,1504,1414,1160,722,450,574,1330,720,9552,1564,27,105,167,74,911,280,1885,114,176,254,246,960,135,2572,520,587,580,323,392,170,1784,1035,419,128,60,72,70,1152,964,97,28,11,19,33,349,298,30,0,8,0,13,246,224,0,3,0,0,19]
["Hillsborough County","0001543","011",380841,50285,48857,201,839,1116,899,756,851,999,1543,2163,3049,3816,4402,4348,4070,3978,5409,4006,4609,1101,453,249,1428,694,50285,2717,6396,8295,7709,6248,3839,2724,3186,6797,2374,50285,5880,158,264,496,255,3523,1184,7909,626,508,652,609,5233,281,12031,1120,2036,2935,2210,3431,299,9656,3740,2888,1664,677,446,241,9350,6675,1831,469,79,66,230,3474,3187,165,26,0,8,88,1985,1902,17,6,9,0,51]
["Merrimack County","0002571","013",136225,15437,14808,48,305,360,482,346,330,408,922,1049,1339,1448,1404,1319,1283,964,1227,607,610,201,87,69,629,613,15437,836,1855,2573,2509,1852,1100,664,954,2328,766,15437,2165,99,154,219,75,1380,238,2800,205,151,275,323,1728,118,4069,598,966,1002,614,783,106,2948,1443,995,270,66,36,138,2243,1837,226,72,15,19,74,773,684,0,14,7,0,68,439,398,17,0,0,0,24]
["New Hampshire","0000001","33",1235786,141227,135480,625,2451,3504,3086,3004,3407,4418,6728,7777,9936,11581,12229,12067,10528,9062,12633,8610,9209,2645,1429,551,5747,646,141227,7990,17480,23350,21447,16646,10517,7325,8698,20096,7678,141227,18636,567,1030,1639,909,11694,2797,24136,1979,1533,2331,2334,14892,1067,35262,4901,6967,8117,5618,8315,1344,26918,12239,7801,3526,1325,994,1033,23581,17647,3701,928,288,213,804,7797,6978,351,93,34,11,330,4897,4509,64,12,9,0,303]
["Rockingham County","0003030","015",277359,25199,24076,108,321,421,407,367,274,460,717,814,1181,1852,2139,2286,2015,1885,2964,2326,2156,708,536,139,1123,717,25199,1462,3377,4524,3915,2489,1754,1287,1537,3474,1380,25199,2565,88,116,156,181,1626,398,3471,294,140,247,261,2352,177,5700,471,979,1154,885,1983,228,5038,1968,1641,662,301,246,220,5306,3760,917,241,116,88,184,1733,1544,92,26,10,3,58,1386,1238,30,3,0,0,115]
["Strafford County","0003819","017",112233,14977,14514,69,216,401,367,429,340,514,725,888,1231,1402,1440,1593,1052,900,1101,577,803,290,156,20,463,623,14977,843,1780,2449,2106,1871,1124,754,1015,2368,667,14977,2084,49,104,172,116,1406,237,2649,239,99,237,233,1772,69,3819,569,681,979,611,839,140,3149,1529,887,417,110,107,99,2371,1881,290,56,54,13,77,549,474,45,10,0,0,20,356,331,0,0,0,0,25]
["Sullivan County","0004137","019",40458,4432,4264,20,111,220,152,162,258,260,315,310,443,448,331,371,273,87,197,88,140,51,18,9,168,537,4432,269,532,735,764,475,295,215,241,673,233,4432,765,23,72,88,6,497,79,970,108,90,113,147,484,28,1150,273,347,216,120,124,70,764,506,160,47,15,24,12,588,453,92,11,7,0,25,120,109,3,0,0,0,8,75,64,0,0,0,0,11]
[]
[]
["Census 2000 SummaryFile3 Sample Data  -  SF3CountyQry8HousingCostB"]
[]
["NAME","LOGRECNO","COUNTY","TotalPop","H74SpecOwnerOccHU","H74OOHU<10k","H74OOHU10to15k","H74OOHU15to20k","H74OOHU20to25k","H74OOHU25to30k","H74OOHU30to35k","H74OOHU35to40k","H74OOHU40to50k","H74OOHU50to60k","H74OOHU60to70k","H74OOHU70to80k","H74OOHU80to90k","H74OOHU90to100k","H74OOHU100to125k","H74OOHU125to150k","H74OOHU150to175k","H74OOHU175to200k","H74OOHU200to250k","H74OOHU250to300k","H74OOHU300to400k","H74OOHU400to500k","H74OOHU500to750k","H74OOHU750to1000k","H74OOHU1000kmore","H76OOHUMedianVal","H84OwnerOccHU","H84AllOOHU<10k","H84AllOOHU10to15k","H84AllOOHU15to20k","H84AllOOHU20to25k","H84AllOOHU25to30k","H84AllOOHU30to35k","H84AllOOHU35to40k","H84AllOOHU40to50k","H84AllOOHU50to60k","H84AllOOHU60to70k","H84AllOOHU70to80k","H84AllOOHU80to90k","H84AllOOHU90to100k","H84AllOOHU100to125k","H84AllOOHU125to150k","H84AllOOHU150to175k","H84AllOOHU175to200k","H84AllOOHU200to250k","H84AllOOHU250to300k","H84AllOOHU300to400k","H84AllOOHU400to500k","H84AllOOHU500to750k","H84AllOOHU750to1000k","H84AllOOHU1000kmore","H85OOHUMedVal","H90SOOHU","H90HUwMorgt","H90HUwMtgHC<200","H90HUwMtgHC200to300","H90HUwMtgHC300to400","H90HUwMtgHC400to500","H90HUwMtgHC500to600","H90HUwMtgHC600to700","H90HUwMtgHC700to800","H90HUwMtgHC800to900","H90HUwMtgHC900to1000","H90HUwMtgHC1000to1250","H90HUwMtgHC1250to1500","H90HUwMtgHC1500to2000","H90HUwMtgHC2000to2500","H90HUwMtgHC2500to3000","H90HUwMtgHC3000orMore","H90HUwOutMorgt","H90HUwOutMtgHC<100","H90HUwOutMtgHC100to150","H90HUwOutMtgHC150to200","H90HUwOutMtgHC200to250","H90HUwOutMtgHC250to300","H90HUwOutMtgHC300to350","H90HUwOutMtgHC350to400","H90HUwOutMtgHC400to500","H90HUwOutMtgHC500to600","H90HUwOutMtgHC600to700","H90HUwOutMtgHC700to800","H90HUwOutMtgHC800to900","H90HUwOutMtgHC900to1000","H90HUwOutMtgHC1000orMore","H91MedianOCHUwMtg","H91MedianOCHUwOutMtg","H94SpecOOHU","H94HUwMortg","H94HUwMtgHC<10pct","H94HUwMtgHC10to15pct","H94HUwMtgHC15to20pct","H94HUwMtgHC20to25pct","H94HUwMtgHC25to30pct","H94HUwMtgHC30to35pct","H94HUwMtgHC35to40pct","H94HUwMtgHC40to50pct","H94HUwMtgHC50pctOrMore","H94HUwMtgHCpctNotComp","H94HUWOutMortg","H94HUWOutMortgHC<10pct","H94HUWOutMortgHC10to15pct","H94HUWOutMortgHC15to20pct","H94HUWOutMortgHC20to25pct","H94HUWOutMortgHC25to30pct","H94HUWOutMortgHC30to35pct","H94HUWOutMortgHC35to40pct","H94HUWOutMortgHC40to50pct","H94HUWOutMortgHC50pctOrMore","H94HUWOutMortgHCpctNotComp","H97SpecifOwnOccHU","H97SOOHUInc<10k","H97SOOHUInc<10kHC<20pct","H97SOOHUInc<10kHC20to25pct","H97SOOHUInc<10kHC25to30pct","H97SOOHUInc<10kHC30to35pct","H97SOOHUInc<10kHC>35pct","H97SOOHUInc<10kHCpctNotComput","H97SOOHUInc10to20k","H97SOOHUInc10to20kHC<20pct","H97SOOHUInc10to20kHC20to25pct","H97SOOHUInc10to20kHC25to30pct","H97SOOHUInc10to20kHC30to35pct","H97SOOHUInc10to20kHC>35pct","H97SOOHUInc10to20kHCpctNotComput","H97SOOHUInc20to35k","H97SOOHUInc20to35kRC<20pct","H97SOOHUInc20to35kRC20to25pct","H97SOOHUInc20to35kRC25to30pct","H97SOOHUInc20to35kRC30to35pct","H97SOOHUInc20to35kRC>35pct","H97SOOHUInc20to35kRCpctNotComput","H97SOOHUInc35to50k","H97SOOHUInc35to50kRC<20pct","H97SOOHUInc35to50kRC20to25pct","H97SOOHUInc35to50kRC25to30pct","H97SOOHUInc35to50kRC30to35pct","H97SOOHUInc35to50kRC>35pct","H97SOOHUInc35to50kRCpctNotCompute","H97SOOHUInc50to75k","H97SOOHUInc50to75kRC<20pct","H97SOOHUInc50to75kRC20to25pct","H97SOOHUInc50to75kRC25to30pct","H97SOOHUInc50to75kRC30to35pct","H97SOOHUInc50to75kRC>35pct","H97SOOHUInc50to75kRCpctNotComput","H97SOOHUInc75to100k","H97SOOHUInc75to100kRC<20pct","H97SOOHUInc75to100kRC20to25pct","H97SOOHUInc75to100kRC25to30pct","H97SOOHUInc75to100kRC30to35pct","H97SOOHUInc75to100kRC>35pct","H97SOOHUInc75to100kRCpctNotCompute","H97SOOHUInc100to150k","H97SOOHUInc100to150kRC<20pct","H97SOOHUInc100to150kRC20to25pct","H97SOOHUInc100to150kRC25to30pct","H97SOOHUInc100to150kRC30to35pct","H97SOOHUInc100to150kRC>35pct","H97SOOHUInc100to150kRCpctNotCompute","H97SOOHUInc>150k","H97SOOHUInc>150kRC<20pct","H97SOOHUInc>150kRC20to25pct","H97SOOHUInc>150kRC25to30pct","H97SOOHUInc>150kRC30to35pct","H97SOOHUInc>150kRC>35pct","H97SOOHUInc>150kRCpctNotCompute"]
["Belknap County","0000095","001",56325,11943,0,9,7,4,15,26,43,149,349,554,916,1558,1547,2075,1735,977,582,417,374,269,116,86,82,53,109600,16640,119,216,188,243,95,195,303,360,508,780,1241,1803,1853,2507,2208,1229,763,660,556,398,165,110,87,53,104100,11943,8360,0,0,44,167,369,455,790,1043,944,2088,1107,869,216,130,138,3583,0,21,87,218,357,468,598,877,452,209,113,58,20,105,1044,405,11943,8360,460,1190,1609,1739,1035,678,346,499,764,40,3583,1248,808,519,362,185,78,82,74,181,46,11943,313,0,0,3,13,221,76,857,100,124,97,34,502,0,2062,676,282,205,231,668,0,2317,829,529,379,193,387,0,3265,1714,802,434,191,124,0,1685,1288,215,73,81,28,0,860,701,105,25,13,16,0,584,526,44,4,0,0,10]
["Carroll County","0000304","003",43666,10248,4,5,21,17,32,47,68,113,230,464,694,1014,1027,1741,1316,889,449,751,490,358,171,226,51,70,119900,14266,61,139,117,177,152,126,148,316,383,583,939,1209,1215,2205,1673,1112,667,1017,762,525,270,282,86,102,117800,10248,6265,4,10,84,244,409,564,831,745,716,1128,621,570,215,57,67,3983,7,42,162,389,476,609,612,812,379,172,117,54,43,109,934,375,10248,6265,366,821,1261,1024,782,541,320,430,688,32,3983,1337,910,493,373,184,183,91,117,239,56,10248,480,6,9,12,38,327,88,1223,185,160,112,150,616,0,1920,720,231,220,178,571,0,2111,925,387,357,236,206,0,2473,1624,424,199,97,129,0,918,694,133,47,14,30,0,722,648,45,12,11,6,0,401,386,8,7,0,0,0]
["Cheshire County","0000508","005",73825,14350,13,2,24,20,8,143,71,146,470,758,1151,1787,1886,3273,1928,949,543,439,395,233,58,34,5,14,105300,20057,195,224,258,169,228,234,235,267,706,1026,1395,2171,2266,4026,2519,1311,768,725,595,431,162,91,21,34,104100,14350,9766,6,0,46,207,370,602,805,1008,1303,2596,1419,966,238,155,45,4584,4,27,55,160,397,489,724,1280,738,361,202,60,29,58,1052,434,14350,9766,425,1198,2023,1960,1277,891,580,531,856,25,4584,1434,929,777,410,325,122,123,208,205,51,14350,497,0,0,6,14,409,68,1096,94,101,170,94,637,0,2601,769,354,297,281,900,0,2568,937,422,510,301,398,0,4176,2182,1117,484,251,142,0,1895,1415,302,101,60,17,0,1042,928,68,34,12,0,0,475,461,6,0,0,0,8]
["Coos County","0000814","007",33111,6648,10,21,68,123,87,165,303,649,894,953,951,758,499,492,294,200,68,64,21,13,8,4,0,3,70500,9925,154,186,214,266,209,356,444,880,1114,1223,1194,964,648,757,487,316,162,123,111,65,29,12,6,5,69300,6648,3691,0,7,67,243,534,533,613,558,373,499,152,95,9,4,4,2957,12,25,132,351,426,558,549,614,207,46,15,14,0,8,775,348,6648,3691,214,764,925,645,357,269,129,150,216,22,2957,806,708,405,316,184,121,86,138,167,26,6648,451,11,10,6,35,341,48,842,140,157,142,102,301,0,1383,645,245,171,153,169,0,1523,913,314,174,67,55,0,1669,1365,220,44,25,15,0,459,433,11,2,8,5,0,266,264,0,2,0,0,0,55,51,4,0,0,0,0]
["Grafton County","0001145","009",81743,14515,24,14,25,26,31,97,150,356,593,906,1195,1551,1332,2522,1803,1063,619,870,412,421,338,108,48,11,109500,21687,209,212,240,234,228,270,370,728,886,1300,1602,2045,1739,3242,2547,1542,882,1286,635,631,477,224,83,75,106000,14515,9590,3,10,86,328,628,763,1022,1097,935,2035,1121,856,393,170,143,4925,14,56,139,341,517,608,733,1056,530,377,215,130,67,142,992,405,14515,9590,639,1541,2136,1827,1186,701,482,384,662,32,4925,1830,1148,604,404,272,182,89,113,239,44,14515,464,7,14,21,22,327,73,1155,165,150,172,132,536,0,2339,747,351,312,300,629,0,2659,1236,569,380,207,267,0,3845,2398,694,447,146,160,0,1810,1362,293,78,49,28,0,1349,1141,129,41,27,11,0,894,842,31,7,0,11,3]
["Hillsborough County","0001543","011",380841,75683,7,72,22,41,33,64,77,222,510,1077,1867,4121,5389,15058,16440,9967,6226,7061,3638,2460,855,320,98,58,139100,93820,154,296,314,456,403,420,621,720,1097,2015,2673,5224,6571,17926,19009,11860,7173,8008,4095,2912,1068,471,193,141,135500,75683,58565,0,20,131,351,820,1242,1898,3196,3988,13379,12695,13852,4449,1567,977,17118,10,27,185,387,641,1342,2116,5423,3207,1847,889,492,149,403,1334,471,75683,58565,3221,8402,12599,11964,8408,4866,2506,2607,3860,132,17118,5677,3761,2525,1574,961,578,536,417,952,137,75683,1513,0,4,15,37,1203,254,3487,162,403,453,351,2110,8,7216,1717,1054,764,686,2995,0,10037,3248,1159,1638,1532,2460,0,19905,7100,4871,4200,2000,1734,0,14132,7985,3740,1568,556,283,0,13024,10031,1993,669,254,77,0,6369,5942,314,62,28,16,7]
["Merrimack County","0002571","013",136225,26262,0,18,16,31,26,48,62,251,419,1005,1673,2522,2944,5749,3968,2701,1501,1680,798,511,155,121,41,22,117900,36048,305,481,464,322,348,389,294,642,820,1415,2005,2975,3407,6897,5005,3444,2044,2209,1160,757,263,261,86,55,115100,26262,19451,0,16,59,202,567,737,1523,1759,1953,5086,3378,2937,889,193,152,6811,4,33,146,252,482,688,1121,1881,1106,459,201,179,95,164,1143,436,26262,19451,1023,2870,4350,3947,2847,1419,808,883,1264,40,6811,2389,1635,929,664,357,209,143,134,264,87,26262,560,0,2,11,20,400,127,1400,119,196,184,134,767,0,3211,896,494,342,302,1177,0,4393,1436,755,799,574,829,0,7677,3590,1953,1380,477,277,0,4597,3250,829,372,110,36,0,3035,2578,355,83,11,8,0,1389,1327,27,33,0,2,0]
["New Hampshire","0000001","33",1235786,249345,91,176,215,324,329,648,872,2351,4347,7882,11427,18005,19878,43696,43296,29313,18940,21523,11466,8306,3185,1919,695,461,133300,330783,1809,2542,2747,2987,2838,3258,3564,5781,7796,11999,15390,22503,24339,52686,51747,35594,23119,26002,14358,10667,4346,2809,1074,828,127500,249345,184745,21,91,711,2323,4901,6969,10445,13971,15498,41461,34340,35244,11944,4009,2817,64600,80,303,1114,2717,4556,7118,9233,17462,10115,5498,2796,1509,674,1425,1226,441,249345,184745,9832,25958,39405,37089,25835,14905,8463,9114,13658,486,64600,21496,14517,9108,5973,3478,2462,1535,1895,3472,664,249345,6404,43,47,102,238,4868,1106,14563,1201,1745,1896,1585,8128,8,30667,8829,4332,3143,3090,11273,0,38532,13624,5977,6205,4840,7886,0,66970,29093,15760,11811,5452,4854,0,42336,26147,9489,4296,1590,814,0,33371,26030,4926,1646,523,246,0,16502,15349,786,214,49,68,36]
["Rockingham County","0003030","015",277359,62328,10,16,0,38,26,8,40,161,202,612,763,1668,2279,7607,11683,10149,7338,8659,4637,3605,1339,937,347,204,164900,78999,193,378,308,517,501,662,622,971,1037,1456,1436,2343,3005,8847,13337,11661,8532,9863,5404,4289,1690,1202,449,296,158300,62328,49757,8,13,112,329,618,1097,1520,2335,2980,9847,10754,12783,4658,1538,1165,12571,13,43,100,305,577,1228,1629,3382,2210,1444,703,359,210,368,1390,471,62328,49757,2684,6389,10415,9688,7231,4058,2417,2682,4079,114,12571,4378,2719,1563,1056,585,662,261,421,813,113,62328,1365,9,0,24,44,1061,227,2701,105,223,287,370,1716,0,5891,1262,729,449,513,2938,0,7790,2236,775,1078,1136,2565,0,16244,5382,3588,3459,1901,1914,0,12539,6722,3182,1720,587,328,0,10550,7648,1933,703,148,118,0,5248,4784,314,96,21,33,0]
["Strafford County","0003819","017",112233,19570,11,14,24,13,17,32,10,99,321,668,1105,2002,2133,3980,3380,2049,1360,1324,556,316,92,47,11,6,121000,27426,250,314,478,498,452,463,346,399,659,1040,1527,2464,2558,4668,3915,2520,1710,1644,773,443,137,89,45,34,112100,19570,14272,0,15,47,134,287,607,953,1385,1660,3612,2546,1985,757,178,106,5298,8,14,64,216,364,671,771,1463,846,439,274,89,46,33,1142,437,19570,14272,536,2079,3039,3146,2048,1115,676,651,947,35,5298,1567,1238,865,552,296,219,74,163,248,76,19570,439,8,0,0,7,313,111,1207,83,165,198,133,628,0,2741,927,375,255,324,860,0,3469,1129,730,595,432,583,0,5405,2389,1499,926,289,302,0,3429,2296,660,308,106,59,0,2012,1661,238,62,43,8,0,868,831,31,0,0,6,0]
["Sullivan County","0004137","019",40458,7798,12,5,8,11,54,18,48,205,359,885,1112,1024,842,1199,749,369,254,258,145,120,53,36,12,20,91900,11915,169,96,166,105,222,143,181,498,586,1161,1378,1305,1077,1611,1047,599,418,467,267,216,85,67,18,33,89600,7798,5028,0,0,35,118,299,369,490,845,646,1191,547,331,120,17,20,2770,8,15,44,98,319,457,380,674,440,144,67,74,15,35,955,409,7798,5028,264,704,1048,1149,664,367,199,297,322,14,2770,830,661,428,262,129,108,50,110,164,28,7798,322,2,8,4,8,266,34,595,48,66,81,85,315,0,1303,470,217,128,122,366,0,1665,735,337,295,162,136,0,2311,1349,592,238,75,57,0,872,702,124,27,19,0,0,511,430,60,15,4,2,0,219,199,7,5,0,0,8]
[]
[]
["Census 2000 SummaryFile3 Sample Data  -  SF3CountyQry9HHIncomeByTenure"]
[]
["NAME","LOGRECNO","COUNTY","TotalPop","HCT11OccHU","HCT11OwnOccHU","HCT11OOHUInc<5K","HCT11OOHUInc5to10K","HCT11OOHUInc10to15K","HCT11OOHUInc15to20K","HCT11OOHUInc20to25K","HCT11OOHUInc25to35K","HCT11OOHUInc35to50K","HCT11OOHUInc50to75K","HCT11OOHUInc75to100K","HCT11OOHUInc100to150K","HCT11OOHUInc>150K","HCT11RentOccHU","HCT11ROHUInc<5K","HCT11ROHUInc5to10K","HCT11ROHUInc10to15K","HCT11ROHUInc15to20K","HCT11ROHUInc20to25K","HCT11ROHUInc25to35K","HCT11ROHUInc35to50K","HCT11ROHUInc50to75K","HCT11ROHUInc75to100K","HCT11ROHUInc100to150K","HCT11ROHUInc>150K","HCT12MedHHInc","HCT12MedOwnOccHHInc","HCT12MedRentOccHHInc"]
["Belknap County","0000095","001",56325,22459,16640,152,348,736,656,985,2132,3295,4368,2046,1145,777,5819,212,601,568,633,572,1064,999,752,299,73,46,43627,50067,28243]
["Carroll County","0000304","003",43666,18351,14266,283,443,793,976,990,1854,2855,3204,1267,981,620,4085,155,458,360,425,405,759,712,582,165,45,19,39703,43750,28063]
["Cheshire County","0000508","005",73825,28299,20057,207,560,754,983,1108,2730,3631,5420,2448,1440,776,8242,408,931,744,794,796,1491,1443,1131,308,127,69,42110,50179,27714]
["Coos County","0000814","007",33111,13961,9925,187,472,747,678,686,1424,2204,2304,694,417,112,4036,156,767,625,421,413,668,585,274,69,45,13,33393,40036,20504]
["Grafton County","0001145","009",81743,31598,21687,276,629,829,1240,1117,2571,4194,5324,2546,1773,1188,9911,421,1181,960,974,983,1684,1838,1220,378,156,116,41869,49950,27312]
["Hillsborough County","0001543","011",380841,144455,93820,919,1325,2257,2671,3281,7102,13328,24379,16548,14551,7459,50635,2104,3796,4015,3927,4343,7767,9702,9447,3517,1387,630,53247,65934,33939]
["Merrimack County","0002571","013",136225,51843,36048,416,613,962,1210,1549,3669,6139,9873,5922,3895,1800,15795,683,1495,1464,1409,1489,2650,3031,2293,816,295,170,48214,57158,30177]
["New Hampshire","0000001","33",1235786,474606,330783,3711,6664,10502,12529,14400,32188,54216,84981,51577,39615,20400,143823,5837,12997,12489,11990,12633,23273,27447,24054,8020,3442,1641,49224,58048,31478]
["Rockingham County","0003030","015",277359,104529,78999,811,1401,1973,2453,2671,6039,10977,19791,14524,12191,6168,25530,893,1694,1833,1671,1858,3898,5133,5339,1774,1012,425,57911,66039,37036]
["Strafford County","0003819","017",112233,42581,27426,295,511,994,1011,1315,3120,5114,7253,4243,2465,1105,15155,644,1455,1474,1178,1373,2520,3173,2399,566,266,107,44541,53931,30561]
["Sullivan County","0004137","019",40458,16530,11915,165,362,457,651,698,1547,2479,3065,1339,757,395,4615,161,619,446,558,401,772,831,617,128,36,46,40640,47284,26255]
[]
[]
[]
["Census 2000 SummaryFile3 Sample Data - SF3CountyQry10Disabil"]
[]
["NAME","LOGRECNO","COUNTY","TotalPop","PCT026001","PCT026002","PCT026003","PCT026004","PCT026005","PCT026006","PCT026007","PCT026008","PCT026009","PCT026010","PCT026011","PCT026012","PCT026013","PCT026014","PCT026015","PCT026016","PCT026017","PCT026018","PCT026019","PCT026020","PCT026021","PCT026022","PCT026023","PCT026024","PCT026025","PCT026026","PCT026027","PCT026028","PCT026029","PCT026030","PCT026031","PCT026032","PCT026033","PCT026034","PCT026035","PCT026036","PCT026037","PCT026038","PCT026039","PCT026040","PCT026041","PCT026042","PCT026043","PCT026044","PCT026045","PCT026046","PCT026047","PCT026048","PCT026049","PCT026050","PCT026051","PCT026052","PCT026053","PCT026054","PCT026055","PCT026056","PCT026057","PCT026058","PCT026059","PCT026060","PCT026061","PCT026062","PCT026063","PCT026064","PCT026065","PCT026066","PCT026067","PCT026068","PCT026069","PCT026070","PCT026071","PCT026072","PCT026073","PCT026074","PCT026075","PCT026076","PCT026077","PCT026078","PCT026079","PCT026080","PCT026081","PCT026082","PCT026083","PCT026084","PCT026085","PCT026086","PCT026087","PCT026088","PCT026089","PCT026090","PCT026091","PCT026092","PCT026093","PCT026094","PCT026095","PCT026096","PCT026097","PCT026098","PCT026099","PCT026100","PCT026101"]
["Belknap County","0000095","001",56325,52256,25596,4429,332,32,14,286,0,70,37,33,4027,1585,177,12,11,78,0,0,76,51,8,43,20,23,1357,16050,1618,272,436,172,0,26,712,1332,279,1053,255,798,13100,3532,695,260,280,44,0,111,547,203,344,2290,26660,4285,147,14,3,130,0,39,39,0,4099,1603,133,0,0,57,0,10,66,62,0,62,30,32,1408,16382,1411,121,344,106,6,30,804,1251,359,892,230,662,13720,4390,801,229,377,53,0,142,861,424,437,2728]
["Carroll County","0000304","003",43666,41214,20218,3295,209,31,12,154,12,38,30,8,3048,1195,90,13,5,19,2,3,48,78,8,70,37,33,1027,12261,1790,255,306,143,0,28,1058,1021,249,772,160,612,9450,3467,780,314,363,42,6,55,535,186,349,2152,20996,3277,101,22,9,70,0,43,37,6,3133,1137,119,5,5,19,0,28,62,52,11,41,23,18,966,12568,1381,98,247,79,7,49,901,885,213,672,135,537,10302,4014,796,186,448,73,3,86,665,303,362,2553]
["Cheshire County","0000508","005",73825,69174,33901,5747,385,8,21,356,0,53,29,24,5309,3299,296,20,4,118,0,9,145,109,0,109,22,87,2894,20685,2365,318,430,291,0,56,1270,1460,233,1227,204,1023,16860,4170,930,279,492,46,0,113,699,226,473,2541,35273,5393,185,16,9,160,0,55,38,17,5153,3309,211,27,16,63,0,4,101,96,14,82,32,50,3002,21243,1892,129,489,208,2,64,1000,1465,275,1190,203,987,17886,5328,1000,231,553,54,0,162,1119,455,664,3209]
["Coos County","0000814","007",33111,30952,15164,2528,215,23,11,181,0,12,8,4,2301,987,124,15,12,20,0,5,72,34,4,30,4,26,829,9194,1670,270,300,70,0,11,1019,905,164,741,108,633,6619,2455,673,210,346,26,0,91,505,201,304,1277,15788,2393,141,13,10,118,0,29,23,6,2223,1003,75,0,17,19,0,3,36,21,5,16,5,11,907,9157,1329,78,274,118,0,51,808,774,199,575,71,504,7054,3235,770,169,416,25,15,145,757,242,515,1708]
["Grafton County","0001145","009",81743,76493,37568,5787,403,19,5,379,0,132,90,42,5252,4101,205,18,9,109,0,5,64,141,27,114,29,85,3755,23167,2242,416,413,242,3,41,1127,1329,243,1086,183,903,19596,4513,977,419,396,67,0,95,758,303,455,2778,38925,5499,240,80,15,144,1,50,37,13,5209,4260,318,42,52,108,0,21,95,53,12,41,10,31,3889,23492,1887,244,406,144,2,54,1037,1459,376,1083,141,942,20146,5674,1014,265,531,72,5,141,1127,490,637,3533]
["Hillsborough County","0001543","011",380841,351163,173202,32850,2091,117,87,1867,20,425,280,145,30334,11915,1430,77,61,513,5,73,701,440,68,372,209,163,10045,112648,11104,1210,1993,1142,5,271,6483,7730,1544,6186,2037,4149,93814,15789,3352,821,1541,179,0,811,2702,1033,1669,9735,177961,31326,1431,169,71,1136,55,253,160,93,29642,10759,883,26,79,310,0,54,414,507,78,429,154,275,9369,113700,10146,1047,2302,991,52,487,5267,7846,1549,6297,1580,4717,95708,22176,4106,746,2009,204,6,1141,4755,1917,2838,13315]
["Merrimack County","0002571","013",136225,124587,60352,11222,1031,74,8,918,31,116,81,35,10075,4559,548,60,13,294,8,34,139,225,24,201,92,109,3786,37993,3507,588,749,464,0,130,1576,2876,588,2288,501,1787,31610,6578,1309,414,503,137,17,238,1128,394,734,4141,64235,10775,425,72,14,339,0,154,87,67,10196,4602,243,26,31,75,5,24,82,207,34,173,36,137,4152,39855,3010,330,954,319,19,91,1297,2896,757,2139,494,1645,33949,9003,1759,397,876,90,22,374,1783,537,1246,5461]
["New Hampshire","0000001","33",1235786,1145557,562006,101762,7411,448,240,6633,90,1291,864,427,93060,41519,4122,281,158,1769,15,186,1713,1637,225,1412,543,869,35760,358634,36529,5152,6810,3710,22,813,20022,24114,4752,19362,5316,14046,297991,60091,12800,3935,5969,730,44,2122,9847,3493,6354,37444,583551,97641,3983,563,191,3154,75,873,583,290,92785,41016,2980,211,291,946,5,246,1281,1344,184,1160,391,769,36692,365907,31626,3000,7391,2797,121,1234,17083,24373,5357,19016,4276,14740,309908,78987,15076,3168,7636,757,82,3433,15887,6489,9398,48024]
["Rockingham County","0003030","015",277359,257416,126749,24009,1647,82,46,1497,22,278,232,46,22084,7904,756,26,32,372,0,50,276,349,53,296,97,199,6799,83059,7659,1074,1270,661,7,184,4463,4283,747,3536,1282,2254,71117,11777,2484,788,1226,96,9,365,1752,597,1155,7541,130667,23478,820,105,40,657,18,159,108,51,22499,7353,602,47,52,154,0,58,291,213,27,186,61,125,6538,84861,6800,634,1458,494,17,275,3922,4525,912,3613,963,2650,73536,14975,2739,600,1406,88,23,622,2834,1315,1519,9402]
["Strafford County","0003819","017",112233,104495,50625,8653,826,40,30,756,0,82,37,45,7745,4766,389,38,11,198,0,7,135,124,25,99,18,81,4253,32123,3260,529,610,380,3,55,1683,2196,491,1705,408,1297,26667,5083,1054,256,563,67,10,158,781,251,530,3248,53870,8150,352,60,18,274,0,68,46,22,7730,5953,343,30,22,134,0,38,119,64,0,64,26,38,5546,32930,2843,185,682,285,9,92,1590,2353,491,1862,365,1497,27734,6837,1459,226,699,57,2,475,1287,552,735,4091]
["Sullivan County","0004137","019",40458,37807,18631,3242,272,22,6,239,5,85,40,45,2885,1208,107,2,0,48,0,0,57,86,8,78,15,63,1015,11454,1314,220,303,145,4,11,631,982,214,768,178,590,9158,2727,546,174,259,26,2,85,440,99,341,1741,19176,3065,141,12,2,126,1,23,8,15,2901,1037,53,8,17,7,0,6,15,69,3,66,14,52,915,11719,927,134,235,53,7,41,457,919,226,693,94,599,9873,3355,632,119,321,41,6,145,699,254,445,2024]
[]
[]
[]
["2010 Census Demographic Profile Data -  QRY_CountyState"]
["TownName","LOGRECNO","COUNTY","TotalPop","TotalPop1Race","TotalPopWhite","TotalPopAfricanAmerican","TotalPopAmericanIndAlaska","TotalPopAsian","TotalPopNativeHawaiianPIsland","TotalPopSomeOtherRace","TotalPopTwoOrMoreRaces","TotalPopHispanicLatino","TotalNonHispanicLatino","TotPopUnder15yrs","TotPop15to24yrs","TotPop25to34yrs","TotPop35to44yrs","TotPop45to54yrs","TotPop55to64yrs","TotPop65to74yrs","TotPopOver74yrs","MedianAge","MedianAgeMale","MedianAgeFemale","TotalHH","TotalPopInHouseholds","TotalPopInFamilyHH","TotalPopInNonFamilyHH","AvgHHSize","TotalFamilyHH","TotalFamilyHHSpouse","TotalSingleParentHH","TotalNonFamilyHH","AvgFamilyHHSize","AvgNonFamilyHHSize","AverageHHSizeOwnerOccupied","AverageHHSizeRentalOccupied","TotalHousingUnits","TotalOccupiedHU","TotalOwnerOccupiedHUs","TotalRentalOccupiedHU","TotalVacantHU","VacantHUForRent","VacantHURentNotOccupied","VacantHUForSale","VacantHUsSoldNotOccupied","VacantHUSeasonalRecreational","VacantHUsAllOtherVacants","HomeOwnerVacancyRate","HomeRentalVacancyRate","TotalHousingUnits2010","SingFamHU2010","MultiFamHU2010","MobileHom2010"]
["Belknap County","0000010","001",60088,59314,58059,279,126,699,11,140,774,724,59364,10031,6457,6189,7663,10149,9542,5457,4600,44.7,44,45.3,24766,59230,30609,28621,2.39,16609,12991,3618,8157,2.84,3.5087654775039843,2.46,2.2000000000000002,37386,24766,18523,6243,12620,806,49,665,91,10467,542,3.4,11.4,37386,27152,7348,2886]
["Carroll County","0000021","003",47818,47285,46627,139,132,305,7,75,533,473,47345,7108,4539,3927,5744,8347,8315,5491,4347,48.3,47.8,48.8,21052,47381,23405,23976,2.25,13569,10988,2581,7483,2.72,3.2040625417613255,2.2799999999999998,2.13,39813,21052,16665,4387,18761,579,58,599,84,16794,647,3.5,11.5,39711,30109,7034,2565]
["Cheshire County","0000040","005",77117,76037,74239,390,193,921,19,275,1080,1090,76027,12192,13584,7872,9224,12040,10863,6086,5256,40.700000000000003,39.9,41.4,30204,72490,36208,36282,2.4,19284,15061,4223,10920,2.88,3.3225274725274727,2.5099999999999998,2.14,34773,30204,21148,9056,4569,703,51,410,96,2746,563,1.9,7.2,34773,23640,8703,2430]
["Coos County","0000063","007",33055,32582,32045,148,128,165,1,95,473,401,32654,4940,3539,3209,4096,5585,5287,3291,3108,46.4,45.1,47.7,14171,31588,15282,16306,2.23,8879,6875,2004,5292,2.72,3.0812547241118668,2.33,1.99,21321,14171,10071,4100,7150,599,31,400,75,5488,557,3.8,12.7,20907,14107,4734,2068]
["Grafton County","0000083","009",89118,87558,83386,828,329,2633,16,366,1560,1600,87518,13199,15900,9448,10150,13873,12737,7437,6374,41.2,40,42.4,35986,82117,39638,42479,2.2799999999999998,22074,17631,4443,13912,2.8,3.0534071305347901,2.39,2.0499999999999998,51120,35986,24544,11442,15134,1038,56,620,123,12389,908,2.5,8.3000000000000007,51120,31687,15353,4084]
["Hillsborough County","0000122","011",400721,392782,362153,8298,961,12954,140,8276,7939,21241,379480,76557,51969,49098,57579,68476,49515,25560,21967,39.299999999999997,38.5,40.1,155466,392962,213177,179785,2.5299999999999998,103959,80219,23740,51507,3.05,3.4904964373774439,2.69,2.21,166053,155466,103951,51515,10587,4170,194,1595,329,2286,2013,1.5,7.5,166053,94637,67961,3452]
["Merrimack County","0000152","013",146445,144380,139609,1530,391,2325,41,484,2065,2339,144106,25609,19392,16161,19841,25270,20164,10467,9541,41.4,40.200000000000003,42.5,57069,140110,73902,66208,2.46,38104,29923,8181,18965,2.94,3.4910624835222777,2.6,2.09,63541,57069,40686,16383,6472,1411,71,803,161,3109,917,1.9,7.9,63541,41709,18181,3651]
["New Hampshire","0000001","",1316470,1295088,1236050,15035,3150,28407,384,12062,21382,36704,1279766,232182,178166,144472,179178,225961,178243,96762,81506,41.1,40.200000000000003,42,518973,1276366,673880,602486,2.46,344197,270635,73562,174776,2.96,3.4471895454753514,2.59,2.14,614754,518973,368316,150657,95781,13293,787,7521,1393,63910,8877,2,8.1,609679,385973,183746,39960]
["Rockingham County","0000178","015",295223,291169,281966,1996,486,4943,100,1678,4054,6142,289081,54015,34956,29257,43086,55517,40968,21216,16208,42.2,41.4,43,115033,292725,162019,130706,2.54,79832,64858,14974,35201,3.03,3.7131331496264313,2.7,2.04,126709,115033,88365,26668,11676,2207,154,1480,298,6112,1425,1.6,7.6,126709,81630,37451,7625]
["Strafford County","0000215","017",123143,120853,115545,1242,275,3191,44,556,2290,2201,120942,20997,23153,14784,16011,19357,14196,7786,6859,36.9,36,37.700000000000003,47100,114722,57772,56950,2.44,29862,22797,7065,17238,2.93,3.3037475345167655,2.57,2.1800000000000002,51697,47100,31242,15858,4597,1250,70,684,82,1670,841,2.1,7.3,51697,29485,17127,5087]
["Sullivan County","0000226","019",43742,43128,42421,185,129,271,5,117,614,493,43249,7534,4677,4527,5784,7347,6656,3971,3246,43.9,43,44.9,18126,43041,21868,21173,2.37,12025,9292,2733,6101,2.82,3.4704146861170302,2.4500000000000002,2.17,22341,18126,13121,5005,4215,530,53,265,54,2849,464,2,9.5,22341,15506,4832,2001]

{"sheet":"ACS_Table_B08303","index":75,"n_rows":19,"n_cols":24,"rows_kept":19,"cut":false,"hidden":true,"merged":[]}
[null,"B08303: TRAVEL TIME TO WORK"]
[null,"Universe: Workers 16 years and over who did not work at home"]
[null,{"$f":"ACS_Table_B25106!B3","v":"Data Set: 2018-2022 American Community Survey 5-Year Estimates"}]
[]
[null,null,"New Hampshire",null,"Belknap County",null,"Carroll County",null,"Cheshire County",null,"Coos County",null,"Grafton County",null,"Hillsborough County",null,"Merrimack County",null,"Rockingham County",null,"Strafford County",null,"Sullivan County"]
[null,null,"Estimates","Margin Of Error","Estimates","Margin Of Error","Estimates","Margin Of Error","Estimates","Margin Of Error","Estimates","Margin Of Error","Estimates","Margin Of Error","Estimates","Margin Of Error","Estimates","Margin Of Error","Estimates","Margin Of Error","Estimates","Margin Of Error","Estimates","Margin Of Error"]
[null,"Population Older than 16 not working at home",630926,4434,28923,869,21450,740,34078,818,12970,378,39657,931,199779,2063,69268,1254,146003,2094,60629,1291,18169,782]
[null,"Less than 5 minutes",21858,1505,1574,365,1097,269,1909,383,1153,180,2091,426,4917,899,2266,329,4243,599,1792,342,816,218]
[null,"5 to 9 minutes",66420,2097,3976,578,2592,411,5235,572,2363,266,5901,637,17283,1033,6990,601,13775,1080,6017,686,2288,417]
[null,"10 to 14 minutes",87146,2667,4474,535,3556,476,5576,679,2112,238,6904,710,29871,1581,8495,690,15926,1073,8131,817,2101,384]
[null,"15 to 19 minutes",86763,2694,3748,640,2546,494,4884,529,1764,255,6202,565,30002,1791,9538,750,17546,1018,8549,781,1984,442]
[null,"20 to 24 minutes",83891,2279,2973,408,2615,458,4833,437,1532,158,4826,513,26640,1269,9974,698,19407,1231,8704,821,2387,407]
[null,"25 to 29 minutes",45885,1596,1199,246,1565,329,2016,319,737,182,2193,309,15405,1114,5275,584,11739,837,4534,622,1222,323]
[null,"30 to 34 minutes",77251,2374,3326,521,1925,330,3333,441,943,134,3931,461,24465,1471,9482,652,18811,1075,8511,881,2524,429]
[null,"35 to 39 minutes",24419,1281,896,263,536,180,1286,254,260,85,1214,277,7021,660,2607,375,6703,737,2893,525,1003,266]
[null,"40 to 44 minutes",25663,1380,1539,305,820,193,828,246,352,92,1364,284,7622,595,3004,380,7202,850,2081,431,851,270]
[null,"45 to 59 minutes",52800,1855,2532,357,1812,340,1612,271,773,147,2474,335,16621,1304,5905,481,14692,917,4680,691,1699,363]
[null,"60 to 89 minutes",39422,1699,1764,371,1650,378,1409,283,595,146,1721,299,13719,1069,3872,420,10465,820,3339,492,888,282]
[null,"90 or more minutes",19408,1227,922,210,736,190,1157,266,386,102,836,181,6213,737,1860,313,5494,653,1398,280,406,134]