{"text_format":"1","workbook":"xlsx","n_sheets":76,"sheets":["ACS_Notes","StartInstruction","ACS_Table_B08303","PopulationCharacteristics","SchoolEnrolEduAttain","HousingCharacteristics","BuildingPermitsSince2000","EmpVsHUxCounty","HHIncome-10YearComparison","HHIncomeByAge","HHIncomeByTenure","ACS_Source_Table_List","CntyDataLinkPrior5YearEstimates","CntyDataLinkPrior10YearEstimate","Updates","CntyQuery","CntyDataLink","OwnerHousingCost","ACS_Table_B01001","ACS_Table_B01002","ACS_Tbl_B11001_B11002_B25010","ACS_Table_B25118","ACS_Table_B19001","ACS_Table_B19037","DisabilityByAge","DisabilityByAgePrior5YearEst","DisabilityByAgePrior10YearEs","ACS_Table_B18101","ACS_Table_B18102","ACS_Table_B18103","ACS_Table_B18104","ACS_Table_B18105","ACS_Table_B18106","ACS_Table_B18107","ACS_Table_C18108","ACS_Table_B19049","ACS_TableB19101_ACS_Tbl_B19113","ACS_TableB19201_ACS_Tbl_B19202","ACS_Table_B25119","ACS_Table_B25001","ACS_Table_B25003","ACS_Table_B25004","ACS_Table_B25008","ACS_Table_B25024","ACS_Table_B25032","ACS_Table_B25034","ACS_Table_B25041","PovertyCharacteristics","ACS_Table_ B17001","ACS_Table_B17010","ACS_Table_B17017","ACS_Table_B03002","RentalHousingCost","RentalHousingCost-Prior5Yr","RentalHousingCost-Prior10Yr","ACS_Table_B25063_&_B25064","ACS_Table_B25070","ACS_Table_B25074","PlaceOfBirthAndPriorRes","OwnerHousingCostPrior5Year","OwnerHousingCostPrior10Year","StatisticallySignificantCalcs","ACS_Table_B05002","ACS_Table_B07003","ACS_Table_B14001","ACS_Table_B15002","ACS_Table_B25075_&_B25077","ACS_Table_B25088","ACS_Table_B25091","ACS_Table_B25106","PopComparison (2)","HousingComparison","Housing_EmploymentComparison","DropDownList","CntyQryCensus","SmallTownEmploymentandWages"],"not_rendered":{"charts":317,"images":168,"macros":1,"external_links":0,"defined_names":78,"comments":0,"pivot_tables":0},"unopened":[],"bounds":{"document_bytes":16777216,"sheet_cells":100000,"rows_first":2000,"rows_last":500,"rows_between":2000,"halvings":0,"cell_chars":16384,"cell_head_chars":4096},"cells_cut":0,"cells_raw":0,"read":"whole","date_system":"1900"}

{"sheet":"ACS_Notes","index":0,"n_rows":28,"n_cols":1,"rows_kept":28,"cut":false,"hidden":true,"merged":[[3,0,5,14],[7,0,8,14],[29,0,29,14],[20,0,21,14],[22,0,22,14],[23,0,23,14],[24,0,24,14],[10,0,12,14],[14,0,14,14],[18,0,19,14],[31,135,31,149],[31,15,31,29],[31,30,31,44],[31,45,31,59],[25,0,25,14],[31,60,31,74],[31,75,31,89],[31,90,31,104],[31,105,31,119],[31,120,31,134],[31,150,31,164],[31,165,31,179],[31,240,31,254],[31,180,31,194],[31,195,31,209],[31,210,31,224],[31,225,31,239]]}
["NOTES:"]
[]
[]
["Data are based on a sample and are subject to sampling variability. The degree of uncertainty for an estimate arising from sampling variability is represented through the use of a margin of error. The value shown here is the 90 percent margin of error. The margin of error can be interpreted roughly as providing a 90 percent probability that the interval defined by the estimate minus the margin of error and the estimate plus the margin of error (the lower and upper confidence bounds) contains the true value. In addition to sampling variability, the ACS estimates are subject to nonsampling error (for a discussion of nonsampling variability, see Accuracy of the Data). The effect of nonsampling error is not represented in these tables."]
[]
[]
[]
["In addition to sampling variability, the ACS estimates are subject to nonsampling error (for a discussion of nonsampling variability, see Accuracy of the Data. The link is located at the end of this worksheet.).  The effect of nonsampling error is not represented in these tables."]
[]
[]
["While the 2005-2009 American Community Survey (ACS) data generally reflect the November 2008 Office of Management and Budget (OMB) definitions of metropolitan and micropolitan statistical areas; in certain instances the names, codes, and boundaries of the principal cities shown in ACS tables may differ from the OMB definitions due to differences in the effective dates of the geographic entities."]
[]
[]
[]
["Estimates of urban and rural population, housing units, and characteristics reflect boundaries of urban areas defined based on Census 2000 data.  Boundaries for urban areas have not been updated since Census 2000.  As a result, data for urban and rural areas from the ACS do not necessarily reflect the results of ongoing urbanization."]
[]
["Explanation of Symbols:"]
[]
["1. An '**' entry in the margin of error column indicates that either no sample observations or too few sample observations were available to compute a standard error and thus the margin of error. A statistical test is not appropriate."]
[]
["2. An '-' entry in the estimate column indicates that either no sample observations or too few sample observations were available to compute an estimate, or a ratio of medians cannot be calculated because one or both of the median estimates falls in the lowest interval or upper interval of an open-ended distribution."]
[]
["3. An '-' following a median estimate means the median falls in the lowest interval of an open-ended distribution."]
["4. An '+' following a median estimate means the median falls in the upper interval of an open-ended distribution."]
["5. An '***' entry in the margin of error column indicates that the median falls in the lowest interval or upper interval of an open-ended distribution. A statistical test is not appropriate."]
["6. An '*****' entry in the margin of error column indicates that the estimate is controlled. A statistical test for sampling variability is not appropriate."]
[]
["Accuracy of Data "]

{"sheet":"StartInstruction","index":1,"n_rows":34,"n_cols":17,"rows_kept":34,"cut":false,"hidden":false,"merged":[[26,1,29,3],[29,16,31,19]]}
["Demographic Profiles for Municipalities in Belknap County"]
[]
["To view or print a Demographic Profile follow the steps below"]
[]
[]
["Step 1. ",null,"Select the municipality you wish to"]
[null,null,"Profile from the drop down box below. "]
[]
[]
[]
[]
["Step 2. ",null,"Click one of the profile topic buttons below to review or print"]
[null,null,"the information for the selected geography.",null,"."]
[null,null,"Don't forget to adjust the axis on charts as necessary. "]
[]
[]
[]
[]
[]
[]
[]
[]
[]
[]
[]
[]
[]
[null,null,null,null,null,null,null,null,null,null,null,null,null,null,"Updated:",null,"2023-12-07"]
[]
[null,null,null,null,null,null,null,null,null,null,null,null,null,null,"Next Update:",null,"Spring 2024 Annual Employment Date"]
[]
[]
[null,null,null,null,null,null,null,null,null,null," "]
[null,null,null,null,null,null,null,null,null,"  "]

{"sheet":"ACS_Table_B08303","index":2,"n_rows":19,"n_cols":25,"rows_kept":19,"cut":false,"hidden":true,"merged":[]}
[null,"B08303: TRAVEL TIME TO WORK"]
[null,"Universe: Workers 16 years and over who did not work at home"]
[null,"Data Set: 2006-2010 American Community Survey 3-Year Estimates"]
[]
[null,null,null,null,"Alton",null,"Barnstead",null,"Belmont",null,"Center Harbor",null,"Gilford",null,"Gilmanton",null,"Laconia",null,"Meredith",null,"New Hampton",null,"Sanbornton",null,"Tilton"]
[null,null,"Estimates","Margin Of Error","Estimates","Margin Of Error","Estimates","Margin Of Error","Estimates","Margin Of Error","Estimates","Margin Of Error","Estimates","Margin Of Error","Estimates","Margin Of Error","Estimates","Margin Of Error","Estimates","Margin Of Error","Estimates","Margin Of Error","Estimates","Margin Of Error"]
[null,"Population Older than 16 not working at hom",2706,398,2201,222,3408,355,390,114,3157,452,2178,195,8008,473,2370,316,1161,152,1413,216,1931,227]
[null,"Less than 5 minutes",123,131,104,84,49,47,25,23,35,40,68,58,738,243,201,111,31,29,36,37,164,136]
[null,"5 to 9 minutes",186,124,42,40,466,180,87,54,764,256,32,39,1796,332,277,122,52,40,79,72,195,122]
[null,"10 to 14 minutes",296,163,276,135,655,203,56,31,691,228,47,38,1803,396,197,107,71,49,159,89,223,105]
[null,"15 to 19 minutes",118,86,152,73,507,212,11,11,625,222,182,110,1105,247,400,116,112,47,392,254,144,90]
[null,"20 to 24 minutes",288,143,154,96,268,125,63,37,119,76,279,111,637,255,375,167,253,88,228,104,309,132]
[null,"25 to 29 minutes",76,67,59,37,157,98,19,14,85,67,363,121,175,105,70,70,77,45,56,47,62,43]
[null,"30 to 34 minutes",234,139,519,174,519,228,53,39,86,87,398,189,691,269,258,119,184,131,69,54,315,121]
[null,"35 to 39 minutes",259,179,163,82,25,28,6,10,51,40,118,72,175,119,71,52,20,19,8,13,0,12]
[null,"40 to 44 minutes",116,72,274,107,240,142,29,35,253,146,213,95,237,100,0,17,19,27,94,75,64,61]
[null,"45 to 59 minutes",579,194,217,92,172,103,25,41,203,96,306,140,291,135,229,137,164,61,113,65,233,149]
[null,"60 to 89 minutes",358,223,190,79,250,132,11,12,174,86,136,85,231,118,178,105,56,33,58,58,122,106]
[null,"90 or more minutes",73,94,51,41,100,75,5,7,71,61,36,40,129,83,114,81,122,69,121,81,100,64]

{"sheet":"PopulationCharacteristics","index":3,"n_rows":64,"n_cols":23,"rows_kept":64,"cut":false,"hidden":true,"merged":[[48,3,48,4],[48,6,48,7],[48,9,48,10],[19,11,19,13],[63,1,63,3],[45,1,45,8],[62,1,62,8],[33,11,33,12],[3,1,3,3],[18,15,18,21],[2,8,2,12],[19,15,19,17],[19,18,19,20],[18,2,18,8]]}
[]
[null,{"$f":"CntyDataLink!A35","v":"Laconia"}]
[null,null,null,null,null,null,"Land Area:",null,{"$f":"((CntyDataLink!F35*10.764)/43560)/640","v":20.279152985537188},null,null,null,null,"Water Area:",{"$f":"((CntyDataLink!G35*10.764)/43560)/640","v":6.3006991219008253}]
[null,"POPULATION CHARACTERISTICS"]
[]
[]
[]
[]
[]
[]
[]
[]
[]
[]
[]
[]
[]
[]
[null,"Population ",{"$f":"\"Source:  US Census;  Office of Planning and Development, NH BEA; \"& L20&\", \"&P20&\", and \"&S20&\" American Community Survey Table B01001\"","v":"Source:  US Census;  Office of Planning and Development, NH BEA; 2008-2012, 2013-2017, and 2018-2022 American Community Survey Table B01001"},null,null,null,null,null,null,null,null,null,null,"Population by Age ",null,{"$f":"\"Source: \"& L20&\", \"&P20&\", and \"&S20&\"  American Community Survey Tables B01001 and B01002\"","v":"Source: 2008-2012, 2013-2017, and 2018-2022  American Community Survey Tables B01001 and B01002"}]
[null,null,null,null,null,null,null,null,null,null,null,"2008-2012",null,null,null,"2013-2017",null,null,"2018-2022"]
[null,null,1990,2000,2010,2020,"2018-2022",2025,2030,null,null,"Estimate",null,"Margin of Error","Percent of Population","Estimate","Margin of Error","Percent of Population","Estimate","Margin of Error","Percent of Population","Percent Change","Statistically Significant Change"]
[null,null,{"$f":"CntyDataLink!$F$20","v":15743},{"$f":"CntyDataLink!$G$20","v":16411},{"$f":"CntyDataLink!$H$20","v":15951},{"$f":"CntyDataLink!$I$20","v":16871},{"$f":"CntyDataLink!$B$132","v":3047},{"$f":"CntyDataLink!$J$20","v":17577},{"$f":"CntyDataLink!$K$20","v":18177},null,"Under 15 yrs.",{"$f":"CntyDataLinkPrior10YearEstimate!$D$132","v":505},null,{"$f":"CntyDataLinkPrior10YearEstimate!$E$132","v":125.65826673959816},{"$f":"L22/SUM($L$22:$L$29)","v":0.1707234617985125},{"$f":"CntyDataLinkPrior5YearEstimates!$D$132","v":456},{"$f":"CntyDataLinkPrior5YearEstimates!$E$132","v":83.252627586160912},{"$f":"P22/SUM($P$22:$P$29)","v":0.15338042381432895},{"$f":"CntyDataLink!$D$132","v":485},{"$f":"CntyDataLink!$E$132","v":170.9122581911549},{"$f":"S22/SUM($S$22:$S$29)","v":0.15917295700689202},{"$f":"(S22-P22)/P22","v":6.3596491228070179E-2},{"$f":"StatisticallySignificantCalcs!$A3","v":"Y"}]
[null,null,null,null,null,null,null,null,null,null,"15 to 24 yrs.",{"$f":"CntyDataLinkPrior10YearEstimate!$F$132","v":214},null,{"$f":"CntyDataLinkPrior10YearEstimate!$G$132","v":59.883219686319471},{"$f":"L23/SUM($L$22:$L$29)","v":7.2346179851250844E-2},{"$f":"CntyDataLinkPrior5YearEstimates!$F$132","v":285},{"$f":"CntyDataLinkPrior5YearEstimates!$G$132","v":76.81145747868608},9.5862764883955606E-2,{"$f":"CntyDataLink!$F$132","v":199},{"$f":"CntyDataLink!$G$132","v":118.0127111797708},{"$f":"S23/SUM($S$22:$S$29)","v":6.5310141122415497E-2},{"$f":"(S23-P23)/P23","v":-0.30175438596491228},{"$f":"StatisticallySignificantCalcs!$A4","v":"Y"}]
[null,"Percent Change",null,null,null,null,null,null,null,null,"25 to 34 yrs.",{"$f":"CntyDataLinkPrior10YearEstimate!$H$132","v":269},null,{"$f":"CntyDataLinkPrior10YearEstimate!$I$132","v":76.883028036101706},{"$f":"L24/SUM($L$22:$L$29)","v":9.0939824205544292E-2},{"$f":"CntyDataLinkPrior5YearEstimates!$H$132","v":228},{"$f":"CntyDataLinkPrior5YearEstimates!$I$132","v":62.153036933041335},7.6690211907164477E-2,{"$f":"CntyDataLink!$H$132","v":480},{"$f":"CntyDataLink!$I$132","v":169.44320582425252},0.15753199868723333,1.1052631578947369,{"$f":"StatisticallySignificantCalcs!$A5","v":"Y"}]
[null,null,null,{"$f":"C21&\"-2020\"","v":"1990-2020"},{"$f":"D21&\"-2020\"","v":"2000-2020"},{"$f":"E21&\"-2020\"","v":"2010-2020"},{"$f":"F21&\"-2030\"","v":"2020-2030"},{"$f":"G21&\"-\"&H21","v":"2018-2022-2025"},{"$f":"H21&\"-\"&I21","v":"2025-2030"},null,"35 to 44 yrs.",{"$f":"CntyDataLinkPrior10YearEstimate!$J$132","v":358},null,{"$f":"CntyDataLinkPrior10YearEstimate!$K$132","v":83.186537372341689},0.12102772143340094,{"$f":"CntyDataLinkPrior5YearEstimates!$J$132","v":305},{"$f":"CntyDataLinkPrior5YearEstimates!$K$132","v":56.577380639262543},0.10258997645475951,{"$f":"CntyDataLink!$J$132","v":291},{"$f":"CntyDataLink!$K$132","v":127.38131731144878},9.5503774204135208E-2,-4.5901639344262293E-2,{"$f":"StatisticallySignificantCalcs!$A6","v":"Y"}]
[null,null,null,{"$f":"(D22-C22)/C22","v":4.2431556882423935E-2},-2.8029979891536164E-2,5.7676634693749611E-2,-0.8193942267796811,4.7686248769281256,3.4135518006485746E-2,null,"45 to 54 yrs.",{"$f":"CntyDataLinkPrior10YearEstimate!$L$132","v":586},null,{"$f":"CntyDataLinkPrior10YearEstimate!$M$132","v":111.91961400934154},0.19810682893847195,{"$f":"CntyDataLinkPrior5YearEstimates!$L$132","v":455},{"$f":"CntyDataLinkPrior5YearEstimates!$M$132","v":84.178382022939829},0.15304406323578876,{"$f":"CntyDataLink!$L$132","v":343},{"$f":"CntyDataLink!$M$132","v":152.30561381643159},0.1125697407285855,-0.24615384615384617,{"$f":"StatisticallySignificantCalcs!$A7","v":"Y"}]
[null,null,null,null,null,null,null,null,null,null,"55 to 64 yrs.",{"$f":"CntyDataLinkPrior10YearEstimate!$N$132","v":592},null,{"$f":"CntyDataLinkPrior10YearEstimate!$O$132","v":110.81967334368028},0.20013522650439486,{"$f":"CntyDataLinkPrior5YearEstimates!$N$132","v":714},{"$f":"CntyDataLinkPrior5YearEstimates!$O$132","v":110.48076755707302},0.24016145307769929,{"$f":"CntyDataLink!$N$132","v":585},{"$f":"CntyDataLink!$O$132","v":153.37209654953537},0.19199212340006563,-0.18067226890756302,{"$f":"StatisticallySignificantCalcs!$A8","v":"Y"}]
[null,null,null,null,null,null,null,null,null,null,"65 to 74 yrs.",{"$f":"CntyDataLinkPrior10YearEstimate!$P$132","v":230},null,{"$f":"CntyDataLinkPrior10YearEstimate!$Q$132","v":66.498120274185197},7.77552400270453E-2,{"$f":"CntyDataLinkPrior5YearEstimates!$P$132","v":344},{"$f":"CntyDataLinkPrior5YearEstimates!$Q$132","v":59.219929077971713},0.11570803901782711,{"$f":"CntyDataLink!$P$132","v":467},{"$f":"CntyDataLink!$Q$132","v":135.96690773861116},0.15326550705612077,0.35755813953488375,{"$f":"StatisticallySignificantCalcs!$A9","v":"Y"}]
[null,null,null,null,null,null,null,null,null,null,"Over 74 yrs. ",{"$f":"CntyDataLinkPrior10YearEstimate!$R$132","v":204},null,{"$f":"CntyDataLinkPrior10YearEstimate!$S$132","v":66.113538704262382},6.8965517241379309E-2,{"$f":"CntyDataLinkPrior5YearEstimates!$R$132","v":186},{"$f":"CntyDataLinkPrior5YearEstimates!$S$132","v":58.591808301161009},6.2563067608476283E-2,{"$f":"CntyDataLink!$R$132","v":197},{"$f":"CntyDataLink!$S$132","v":74.82646590612174},6.4653757794552014E-2,5.9139784946236562E-2,{"$f":"StatisticallySignificantCalcs!$A10","v":"Y"}]
[null,null,null,null,null,null,null,null,null,null,"Median Age (years)",{"$f":"CntyDataLinkPrior10YearEstimate!$AX$132","v":47.4},null,{"$f":"CntyDataLinkPrior10YearEstimate!$AY$132","v":3.7},null,{"$f":"CntyDataLinkPrior5YearEstimates!$AX132","v":48},{"$f":"CntyDataLinkPrior5YearEstimates!$AY$132","v":2.5},null,{"$f":"CntyDataLink!$AX$132","v":45.8},{"$f":"CntyDataLink!$AY$132","v":6.5}]
[]
[null,"Population By Race",null,null,null,null,null,null,null,null,null,null,"Statistically Significant Change"]
[null,null,null,null,null,null,null,null,null,null,null,null,{"$f":"IF(L36=\"\",\"-\",StatisticallySignificantCalcs!A20)","v":"N"}]
[null,null,{"$f":"$L$20","v":"2008-2012"},null,null,{"$f":"$P$20","v":"2013-2017"},null,null,{"$f":"$S$20","v":"2018-2022"},null,null,"Statistically Significant Change"]
[null,null,"Estimate","Margin of Error",null,"Estimate","Margin of Error",null,"Estimate","Margin of Error",null,"2012-2022","2017-2022"]
[null,"White",{"$f":"CntyDataLinkPrior10YearEstimate!$AL$132","v":2855},{"$f":"CntyDataLinkPrior10YearEstimate!$AM$132","v":79},{"$f":"IF(C$36=\"-\",\"-\",VALUE(C36/$C$41))","v":0.96517917511832318},{"$f":"CntyDataLinkPrior5YearEstimates!$AL$132","v":2804},{"$f":"CntyDataLinkPrior5YearEstimates!$AM$132","v":122},{"$f":"IF(F$36=\"-\",\"-\",VALUE(F36/$F$41))","v":0.94315506222670698},{"$f":"CntyDataLink!$AL$132","v":2889},{"$f":"CntyDataLink!$AM$132","v":98},{"$f":"IF(I$36=\"-\",\"-\",VALUE(I36/$I$41))","v":0.9481457170987857},{"$f":"StatisticallySignificantCalcs!A20","v":"N"},{"$f":"StatisticallySignificantCalcs!J20","v":"N"}]
[null,"Black",{"$f":"CntyDataLinkPrior10YearEstimate!$AN132","v":0},{"$f":"CntyDataLinkPrior10YearEstimate!$AO$132","v":11},{"$f":"IF(C$37=\"-\",\"-\",VALUE(C37/$C$41))","v":0},{"$f":"CntyDataLinkPrior5YearEstimates!$AN132","v":16},{"$f":"CntyDataLinkPrior5YearEstimates!$AO$132","v":20},{"$f":"IF(F$37=\"-\",\"-\",VALUE(F37/$F$41))","v":5.3817692566431215E-3},{"$f":"CntyDataLink!$AN$132","v":29},{"$f":"CntyDataLink!$AO$132","v":41},{"$f":"IF(I$37=\"-\",\"-\",VALUE(I37/$I$41))","v":9.517558254020347E-3},{"$f":"StatisticallySignificantCalcs!A21","v":"N"},{"$f":"StatisticallySignificantCalcs!J21","v":"N"}]
[null,"American Indian",{"$f":"CntyDataLinkPrior10YearEstimate!$AP$132","v":16},{"$f":"CntyDataLinkPrior10YearEstimate!$AQ$132","v":24},{"$f":"IF(C$38=\"-\",\"-\",VALUE(C38/$C$41))","v":5.4090601757944556E-3},{"$f":"CntyDataLinkPrior5YearEstimates!$AP$132","v":0},{"$f":"CntyDataLinkPrior5YearEstimates!$AQ$132","v":11},{"$f":"IF(F$38=\"-\",\"-\",VALUE(F38/$F$41))","v":0},{"$f":"CntyDataLink!$AP$132","v":0},{"$f":"CntyDataLink!$AQ$132","v":12},{"$f":"IF(I$38=\"-\",\"-\",VALUE(I38/$I$41))","v":0},{"$f":"StatisticallySignificantCalcs!A22","v":"N"},{"$f":"StatisticallySignificantCalcs!J22","v":"N"}]
[null,"Asian &Pacific Is.",{"$f":"CntyDataLinkPrior10YearEstimate!$AR$132","v":0},{"$f":"CntyDataLinkPrior10YearEstimate!$AS$132","v":15.556349186104045},{"$f":"IF(C$39=\"-\",\"-\",VALUE(C39/$C$41))","v":0},{"$f":"CntyDataLinkPrior5YearEstimates!$AR$132","v":47},{"$f":"CntyDataLinkPrior5YearEstimates!$AS$132","v":48.332183894378289},{"$f":"IF(F$39=\"-\",\"-\",VALUE(F39/$F$41))","v":1.5808947191389169E-2},{"$f":"CntyDataLink!$AR$132","v":29},{"$f":"CntyDataLink!$AS$132","v":35.114099732158877},{"$f":"IF(I$39=\"-\",\"-\",VALUE(I39/$I$41))","v":9.517558254020347E-3},{"$f":"StatisticallySignificantCalcs!A23","v":"N"},{"$f":"StatisticallySignificantCalcs!J23","v":"N"}]
[null,"Other*",{"$f":"CntyDataLinkPrior10YearEstimate!$AT$132","v":0},{"$f":"CntyDataLinkPrior10YearEstimate!$AU$132","v":15.556349186104045},{"$f":"IF(C$40=\"-\",\"-\",VALUE(C40/$C$41))","v":0},{"$f":"CntyDataLinkPrior5YearEstimates!$AT$132","v":59},{"$f":"CntyDataLinkPrior5YearEstimates!$AU$132","v":61},{"$f":"IF(F$40=\"-\",\"-\",VALUE(F40/$F$41))","v":1.9845274133871511E-2},{"$f":"CntyDataLink!$AT$132","v":87},{"$f":"CntyDataLink!$AU$132","v":75.953933407032977},{"$f":"IF(I$40=\"-\",\"-\",VALUE(I40/$I$41))","v":2.8552674762061043E-2},{"$f":"StatisticallySignificantCalcs!A24","v":"Y"},{"$f":"StatisticallySignificantCalcs!J24","v":"N"}]
[null,"Total Population",{"$f":"CntyDataLinkPrior10YearEstimate!$B$132","v":2958},{"$f":"CntyDataLinkPrior10YearEstimate!$C$132","v":18},null,{"$f":"CntyDataLinkPrior5YearEstimates!$B$132","v":2973},{"$f":"CntyDataLinkPrior5YearEstimates!$C$132","v":16},null,{"$f":"CntyDataLink!$B$132","v":3047},{"$f":"CntyDataLink!$C$132","v":21}]
[null,"Hispanic",{"$f":"CntyDataLinkPrior10YearEstimate!$AV$132","v":87},{"$f":"CntyDataLinkPrior10YearEstimate!$AW$132","v":72},{"$f":"IF(C$42=\"-\",\"-\",VALUE(C42/$C$41))","v":2.9411764705882353E-2},{"$f":"CntyDataLinkPrior5YearEstimates!$AV132","v":47},{"$f":"CntyDataLinkPrior5YearEstimates!$AW$132","v":43},{"$f":"IF(F$42=\"-\",\"-\",VALUE(F42/$F$41))","v":1.5808947191389169E-2},{"$f":"CntyDataLink!$AV$132","v":13},{"$f":"CntyDataLink!$AW$132","v":2},{"$f":"IF(I$42=\"-\",\"-\",VALUE(I42/$I$41))","v":4.2664916311125701E-3},{"$f":"StatisticallySignificantCalcs!A26","v":"Y"},{"$f":"StatisticallySignificantCalcs!J26","v":"Y"}]
[]
[null,"*","Other includes population of 2 or more races"]
[]
[null,{"$f":"\"Source: \"& L20&\", \"&P20&\", and \"&S20&\" American Community Survey Table B03002\"","v":"Source: 2008-2012, 2013-2017, and 2018-2022 American Community Survey Table B03002"}]
[]
[null,null,"Households and Families"]
[null,null,null,{"$f":"$L$20","v":"2008-2012"},null,null,{"$f":"$P$20","v":"2013-2017"},null,null,{"$f":"$S$20","v":"2018-2022"},null,null,null,{"$f":"\"Percent Change \" &L35","v":"Percent Change 2012-2022"},null,{"$f":"\"Percent Change \" &M35","v":"Percent Change 2017-2022"}]
[null,null,null,"Estimate","Margin of Error",null,"Estimate","Margin of Error",null,"Estimate","Margin of Error"]
[null,null,"Total Households",{"$f":"CntyDataLinkPrior10YearEstimate!$T$132","v":1190},{"$f":"CntyDataLinkPrior10YearEstimate!$U$132","v":79},null,{"$f":"CntyDataLinkPrior5YearEstimates!$T$132","v":1118},{"$f":"CntyDataLinkPrior5YearEstimates!$U$132","v":83},null,{"$f":"CntyDataLink!$T$132","v":1125},{"$f":"CntyDataLink!$U$132","v":132},null,null,{"$f":"(J51-D51)/D51","v":-5.4621848739495799E-2},null,{"$f":"(J51-G51)/G51","v":6.2611806797853312E-3}]
[null,null,"Persons per Household",{"$f":"CntyDataLinkPrior10YearEstimate!$BD$132","v":2.4823529411764707},{"$f":"CntyDataLinkPrior10YearEstimate!$BE$132","v":0.16556651561240082},null,{"$f":"CntyDataLinkPrior5YearEstimates!$BD$132","v":2.650268336314848},{"$f":"CntyDataLinkPrior5YearEstimates!$BE$132","v":0.19734185595657408},null,{"$f":"CntyDataLink!$BD$132","v":2.6968888888888887},{"$f":"CntyDataLink!$BE$132","v":0.31698506310205876},null,null,{"$f":"(J52-D52)/D52","v":8.642443391258546E-2},null,{"$f":"(J52-G52)/G52","v":1.7590880113998456E-2}]
[null,null,"Family Households",{"$f":"CntyDataLinkPrior10YearEstimate!$V$132","v":836},{"$f":"CntyDataLinkPrior10YearEstimate!$U$132","v":79},null,{"$f":"CntyDataLinkPrior5YearEstimates!$V$132","v":842},{"$f":"CntyDataLinkPrior5YearEstimates!$U$132","v":83},null,{"$f":"CntyDataLink!$V$132","v":768},{"$f":"CntyDataLink!$U$132","v":132},null,null,-8.1339712918660281E-2,null,-8.7885985748218529E-2]
[null,null,"Persons per Family Household",{"$f":"CntyDataLinkPrior10YearEstimate!$BF$132","v":2.9796650717703348},{"$f":"CntyDataLinkPrior10YearEstimate!$BG$132","v":0.3276073597983537},null,{"$f":"CntyDataLinkPrior5YearEstimates!$BF$132","v":3.0676959619952493},{"$f":"CntyDataLinkPrior5YearEstimates!$BG$132","v":0.2887320534198704},null,{"$f":"CntyDataLink!$BF$132","v":3.390625},{"$f":"CntyDataLink!$BG$132","v":0.47576181100249815},null,null,0.13792151746286638,null,0.1052676151761518]
[null,null,"Married-Couple Family Hh",{"$f":"CntyDataLinkPrior10YearEstimate!$X$132","v":719},{"$f":"CntyDataLinkPrior10YearEstimate!$Y$132","v":77},null,{"$f":"CntyDataLinkPrior5YearEstimates!$X$132","v":749},{"$f":"CntyDataLinkPrior5YearEstimates!$Y$132","v":70},null,{"$f":"CntyDataLink!$X$132","v":620},{"$f":"CntyDataLink!$Y$132","v":112},null,null,-0.13769123783031989,null,-0.17222963951935916]
[null,null,"Single-Parent Family Hh",{"$f":"CntyDataLinkPrior10YearEstimate!$Z$132","v":117},{"$f":"CntyDataLinkPrior10YearEstimate!$AA$132","v":53},null,{"$f":"CntyDataLinkPrior5YearEstimates!$Z$132","v":93},{"$f":"CntyDataLinkPrior5YearEstimates!$AA$132","v":48},null,{"$f":"CntyDataLink!$Z$132","v":148},{"$f":"CntyDataLink!$AA$132","v":81},null,null,0.26495726495726496,null,0.59139784946236562]
[null,null,"Non-Family Households",{"$f":"CntyDataLinkPrior10YearEstimate!$AF$132","v":354},{"$f":"CntyDataLinkPrior10YearEstimate!$AG$132","v":90},null,{"$f":"CntyDataLinkPrior5YearEstimates!$AF$132","v":276},{"$f":"CntyDataLinkPrior5YearEstimates!$AG$132","v":77},null,{"$f":"CntyDataLink!$AF$132","v":357},{"$f":"CntyDataLink!$AG$132","v":130},null,null,8.4745762711864406E-3,null,0.29347826086956524]
[null,null,"Persons per Non-Family Hh",{"$f":"CntyDataLinkPrior10YearEstimate!$BH$132","v":1.307909604519774},{"$f":"CntyDataLinkPrior10YearEstimate!$BI$132","v":0.51453608502539383},null,{"$f":"CntyDataLinkPrior5YearEstimates!$BH$132","v":1.3768115942028984},{"$f":"CntyDataLinkPrior5YearEstimates!$BI$132","v":0.5509161646581282},null,{"$f":"CntyDataLink!$BH$132","v":1.2044817927170868},{"$f":"CntyDataLink!$BI$132","v":0.6392088182995167},null,null,-7.9078715719549206E-2,null,-0.12516585581601058]
[]
[]
[null,"As a result of changes in the American Community Survey, direct comparisons between the data should be made with caution."]
[]
[null,{"$f":"\"Source: \"&L20&\", \"&P20&\", and \"&S20&\" American Community Survey Table B11001\"","v":"Source: 2008-2012, 2013-2017, and 2018-2022 American Community Survey Table B11001"}]
[null,"POPULATION CHARACTERISTICS"]

{"sheet":"SchoolEnrolEduAttain","index":4,"n_rows":64,"n_cols":17,"rows_kept":64,"cut":false,"hidden":true,"merged":[[20,15,20,16],[49,15,49,16],[49,8,49,10],[20,5,20,7],[20,11,20,13],[20,8,20,10],[49,5,49,7]]}
[]
[null,null,{"$f":"CntyDataLink!A50","v":"Laconia"}]
[null,null,"SOCIAL CHARACTERISTICS"]
[]
[]
[]
[]
[]
[]
[]
[]
[]
[]
[]
[]
[]
[]
[]
[]
[]
[null,null,"School Enrollment",null,null,"2008-2012",null,null,"2013-2017",null,null,"2018-2022",null,null,null,"Statistically Significant Change"]
[null,null,null,null,null,"Estimate"," Margin of Error","Percent of Population","Estimate"," Margin of Error","Percent of Population","Estimate"," Margin of Error","Percent of Population",null,"2012-2022","2017-2022"]
[null,null,"Population 3 years and over",null,null,{"$f":"CntyDataLinkPrior10YearEstimate!$B$140","v":2823},{"$f":"CntyDataLinkPrior10YearEstimate!$C$140","v":69},null,{"$f":"CntyDataLinkPrior5YearEstimates!$B$140","v":2934},{"$f":"CntyDataLinkPrior5YearEstimates!$C$140","v":33},null,{"$f":"CntyDataLink!$B$140","v":2979},{"$f":"CntyDataLink!$C$140","v":39},null,null,{"$f":"StatisticallySignificantCalcs!$A$45","v":"Y"},{"$f":"StatisticallySignificantCalcs!$J$45","v":"N"}]
[null,null,"Population 3 years & over enrolled in school",null,null,{"$f":"CntyDataLinkPrior10YearEstimate!$D$140","v":493},{"$f":"CntyDataLinkPrior10YearEstimate!$E$140","v":88},{"$f":"F24/$F$23","v":0.17463691108749557},{"$f":"CntyDataLinkPrior5YearEstimates!$D$140","v":641},{"$f":"CntyDataLinkPrior5YearEstimates!$E$140","v":98},{"$f":"I24/$I$23","v":0.21847307430129517},{"$f":"CntyDataLink!$D$140","v":515},{"$f":"CntyDataLink!$E$140","v":116},{"$f":"L24/$L$23","v":0.17287680429674387},null,{"$f":"StatisticallySignificantCalcs!$A$46","v":"N"},{"$f":"StatisticallySignificantCalcs!$J$46","v":"N"}]
[null,null,"Preprimary (Nursery, Preschool, Kindergarten)",null,null,{"$f":"CntyDataLinkPrior10YearEstimate!$F$140","v":84},{"$f":"CntyDataLinkPrior10YearEstimate!$G$140","v":50.931326312987373},2.975557917109458E-2,{"$f":"CntyDataLinkPrior5YearEstimates!$F$140","v":71},{"$f":"CntyDataLinkPrior5YearEstimates!$G$140","v":34.985711369071801},{"$f":"I25/$I$23","v":2.419904567143831E-2},{"$f":"CntyDataLink!$F$140","v":43},{"$f":"CntyDataLink!$G$140","v":43.829214001622255},1.4434373950990266E-2,null,{"$f":"StatisticallySignificantCalcs!$A$47","v":"N"},{"$f":"StatisticallySignificantCalcs!$J$47","v":"N"}]
[null,null,"        Nursery school and Preschool",null,null,{"$f":"CntyDataLinkPrior10YearEstimate!$H$140","v":43},{"$f":"CntyDataLinkPrior10YearEstimate!$I$140","v":35},1.5232022670917464E-2,{"$f":"CntyDataLinkPrior5YearEstimates!$H$140","v":48},{"$f":"CntyDataLinkPrior5YearEstimates!$I$140","v":30},1.6359918200408999E-2,{"$f":"CntyDataLink!$H$140","v":30},{"$f":"CntyDataLink!$I$140","v":39},1.0070493454179255E-2,null,{"$f":"StatisticallySignificantCalcs!$A$48","v":"N"},{"$f":"StatisticallySignificantCalcs!$J$48","v":"N"}]
[null,null,"        Kindergarten",null,null,{"$f":"CntyDataLinkPrior10YearEstimate!$J$140","v":41},{"$f":"CntyDataLinkPrior10YearEstimate!$K$140","v":37},1.4523556500177117E-2,{"$f":"CntyDataLinkPrior5YearEstimates!$J$140","v":23},{"$f":"CntyDataLinkPrior5YearEstimates!$K$140","v":18},7.8391274710293123E-3,{"$f":"CntyDataLink!$J$140","v":13},{"$f":"CntyDataLink!$K$140","v":20},4.3638804968110104E-3,null,{"$f":"StatisticallySignificantCalcs!$A$49","v":"N"},{"$f":"StatisticallySignificantCalcs!$J$49","v":"N"}]
[null,null,"Elementary through High school",null,null,{"$f":"CntyDataLinkPrior10YearEstimate!$P$140","v":291},{"$f":"CntyDataLinkPrior10YearEstimate!$Q$140","v":75.179784516850006},0.10308182784272051,{"$f":"CntyDataLinkPrior5YearEstimates!$P$140","v":454},{"$f":"CntyDataLinkPrior5YearEstimates!$Q$140","v":89.677198885781436},0.15473755964553509,{"$f":"CntyDataLink!$P$140","v":421},{"$f":"CntyDataLink!$Q$140","v":167.41863695538797},0.14132259147364887,null,{"$f":"StatisticallySignificantCalcs!$A$50","v":"N"},{"$f":"StatisticallySignificantCalcs!$J$50","v":"N"}]
[null,null,"        Elementary school (grades 1-8)",null,null,{"$f":"CntyDataLinkPrior10YearEstimate!$L$140","v":184},{"$f":"CntyDataLinkPrior10YearEstimate!$M$140","v":60.959002616512684},6.5178887708111935E-2,{"$f":"CntyDataLinkPrior5YearEstimates!$L$140","v":293},{"$f":"CntyDataLinkPrior5YearEstimates!$M$140","v":73.061617830431317},9.9863667348329924E-2,{"$f":"CntyDataLink!$L$140","v":342},{"$f":"CntyDataLink!$M$140","v":145.96232390586277},0.11480362537764351,null,{"$f":"StatisticallySignificantCalcs!$A$51","v":"N"},{"$f":"StatisticallySignificantCalcs!$J$51","v":"N"}]
[null,null,"        High school (grades 9-12)",null,null,{"$f":"CntyDataLinkPrior10YearEstimate!$N$140","v":107},{"$f":"CntyDataLinkPrior10YearEstimate!$O$140","v":44},3.790294013460857E-2,{"$f":"CntyDataLinkPrior5YearEstimates!$N$140","v":161},{"$f":"CntyDataLinkPrior5YearEstimates!$O$140","v":52},5.4873892297205178E-2,{"$f":"CntyDataLink!$N$140","v":79},{"$f":"CntyDataLink!$O$140","v":82},2.6518966096005372E-2,null,{"$f":"StatisticallySignificantCalcs!$A$52","v":"N"},{"$f":"StatisticallySignificantCalcs!$J$52","v":"N"}]
[null,null,"College or Graduate School",null,null,{"$f":"CntyDataLinkPrior10YearEstimate!$R$140","v":118},{"$f":"CntyDataLinkPrior10YearEstimate!$S$140","v":56.639209034025185},4.179950407368048E-2,{"$f":"CntyDataLinkPrior5YearEstimates!$R$140","v":116},{"$f":"CntyDataLinkPrior5YearEstimates!$S$140","v":49.040799340956916},3.9536468984321747E-2,{"$f":"CntyDataLink!$R$140","v":51},{"$f":"CntyDataLink!$S$140","v":45.705579528105758},1.7119838872104734E-2,null,{"$f":"StatisticallySignificantCalcs!$A$53","v":"N"},{"$f":"StatisticallySignificantCalcs!$J$53","v":"N"}]
[]
[null,null,{"$f":"\"Source: \"&F21&\", \"& I21&\" and \"&L21&\" American Community Survey Table B14001\"","v":"Source: 2008-2012, 2013-2017 and 2018-2022 American Community Survey Table B14001"}]
[]
[]
[]
[]
[]
[]
[]
[]
[]
[]
[]
[]
[]
[]
[]
[]
[null,null,"Educational Attainment",null,null,{"$f":"F21","v":"2008-2012"},null,null,{"$f":"$I$21","v":"2013-2017"},null,null,{"$f":"$L$21","v":"2018-2022"},null,null,null,"Statistically Significant Change"]
[null,null,null,null,null,"Estimate"," Margin of Error","Percent of Population","Estimate"," Margin of Error","Percent of Population","Estimate"," Margin of Error","Percent of Population",null,{"$f":"P22","v":"2012-2022"},{"$f":"Q22","v":"2017-2022"}]
[null,null,"Population 25 years and over",null,null,{"$f":"CntyDataLinkPrior10YearEstimate!$V$140","v":2239},{"$f":"CntyDataLinkPrior10YearEstimate!$W$140","v":88},null,{"$f":"CntyDataLinkPrior5YearEstimates!$V$140","v":2232},{"$f":"CntyDataLinkPrior5YearEstimates!$W$140","v":93},null,{"$f":"CntyDataLink!$V$140","v":2363},{"$f":"CntyDataLink!$W$140","v":135},null,null,{"$f":"StatisticallySignificantCalcs!A54","v":"N"},{"$f":"StatisticallySignificantCalcs!$J$54","v":"N"}]
[null,null,"Less than 9th Grade",null,null,{"$f":"CntyDataLinkPrior10YearEstimate!$X$140","v":55},{"$f":"CntyDataLinkPrior10YearEstimate!$Y$140","v":55.063599591744818},{"$f":"F53/$F$52","v":2.4564537740062529E-2},{"$f":"CntyDataLinkPrior5YearEstimates!$X$140","v":21},{"$f":"CntyDataLinkPrior5YearEstimates!$Y$140","v":27.586228448267445},{"$f":"I53/$I$52","v":9.4086021505376347E-3},{"$f":"CntyDataLink!$X$140","v":10},{"$f":"CntyDataLink!$Y$140","v":32.878564445547191},{"$f":"L53/$L$52","v":4.2319085907744393E-3},null,{"$f":"StatisticallySignificantCalcs!A55","v":"N"},{"$f":"StatisticallySignificantCalcs!$J$55","v":"N"}]
[null,null,"9th to 12th Grade, no Diploma",null,null,{"$f":"CntyDataLinkPrior10YearEstimate!$Z$140","v":106},{"$f":"CntyDataLinkPrior10YearEstimate!$AA$140","v":44.922154890432402},{"$f":"F54/$F$52","v":4.7342563644484144E-2},{"$f":"CntyDataLinkPrior5YearEstimates!$Z$140","v":43},{"$f":"CntyDataLinkPrior5YearEstimates!$AA$140","v":31.701734968294716},1.9265232974910396E-2,{"$f":"CntyDataLink!$Z$140","v":193},{"$f":"CntyDataLink!$AA$140","v":202.12372448577133},8.1675835801946678E-2,null,{"$f":"StatisticallySignificantCalcs!A56","v":"N"},{"$f":"StatisticallySignificantCalcs!$J$56","v":"N"}]
[null,null,"High School Graduate ",null,null,{"$f":"CntyDataLinkPrior10YearEstimate!$AB$140","v":545},{"$f":"CntyDataLinkPrior10YearEstimate!$AC$140","v":102.53292154230269},0.24341223760607414,{"$f":"CntyDataLinkPrior5YearEstimates!$AB$140","v":528},{"$f":"CntyDataLinkPrior5YearEstimates!$AC$140","v":97.580735803743565},0.23655913978494625,{"$f":"CntyDataLink!$AB$140","v":515},{"$f":"CntyDataLink!$AC$140","v":133.40539719216761},0.21794329242488361,null,{"$f":"StatisticallySignificantCalcs!A57","v":"N"},{"$f":"StatisticallySignificantCalcs!$J$57","v":"N"}]
[null,null,"Some College, No Degree",null,null,{"$f":"CntyDataLinkPrior10YearEstimate!$AD$140","v":447},{"$f":"CntyDataLinkPrior10YearEstimate!$AE$140","v":87.298339044909667},0.19964269763287182,{"$f":"CntyDataLinkPrior5YearEstimates!$AD$140","v":444},{"$f":"CntyDataLinkPrior5YearEstimates!$AE$140","v":96.431322712073182},0.19892473118279569,{"$f":"CntyDataLink!$AD$140","v":596},{"$f":"CntyDataLink!$AE$140","v":176.16469566857032},0.25222175201015656,null,{"$f":"StatisticallySignificantCalcs!A58","v":"N"},{"$f":"StatisticallySignificantCalcs!$J$58","v":"N"}]
[null,null,"Associate Degree",null,null,{"$f":"CntyDataLinkPrior10YearEstimate!$AF$140","v":297},{"$f":"CntyDataLinkPrior10YearEstimate!$AG$140","v":85.603738236130781},0.13264850379633766,{"$f":"CntyDataLinkPrior5YearEstimates!$AF$140","v":319},{"$f":"CntyDataLinkPrior5YearEstimates!$AG$140","v":75.690157880665041},0.14292114695340502,{"$f":"CntyDataLink!$AF$140","v":191},{"$f":"CntyDataLink!$AG$140","v":96.046863561492728},8.0829454083791788E-2,null,{"$f":"StatisticallySignificantCalcs!A59","v":"N"},{"$f":"StatisticallySignificantCalcs!$J$59","v":"Y"}]
[null,null,"Bachelor's Degree",null,null,{"$f":"CntyDataLinkPrior10YearEstimate!$AH$140","v":500},{"$f":"CntyDataLinkPrior10YearEstimate!$AI$140","v":95.462034338264544},0.22331397945511389,{"$f":"CntyDataLinkPrior5YearEstimates!$AH$140","v":470},{"$f":"CntyDataLinkPrior5YearEstimates!$AI$140","v":84.64632301523794},0.21057347670250895,{"$f":"CntyDataLink!$AH$140","v":539},{"$f":"CntyDataLink!$AI$140","v":159.55249919697278},0.22809987304274229,null,{"$f":"StatisticallySignificantCalcs!A60","v":"N"},{"$f":"StatisticallySignificantCalcs!$J$60","v":"N"}]
[null,null,"Graduate or Professional Degree",null,null,{"$f":"CntyDataLinkPrior10YearEstimate!$AJ$140","v":170},{"$f":"CntyDataLinkPrior10YearEstimate!$AK$140","v":70.242437315343778},7.5926753014738724E-2,{"$f":"CntyDataLinkPrior5YearEstimates!$AJ$140","v":392},{"$f":"CntyDataLinkPrior5YearEstimates!$AK$140","v":90.31057523900509},0.17562724014336917,{"$f":"CntyDataLink!$AJ$140","v":307},{"$f":"CntyDataLink!$AK$140","v":118.31736981525579},0.12991959373677528,null,{"$f":"StatisticallySignificantCalcs!A61","v":"N"},{"$f":"StatisticallySignificantCalcs!$J$61","v":"N"}]
[]
[null,null,"Percent of High School Graduate or Higher",null,null,null,null,{"$f":"SUM(F55:F59)/F52","v":0.87494417150513626},null,null,{"$f":"SUM(I55:I59)/I52","v":0.96460573476702505},null,null,{"$f":"SUM(L55:L59)/L52","v":0.90901396529834955}]
[null,null,"Percent of Bachelor's Degree or Higher",null,null,null,null,{"$f":"SUM(F58:F59)/F52","v":0.29924073246985261},null,null,{"$f":"SUM(I58:I59)/I52","v":0.38620071684587814},null,null,{"$f":"SUM(L58:L59)/L52","v":0.35801946677951757}]
[]
[null,null,{"$f":"\"Source: \"&F21&\", \"&I21&\" and \"&L21&\" American Community Survey Table B15002\"","v":"Source: 2008-2012, 2013-2017 and 2018-2022 American Community Survey Table B15002"},null,null,null,null,"Data from the American Community Survey are estimates"]

{"sheet":"HousingCharacteristics","index":5,"n_rows":112,"n_cols":16,"rows_kept":112,"cut":false,"hidden":true,"merged":[[85,2,85,4],[29,2,29,4],[29,5,29,7],[29,8,29,10],[68,3,68,5],[68,6,68,8],[68,9,68,11],[29,14,29,15],[68,14,68,15],[85,14,85,15],[85,6,85,8],[85,10,85,12],[29,11,29,12],[68,12,68,13]]}
[]
[null,{"$f":"CntyDataLink!$A35","v":"Laconia"}]
[]
[null,"HOUSING CHARACTERISTICS"]
[]
[]
[]
[]
[]
[]
[]
[]
[]
[]
[]
[]
[]
[]
[]
[]
[]
[]
[]
[]
[]
[]
[null,null,null,{"$f":"\"Source:  \"& \" \"&D69&\", \"&G69&\" and \"&J69& \" American Community Survey Table B25004; B25024; B25032\"","v":"Source:   2008-2012, 2013-2017 and 2018-2022 American Community Survey Table B25004; B25024; B25032"}]
[null,"Units by Tenure & Vacancy"]
[]
[null,null,"2008-2012",null,null,"2013-2017",null,null,"2018-2022",null,null,"Percent Change",null,null,"Statistically Significant Change"]
[null,null,"Estimate","Margin of Error","%","Estimate","Margin of Error","%","Estimate","Margin of Error","%","2012-2022","2017-2022",null,{"$f":"L31","v":"2012-2022"},{"$f":"M31","v":"2017-2022"}]
[null,"Total Units",{"$f":"CntyDataLinkPrior10YearEstimate!$B$108","v":9927},{"$f":"CntyDataLinkPrior5YearEstimates!$C$108","v":324},null,{"$f":"CntyDataLinkPrior5YearEstimates!$B$108","v":9945},{"$f":"CntyDataLinkPrior5YearEstimates!$C$108","v":324},null,{"$f":"CntyDataLink!$B$108","v":10073},{"$f":"CntyDataLink!$C$108","v":360},null,{"$f":"IF(I32=\"-\",\"-\",(I32-C32)/C32)","v":1.4707363755414525E-2},{"$f":"IF(I32=\"-\",\"-\",(I32-F32)/F32)","v":1.2870789341377576E-2},null,{"$f":"StatisticallySignificantCalcs!$A62","v":"N"},{"$f":"StatisticallySignificantCalcs!$J62","v":"N"}]
[null,"Occupied Units",{"$f":"CntyDataLinkPrior10YearEstimate!$D$108","v":7143},{"$f":"CntyDataLinkPrior5YearEstimates!$E$108","v":357},{"$f":"ROUND(C33/C32,2)*100&\"% of Total\"","v":"72% of Total"},{"$f":"CntyDataLinkPrior5YearEstimates!$D$108","v":6740},{"$f":"CntyDataLinkPrior5YearEstimates!$E$108","v":357},{"$f":"ROUND(F33/F32,2)*100&\"% of Total\"","v":"68% of Total"},{"$f":"CntyDataLink!$D$108","v":6965},{"$f":"CntyDataLink!$E$108","v":394},{"$f":"ROUND(I33/I32,2)*100&\"% of Total\"","v":"69% of Total"},{"$f":"IF(I33=\"-\",\"-\",(I33-C33)/C33)","v":-2.4919501609967802E-2},3.3382789317507419E-2,null,{"$f":"StatisticallySignificantCalcs!$A63","v":"N"},{"$f":"StatisticallySignificantCalcs!$J63","v":"N"}]
[null,"Owner Occupied",{"$f":"CntyDataLinkPrior10YearEstimate!$F$108","v":4244},{"$f":"CntyDataLinkPrior5YearEstimates!$G$108","v":271},{"$f":"ROUND(C34/C33,2)*100&\"% of Occ.\"","v":"59% of Occ."},{"$f":"CntyDataLinkPrior5YearEstimates!$F$108","v":3650},{"$f":"CntyDataLinkPrior5YearEstimates!$G$108","v":271},{"$f":"ROUND(F34/F33,2)*100&\"% of Occ.\"","v":"54% of Occ."},{"$f":"CntyDataLink!$F$108","v":4095},{"$f":"CntyDataLink!$G$108","v":367},{"$f":"ROUND(I34/I33,2)*100&\"% of Occ.\"","v":"59% of Occ."},{"$f":"IF(I34=\"-\",\"-\",(I34-C34)/C34)","v":-3.5108388312912346E-2},0.12191780821917808,null,{"$f":"StatisticallySignificantCalcs!$A64","v":"N"},{"$f":"StatisticallySignificantCalcs!$J64","v":"N"}]
[null,"Renter Occupied",{"$f":"CntyDataLinkPrior10YearEstimate!$H$108","v":2899},{"$f":"CntyDataLinkPrior5YearEstimates!$I$108","v":253},{"$f":"ROUND(C35/C33,2)*100&\"% of Occ.\"","v":"41% of Occ."},{"$f":"CntyDataLinkPrior5YearEstimates!$H$108","v":3090},{"$f":"CntyDataLinkPrior5YearEstimates!$I$108","v":253},{"$f":"ROUND(F35/F33,2)*100&\"% of Occ.\"","v":"46% of Occ."},{"$f":"CntyDataLink!$H$108","v":2870},{"$f":"CntyDataLink!$I$108","v":417},{"$f":"ROUND(I35/I33,2)*100&\"% of Occ.\"","v":"41% of Occ."},{"$f":"IF(I35=\"-\",\"-\",(I35-C35)/C35)","v":-1.0003449465332874E-2},-7.1197411003236247E-2,null,{"$f":"StatisticallySignificantCalcs!$A65","v":"N"},{"$f":"StatisticallySignificantCalcs!$J65","v":"N"}]
[null,"Vacant Units",{"$f":"CntyDataLinkPrior10YearEstimate!$J$108","v":2784},{"$f":"CntyDataLinkPrior5YearEstimates!$K$108","v":294},{"$f":"ROUND(C36/C32,2)*100&\"% of Total\"","v":"28% of Total"},{"$f":"CntyDataLinkPrior5YearEstimates!$J$108","v":3205},{"$f":"CntyDataLinkPrior5YearEstimates!$K$108","v":294},{"$f":"ROUND(F36/F32,2)*100&\"% of Total\"","v":"32% of Total"},{"$f":"CntyDataLink!$J$108","v":3108},{"$f":"CntyDataLink!$K$108","v":326},{"$f":"ROUND(I36/I32,2)*100&\"% of Total\"","v":"31% of Total"},{"$f":"IF(I36=\"-\",I36,VALUE((I36-C36)/C36))","v":0.11637931034482758},-3.0265210608424336E-2,null,{"$f":"StatisticallySignificantCalcs!$A66","v":"N"},{"$f":"StatisticallySignificantCalcs!$J66","v":"N"}]
[null,"Vacant For Sale",{"$f":"CntyDataLinkPrior10YearEstimate!$P$108","v":66},{"$f":"CntyDataLinkPrior5YearEstimates!$Q$108","v":103},{"$f":"ROUND(C37/(C$36),3)*100&\"% Vac.\"","v":"2.4% Vac."},{"$f":"CntyDataLinkPrior5YearEstimates!$P$108","v":142},{"$f":"CntyDataLinkPrior5YearEstimates!$Q$108","v":103},{"$f":"ROUND(F37/(F$36),3)*100&\"% Vac.\"","v":"4.4% Vac."},{"$f":"CntyDataLink!$P$108","v":83},{"$f":"CntyDataLink!$Q$108","v":75},{"$f":"ROUND(I37/(I$36),3)*100&\"% Vac.\"","v":"2.7% Vac."},{"$f":"IF(I37=\"-\",I37,VALUE((I37-C37)/C37))","v":0.25757575757575757},-0.41549295774647887,null,{"$f":"StatisticallySignificantCalcs!$A67","v":"N"},{"$f":"StatisticallySignificantCalcs!$J67","v":"N"}]
[null,"Vacant For Rent",{"$f":"CntyDataLinkPrior10YearEstimate!$L$108","v":270},{"$f":"CntyDataLinkPrior5YearEstimates!$M$108","v":99},{"$f":"ROUND(C38/(C$36),3)*100&\"% Vac.\"","v":"9.7% Vac."},{"$f":"CntyDataLinkPrior5YearEstimates!$L$108","v":120},{"$f":"CntyDataLinkPrior5YearEstimates!$M$108","v":99},{"$f":"ROUND(F38/(F$36),3)*100&\"% Vac.\"","v":"3.7% Vac."},{"$f":"CntyDataLink!$L$108","v":115},{"$f":"CntyDataLink!$M$108","v":95},{"$f":"ROUND(I38/(I$36),3)*100&\"% Vac.\"","v":"3.7% Vac."},{"$f":"IF(I38=\"-\",I38,VALUE((I38-C38)/C38))","v":-0.57407407407407407},-4.1666666666666664E-2,null,{"$f":"StatisticallySignificantCalcs!$A68","v":"Y"},{"$f":"StatisticallySignificantCalcs!$J68","v":"N"}]
[null,"Vacant Seasonal",{"$f":"CntyDataLinkPrior10YearEstimate!$T$108","v":2185},{"$f":"CntyDataLinkPrior5YearEstimates!$U$108","v":302},{"$f":"ROUND(C39/(C$36),3)*100&\"% Vac.\"","v":"78.5% Vac."},{"$f":"CntyDataLinkPrior5YearEstimates!$T$108","v":2748},{"$f":"CntyDataLinkPrior5YearEstimates!$U$108","v":302},{"$f":"ROUND(F39/(F$36),3)*100&\"% Vac.\"","v":"85.7% Vac."},{"$f":"CntyDataLink!$T$108","v":2529},{"$f":"CntyDataLink!$U$108","v":326},{"$f":"ROUND(I39/(I$36),3)*100&\"% Vac.\"","v":"81.4% Vac."},{"$f":"IF(I39=\"-\",I39,VALUE((I39-C39)/C39))","v":0.1574370709382151},-7.9694323144104809E-2,null,{"$f":"StatisticallySignificantCalcs!$A69","v":"N"},{"$f":"StatisticallySignificantCalcs!$J69","v":"N"}]
[]
[null,"Data from the American Community Survey are estimates"]
[]
[]
[null,"HOUSING CHARACTERISTICS"]
[]
[]
[]
[]
[]
[]
[]
[]
[]
[]
[]
[]
[]
[]
[]
[]
[]
[]
[]
[]
[null,null,null,{"$f":"\"Source: \"& \" \"&D69&\", \"&G69&\" and \"&J69& \"  American Community Survey Table B25024; B25032\"","v":"Source:  2008-2012, 2013-2017 and 2018-2022  American Community Survey Table B25024; B25032"}]
[]
[null,null,"Units by Type"]
[]
[null,null,null,{"$f":"C30","v":"2008-2012"},null,null,{"$f":"F30","v":"2013-2017"},null,null,{"$f":"I30","v":"2018-2022"},null,null,"Percent Change",null,"Statistically Significant Change"]
[null,null,null,"Estimate","Margin of Error","% of Total","Estimate","Margin of Error","% of Total","Estimate","Margin of Error","% of Total",{"$f":"L31","v":"2012-2022"},{"$f":"M31","v":"2017-2022"},{"$f":"O31","v":"2012-2022"},{"$f":"P31","v":"2017-2022"}]
[null,null,"Total Units",{"$f":"CntyDataLinkPrior10YearEstimate!$B$108","v":9927},{"$f":"CntyDataLinkPrior10YearEstimate!$C$108","v":258},null,{"$f":"CntyDataLinkPrior5YearEstimates!$B$108","v":9945},{"$f":"CntyDataLinkPrior5YearEstimates!$C$108","v":324},null,{"$f":"CntyDataLink!$B$108","v":10073},{"$f":"CntyDataLink!$C$108","v":360},null,null,null,{"$f":"StatisticallySignificantCalcs!$A70","v":"N"},{"$f":"StatisticallySignificantCalcs!$J70","v":"N"}]
[null,null,"Single Family Units",{"$f":"CntyDataLinkPrior10YearEstimate!$AT$108","v":5003},{"$f":"CntyDataLinkPrior10YearEstimate!$AU$108","v":370},{"$f":"IF(D72=\"-\",\"-\",($D$72/$D$71))","v":0.50397904704341689},{"$f":"CntyDataLinkPrior5YearEstimates!$AT$108","v":5197},{"$f":"CntyDataLinkPrior5YearEstimates!$AU$108","v":338},{"$f":"IF(G72=\"-\",\"-\",($G$72/$G$71))","v":0.52257415786827555},{"$f":"CntyDataLink!$AT$108","v":4901},{"$f":"CntyDataLink!$AU$108","v":380},{"$f":"IF(J72=\"-\",\"-\",($J$72/$J$71))","v":0.48654819815347961},{"$f":"IF(J72=\"-\",\"-\",($J72-$D72)/$D72)","v":-2.0387767339596241E-2},{"$f":"IF(J72=\"-\",\"-\",($J72-$G72)/$G72)","v":-5.6955936116990569E-2},{"$f":"StatisticallySignificantCalcs!$A71","v":"N"},{"$f":"StatisticallySignificantCalcs!$J71","v":"N"}]
[null,null,"SF Owner Occ.",{"$f":"CntyDataLinkPrior10YearEstimate!$AF$108","v":3388},{"$f":"CntyDataLinkPrior10YearEstimate!$AG$108","v":283},null,{"$f":"CntyDataLinkPrior5YearEstimates!$AF$108","v":2997},{"$f":"CntyDataLinkPrior5YearEstimates!$AG$108","v":256},null,{"$f":"CntyDataLink!$AF$108","v":3142},{"$f":"CntyDataLink!$AG$108","v":298},null,null,null,{"$f":"StatisticallySignificantCalcs!$A72","v":"N"},{"$f":"StatisticallySignificantCalcs!$J72","v":"N"}]
[null,null,"SF Renter Occ.",{"$f":"CntyDataLinkPrior10YearEstimate!$AN$108","v":414},{"$f":"CntyDataLinkPrior10YearEstimate!$AO$108","v":139},null,{"$f":"CntyDataLinkPrior5YearEstimates!$AN$108","v":507},{"$f":"CntyDataLinkPrior5YearEstimates!$AO$108","v":168},null,{"$f":"CntyDataLink!$AN$108","v":419},{"$f":"CntyDataLink!$AO$108","v":150},null,null,null,{"$f":"StatisticallySignificantCalcs!$A73","v":"N"},{"$f":"StatisticallySignificantCalcs!$J73","v":"N"}]
[null,null,"Multi-family Units",{"$f":"CntyDataLinkPrior10YearEstimate!$AV$108","v":4447},{"$f":"CntyDataLinkPrior10YearEstimate!$AW$108","v":520.13171408788367},{"$f":"IF(D75=\"-\",\"-\",$D$75/$D$71)","v":0.44797018233101643},{"$f":"CntyDataLinkPrior5YearEstimates!$AV$108","v":4381},{"$f":"CntyDataLinkPrior5YearEstimates!$AW$108","v":463.30335634441502},{"$f":"IF(G75=\"-\",\"-\",$G$75/$G$71)","v":0.44052287581699345},{"$f":"CntyDataLink!$AV$108","v":4609},{"$f":"CntyDataLink!$AW$108","v":568.79697608197603},{"$f":"IF(J75=\"-\",\"-\",$J$75/$J$71)","v":0.4575598133624541},{"$f":"IF(J75=\"-\",\"-\",($J75-$D75)/$D75)","v":3.6429053294355744E-2},{"$f":"IF(J75=\"-\",\"-\",($J75-$G75)/$G75)","v":5.2042912577037206E-2},{"$f":"StatisticallySignificantCalcs!$A74","v":"N"},{"$f":"StatisticallySignificantCalcs!$J74","v":"N"}]
[null,null,"MF Owner Occ.",{"$f":"CntyDataLinkPrior10YearEstimate!$AH$108","v":675},{"$f":"CntyDataLinkPrior10YearEstimate!$AI$108","v":198.33305322109072},null,{"$f":"CntyDataLinkPrior5YearEstimates!$AH$108","v":505},{"$f":"CntyDataLinkPrior5YearEstimates!$AI$108","v":129.86916493148019},null,{"$f":"CntyDataLink!$AH$108","v":762},{"$f":"CntyDataLink!$AI$108","v":229.42536912904816},null,null,null,{"$f":"StatisticallySignificantCalcs!$A75","v":"N"},{"$f":"StatisticallySignificantCalcs!$J75","v":"N"}]
[null,null,"MF Renter Occ.",{"$f":"CntyDataLinkPrior10YearEstimate!$AP$108","v":2474},{"$f":"CntyDataLinkPrior10YearEstimate!$AQ$108","v":378.80865882395034},null,{"$f":"CntyDataLinkPrior5YearEstimates!$AP$108","v":2565},{"$f":"CntyDataLinkPrior5YearEstimates!$AQ$108","v":342.98250684255021},null,{"$f":"CntyDataLink!$AP$108","v":2426},{"$f":"CntyDataLink!$AQ$108","v":422.72449656957428},null,null,null,{"$f":"StatisticallySignificantCalcs!$A76","v":"N"},{"$f":"StatisticallySignificantCalcs!$J76","v":"N"}]
[null,null,"Mobile Home & Other",{"$f":"CntyDataLinkPrior10YearEstimate!$AX$108","v":477},{"$f":"CntyDataLinkPrior10YearEstimate!$AY$108","v":168.96153408394468},{"$f":"IF(D78=\"-\",\"-\",($D$78/$D$71))","v":4.805077062556664E-2},{"$f":"CntyDataLinkPrior5YearEstimates!$AX$108","v":367},{"$f":"CntyDataLinkPrior5YearEstimates!$AY$108","v":131.10682667199293},{"$f":"IF(G78=\"-\",\"-\",($G$78/$G$71))","v":3.6902966314731021E-2},{"$f":"CntyDataLink!$AX$108","v":563},{"$f":"CntyDataLink!$AY$108","v":181.99450541156455},{"$f":"IF(J78=\"-\",\"-\",($J$78/$J$71))","v":5.5891988484066318E-2},{"$f":"IF(J78=\"-\",\"-\",($J78-$D78)/$D78)","v":0.18029350104821804},{"$f":"IF(J78=\"-\",\"-\",($J78-$G78)/$G78)","v":0.5340599455040872},{"$f":"StatisticallySignificantCalcs!$A77","v":"N"},{"$f":"StatisticallySignificantCalcs!$J77","v":"N"}]
[]
[null,"Data from the American Community Survey are estimates"]
[]
[]
[null,"Units by Number of Bedrooms "]
[null,null,null,{"$f":"\"Source: \"& \" \"&D69&\", \"&G69&\" and \"&J69& \" American Community Survey Table B25041\"","v":"Source:  2008-2012, 2013-2017 and 2018-2022 American Community Survey Table B25041"}]
[]
[null,null,{"$f":"C30","v":"2008-2012"},null,null,null,{"$f":"F30","v":"2013-2017"},null,null,null,{"$f":"I30","v":"2018-2022"},null,null,null,"Statistically Significant Change"]
[null,"Bedrooms","Estimate","Margin of Error","% of Total",null,"Estimate","Margin of Error","% of Total",null,"Estimate","Margin of Error","% of Total",null,{"$f":"O31","v":"2012-2022"},{"$f":"P31","v":"2017-2022"}]
[null,"No Bedrooms",{"$f":"CntyDataLinkPrior10YearEstimate!$BR$108","v":178},{"$f":"CntyDataLinkPrior10YearEstimate!$BS$108","v":98},{"$f":"C88/SUM($C$88:$C$92)","v":1.8170681910984074E-2},null,{"$f":"CntyDataLinkPrior5YearEstimates!$BR$108","v":172},{"$f":"CntyDataLinkPrior5YearEstimates!$BS$108","v":88},{"$f":"G88/SUM($G$88:$G$92)","v":1.7326483328296564E-2},null,{"$f":"CntyDataLink!$BT$108","v":295},{"$f":"CntyDataLink!$BU$108","v":136},{"$f":"K88/SUM($K$88:$K$92)","v":2.9576899939843592E-2},null,{"$f":"StatisticallySignificantCalcs!$A78","v":"Y"},{"$f":"StatisticallySignificantCalcs!$J78","v":"N"}]
[null,"1 Bedroom",{"$f":"CntyDataLinkPrior10YearEstimate!$BT$108","v":1341},{"$f":"CntyDataLinkPrior10YearEstimate!$BU$108","v":217},{"$f":"C89/SUM($C$88:$C$92)","v":0.13689260922825644},null,{"$f":"CntyDataLinkPrior5YearEstimates!$BT$108","v":1539},{"$f":"CntyDataLinkPrior5YearEstimates!$BU$108","v":276},{"$f":"G89/SUM($G$88:$G$92)","v":0.15503173164097914},null,{"$f":"CntyDataLink!$BV$108","v":1510},{"$f":"CntyDataLink!$BW$108","v":291},{"$f":"K89/SUM($K$88:$K$92)","v":0.15139362342089432},null,{"$f":"StatisticallySignificantCalcs!$A79","v":"Y"},{"$f":"StatisticallySignificantCalcs!$J79","v":"N"}]
[null,"2 Bedrooms",{"$f":"CntyDataLinkPrior10YearEstimate!$BV$108","v":3646},{"$f":"CntyDataLinkPrior10YearEstimate!$BW$108","v":409},{"$f":"C90/SUM($C$88:$C$92)","v":0.3721927317272356},null,{"$f":"CntyDataLinkPrior5YearEstimates!$BV$108","v":3715},{"$f":"CntyDataLinkPrior5YearEstimates!$BW$108","v":343},{"$f":"G90/SUM($G$88:$G$92)","v":0.37423189281756825},null,{"$f":"CntyDataLink!$BX$108","v":3767},{"$f":"CntyDataLink!$BY$108","v":398},{"$f":"K90/SUM($K$88:$K$92)","v":0.37768197313013835},null,{"$f":"StatisticallySignificantCalcs!$A80","v":"Y"},{"$f":"StatisticallySignificantCalcs!$J80","v":"N"}]
[null,"3 Bedrooms",{"$f":"CntyDataLinkPrior10YearEstimate!$BX$108","v":3227},{"$f":"CntyDataLinkPrior10YearEstimate!$BY$108","v":313},{"$f":"C91/SUM($C$88:$C$92)","v":0.32942017149857084},null,{"$f":"CntyDataLinkPrior5YearEstimates!$BX$108","v":3221},{"$f":"CntyDataLinkPrior5YearEstimates!$BY$108","v":336},{"$f":"G91/SUM($G$88:$G$92)","v":0.32446862093280948},null,{"$f":"CntyDataLink!$BZ$108","v":3104},{"$f":"CntyDataLink!$CA$108","v":311},{"$f":"K91/SUM($K$88:$K$92)","v":0.31120914377381192},null,{"$f":"StatisticallySignificantCalcs!$A81","v":"Y"},{"$f":"StatisticallySignificantCalcs!$J81","v":"N"}]
[null,"4+ Bedrooms",{"$f":"CntyDataLinkPrior10YearEstimate!$BZ$108","v":1404},{"$f":"CntyDataLinkPrior10YearEstimate!$CA$108","v":237.87601812709073},{"$f":"C92/SUM($C$88:$C$92)","v":0.14332380563495303},null,{"$f":"CntyDataLinkPrior5YearEstimates!$BZ$108","v":1280},{"$f":"CntyDataLinkPrior5YearEstimates!$CA$108","v":242.03305559365234},{"$f":"G92/SUM($G$88:$G$92)","v":0.12894127128034652},null,{"$f":"CntyDataLink!$CB$108","v":1298},{"$f":"CntyDataLink!$CC$108","v":248.65437860612872},{"$f":"K92/SUM($K$88:$K$92)","v":0.13013835973531182},null,{"$f":"StatisticallySignificantCalcs!$A82","v":"Y"},{"$f":"StatisticallySignificantCalcs!$J82","v":"N"}]
[]
[]
[null,"Data from the American Community Survey are estimates"]
[]
[null,"Units by Year Built   "]
[null,{"$f":"\"Source: \"&K86& \" American Community Survey Table B25034\"","v":"Source: 2018-2022 American Community Survey Table B25034"}]
[]
[null,null,null,"Year Built",null,null,"Units  ",null,"% of Total",null,"Margin of Error"]
[null,null,null,null,null,"2014 or later",{"$f":"CntyDataLink!$AZ$108","v":31},null,{"$f":"G101/SUM($G$101:$G$110)","v":3.0775340017869554E-3},null,{"$f":"CntyDataLink!$BA$108","v":50}]
[null,null,null,null,null,"2010 through 2013",{"$f":"CntyDataLink!$BB$108","v":560},null,5.5594162612925643E-2,null,{"$f":"CntyDataLink!$BC$108","v":169}]
[null,null,null,null,null,"2000 through 2009",{"$f":"CntyDataLink!$BD$108","v":1238},null,0.12290280949071776,null,{"$f":"CntyDataLink!$BE$108","v":216}]
[null,null,null,null,null,"1990 through 1999",{"$f":"CntyDataLink!$BF$108","v":617},null,6.1252854164598435E-2,null,{"$f":"CntyDataLink!$BG$108","v":197}]
[null,null,null,null,null,"1980 through 1989",{"$f":"CntyDataLink!$BH$108","v":1746},null,0.17333465700387174,null,{"$f":"CntyDataLink!$BI$108","v":374}]
[null,null,null,null,null,"1970 through 1979",{"$f":"CntyDataLink!$BJ$108","v":1102},null,0.10940136999900725,null,{"$f":"CntyDataLink!$BK$108","v":262}]
[null,null,null,null,null,"1960 through 1969",{"$f":"CntyDataLink!$BL$108","v":643},null,6.3834011714484259E-2,null,{"$f":"CntyDataLink!$BM$108","v":218}]
[null,null,null,null,null,"1950 through 1959",{"$f":"CntyDataLink!$BN$108","v":817},null,8.1107912240643301E-2,null,{"$f":"CntyDataLink!$BO$108","v":228}]
[null,null,null,null,null,"1940 through 1949",{"$f":"CntyDataLink!$BP$108","v":583},null,5.78774942916708E-2,null,{"$f":"CntyDataLink!$BQ$108","v":213}]
[null,null,null,null,null,"1939 and earlier",{"$f":"CntyDataLink!$BR$108","v":2736},null,0.27161719448029387,null,{"$f":"CntyDataLink!$BS$108","v":327}]
[]
[null,"Data from the American Community Survey are estimates"]

{"sheet":"BuildingPermitsSince2000","index":6,"n_rows":41,"n_cols":25,"rows_kept":41,"cut":false,"hidden":true,"merged":[[3,1,3,3]]}
[]
[null,{"$f":"CntyDataLink!A35","v":"Laconia"}]
[]
[null,"HOUSING CHARACTERISTICS"]
[]
[]
[]
[]
[]
[]
[]
[]
[]
[]
[]
[]
[]
[]
[]
[]
[]
[]
[]
[]
[]
[]
[]
[]
[]
[]
[]
[]
[]
[]
[null,"Housing Units Authorized by Permit",null,null,null,"Source: Office of Planning and Development, NH BEA"]
[]
[null,"Year",2000,{"$f":"C37+1","v":2001},{"$f":"D37+1","v":2002},2003,2004,2005,2006,2007,2008,2009,2010,2011,2012,2013,2014,2015,2016,2017,2018,2019,2020,2021,"Total"]
[null,"Single Family",{"$f":"CntyDataLink!$BU$20","v":47},{"$f":"CntyDataLink!$BX$20","v":60},{"$f":"CntyDataLink!$CA$20","v":72},{"$f":"CntyDataLink!$CD$20","v":139},{"$f":"CntyDataLink!$CG$20","v":166},{"$f":"CntyDataLink!$CJ$20","v":36},{"$f":"CntyDataLink!$CM$20","v":57},{"$f":"CntyDataLink!$CO$20","v":0},{"$f":"CntyDataLink!$CS$20","v":30},{"$f":"CntyDataLink!$CV$20","v":32},{"$f":"CntyDataLink!$CY$20","v":54},{"$f":"CntyDataLink!$DB$20","v":36},{"$f":"CntyDataLink!$DE$20","v":27},{"$f":"CntyDataLink!$DH$20","v":1},{"$f":"CntyDataLink!$DK$20","v":34},{"$f":"CntyDataLink!$DN$20","v":32},{"$f":"CntyDataLink!$DQ$20","v":26},{"$f":"CntyDataLink!$DT$20","v":18},{"$f":"CntyDataLink!$DW$20","v":14},{"$f":"CntyDataLink!$DZ$20","v":12},{"$f":"CntyDataLink!$EC$20","v":44},{"$f":"CntyDataLink!$EI$20","v":26},{"$f":"SUM(C38:W38)","v":937}]
[null,"Multi-family",{"$f":"CntyDataLink!$BV$20","v":8},{"$f":"CntyDataLink!$BY$20","v":4},{"$f":"CntyDataLink!$CB$20","v":10},{"$f":"CntyDataLink!$CE$20","v":0},{"$f":"CntyDataLink!$CH$20","v":0},{"$f":"CntyDataLink!$CK$20","v":72},{"$f":"CntyDataLink!$CN$20","v":80},{"$f":"CntyDataLink!$CP$20","v":51},{"$f":"CntyDataLink!$CT$20","v":47},{"$f":"CntyDataLink!$CW$20","v":-3},{"$f":"CntyDataLink!$CZ$20","v":-4},{"$f":"CntyDataLink!$DC$20","v":10},{"$f":"CntyDataLink!$DF$20","v":4},{"$f":"CntyDataLink!$DI$20","v":50},{"$f":"CntyDataLink!$DL$20","v":64},{"$f":"CntyDataLink!$DO$20","v":138},{"$f":"CntyDataLink!$DR$20","v":10},{"$f":"CntyDataLink!$DU$20","v":5},{"$f":"CntyDataLink!$DX$20","v":9},{"$f":"CntyDataLink!$EA$20","v":4},{"$f":"CntyDataLink!$ED$20","v":24},{"$f":"CntyDataLink!$EJ$20","v":55},{"$f":"SUM(C39:W39)","v":583}]
[null,"Manufactured",{"$f":"CntyDataLink!$BW$20","v":26},{"$f":"CntyDataLink!$BZ$20","v":1},{"$f":"CntyDataLink!$CC$20","v":0},{"$f":"CntyDataLink!$CF$20","v":1},{"$f":"CntyDataLink!$CI$20","v":0},{"$f":"CntyDataLink!$CL$20","v":0},{"$f":"CntyDataLink!$CO$20","v":0},{"$f":"CntyDataLink!$CR$20","v":0},{"$f":"CntyDataLink!$CU$20","v":0},{"$f":"CntyDataLink!$CX$20","v":0},{"$f":"CntyDataLink!$DA$20","v":0},{"$f":"CntyDataLink!$DD$20","v":0},{"$f":"CntyDataLink!$DG$20","v":0},{"$f":"CntyDataLink!$DJ$20","v":0},{"$f":"CntyDataLink!$DM$20","v":0},{"$f":"CntyDataLink!$DP$20","v":0},{"$f":"CntyDataLink!$DR$20","v":10},{"$f":"CntyDataLink!$DV$20","v":3},{"$f":"CntyDataLink!$DY$20","v":1},{"$f":"CntyDataLink!$EB$20","v":0},{"$f":"CntyDataLink!$EE$20","v":19},{"$f":"CntyDataLink!$EK$20","v":0},{"$f":"SUM(C40:W40)","v":61}]
[null,"Total",{"$f":"SUM(C38:C40)","v":81},{"$f":"SUM(D38:D40)","v":65},82,140,166,108,137,51,77,29,50,46,31,51,98,170,46,26,{"$f":"SUM(U38:U40)","v":24},{"$f":"SUM(V38:V40)","v":16},{"$f":"SUM(W38:W40)","v":87},{"$f":"SUM(X38:X40)","v":81},{"$f":"SUM(C41:W41)","v":1581}]

{"sheet":"EmpVsHUxCounty","index":7,"n_rows":124,"n_cols":14,"rows_kept":124,"cut":false,"hidden":true,"merged":[[64,0,64,11],[79,0,80,9]]}
[]
[{"$f":"A45","v":"Laconia"}]
[]
[]
[]
[]
[]
[]
[]
[]
[]
[]
[]
[]
[]
[]
[]
[]
[]
[]
[]
[]
[]
[]
[]
[]
[]
[]
[]
[]
[]
[]
[]
[]
[]
[]
[]
[]
[]
[]
[]
[]
[]
["Housing Units "]
[{"$f":"CntyDataLink!A20","v":"Laconia"}]
[null,null,null,"Source:  Office of Planning and Development, NH BEA"]
["Units Authorized By Permit",2010,{"$f":"B47+1","v":2011},{"$f":"C47+1","v":2012},2013,2014,2015,2016,2017,2018,2019,2020,2021]
["Single Family",{"$f":"CntyDataLink!$CY$20","v":54},{"$f":"CntyDataLink!$DB$20","v":36},{"$f":"CntyDataLink!$DE$20","v":27},{"$f":"CntyDataLink!$DH$20","v":1},{"$f":"CntyDataLink!$DK$20","v":34},{"$f":"CntyDataLink!$DN$20","v":32},{"$f":"CntyDataLink!$DQ$20","v":26},{"$f":"CntyDataLink!$DT$20","v":18},{"$f":"CntyDataLink!$DW$20","v":14},{"$f":"CntyDataLink!$DZ$20","v":12},{"$f":"CntyDataLink!$EC$20","v":44},{"$f":"CntyDataLink!$EI$20","v":26}]
["Multi-family",{"$f":"CntyDataLink!$CZ$20","v":-4},{"$f":"CntyDataLink!$DC$20","v":10},{"$f":"CntyDataLink!$DF$20","v":4},{"$f":"CntyDataLink!$DI$20","v":50},{"$f":"CntyDataLink!$DL$20","v":64},{"$f":"CntyDataLink!$DO$20","v":138},{"$f":"CntyDataLink!$DR$20","v":10},{"$f":"CntyDataLink!$DU$20","v":5},{"$f":"CntyDataLink!$DX$20","v":9},{"$f":"CntyDataLink!$EA$20","v":4},{"$f":"CntyDataLink!$ED$20","v":24},{"$f":"CntyDataLink!$EJ$20","v":55}]
["Manufactured",{"$f":"CntyDataLink!$DA$20","v":0},{"$f":"CntyDataLink!$DD$20","v":0},{"$f":"CntyDataLink!$DG$20","v":0},{"$f":"CntyDataLink!$DJ$20","v":0},{"$f":"CntyDataLink!$DM$20","v":0},{"$f":"CntyDataLink!$DP$20","v":0},{"$f":"CntyDataLink!$DR$20","v":10},{"$f":"CntyDataLink!$DV$20","v":3},{"$f":"CntyDataLink!$DY$20","v":1},{"$f":"CntyDataLink!$EB$20","v":0},{"$f":"CntyDataLink!$EE$20","v":19},{"$f":"CntyDataLink!$EK$20","v":0}]
["Total",{"$f":"SUM(B48:B50)","v":50},46,31,51,98,170,46,26,{"$f":"SUM(J48:J50)","v":24},{"$f":"SUM(K48:K50)","v":16},{"$f":"SUM(L48:L50)","v":87},{"$f":"SUM(M48:M50)","v":81}]
[]
["Total Housing Units","2010 Census",2011,{"$f":"C53+1","v":2012},2013,2014,2015,2016,2017,2018,2019,2020,2021,2022]
["Single Family",{"$f":"CntyDataLink!$BA$167","v":4979},{"$f":"B48+B54","v":5033},{"$f":"C48+C54","v":5069},5096,5097,5131,5163,5189,5207,5221,{"$f":"K54+K48","v":5233},5277,{"$f":"M54+M48","v":5303}]
["Multi Family",{"$f":"CntyDataLink!$BB$167","v":4425},{"$f":"B49+B55","v":4421},4431,4435,4485,4549,4687,4697,4702,4711,4715,4739,{"$f":"M55+M49","v":4794}]
[{"$f":"A50","v":"Manufactured"},{"$f":"CntyDataLink!$BC$167","v":475},{"$f":"B50+B56","v":475},475,475,475,475,475,485,488,489,489,508,{"$f":"M56+M50","v":508}]
["Total",{"$f":"SUM(B54:B56)","v":9879},9929,9975,10006,10057,10155,10325,10371,10397,10421,10437,10524,{"$f":"SUM(N54:N56)","v":10605}]
[]
["Percent Change","2000-2010 Census"," 10-11"," 11-12","12-13","13-14","14-15","15-16","16-17","17-18","18-19","19-20","20-21","21-22"]
["Single Family",{"$f":"(B54-CntyDataLink!CF$65)/CntyDataLink!CF$65","v":0.17901965427421265},{"$f":"(C54-B54)/B54","v":1.0845551315525205E-2},7.1527915756010333E-3,5.3264943775892682E-3,1.9623233908948196E-4,6.6705905434569354E-3,6.2366010524264274E-3,5.0358318806895215E-3,3.4688764694546155E-3,2.6886883042058769E-3,2.2984102662325224E-3,8.4081788648958534E-3,{"$f":"(N54-M54)/M54","v":4.9270418798559789E-3}]
["Multi Family",{"$f":"(B55-SUM(CntyDataLink!CG65:CM65))/SUM(CntyDataLink!CG65:CM65)","v":8.085002442598925E-2},{"$f":"(C55-B55)/B55","v":-9.0395480225988699E-4},2.2619316896629721E-3,9.0273076055066577E-4,1.1273957158962795E-2,1.4269788182831662E-2,3.033633765662783E-2,2.1335609131640709E-3,1.0645092612305727E-3,1.9140791152700979E-3,8.4907662916578223E-4,5.0901378579003183E-3,1.1605824013504958E-2]
[{"$f":"A50","v":"Manufactured"},{"$f":"(B56-SUM(CntyDataLink!CN65))/(CntyDataLink!CN65)","v":1.0042194092827004},{"$f":"(C56-B56)/B56","v":0},0,0,0,0,0,2.1052631578947368E-2,6.1855670103092781E-3,2.0491803278688526E-3,0,3.8854805725971372E-2,0]
["Total",{"$f":"(B57-CntyDataLink!$CE65)/CntyDataLink!$CE65","v":0.15489829319616555},{"$f":"(C57-B57)/B57","v":5.0612410162971964E-3},4.6328935441635613E-3,3.1077694235588974E-3,5.0969418348990603E-3,9.7444565973948492E-3,1.674052191038897E-2,4.4552058111380147E-3,2.5069906469964323E-3,2.3083581802443012E-3,1.5353612897034833E-3,8.335728657660248E-3,7.6966932725199546E-3]
[]
[]
[]
[]
["Private Employment"]
[{"$f":"CntyDataLink!A25","v":"Laconia"}]
[null,null,2011,{"$f":"C70+1","v":2012},{"$f":"D70+1","v":2013},{"$f":"E70+1","v":2014},{"$f":"F70+1","v":2015},{"$f":"G70+1","v":2016},{"$f":"H70+1","v":2017},{"$f":"I70+1","v":2018},{"$f":"J70+1","v":2019},{"$f":"K70+1","v":2020},{"$f":"L70+1","v":2021},{"$f":"M70+1","v":2022}]
["Goods Producing",null,61,185,148,161,149,144,165,164,155,150,180,205]
["Service Providing",null,641,3699,3706,3602,3575,3698,3767,3827,3852,3472,3734,3779]
["Total Private Emp",null,702,3885,3854,3763,3724,3842,3933,3991,4008,3622,3914,3983]
[]
["Percent Change",null,null,"10-11","11-12","12-13","13-14","14-15","15-16","16-17","17-18","18-19","19-20","20-21"]
["Goods Producing",null,null,-0.21794871794871795,-0.26229508196721313,0.35555555555555557,-0.24590163934426229,0.19565217391304349,-1.8181818181818181E-2,9.2592592592592587E-2,0.1864406779661017,5.7142857142857141E-2,0.21621621621621623,0.2]
["Service Providing",null,null,5.0819672131147541E-2,-2.1840873634945399E-2,8.771929824561403E-2,5.4252199413489736E-2,-6.954102920723227E-3,0,2.3809523809523808E-2,2.5991792065663474E-2,0.04,-7.4358974358974358E-2,8.0332409972299165E-2]
["Total Private Emp",null,null,2.0348837209302327E-2,-4.2735042735042736E-2,0.1056547619047619,2.826379542395693E-2,6.5445026178010471E-3,-1.3003901170351106E-3,2.734375E-2,4.0557667934093787E-2,4.1412911084043852E-2,-5.0292397660818715E-2,9.2364532019704432E-2]
[]
[]
[]
["Source: New Hampshire Department of Employment Security"]
[]
[{"$f":"A2","v":"Laconia"}]
[]
[]
[]
[]
[]
[]
[]
[]
[]
[]
[]
[]
[]
[]
[]
[]
[]
[]
[]
[]
[]
[]
[]
[]
[]
[]
[]
[]
[]
[]
[]
[]
[]
[]
[]
[null,null,2012,{"$f":"C120+1","v":2013},2014,2015,2016,2017,2018,2019,2020,2021,2022]
["Total Housing Units",null,{"$f":"D$57","v":9975},10006,10057,10155,10325,10371,10397,10421,10437,10524,{"$f":"N$57","v":10605}]
["Private & Government Emp.",null,{"$f":"VALUE(CntyDataLink!$CM$25)","v":9542},{"$f":"VALUE(CntyDataLink!$CU$25)","v":9506},{"$f":"VALUE(CntyDataLink!$DC$25)","v":9327},{"$f":"VALUE(CntyDataLink!$DK$25)","v":9378},{"$f":"VALUE(CntyDataLink!$DS$25)","v":9226},{"$f":"VALUE(CntyDataLink!$EA$25)","v":9253},{"$f":"VALUE(CntyDataLink!$EI$25)","v":9224},{"$f":"VALUE(CntyDataLink!$EQ$25)","v":9270},{"$f":"VALUE(CntyDataLink!$FA$25)","v":8597},{"$f":"VALUE(CntyDataLink!$FK$25)","v":8472},{"$f":"VALUE(CntyDataLink!$FU$25)","v":8615}]
[]
["Source: New Hampshire Department of Employment Security and  Office of Planning and Development, NH BEA"]

{"sheet":"HHIncome-10YearComparison","index":8,"n_rows":50,"n_cols":17,"rows_kept":50,"cut":false,"hidden":true,"merged":[[27,15,27,16],[27,11,27,13],[3,1,3,3],[26,1,26,4],[28,1,28,2],[27,4,27,7],[27,8,27,10]]}
[]
[null,{"$f":"CntyDataLink!A35","v":"Laconia"}]
[]
[null,"INCOME CHARACTERISTICS"]
[]
[]
[]
[]
[]
[]
[]
[]
[]
[]
[]
[]
[]
[]
[]
[]
[]
[]
[]
[]
[]
[]
[null,"Households By Household Income"]
[null,null,null,null,"2008-2012",null,null,null,"2013-2017",null,null,"2018-2022",null,null,null,"Statistically Significant Change"]
[null,"Household Income",null,null,"Estimate","Margin of Error",null,null,"Estimate"," Margin of Error",null,"Estimate"," Margin of Error",null,null,"2012-2022","2017-2022"]
[null,"Less than $10,000",null,null,{"$f":"CntyDataLinkPrior10YearEstimate!$B$120","v":536},{"$f":"CntyDataLinkPrior10YearEstimate!$C$120","v":177},{"$f":"E30/SUM($E$30:$E$39)","v":7.5038499230015404E-2},null,{"$f":"CntyDataLinkPrior5YearEstimates!$B$120","v":536},{"$f":"CntyDataLinkPrior5YearEstimates!$C$120","v":177},{"$f":"I30/SUM($I$30:$I$39)","v":7.5038499230015404E-2},{"$f":"CntyDataLink!$B$120","v":272},{"$f":"CntyDataLink!$C$120","v":171},{"$f":"L30/SUM($L$30:$L$39)","v":3.9052404881550609E-2},null,{"$f":"StatisticallySignificantCalcs!$A$83","v":"Y"},{"$f":"StatisticallySignificantCalcs!$J$83","v":"N"}]
[null,"$10,000 to $14,999",null,null,{"$f":"CntyDataLinkPrior10YearEstimate!$D$120","v":441},{"$f":"CntyDataLinkPrior10YearEstimate!$E$120","v":120},{"$f":"E31/SUM($E$30:$E$39)","v":6.1738765224695506E-2},null,{"$f":"CntyDataLinkPrior5YearEstimates!$D$120","v":441},{"$f":"CntyDataLinkPrior5YearEstimates!$E$120","v":120},{"$f":"I31/SUM($I$30:$I$39)","v":6.1738765224695506E-2},{"$f":"CntyDataLink!$D$120","v":318},{"$f":"CntyDataLink!$E$120","v":164},{"$f":"L31/SUM($L$30:$L$39)","v":4.5656855707106966E-2},null,{"$f":"StatisticallySignificantCalcs!$A$84","v":"N"},{"$f":"StatisticallySignificantCalcs!$J$84","v":"N"}]
[null,"$15,000 to $24,999",null,null,{"$f":"CntyDataLinkPrior10YearEstimate!$F$120","v":801},{"$f":"CntyDataLinkPrior10YearEstimate!$G$120","v":188.43035848822237},0.1121377572448551,null,{"$f":"CntyDataLinkPrior5YearEstimates!$F$120","v":801},{"$f":"CntyDataLinkPrior5YearEstimates!$G$120","v":188.43035848822237},0.1121377572448551,{"$f":"CntyDataLink!$F$120","v":504},{"$f":"CntyDataLink!$G$120","v":159.20113064925135},7.2361809045226128E-2,null,{"$f":"StatisticallySignificantCalcs!$A$85","v":"Y"},{"$f":"StatisticallySignificantCalcs!$J$85","v":"N"}]
[null,"$25,000 to $34,999",null,null,{"$f":"CntyDataLinkPrior10YearEstimate!$H$120","v":738},{"$f":"CntyDataLinkPrior10YearEstimate!$I$120","v":187.5446613476374},0.10331793364132717,null,{"$f":"CntyDataLinkPrior5YearEstimates!$H$120","v":738},{"$f":"CntyDataLinkPrior5YearEstimates!$I$120","v":187.5446613476374},0.10331793364132717,{"$f":"CntyDataLink!$H$120","v":762},{"$f":"CntyDataLink!$I$120","v":239.03974564912841},0.10940416367552046,null,{"$f":"StatisticallySignificantCalcs!$A$86","v":"N"},{"$f":"StatisticallySignificantCalcs!$J$86","v":"N"}]
[null,"$35,000 to $49,999",null,null,{"$f":"CntyDataLinkPrior10YearEstimate!$J$120","v":1300},{"$f":"CntyDataLinkPrior10YearEstimate!$K$120","v":260.03269025259112},0.18199636007279854,null,{"$f":"CntyDataLinkPrior5YearEstimates!$J$120","v":1300},{"$f":"CntyDataLinkPrior5YearEstimates!$K$120","v":260.03269025259112},0.18199636007279854,{"$f":"CntyDataLink!$J$120","v":722},{"$f":"CntyDataLink!$K$120","v":256.13668226163935},0.10366116295764537,null,{"$f":"StatisticallySignificantCalcs!$A$87","v":"Y"},{"$f":"StatisticallySignificantCalcs!$J$87","v":"N"}]
[null,"$50,000 to $74,999",null,null,{"$f":"CntyDataLinkPrior10YearEstimate!$L$120","v":1226},{"$f":"CntyDataLinkPrior10YearEstimate!$M$120","v":234.3608329051593},0.17163656726865462,null,{"$f":"CntyDataLinkPrior5YearEstimates!$L$120","v":1226},{"$f":"CntyDataLinkPrior5YearEstimates!$M$120","v":234.3608329051593},0.17163656726865462,{"$f":"CntyDataLink!$L$120","v":1248},{"$f":"CntyDataLink!$M$120","v":294.42995771490371},0.1791816223977028,null,{"$f":"StatisticallySignificantCalcs!$A$88","v":"N"},{"$f":"StatisticallySignificantCalcs!$J$88","v":"N"}]
[null,"$75,000 to $99,999",null,null,{"$f":"CntyDataLinkPrior10YearEstimate!$N$120","v":624},{"$f":"CntyDataLinkPrior10YearEstimate!$O$120","v":165},8.7358252834943306E-2,null,{"$f":"CntyDataLinkPrior5YearEstimates!$N$120","v":624},{"$f":"CntyDataLinkPrior5YearEstimates!$O$120","v":165},8.7358252834943306E-2,{"$f":"CntyDataLink!$N$120","v":1082},{"$f":"CntyDataLink!$O$120","v":228},0.15534816941852117,null,{"$f":"StatisticallySignificantCalcs!$A$89","v":"Y"},{"$f":"StatisticallySignificantCalcs!$J$89","v":"N"}]
[null,"$100,000 to $149,999",null,null,{"$f":"CntyDataLinkPrior10YearEstimate!$P$120","v":1007},{"$f":"CntyDataLinkPrior10YearEstimate!$Q$120","v":206.81392603013947},0.14097718045639088,null,{"$f":"CntyDataLinkPrior5YearEstimates!$P$120","v":1007},{"$f":"CntyDataLinkPrior5YearEstimates!$Q$120","v":206.81392603013947},0.14097718045639088,{"$f":"CntyDataLink!$P$120","v":1188},{"$f":"CntyDataLink!$Q$120","v":241.83465425782137},0.17056712132089016,null,{"$f":"StatisticallySignificantCalcs!$A$90","v":"N"},{"$f":"StatisticallySignificantCalcs!$J$90","v":"N"}]
[null,"$150,000 to $199,999",null,null,{"$f":"CntyDataLinkPrior10YearEstimate!$R$120","v":288},{"$f":"CntyDataLinkPrior10YearEstimate!$S$120","v":95},4.031919361612768E-2,null,{"$f":"CntyDataLinkPrior5YearEstimates!$R$120","v":288},{"$f":"CntyDataLinkPrior5YearEstimates!$S$120","v":95},4.031919361612768E-2,{"$f":"CntyDataLink!$R$120","v":419},{"$f":"CntyDataLink!$S$120","v":128},6.0157932519741567E-2,null,{"$f":"StatisticallySignificantCalcs!$A$91","v":"N"},{"$f":"StatisticallySignificantCalcs!$J$91","v":"N"}]
[null,"Greater than $200,000",null,null,{"$f":"CntyDataLinkPrior10YearEstimate!$T$120","v":182},{"$f":"CntyDataLinkPrior10YearEstimate!$U$120","v":74},2.5479490410191798E-2,null,{"$f":"CntyDataLinkPrior5YearEstimates!$T$120","v":182},{"$f":"CntyDataLinkPrior5YearEstimates!$U$120","v":74},2.5479490410191798E-2,{"$f":"CntyDataLink!$T$120","v":450},{"$f":"CntyDataLink!$U$120","v":148},6.4608758076094758E-2,null,{"$f":"StatisticallySignificantCalcs!$A$92","v":"Y"},{"$f":"StatisticallySignificantCalcs!$J$92","v":"N"}]
[null,null,null,null,491895,null,null,null,491895]
[null,null,"Median HH Income",null,{"$f":"CntyDataLinkPrior10YearEstimate!$BV$128","v":47817},{"$f":"CntyDataLinkPrior10YearEstimate!$BW$128","v":2617},null,null,{"$f":"CntyDataLinkPrior5YearEstimates!$BV$128","v":48893},{"$f":"CntyDataLinkPrior5YearEstimates!$BW$128","v":4719},null,{"$f":"CntyDataLink!$BV$128","v":67856},{"$f":"CntyDataLink!$BW$128","v":7883}]
[null,null,"HH Income in 2020 Dollars",null,{"$f":"($E$50)*E41","v":60950.565498227312},{"$f":"($E$50)*F41","v":3335.7933351916868},null,null,{"$f":"($E$49)*I41","v":58374.595769419058},{"$f":"($E$49)*J41","v":5634.1340771866844}]
[]
[null,{"$f":"\"Source:  \"& \" \"&E28&\", \"&I28&\" and \"&L28& \"  American Community Survey; Tables B25119; B19001\"","v":"Source:   2008-2012, 2013-2017 and 2018-2022  American Community Survey; Tables B25119; B19001"}]
[]
[null,"Data from the American Community Survey are estimates."]
[]
[null,"CPI Adjustment Factor"]
[null,"2013-2017",null,null,1.1939254242819843]
[null,"2008-2012",null,null,1.2746631009521157]

{"sheet":"HHIncomeByAge","index":9,"n_rows":80,"n_cols":22,"rows_kept":80,"cut":false,"hidden":true,"merged":[[21,6,21,15]]}
[]
[null,null,{"$f":"CntyDataLink!A55","v":"Laconia"}]
[null,null,"INCOME CHARACTERISTICS"]
[]
[]
[]
[]
[]
[]
[]
[]
[]
[]
[]
[]
[]
[]
[]
[]
[]
[null,null,{"$f":"HHIncomeByAge!C2","v":"Laconia"},"Household Income in 2022"]
[null,null,null,null,null,null,"Households by Age of Householder "]
[null,null,null,"Households","Margin of Error Households",null,"Under 25","Margin of Error Under 25",null,"25 to 44","Margin of Error 25 to 44",null,"45 to 64","Margin of Error 45 to 64",null,"65 & Over","Margin of Error 65 & Over",null,"Family Households","Margin of Error Family HH","Non-Family HH","Margin of Error Non-Family HH"]
[null,null,"Less Than $10,000",{"$f":"CntyDataLink!$D$116","v":272},{"$f":"CntyDataLink!$E$116","v":171},null,{"$f":"CntyDataLink!$AN$116","v":0},{"$f":"CntyDataLink!$AO$116","v":19},null,{"$f":"CntyDataLink!$BV$116","v":4},{"$f":"CntyDataLink!$BW$116","v":9},null,{"$f":"CntyDataLink!$DD$116","v":194},{"$f":"CntyDataLink!$DE$116","v":161},null,{"$f":"CntyDataLink!$EL$116","v":74},{"$f":"CntyDataLink!$EM$116","v":46},null,{"$f":"CntyDataLink!$D$160","v":5},{"$f":"CntyDataLink!$E$160","v":8},{"$f":"CntyDataLink!$AN$160","v":267},{"$f":"CntyDataLink!$AO$160","v":171}]
[null,null,"$10,000 to $14,999",{"$f":"CntyDataLink!$F$116","v":318},{"$f":"CntyDataLink!$G$116","v":164},null,{"$f":"CntyDataLink!$AP$116","v":0},{"$f":"CntyDataLink!$AQ$116","v":19},null,{"$f":"CntyDataLink!$BX$116","v":115},{"$f":"CntyDataLink!$BY$116","v":123},null,{"$f":"CntyDataLink!$DF$116","v":118},{"$f":"CntyDataLink!$DG$116","v":89},null,{"$f":"CntyDataLink!$EN$116","v":85},{"$f":"CntyDataLink!$EO$116","v":87},null,{"$f":"CntyDataLink!$F$160","v":138},{"$f":"CntyDataLink!$G$160","v":114},{"$f":"CntyDataLink!$AP$160","v":205},{"$f":"CntyDataLink!$AQ$160","v":151}]
[null,null,"$15,000 to $19,999",{"$f":"CntyDataLink!$H$116","v":277},{"$f":"CntyDataLink!$I$116","v":132},null,{"$f":"CntyDataLink!$AR$116","v":0},{"$f":"CntyDataLink!$AS$116","v":19},null,{"$f":"CntyDataLink!$BZ$116","v":105},{"$f":"CntyDataLink!$CA$116","v":106},null,{"$f":"CntyDataLink!$DH$116","v":23},{"$f":"CntyDataLink!$DI$116","v":24},null,{"$f":"CntyDataLink!$EP$116","v":149},{"$f":"CntyDataLink!$EQ$116","v":90},null,{"$f":"CntyDataLink!$H$160","v":92},{"$f":"CntyDataLink!$I$160","v":89},{"$f":"CntyDataLink!$AR$160","v":185},{"$f":"CntyDataLink!$AS$160","v":103}]
[null,null,"$20,000 to $24,999",{"$f":"CntyDataLink!$J$116","v":227},{"$f":"CntyDataLink!$K$116","v":89},null,{"$f":"CntyDataLink!$AT$116","v":12},{"$f":"CntyDataLink!$AU$116","v":27},null,{"$f":"CntyDataLink!$CB$116","v":52},{"$f":"CntyDataLink!$CC$116","v":50},null,{"$f":"CntyDataLink!$DJ$116","v":34},{"$f":"CntyDataLink!$DK$116","v":39},null,{"$f":"CntyDataLink!$ER$116","v":129},{"$f":"CntyDataLink!$ES$116","v":59},null,{"$f":"CntyDataLink!$J$160","v":35},{"$f":"CntyDataLink!$K$160","v":35},{"$f":"CntyDataLink!$AT$160","v":192},{"$f":"CntyDataLink!$AU$160","v":79}]
[null,null,"$25,000 to $29,999",{"$f":"CntyDataLink!$L$116","v":399},{"$f":"CntyDataLink!$M$116","v":166},null,{"$f":"CntyDataLink!$AV$116","v":0},{"$f":"CntyDataLink!$AW$116","v":19},null,{"$f":"CntyDataLink!$CD$116","v":99},{"$f":"CntyDataLink!$CE$116","v":66},null,{"$f":"CntyDataLink!$DL$116","v":105},{"$f":"CntyDataLink!$DM$116","v":91},null,{"$f":"CntyDataLink!$ET$116","v":195},{"$f":"CntyDataLink!$EU$116","v":97},null,{"$f":"CntyDataLink!$L$160","v":175},{"$f":"CntyDataLink!$M$160","v":89},{"$f":"CntyDataLink!$AV$160","v":268},{"$f":"CntyDataLink!$AW$160","v":132}]
[null,null,"$30,000 to $34,999",{"$f":"CntyDataLink!$N$116","v":363},{"$f":"CntyDataLink!$O$116","v":172},null,{"$f":"CntyDataLink!$AX$116","v":0},{"$f":"CntyDataLink!$AY$116","v":19},null,{"$f":"CntyDataLink!$CF$116","v":21},{"$f":"CntyDataLink!$CG$116","v":34},null,{"$f":"CntyDataLink!$DN$116","v":153},{"$f":"CntyDataLink!$DO$116","v":102},null,{"$f":"CntyDataLink!$EV$116","v":189},{"$f":"CntyDataLink!$EW$116","v":127},null,{"$f":"CntyDataLink!$N$160","v":102},{"$f":"CntyDataLink!$O$160","v":87},{"$f":"CntyDataLink!$AX$160","v":261},{"$f":"CntyDataLink!$AY$160","v":143}]
[null,null,"$35,000 to $39,999",{"$f":"CntyDataLink!$P$116","v":286},{"$f":"CntyDataLink!$Q$116","v":161},null,{"$f":"CntyDataLink!$AZ$116","v":0},{"$f":"CntyDataLink!$BA$116","v":19},null,{"$f":"CntyDataLink!$CH$116","v":160},{"$f":"CntyDataLink!$CI$116","v":150},null,{"$f":"CntyDataLink!$DP$116","v":73},{"$f":"CntyDataLink!$DQ$116","v":62},null,{"$f":"CntyDataLink!$EX$116","v":53},{"$f":"CntyDataLink!$EY$116","v":41},null,{"$f":"CntyDataLink!$P$160","v":196},{"$f":"CntyDataLink!$Q$160","v":157},{"$f":"CntyDataLink!$AZ$160","v":103},{"$f":"CntyDataLink!$BA$160","v":48}]
[null,null,"$40,000 to $44,999",{"$f":"CntyDataLink!$R$116","v":221},{"$f":"CntyDataLink!$S$116","v":174},null,{"$f":"CntyDataLink!$BB$116","v":0},{"$f":"CntyDataLink!$BC$116","v":19},null,{"$f":"CntyDataLink!$CJ$116","v":41},{"$f":"CntyDataLink!$CK$116","v":49},null,{"$f":"CntyDataLink!$DR$116","v":164},{"$f":"CntyDataLink!$DS$116","v":170},null,{"$f":"CntyDataLink!$EZ$116","v":16},{"$f":"CntyDataLink!$FA$116","v":16},null,{"$f":"CntyDataLink!$R$160","v":68},{"$f":"CntyDataLink!$S$160","v":73},{"$f":"CntyDataLink!$BB$160","v":202},{"$f":"CntyDataLink!$BC$160","v":175}]
[null,null,"$45,000 to $49,999",{"$f":"CntyDataLink!$T$116","v":215},{"$f":"CntyDataLink!$U$116","v":97},null,{"$f":"CntyDataLink!$BD$116","v":0},{"$f":"CntyDataLink!$BE$116","v":19},null,{"$f":"CntyDataLink!$CL$116","v":67},{"$f":"CntyDataLink!$CM$116","v":60},null,{"$f":"CntyDataLink!$DT$116","v":66},{"$f":"CntyDataLink!$DU$116","v":64},null,{"$f":"CntyDataLink!$FB$116","v":82},{"$f":"CntyDataLink!$FC$116","v":59},null,{"$f":"CntyDataLink!$T$160","v":126},{"$f":"CntyDataLink!$U$160","v":85},{"$f":"CntyDataLink!$BD$160","v":93},{"$f":"CntyDataLink!$BE$160","v":73}]
[null,null,"$50,000 to $59,999",{"$f":"CntyDataLink!$V$116","v":611},{"$f":"CntyDataLink!$W$116","v":180},null,{"$f":"CntyDataLink!$BF$116","v":0},{"$f":"CntyDataLink!$BG$116","v":19},null,{"$f":"CntyDataLink!$CN$116","v":160},{"$f":"CntyDataLink!$CO$116","v":102},null,{"$f":"CntyDataLink!$DV$116","v":204},{"$f":"CntyDataLink!$DW$116","v":126},null,{"$f":"CntyDataLink!$FD$116","v":247},{"$f":"CntyDataLink!$FE$116","v":79},null,{"$f":"CntyDataLink!$V$160","v":342},{"$f":"CntyDataLink!$W$160","v":147},{"$f":"CntyDataLink!$BF$160","v":251},{"$f":"CntyDataLink!$BG$160","v":145}]
[null,null,"$60,000 to $74,999",{"$f":"CntyDataLink!$X$116","v":637},{"$f":"CntyDataLink!$Y$116","v":233},null,{"$f":"CntyDataLink!$BH$116","v":0},{"$f":"CntyDataLink!$BI$116","v":19},null,{"$f":"CntyDataLink!$CP$116","v":244},{"$f":"CntyDataLink!$CQ$116","v":126},null,{"$f":"CntyDataLink!$DX$116","v":169},{"$f":"CntyDataLink!$DY$116","v":117},null,{"$f":"CntyDataLink!$FF$116","v":224},{"$f":"CntyDataLink!$FG$116","v":129},null,{"$f":"CntyDataLink!$X$160","v":447},{"$f":"CntyDataLink!$Y$160","v":197},{"$f":"CntyDataLink!$BH$160","v":236},{"$f":"CntyDataLink!$BI$160","v":120}]
[null,null,"$75,000 to $99,999",{"$f":"CntyDataLink!$Z$116","v":1082},{"$f":"CntyDataLink!$AA$116","v":228},null,{"$f":"CntyDataLink!$BJ$116","v":11},{"$f":"CntyDataLink!$BK$116","v":21},null,{"$f":"CntyDataLink!$CR$116","v":480},{"$f":"CntyDataLink!$CS$116","v":178},null,{"$f":"CntyDataLink!$DZ$116","v":317},{"$f":"CntyDataLink!$EA$116","v":129},null,{"$f":"CntyDataLink!$FH$116","v":274},{"$f":"CntyDataLink!$FI$116","v":98},null,{"$f":"CntyDataLink!$Z$160","v":806},{"$f":"CntyDataLink!$AA$160","v":190},{"$f":"CntyDataLink!$BJ$160","v":197},{"$f":"CntyDataLink!$BK$160","v":96}]
[null,null,"$100,000 to $124,999",{"$f":"CntyDataLink!$AB$116","v":664},{"$f":"CntyDataLink!$AC$116","v":170},null,{"$f":"CntyDataLink!$BL$116","v":41},{"$f":"CntyDataLink!$BM$116","v":62},null,{"$f":"CntyDataLink!$CT$116","v":277},{"$f":"CntyDataLink!$CU$116","v":122},null,{"$f":"CntyDataLink!$EB$116","v":256},{"$f":"CntyDataLink!$EC$116","v":123},null,{"$f":"CntyDataLink!$FJ$116","v":90},{"$f":"CntyDataLink!$FK$116","v":59},null,{"$f":"CntyDataLink!$AB$160","v":415},{"$f":"CntyDataLink!$AC$160","v":117},{"$f":"CntyDataLink!$BL$160","v":209},{"$f":"CntyDataLink!$BM$160","v":121}]
[null,null,"$125,000 to $149,999",{"$f":"CntyDataLink!$AD$116","v":524},{"$f":"CntyDataLink!$AE$116","v":172},null,{"$f":"CntyDataLink!$BN$116","v":0},{"$f":"CntyDataLink!$BO$116","v":19},null,{"$f":"CntyDataLink!$CV$116","v":155},{"$f":"CntyDataLink!$CW$116","v":108},null,{"$f":"CntyDataLink!$ED$116","v":194},{"$f":"CntyDataLink!$EE$116","v":98},null,{"$f":"CntyDataLink!$FL$116","v":175},{"$f":"CntyDataLink!$FM$116","v":111},null,{"$f":"CntyDataLink!$AD$160","v":432},{"$f":"CntyDataLink!$AE$160","v":136},{"$f":"CntyDataLink!$BN$160","v":92},{"$f":"CntyDataLink!$BO$160","v":76}]
[null,null,"$150,000 to $199,999",{"$f":"CntyDataLink!$AF$116","v":419},{"$f":"CntyDataLink!$AG$116","v":128},null,{"$f":"CntyDataLink!$BP$116","v":0},{"$f":"CntyDataLink!$BQ$116","v":19},null,{"$f":"CntyDataLink!$CX$116","v":62},{"$f":"CntyDataLink!$CY$116","v":46},null,{"$f":"CntyDataLink!$EF$116","v":264},{"$f":"CntyDataLink!$EG$116","v":112},null,{"$f":"CntyDataLink!$FN$116","v":93},{"$f":"CntyDataLink!$FO$116","v":64},null,{"$f":"CntyDataLink!$AF$160","v":340},{"$f":"CntyDataLink!$AG$160","v":124},{"$f":"CntyDataLink!$BP$160","v":80},{"$f":"CntyDataLink!$BQ$160","v":65}]
[null,null,"$200,000 or More",{"$f":"CntyDataLink!$AH$116","v":450},{"$f":"CntyDataLink!$AI$116","v":148},null,{"$f":"CntyDataLink!$BR$116","v":0},{"$f":"CntyDataLink!$BS$116","v":19},null,{"$f":"CntyDataLink!$CZ$116","v":44},{"$f":"CntyDataLink!$DA$116","v":46},null,{"$f":"CntyDataLink!$EH$116","v":277},{"$f":"CntyDataLink!$EI$116","v":107},null,{"$f":"CntyDataLink!$FP$116","v":129},{"$f":"CntyDataLink!$FQ$116","v":69},null,{"$f":"CntyDataLink!$AH$160","v":338},{"$f":"CntyDataLink!$AI$160","v":118},{"$f":"CntyDataLink!$BR$160","v":67},{"$f":"CntyDataLink!$BS$160","v":57}]
[]
[null,null,"Total Households",{"$f":"CntyDataLink!$B$116","v":6965},{"$f":"CntyDataLink!$C$116","v":394},null,{"$f":"CntyDataLink!$AL$116","v":64},{"$f":"CntyDataLink!$AM$116","v":71},null,{"$f":"CntyDataLink!$BT$116","v":2086},{"$f":"CntyDataLink!$BU$116","v":251},null,{"$f":"CntyDataLink!$DB$116","v":2611},{"$f":"CntyDataLink!$DC$116","v":274},null,{"$f":"CntyDataLink!$EJ$116","v":2204},{"$f":"CntyDataLink!$EK$116","v":299},null,{"$f":"CntyDataLink!$B$160","v":4057},{"$f":"CntyDataLink!$C$160","v":295},{"$f":"CntyDataLink!$AL$160","v":2908},{"$f":"CntyDataLink!$AM$160","v":393}]
[null,null,"Median Household Inc ",{"$f":"CntyDataLink!$FR$116","v":67856},{"$f":"CntyDataLink!$FS$116","v":7883},null,{"$f":"CntyDataLink!$FT$116","v":108049},{"$f":"CntyDataLink!$FU$116","v":73409},null,{"$f":"CntyDataLink!$FV$116","v":72685},{"$f":"CntyDataLink!$FW$116","v":14893},null,{"$f":"CntyDataLink!$FX$116","v":75139},{"$f":"CntyDataLink!$FY$116","v":23396},null,{"$f":"CntyDataLink!$FZ$116","v":54730},{"$f":"CntyDataLink!$GA$116","v":8196},null,{"$f":"CntyDataLink!$AJ$160","v":88464},{"$f":"CntyDataLink!$AK$160","v":4774},{"$f":"CntyDataLink!BT$160","v":38500},{"$f":"CntyDataLink!$BU$160","v":10087}]
[]
[null,null,"Source: 2018-2022 American Community Survey Table B19001; B19037; B19101; B19102; B19112; B19113; B19049"]
[null,null,"Data from the American Community Survey are estimates"]
[]
[null,null,{"$f":"C2","v":"Laconia"}]
[null,null,"INCOME CHARACTERISTICS"]
[]
[]
[]
[]
[]
[]
[]
[]
[]
[]
[]
[]
[]
[]
[]
[]
[]
[]
[]
[]
[]
[]
[]
[]
[]
[]
[]
[]
[]
[]
[]
[null,null,"Source: 2018-2022 American Community Survey Table B19001; B19102",null,null,null,null,null,null,null,null,null,null,null,null,"Data from the American Community Survey are estimates"]

{"sheet":"HHIncomeByTenure","index":10,"n_rows":64,"n_cols":17,"rows_kept":64,"cut":false,"hidden":true,"merged":[[2,3,2,5],[58,3,58,6],[58,8,58,11],[58,13,58,16],[59,3,59,6],[59,8,59,11],[59,13,59,16],[63,3,63,4],[63,8,63,9],[63,13,63,14],[61,3,61,4],[61,8,61,9],[61,13,61,14],[62,3,62,4],[62,8,62,9],[62,13,62,14]]}
[]
[null,null,null,{"$f":"CntyDataLink!A80","v":"Laconia"}]
[null,null,null,"INCOME CHARACTERISTICS"]
[]
[]
[]
[]
[]
[]
[]
[]
[]
[]
[]
[]
[]
[]
[]
[]
[]
[]
[]
[]
[]
[]
[]
[]
[null,null,null,{"$f":"D2","v":"Laconia"}]
[null,null,null,"Household Income By Tenure"]
[null,null,null,null,null,"2022 Household Income 1",null,"Occupied Housing Units","MOE Occupied Housing Units","Owner Occupied Housing Units","MOE Owner Occupied Housing Units","Renter Occupied Housing Units","MOE Renter Occupied Housing Units"]
[]
[null,null,null,null,null,"Total",null,{"$f":"CntyDataLink!$B$128","v":6965},{"$f":"CntyDataLink!$C$128","v":394},{"$f":"CntyDataLink!$D$128","v":4095},{"$f":"CntyDataLink!$E$128","v":367},{"$f":"CntyDataLink!$AB$128","v":2870},{"$f":"CntyDataLink!$AC$128","v":417}]
[null,null,null,4999,{"$f":"VALUE(RIGHT(F33,7))","v":5000},"Less Than $5,000",null,{"$f":"CntyDataLink!$AZ$128","v":178},{"$f":"CntyDataLink!$BA$128","v":139.74262055650738},{"$f":"CntyDataLink!$F$128","v":22},{"$f":"CntyDataLink!$G$128","v":22},{"$f":"CntyDataLink!$AD$128","v":156},{"$f":"CntyDataLink!$AE$128","v":138}]
[null,null,{"$f":"VALUE(RIGHT($F33,7))","v":5000},4999,10000,"$5,000 to $10,000",null,{"$f":"CntyDataLink!$BB$128","v":94},{"$f":"CntyDataLink!$BC$128","v":99.624294225856374},{"$f":"CntyDataLink!$H$128","v":62},{"$f":"CntyDataLink!$I$128","v":95},{"$f":"CntyDataLink!$AF$128","v":32},{"$f":"CntyDataLink!$AG$128","v":30}]
[null,null,10000,4999,15000,"$10,000 to $15,000",null,{"$f":"CntyDataLink!$BD$128","v":318},{"$f":"CntyDataLink!$BE$128","v":155.95512174981621},{"$f":"CntyDataLink!$J$128","v":44},{"$f":"CntyDataLink!$K$128","v":39},{"$f":"CntyDataLink!$AH$128","v":274},{"$f":"CntyDataLink!$AI$128","v":151}]
[null,null,15000,4999,20000,"$15,000 to $20,000",null,{"$f":"CntyDataLink!$BF$128","v":277},{"$f":"CntyDataLink!$BG$128","v":136.78084661238211},{"$f":"CntyDataLink!$L$128","v":100},{"$f":"CntyDataLink!$M$128","v":90},{"$f":"CntyDataLink!$AJ$128","v":177},{"$f":"CntyDataLink!$AK$128","v":103}]
[null,null,20000,4999,25000,"$20,000 to $25,000",null,{"$f":"CntyDataLink!$BH$128","v":227},{"$f":"CntyDataLink!$BI$128","v":91.219515455849688},{"$f":"CntyDataLink!$N$128","v":125},{"$f":"CntyDataLink!$O$128","v":64},{"$f":"CntyDataLink!$AL$128","v":102},{"$f":"CntyDataLink!$AM$128","v":65}]
[null,null,25000,9999,35000,"$25,000 to $35,000",null,{"$f":"CntyDataLink!$BJ$128","v":762},{"$f":"CntyDataLink!$BK$128","v":225.81629702038779},{"$f":"CntyDataLink!$P$128","v":351},{"$f":"CntyDataLink!$Q$128","v":152},{"$f":"CntyDataLink!$AN$128","v":411},{"$f":"CntyDataLink!$AO$128","v":167}]
[null,null,35000,14999,50000,"$35,000 to $50,000",null,{"$f":"CntyDataLink!$BL$128","v":722},{"$f":"CntyDataLink!$BM$128","v":241.59677150160761},{"$f":"CntyDataLink!$R$128","v":252},{"$f":"CntyDataLink!$S$128","v":88},{"$f":"CntyDataLink!$AP$128","v":470},{"$f":"CntyDataLink!$AQ$128","v":225}]
[null,null,50000,24999,75000,"$50,000 to $75,000",null,{"$f":"CntyDataLink!$BN$128","v":1248},{"$f":"CntyDataLink!$BO$128","v":284.60850303530987},{"$f":"CntyDataLink!$T$128","v":655},{"$f":"CntyDataLink!$U$128","v":211},{"$f":"CntyDataLink!$AR$128","v":593},{"$f":"CntyDataLink!$AS$128","v":191}]
[null,null,75000,24999,100000,"$75,000 to $100,000",null,{"$f":"CntyDataLink!$BP$128","v":1082},{"$f":"CntyDataLink!$BQ$128","v":219.73848092675985},{"$f":"CntyDataLink!$V$128","v":824},{"$f":"CntyDataLink!$W$128","v":171},{"$f":"CntyDataLink!$AT$128","v":258},{"$f":"CntyDataLink!$AU$128","v":138}]
[null,null,100000,49999,150000,"$100,000 to $150,000",null,{"$f":"CntyDataLink!$BR$128","v":1188},{"$f":"CntyDataLink!$BS$128","v":292.17973920174546},{"$f":"CntyDataLink!$X$128","v":881},{"$f":"CntyDataLink!$Y$128","v":213},{"$f":"CntyDataLink!$AV$128","v":307},{"$f":"CntyDataLink!$AW$128","v":200}]
[null,null,150000,null,null,"$150,000 and More",null,{"$f":"CntyDataLink!$BT$128","v":869},{"$f":"CntyDataLink!$BU$128","v":197.44872752185566},{"$f":"CntyDataLink!$Z$128","v":779},{"$f":"CntyDataLink!$AA$128","v":185},{"$f":"CntyDataLink!$AX$128","v":90},{"$f":"CntyDataLink!$AY$128","v":69}]
[]
[]
[null,null,null,null,null,"Median Household Income 2",null,{"$f":"CntyDataLink!$BV$128","v":67856},{"$f":"CntyDataLink!$BW$128","v":7883},{"$f":"CntyDataLink!$BX$128","v":91128},{"$f":"CntyDataLink!$BY$128","v":6160},{"$f":"CntyDataLink!$BZ$128","v":43891},{"$f":"CntyDataLink!$CA$128","v":7667}]
[]
[]
[null,null,null,null,null,"Data from the American Community Survey are estimates"]
[]
[null,null,null,"Source:",1,"2017-2021 American Community Survey Table B25118;  2022 Inflation Adjusted dollars"]
[null,null,null,null,2,"2017-2021 American Community Survey Table B25119;  2022 Inflation Adjusted dollars"]
[]
[]
[]
[null,null,null,"HOUSEHOLD INCOME IN THE PAST 12 MONTHS BY PERCENT OF MEDIAN THRESHOLD"]
[]
[]
[null,null,null,"All Occupied Housing Units",null,null,null,null,"Owner Occupied Households",null,null,null,null,"Renter Occupied Households"]
[]
[null,null,null,"HOUSEHOLD INCOME",null,"Estimate","Margin Of Error",null,"HOUSEHOLD INCOME",null,"Estimate","Margin Of Error",null,"HOUSEHOLD INCOME",null,"Estimate","Margin Of Error"]
[null,null,{"$f":"$H$46*0.3","v":20356.8},"30% of Median Household Income",null,{"$f":"IF($C$62<$C$36,((($C$62-$C$35)/$D$35)*$H$35)+SUM($H$33:$H$34),IF($C$62<$C$37,((($C$62-$C$36)/$D$36)*$H$36)+SUM($H$33:$H$35),IF($C$62<$C$38,((($C$62-$C$37)/$D$37)*$H$37)+SUM($H$33:$H$36),IF($C$62<$C$39,((($C$62-$C$38)/$D$38)*$H$38)+SUM($H$33:$H$37),IF($C$62<$C$40,((($C$62-$C$39)/$D$39)*$H$39)+SUM($H$33:$H$38),IF($C$62<$C$41,((($C$62-$C$40)/$D$40)*$H$40)+SUM($H$33:$H$39),IF($C$62<$C$42,((($C$62-$C$41)/$D$41)*$H$41)+SUM($H$33:$H$40),\"False\")))))))","v":883.20196039207838},{"$f":"IF($C$62<$C$36,((($C$62-$C$35)/$D$35)*$I$35)+SQRT(SUM(($I$33^2),($I$34^2))),IF($C$62<$C$37,((($C$62-$C$36)/$D$36)*$I$36)+SQRT(SUM(($I$33^2),($I$34^2),($I$35^2))),IF($C$62<$C$38,((($C$62-$C$37)/$D$37)*$I$37)+SQRT(SUM(($I$33^2),($I$34^2),($I$35^2),($I$36^2))),IF($C$62<$C$39,((($C$62-$C$38)/$D$38)*$I$38)+SQRT(SUM(($I$33^2),($I$34^2),($I$35^2),($I$36^2),($I$37^2))),IF($C$62<$C$40,((($C$62-$C$39)/$D$39)*$I$39)+SQRT(SUM(($I$33^2),($I$34^2),($I$35^2),($I$36^2),($I$37^2),($I$38^2))),IF($C$62<$C$41,((($C$62-$C$40)/$D$40)*$I$40)+SQRT(SUM(($I$33^2),($I$34^2),($I$35^2),($I$36^2),($I$37^2),($I$38^2),($I$39^2))),IF($C$62<$C$42,((($C$62-$C$41)/$D$41)*$I$41)+SQRT((($I$33^2)+($I$34^2)+($I$35^2)+($I$36^2)+($I$37^2)+($I$38^2)+($I$39^2)+($I$40^2))),\"False\")))))))","v":275.73925423147745},{"$f":"$J$46*0.3","v":27338.399999999998},"30% of Median Household Income",null,{"$f":"IF($H$62<$C$36,((($H$62-$C$35)/$D$35)*$J$35)+SUM($J$33:$J$34),IF($H$62<$C$37,((($H$62-$C$36)/$D$36)*$J$36)+SUM($J$33:$J$35),IF($H$62<$C$38,((($H$62-$C$37)/$D$37)*$J$37)+SUM($J$33:$J$36),IF($H$62<$C$39,((($H$62-$C$38)/$D$38)*$J$38)+SUM($J$33:$J$37),IF($H$62<$C$40,((($H$62-$C$39)/$D$39)*$J$39)+SUM($J$33:$J$38),IF($H$62<$C$41,((($H$62-$C$40)/$D$40)*$J$40)+SUM($J$33:$J$39),IF($H$62<$C$42,((($H$62-$C$41)/$D$41)*$J$41)+SUM($J$33:$J$40),\"False\")))))))","v":435.08604860486042},{"$f":"IF($H$62<$C$36,((($H$62-$C$35)/$D$35)*$K$35)+SQRT(SUM(($K$33^2),($K$34^2))),IF($H$62<$C$37,((($H$62-$C$36)/$D$36)*$K$36)+SQRT(SUM(($K$33^2),($K$34^2),($K$35^2))),IF($H$62<$C$38,((($H$62-$C$37)/$D$37)*$K$37)+SQRT(SUM(($K$33^2),($K$34^2),($K$35^2),($K$36^2))),IF($H$62<$C$39,((($H$62-$C$38)/$D$38)*$K$38)+SQRT(SUM(($K$33^2),($K$34^2),($K$35^2),($K$36^2),($K$37^2))),IF($H$62<$C$40,((($H$62-$C$39)/$D$39)*$K$39)+SQRT(SUM(($K$33^2),($K$34^2),($K$35^2),($K$36^2),($K$37^2),($K$38^2))),IF($H$62<$C$41,((($H$62-$C$40)/$D$40)*$K$40)+SQRT(SUM(($K$33^2),($K$34^2),($K$35^2),($K$36^2),($K$37^2),($K$38^2),($K$39^2))),IF($H$62<$C$42,((($H$62-$C$41)/$D$41)*$K$41)+SQRT((($K$33^2)+($K$34^2)+($K$35^2)+($K$36^2)+($K$37^2)+($K$38^2)+($K$39^2)+($K$40^2))),\"False\")))))))","v":187.948022123013},{"$f":"$L$46*0.3","v":13167.3},"30% of Median Household Income",null,{"$f":"IF($M$62<$C$36,((($M$62-$C$35)/$D$35)*$L$35)+SUM($L$33:$L$34),IF($M$62<$C$37,((($M$62-$C$36)/$D$36)*$L$36)+SUM($L$33:$L$35),IF($M$62<$C$38,((($M$62-$C$37)/$D$37)*$L$37)+SUM($L$33:$L$36),IF($M$62<$C$39,((($M$62-$C$38)/$D$38)*$L$38)+SUM($L$33:$L$37),IF($M$62<$C$40,((($M$62-$C$39)/$D$39)*$L$39)+SUM($L$33:$L$38),IF($M$62<$C$41,((($M$62-$C$40)/$D$40)*$L$40)+SUM($L$33:$L$39),IF($M$62<$C$42,((($M$62-$C$41)/$D$41)*$L$41)+SUM($L$33:$L$40),\"False\")))))))","v":361.60276055211034},{"$f":"IF($M$62<$C$36,((($M$62-$C$35)/$D$35)*$M$35)+SQRT(SUM(($M$33^2),($M$34^2))),IF($M$62<$C$37,((($M$62-$C$36)/$D$36)*$M$36)+SQRT(SUM(($M$33^2),($M$34^2),($M$35^2))),IF($M$62<$C$38,((($M$62-$C$37)/$D$37)*$M$37)+SQRT(SUM(($M$33^2),($M$34^2),($M$35^2),($M$36^2))),IF($M$62<$C$39,((($M$62-$C$38)/$D$38)*$M$38)+SQRT(SUM(($M$33^2),($M$34^2),($M$35^2),($M$36^2),($M$37^2))),IF($M$62<$C$40,((($M$62-$C$39)/$D$39)*$M$39)+SQRT(SUM(($M$33^2),($M$34^2),($M$35^2),($M$36^2),($M$37^2),($M$38^2))),IF($M$62<$C$41,((($M$62-$C$40)/$D$40)*$M$40)+SQRT(SUM(($M$33^2),($M$34^2),($M$35^2),($M$36^2),($M$37^2),($M$38^2),($M$39^2))),IF($M$62<$C$42,((($M$62-$C$41)/$D$41)*$M$41)+SQRT((($M$33^2)+($M$34^2)+($M$35^2)+($M$36^2)+($M$37^2)+($M$38^2)+($M$39^2)+($M$40^2))),\"False\")))))))","v":236.89482187014158}]
[490,null,{"$f":"$H$46*0.5","v":33928},"50% of Median Household Income",null,{"$f":"IF($C$63<$C$36,((($C$63-$C$35)/$D$35)*$H$35)+SUM($H$33:$H$34),IF($C$63<$C$37,((($C$63-$C$36)/$D$36)*$H$36)+SUM($H$33:$H$35),IF($C$63<$C$38,((($C$63-$C$37)/$D$37)*$H$37)+SUM($H$33:$H$36),IF($C$63<$C$39,((($C$63-$C$38)/$D$38)*$H$38)+SUM($H$33:$H$37),IF($C$63<$C$40,((($C$63-$C$39)/$D$39)*$H$39)+SUM($H$33:$H$38),IF($C$63<$C$41,((($C$63-$C$40)/$D$40)*$H$40)+SUM($H$33:$H$39),IF($C$63<$C$42,((($C$63-$C$41)/$D$41)*$H$41)+SUM($H$33:$H$40),\"False\")))))))","v":1774.3816381638162},{"$f":"IF($C$63<$C$36,((($C$63-$C$35)/$D$35)*$I$35)+SQRT(SUM(($I$33^2),($I$34^2))),IF($C$63<$C$37,((($C$63-$C$36)/$D$36)*$I$36)+SQRT(SUM(($I$33^2),($I$34^2),($I$35^2))),IF($C$63<$C$38,((($C$63-$C$37)/$D$37)*$I$37)+SQRT(SUM(($I$33^2),($I$34^2),($I$35^2),($I$36^2))),IF($C$63<$C$39,((($C$63-$C$38)/$D$38)*$I$38)+SQRT(SUM(($I$33^2),($I$34^2),($I$35^2),($I$36^2),($I$37^2))),IF($C$63<$C$40,((($C$63-$C$39)/$D$39)*$I$39)+SQRT(SUM(($I$33^2),($I$34^2),($I$35^2),($I$36^2),($I$37^2),($I$38^2))),IF($C$63<$C$41,((($C$63-$C$40)/$D$40)*$I$40)+SQRT(SUM(($I$33^2),($I$34^2),($I$35^2),($I$36^2),($I$37^2),($I$38^2),($I$39^2))),IF($C$63<$C$42,((($C$63-$C$41)/$D$41)*$I$41)+SQRT((($I$33^2)+($I$34^2)+($I$35^2)+($I$36^2)+($I$37^2)+($I$38^2)+($I$39^2)+($I$40^2))),\"False\")))))))","v":485.89115577938014},{"$f":"$J$46*0.5","v":45564},"50% of Median Household Income",null,{"$f":"IF($H$63<$C$36,((($H$63-$C$35)/$D$35)*$J$35)+SUM($J$33:$J$34),IF($H$63<$C$37,((($H$63-$C$36)/$D$36)*$J$36)+SUM($J$33:$J$35),IF($H$63<$C$38,((($H$63-$C$37)/$D$37)*$J$37)+SUM($J$33:$J$36),IF($H$63<$C$39,((($H$63-$C$38)/$D$38)*$J$38)+SUM($J$33:$J$37),IF($H$63<$C$40,((($H$63-$C$39)/$D$39)*$J$39)+SUM($J$33:$J$38),IF($H$63<$C$41,((($H$63-$C$40)/$D$40)*$J$40)+SUM($J$33:$J$39),IF($H$63<$C$42,((($H$63-$C$41)/$D$41)*$J$41)+SUM($J$33:$J$40),\"False\")))))))","v":881.48703246883122},{"$f":"IF($H$63<$C$36,((($H$63-$C$35)/$D$35)*$K$35)+SQRT(SUM(($K$33^2),($K$34^2))),IF($H$63<$C$37,((($H$63-$C$36)/$D$36)*$K$36)+SQRT(SUM(($K$33^2),($K$34^2),($K$35^2))),IF($H$63<$C$38,((($H$63-$C$37)/$D$37)*$K$37)+SQRT(SUM(($K$33^2),($K$34^2),($K$35^2),($K$36^2))),IF($H$63<$C$39,((($H$63-$C$38)/$D$38)*$K$38)+SQRT(SUM(($K$33^2),($K$34^2),($K$35^2),($K$36^2),($K$37^2))),IF($H$63<$C$40,((($H$63-$C$39)/$D$39)*$K$39)+SQRT(SUM(($K$33^2),($K$34^2),($K$35^2),($K$36^2),($K$37^2),($K$38^2))),IF($H$63<$C$41,((($H$63-$C$40)/$D$40)*$K$40)+SQRT(SUM(($K$33^2),($K$34^2),($K$35^2),($K$36^2),($K$37^2),($K$38^2),($K$39^2))),IF($H$63<$C$42,((($H$63-$C$41)/$D$41)*$K$41)+SQRT((($K$33^2)+($K$34^2)+($K$35^2)+($K$36^2)+($K$37^2)+($K$38^2)+($K$39^2)+($K$40^2))),\"False\")))))))","v":277.22364617665306},{"$f":"$L$46*0.5","v":21945.5},"50% of Median Household Income",null,{"$f":"IF($M$63<$C$36,((($M$63-$C$35)/$D$35)*$L$35)+SUM($L$33:$L$34),IF($M$63<$C$37,((($M$63-$C$36)/$D$36)*$L$36)+SUM($L$33:$L$35),IF($M$63<$C$38,((($M$63-$C$37)/$D$37)*$L$37)+SUM($L$33:$L$36),IF($M$63<$C$39,((($M$63-$C$38)/$D$38)*$L$38)+SUM($L$33:$L$37),IF($M$63<$C$40,((($M$63-$C$39)/$D$39)*$L$39)+SUM($L$33:$L$38),IF($M$63<$C$41,((($M$63-$C$40)/$D$40)*$L$40)+SUM($L$33:$L$39),IF($M$63<$C$42,((($M$63-$C$41)/$D$41)*$L$41)+SUM($L$33:$L$40),\"False\")))))))","v":678.69613922784561},{"$f":"IF($M$63<$C$36,((($M$63-$C$35)/$D$35)*$M$35)+SQRT(SUM(($M$33^2),($M$34^2))),IF($M$63<$C$37,((($M$63-$C$36)/$D$36)*$M$36)+SQRT(SUM(($M$33^2),($M$34^2),($M$35^2))),IF($M$63<$C$38,((($M$63-$C$37)/$D$37)*$M$37)+SQRT(SUM(($M$33^2),($M$34^2),($M$35^2),($M$36^2))),IF($M$63<$C$39,((($M$63-$C$38)/$D$38)*$M$38)+SQRT(SUM(($M$33^2),($M$34^2),($M$35^2),($M$36^2),($M$37^2))),IF($M$63<$C$40,((($M$63-$C$39)/$D$39)*$M$39)+SQRT(SUM(($M$33^2),($M$34^2),($M$35^2),($M$36^2),($M$37^2),($M$38^2))),IF($M$63<$C$41,((($M$63-$C$40)/$D$40)*$M$40)+SQRT(SUM(($M$33^2),($M$34^2),($M$35^2),($M$36^2),($M$37^2),($M$38^2),($M$39^2))),IF($M$63<$C$42,((($M$63-$C$41)/$D$41)*$M$41)+SQRT((($M$33^2)+($M$34^2)+($M$35^2)+($M$36^2)+($M$37^2)+($M$38^2)+($M$39^2)+($M$40^2))),\"False\")))))))","v":256.28140729977696}]
[null,null,{"$f":"$H$46*0.8","v":54284.800000000003},"80% of Median Household Income",null,{"$f":"IF($C$64<$C$36,((($C$64-$C$35)/$D$35)*$H$35)+SUM($H$33:$H$34),IF($C$64<$C$37,((($C$64-$C$36)/$D$36)*$H$36)+SUM($H$33:$H$35),IF($C$64<$C$38,((($C$64-$C$37)/$D$37)*$H$37)+SUM($H$33:$H$36),IF($C$64<$C$39,((($C$64-$C$38)/$D$38)*$H$38)+SUM($H$33:$H$37),IF($C$64<$C$40,((($C$64-$C$39)/$D$39)*$H$39)+SUM($H$33:$H$38),IF($C$64<$C$41,((($C$64-$C$40)/$D$40)*$H$40)+SUM($H$33:$H$39),IF($C$64<$C$42,((($C$64-$C$41)/$D$41)*$H$41)+SUM($H$33:$H$40),\"False\")))))))","v":2791.9057722308894},{"$f":"IF($C$64<$C$36,((($C$64-$C$35)/$D$35)*$I$35)+SQRT(SUM(($I$33^2),($I$34^2))),IF($C$64<$C$37,((($C$64-$C$36)/$D$36)*$I$36)+SQRT(SUM(($I$33^2),($I$34^2),($I$35^2))),IF($C$64<$C$38,((($C$64-$C$37)/$D$37)*$I$37)+SQRT(SUM(($I$33^2),($I$34^2),($I$35^2),($I$36^2))),IF($C$64<$C$39,((($C$64-$C$38)/$D$38)*$I$38)+SQRT(SUM(($I$33^2),($I$34^2),($I$35^2),($I$36^2),($I$37^2))),IF($C$64<$C$40,((($C$64-$C$39)/$D$39)*$I$39)+SQRT(SUM(($I$33^2),($I$34^2),($I$35^2),($I$36^2),($I$37^2),($I$38^2))),IF($C$64<$C$41,((($C$64-$C$40)/$D$40)*$I$40)+SQRT(SUM(($I$33^2),($I$34^2),($I$35^2),($I$36^2),($I$37^2),($I$38^2),($I$39^2))),IF($C$64<$C$42,((($C$64-$C$41)/$D$41)*$I$41)+SQRT((($I$33^2)+($I$34^2)+($I$35^2)+($I$36^2)+($I$37^2)+($I$38^2)+($I$39^2)+($I$40^2))),\"False\")))))))","v":484.8629862321792},{"$f":"$J$46*0.8","v":72902.400000000009},"80% of Median Household Income",null,{"$f":"IF($H$64<$C$36,((($H$64-$C$35)/$D$35)*$J$35)+SUM($J$33:$J$34),IF($H$64<$C$37,((($H$64-$C$36)/$D$36)*$J$36)+SUM($J$33:$J$35),IF($H$64<$C$38,((($H$64-$C$37)/$D$37)*$J$37)+SUM($J$33:$J$36),IF($H$64<$C$39,((($H$64-$C$38)/$D$38)*$J$38)+SUM($J$33:$J$37),IF($H$64<$C$40,((($H$64-$C$39)/$D$39)*$J$39)+SUM($J$33:$J$38),IF($H$64<$C$41,((($H$64-$C$40)/$D$40)*$J$40)+SUM($J$33:$J$39),IF($H$64<$C$42,((($H$64-$C$41)/$D$41)*$J$41)+SUM($J$33:$J$40),\"False\")))))))","v":1556.0668826753072},{"$f":"IF($H$64<$C$36,((($H$64-$C$35)/$D$35)*$K$35)+SQRT(SUM(($K$33^2),($K$34^2))),IF($H$64<$C$37,((($H$64-$C$36)/$D$36)*$K$36)+SQRT(SUM(($K$33^2),($K$34^2),($K$35^2))),IF($H$64<$C$38,((($H$64-$C$37)/$D$37)*$K$37)+SQRT(SUM(($K$33^2),($K$34^2),($K$35^2),($K$36^2))),IF($H$64<$C$39,((($H$64-$C$38)/$D$38)*$K$38)+SQRT(SUM(($K$33^2),($K$34^2),($K$35^2),($K$36^2),($K$37^2))),IF($H$64<$C$40,((($H$64-$C$39)/$D$39)*$K$39)+SQRT(SUM(($K$33^2),($K$34^2),($K$35^2),($K$36^2),($K$37^2),($K$38^2))),IF($H$64<$C$41,((($H$64-$C$40)/$D$40)*$K$40)+SQRT(SUM(($K$33^2),($K$34^2),($K$35^2),($K$36^2),($K$37^2),($K$38^2),($K$39^2))),IF($H$64<$C$42,((($H$64-$C$41)/$D$41)*$K$41)+SQRT((($K$33^2)+($K$34^2)+($K$35^2)+($K$36^2)+($K$37^2)+($K$38^2)+($K$39^2)+($K$40^2))),\"False\")))))))","v":425.84215706949271},{"$f":"$L$46*0.8","v":35112.800000000003},"80% of Median Household Income",null,{"$f":"IF($M$64<$C$36,((($M$64-$C$35)/$D$35)*$L$35)+SUM($L$33:$L$34),IF($M$64<$C$37,((($M$64-$C$36)/$D$36)*$L$36)+SUM($L$33:$L$35),IF($M$64<$C$38,((($M$64-$C$37)/$D$37)*$L$37)+SUM($L$33:$L$36),IF($M$64<$C$39,((($M$64-$C$38)/$D$38)*$L$38)+SUM($L$33:$L$37),IF($M$64<$C$40,((($M$64-$C$39)/$D$39)*$L$39)+SUM($L$33:$L$38),IF($M$64<$C$41,((($M$64-$C$40)/$D$40)*$L$40)+SUM($L$33:$L$39),IF($M$64<$C$42,((($M$64-$C$41)/$D$41)*$L$41)+SUM($L$33:$L$40),\"False\")))))))","v":1155.5346356423763},{"$f":"IF($M$64<$C$36,((($M$64-$C$35)/$D$35)*$M$35)+SQRT(SUM(($M$33^2),($M$34^2))),IF($M$64<$C$37,((($M$64-$C$36)/$D$36)*$M$36)+SQRT(SUM(($M$33^2),($M$34^2),($M$35^2))),IF($M$64<$C$38,((($M$64-$C$37)/$D$37)*$M$37)+SQRT(SUM(($M$33^2),($M$34^2),($M$35^2),($M$36^2))),IF($M$64<$C$39,((($M$64-$C$38)/$D$38)*$M$38)+SQRT(SUM(($M$33^2),($M$34^2),($M$35^2),($M$36^2),($M$37^2))),IF($M$64<$C$40,((($M$64-$C$39)/$D$39)*$M$39)+SQRT(SUM(($M$33^2),($M$34^2),($M$35^2),($M$36^2),($M$37^2),($M$38^2))),IF($M$64<$C$41,((($M$64-$C$40)/$D$40)*$M$40)+SQRT(SUM(($M$33^2),($M$34^2),($M$35^2),($M$36^2),($M$37^2),($M$38^2),($M$39^2))),IF($M$64<$C$42,((($M$64-$C$41)/$D$41)*$M$41)+SQRT((($M$33^2)+($M$34^2)+($M$35^2)+($M$36^2)+($M$37^2)+($M$38^2)+($M$39^2)+($M$40^2))),\"False\")))))))","v":294.04121918549464}]

{"sheet":"ACS_Source_Table_List","index":11,"n_rows":49,"n_cols":4,"rows_kept":49,"cut":false,"hidden":true,"merged":[]}
[]
["ACS Table B01001","x"]
["ACS Table B01002","x"]
["ACS Table B03002","x"]
["ACS Table B05002 ","x"]
["ACS Table B07003","x","Replaces C07001"]
["ACS Table B11001","x"]
["ACS Table B11002","x"]
["ACS Table B14001 & B15002","x","Replaces C15002"]
["ACS Table B17001 ","x"]
["ACS Table B17010 ","x","Replaces C17010","Poverty Status by family type"]
["ACS Table B17017","x","Replaces C17017","Poverty Status by HH type"]
["ACS Table B18001 ",null,"Removed Disability Tables"]
["ACS Table C18001 ",null,"Removed Disability Tables"]
["ACS Table B18003",null,"Removed Disability Tables"]
["ACS Table B18004",null,"Removed Disability Tables"]
["ACS Table B18005",null,"Removed Disability Tables"]
["ACS Table B18006",null,"Removed Disability Tables"]
["ACS Table B18007",null,"Removed Disability Tables"]
["ACS Table B18008",null,"Removed Disability Tables"]
["ACS Table B19001","x"]
["ACS Table B19037 ","x"]
["ACS Table B19049 ","x"]
["ACS Table B19101& B19113 ","s"]
["ACS Table B19201 & B19202","s"]
["ACS Table B25001, B25003 & B25004 ","x"]
["ACS Table B25008","x"]
["ACS Table B25010","x"]
["ACS Table B25024","x"]
["ACS Table B25032","x"]
["ACS Table B25034 & B25041 ","x"]
["ACS Table B25063 & B25064","x"]
["ACS Table B25070 & B25074","x"]
["ACS Table B25075 & B25077","x"]
["ACS Table B25088","x"]
["ACS Table B25091","x"]
["ACS Table B25118 & B25119","x"]
[]
[]
[]
[]
[]
[]
["Tables Removed from 5 Year Estimates"]
["ACS Table C19001 ","x","May have to consolidate this table from Table B19001. This has already been done. For 5 year estimates remove worksheet."]
["ACS Table B25094","x","No Comparison Table for B25094 Removed"]
["ACS Table B25101",null,"No Comparison Table for B25101 Removed"]
["ACS Table B25104 & B25105",null,"No Comparison Table for B25104 & B25105 Removed"]
["ACS Table B25106","x","No Comparison Table for  B25106 Removed"]

{"sheet":"CntyDataLinkPrior5YearEstimates","index":12,"n_rows":160,"n_cols":185,"rows_kept":160,"cut":false,"hidden":true,"merged":[]}
[1,{"$f":"A1+1","v":2},3,4,5,6,7,8,9,10,11,12,13,14,15,16,17,18,19,20,21,22,23,24,25,26,27,28,29,30,31,32,33,34,35,36,37,38,39,40,41,42,43,44,45,46,47,48,49,50,51,52,53,54,55,56,57,58,59,60,61,62,63,64,65,{"$f":"BM1+1","v":66},67,68,69,70,71,72,73,74,75,76,77,78,79,80,81,82,83,84,85,86,87,88,89,90,91,92,93,94,95,96,97,98,99,100,101,102,103,104,105,106,107,108,109,110,111,112,113,114,115,116,117,118,119,120,121,122,123,124,125,126,127,128,129,{"$f":"DY1+1","v":130},131,132,133,134,135,136,137,138,139,140,141,142,143,144,145,146,147,148,149,150,151,152,153,154,155,156,157,158,159,160,161,162,163,164,165,166,167,168,169,170,171,172,173,174,175,176,177,178,179,180,181,182,183]
[]
[]
[]
[]
[]
[]
[]
[]
[]
[]
[]
[]
[]
[]
[]
[]
[]
[]
[]
[]
[]
[]
[]
[]
[]
[]
[]
[]
[]
[]
[]
[]
[]
[]
[]
[]
[]
[]
[]
[]
[]
[]
[]
[]
[]
[]
[]
[]
[]
[]
[]
[]
[]
[]
[]
[]
[]
[]
[]
[]
[]
[]
[]
[]
[]
[]
[]
[]
[]
[]
[]
[]
[]
[]
[]
[]
[]
[]
[]
[]
[]
[]
[]
[]
[]
[]
[]
[]
[]
[]
[]
[]
[]
[]
[]
[]
[]
[]
[]
[]
[]
[]
[]
["ACS",2,{"$f":"B105+1","v":3},{"$f":"C105+1","v":4},5,6,7,8,9,10,11,{"$f":"K105+1","v":12},13,14,15,{"$f":"O105+1","v":16},17,18,19,20,21,22,23,24,25,26,27,28,29,30,31,32,33,34,35,36,37,38,39,40,41,42,43,44,45,46,47,48,49,50,51,52,53,54,55,56,57,58,59,60,61,62,63,64,65,66,67,{"$f":"BO105+1","v":68},69,70,71,72,73,74,75,76,77,78,79,80,81,82,83,84,85,86,87,88,89,90,91,92,93,94,95,96,97,98,99,100,101,102,103,104,105,106,107,108,109,110,111,112,113,114,115,116,117,118,119,120,121,122,123,124,125]
["Househould Data (Housing Unit Type)"]
["NAME","TotalHU",{"$f":"\"MOE \"&B107","v":"MOE TotalHU"},"TotalOccHU",{"$f":"\"MOE \"&D107","v":"MOE TotalOccHU"},"TotalOwnerOccUn",{"$f":"\"MOE \"&F107","v":"MOE TotalOwnerOccUn"},"TotalRenterOccn",{"$f":"\"MOE \"&H107","v":"MOE TotalRenterOccn"},"TotalVacantUntis",{"$f":"\"MOE \"&J107","v":"MOE TotalVacantUntis"},"VacantUnitsForRent",{"$f":"\"MOE \"&L107","v":"MOE VacantUnitsForRent"},"VacantUnitRentedNotOcc",{"$f":"\"MOE \"&N107","v":"MOE VacantUnitRentedNotOcc"},"VacantUnitForSale",{"$f":"\"MOE \"&P107","v":"MOE VacantUnitForSale"},"VacantUnitSoldNotOcc",{"$f":"\"MOE \"&R107","v":"MOE VacantUnitSoldNotOcc"},"VacantUnitSeasonalRec",{"$f":"\"MOE \"&T107","v":"MOE VacantUnitSeasonalRec"},"TotalPopInHousingUnits",{"$f":"\"MOE \"&V107","v":"MOE TotalPopInHousingUnits"},"OwnerOccPopHousingUnits",{"$f":"\"MOE \"&X107","v":"MOE OwnerOccPopHousingUnits"},"RenterOccPopHousingUnits",{"$f":"\"MOE \"&Z107","v":"MOE RenterOccPopHousingUnits"},"TotalUntis",{"$f":"\"MOE \"&AB107","v":"MOE TotalUntis"},"TotalOwnerOccUnits",{"$f":"\"MOE \"&AD107","v":"MOE TotalOwnerOccUnits"},"SigFamOwnerOcc",{"$f":"\"MOE \"&AF107","v":"MOE SigFamOwnerOcc"},"MultiFamOwnerOcc",{"$f":"\"MOE \"&AH107","v":"MOE MultiFamOwnerOcc"},"MobileOwnerOcc",{"$f":"\"MOE \"&AJ107","v":"MOE MobileOwnerOcc"},"TotalRenterOccUnits",{"$f":"\"MOE \"&AL107","v":"MOE TotalRenterOccUnits"},"SigFamRenterOcc",{"$f":"\"MOE \"&AN107","v":"MOE SigFamRenterOcc"},"MultiFamRenterOcc",{"$f":"\"MOE \"&AP107","v":"MOE MultiFamRenterOcc"},"MobileRenterOcc",{"$f":"\"MOE \"&AR107","v":"MOE MobileRenterOcc"},"TotalSigFamilyUnits",{"$f":"\"MOE \"&AT107","v":"MOE TotalSigFamilyUnits"},"TotalMultiFamilyUnits",{"$f":"\"MOE \"&AV107","v":"MOE TotalMultiFamilyUnits"},"TotalMobileUnits",{"$f":"\"MOE \"&AX107","v":"MOE TotalMobileUnits"},"YrHouseBuilt2005Later",{"$f":"\"MOE \"&AZ107","v":"MOE YrHouseBuilt2005Later"},"YrHouseBuilt2000-2004",{"$f":"\"MOE \"&BB107","v":"MOE YrHouseBuilt2000-2004"},"YrHouseBuilt1990-1999",{"$f":"\"MOE \"&BD107","v":"MOE YrHouseBuilt1990-1999"},"YrHouseBuilt1980-1989",{"$f":"\"MOE \"&BF107","v":"MOE YrHouseBuilt1980-1989"},"YrHouseBuilt1970-1979",{"$f":"\"MOE \"&BH107","v":"MOE YrHouseBuilt1970-1979"},"YrHouseBuilt1960-1969",{"$f":"\"MOE \"&BJ107","v":"MOE YrHouseBuilt1960-1969"},"YrHouseBuilt1950-1959",{"$f":"\"MOE \"&BL107","v":"MOE YrHouseBuilt1950-1959"},"YrHouseBuilt1940-1949",{"$f":"\"MOE \"&BN107","v":"MOE YrHouseBuilt1940-1949"},"YrHouseBuilt1939orEarlier",{"$f":"\"MOE \"&BP107","v":"MOE YrHouseBuilt1939orEarlier"},"NoBedrooms",{"$f":"\"MOE \"&BR107","v":"MOE NoBedrooms"},"1Bedroom",{"$f":"\"MOE \"&BT107","v":"MOE 1Bedroom"},"2Bedroom",{"$f":"\"MOE \"&BV107","v":"MOE 2Bedroom"},"3Bedroom",{"$f":"\"MOE \"&BX107","v":"MOE 3Bedroom"},"4+Bedroom",{"$f":"\"MOE \"&BZ107","v":"MOE 4+Bedroom"}]
[{"$f":"VLOOKUP(DropDownList!$A$19,CntyQuery!$A$53:$DN$64,A$1)","v":"Laconia"},9945,324,6740,357,3650,271,3090,253,3205,294,120,99,0,17,142,103,9,15,2748,302,15635,181,8790,668,6845,630,6740,357,3650,271,2997,256,505,129.86916493148019,148,62.361847310675458,3090,253,507,168,2565,342.98250684255021,18,31.064449134018133,5197,338,4381,463.30335634441502,367,131.10682667199293,9,14,103,53,952,181,703,204,1895,245,1171,220,874,174,677,154,696,169,172,88,1539,276,3715,343,3221,336,1280,242.03305559365234]
[]
["Disability Data"]
["NAME","TotalPop",{"$f":"\"MOE \"&B111","v":"MOE TotalPop"},"PopUnder 5 years:",{"$f":"\"MOE \"&D111","v":"MOE PopUnder 5 years:"},{"$f":"D$111&\"-WithDisability\"","v":"PopUnder 5 years:-WithDisability"},{"$f":"\"MOE \"&F111","v":"MOE PopUnder 5 years:-WithDisability"},{"$f":"D111&\"-NoDisability\"","v":"PopUnder 5 years:-NoDisability"},{"$f":"\"MOE \"&H111","v":"MOE PopUnder 5 years:-NoDisability"},"PopUnder 5 to 17years:",{"$f":"\"MOE \"&J111","v":"MOE PopUnder 5 to 17years:"},{"$f":"J$111&\"-WithDisability\"","v":"PopUnder 5 to 17years:-WithDisability"},{"$f":"\"MOE \"&L111","v":"MOE PopUnder 5 to 17years:-WithDisability"},{"$f":"J111&\"-NoDisability\"","v":"PopUnder 5 to 17years:-NoDisability"},{"$f":"\"MOE \"&N111","v":"MOE PopUnder 5 to 17years:-NoDisability"},"PopUnder 18 to 34 years:",{"$f":"\"MOE \"&P111","v":"MOE PopUnder 18 to 34 years:"},{"$f":"P$111&\"-WithDisability\"","v":"PopUnder 18 to 34 years:-WithDisability"},{"$f":"\"MOE \"&R111","v":"MOE PopUnder 18 to 34 years:-WithDisability"},{"$f":"P111&\"-NoDisability\"","v":"PopUnder 18 to 34 years:-NoDisability"},{"$f":"\"MOE \"&T111","v":"MOE PopUnder 18 to 34 years:-NoDisability"},"Pop 35 years to 64:",{"$f":"\"MOE \"&V111","v":"MOE Pop 35 years to 64:"},{"$f":"$V$111&\"-WithDisability\"","v":"Pop 35 years to 64:-WithDisability"},{"$f":"\"MOE \"&X111","v":"MOE Pop 35 years to 64:-WithDisability"},{"$f":"$V$111&\"-NoDisability\"","v":"Pop 35 years to 64:-NoDisability"},{"$f":"\"MOE \"&Z111","v":"MOE Pop 35 years to 64:-NoDisability"},"Pop 65 years to 74:",{"$f":"\"MOE \"&AB111","v":"MOE Pop 65 years to 74:"},{"$f":"$AB$111&\"-WithDisability\"","v":"Pop 65 years to 74:-WithDisability"},{"$f":"\"MOE \"&AD111","v":"MOE Pop 65 years to 74:-WithDisability"},{"$f":"$AB$111&\"-NoDisability\"","v":"Pop 65 years to 74:-NoDisability"},{"$f":"\"MOE \"&AF111","v":"MOE Pop 65 years to 74:-NoDisability"},"Pop 75 and older:",{"$f":"\"MOE \"&AH111","v":"MOE Pop 75 and older:"},{"$f":"$AH$111&\"-WithDisability\"","v":"Pop 75 and older:-WithDisability"},{"$f":"\"MOE \"&AJ111","v":"MOE Pop 75 and older:-WithDisability"},{"$f":"$AH$111&\"-NoDisability\"","v":"Pop 75 and older:-NoDisability"},{"$f":"\"MOE \"&AL111","v":"MOE Pop 75 and older:-NoDisability"},"TotalPopUnder5_HearingDisability",{"$f":"\"MOE \"&AN111","v":"MOE TotalPopUnder5_HearingDisability"},"TotalUnder5_HearingDisability",{"$f":"\"MOE \"&AP111","v":"MOE TotalUnder5_HearingDisability"},"TotalPop18To34_HearingDisability",{"$f":"\"MOE \"&AR111","v":"MOE TotalPop18To34_HearingDisability"},"TotalPop35To64_HearingDisability",{"$f":"\"MOE \"&AT111","v":"MOE TotalPop35To64_HearingDisability"},"TotalPop65To74_HearingDisability",{"$f":"\"MOE \"&AV111","v":"MOE TotalPop65To74_HearingDisability"},"TotalPop75andOlder_HearingDisability",{"$f":"\"MOE \"&AX111","v":"MOE TotalPop75andOlder_HearingDisability"},"TotalUnder5_VisionDisability",{"$f":"\"MOE \"&AZ111","v":"MOE TotalUnder5_VisionDisability"},"Total5To17_VisionDisability",{"$f":"\"MOE \"&BB111","v":"MOE Total5To17_VisionDisability"},"Total18To34_VisionDisability",{"$f":"\"MOE \"&BD111","v":"MOE Total18To34_VisionDisability"},"Total35To64_VisionDisability",{"$f":"\"MOE \"&BF111","v":"MOE Total35To64_VisionDisability"},"Total65To74_VisionDisability",{"$f":"\"MOE \"&BH111","v":"MOE Total65To74_VisionDisability"},"Total75andOlder_VisionDisability",{"$f":"\"MOE \"&BJ111","v":"MOE Total75andOlder_VisionDisability"},"Total5To17_CongnitiveDisability",{"$f":"\"MOE \"&BL111","v":"MOE Total5To17_CongnitiveDisability"},"Total18To34_CongnitiveDisability",{"$f":"\"MOE \"&BN111","v":"MOE Total18To34_CongnitiveDisability"},"Total35To64_CongnitiveDisability",{"$f":"\"MOE \"&BP111","v":"MOE Total35To64_CongnitiveDisability"},"Total65To74_CongnitiveDisability",{"$f":"\"MOE \"&BR111","v":"MOE Total65To74_CongnitiveDisability"},"Total75andOlder_CongnitiveDisability",{"$f":"\"MOE \"&BT111","v":"MOE Total75andOlder_CongnitiveDisability"},"Total5To17_AmbulatoryDisability",{"$f":"\"MOE \"&BV111","v":"MOE Total5To17_AmbulatoryDisability"},"Total18To34_AmbulatoryDisability",{"$f":"\"MOE \"&BX111","v":"MOE Total18To34_AmbulatoryDisability"},"Total35To64_AmbulatoryDisability",{"$f":"\"MOE \"&BZ111","v":"MOE Total35To64_AmbulatoryDisability"},"Total65To74_AmbulatoryDisability",{"$f":"\"MOE \"&CB111","v":"MOE Total65To74_AmbulatoryDisability"},"Total75andOlder_AmbulatoryDisability",{"$f":"\"MOE \"&CD111","v":"MOE Total75andOlder_AmbulatoryDisability"},"Total5To17_SelfCareDisability",{"$f":"\"MOE \"&CF111","v":"MOE Total5To17_SelfCareDisability"},"Total18To34_SelfCareDisability",{"$f":"\"MOE \"&CH111","v":"MOE Total18To34_SelfCareDisability"},"Total35To64_SelfCareDisability",{"$f":"\"MOE \"&CJ111","v":"MOE Total35To64_SelfCareDisability"},"Total65To74_SelfCareDisability",{"$f":"\"MOE \"&CL111","v":"MOE Total65To74_SelfCareDisability"},"Total75andOlder_SelfCareDisability",{"$f":"\"MOE \"&CN111","v":"MOE Total75andOlder_SelfCareDisability"},"Total18To34_IndependantLivingDisability",{"$f":"\"MOE \"&CP111","v":"MOE Total18To34_IndependantLivingDisability"},"Total35To64_IndependantLivingDisability",{"$f":"\"MOE \"&CR111","v":"MOE Total35To64_IndependantLivingDisability"},"Total65To74_IndependantLivingDisability",{"$f":"\"MOE \"&CT111","v":"MOE Total65To74_IndependantLivingDisability"},"Total75andOlder_IndependantLivingDisability",{"$f":"\"MOE \"&CV111","v":"MOE Total75andOlder_IndependantLivingDisability"},"TotalUnder18_OneDisability",{"$f":"\"MOE \"&CX111","v":"MOE TotalUnder18_OneDisability"},"TotalUnder18_TwoDisability",{"$f":"\"MOE \"&CZ111","v":"MOE TotalUnder18_TwoDisability"},"18to6YearWIthOneDisability",{"$f":"\"MOE \"&DB111","v":"MOE 18to6YearWIthOneDisability"},"18to64YearWIthTwoOrMoreDisability",{"$f":"\"MOE \"&DD111","v":"MOE 18to64YearWIthTwoOrMoreDisability"},"Over64YearsWIthOneDisability",{"$f":"\"MOE \"&DF111","v":"MOE Over64YearsWIthOneDisability"},"Over64YearsWIthTwoOrMoreDisability",{"$f":"\"MOE \"&DH111","v":"MOE Over64YearsWIthTwoOrMoreDisability"}]
[{"$f":"VLOOKUP(DropDownList!$A$19,CntyQuery!$A$53:$DN$64,A$1)","v":"Laconia"},15694,177,914,214.97906874856446,0,24.041630560342615,914,214.97906874856446,2170,313.26027517066382,269,152.16109883935513,1901,259.78837541352772,3299,323.44551318576055,305,138.05795884337854,2994,356.21622646926124,6611,358.81053496239485,1072,205.7984450864486,5539,345.46345682285994,1599,178.40403582878949,322,87.920418561333065,1277,168.80758276807353,1101,161.55494421403512,447,122.15563842901399,654,128.96898852049665,0,24.041630560342615,8,22.022715545545239,62,53.075418038862395,181,74.94664769020693,124,61.911226768656427,224,79.755877526361658,0,24.041630560342615,20,22.627416997969522,6,20.248456731316587,168,73.600271738628791,31,36.235341863986875,175,79.649231006959511,261,154.38264151127873,232,106.40018796975878,449,137.90576492663388,49,41.231056256176608,104,63.906181234681831,0,24.041630560342615,111,103.24727599312246,530,146.47866738880444,198,73.81734213584231,305,106.04244433244644,22,31.064449134018133,35,44.384682042344295,152,85.440037453175307,47,36.796738985948195,74,46.572524088780071,115,74.846509604656916,382,142.80056022299073,68,55.542776307995261,253,96.767763227223554,227,135,42,39,733,169,644,202,288,74,481,126]
[]
["Househould Income By Age"]
["NAME","TotalHouseholds",{"$f":"\"MOE \"&B115","v":"MOE TotalHouseholds"},"HHInc<10K",{"$f":"\"MOE \"&D115","v":"MOE HHInc<10K"},"HHInc10to15K",{"$f":"\"MOE \"&F115","v":"MOE HHInc10to15K"},"HHInc15to20K",{"$f":"\"MOE \"&H115","v":"MOE HHInc15to20K"},"HHInc20to25K",{"$f":"\"MOE \"&J115","v":"MOE HHInc20to25K"},"HHInc25to30K",{"$f":"\"MOE \"&L115","v":"MOE HHInc25to30K"},"HHInc30to35K",{"$f":"\"MOE \"&N115","v":"MOE HHInc30to35K"},"HHInc35to40K",{"$f":"\"MOE \"&P115","v":"MOE HHInc35to40K"},"HHInc40to45K",{"$f":"\"MOE \"&R115","v":"MOE HHInc40to45K"},"HHInc45to50K",{"$f":"\"MOE \"&T115","v":"MOE HHInc45to50K"},"HHInc50to60K",{"$f":"\"MOE \"&V115","v":"MOE HHInc50to60K"},"HHInc60to75K",{"$f":"\"MOE \"&X115","v":"MOE HHInc60to75K"},"HHInc75to100K",{"$f":"\"MOE \"&Z115","v":"MOE HHInc75to100K"},"HHInc100to125K",{"$f":"\"MOE \"&AB115","v":"MOE HHInc100to125K"},"HHInc125to150K",{"$f":"\"MOE \"&AD115","v":"MOE HHInc125to150K"},"HHInc150to200K",{"$f":"\"MOE \"&AF115","v":"MOE HHInc150to200K"},"HHInc>200K",{"$f":"\"MOE \"&AH115","v":"MOE HHInc>200K"},"TotalHH",{"$f":"\"MOE \"&AJ115","v":"MOE TotalHH"},"HHAgeHHUnder25yrs",{"$f":"\"MOE \"&AL115","v":"MOE HHAgeHHUnder25yrs"},"HHAgeHH<25HHInc<10K",{"$f":"\"MOE \"&AN115","v":"MOE HHAgeHH<25HHInc<10K"},"HHAgeHH<25HHInc10to15K",{"$f":"\"MOE \"&AP115","v":"MOE HHAgeHH<25HHInc10to15K"},"HHAgeHH<25HHInc15to20K",{"$f":"\"MOE \"&AR115","v":"MOE HHAgeHH<25HHInc15to20K"},"HHAgeHH<25HHInc20to25K",{"$f":"\"MOE \"&AT115","v":"MOE HHAgeHH<25HHInc20to25K"},"HHAgeHH<25HHInc25to30K",{"$f":"\"MOE \"&AV115","v":"MOE HHAgeHH<25HHInc25to30K"},"HHAgeHH<25HHInc30to35K",{"$f":"\"MOE \"&AX115","v":"MOE HHAgeHH<25HHInc30to35K"},"HHAgeHH<25HHInc35to40K",{"$f":"\"MOE \"&AZ115","v":"MOE HHAgeHH<25HHInc35to40K"},"HHAgeHH<25HHInc40to45K",{"$f":"\"MOE \"&BB115","v":"MOE HHAgeHH<25HHInc40to45K"},"HHAgeHH<25HHInc45to50K",{"$f":"\"MOE \"&BD115","v":"MOE HHAgeHH<25HHInc45to50K"},"HHAgeHH<25HHInc50to60K",{"$f":"\"MOE \"&BF115","v":"MOE HHAgeHH<25HHInc50to60K"},"HHAgeHH<25HHInc60to75K",{"$f":"\"MOE \"&BH115","v":"MOE HHAgeHH<25HHInc60to75K"},"HHAgeHH<25HHInc75to100K",{"$f":"\"MOE \"&BJ115","v":"MOE HHAgeHH<25HHInc75to100K"},"HHAgeHH<25HHInc100to125K",{"$f":"\"MOE \"&BL115","v":"MOE HHAgeHH<25HHInc100to125K"},"HHAgeHH<25HHInc125to150K",{"$f":"\"MOE \"&BN115","v":"MOE HHAgeHH<25HHInc125to150K"},"HHAgeHH<25HHInc150to200K",{"$f":"\"MOE \"&BP115","v":"MOE HHAgeHH<25HHInc150to200K"},"HHAge<25HHInc>200K",{"$f":"\"MOE \"&BR115","v":"MOE HHAge<25HHInc>200K"},"HHAgeHH25to44yrs",{"$f":"\"MOE \"&BT115","v":"MOE HHAgeHH25to44yrs"},"HHAgeHH25To44yrsHHInc<10K",{"$f":"\"MOE \"&BV115","v":"MOE HHAgeHH25To44yrsHHInc<10K"},"HHAgeHH25To44yrsHHInc10to15K",{"$f":"\"MOE \"&BX115","v":"MOE HHAgeHH25To44yrsHHInc10to15K"},"HHAgeHH25To44yrsHHInc15to20K",{"$f":"\"MOE \"&BZ115","v":"MOE HHAgeHH25To44yrsHHInc15to20K"},"HHAgeHH25To44yrsHHInc20to25K",{"$f":"\"MOE \"&CB115","v":"MOE HHAgeHH25To44yrsHHInc20to25K"},"HHAgeHH25To44yrsHHInc25to30K",{"$f":"\"MOE \"&CD115","v":"MOE HHAgeHH25To44yrsHHInc25to30K"},"HHAgeHH25To44yrsHHInc30to35K",{"$f":"\"MOE \"&CF115","v":"MOE HHAgeHH25To44yrsHHInc30to35K"},"HHAgeHH25To44yrsHHInc35to40K",{"$f":"\"MOE \"&CH115","v":"MOE HHAgeHH25To44yrsHHInc35to40K"},"HHAgeHH25To44yrsHHInc40to45K",{"$f":"\"MOE \"&CJ115","v":"MOE HHAgeHH25To44yrsHHInc40to45K"},"HHAgeHH25To44yrsHHInc45to50K",{"$f":"\"MOE \"&CL115","v":"MOE HHAgeHH25To44yrsHHInc45to50K"},"HHAgeHH25To44yrsHHInc50to60K",{"$f":"\"MOE \"&CN115","v":"MOE HHAgeHH25To44yrsHHInc50to60K"},"HHAgeHH25To44yrsHHInc60to75K",{"$f":"\"MOE \"&CP115","v":"MOE HHAgeHH25To44yrsHHInc60to75K"},"HHAgeHH25To44yrsHHInc75to100K",{"$f":"\"MOE \"&CR115","v":"MOE HHAgeHH25To44yrsHHInc75to100K"},"HHAgeHH25To44yrsHHInc100to125K",{"$f":"\"MOE \"&CT115","v":"MOE HHAgeHH25To44yrsHHInc100to125K"},"HHAgeHH25To44yrsHHInc125to150K",{"$f":"\"MOE \"&CV115","v":"MOE HHAgeHH25To44yrsHHInc125to150K"},"HHAgeHH25To44yrsHHInc150to200K",{"$f":"\"MOE \"&CX115","v":"MOE HHAgeHH25To44yrsHHInc150to200K"},"HHAge25To44yrsHHInc>200K",{"$f":"\"MOE \"&CZ115","v":"MOE HHAge25To44yrsHHInc>200K"},"HHAgeHH45To64yrs",{"$f":"\"MOE \"&DB115","v":"MOE HHAgeHH45To64yrs"},"HHAgeHH45To64yrsHHInc<10K",{"$f":"\"MOE \"&DD115","v":"MOE HHAgeHH45To64yrsHHInc<10K"},"HHAgeHH45To64yrsHHInc10to15K",{"$f":"\"MOE \"&DF115","v":"MOE HHAgeHH45To64yrsHHInc10to15K"},"HHAgeHH45To64yrsHHInc15to20K",{"$f":"\"MOE \"&DH115","v":"MOE HHAgeHH45To64yrsHHInc15to20K"},"HHAgeHH45To64yrsHHInc20to25K",{"$f":"\"MOE \"&DJ115","v":"MOE HHAgeHH45To64yrsHHInc20to25K"},"HHAgeHH45To64yrsHHInc25to30K",{"$f":"\"MOE \"&DL115","v":"MOE HHAgeHH45To64yrsHHInc25to30K"},"HHAgeHH45To64yrsHHInc30to35K",{"$f":"\"MOE \"&DN115","v":"MOE HHAgeHH45To64yrsHHInc30to35K"},"HHAgeHH45To64yrsHHInc35to40K",{"$f":"\"MOE \"&DP115","v":"MOE HHAgeHH45To64yrsHHInc35to40K"},"HHAgeHH45To64yrsHHInc40to45K",{"$f":"\"MOE \"&DR115","v":"MOE HHAgeHH45To64yrsHHInc40to45K"},"HHAgeHH45To64yrsHHInc45to50K",{"$f":"\"MOE \"&DT115","v":"MOE HHAgeHH45To64yrsHHInc45to50K"},"HHAgeHH45To64yrsHHInc50to60K",{"$f":"\"MOE \"&DV115","v":"MOE HHAgeHH45To64yrsHHInc50to60K"},"HHAgeHH45To64yrsHHInc60to75K",{"$f":"\"MOE \"&DX115","v":"MOE HHAgeHH45To64yrsHHInc60to75K"},"HHAgeHH45To64yrsHHInc75to100K",{"$f":"\"MOE \"&DZ115","v":"MOE HHAgeHH45To64yrsHHInc75to100K"},"HHAgeHH45To64yrsHHInc100to125K",{"$f":"\"MOE \"&EB115","v":"MOE HHAgeHH45To64yrsHHInc100to125K"},"HHAgeHH45To64yrsHHInc125to150K",{"$f":"\"MOE \"&ED115","v":"MOE HHAgeHH45To64yrsHHInc125to150K"},"HHAgeHH45To64yrsHHInc150to200K",{"$f":"\"MOE \"&EF115","v":"MOE HHAgeHH45To64yrsHHInc150to200K"},"HHAge45To64yrsHHInc>200K",{"$f":"\"MOE \"&EH115","v":"MOE HHAge45To64yrsHHInc>200K"},"HHAgeHH65yrsorOlder",{"$f":"\"MOE \"&EJ115","v":"MOE HHAgeHH65yrsorOlder"},"HHAgeHH65yrsorOlderHHInc<10K",{"$f":"\"MOE \"&EL115","v":"MOE HHAgeHH65yrsorOlderHHInc<10K"},"HHAgeHH65yrsorOlderHHInc10to15K",{"$f":"\"MOE \"&EN115","v":"MOE HHAgeHH65yrsorOlderHHInc10to15K"},"HHAgeHH65yrsorOlderHHInc15to20K",{"$f":"\"MOE \"&EP115","v":"MOE HHAgeHH65yrsorOlderHHInc15to20K"},"HHAgeHH65yrsorOlderHHInc20to25K",{"$f":"\"MOE \"&ER115","v":"MOE HHAgeHH65yrsorOlderHHInc20to25K"},"HHAgeHH65yrsorOlderHHInc25to30K",{"$f":"\"MOE \"&ET115","v":"MOE HHAgeHH65yrsorOlderHHInc25to30K"},"HHAgeHH65yrsorOlderHHInc30to35K",{"$f":"\"MOE \"&EV115","v":"MOE HHAgeHH65yrsorOlderHHInc30to35K"},"HHAgeHH65yrsorOlderHHInc35to40K",{"$f":"\"MOE \"&EX115","v":"MOE HHAgeHH65yrsorOlderHHInc35to40K"},"HHAgeHH65yrsorOlderHHInc40to45K",{"$f":"\"MOE \"&EZ115","v":"MOE HHAgeHH65yrsorOlderHHInc40to45K"},"HHAgeHH65yrsorOlderHHInc45to50K",{"$f":"\"MOE \"&FB115","v":"MOE HHAgeHH65yrsorOlderHHInc45to50K"},"HHAgeHH65yrsorOlderHHInc50to60K",{"$f":"\"MOE \"&FD115","v":"MOE HHAgeHH65yrsorOlderHHInc50to60K"},"HHAgeHH65yrsorOlderHHInc60to75K",{"$f":"\"MOE \"&FF115","v":"MOE HHAgeHH65yrsorOlderHHInc60to75K"},"HHAgeHH65yrsorOlderHHInc75to100K",{"$f":"\"MOE \"&FH115","v":"MOE HHAgeHH65yrsorOlderHHInc75to100K"},"HHAgeHH65yrsorOlderHHInc100to125K",{"$f":"\"MOE \"&FJ115","v":"MOE HHAgeHH65yrsorOlderHHInc100to125K"},"HHAgeHH65yrsorOlderHHInc125to150K",{"$f":"\"MOE \"&FL115","v":"MOE HHAgeHH65yrsorOlderHHInc125to150K"},"HHAgeHH65yrsorOlderHHInc150to200K",{"$f":"\"MOE \"&FN115","v":"MOE HHAgeHH65yrsorOlderHHInc150to200K"},"HHAge65yrsorOlderHHInc>200K",{"$f":"\"MOE \"&FP115","v":"MOE HHAge65yrsorOlderHHInc>200K"},"MedianHHInc",{"$f":"\"MOE \"&FR115","v":"MOE MedianHHInc"},"HH under 25 years",{"$f":"\"MOE \"&FT115","v":"MOE HH under 25 years"},"Householder 25 to 44 years",{"$f":"\"MOE \"&FV115","v":"MOE Householder 25 to 44 years"},"Householder 45 to 64 years",{"$f":"\"MOE \"&FX115","v":"MOE Householder 45 to 64 years"},"Householder 65 years and over",{"$f":"\"MOE \"&FZ115","v":"MOE Householder 65 years and over"}]
[{"$f":"VLOOKUP(DropDownList!$A$19,CntyQuery!$A$53:$DN$64,A$1)","v":"Laconia"},7143,283,536,177,441,120,417,125,384,141,384,138,354,127,334,116,484,160,482,169,585,157,641,174,624,165,666,164,341,126,288,95,182,74,6740,357,256,155,42,47,0,17,83,88,0,17,14,23,0,17,20,24,51,77,0,17,0,17,46,47,0,17,0,17,0,17,0,17,0,17,1884,224,124,75,47,52,105,73,153,110,141,83,71,41,110,106,49,39,153,106,102,49,266,123,282,110,159,132,33,34,39,46,50,40,2827,249,141,69,185,87,219,120,161,120,106,64,100,56,126,60,115,56,29,27,143,83,242,115,374,104,239,95,177,59,306,101,164,80,1773,189,86,52,114,55,221,105,177,82,112,54,136,63,46,25,109,53,105,62,130,46,172,71,143,59,87,41,37,25,58,42,40,38,48893,4719,"-","**",49704,13702,65920,10082,39450,7532]
[]
["Number of Households by Income"]
["NAME","HHIncLessThn10k",{"$f":"\"MOE \"&B119","v":"MOE HHIncLessThn10k"},"HHInc10to15K",{"$f":"\"MOE \"&D119","v":"MOE HHInc10to15K"},"HHInc15to25K",{"$f":"\"MOE \"&F119","v":"MOE HHInc15to25K"},"HHInc25to35K",{"$f":"\"MOE \"&H119","v":"MOE HHInc25to35K"},"HHInc35to50K",{"$f":"\"MOE \"&J119","v":"MOE HHInc35to50K"},"HHInc50to75K",{"$f":"\"MOE \"&L119","v":"MOE HHInc50to75K"},"HHInc75to100K",{"$f":"\"MOE \"&N119","v":"MOE HHInc75to100K"},"HHInc100to150K",{"$f":"\"MOE \"&P119","v":"MOE HHInc100to150K"},"HHInc150to200K",{"$f":"\"MOE \"&R119","v":"MOE HHInc150to200K"},"HHIncOver200K",{"$f":"\"MOE \"&T119","v":"MOE HHIncOver200K"}]
[{"$f":"VLOOKUP(DropDownList!$A$19,CntyQuery!$A$53:$DN$64,A$1)","v":"Laconia"},536,177,441,120,801,188.43035848822237,738,187.5446613476374,1300,260.03269025259112,1226,234.3608329051593,624,165,1007,206.81392603013947,288,95,182,74]
[]
["POVERTY DATA"]
["NAME","TotalPop",{"$f":"\"MOE \"&B123","v":"MOE TotalPop"},"Total Individuals living in Poverty",{"$f":"\"MOE \"&D123","v":"MOE Total Individuals living in Poverty"},"Under 5 yrs.",{"$f":"\"MOE \"&F123","v":"MOE Under 5 yrs."},"5 to 17 yrs.",{"$f":"\"MOE \"&H123","v":"MOE 5 to 17 yrs."},"18 to 64 yrs.",{"$f":"\"MOE \"&J123","v":"MOE 18 to 64 yrs."},"65 to 74 yrs.",{"$f":"\"MOE \"&L123","v":"MOE 65 to 74 yrs."},"75 yrs. & Over",{"$f":"\"MOE \"&N123","v":"MOE 75 yrs. & Over"},"Total Individuals  Not living Poverty",{"$f":"\"MOE \"&P123","v":"MOE Total Individuals  Not living Poverty"},"Under 5 yrs.",{"$f":"\"MOE \"&R123","v":"MOE Under 5 yrs."},"5 to 17 yrs.",{"$f":"\"MOE \"&T123","v":"MOE 5 to 17 yrs."},"18 to 64 yrs.",{"$f":"\"MOE \"&V123","v":"MOE 18 to 64 yrs."},"65 to 74 yrs.",{"$f":"\"MOE \"&X123","v":"MOE 65 to 74 yrs."},"75 yrs. & Over",{"$f":"\"MOE \"&Z123","v":"MOE 75 yrs. & Over"},"Total HH",{"$f":"\"MOE \"&AB123","v":"MOE Total HH"},"Total Households Below Poverty",{"$f":"\"MOE \"&AD123","v":"MOE Total Households Below Poverty"},"Family Households in Poverty",{"$f":"\"MOE \"&AF123","v":"MOE Family Households in Poverty"},"Married Couple Fam HH",{"$f":"\"MOE \"&AH123","v":"MOE Married Couple Fam HH"},"Other Family",{"$f":"\"MOE \"&AJ123","v":"MOE Other Family"},"Male Head of Family HH no spouse",{"$f":"\"MOE \"&AL123","v":"MOE Male Head of Family HH no spouse"},"Female Head of Family HH no spouse",{"$f":"\"MOE \"&AN123","v":"MOE Female Head of Family HH no spouse"},"Non-Family HH",{"$f":"\"MOE \"&AP123","v":"MOE Non-Family HH"},"Non-Family Male HH",{"$f":"\"MOE \"&AR123","v":"MOE Non-Family Male HH"},"Non-Family Female HH",{"$f":"\"MOE \"&AT123","v":"MOE Non-Family Female HH"},"Total Households at or Above Poverty",{"$f":"\"MOE \"&AV123","v":"MOE Total Households at or Above Poverty"},"Family Households above Poverty",{"$f":"\"MOE \"&AX123","v":"MOE Family Households above Poverty"},"Married Couple Fam HH",{"$f":"\"MOE \"&AZ123","v":"MOE Married Couple Fam HH"},"Other Family",{"$f":"\"MOE \"&BB123","v":"MOE Other Family"},"Male Head of Family HH no spouse",{"$f":"\"MOE \"&BD123","v":"MOE Male Head of Family HH no spouse"},"Female Head of Family HH no spouse",{"$f":"\"MOE \"&BF123","v":"MOE Female Head of Family HH no spouse"},"Non-Family HH",{"$f":"\"MOE \"&BH123","v":"MOE Non-Family HH"},"Non-Family Male HH",{"$f":"\"MOE \"&BJ123","v":"MOE Non-Family Male HH"},"Non-Family Female HH",{"$f":"\"MOE \"&BL123","v":"MOE Non-Family Female HH"},"Married Couple with Children Below Poverty",{"$f":"\"MOE \"&BN123","v":"MOE Married Couple with Children Below Poverty"},"Male HH with children below poverty",{"$f":"\"MOE \"&BP123","v":"MOE Male HH with children below poverty"},"Female HH with children below poverty",{"$f":"\"MOE \"&BR123","v":"MOE Female HH with children below poverty"},"Married Couple with Children At or Above Poverty",{"$f":"\"MOE \"&BT123","v":"MOE Married Couple with Children At or Above Poverty"},"Male HH with children at or above poverty",{"$f":"\"MOE \"&BV123","v":"MOE Male HH with children at or above poverty"},"Female HH with children at or above poverty",{"$f":"\"MOE \"&BX123","v":"MOE Female HH with children at or above poverty"}]
[{"$f":"VLOOKUP(DropDownList!$A$19,CntyQuery!$A$53:$DN$64,A$1)","v":"Laconia"},15571,209,2557,733,325,149.56603892595405,558,216.99308744750374,1503,286.00349648212347,71,48.020828814171878,100,52.839379254491625,13014,797,576,202.37094653136353,1500,320.71794461800857,8409,551.3383716013243,1528,180.23595645708434,242,87.418533504057365,6740,357,961,228,516,166,217,109,299,129,40,33,259,124,445,135,184,110,261,85,5779,429,3590,282,2736,283,854,191,201,86,653,192,2189,308,939,186,1250,254,120,110,9,14,247,122,763,201,99,86,333,124]
[]
["Household Income By Tenure"]
["NAME","TotalOccHU",{"$f":"\"MOE \"&B127","v":"MOE TotalOccHU"},"OwnOccHU",{"$f":"\"MOE \"&D127","v":"MOE OwnOccHU"},"OOHUInc<5K",{"$f":"\"MOE \"&F127","v":"MOE OOHUInc<5K"},"OOHUInc5to10K",{"$f":"\"MOE \"&H127","v":"MOE OOHUInc5to10K"},"OOHUInc10to15K",{"$f":"\"MOE \"&J127","v":"MOE OOHUInc10to15K"},"OOHUInc15to20K",{"$f":"\"MOE \"&L127","v":"MOE OOHUInc15to20K"},"OOHUInc20to25K",{"$f":"\"MOE \"&N127","v":"MOE OOHUInc20to25K"},"OOHUInc25to35K",{"$f":"\"MOE \"&P127","v":"MOE OOHUInc25to35K"},"OOHUInc35to50K",{"$f":"\"MOE \"&R127","v":"MOE OOHUInc35to50K"},"OOHUInc50to75K",{"$f":"\"MOE \"&T127","v":"MOE OOHUInc50to75K"},"OOHUInc75to100K",{"$f":"\"MOE \"&V127","v":"MOE OOHUInc75to100K"},"OOHUInc100to150K",{"$f":"\"MOE \"&X127","v":"MOE OOHUInc100to150K"},"OOHUInc>150K",{"$f":"\"MOE \"&Z127","v":"MOE OOHUInc>150K"},"RentOccHU",{"$f":"\"MOE \"&AB127","v":"MOE RentOccHU"},"ROHUInc<5K",{"$f":"\"MOE \"&AD127","v":"MOE ROHUInc<5K"},"ROHUInc5to10K",{"$f":"\"MOE \"&AF127","v":"MOE ROHUInc5to10K"},"ROHUInc10to15K",{"$f":"\"MOE \"&AH127","v":"MOE ROHUInc10to15K"},"ROHUInc15to20K",{"$f":"\"MOE \"&AJ127","v":"MOE ROHUInc15to20K"},"ROHUInc20to25K",{"$f":"\"MOE \"&AL127","v":"MOE ROHUInc20to25K"},"ROHUInc25to35K",{"$f":"\"MOE \"&AN127","v":"MOE ROHUInc25to35K"},"ROHUInc35to50K",{"$f":"\"MOE \"&AP127","v":"MOE ROHUInc35to50K"},"ROHUInc50to75K",{"$f":"\"MOE \"&AR127","v":"MOE ROHUInc50to75K"},"ROHUInc75to100K",{"$f":"\"MOE \"&AT127","v":"MOE ROHUInc75to100K"},"ROHUInc100to150K",{"$f":"\"MOE \"&AV127","v":"MOE ROHUInc100to150K"},"ROHUInc>150K",{"$f":"\"MOE \"&AX127","v":"MOE ROHUInc>150K"},"Total OCC HUInc<5K",{"$f":"\"MOE \"&AZ127","v":"MOE Total OCC HUInc<5K"},"Total OCC HUInc5to10K",{"$f":"\"MOE \"&BB127","v":"MOE Total OCC HUInc5to10K"},"Total OCC HUInc10to15K",{"$f":"\"MOE \"&BD127","v":"MOE Total OCC HUInc10to15K"},"Total OCC HUInc15to20K",{"$f":"\"MOE \"&BF127","v":"MOE Total OCC HUInc15to20K"},"Total OCC HUInc20to25K",{"$f":"\"MOE \"&BH127","v":"MOE Total OCC HUInc20to25K"},"Total OCC HUInc25to35K",{"$f":"\"MOE \"&BJ127","v":"MOE Total OCC HUInc25to35K"},"Total OCC HUInc35to50K",{"$f":"\"MOE \"&BL127","v":"MOE Total OCC HUInc35to50K"},"Total OCC HUInc50to75K",{"$f":"\"MOE \"&BN127","v":"MOE Total OCC HUInc50to75K"},"Total OCC HUInc75to100K",{"$f":"\"MOE \"&BP127","v":"MOE Total OCC HUInc75to100K"},"Total OCC HUInc100to150K",{"$f":"\"MOE \"&BR127","v":"MOE Total OCC HUInc100to150K"},"Total OCC HUInc>150K",{"$f":"\"MOE \"&BT127","v":"MOE Total OCC HUInc>150K"},"MedHHInc",{"$f":"\"MOE \"&BV127","v":"MOE MedHHInc"},"MedOwnOccHHInc",{"$f":"\"MOE \"&BX127","v":"MOE MedOwnOccHHInc"},"MedRentOccHHInc",{"$f":"\"MOE \"&BZ127","v":"MOE MedRentOccHHInc"}]
[{"$f":"VLOOKUP(DropDownList!$A$19,CntyQuery!$A$53:$DN$64,A$1)","v":"Laconia"},6740,357,3650,271,71,55,32,27,19,19,299,151,110,55,259,109,417,125,657,139,642,135,568,117,576,115,3090,253,148,90,142,66,327,117,329,139,381,173,421,123,496,195,444,154,157,88,164,128,81,75,223,108.30050784737807,211,92.17917335276988,384,113.65298060323803,633,199.42417105255822,392,145.7737973711325,651,152.8201557386983,894,180.47991578012218,1177,228.03727765433439,791,162.33915116200404,820,186.1316738225926,600,139.29106216839614,48893,4719,73566,8041,29549,6400]
[]
["Population Data"]
["NAME","Total Population","MOE Total Population","Under 15 Years","MOE Under 15 yrs.","15 to 24 yrs.","MOE 15 to 24 yrs.","25 to 34 yrs.","MOE 25 to 34 yrs.","35 to 44 yrs.","MOE 35 to 44 yrs.","45 to 54 yrs.","MOE 45 to 54 yrs.","55 to 64 yrs.","MOE 55 to 64 yrs.","65 to 74 yrs.","MOE 65 to 74 yrs.","Over 74 yrs. ","MOE Over 74 yrs. ","TotalHH","MOE TotalHH","FamilyHH","MOE FamilyHH","MarriedFamilyHH","MOE MarriedFamilyHH","SingleFamilyHH","MOE SingleFamilyHH","Sfamily-MaleHH","MOE Sfamily-MaleHH","Sfamily-FemaleHH","MOE Sfamily-FemaleHH","NonFamilyHH","MOE NonFamilyHH","NonFamilyHH-LivingAlone","MOE NonFamilyHH-LivingAlone","NonFamilyHH-NotLivingAlone","MOE NonFamilyHH-NotLivingAlone","PopRaceWhite","MOE PopRaceWhite","PopRaceBlack","MOE PopRaceBlack","PopRaceAmerican Indian","MOE PopRaceAmerican Indian","PopRaceAsian &Pacific Is.","MOE PopRaceAsian &Pacific Is.","PopRaceOther*","MOE PopRaceOther*","PopRaceHispanic or Latino:","MOE PopRaceHispanic or Latino:","AvgAgeTotalPop","MOE AvgAgeTotalPop","AvgAgeMale","MOE AvgAgeMale","AvgAgeFemale","MOE AvgAgeFemale","AvgHHSizeTotal","MOE AvgHHSizeTotal","AvgHHSizeFamilyHH","MOE AvgHHSizeFamilyHH","AvgHHSizeNonFamilyHH","MOE AvgHHSizeNonFamilyHH"]
[{"$f":"VLOOKUP(DropDownList!$A$19,CntyQuery!$A$53:$DN$64,A$1)","v":"Laconia"},2973,16,456,83.252627586160912,285,76.81145747868608,228,62.153036933041335,305,56.577380639262543,455,84.178382022939829,714,110.48076755707302,344,59.219929077971713,186,58.591808301161009,1118,83,842,71,749,70,93,48,35,32,58,33,276,77,187,61,89,41,2804,122,16,20,0,11,47,48.332183894378289,59,61,47,43,48,2.5,47.6,2,50.2,4.9000000000000004,2.650268336314848,0.19734185595657408,3.0676959619952493,0.2887320534198704,1.3768115942028984,0.5509161646581282]
[]
["Nativity and Prior Place of Residence"]
["NAME","TotalPop",{"$f":"\"MOE \"&B135","v":"MOE TotalPop"},"Native:",{"$f":"\"MOE \"&D135","v":"MOE Native:"},"NatBornInStateOfResidence",{"$f":"\"MOE \"&F135","v":"MOE NatBornInStateOfResidence"},"Born in other state in the United States:",{"$f":"\"MOE \"&H135","v":"MOE Born in other state in the United States:"},"Northeast",{"$f":"\"MOE \"&J135","v":"MOE Northeast"},"Midwest",{"$f":"\"MOE \"&L135","v":"MOE Midwest"},"South",{"$f":"\"MOE \"&N135","v":"MOE South"},"West",{"$f":"\"MOE \"&P135","v":"MOE West"},"Born outside the United States:",{"$f":"\"MOE \"&R135","v":"MOE Born outside the United States:"},"Puerto Rico",{"$f":"\"MOE \"&T135","v":"MOE Puerto Rico"},"U.S. Island Areas",{"$f":"\"MOE \"&V135","v":"MOE U.S. Island Areas"},"Born abroad of American parent(s)",{"$f":"\"MOE \"&X135","v":"MOE Born abroad of American parent(s)"},"Foreign born:",{"$f":"\"MOE \"&Z135","v":"MOE Foreign born:"},"Naturalized U.S. citizen",{"$f":"\"MOE \"&AB135","v":"MOE Naturalized U.S. citizen"},"Not a U.S. citizen",{"$f":"\"MOE \"&AD135","v":"MOE Not a U.S. citizen"},"CurrentResideneTotal:",{"$f":"\"MOE \"&AF135","v":"MOE CurrentResideneTotal:"},"SameHouse:",{"$f":"\"MOE \"&AH135","v":"MOE SameHouse:"},"DifferentHouse:",{"$f":"\"MOE \"&AJ135","v":"MOE DifferentHouse:"},"DiffHouseInNH",{"$f":"\"MOE \"&AL135","v":"MOE DiffHouseInNH"},"DiffHouseInNHSameCnty",{"$f":"\"MOE \"&AN135","v":"MOE DiffHouseInNHSameCnty"},"DiffHouseInNHDiffCnty",{"$f":"\"MOE \"&AP135","v":"MOE DiffHouseInNHDiffCnty"},"DiffHouseInDiffState",{"$f":"\"MOE \"&AR135","v":"MOE DiffHouseInDiffState"},"DiffHouseInElsewhere",{"$f":"\"MOE \"&AT135","v":"MOE DiffHouseInElsewhere"}]
[{"$f":"VLOOKUP(DropDownList!$A$19,CntyQuery!$A$53:$DN$64,A$1)","v":"Laconia"},2973,16,2894,61,1578,131,1296,133,915,142,134,64,143,64,104,34,20,15,2,4,0,11,18,15,79,59,74,57,5,11,2954,26,2795,62,159,58.915193286621744,118,53.907327887774215,85,41,33,35,36,22,5,9,35,43]
[]
["School Attainment & Enrollment"]
["NAME","Total Pop 3 Years and Older","MOE Total Pop 3 Years and Older","SchEnrlPop3yrOver",{"$f":"\"MOE \"&D139","v":"MOE SchEnrlPop3yrOver"},"TotalEnrollNursy&Kinder",{"$f":"\"MOE \"&F139","v":"MOE TotalEnrollNursy&Kinder"},"NurserSchEnrl",{"$f":"\"MOE \"&H139","v":"MOE NurserSchEnrl"},"KinderSchEnrl",{"$f":"\"MOE \"&J139","v":"MOE KinderSchEnrl"},"ElemSchEnrl (1-8)",{"$f":"\"MOE \"&L139","v":"MOE ElemSchEnrl (1-8)"},"HighSchEnrl(9-12)",{"$f":"\"MOE \"&N139","v":"MOE HighSchEnrl(9-12)"},"TotalElementry&HSEnroll",{"$f":"\"MOE \"&P139","v":"MOE TotalElementry&HSEnroll"},"CollGradSchEnrl",{"$f":"\"MOE \"&R139","v":"MOE CollGradSchEnrl"},"PopNotEnrolled","MOE PopNotEnrolled","Pop25yrsOver",{"$f":"\"MOE \"&V139","v":"MOE Pop25yrsOver"},"EduAtain<9grd",{"$f":"\"MOE \"&X139","v":"MOE EduAtain<9grd"},"EduAtainHSnoDip",{"$f":"\"MOE \"&Z139","v":"MOE EduAtainHSnoDip"},"EduAtainHSgrad",{"$f":"\"MOE \"&AB139","v":"MOE EduAtainHSgrad"},"EduAtainCollNoDeg",{"$f":"\"MOE \"&AD139","v":"MOE EduAtainCollNoDeg"},"EduAtainAssocDeg",{"$f":"\"MOE \"&AF139","v":"MOE EduAtainAssocDeg"},"EduAtainBachDeg",{"$f":"\"MOE \"&AH139","v":"MOE EduAtainBachDeg"},"EduAtainGradProfDeg",{"$f":"\"MOE \"&AJ139","v":"MOE EduAtainGradProfDeg"}]
[{"$f":"VLOOKUP(DropDownList!$A$19,CntyQuery!$A$53:$DN$64,A$1)","v":"Laconia"},2934,33,641,98,71,34.985711369071801,48,30,23,18,293,73.061617830431317,161,52,454,89.677198885781436,116,49.040799340956916,2293,93,2232,93,21,27.586228448267445,43,31.701734968294716,528,97.580735803743565,444,96.431322712073182,319,75.690157880665041,470,84.64632301523794,392,90.31057523900509]
[]
["Occupied Owner Housing Value"]
["NAME","Estimate; Total:","Margin of Error; Total:","Estimate; Total: - Less than $10,000","Margin of Error; Total: - Less than $10,000","Estimate; Total: - $10,000 to $14,999","Margin of Error; Total: - $10,000 to $14,999","Estimate; Total: - $15,000 to $19,999","Margin of Error; Total: - $15,000 to $19,999","Estimate; Total: - $20,000 to $24,999","Margin of Error; Total: - $20,000 to $24,999","Estimate; Total: - $25,000 to $29,999","Margin of Error; Total: - $25,000 to $29,999","Estimate; Total: - $30,000 to $34,999","Margin of Error; Total: - $30,000 to $34,999","Estimate; Total: - $35,000 to $39,999","Margin of Error; Total: - $35,000 to $39,999","Estimate; Total: - $40,000 to $49,999","Margin of Error; Total: - $40,000 to $49,999","Estimate; Total: - $50,000 to $59,999","Margin of Error; Total: - $50,000 to $59,999","Estimate; Total: - $60,000 to $69,999","Margin of Error; Total: - $60,000 to $69,999","Estimate; Total: - $70,000 to $79,999","Margin of Error; Total: - $70,000 to $79,999","Estimate; Total: - $80,000 to $89,999","Margin of Error; Total: - $80,000 to $89,999","Estimate; Total: - $90,000 to $99,999","Margin of Error; Total: - $90,000 to $99,999","Estimate; Total: - $100,000 to $124,999","Margin of Error; Total: - $100,000 to $124,999","Estimate; Total: - $125,000 to $149,999","Margin of Error; Total: - $125,000 to $149,999","Estimate; Total: - $150,000 to $174,999","Margin of Error; Total: - $150,000 to $174,999","Estimate; Total: - $175,000 to $199,999","Margin of Error; Total: - $175,000 to $199,999","Estimate; Total: - $200,000 to $249,999","Margin of Error; Total: - $200,000 to $249,999","Estimate; Total: - $250,000 to $299,999","Margin of Error; Total: - $250,000 to $299,999","Estimate; Total: - $300,000 to $399,999","Margin of Error; Total: - $300,000 to $399,999","Estimate; Total: - $400,000 to $499,999","Margin of Error; Total: - $400,000 to $499,999","Estimate; Total: - $500,000 to $749,999","Margin of Error; Total: - $500,000 to $749,999","Estimate; Total: - $750,000 to $999,999","Margin of Error; Total: - $750,000 to $999,999","Estimate; Total: - $1,000,000 to $1,499,999","Margin of Error; Total: - $1,000,000 to $1,499,999","Estimate; Total: - $1,500,000 to $1,999,999","Margin of Error; Total: - $1,500,000 to $1,999,999","Estimate; Total: - $2,000,000 or more","Margin of Error; Total: - $2,000,000 or more","MedianOwnOCCHomeValue","MOE MedianOwnOCCHomeValue","OnwerOccHsU","MOE OnwerOccHsU","OwnerCosts>20PctHHInc","MOE OwnerCosts>20PctHHInc","OwnerCosts20to29.9PctHHInc","MOE OwnerCosts20to29.9PctHHInc","OwnerCosts<30PctHHInc","MOE OwnerCosts<30PctHHInc","OwnerCosts>30PctHHInc","MOE OwnerCosts>30PctHHInc","OwnerCosts30to34.9PctHHInc","MOE OwnerCosts30to34.9PctHHInc","OwnerCosts<35PctHHInc","MOE OwnerCosts<35PctHHInc","OwnerCosts>35PctHHInc","MOE OwnerCosts>35PctHHInc","OwnerCosts>50PctHHInc","MOE OwnerCosts>50PctHHInc","OwnerCostsPctNotcomputed","MOE OwnerCostsPctNotcomputed","OwnerOHUHhInc<20k","MOE OwnerOHUHhInc<20k","OwnerOHUHhInc<20kHCosts<20pct","MOE OwnerOHUHhInc<20kHCosts<20pct","OwnerOHUHhInc<20kHCosts20to29pct","MOE OwnerOHUHhInc<20kHCosts20to29pct","OwnerOHUHhInc>20kHCosts30pct","MOE OwnerOHUHhInc>20kHCosts30pct","OwnerOHUHhInc20kTo34999","MOE OwnerOHUHhInc20kTo34999","OwnerOHUHhInc20kTo34999HCosts<20pct","MOE OwnerOHUHhInc20kTo34999HCosts<20pct","OwnerOHUHhInc20kTo34999HCosts20to29pct","MOE OwnerOHUHhInc20kTo34999HCosts20to29pct","OwnerOHUHhInc20kTo34999HCosts30pct","MOE OwnerOHUHhInc20kTo34999HCosts30pct","OwnerOHUHhInc35kTo49999","MOE OwnerOHUHhInc35kTo49999","OwnerOHUHhInc35kTo49999HCosts<20pct","MOE OwnerOHUHhInc35kTo49999HCosts<20pct","OwnerOHUHhInc35kTo49999HCosts20to29pct","MOE OwnerOHUHhInc35kTo49999HCosts20to29pct","OwnerOHUHhInc35kTo49999HCosts30pct","MOE OwnerOHUHhInc35kTo49999HCosts30pct","OwnerOHUHhInc50kTo74999","MOE OwnerOHUHhInc50kTo74999","OwnerOHUHhInc50kTo74999HCosts<20pct","MOE OwnerOHUHhInc50kTo74999HCosts<20pct","OwnerOHUHhInc50kTo74999HCosts20to29pct","MOE OwnerOHUHhInc50kTo74999HCosts20to29pct","OwnerOHUHhInc50kTo74999HCosts30pct","MOE OwnerOHUHhInc50kTo74999HCosts30pct","OwnerOHUHhInc>75000","MOE OwnerOHUHhInc>75000","OwnerOHUHhInc>75000HCosts<20pct","MOE OwnerOHUHhInc>75000HCosts<20pct","OwnerOHUHhInc>75000HCosts20to29pct","MOE OwnerOHUHhInc>75000HCosts20to29pct","OwnerOHUHhInc>75000HCosts30pct","MOE OwnerOHUHhInc>75000HCosts30pct","ZeroOrNegativeIncome","MOE ZeroOrNegativeIncome"]
[{"$f":"VLOOKUP(DropDownList!$A$19,CntyQuery!$A$53:$DN$64,A$1)","v":"Laconia"},3650,271,17,20,0,17,20,22,28,34,8,13,12,20,0,17,6,10,32,31,65,33,73,53,42,31,82,49,460,133,368,117,565,133,384,133,439,129,359,112,360,92,139,62,72,40,70,52,49,36,0,17,0,17,178100,10709,3650,271,1696,238.36736353788032,847,179.27353401994395,2543,298.25827733694166,1094,231.54913085563504,232,92.763139231054481,2775,312.35076436596086,862,212.15560327269228,599,194.05411616350733,13,27.018512172212592,326,121,0,18,8,13,318,121,430,133,57,40,92,52,281,113,457,124,160,90,122,59,175,79,602,138,269,100,138,67,195,81,1953,199,1427,205,451,122,75,52,18,27]
[]
["Occupied Rental Housing Value"]
["NAME","RntrOccHU","MOE RntrOccHU","RntrOccHUwRent","MOE RntrOccHUwRent","ROHUGRent<100","MOE ROHUGRent<100","ROHUGRent100to149","MOE ROHUGRent100to149","ROHUGRent150to199","MOE ROHUGRent150to199","ROHUGRent200to249","MOE ROHUGRent200to249","ROHUGRent250to299","MOE ROHUGRent250to299","ROHUGRent300to349","MOE ROHUGRent300to349","ROHUGRent350to399","MOE ROHUGRent350to399","ROHUGRent400to449","MOE ROHUGRent400to449","ROHUGRent450to499","MOE ROHUGRent450to499","ROHUGRent500to549","MOE ROHUGRent500to549","ROHUGRent550to599","MOE ROHUGRent550to599","ROHUGRent600to649","MOE ROHUGRent600to649","ROHUGRent650to699","MOE ROHUGRent650to699","ROHUGRent700to749","MOE ROHUGRent700to749","ROHUGRent750to799","MOE ROHUGRent750to799","ROHUGRent800to899","MOE ROHUGRent800to899","ROHUGRent900to999","MOE ROHUGRent900to999","ROHUGRent1000to1249","MOE ROHUGRent1000to1249","ROHUGRent1250to1499","MOE ROHUGRent1250to1499","ROHUGRent1500to1999","MOE ROHUGRent1500to1999","ROHUGRent$2,000 to $2,499","MOE ROHUGRent$2,000 to $2,499","ROHUGRent$2,500 to $2,999","MOE ROHUGRent$2,500 to $2,999","ROHUGRent$3,000 to $3,499","MOE ROHUGRent$3,000 to $3,499","ROHUGRent$3,500 or more","MOE ROHUGRent$3,500 or more","ROHUNoGRent","MOE ROHUNoGRent","MedianGrossRnt","MOE MedianGrossRnt","H73RenterOccHU","MOE H73RenterOccHU","H73ROHUHhInc<10k","MOE H73ROHUHhInc<10k","H73ROHUHhInc<10kRnt<20pct","MOE H73ROHUHhInc<10kRnt<20pct","H73ROHUHhInc<10kRnt20to25pct","MOE H73ROHUHhInc<10kRnt20to25pct","H73ROHUHhInc<10kRnt25to30pct","MOE H73ROHUHhInc<10kRnt25to30pct","H73ROHUHhInc<10kRnt30to35pct","MOE H73ROHUHhInc<10kRnt30to35pct","H73ROHUHhInc<10kRnt35to39.9","MOE H73ROHUHhInc<10kRnt35to39.9","H73ROHUHhInc<10kRnt40to49.9","MOE H73ROHUHhInc<10kRnt40to49.9","H73ROHUHhInc<10kRnt>50pct","MOE H73ROHUHhInc<10kRnt>50pct","H73ROHUHhInc<10kPctNotComput","MOE H73ROHUHhInc<10kPctNotComput","H73ROHUHhInc10to20k","MOE H73ROHUHhInc10to20k","H73ROHUHhInc10to20kRnt<20pct","MOE H73ROHUHhInc10to20kRnt<20pct","H73ROHUHhInc10to20kRnt20to25pct","MOE H73ROHUHhInc10to20kRnt20to25pct","H73ROHUHhInc10to20kRnt25to30pct","MOE H73ROHUHhInc10to20kRnt25to30pct","H73ROHUHhInc10to20kRnt30to35pct","MOE H73ROHUHhInc10to20kRnt30to35pct","H73ROHUHhInc10to20kRnt35to39.9","MOE H73ROHUHhInc10to20kRnt35to39.9","H73ROHUHhInc10to20kRnt40to49.9","MOE H73ROHUHhInc10to20kRnt40to49.9","H73ROHUHhInc10to20kRnt>50pct","MOE H73ROHUHhInc10to20kRnt>50pct","H73ROHUHhInc10to20kRntPctNC","MOE H73ROHUHhInc10to20kRntPctNC","H73ROHUHhInc20to34.9k","MOE H73ROHUHhInc20to34.9k","H73ROHUHhInc20to34.9kRnt<20pct","MOE H73ROHUHhInc20to34.9kRnt<20pct","H73ROHUHhInc20to34.9kRnt20to25pct","MOE H73ROHUHhInc20to34.9kRnt20to25pct","H73ROHUHhInc20to34.9kRnt25to30pct","MOE H73ROHUHhInc20to34.9kRnt25to30pct","H73ROHUHhInc20to34.9kRnt30to35pct","MOE H73ROHUHhInc20to34.9kRnt30to35pct","H73ROHUHhInc20to34.9kRnt35to39.9","MOE H73ROHUHhInc20to34.9kRnt35to39.9","H73ROHUHhInc20to34.9kRnt40to49.9","MOE H73ROHUHhInc20to34.9kRnt40to49.9","H73ROHUHhInc20to34.9kRnt>50pct","MOE H73ROHUHhInc20to34.9kRnt>50pct","H73ROHUHhInc20to34.9kRntPctNC","MOE H73ROHUHhInc20to34.9kRntPctNC","H73ROHUHhInc35to49.9k","MOE H73ROHUHhInc35to49.9k","H73ROHUHhInc35to49.9kRnt<20pct","MOE H73ROHUHhInc35to49.9kRnt<20pct","H73ROHUHhInc35to49.9kRnt20to25pct","MOE H73ROHUHhInc35to49.9kRnt20to25pct","H73ROHUHhInc35to49.9kRnt25to30pct","MOE H73ROHUHhInc35to49.9kRnt25to30pct","H73ROHUHhInc35to49.9kRnt30to35pct","MOE H73ROHUHhInc35to49.9kRnt30to35pct","H73ROHUHhInc35to49.9kRnt35to39.9","MOE H73ROHUHhInc35to49.9kRnt35to39.9","H73ROHUHhInc35to49.9kRnt40to49.9","MOE H73ROHUHhInc35to49.9kRnt40to49.9","H73ROHUHhInc35to49.9kRnt>50pct","MOE H73ROHUHhInc35to49.9kRnt>50pct","H73ROHUHhInc35to49.9kRntPctNC","MOE H73ROHUHhInc35to49.9kRntPctNC","H73ROHUHhInc50to74.9k","MOE H73ROHUHhInc50to74.9k","H73ROHUHhInc50to74.9kRnt<20pct","MOE H73ROHUHhInc50to74.9kRnt<20pct","H73ROHUHhInc50to74.9kRnt20to25pct","MOE H73ROHUHhInc50to74.9kRnt20to25pct","H73ROHUHhInc50to74.9kRnt25to30pct","MOE H73ROHUHhInc50to74.9kRnt25to30pct","H73ROHUHhInc50to74.9kRnt30to35pct","MOE H73ROHUHhInc50to74.9kRnt30to35pct","H73ROHUHhInc50to74.9kRnt35to39.9","MOE H73ROHUHhInc50to74.9kRnt35to39.9","H73ROHUHhInc50to74.9kRnt40to49.9","MOE H73ROHUHhInc50to74.9kRnt40to49.9","H73ROHUHhInc50to74.9kRnt>50pct","MOE H73ROHUHhInc50to74.9kRnt>50pct","H73ROHUHhInc50to74.9kRntPctNC","MOE H73ROHUHhInc50to74.9kRntPctNC","H73ROHUHhInc75to99.9k","MOE H73ROHUHhInc75to99.9k","H73ROHUHhInc75to99.9kRnt<20pct","MOE H73ROHUHhInc75to99.9kRnt<20pct","H73ROHUHhInc75to99.9kRnt20to25pct","MOE H73ROHUHhInc75to99.9kRnt20to25pct","H73ROHUHhInc75to99.9kRnt25to30pct","MOE H73ROHUHhInc75to99.9kRnt25to30pct","H73ROHUHhInc75to99.9kRnt30to35pct","MOE H73ROHUHhInc75to99.9kRnt30to35pct","H73ROHUHhInc75to99.9kRnt35to39.9","MOE H73ROHUHhInc75to99.9kRnt35to39.9","H73ROHUHhInc75to99.9kRnt40to49.9","MOE H73ROHUHhInc75to99.9kRnt40to49.9","H73ROHUHhInc75to99.9kRnt>50pct","MOE H73ROHUHhInc75to99.9kRnt>50pct","H73ROHUHhInc75to99.9kRntPctNC","MOE H73ROHUHhInc75to99.9kRntPctNC","H73ROHUHhInc>100k","MOE H73ROHUHhInc>100k","H73ROHUHhInc>100kRnt<20pct","MOE H73ROHUHhInc>100kRnt<20pct","H73ROHUHhInc>100kRnt20to25pct","MOE H73ROHUHhInc>100kRnt20to25pct","H73ROHUHhInc>100kRnt25to30pct","MOE H73ROHUHhInc>100kRnt25to30pct","H73ROHUHhInc>100kRnt30to35pct","MOE H73ROHUHhInc>100kRnt30to35pct","H73ROHUHhInc>100kRnt35to39.9","MOE H73ROHUHhInc>100kRnt35to39.9","H73ROHUHhInc>100kRnt40to49.9","MOE H73ROHUHhInc>100kRnt40to49.9","H73ROHUHhInc>100kRnt>50pct","MOE H73ROHUHhInc>100kRnt>50pct","H73ROHUHhInc>100kRntPctNC","MOE H73ROHUHhInc>100kRntPctNC"]
[{"$f":"VLOOKUP(DropDownList!$A$19,CntyQuery!$A$53:$DN$64,A$1)","v":"Laconia"},3090,253,3026,238,0,17,28,43,27,29,61,48,63,48,0,17,58,63,15,17,42,32,64,43,22,25,86,93,112,66,194,82,258,106,552,222,337,128,514,159,372,127,168,76,36,30,17,26,0,17,0,17,64,48,888,34,3090,253,290,110,0,17,16,25,30,27,0,17,0,17,0,17,144,73,100,82,656,173,35,42,12,19,57,55,0,17,11,18,89,63,445,141,7,11,802,197,42,45,32,31,44,32,52,48,158,117,134,59,317,137,23,21,496,195,17,20,182,138,189,132,25,21,10,16,41,29,32,32,0,17,444,154,293,145,78,58,44,34,9,15,0,17,0,17,0,17,20,24,157,88,131,83,12,19,0,17,0,17,0,17,0,17,0,17,14,22,245,133,222,131,7,12,16,17,0,17,0,17,0,17,0,17,0,17]
[]
[]
[]
[]
[]
["Occupied Rental Housing Cost Burdern All Incomes"]
["NAME","RntrOccHU","MOE RntrOccHU","RntrOccHUwRent","MOE RntrOccHUwRent","ROHUGRent<100","MOE ROHUGRent<100","ROHUGRent100to149","MOE ROHUGRent100to149","ROHUGRent150to199","MOE ROHUGRent150to199","ROHUGRent200to249","MOE ROHUGRent200to249","ROHUGRent250to299","MOE ROHUGRent250to299","ROHUGRent300to349","MOE ROHUGRent300to349","ROHUGRent350to399","MOE ROHUGRent350to399","ROHUGRent400to449","MOE ROHUGRent400to449","ROHUGRent450to499","MOE ROHUGRent450to499","ROHUGRent500to549","MOE ROHUGRent500to549","ROHUGRent550to599","MOE ROHUGRent550to599","ROHUGRent600to649","MOE ROHUGRent600to649","ROHUGRent650to699","MOE ROHUGRent650to699","ROHUGRent700to749","MOE ROHUGRent700to749","ROHUGRent750to799","MOE ROHUGRent750to799","ROHUGRent800to899","MOE ROHUGRent800to899","ROHUGRent900to999","MOE ROHUGRent900to999","ROHUGRent1000to1249","MOE ROHUGRent1000to1249","ROHUGRent1250to1499","MOE ROHUGRent1250to1499","ROHUGRent1500to1999","MOE ROHUGRent1500to1999","ROHUGRent2000>","MOE ROHUGRent2000>","ROHUNoGRent","MOE ROHUNoGRent","MedianGrossRnt","MOE MedianGrossRnt","H73RenterOccHU","MOE H73RenterOccHU","H73ROHUHhInc<10k","MOE H73ROHUHhInc<10k","H73ROHUHhInc<10kRnt<20pct","MOE H73ROHUHhInc<10kRnt<20pct","H73ROHUHhInc<10kRnt20to25pct","MOE H73ROHUHhInc<10kRnt20to25pct","H73ROHUHhInc<10kRnt25to30pct","MOE H73ROHUHhInc<10kRnt25to30pct","H73ROHUHhInc<10kRnt30to35pct","MOE H73ROHUHhInc<10kRnt30to35pct","H73ROHUHhInc<10kRnt35to39.9","MOE H73ROHUHhInc<10kRnt35to39.9","H73ROHUHhInc<10kRnt40to49.9","MOE H73ROHUHhInc<10kRnt40to49.9","H73ROHUHhInc<10kRnt>50pct","MOE H73ROHUHhInc<10kRnt>50pct","H73ROHUHhInc<10kPctNotComput","MOE H73ROHUHhInc<10kPctNotComput","H73ROHUHhInc10to20k","MOE H73ROHUHhInc10to20k","H73ROHUHhInc10to20kRnt<20pct","MOE H73ROHUHhInc10to20kRnt<20pct","H73ROHUHhInc10to20kRnt20to25pct","MOE H73ROHUHhInc10to20kRnt20to25pct","H73ROHUHhInc10to20kRnt25to30pct","MOE H73ROHUHhInc10to20kRnt25to30pct","H73ROHUHhInc10to20kRnt30to35pct","MOE H73ROHUHhInc10to20kRnt30to35pct","H73ROHUHhInc10to20kRnt35to39.9","MOE H73ROHUHhInc10to20kRnt35to39.9","H73ROHUHhInc10to20kRnt40to49.9","MOE H73ROHUHhInc10to20kRnt40to49.9","H73ROHUHhInc10to20kRnt>50pct","MOE H73ROHUHhInc10to20kRnt>50pct","H73ROHUHhInc10to20kRntPctNC","MOE H73ROHUHhInc10to20kRntPctNC","H73ROHUHhInc20to34.9k","MOE H73ROHUHhInc20to34.9k","H73ROHUHhInc20to34.9kRnt<20pct","MOE H73ROHUHhInc20to34.9kRnt<20pct","H73ROHUHhInc20to34.9kRnt20to25pct","MOE H73ROHUHhInc20to34.9kRnt20to25pct","H73ROHUHhInc20to34.9kRnt25to30pct","MOE H73ROHUHhInc20to34.9kRnt25to30pct","H73ROHUHhInc20to34.9kRnt30to35pct","MOE H73ROHUHhInc20to34.9kRnt30to35pct","H73ROHUHhInc20to34.9kRnt35to39.9","MOE H73ROHUHhInc20to34.9kRnt35to39.9","H73ROHUHhInc20to34.9kRnt40to49.9","MOE H73ROHUHhInc20to34.9kRnt40to49.9","H73ROHUHhInc20to34.9kRnt>50pct","MOE H73ROHUHhInc20to34.9kRnt>50pct","H73ROHUHhInc20to34.9kRntPctNC","MOE H73ROHUHhInc20to34.9kRntPctNC","H73ROHUHhInc35to49.9k","MOE H73ROHUHhInc35to49.9k","H73ROHUHhInc35to49.9kRnt<20pct","MOE H73ROHUHhInc35to49.9kRnt<20pct","H73ROHUHhInc35to49.9kRnt20to25pct","MOE H73ROHUHhInc35to49.9kRnt20to25pct","H73ROHUHhInc35to49.9kRnt25to30pct","MOE H73ROHUHhInc35to49.9kRnt25to30pct","H73ROHUHhInc35to49.9kRnt30to35pct","MOE H73ROHUHhInc35to49.9kRnt30to35pct","H73ROHUHhInc35to49.9kRnt35to39.9","MOE H73ROHUHhInc35to49.9kRnt35to39.9","H73ROHUHhInc35to49.9kRnt40to49.9","MOE H73ROHUHhInc35to49.9kRnt40to49.9","H73ROHUHhInc35to49.9kRnt>50pct","MOE H73ROHUHhInc35to49.9kRnt>50pct","H73ROHUHhInc35to49.9kRntPctNC","MOE H73ROHUHhInc35to49.9kRntPctNC","H73ROHUHhInc50to74.9k","MOE H73ROHUHhInc50to74.9k","H73ROHUHhInc50to74.9kRnt<20pct","MOE H73ROHUHhInc50to74.9kRnt<20pct","H73ROHUHhInc50to74.9kRnt20to25pct","MOE H73ROHUHhInc50to74.9kRnt20to25pct","H73ROHUHhInc50to74.9kRnt25to30pct","MOE H73ROHUHhInc50to74.9kRnt25to30pct","H73ROHUHhInc50to74.9kRnt30to35pct","MOE H73ROHUHhInc50to74.9kRnt30to35pct","H73ROHUHhInc50to74.9kRnt35to39.9","MOE H73ROHUHhInc50to74.9kRnt35to39.9","H73ROHUHhInc50to74.9kRnt40to49.9","MOE H73ROHUHhInc50to74.9kRnt40to49.9","H73ROHUHhInc50to74.9kRnt>50pct","MOE H73ROHUHhInc50to74.9kRnt>50pct","H73ROHUHhInc50to74.9kRntPctNC","MOE H73ROHUHhInc50to74.9kRntPctNC","H73ROHUHhInc75to99.9k","MOE H73ROHUHhInc75to99.9k","H73ROHUHhInc75to99.9kRnt<20pct","MOE H73ROHUHhInc75to99.9kRnt<20pct","H73ROHUHhInc75to99.9kRnt20to25pct","MOE H73ROHUHhInc75to99.9kRnt20to25pct","H73ROHUHhInc75to99.9kRnt25to30pct","MOE H73ROHUHhInc75to99.9kRnt25to30pct","H73ROHUHhInc75to99.9kRnt30to35pct","MOE H73ROHUHhInc75to99.9kRnt30to35pct","H73ROHUHhInc75to99.9kRnt35to39.9","MOE H73ROHUHhInc75to99.9kRnt35to39.9","H73ROHUHhInc75to99.9kRnt40to49.9","MOE H73ROHUHhInc75to99.9kRnt40to49.9","H73ROHUHhInc75to99.9kRnt>50pct","MOE H73ROHUHhInc75to99.9kRnt>50pct","H73ROHUHhInc75to99.9kRntPctNC","MOE H73ROHUHhInc75to99.9kRntPctNC","H73ROHUHhInc>100k","MOE H73ROHUHhInc>100k","H73ROHUHhInc>100kRnt<20pct","MOE H73ROHUHhInc>100kRnt<20pct","H73ROHUHhInc>100kRnt20to25pct","MOE H73ROHUHhInc>100kRnt20to25pct","H73ROHUHhInc>100kRnt25to30pct","MOE H73ROHUHhInc>100kRnt25to30pct","H73ROHUHhInc>100kRnt30to35pct","MOE H73ROHUHhInc>100kRnt30to35pct","H73ROHUHhInc>100kRnt35to39.9","MOE H73ROHUHhInc>100kRnt35to39.9","H73ROHUHhInc>100kRnt40to49.9","MOE H73ROHUHhInc>100kRnt40to49.9","H73ROHUHhInc>100kRnt>50pct","MOE H73ROHUHhInc>100kRnt>50pct","H73ROHUHhInc>100kRntPctNC","MOE H73ROHUHhInc>100kRntPctNC"]
[{"$f":"VLOOKUP(DropDownList!$A$19,CntyQuery!$A$53:$DN$64,A$1)","v":"Laconia"},3090,253,740,222.40953216982405,339,150,380,165,1459,314.94602712210866,1467,256.5891657884253,86,56,1545,319.88591716422906,1381,250.40367409445093,938,203,164,91]
[]
["Income By Household Type and Tenure"]
["NAME","TotalFamilyHouseholds",{"$f":"\"MOE \"&B159","v":"MOE TotalFamilyHouseholds"},"FamInc<10K",{"$f":"\"MOE \"&D159","v":"MOE FamInc<10K"},"FamInc10to15K",{"$f":"\"MOE \"&F159","v":"MOE FamInc10to15K"},"FamInc15to20K",{"$f":"\"MOE \"&H159","v":"MOE FamInc15to20K"},"FamInc20to25K",{"$f":"\"MOE \"&J159","v":"MOE FamInc20to25K"},"FamInc25to30K",{"$f":"\"MOE \"&L159","v":"MOE FamInc25to30K"},"FamInc30to35K",{"$f":"\"MOE \"&N159","v":"MOE FamInc30to35K"},"FamInc35to40K",{"$f":"\"MOE \"&P159","v":"MOE FamInc35to40K"},"FamInc40to45K",{"$f":"\"MOE \"&R159","v":"MOE FamInc40to45K"},"FamInc45to50K",{"$f":"\"MOE \"&T159","v":"MOE FamInc45to50K"},"FamInc50to60K",{"$f":"\"MOE \"&V159","v":"MOE FamInc50to60K"},"FamInc60to75K",{"$f":"\"MOE \"&X159","v":"MOE FamInc60to75K"},"FamInc75to100K",{"$f":"\"MOE \"&Z159","v":"MOE FamInc75to100K"},"FamInc100to125K",{"$f":"\"MOE \"&AB159","v":"MOE FamInc100to125K"},"FamInc125to150K",{"$f":"\"MOE \"&AD159","v":"MOE FamInc125to150K"},"FamInc150to200K",{"$f":"\"MOE \"&AF159","v":"MOE FamInc150to200K"},"FamInc>200K",{"$f":"\"MOE \"&AH159","v":"MOE FamInc>200K"},"MedFamInc",{"$f":"\"MOE \"&AJ159","v":"MOE MedFamInc"},"TotalNonNonFamilyHouseholds",{"$f":"\"MOE \"&AL159","v":"MOE TotalNonNonFamilyHouseholds"},"NonFamInc<10K",{"$f":"\"MOE \"&AN159","v":"MOE NonFamInc<10K"},"NonFamInc10to15K",{"$f":"\"MOE \"&AP159","v":"MOE NonFamInc10to15K"},"NonFamInc15to20K",{"$f":"\"MOE \"&AR159","v":"MOE NonFamInc15to20K"},"NonFamInc20to25K",{"$f":"\"MOE \"&AT159","v":"MOE NonFamInc20to25K"},"NonFamInc25to30K",{"$f":"\"MOE \"&AV159","v":"MOE NonFamInc25to30K"},"NonFamInc30to35K",{"$f":"\"MOE \"&AX159","v":"MOE NonFamInc30to35K"},"NonFamInc35to40K",{"$f":"\"MOE \"&AZ159","v":"MOE NonFamInc35to40K"},"NonFamInc40to45K",{"$f":"\"MOE \"&BB159","v":"MOE NonFamInc40to45K"},"NonFamInc45to50K",{"$f":"\"MOE \"&BD159","v":"MOE NonFamInc45to50K"},"NonFamInc50to60K",{"$f":"\"MOE \"&BF159","v":"MOE NonFamInc50to60K"},"NonFamInc60to75K",{"$f":"\"MOE \"&BH159","v":"MOE NonFamInc60to75K"},"NonFamInc75to100K",{"$f":"\"MOE \"&BJ159","v":"MOE NonFamInc75to100K"},"NonFamInc100to125K",{"$f":"\"MOE \"&BL159","v":"MOE NonFamInc100to125K"},"NonFamInc125to150K",{"$f":"\"MOE \"&BN159","v":"MOE NonFamInc125to150K"},"NonFamInc150to200K",{"$f":"\"MOE \"&BP159","v":"MOE NonFamInc150to200K"},"NonFamInc>200K",{"$f":"\"MOE \"&BR159","v":"MOE NonFamInc>200K"},"MedNonFamInc",{"$f":"\"MOE \"&BT159","v":"MOE MedNonFamInc"}]
[{"$f":"VLOOKUP(DropDownList!$A$19,CntyQuery!$A$53:$DN$64,A$1)","v":"Laconia"},2634,309,209,82,269,100,492,177,265,125,148,66,153,77,185,116,94,55,133,91,121,54,174,91,142,81,67,41,60,39,66,53,56,47,26737,5942,2634,309,209,82,269,100,492,177,265,125,148,66,153,77,185,116,94,55,133,91,121,54,174,91,142,81,67,41,60,39,66,53,56,47,null,null,26737,5942]

{"sheet":"CntyDataLinkPrior10YearEstimate","index":13,"n_rows":160,"n_cols":185,"rows_kept":160,"cut":false,"hidden":true,"merged":[]}
[1,{"$f":"A1+1","v":2},3,4,5,6,7,8,9,10,11,12,13,14,15,16,17,18,19,20,21,22,23,24,25,26,27,28,29,30,31,32,33,34,35,36,37,38,39,40,41,42,43,44,45,46,47,48,49,50,51,52,53,54,55,56,57,58,59,60,61,62,63,64,65,{"$f":"BM1+1","v":66},67,68,69,70,71,72,73,74,75,76,77,78,79,80,81,82,83,84,85,86,87,88,89,90,91,92,93,94,95,96,97,98,99,100,101,102,103,104,105,106,107,108,109,110,111,112,113,114,115,116,117,118,119,120,121,122,123,124,125,126,127,128,129,{"$f":"DY1+1","v":130},131,132,133,134,135,136,137,138,139,140,141,142,143,144,145,146,147,148,149,150,151,152,153,154,155,156,157,158,159,160,161,162,163,164,165,166,167,168,169,170,171,172,173,174,175,176,177,178,179,180,181,182,183]
[]
[]
[]
[]
[]
[]
[]
[]
[]
[]
[]
[]
[]
[]
[]
[]
[]
[]
[]
[]
[]
[]
[]
[]
[]
[]
[]
[]
[]
[]
[]
[]
[]
[]
[]
[]
[]
[]
[]
[]
[]
[]
[]
[]
[]
[]
[]
[]
[]
[]
[]
[]
[]
[]
[]
[]
[]
[]
[]
[]
[]
[]
[]
[]
[]
[]
[]
[]
[]
[]
[]
[]
[]
[]
[]
[]
[]
[]
[]
[]
[]
[]
[]
[]
[]
[]
[]
[]
[]
[]
[]
[]
[]
[]
[]
[]
[]
[]
[]
[]
[]
[]
[]
["ACS",2,{"$f":"B105+1","v":3},{"$f":"C105+1","v":4},5,6,7,8,9,10,11,{"$f":"K105+1","v":12},13,14,15,{"$f":"O105+1","v":16},17,18,19,20,21,22,23,24,25,26,27,28,29,30,31,32,33,34,35,36,37,38,39,40,41,42,43,44,45,46,47,48,49,50,51,52,53,54,55,56,57,58,59,60,61,62,63,64,65,66,67,{"$f":"BO105+1","v":68},69,70,71,72,73,74,75,76,77,78,79,80,81,82,83,84,85,86,87,88,89,90,91,92,93,94,95,96,97,98,99,100,101,102,103,104,105,106,107,108,109,110,111,112,113,114,115,116,117,118,119,120,121,122,123,124,125]
["Househould Data (Housing Unit Type)"]
["NAME","TotalHU",{"$f":"\"MOE \"&B107","v":"MOE TotalHU"},"TotalOccHU",{"$f":"\"MOE \"&D107","v":"MOE TotalOccHU"},"TotalOwnerOccUn",{"$f":"\"MOE \"&F107","v":"MOE TotalOwnerOccUn"},"TotalRenterOccn",{"$f":"\"MOE \"&H107","v":"MOE TotalRenterOccn"},"TotalVacantUntis",{"$f":"\"MOE \"&J107","v":"MOE TotalVacantUntis"},"VacantUnitsForRent",{"$f":"\"MOE \"&L107","v":"MOE VacantUnitsForRent"},"VacantUnitRentedNotOcc",{"$f":"\"MOE \"&N107","v":"MOE VacantUnitRentedNotOcc"},"VacantUnitForSale",{"$f":"\"MOE \"&P107","v":"MOE VacantUnitForSale"},"VacantUnitSoldNotOcc",{"$f":"\"MOE \"&R107","v":"MOE VacantUnitSoldNotOcc"},"VacantUnitSeasonalRec",{"$f":"\"MOE \"&T107","v":"MOE VacantUnitSeasonalRec"},"TotalPopInHousingUnits",{"$f":"\"MOE \"&V107","v":"MOE TotalPopInHousingUnits"},"OwnerOccPopHousingUnits",{"$f":"\"MOE \"&X107","v":"MOE OwnerOccPopHousingUnits"},"RenterOccPopHousingUnits",{"$f":"\"MOE \"&Z107","v":"MOE RenterOccPopHousingUnits"},"TotalUntis",{"$f":"\"MOE \"&AB107","v":"MOE TotalUntis"},"TotalOwnerOccUnits",{"$f":"\"MOE \"&AD107","v":"MOE TotalOwnerOccUnits"},"SigFamOwnerOcc",{"$f":"\"MOE \"&AF107","v":"MOE SigFamOwnerOcc"},"MultiFamOwnerOcc",{"$f":"\"MOE \"&AH107","v":"MOE MultiFamOwnerOcc"},"MobileOwnerOcc",{"$f":"\"MOE \"&AJ107","v":"MOE MobileOwnerOcc"},"TotalRenterOccUnits",{"$f":"\"MOE \"&AL107","v":"MOE TotalRenterOccUnits"},"SigFamRenterOcc",{"$f":"\"MOE \"&AN107","v":"MOE SigFamRenterOcc"},"MultiFamRenterOcc",{"$f":"\"MOE \"&AP107","v":"MOE MultiFamRenterOcc"},"MobileRenterOcc",{"$f":"\"MOE \"&AR107","v":"MOE MobileRenterOcc"},"TotalSigFamilyUnits",{"$f":"\"MOE \"&AT107","v":"MOE TotalSigFamilyUnits"},"TotalMultiFamilyUnits",{"$f":"\"MOE \"&AV107","v":"MOE TotalMultiFamilyUnits"},"TotalMobileUnits",{"$f":"\"MOE \"&AX107","v":"MOE TotalMobileUnits"},"YrHouseBuilt2005Later",{"$f":"\"MOE \"&AZ107","v":"MOE YrHouseBuilt2005Later"},"YrHouseBuilt2000-2004",{"$f":"\"MOE \"&BB107","v":"MOE YrHouseBuilt2000-2004"},"YrHouseBuilt1990-1999",{"$f":"\"MOE \"&BD107","v":"MOE YrHouseBuilt1990-1999"},"YrHouseBuilt1980-1989",{"$f":"\"MOE \"&BF107","v":"MOE YrHouseBuilt1980-1989"},"YrHouseBuilt1970-1979",{"$f":"\"MOE \"&BH107","v":"MOE YrHouseBuilt1970-1979"},"YrHouseBuilt1960-1969",{"$f":"\"MOE \"&BJ107","v":"MOE YrHouseBuilt1960-1969"},"YrHouseBuilt1950-1959",{"$f":"\"MOE \"&BL107","v":"MOE YrHouseBuilt1950-1959"},"YrHouseBuilt1940-1949",{"$f":"\"MOE \"&BN107","v":"MOE YrHouseBuilt1940-1949"},"YrHouseBuilt1939orEarlier",{"$f":"\"MOE \"&BP107","v":"MOE YrHouseBuilt1939orEarlier"},"NoBedrooms",{"$f":"\"MOE \"&BR107","v":"MOE NoBedrooms"},"1Bedroom",{"$f":"\"MOE \"&BT107","v":"MOE 1Bedroom"},"2Bedroom",{"$f":"\"MOE \"&BV107","v":"MOE 2Bedroom"},"3Bedroom",{"$f":"\"MOE \"&BX107","v":"MOE 3Bedroom"},"4+Bedroom",{"$f":"\"MOE \"&BZ107","v":"MOE 4+Bedroom"}]
[{"$f":"VLOOKUP(DropDownList!$A$19,CntyQuery!$A$53:$DN$64,A$1)","v":"Laconia"},9927,258,7143,283,4244,308,2899,306,2784,290,270,150,0,18,66,75,10,15,2185,258,15488,140,9681,761,5807,764,7143,283,4244,308,3388,283,675,198.33305322109072,181,74.215901261117892,2899,306,414,139,2474,378.80865882395034,11,24.758836806279895,5003,370,4447,520.13171408788367,477,168.96153408394468,8,15,951,189,1061,247,1798,315,767,182,746,183,1004,223,568,174,3024,320,178,98,1341,217,3646,409,3227,313,1404,237.87601812709073]
[]
["Disability Data"]
["NAME","TotalPop",{"$f":"\"MOE \"&B111","v":"MOE TotalPop"},"PopUnder 5 years:",{"$f":"\"MOE \"&D111","v":"MOE PopUnder 5 years:"},{"$f":"D$111&\"-WithDisability\"","v":"PopUnder 5 years:-WithDisability"},{"$f":"\"MOE \"&F111","v":"MOE PopUnder 5 years:-WithDisability"},{"$f":"D111&\"-NoDisability\"","v":"PopUnder 5 years:-NoDisability"},{"$f":"\"MOE \"&H111","v":"MOE PopUnder 5 years:-NoDisability"},"PopUnder 5 to 17years:",{"$f":"\"MOE \"&J111","v":"MOE PopUnder 5 to 17years:"},{"$f":"J$111&\"-WithDisability\"","v":"PopUnder 5 to 17years:-WithDisability"},{"$f":"\"MOE \"&L111","v":"MOE PopUnder 5 to 17years:-WithDisability"},{"$f":"J111&\"-NoDisability\"","v":"PopUnder 5 to 17years:-NoDisability"},{"$f":"\"MOE \"&N111","v":"MOE PopUnder 5 to 17years:-NoDisability"},"PopUnder 18 to 34 years:",{"$f":"\"MOE \"&P111","v":"MOE PopUnder 18 to 34 years:"},{"$f":"P$111&\"-WithDisability\"","v":"PopUnder 18 to 34 years:-WithDisability"},{"$f":"\"MOE \"&R111","v":"MOE PopUnder 18 to 34 years:-WithDisability"},{"$f":"P111&\"-NoDisability\"","v":"PopUnder 18 to 34 years:-NoDisability"},{"$f":"\"MOE \"&T111","v":"MOE PopUnder 18 to 34 years:-NoDisability"},"Pop 35 years to 64:",{"$f":"\"MOE \"&V111","v":"MOE Pop 35 years to 64:"},{"$f":"$V$111&\"-WithDisability\"","v":"Pop 35 years to 64:-WithDisability"},{"$f":"\"MOE \"&X111","v":"MOE Pop 35 years to 64:-WithDisability"},{"$f":"$V$111&\"-NoDisability\"","v":"Pop 35 years to 64:-NoDisability"},{"$f":"\"MOE \"&Z111","v":"MOE Pop 35 years to 64:-NoDisability"},"Pop 65 years to 74:",{"$f":"\"MOE \"&AB111","v":"MOE Pop 65 years to 74:"},{"$f":"$AB$111&\"-WithDisability\"","v":"Pop 65 years to 74:-WithDisability"},{"$f":"\"MOE \"&AD111","v":"MOE Pop 65 years to 74:-WithDisability"},{"$f":"$AB$111&\"-NoDisability\"","v":"Pop 65 years to 74:-NoDisability"},{"$f":"\"MOE \"&AF111","v":"MOE Pop 65 years to 74:-NoDisability"},"Pop 75 and older:",{"$f":"\"MOE \"&AH111","v":"MOE Pop 75 and older:"},{"$f":"$AH$111&\"-WithDisability\"","v":"Pop 75 and older:-WithDisability"},{"$f":"\"MOE \"&AJ111","v":"MOE Pop 75 and older:-WithDisability"},{"$f":"$AH$111&\"-NoDisability\"","v":"Pop 75 and older:-NoDisability"},{"$f":"\"MOE \"&AL111","v":"MOE Pop 75 and older:-NoDisability"},"TotalPopUnder5_HearingDisability",{"$f":"\"MOE \"&AN111","v":"MOE TotalPopUnder5_HearingDisability"},"TotalPopUnder5_HearingDisability",{"$f":"\"MOE \"&AP111","v":"MOE TotalPopUnder5_HearingDisability"},"TotalPop18To34_HearingDisability",{"$f":"\"MOE \"&AR111","v":"MOE TotalPop18To34_HearingDisability"},"TotalPop35To64_HearingDisability",{"$f":"\"MOE \"&AT111","v":"MOE TotalPop35To64_HearingDisability"},"TotalPop65To74_HearingDisability",{"$f":"\"MOE \"&AV111","v":"MOE TotalPop65To74_HearingDisability"},"TotalPop75andOlder_HearingDisability",{"$f":"\"MOE \"&AX111","v":"MOE TotalPop75andOlder_HearingDisability"},"TotalPopUnder5_VisionDisability",{"$f":"\"MOE \"&AZ111","v":"MOE TotalPopUnder5_VisionDisability"},"TotalPop5To17_VisionDisability",{"$f":"\"MOE \"&BB111","v":"MOE TotalPop5To17_VisionDisability"},"TotalPop18To34_VisionDisability",{"$f":"\"MOE \"&BD111","v":"MOE TotalPop18To34_VisionDisability"},"TotalPop35To64_VisionDisability",{"$f":"\"MOE \"&BF111","v":"MOE TotalPop35To64_VisionDisability"},"TotalPop65To74_VisionDisability",{"$f":"\"MOE \"&BH111","v":"MOE TotalPop65To74_VisionDisability"},"TotalPop75andOlder_VisionDisability",{"$f":"\"MOE \"&BJ111","v":"MOE TotalPop75andOlder_VisionDisability"},"TotalPop5To17_CongnitiveDisability",{"$f":"\"MOE \"&BL111","v":"MOE TotalPop5To17_CongnitiveDisability"},"TotalPop18To34_CongnitiveDisability",{"$f":"\"MOE \"&BN111","v":"MOE TotalPop18To34_CongnitiveDisability"},"TotalPop35To64_CongnitiveDisability",{"$f":"\"MOE \"&BP111","v":"MOE TotalPop35To64_CongnitiveDisability"},"TotalPop65To74_CongnitiveDisability",{"$f":"\"MOE \"&BR111","v":"MOE TotalPop65To74_CongnitiveDisability"},"TotalPop75andOlder_CongnitiveDisability",{"$f":"\"MOE \"&BT111","v":"MOE TotalPop75andOlder_CongnitiveDisability"},"TotalPop5To17_AmbulatoryDisability",{"$f":"\"MOE \"&BV111","v":"MOE TotalPop5To17_AmbulatoryDisability"},"TotalPop18To34_AmbulatoryDisability",{"$f":"\"MOE \"&BX111","v":"MOE TotalPop18To34_AmbulatoryDisability"},"TotalPop35To64_AmbulatoryDisability",{"$f":"\"MOE \"&BZ111","v":"MOE TotalPop35To64_AmbulatoryDisability"},"TotalPop65To74_AmbulatoryDisability",{"$f":"\"MOE \"&CB111","v":"MOE TotalPop65To74_AmbulatoryDisability"},"TotalPop75andOlder_AmbulatoryDisability",{"$f":"\"MOE \"&CD111","v":"MOE TotalPop75andOlder_AmbulatoryDisability"},"TotalPop5To17_SelfCareDisability",{"$f":"\"MOE \"&CF111","v":"MOE TotalPop5To17_SelfCareDisability"},"TotalPop18To34_SelfCareDisability",{"$f":"\"MOE \"&CH111","v":"MOE TotalPop18To34_SelfCareDisability"},"TotalPop35To64_SelfCareDisability",{"$f":"\"MOE \"&CJ111","v":"MOE TotalPop35To64_SelfCareDisability"},"TotalPop65To74_SelfCareDisability",{"$f":"\"MOE \"&CL111","v":"MOE TotalPop65To74_SelfCareDisability"},"TotalPop75andOlder_SelfCareDisability",{"$f":"\"MOE \"&CN111","v":"MOE TotalPop75andOlder_SelfCareDisability"},"TotalPop18To34_IndependantLivingDisability",{"$f":"\"MOE \"&CP111","v":"MOE TotalPop18To34_IndependantLivingDisability"},"TotalPop35To64_IndependantLivingDisability",{"$f":"\"MOE \"&CR111","v":"MOE TotalPop35To64_IndependantLivingDisability"},"TotalPop65To74_IndependantLivingDisability",{"$f":"\"MOE \"&CT111","v":"MOE TotalPop65To74_IndependantLivingDisability"},"TotalPop75andOlder_IndependantLivingDisability",{"$f":"\"MOE \"&CV111","v":"MOE TotalPop75andOlder_IndependantLivingDisability"},"TotalUnder18",{"$f":"\"MOE \"&CX111","v":"MOE TotalUnder18"},"Under 18_Total",{"$f":"\"MOE \"&CZ111","v":"MOE Under 18_Total"},"Under18_OneDisability",{"$f":"\"MOE \"&DB111","v":"MOE Under18_OneDisability"},"Under18_TwoDisability",{"$f":"\"MOE \"&DD111","v":"MOE Under18_TwoDisability"},"Under18_NoDisability",{"$f":"\"MOE \"&DF111","v":"MOE Under18_NoDisability"},"18-64._Total",{"$f":"\"MOE \"&DH111","v":"MOE 18-64._Total"},"18-64._OneDisability",{"$f":"\"MOE \"&DJ111","v":"MOE 18-64._OneDisability"},"18-64_TwoDisability",{"$f":"\"MOE \"&DL111","v":"MOE 18-64_TwoDisability"},"18-64_NoDisability",{"$f":"\"MOE \"&DN111","v":"MOE 18-64_NoDisability"},"64 and Over_Total",{"$f":"\"MOE \"&DP111","v":"MOE 64 and Over_Total"},"64 and Over_OneDisability",{"$f":"\"MOE \"&DR111","v":"MOE 64 and Over_OneDisability"},"64 and Over_TwoDisability",{"$f":"\"MOE \"&DT111","v":"MOE 64 and Over_TwoDisability"},"64 and Over_NoDisability",{"$f":"\"MOE \"&DV111","v":"MOE 64 and Over_NoDisability"}]
[{"$f":"VLOOKUP(DropDownList!$A$19,CntyQuery!$A$53:$DN$64,A$1)","v":"Laconia"},15551,140,833,177.49647883831386,0,25.45584412271571,833,177.49647883831386,2179,294.61330587738223,86,69.289248805280025,2093,282.5261049885479,3079,255.34486483969087,360,157.47063218263906,2719,270.73972741361769,7084,296.29883563726673,1020,193.40372281835735,6064,309.02588888311607,1193,153.44380078712857,283,86.556340033529608,910,143.55835050598765,1183,156.84705926475002,428,103.24727599312246,755,144.80676779764127,0,25.45584412271571,0,25.45584412271571,12,26.90724809414742,162,76.05918747922567,118,58.523499553598128,228,71.421285342676384,0,25.45584412271571,0,25.45584412271571,0,25.45584412271571,131,77.369244535538797,9,22.803508501982758,118,54.918120870983927,86,69.289248805280025,113,72.801098892805186,520,147.8681845428556,90,54.488530903301111,68,42.720018726587654,0,25.45584412271571,248,144.10065926289164,593,149.93665329064805,167,66.030296076876709,234,81.939001702485982,0,25.45584412271571,204,126.11502686040232,239,121.21056059601408,38,33.286633954186478,144,65.863495200300449,224,129.4488315899375,430,134.46560898608982,61,38.418745424597091,197,69.318107302493488,86,69,0,18,545,141,835,224,316,93,395,111]
[]
["Househould Income By Age"]
["NAME","TotalHouseholds",{"$f":"\"MOE \"&B115","v":"MOE TotalHouseholds"},"HHInc<10K",{"$f":"\"MOE \"&D115","v":"MOE HHInc<10K"},"HHInc10to15K",{"$f":"\"MOE \"&F115","v":"MOE HHInc10to15K"},"HHInc15to20K",{"$f":"\"MOE \"&H115","v":"MOE HHInc15to20K"},"HHInc20to25K",{"$f":"\"MOE \"&J115","v":"MOE HHInc20to25K"},"HHInc25to30K",{"$f":"\"MOE \"&L115","v":"MOE HHInc25to30K"},"HHInc30to35K",{"$f":"\"MOE \"&N115","v":"MOE HHInc30to35K"},"HHInc35to40K",{"$f":"\"MOE \"&P115","v":"MOE HHInc35to40K"},"HHInc40to45K",{"$f":"\"MOE \"&R115","v":"MOE HHInc40to45K"},"HHInc45to50K",{"$f":"\"MOE \"&T115","v":"MOE HHInc45to50K"},"HHInc50to60K",{"$f":"\"MOE \"&V115","v":"MOE HHInc50to60K"},"HHInc60to75K",{"$f":"\"MOE \"&X115","v":"MOE HHInc60to75K"},"HHInc75to100K",{"$f":"\"MOE \"&Z115","v":"MOE HHInc75to100K"},"HHInc100to125K",{"$f":"\"MOE \"&AB115","v":"MOE HHInc100to125K"},"HHInc125to150K",{"$f":"\"MOE \"&AD115","v":"MOE HHInc125to150K"},"HHInc150to200K",{"$f":"\"MOE \"&AF115","v":"MOE HHInc150to200K"},"HHInc>200K",{"$f":"\"MOE \"&AH115","v":"MOE HHInc>200K"},"TotalHH",{"$f":"\"MOE \"&AJ115","v":"MOE TotalHH"},"HHAgeHHUnder25yrs",{"$f":"\"MOE \"&AL115","v":"MOE HHAgeHHUnder25yrs"},"HHAgeHH<25HHInc<10K",{"$f":"\"MOE \"&AN115","v":"MOE HHAgeHH<25HHInc<10K"},"HHAgeHH<25HHInc10to15K",{"$f":"\"MOE \"&AP115","v":"MOE HHAgeHH<25HHInc10to15K"},"HHAgeHH<25HHInc15to20K",{"$f":"\"MOE \"&AR115","v":"MOE HHAgeHH<25HHInc15to20K"},"HHAgeHH<25HHInc20to25K",{"$f":"\"MOE \"&AT115","v":"MOE HHAgeHH<25HHInc20to25K"},"HHAgeHH<25HHInc25to30K",{"$f":"\"MOE \"&AV115","v":"MOE HHAgeHH<25HHInc25to30K"},"HHAgeHH<25HHInc30to35K",{"$f":"\"MOE \"&AX115","v":"MOE HHAgeHH<25HHInc30to35K"},"HHAgeHH<25HHInc35to40K",{"$f":"\"MOE \"&AZ115","v":"MOE HHAgeHH<25HHInc35to40K"},"HHAgeHH<25HHInc40to45K",{"$f":"\"MOE \"&BB115","v":"MOE HHAgeHH<25HHInc40to45K"},"HHAgeHH<25HHInc45to50K",{"$f":"\"MOE \"&BD115","v":"MOE HHAgeHH<25HHInc45to50K"},"HHAgeHH<25HHInc50to60K",{"$f":"\"MOE \"&BF115","v":"MOE HHAgeHH<25HHInc50to60K"},"HHAgeHH<25HHInc60to75K",{"$f":"\"MOE \"&BH115","v":"MOE HHAgeHH<25HHInc60to75K"},"HHAgeHH<25HHInc75to100K",{"$f":"\"MOE \"&BJ115","v":"MOE HHAgeHH<25HHInc75to100K"},"HHAgeHH<25HHInc100to125K",{"$f":"\"MOE \"&BL115","v":"MOE HHAgeHH<25HHInc100to125K"},"HHAgeHH<25HHInc125to150K",{"$f":"\"MOE \"&BN115","v":"MOE HHAgeHH<25HHInc125to150K"},"HHAgeHH<25HHInc150to200K",{"$f":"\"MOE \"&BP115","v":"MOE HHAgeHH<25HHInc150to200K"},"HHAge<25HHInc>200K",{"$f":"\"MOE \"&BR115","v":"MOE HHAge<25HHInc>200K"},"HHAgeHH25to44yrs",{"$f":"\"MOE \"&BT115","v":"MOE HHAgeHH25to44yrs"},"HHAgeHH25To44yrsHHInc<10K",{"$f":"\"MOE \"&BV115","v":"MOE HHAgeHH25To44yrsHHInc<10K"},"HHAgeHH25To44yrsHHInc10to15K",{"$f":"\"MOE \"&BX115","v":"MOE HHAgeHH25To44yrsHHInc10to15K"},"HHAgeHH25To44yrsHHInc15to20K",{"$f":"\"MOE \"&BZ115","v":"MOE HHAgeHH25To44yrsHHInc15to20K"},"HHAgeHH25To44yrsHHInc20to25K",{"$f":"\"MOE \"&CB115","v":"MOE HHAgeHH25To44yrsHHInc20to25K"},"HHAgeHH25To44yrsHHInc25to30K",{"$f":"\"MOE \"&CD115","v":"MOE HHAgeHH25To44yrsHHInc25to30K"},"HHAgeHH25To44yrsHHInc30to35K",{"$f":"\"MOE \"&CF115","v":"MOE HHAgeHH25To44yrsHHInc30to35K"},"HHAgeHH25To44yrsHHInc35to40K",{"$f":"\"MOE \"&CH115","v":"MOE HHAgeHH25To44yrsHHInc35to40K"},"HHAgeHH25To44yrsHHInc40to45K",{"$f":"\"MOE \"&CJ115","v":"MOE HHAgeHH25To44yrsHHInc40to45K"},"HHAgeHH25To44yrsHHInc45to50K",{"$f":"\"MOE \"&CL115","v":"MOE HHAgeHH25To44yrsHHInc45to50K"},"HHAgeHH25To44yrsHHInc50to60K",{"$f":"\"MOE \"&CN115","v":"MOE HHAgeHH25To44yrsHHInc50to60K"},"HHAgeHH25To44yrsHHInc60to75K",{"$f":"\"MOE \"&CP115","v":"MOE HHAgeHH25To44yrsHHInc60to75K"},"HHAgeHH25To44yrsHHInc75to100K",{"$f":"\"MOE \"&CR115","v":"MOE HHAgeHH25To44yrsHHInc75to100K"},"HHAgeHH25To44yrsHHInc100to125K",{"$f":"\"MOE \"&CT115","v":"MOE HHAgeHH25To44yrsHHInc100to125K"},"HHAgeHH25To44yrsHHInc125to150K",{"$f":"\"MOE \"&CV115","v":"MOE HHAgeHH25To44yrsHHInc125to150K"},"HHAgeHH25To44yrsHHInc150to200K",{"$f":"\"MOE \"&CX115","v":"MOE HHAgeHH25To44yrsHHInc150to200K"},"HHAge25To44yrsHHInc>200K",{"$f":"\"MOE \"&CZ115","v":"MOE HHAge25To44yrsHHInc>200K"},"HHAgeHH45To64yrs",{"$f":"\"MOE \"&DB115","v":"MOE HHAgeHH45To64yrs"},"HHAgeHH45To64yrsHHInc<10K",{"$f":"\"MOE \"&DD115","v":"MOE HHAgeHH45To64yrsHHInc<10K"},"HHAgeHH45To64yrsHHInc10to15K",{"$f":"\"MOE \"&DF115","v":"MOE HHAgeHH45To64yrsHHInc10to15K"},"HHAgeHH45To64yrsHHInc15to20K",{"$f":"\"MOE \"&DH115","v":"MOE HHAgeHH45To64yrsHHInc15to20K"},"HHAgeHH45To64yrsHHInc20to25K",{"$f":"\"MOE \"&DJ115","v":"MOE HHAgeHH45To64yrsHHInc20to25K"},"HHAgeHH45To64yrsHHInc25to30K",{"$f":"\"MOE \"&DL115","v":"MOE HHAgeHH45To64yrsHHInc25to30K"},"HHAgeHH45To64yrsHHInc30to35K",{"$f":"\"MOE \"&DN115","v":"MOE HHAgeHH45To64yrsHHInc30to35K"},"HHAgeHH45To64yrsHHInc35to40K",{"$f":"\"MOE \"&DP115","v":"MOE HHAgeHH45To64yrsHHInc35to40K"},"HHAgeHH45To64yrsHHInc40to45K",{"$f":"\"MOE \"&DR115","v":"MOE HHAgeHH45To64yrsHHInc40to45K"},"HHAgeHH45To64yrsHHInc45to50K",{"$f":"\"MOE \"&DT115","v":"MOE HHAgeHH45To64yrsHHInc45to50K"},"HHAgeHH45To64yrsHHInc50to60K",{"$f":"\"MOE \"&DV115","v":"MOE HHAgeHH45To64yrsHHInc50to60K"},"HHAgeHH45To64yrsHHInc60to75K",{"$f":"\"MOE \"&DX115","v":"MOE HHAgeHH45To64yrsHHInc60to75K"},"HHAgeHH45To64yrsHHInc75to100K",{"$f":"\"MOE \"&DZ115","v":"MOE HHAgeHH45To64yrsHHInc75to100K"},"HHAgeHH45To64yrsHHInc100to125K",{"$f":"\"MOE \"&EB115","v":"MOE HHAgeHH45To64yrsHHInc100to125K"},"HHAgeHH45To64yrsHHInc125to150K",{"$f":"\"MOE \"&ED115","v":"MOE HHAgeHH45To64yrsHHInc125to150K"},"HHAgeHH45To64yrsHHInc150to200K",{"$f":"\"MOE \"&EF115","v":"MOE HHAgeHH45To64yrsHHInc150to200K"},"HHAge45To64yrsHHInc>200K",{"$f":"\"MOE \"&EH115","v":"MOE HHAge45To64yrsHHInc>200K"},"HHAgeHH65yrsorOlder",{"$f":"\"MOE \"&EJ115","v":"MOE HHAgeHH65yrsorOlder"},"HHAgeHH65yrsorOlderHHInc<10K",{"$f":"\"MOE \"&EL115","v":"MOE HHAgeHH65yrsorOlderHHInc<10K"},"HHAgeHH65yrsorOlderHHInc10to15K",{"$f":"\"MOE \"&EN115","v":"MOE HHAgeHH65yrsorOlderHHInc10to15K"},"HHAgeHH65yrsorOlderHHInc15to20K",{"$f":"\"MOE \"&EP115","v":"MOE HHAgeHH65yrsorOlderHHInc15to20K"},"HHAgeHH65yrsorOlderHHInc20to25K",{"$f":"\"MOE \"&ER115","v":"MOE HHAgeHH65yrsorOlderHHInc20to25K"},"HHAgeHH65yrsorOlderHHInc25to30K",{"$f":"\"MOE \"&ET115","v":"MOE HHAgeHH65yrsorOlderHHInc25to30K"},"HHAgeHH65yrsorOlderHHInc30to35K",{"$f":"\"MOE \"&EV115","v":"MOE HHAgeHH65yrsorOlderHHInc30to35K"},"HHAgeHH65yrsorOlderHHInc35to40K",{"$f":"\"MOE \"&EX115","v":"MOE HHAgeHH65yrsorOlderHHInc35to40K"},"HHAgeHH65yrsorOlderHHInc40to45K",{"$f":"\"MOE \"&EZ115","v":"MOE HHAgeHH65yrsorOlderHHInc40to45K"},"HHAgeHH65yrsorOlderHHInc45to50K",{"$f":"\"MOE \"&FB115","v":"MOE HHAgeHH65yrsorOlderHHInc45to50K"},"HHAgeHH65yrsorOlderHHInc50to60K",{"$f":"\"MOE \"&FD115","v":"MOE HHAgeHH65yrsorOlderHHInc50to60K"},"HHAgeHH65yrsorOlderHHInc60to75K",{"$f":"\"MOE \"&FF115","v":"MOE HHAgeHH65yrsorOlderHHInc60to75K"},"HHAgeHH65yrsorOlderHHInc75to100K",{"$f":"\"MOE \"&FH115","v":"MOE HHAgeHH65yrsorOlderHHInc75to100K"},"HHAgeHH65yrsorOlderHHInc100to125K",{"$f":"\"MOE \"&FJ115","v":"MOE HHAgeHH65yrsorOlderHHInc100to125K"},"HHAgeHH65yrsorOlderHHInc125to150K",{"$f":"\"MOE \"&FL115","v":"MOE HHAgeHH65yrsorOlderHHInc125to150K"},"HHAgeHH65yrsorOlderHHInc150to200K",{"$f":"\"MOE \"&FN115","v":"MOE HHAgeHH65yrsorOlderHHInc150to200K"},"HHAge65yrsorOlderHHInc>200K",{"$f":"\"MOE \"&FP115","v":"MOE HHAge65yrsorOlderHHInc>200K"},"MedianHHInc",{"$f":"\"MOE \"&FR115","v":"MOE MedianHHInc"},"HH under 25 years",{"$f":"\"MOE \"&FT115","v":"MOE HH under 25 years"},"Householder 25 to 44 years",{"$f":"\"MOE \"&FV115","v":"MOE Householder 25 to 44 years"},"Householder 45 to 64 years",{"$f":"\"MOE \"&FX115","v":"MOE Householder 45 to 64 years"},"Householder 65 years and over",{"$f":"\"MOE \"&FZ115","v":"MOE Householder 65 years and over"}]
[{"$f":"VLOOKUP(DropDownList!$A$19,CntyQuery!$A$53:$DN$64,A$1)","v":"Laconia"},7143,283,536,177,441,120,417,125,384,141,384,138,354,127,334,116,484,160,482,169,585,157,641,174,624,165,666,164,341,126,288,95,182,74,7143,283,490,176,161,128,0,18,58,74,0,18,61,92,17,29,43,67,86,113,0,18,41,51,14,23,9,15,0,18,0,18,0,18,0,18,1902,221,86,72,63,54,86,80,126,90,117,69,35,29,54,50,129,85,171,109,191,107,220,103,236,105,194,113,123,108,32,33,39,34,3075,257,220,92,170,88,152,74,120,71,91,45,117,83,101,64,145,68,200,122,243,86,336,129,290,119,414,160,160,61,205,84,111,55,1676,199,69,43,208,79,121,62,138,75,115,56,185,82,136,54,124,55,111,52,110,50,71,40,89,52,58,40,58,50,51,35,32,29,47817,2617,28566,18446,54682,7384,59264,8950,35192,5581]
[]
["Number of Households by Income"]
["NAME","HHIncLessThn10k",{"$f":"\"MOE \"&B119","v":"MOE HHIncLessThn10k"},"HHInc10to15K",{"$f":"\"MOE \"&D119","v":"MOE HHInc10to15K"},"HHInc15to25K",{"$f":"\"MOE \"&F119","v":"MOE HHInc15to25K"},"HHInc25to35K",{"$f":"\"MOE \"&H119","v":"MOE HHInc25to35K"},"HHInc35to50K",{"$f":"\"MOE \"&J119","v":"MOE HHInc35to50K"},"HHInc50to75K",{"$f":"\"MOE \"&L119","v":"MOE HHInc50to75K"},"HHInc75to100K",{"$f":"\"MOE \"&N119","v":"MOE HHInc75to100K"},"HHInc100to150K",{"$f":"\"MOE \"&P119","v":"MOE HHInc100to150K"},"HHInc150to200K",{"$f":"\"MOE \"&R119","v":"MOE HHInc150to200K"},"HHIncOver200K",{"$f":"\"MOE \"&T119","v":"MOE HHIncOver200K"}]
[{"$f":"VLOOKUP(DropDownList!$A$19,CntyQuery!$A$53:$DN$64,A$1)","v":"Laconia"},536,177,441,120,801,188.43035848822237,738,187.5446613476374,1300,260.03269025259112,1226,234.3608329051593,624,165,1007,206.81392603013947,288,95,182,74,752,145,774,188,456,150,309,125,157,83,159,75]
[]
["POVERTY DATA"]
["NAME","TotalPop",{"$f":"\"MOE \"&B123","v":"MOE TotalPop"},"Total Individuals living in Poverty",{"$f":"\"MOE \"&D123","v":"MOE Total Individuals living in Poverty"},"Under 5 yrs.",{"$f":"\"MOE \"&F123","v":"MOE Under 5 yrs."},"5 to 17 yrs.",{"$f":"\"MOE \"&H123","v":"MOE 5 to 17 yrs."},"18 to 64 yrs.",{"$f":"\"MOE \"&J123","v":"MOE 18 to 64 yrs."},"65 to 74 yrs.",{"$f":"\"MOE \"&L123","v":"MOE 65 to 74 yrs."},"75 yrs. & Over",{"$f":"\"MOE \"&N123","v":"MOE 75 yrs. & Over"},"Total Individuals  Not living Poverty",{"$f":"\"MOE \"&P123","v":"MOE Total Individuals  Not living Poverty"},"Under 5 yrs.",{"$f":"\"MOE \"&R123","v":"MOE Under 5 yrs."},"5 to 17 yrs.",{"$f":"\"MOE \"&T123","v":"MOE 5 to 17 yrs."},"18 to 64 yrs.",{"$f":"\"MOE \"&V123","v":"MOE 18 to 64 yrs."},"65 to 74 yrs.",{"$f":"\"MOE \"&X123","v":"MOE 65 to 74 yrs."},"75 yrs. & Over",{"$f":"\"MOE \"&Z123","v":"MOE 75 yrs. & Over"},"Total HH",{"$f":"\"MOE \"&AB123","v":"MOE Total HH"},"Total Households Below Poverty",{"$f":"\"MOE \"&AD123","v":"MOE Total Households Below Poverty"},"Family Households in Poverty",{"$f":"\"MOE \"&AF123","v":"MOE Family Households in Poverty"},"Married Couple Fam HH",{"$f":"\"MOE \"&AH123","v":"MOE Married Couple Fam HH"},"Other Family",{"$f":"\"MOE \"&AJ123","v":"MOE Other Family"},"Male Head of Family HH no spouse",{"$f":"\"MOE \"&AL123","v":"MOE Male Head of Family HH no spouse"},"Female Head of Family HH no spouse",{"$f":"\"MOE \"&AN123","v":"MOE Female Head of Family HH no spouse"},"Non-Family HH",{"$f":"\"MOE \"&AP123","v":"MOE Non-Family HH"},"Non-Family Male HH",{"$f":"\"MOE \"&AR123","v":"MOE Non-Family Male HH"},"Non-Family Female HH",{"$f":"\"MOE \"&AT123","v":"MOE Non-Family Female HH"},"Total Households at or Above Poverty",{"$f":"\"MOE \"&AV123","v":"MOE Total Households at or Above Poverty"},"Family Households above Poverty",{"$f":"\"MOE \"&AX123","v":"MOE Family Households above Poverty"},"Married Couple Fam HH",{"$f":"\"MOE \"&AZ123","v":"MOE Married Couple Fam HH"},"Other Family",{"$f":"\"MOE \"&BB123","v":"MOE Other Family"},"Male Head of Family HH no spouse",{"$f":"\"MOE \"&BD123","v":"MOE Male Head of Family HH no spouse"},"Female Head of Family HH no spouse",{"$f":"\"MOE \"&BF123","v":"MOE Female Head of Family HH no spouse"},"Non-Family HH",{"$f":"\"MOE \"&BH123","v":"MOE Non-Family HH"},"Non-Family Male HH",{"$f":"\"MOE \"&BJ123","v":"MOE Non-Family Male HH"},"Non-Family Female HH",{"$f":"\"MOE \"&BL123","v":"MOE Non-Family Female HH"},"Married Couple with Children Below Poverty",{"$f":"\"MOE \"&BN123","v":"MOE Married Couple with Children Below Poverty"},"Male HH with children below poverty",{"$f":"\"MOE \"&BP123","v":"MOE Male HH with children below poverty"},"Female HH with children below poverty",{"$f":"\"MOE \"&BR123","v":"MOE Female HH with children below poverty"},"Married Couple with Children At or Above Poverty",{"$f":"\"MOE \"&BT123","v":"MOE Married Couple with Children At or Above Poverty"},"Male HH with children at or above poverty",{"$f":"\"MOE \"&BV123","v":"MOE Male HH with children at or above poverty"},"Female HH with children at or above poverty",{"$f":"\"MOE \"&BX123","v":"MOE Female HH with children at or above poverty"}]
[{"$f":"VLOOKUP(DropDownList!$A$19,CntyQuery!$A$53:$DN$64,A$1)","v":"Laconia"},15409,237,1817,454,63,61.684682053164543,357,237.16028335284136,1204,260.64151626323849,89,56.222771187482387,104,61.846584384264908,13592,493,558,154.98709623707387,1990,334.7626024513491,8795,505.11582830079675,1126,145.69145479402695,153,70,6878,265,828,193,343,137,82,56,261,127,105,87,156,91,485,150,173,87,312,135,6050,301,3796,254,2988,231,2254,267,74,46,734,207,2254,267,943,182,1311,205,0,85,55,55,141,87,1043,188,50,38,394,173]
[]
["Household Income By Tenure"]
["NAME","TotalOccHU",{"$f":"\"MOE \"&B127","v":"MOE TotalOccHU"},"OwnOccHU",{"$f":"\"MOE \"&D127","v":"MOE OwnOccHU"},"OOHUInc<5K",{"$f":"\"MOE \"&F127","v":"MOE OOHUInc<5K"},"OOHUInc5to10K",{"$f":"\"MOE \"&H127","v":"MOE OOHUInc5to10K"},"OOHUInc10to15K",{"$f":"\"MOE \"&J127","v":"MOE OOHUInc10to15K"},"OOHUInc15to20K",{"$f":"\"MOE \"&L127","v":"MOE OOHUInc15to20K"},"OOHUInc20to25K",{"$f":"\"MOE \"&N127","v":"MOE OOHUInc20to25K"},"OOHUInc25to35K",{"$f":"\"MOE \"&P127","v":"MOE OOHUInc25to35K"},"OOHUInc35to50K",{"$f":"\"MOE \"&R127","v":"MOE OOHUInc35to50K"},"OOHUInc50to75K",{"$f":"\"MOE \"&T127","v":"MOE OOHUInc50to75K"},"OOHUInc75to100K",{"$f":"\"MOE \"&V127","v":"MOE OOHUInc75to100K"},"OOHUInc100to150K",{"$f":"\"MOE \"&X127","v":"MOE OOHUInc100to150K"},"OOHUInc>150K",{"$f":"\"MOE \"&Z127","v":"MOE OOHUInc>150K"},"RentOccHU",{"$f":"\"MOE \"&AB127","v":"MOE RentOccHU"},"ROHUInc<5K",{"$f":"\"MOE \"&AD127","v":"MOE ROHUInc<5K"},"ROHUInc5to10K",{"$f":"\"MOE \"&AF127","v":"MOE ROHUInc5to10K"},"ROHUInc10to15K",{"$f":"\"MOE \"&AH127","v":"MOE ROHUInc10to15K"},"ROHUInc15to20K",{"$f":"\"MOE \"&AJ127","v":"MOE ROHUInc15to20K"},"ROHUInc20to25K",{"$f":"\"MOE \"&AL127","v":"MOE ROHUInc20to25K"},"ROHUInc25to35K",{"$f":"\"MOE \"&AN127","v":"MOE ROHUInc25to35K"},"ROHUInc35to50K",{"$f":"\"MOE \"&AP127","v":"MOE ROHUInc35to50K"},"ROHUInc50to75K",{"$f":"\"MOE \"&AR127","v":"MOE ROHUInc50to75K"},"ROHUInc75to100K",{"$f":"\"MOE \"&AT127","v":"MOE ROHUInc75to100K"},"ROHUInc100to150K",{"$f":"\"MOE \"&AV127","v":"MOE ROHUInc100to150K"},"ROHUInc>150K",{"$f":"\"MOE \"&AX127","v":"MOE ROHUInc>150K"},"Total OCC HUInc<5K",{"$f":"\"MOE \"&AZ127","v":"MOE Total OCC HUInc<5K"},"Total OCC HUInc5to10K",{"$f":"\"MOE \"&BB127","v":"MOE Total OCC HUInc5to10K"},"Total OCC HUInc10to15K",{"$f":"\"MOE \"&BD127","v":"MOE Total OCC HUInc10to15K"},"Total OCC HUInc15to20K",{"$f":"\"MOE \"&BF127","v":"MOE Total OCC HUInc15to20K"},"Total OCC HUInc20to25K",{"$f":"\"MOE \"&BH127","v":"MOE Total OCC HUInc20to25K"},"Total OCC HUInc25to35K",{"$f":"\"MOE \"&BJ127","v":"MOE Total OCC HUInc25to35K"},"Total OCC HUInc35to50K",{"$f":"\"MOE \"&BL127","v":"MOE Total OCC HUInc35to50K"},"Total OCC HUInc50to75K",{"$f":"\"MOE \"&BN127","v":"MOE Total OCC HUInc50to75K"},"Total OCC HUInc75to100K",{"$f":"\"MOE \"&BP127","v":"MOE Total OCC HUInc75to100K"},"Total OCC HUInc100to150K",{"$f":"\"MOE \"&BR127","v":"MOE Total OCC HUInc100to150K"},"Total OCC HUInc>150K",{"$f":"\"MOE \"&BT127","v":"MOE Total OCC HUInc>150K"},"MedHHInc",{"$f":"\"MOE \"&BV127","v":"MOE MedHHInc"},"MedOwnOccHHInc",{"$f":"\"MOE \"&BX127","v":"MOE MedOwnOccHHInc"},"MedRentOccHHInc",{"$f":"\"MOE \"&BZ127","v":"MOE MedRentOccHHInc"}]
[{"$f":"VLOOKUP(DropDownList!$A$19,CntyQuery!$A$53:$DN$64,A$1)","v":"Laconia"},7143,283,4244,308,60,40,67,50,109,79,132,74,208,106,372,118,632,146,796,155,573,160,887,219,408,95,2899,306,128,85,281,141,332,100,285,126,176,95,366,134,668,194,430,179,51,40,120,75,62,61,188,93.941471140279674,348,149.60280746028798,441,127.4401820463232,417,146.12323566086263,384,142.3411395205195,738,178.54971296532514,1300,242.80032948906802,1226,236.78260071213003,624,164.92422502470643,1007,231.48650068632512,470,112.89818421923357,47817,2617,67056,4673,30798,5789,131,60.207972893961475,97,130.24976007655445,256,116.97008164483771,418,127.05904139414872,510,129.71121771072848,449,123.0690862889621,508,128.41339493993607,207,136.45878498652991]
[]
["Population Data"]
["NAME","Total Population","MOE Total Population","Under 15 Years","MOE Under 15 yrs.","15 to 24 yrs.","MOE 15 to 24 yrs.","25 to 34 yrs.","MOE 25 to 34 yrs.","35 to 44 yrs.","MOE 35 to 44 yrs.","45 to 54 yrs.","MOE 45 to 54 yrs.","55 to 64 yrs.","MOE 55 to 64 yrs.","65 to 74 yrs.","MOE 65 to 74 yrs.","Over 74 yrs. ","MOE Over 74 yrs. ","TotalHH","MOE TotalHH","FamilyHH","MOE FamilyHH","MarriedFamilyHH","MOE MarriedFamilyHH","SingleFamilyHH","MOE SingleFamilyHH","Sfamily-MaleHH","MOE Sfamily-MaleHH","Sfamily-FemaleHH","MOE Sfamily-FemaleHH","NonFamilyHH","MOE NonFamilyHH","NonFamilyHH-LivingAlone","MOE NonFamilyHH-LivingAlone","NonFamilyHH-NotLivingAlone","MOE NonFamilyHH-NotLivingAlone","PopRaceWhite","MOE PopRaceWhite","PopRaceBlack","MOE PopRaceBlack","PopRaceAmerican Indian","MOE PopRaceAmerican Indian","PopRaceAsian &Pacific Is.","MOE PopRaceAsian &Pacific Is.","PopRaceOther*","MOE PopRaceOther*","PopRaceHispanic or Latino:","MOE PopRaceHispanic or Latino:","AvgAgeTotalPop","MOE AvgAgeTotalPop","AvgAgeMale","MOE AvgAgeMale","AvgAgeFemale","MOE AvgAgeFemale","AvgHHSizeTotal","MOE AvgHHSizeTotal","AvgHHSizeFamilyHH","MOE AvgHHSizeFamilyHH","AvgHHSizeNonFamilyHH","MOE AvgHHSizeNonFamilyHH"]
[{"$f":"VLOOKUP(DropDownList!$A$19,CntyQuery!$A$53:$DN$64,A$1)","v":"Laconia"},2958,18,505,125.65826673959816,214,59.883219686319471,269,76.883028036101706,358,83.186537372341689,586,111.91961400934154,592,110.81967334368028,230,66.498120274185197,204,66.113538704262382,1190,79,836,79,719,77,117,53,53,35,64,37,354,90,252,70,102,57,2855,79,0,11,16,24,0,15.556349186104045,0,15.556349186104045,87,72,47.4,3.7,48.6,2.9,46.2,3.3,2.4823529411764707,0.16556651561240082,2.9796650717703348,0.3276073597983537,1.307909604519774,0.51453608502539383]
[]
["Nativity and Prior Place of Residence"]
["NAME","TotalPop",{"$f":"\"MOE \"&B135","v":"MOE TotalPop"},"Native:",{"$f":"\"MOE \"&D135","v":"MOE Native:"},"NatBornInStateOfResidence",{"$f":"\"MOE \"&F135","v":"MOE NatBornInStateOfResidence"},"Born in other state in the United States:",{"$f":"\"MOE \"&H135","v":"MOE Born in other state in the United States:"},"Northeast",{"$f":"\"MOE \"&J135","v":"MOE Northeast"},"Midwest",{"$f":"\"MOE \"&L135","v":"MOE Midwest"},"South",{"$f":"\"MOE \"&N135","v":"MOE South"},"West",{"$f":"\"MOE \"&P135","v":"MOE West"},"Born outside the United States:",{"$f":"\"MOE \"&R135","v":"MOE Born outside the United States:"},"Puerto Rico",{"$f":"\"MOE \"&T135","v":"MOE Puerto Rico"},"U.S. Island Areas",{"$f":"\"MOE \"&V135","v":"MOE U.S. Island Areas"},"Born abroad of American parent(s)",{"$f":"\"MOE \"&X135","v":"MOE Born abroad of American parent(s)"},"Foreign born:",{"$f":"\"MOE \"&Z135","v":"MOE Foreign born:"},"Naturalized U.S. citizen",{"$f":"\"MOE \"&AB135","v":"MOE Naturalized U.S. citizen"},"Not a U.S. citizen",{"$f":"\"MOE \"&AD135","v":"MOE Not a U.S. citizen"},"CurrentResideneTotal:",{"$f":"\"MOE \"&AF135","v":"MOE CurrentResideneTotal:"},"SameHouse:",{"$f":"\"MOE \"&AH135","v":"MOE SameHouse:"},"DifferentHouse:",{"$f":"\"MOE \"&AJ135","v":"MOE DifferentHouse:"},"DiffHouseInNH",{"$f":"\"MOE \"&AL135","v":"MOE DiffHouseInNH"},"DiffHouseInNHSameCnty",{"$f":"\"MOE \"&AN135","v":"MOE DiffHouseInNHSameCnty"},"DiffHouseInNHDiffCnty",{"$f":"\"MOE \"&AP135","v":"MOE DiffHouseInNHDiffCnty"},"DiffHouseInDiffState",{"$f":"\"MOE \"&AR135","v":"MOE DiffHouseInDiffState"},"DiffHouseInElsewhere",{"$f":"\"MOE \"&AT135","v":"MOE DiffHouseInElsewhere"}]
[{"$f":"VLOOKUP(DropDownList!$A$19,CntyQuery!$A$53:$DN$64,A$1)","v":"Laconia"},2958,18,2896,47,1289,153,1539,142,1125,169,105,52,217,136,92,49,68,42,13,24,0,11,55,33,62,42,55,42,7,8,2923,36,2725,111,198,111.95534824205586,123,93.407708461347028,32,25,91,90,50,55,25,28]
[]
["School Attainment & Enrollment"]
["NAME","Total Pop 3 Years and Older","MOE Total Pop 3 Years and Older","SchEnrlPop3yrOver",{"$f":"\"MOE \"&D139","v":"MOE SchEnrlPop3yrOver"},"TotalEnrollNursy&Kinder",{"$f":"\"MOE \"&F139","v":"MOE TotalEnrollNursy&Kinder"},"NurserSchEnrl",{"$f":"\"MOE \"&H139","v":"MOE NurserSchEnrl"},"KinderSchEnrl",{"$f":"\"MOE \"&J139","v":"MOE KinderSchEnrl"},"ElemSchEnrl (1-8)",{"$f":"\"MOE \"&L139","v":"MOE ElemSchEnrl (1-8)"},"HighSchEnrl(9-12)",{"$f":"\"MOE \"&N139","v":"MOE HighSchEnrl(9-12)"},"TotalElementry&HSEnroll",{"$f":"\"MOE \"&P139","v":"MOE TotalElementry&HSEnroll"},"CollGradSchEnrl",{"$f":"\"MOE \"&R139","v":"MOE CollGradSchEnrl"},"PopNotEnrolled","MOE PopNotEnrolled","Pop25yrsOver",{"$f":"\"MOE \"&V139","v":"MOE Pop25yrsOver"},"EduAtain<9grd",{"$f":"\"MOE \"&X139","v":"MOE EduAtain<9grd"},"EduAtainHSnoDip",{"$f":"\"MOE \"&Z139","v":"MOE EduAtainHSnoDip"},"EduAtainHSgrad",{"$f":"\"MOE \"&AB139","v":"MOE EduAtainHSgrad"},"EduAtainCollNoDeg",{"$f":"\"MOE \"&AD139","v":"MOE EduAtainCollNoDeg"},"EduAtainAssocDeg",{"$f":"\"MOE \"&AF139","v":"MOE EduAtainAssocDeg"},"EduAtainBachDeg",{"$f":"\"MOE \"&AH139","v":"MOE EduAtainBachDeg"},"EduAtainGradProfDeg",{"$f":"\"MOE \"&AJ139","v":"MOE EduAtainGradProfDeg"}]
[{"$f":"VLOOKUP(DropDownList!$A$19,CntyQuery!$A$53:$DN$64,A$1)","v":"Laconia"},2823,69,493,88,84,50.931326312987373,43,35,41,37,184,60.959002616512684,107,44,291,75.179784516850006,118,56.639209034025185,2330,85,2239,88,55,55.063599591744818,106,44.922154890432402,545,102.53292154230269,447,87.298339044909667,297,85.603738236130781,500,95.462034338264544,170,70.242437315343778]
[]
["Occupied Owner Housing Value"]
["NAME","Estimate; Total:","Margin of Error; Total:","Estimate; Total: - Less than $10,000","Margin of Error; Total: - Less than $10,000","Estimate; Total: - $10,000 to $14,999","Margin of Error; Total: - $10,000 to $14,999","Estimate; Total: - $15,000 to $19,999","Margin of Error; Total: - $15,000 to $19,999","Estimate; Total: - $20,000 to $24,999","Margin of Error; Total: - $20,000 to $24,999","Estimate; Total: - $25,000 to $29,999","Margin of Error; Total: - $25,000 to $29,999","Estimate; Total: - $30,000 to $34,999","Margin of Error; Total: - $30,000 to $34,999","Estimate; Total: - $35,000 to $39,999","Margin of Error; Total: - $35,000 to $39,999","Estimate; Total: - $40,000 to $49,999","Margin of Error; Total: - $40,000 to $49,999","Estimate; Total: - $50,000 to $59,999","Margin of Error; Total: - $50,000 to $59,999","Estimate; Total: - $60,000 to $69,999","Margin of Error; Total: - $60,000 to $69,999","Estimate; Total: - $70,000 to $79,999","Margin of Error; Total: - $70,000 to $79,999","Estimate; Total: - $80,000 to $89,999","Margin of Error; Total: - $80,000 to $89,999","Estimate; Total: - $90,000 to $99,999","Margin of Error; Total: - $90,000 to $99,999","Estimate; Total: - $100,000 to $124,999","Margin of Error; Total: - $100,000 to $124,999","Estimate; Total: - $125,000 to $149,999","Margin of Error; Total: - $125,000 to $149,999","Estimate; Total: - $150,000 to $174,999","Margin of Error; Total: - $150,000 to $174,999","Estimate; Total: - $175,000 to $199,999","Margin of Error; Total: - $175,000 to $199,999","Estimate; Total: - $200,000 to $249,999","Margin of Error; Total: - $200,000 to $249,999","Estimate; Total: - $250,000 to $299,999","Margin of Error; Total: - $250,000 to $299,999","Estimate; Total: - $300,000 to $399,999","Margin of Error; Total: - $300,000 to $399,999","Estimate; Total: - $400,000 to $499,999","Margin of Error; Total: - $400,000 to $499,999","Estimate; Total: - $500,000 to $749,999","Margin of Error; Total: - $500,000 to $749,999","Estimate; Total: - $750,000 to $999,999","Margin of Error; Total: - $750,000 to $999,999","Estimate; Total: - $1,000,000 to $1,499,999","Margin of Error; Total: - $1,000,000 to $1,499,999","Estimate; Total: - $1,500,000 to $1,999,999","Margin of Error; Total: - $1,500,000 to $1,999,999","Estimate; Total: - $2,000,000 or more","Margin of Error; Total: - $2,000,000 or more","MedianOwnOCCHomeValue","MOE MedianOwnOCCHomeValue","OnwerOccHsU","MOE OnwerOccHsU","OwnerCosts>20PctHHInc","MOE OwnerCosts>20PctHHInc","OwnerCosts20to29.9PctHHInc","MOE OwnerCosts20to29.9PctHHInc","OwnerCosts<30PctHHInc","MOE OwnerCosts<30PctHHInc","OwnerCosts>30PctHHInc","MOE OwnerCosts>30PctHHInc","OwnerCosts30to34.9PctHHInc","MOE OwnerCosts30to34.9PctHHInc","OwnerCosts<35PctHHInc","MOE OwnerCosts<35PctHHInc","OwnerCosts>35PctHHInc","MOE OwnerCosts>35PctHHInc","OwnerCosts>50PctHHInc","MOE OwnerCosts>50PctHHInc","OwnerCostsPctNotcomputed","MOE OwnerCostsPctNotcomputed","OwnerOHUHhInc<20k","MOE OwnerOHUHhInc<20k","OwnerOHUHhInc<20kHCosts<20pct","MOE OwnerOHUHhInc<20kHCosts<20pct","OwnerOHUHhInc<20kHCosts20to29pct","MOE OwnerOHUHhInc<20kHCosts20to29pct","OwnerOHUHhInc>20kHCosts30pct","MOE OwnerOHUHhInc>20kHCosts30pct","OwnerOHUHhInc20kTo34999","MOE OwnerOHUHhInc20kTo34999","OwnerOHUHhInc20kTo34999HCosts<20pct","MOE OwnerOHUHhInc20kTo34999HCosts<20pct","OwnerOHUHhInc20kTo34999HCosts20to29pct","MOE OwnerOHUHhInc20kTo34999HCosts20to29pct","OwnerOHUHhInc20kTo34999HCosts30pct","MOE OwnerOHUHhInc20kTo34999HCosts30pct","OwnerOHUHhInc35kTo49999","MOE OwnerOHUHhInc35kTo49999","OwnerOHUHhInc35kTo49999HCosts<20pct","MOE OwnerOHUHhInc35kTo49999HCosts<20pct","OwnerOHUHhInc35kTo49999HCosts20to29pct","MOE OwnerOHUHhInc35kTo49999HCosts20to29pct","OwnerOHUHhInc35kTo49999HCosts30pct","MOE OwnerOHUHhInc35kTo49999HCosts30pct","OwnerOHUHhInc50kTo74999","MOE OwnerOHUHhInc50kTo74999","OwnerOHUHhInc50kTo74999HCosts<20pct","MOE OwnerOHUHhInc50kTo74999HCosts<20pct","OwnerOHUHhInc50kTo74999HCosts20to29pct","MOE OwnerOHUHhInc50kTo74999HCosts20to29pct","OwnerOHUHhInc50kTo74999HCosts30pct","MOE OwnerOHUHhInc50kTo74999HCosts30pct","OwnerOHUHhInc>75000","MOE OwnerOHUHhInc>75000","OwnerOHUHhInc>75000HCosts<20pct","MOE OwnerOHUHhInc>75000HCosts<20pct","OwnerOHUHhInc>75000HCosts20to29pct","MOE OwnerOHUHhInc>75000HCosts20to29pct","OwnerOHUHhInc>75000HCosts30pct","MOE OwnerOHUHhInc>75000HCosts30pct","ZeroOrNegativeIncome","MOE ZeroOrNegativeIncome"]
[{"$f":"VLOOKUP(DropDownList!$A$19,CntyQuery!$A$53:$DN$64,A$1)","v":"Laconia"},4244,308,31,27,0,18,0,18,0,18,27,26,8,12,0,18,24,26,91,63,21,24,18,20,44,32,73,37,235,99,315,103,651,146,702,199,855,167,341,136,468,145,130,61,94,54,58,33,58,49,null,null,null,null,195800,7741,4244,308,1485,256.01562452319195,1194,217.20497231877542,2679,335.74097158374934,1544,257.64510474682027,303,94.493386011932074,2982,348.78503408259934,1241,239.69146835046089,653,167.83920876839238,21,24.207436873820409,347,128,0,18,16,18,331,124,580,165,12,19,90,53,478,157,632,146,156,55,62,34,414,160,796,155,258,94,352,110,186,80,1868,253,1059,212,674,167,135,59,21,24,2899,306]
[]
["Occupied Rental Housing Value"]
["NAME","RntrOccHU","MOE RntrOccHU","RntrOccHUwRent","MOE RntrOccHUwRent","ROHUGRent<100","MOE ROHUGRent<100","ROHUGRent100to149","MOE ROHUGRent100to149","ROHUGRent150to199","MOE ROHUGRent150to199","ROHUGRent200to249","MOE ROHUGRent200to249","ROHUGRent250to299","MOE ROHUGRent250to299","ROHUGRent300to349","MOE ROHUGRent300to349","ROHUGRent350to399","MOE ROHUGRent350to399","ROHUGRent400to449","MOE ROHUGRent400to449","ROHUGRent450to499","MOE ROHUGRent450to499","ROHUGRent500to549","MOE ROHUGRent500to549","ROHUGRent550to599","MOE ROHUGRent550to599","ROHUGRent600to649","MOE ROHUGRent600to649","ROHUGRent650to699","MOE ROHUGRent650to699","ROHUGRent700to749","MOE ROHUGRent700to749","ROHUGRent750to799","MOE ROHUGRent750to799","ROHUGRent800to899","MOE ROHUGRent800to899","ROHUGRent900to999","MOE ROHUGRent900to999","ROHUGRent1000to1249","MOE ROHUGRent1000to1249","ROHUGRent1250to1499","MOE ROHUGRent1250to1499","ROHUGRent1500to1999","MOE ROHUGRent1500to1999","ROHUGRent$2,000 to $2,499","MOE ROHUGRent$2,000 to $2,499","ROHUGRent$2,500 to $2,999","MOE ROHUGRent$2,500 to $2,999","ROHUGRent$3,000 to $3,499","MOE ROHUGRent$3,000 to $3,499","ROHUGRent$3,500 or more","MOE ROHUGRent$3,500 or more","ROHUNoGRent","MOE ROHUNoGRent","MedianGrossRnt","MOE MedianGrossRnt","H73RenterOccHU","MOE H73RenterOccHU","H73ROHUHhInc<10k","MOE H73ROHUHhInc<10k","H73ROHUHhInc<10kRnt<20pct","MOE H73ROHUHhInc<10kRnt<20pct","H73ROHUHhInc<10kRnt20to25pct","MOE H73ROHUHhInc<10kRnt20to25pct","H73ROHUHhInc<10kRnt25to30pct","MOE H73ROHUHhInc<10kRnt25to30pct","H73ROHUHhInc<10kRnt30to35pct","MOE H73ROHUHhInc<10kRnt30to35pct","H73ROHUHhInc<10kRnt35to39.9","MOE H73ROHUHhInc<10kRnt35to39.9","H73ROHUHhInc<10kRnt40to49.9","MOE H73ROHUHhInc<10kRnt40to49.9","H73ROHUHhInc<10kRnt>50pct","MOE H73ROHUHhInc<10kRnt>50pct","H73ROHUHhInc<10kPctNotComput","MOE H73ROHUHhInc<10kPctNotComput","H73ROHUHhInc10to20k","MOE H73ROHUHhInc10to20k","H73ROHUHhInc10to20kRnt<20pct","MOE H73ROHUHhInc10to20kRnt<20pct","H73ROHUHhInc10to20kRnt20to25pct","MOE H73ROHUHhInc10to20kRnt20to25pct","H73ROHUHhInc10to20kRnt25to30pct","MOE H73ROHUHhInc10to20kRnt25to30pct","H73ROHUHhInc10to20kRnt30to35pct","MOE H73ROHUHhInc10to20kRnt30to35pct","H73ROHUHhInc10to20kRnt35to39.9","MOE H73ROHUHhInc10to20kRnt35to39.9","H73ROHUHhInc10to20kRnt40to49.9","MOE H73ROHUHhInc10to20kRnt40to49.9","H73ROHUHhInc10to20kRnt>50pct","MOE H73ROHUHhInc10to20kRnt>50pct","H73ROHUHhInc10to20kRntPctNC","MOE H73ROHUHhInc10to20kRntPctNC","H73ROHUHhInc20to34.9k","MOE H73ROHUHhInc20to34.9k","H73ROHUHhInc20to34.9kRnt<20pct","MOE H73ROHUHhInc20to34.9kRnt<20pct","H73ROHUHhInc20to34.9kRnt20to25pct","MOE H73ROHUHhInc20to34.9kRnt20to25pct","H73ROHUHhInc20to34.9kRnt25to30pct","MOE H73ROHUHhInc20to34.9kRnt25to30pct","H73ROHUHhInc20to34.9kRnt30to35pct","MOE H73ROHUHhInc20to34.9kRnt30to35pct","H73ROHUHhInc20to34.9kRnt35to39.9","MOE H73ROHUHhInc20to34.9kRnt35to39.9","H73ROHUHhInc20to34.9kRnt40to49.9","MOE H73ROHUHhInc20to34.9kRnt40to49.9","H73ROHUHhInc20to34.9kRnt>50pct","MOE H73ROHUHhInc20to34.9kRnt>50pct","H73ROHUHhInc20to34.9kRntPctNC","MOE H73ROHUHhInc20to34.9kRntPctNC","H73ROHUHhInc35to49.9k","MOE H73ROHUHhInc35to49.9k","H73ROHUHhInc35to49.9kRnt<20pct","MOE H73ROHUHhInc35to49.9kRnt<20pct","H73ROHUHhInc35to49.9kRnt20to25pct","MOE H73ROHUHhInc35to49.9kRnt20to25pct","H73ROHUHhInc35to49.9kRnt25to30pct","MOE H73ROHUHhInc35to49.9kRnt25to30pct","H73ROHUHhInc35to49.9kRnt30to35pct","MOE H73ROHUHhInc35to49.9kRnt30to35pct","H73ROHUHhInc35to49.9kRnt35to39.9","MOE H73ROHUHhInc35to49.9kRnt35to39.9","H73ROHUHhInc35to49.9kRnt40to49.9","MOE H73ROHUHhInc35to49.9kRnt40to49.9","H73ROHUHhInc35to49.9kRnt>50pct","MOE H73ROHUHhInc35to49.9kRnt>50pct","H73ROHUHhInc35to49.9kRntPctNC","MOE H73ROHUHhInc35to49.9kRntPctNC","H73ROHUHhInc50to74.9k","MOE H73ROHUHhInc50to74.9k","H73ROHUHhInc50to74.9kRnt<20pct","MOE H73ROHUHhInc50to74.9kRnt<20pct","H73ROHUHhInc50to74.9kRnt20to25pct","MOE H73ROHUHhInc50to74.9kRnt20to25pct","H73ROHUHhInc50to74.9kRnt25to30pct","MOE H73ROHUHhInc50to74.9kRnt25to30pct","H73ROHUHhInc50to74.9kRnt30to35pct","MOE H73ROHUHhInc50to74.9kRnt30to35pct","H73ROHUHhInc50to74.9kRnt35to39.9","MOE H73ROHUHhInc50to74.9kRnt35to39.9","H73ROHUHhInc50to74.9kRnt40to49.9","MOE H73ROHUHhInc50to74.9kRnt40to49.9","H73ROHUHhInc50to74.9kRnt>50pct","MOE H73ROHUHhInc50to74.9kRnt>50pct","H73ROHUHhInc50to74.9kRntPctNC","MOE H73ROHUHhInc50to74.9kRntPctNC","H73ROHUHhInc75to99.9k","MOE H73ROHUHhInc75to99.9k","H73ROHUHhInc75to99.9kRnt<20pct","MOE H73ROHUHhInc75to99.9kRnt<20pct","H73ROHUHhInc75to99.9kRnt20to25pct","MOE H73ROHUHhInc75to99.9kRnt20to25pct","H73ROHUHhInc75to99.9kRnt25to30pct","MOE H73ROHUHhInc75to99.9kRnt25to30pct","H73ROHUHhInc75to99.9kRnt30to35pct","MOE H73ROHUHhInc75to99.9kRnt30to35pct","H73ROHUHhInc75to99.9kRnt35to39.9","MOE H73ROHUHhInc75to99.9kRnt35to39.9","H73ROHUHhInc75to99.9kRnt40to49.9","MOE H73ROHUHhInc75to99.9kRnt40to49.9","H73ROHUHhInc75to99.9kRnt>50pct","MOE H73ROHUHhInc75to99.9kRnt>50pct","H73ROHUHhInc75to99.9kRntPctNC","MOE H73ROHUHhInc75to99.9kRntPctNC","H73ROHUHhInc>100k","MOE H73ROHUHhInc>100k","H73ROHUHhInc>100kRnt<20pct","MOE H73ROHUHhInc>100kRnt<20pct","H73ROHUHhInc>100kRnt20to25pct","MOE H73ROHUHhInc>100kRnt20to25pct","H73ROHUHhInc>100kRnt25to30pct","MOE H73ROHUHhInc>100kRnt25to30pct","H73ROHUHhInc>100kRnt30to35pct","MOE H73ROHUHhInc>100kRnt30to35pct","H73ROHUHhInc>100kRnt35to39.9","MOE H73ROHUHhInc>100kRnt35to39.9","H73ROHUHhInc>100kRnt40to49.9","MOE H73ROHUHhInc>100kRnt40to49.9","H73ROHUHhInc>100kRnt>50pct","MOE H73ROHUHhInc>100kRnt>50pct","H73ROHUHhInc>100kRntPctNC","MOE H73ROHUHhInc>100kRntPctNC"]
[{"$f":"VLOOKUP(DropDownList!$A$19,CntyQuery!$A$53:$DN$64,A$1)","v":"Laconia"},2899,306,2815,306,14,24,0,18,34,31,53,40,44,37,111,117,50,43,56,42,73,73,30,36,120,80,165,112,146,122,157,78,194,99,477,176,317,174,498,153,200,90,61,43,15,16,null,null,null,null,null,null,84,62,834,41,2899,306,409,164,14,24,0,18,10,16,7,12,299,148,null,null,null,null,79,65,617,165,22,25,33,33,29,29,49,34,454,161,null,null,null,null,30,28,542,159,44,35,18,17,134,103,70,60,255,106,null,null,null,null,21,24,668,194,189,142,196,95,175,102,23,29,85,58,null,null,null,null,0,18,430,179,271,158,48,50,100,70,0,18,11,17,null,null,null,null,0,18,51,40,23,25,13,25,15,16,0,18,0,18,null,null,null,null,0,18,182,92,182,92,0,18,0,18,0,18,0,18]
[]
[]
[]
[]
[]
["Occupied Rental Housing Cost Burdern All Incomes"]
["NAME","RenterOccHsU",{"$f":"\"MOE \"&B155","v":"MOE RenterOccHsU"},"GRnt<20PctHHInc",{"$f":"\"MOE \"&D155","v":"MOE GRnt<20PctHHInc"},"GRnt20to249PctHHInc",{"$f":"\"MOE \"&F155","v":"MOE GRnt20to249PctHHInc"},"GRnt25to29.9PctHHInc",{"$f":"\"MOE \"&H155","v":"MOE GRnt25to29.9PctHHInc"},"GRnt<30PctHHInc",{"$f":"\"MOE \"&J155","v":"MOE GRnt<30PctHHInc"},"GRnt>30PctHHInc",{"$f":"\"MOE \"&L155","v":"MOE GRnt>30PctHHInc"},"GRnt30to349PctHHInc",{"$f":"\"MOE \"&N155","v":"MOE GRnt30to349PctHHInc"},"GRnt<35PctHHInc",{"$f":"\"MOE \"&P155","v":"MOE GRnt<35PctHHInc"},"GRnt>35PctHHInc",{"$f":"\"MOE \"&R155","v":"MOE GRnt>35PctHHInc"},"GRnt>50PctHHInc",{"$f":"\"MOE \"&T155","v":"MOE GRnt>50PctHHInc"},"HCB Not Calculated",{"$f":"\"MOE \"&V155","v":"MOE HCB Not Calculated"}]
[{"$f":"VLOOKUP(DropDownList!$A$19,CntyQuery!$A$53:$DN$64,A$1)","v":"Laconia"},2899,306,745,218.38269162184076,308,113,463,173,1516,300.64763428305901,1253,252.02976014748734,149,73,1665,309.38325746555842,1104,241.22603507913485,716,195,130,74]
[]
["Income By Household Type and Tenure"]
["NAME","TotalFamilyHouseholds",{"$f":"\"MOE \"&B159","v":"MOE TotalFamilyHouseholds"},"FamInc<10K",{"$f":"\"MOE \"&D159","v":"MOE FamInc<10K"},"FamInc10to15K",{"$f":"\"MOE \"&F159","v":"MOE FamInc10to15K"},"FamInc15to20K",{"$f":"\"MOE \"&H159","v":"MOE FamInc15to20K"},"FamInc20to25K",{"$f":"\"MOE \"&J159","v":"MOE FamInc20to25K"},"FamInc25to30K",{"$f":"\"MOE \"&L159","v":"MOE FamInc25to30K"},"FamInc30to35K",{"$f":"\"MOE \"&N159","v":"MOE FamInc30to35K"},"FamInc35to40K",{"$f":"\"MOE \"&P159","v":"MOE FamInc35to40K"},"FamInc40to45K",{"$f":"\"MOE \"&R159","v":"MOE FamInc40to45K"},"FamInc45to50K",{"$f":"\"MOE \"&T159","v":"MOE FamInc45to50K"},"FamInc50to60K",{"$f":"\"MOE \"&V159","v":"MOE FamInc50to60K"},"FamInc60to75K",{"$f":"\"MOE \"&X159","v":"MOE FamInc60to75K"},"FamInc75to100K",{"$f":"\"MOE \"&Z159","v":"MOE FamInc75to100K"},"FamInc100to125K",{"$f":"\"MOE \"&AB159","v":"MOE FamInc100to125K"},"FamInc125to150K",{"$f":"\"MOE \"&AD159","v":"MOE FamInc125to150K"},"FamInc150to200K",{"$f":"\"MOE \"&AF159","v":"MOE FamInc150to200K"},"FamInc>200K",{"$f":"\"MOE \"&AH159","v":"MOE FamInc>200K"},"MedFamInc",{"$f":"\"MOE \"&AJ159","v":"MOE MedFamInc"},"TotalNonNonFamilyHouseholds",{"$f":"\"MOE \"&AL159","v":"MOE TotalNonNonFamilyHouseholds"},"NonFamInc<10K",{"$f":"\"MOE \"&AN159","v":"MOE NonFamInc<10K"},"NonFamInc10to15K",{"$f":"\"MOE \"&AP159","v":"MOE NonFamInc10to15K"},"NonFamInc15to20K",{"$f":"\"MOE \"&AR159","v":"MOE NonFamInc15to20K"},"NonFamInc20to25K",{"$f":"\"MOE \"&AT159","v":"MOE NonFamInc20to25K"},"NonFamInc25to30K",{"$f":"\"MOE \"&AV159","v":"MOE NonFamInc25to30K"},"NonFamInc30to35K",{"$f":"\"MOE \"&AX159","v":"MOE NonFamInc30to35K"},"NonFamInc35to40K",{"$f":"\"MOE \"&AZ159","v":"MOE NonFamInc35to40K"},"NonFamInc40to45K",{"$f":"\"MOE \"&BB159","v":"MOE NonFamInc40to45K"},"NonFamInc45to50K",{"$f":"\"MOE \"&BD159","v":"MOE NonFamInc45to50K"},"NonFamInc50to60K",{"$f":"\"MOE \"&BF159","v":"MOE NonFamInc50to60K"},"NonFamInc60to75K",{"$f":"\"MOE \"&BH159","v":"MOE NonFamInc60to75K"},"NonFamInc75to100K",{"$f":"\"MOE \"&BJ159","v":"MOE NonFamInc75to100K"},"NonFamInc100to125K",{"$f":"\"MOE \"&BL159","v":"MOE NonFamInc100to125K"},"NonFamInc125to150K",{"$f":"\"MOE \"&BN159","v":"MOE NonFamInc125to150K"},"NonFamInc150to200K",{"$f":"\"MOE \"&BP159","v":"MOE NonFamInc150to200K"},"NonFamInc>200K",{"$f":"\"MOE \"&BR159","v":"MOE NonFamInc>200K"},"MedNonFamInc",{"$f":"\"MOE \"&BT159","v":"MOE MedNonFamInc"}]
[{"$f":"VLOOKUP(DropDownList!$A$19,CntyQuery!$A$53:$DN$64,A$1)","v":"Laconia"},2758,310,329,146,352,102,307,106,244,111,210,119,187,86,204,99,165,64,126,81,219,97,84,56,104,59,108,81,10,17,63,46,46,35,28698,3547,2739,279,295,119,419,138,232,90,227,99,233,131,173,72,200,98,103,65,132,80,244,106,108,67,154,64,121,89,23,29,35,33,40,34,29422,2840]

{"sheet":"Updates","index":14,"n_rows":58,"n_cols":3,"rows_kept":58,"cut":false,"hidden":false,"merged":[[36,2,36,12],[57,2,57,11],[50,2,50,11],[51,2,51,11],[52,2,52,11],[53,2,53,11],[54,2,54,11],[56,2,56,11],[55,2,55,11],[35,2,35,11],[28,2,28,11],[24,2,24,11],[26,2,26,11],[23,2,23,11],[27,2,27,11],[31,2,31,11],[34,2,34,11],[33,2,33,11],[30,2,30,11],[22,2,22,11],[25,2,25,11],[29,2,29,11],[32,2,32,11],[0,2,0,11],[1,2,1,11],[3,2,3,11],[2,2,2,11],[18,2,18,11],[17,2,17,11],[11,2,11,11],[10,2,10,11],[9,2,9,11],[8,2,8,11],[7,2,7,11],[6,2,6,11],[5,2,5,11],[4,2,4,11],[20,2,20,11],[21,2,21,11],[19,2,19,11],[49,2,49,11],[45,2,45,11],[46,2,46,11],[38,2,38,11],[47,2,47,11],[48,2,48,11],[39,2,39,11],[40,2,40,11],[41,2,41,11],[42,2,42,11],[43,2,43,11],[44,2,44,10],[37,2,37,11]]}
[]
["Important Notes"]
[]
["Date",null,"Task"]
["2023-12-11",null,"Updated 2018-2022 Amreican Community Survey Data. Updated CPI Adjustement Factor  factor 1.19 for 2013-2017 and 1.27 for 2008-2012"]
["2023-11-21",null,"Updated 2022 Wage amd Employment Data"]
["2023-10-12",null,"Updated error on the Poverty Worksheet"]
["2023-09-12",null,"Updated 2008-2012 and 2013-2017 ACS Data; Added 10 Year Disability Comparison Worksheet"]
["2023-01-25",null,"Updated Permit Data and all appropriate charts."]
["2022-12-12",null,"Updated with 2017-2021 ACS Data "]
["2022-11-01",null,"Updated NH Population Estimates through 2030"]
["2022-09-14",null,"Updated 2021 Annual Wage and Employment count for County"]
["2022-10-05",null,"Updated Employment and Wage Information for 2021"]
["2022-03-21",null,"Updated historical data 2016-2020 ACS Data"]
["2022-03-14",null,"Updated CPI Adjustement factor to adjust 2010 (1.19) and 2015 (1.09) dollars to 2020 dollars. "]
["2022-02-16",null,"Updated 2020 Permit Data"]
["2021-09-09",null,"Updated with 2020 Decennial Population data"]
["2020-12-18",null,"Updated 2015-2019 Amreican Community Survey Data and added 2019 NH Permit data."]
["2020-09-03",null,"Updated historical data 2005-2009 and 2010-2014 ACS Data"]
["2019-12-31",null,"Updated Visual Basic Code changing the footer font from Gotham Medium to Verdana."]
["2019-12-20",null,"Updated with 2014-2018 ACS Data. Updated 2018 Permit data. Updated CPI Adjustment Factor (1.02437673) to the 2009-2013 and 2014-2018 Income Comparison Table. This factor was provided by Census"]
["2019-11-26",null,"Updated the 2009-2013 ACS data for comparison purposes."]
["2019-09-17",null,"Updated 2018 Annual Employment and Wage data; updated Housing and Employment worksheet."]
["2018-12-19",null,"Updated 2017 Annual Employment and Wage data; updated Housing and Employment worksheet. Updated 2017 Permit data"]
["2018-12-08",null,"Updated the 2008-2012 ACS data for comparison purposes. Updated CPI Adjustment Factor (1.0676) to the 2008-2012 and 2013-2017  Income Comparison Table. This factor was provided by Census."]
["2018-12-06",null,"Updated charts with 2013-2017 Data"]
["2018-12-05",null,"Updated labels in workbook to reflect 2013-2017 data set and 2008-2012 comparison data set. Updated footer text. "]
["2018-08-09",null,"Updated charts with new color scheme"]
["2018-05-09",null,"Reviewed that unemployment rate data does not need to updated. There are no cities or towns that needed this update. Only a select number of locations are updated with this data."]
["2017-12-18",null,"Updated 2016 NH Permit Data"]
["2017-12-08",null,"Updated Charts with 2012-2016 data; updated code to reflect additional data points in various tables. Updated CPI Adjustment Factor (1.06686838) to the 2007-2011 and 2012-2016 Income Comparison Table. This factor was provided by Census."]
["2017-11-16",null,"Updated the 2006-2010 ACS data for comparison purposes."]
["2017-05-15",null,"Reviewed that unemployment rate data does not need to updated. There are no cities or towns that needed this update. Only a select number of locations are updated with this data."]
["2017-04-11",null,"Updated Household Income by Tenure worksheet by adding the Household Income in the Past 12 Months by Percent of Median Threshold."]
["2017-01-04",null,"Verified Charts; Added 2015 Permit Data; Updated Housing and Permit data"]
["2017-12-28",null,"Updated the 2007-2011 ACS data for comparison purposes."]
["2017-12-23",null,"Updated Town Comparisons: Employment and Housing with 2015 data"]
["2017-12-14",null,"Updated 2012-2015 ACS data"]
["2017-10-31",null,"Updated Employment and Wage Information for 2015"]
["2017-01-14",null,"Fixed error in School Attainment worksheet - Graduate or Professional Degree data."]
["2017-01-07",null,"Fixed formula in Poverty worksheet; fixed Non-Family Persons per Household data; fixed legend of Rental Cost Charts."]
["2015-12-23",null,"Fixed Table ACS_B25074"]
["2015-12-15",null,"Updated Code to correct an error on the RentalHousingCost worksheet; updated column names on CntyDataLink."]
["2015-12-09",null,"Updated 2010-2014 ACS data"]
["2015-12-07",null,"Updated Permit Data and all appropriate charts."]
["2015-12-03",null,"Updated RentalHousingCost and OwnerCost worksheet to eliminate a printed page. Charts were moved and reduced in size. Updated the CPI Adjustment Factor (1.1034264) to the 2005-2009 and 2010-2014 Income Comparison Table."]
["2015-11-24",null,"Updated Color scheme on charts and added correct logo to the charts"]
["2015-10-05",null,"Added Town Employment and Housing Comparison data. Added Visual basic code to automatically update footer. Visual basic code will run when Ctrl-j is selected. "]
["2015-09-29",null,"Updated Employment Information"]
["2015-09-15",null,"Updated RentalHousingCost worksheet to accommodate changes to Table B25074; updated charts to include prior 5 year estimate"]
["2015-08-31",null,"Updated Code to include Prior 5 year estimate. Added Statistically Significant worksheet."]
["2015-08-06",null,"Corrected the Employment vs. Housing worksheet."]
["2015-03-17",null,"Added Labor Force Data"]
["2014-12-30",null,"Corrected Rental Cost formula."]
["2014-12-17",null,"Corrected and verified household pie charts. All Permit data and employment data has been updated through 2013."]
["2012-10-14",null,"Reformatted the code in the worksheet and corrected an error in the Income Comparison Sheet"]
["2010-12-21",null,"Added Margin of Error information on all applicable ACS Sheets"]
["2010-12-07",null,"Created a calculated Table B19001 in anticipation for the 5 year data.  Table C19001 will not be provided"]

{"sheet":"CntyQuery","index":15,"n_rows":105,"n_cols":243,"rows_kept":105,"cut":false,"hidden":true,"merged":[]}
[]
["Census 1990 Data -           Query Name:  DPCnty90Census"]
["NAME","FIPS","COUSUBFP","LandAcres","WaterAcres","HousingUnits90Cen","Persons90Cen","Families90Cen","Households90cen","MalePop90cen","FemalePop90cen","WhitePop","BlackPop","AmerIndianPop","AsianPIPop","OtherRacePop","HispanicOrPop","AgeUnder15_90cen","Age15to24_90cen","Age25to34_90cen","Age35to44_90cen","Age45to54_90cen","Age55to64_90cen","Age65to74_90cen","Age75andOver_90cen","PersonsInHH90cen","PersonsInFamHH90cen","PersonsInGC","PersonsPerHH90cen","PersonsPerFam90Cen","SinglePersonHH90cen","MarriedCoupleHH90cen","SingleParentHH90cen","NonFamilyHH90cen","TotalHousingUnits","OccupiedHousingUnits","VacantHousingUnits","OwnerOccHU","RenterOccHU","VacantForRent90","VacantForSale90","VacantSeasonalRec","SingFamHU90cen","MultiFamHU90cen","MobileHom90cen","SingFamOwnHU90cen","MultiFamOwnHU90cen","MobileHomOwnHU90cen","SingFamRntrHU90cen","MultiFamRntrHU90cen","MobileHomRntrHU90cen","HU<5yrs90cen","HU5to20yrs90cen","HU20to50yrs90cen","HU>50yrs90cen","Units0Bedroom90cen","Units1Bedroom90cen","Units2Bedroom90cen","Units3Bedroom90cen","Units4+Bedroom90cen","HI<5K","HI5Kto10K","HI10Kto15K","HI15Kto25K","HI25Kto35K","HI35Kto50K","HI50Kto75K","HI75Kto100K","HI>100K","MedHI","HH<25HI<5K","HH<25HI5Kto10K","HH<25HI10Kto15K","HH<25HI15Kto25K","HH<25HI25Kto35K","HH<25HI35Kto50K","HH<25HI50Kto75K","HH<25HI75Kto100K","HH<25HI>100K","HH25to34HI<5K","HH25to34HI5Kto10K","HH25to34HI10Kto15K","HH25to34HI15Kto25K","HH25to34HI25Kto35K","HH25to34HI35Kto50K","HH25to34HI50Kto75K","HH25to34HI75Kto100K","HH25to34HI>100K","HH35to44HI<5K","HH35to44HI5Kto10K","HH35to44HI10Kto15K","HH35to44HI15Kto25K","HH35to44HI25Kto35K","HH35to44HI35Kto50K","HH35to44HI50Kto75K","HH35to44HI75Kto100K","HH35to44HI>100K","HH45to54HI<5K","HH45to54HI5Kto10K","HH45to54HI10Kto15K","HH45to54HI15Kto25K","HH45to54HI25Kto35K","HH45to54HI35Kto50K","HH45to54HI50Kto75K","HH45to54HI75Kto100K","HH45to54HI>100K","HH55to64HI<5K","HH55to64HI5Kto10K","HH55to64HI10Kto15K","HH55to64HI15Kto25K","HH55to64HI25Kto35K","HH55to64HI35Kto50K","HH55to64HI50Kto75K","HH55to64HI75Kto100K","HH55to64HI>100K","HH65to74HI<5K","HH65to74HI5Kto10K","HH65to74HI10Kto15K","HH65to74HI15Kto25K","HH65to74HI25Kto35K","HH65to74HI35Kto50K","HH65to74HI50Kto75K","HH65to74HI75Kto100K","HH65to74HI>100K","HH>75HI<5K","HH>75HI5Kto10K","HH>75HI10Kto15K","HH>75HI15Kto25K","HH>75HI25Kto35K","HH>75HI35Kto50K","HH>75HI50Kto75K","HH>75HI75Kto100K","HH>75HI>100K","SchoolEnrollment1thru12","Pop25andOver","HSGradorHigher","CollGradorHigher","NativePop","ForeignBornPop","BornStateOfRes","NativePop2","ForeignBornPop2","DroveAlone","CarPooled","PublicTranspt","Walked","OtherMeans","WorkedAtHome","HHInc<10K","HHInc10to15K","HHInc15to25K","HHInc25to35K","HHInc35to50K","HHInc50to75K","HHInc75to100K","HHInc100to150K","HHInc>150K","YearStBlt89to90","YearStBlt85to88","YearStBlt80to84","YearStBlt70to79","YearStBlt60to69","YearStBlt50to59","YearStBlt40to49","YearStBlt39earlier","PlaceTownIDNumber"]
["CountyName","Cnty_Code","Census_Cnty_Code","LandAcres","WaterAcres","HousingUnits90Cen","Persons90Cen","Families90Cen","Households90cen","MalePop90cen","FemalePop90cen","WhitePop","BlackPop","AmerIndianPop","AsianPIPop","OtherRacePop","HispanicOrPop","AgeUnder15_90cen","Age15to24_90cen","Age25to34_90cen","Age35to44_90cen","Age45to54_90cen","Age55to64_90cen","Age65to74_90cen","Age75andOver_90cen","PersonsInHH90cen","PersonsInFamHH90cen","PersonsInGC","PersonsPerHH90cen","PersonsPerFam90Cen","SinglePersonHH90cen","MarriedCoupleHH90cen","SingleParentHH90cen","NonFamilyHH90cen","TotalHousingUnits","OccupiedHousingUnits","VacantHousingUnits","OwnerOccHU","RenterOccHU","VacantForRent90","VacantForSale90","VacantSeasonalRec","SingFamHU90cen","MultiFamHU90cen","MobileHom90cen","SingFamOwnHU90cen","MultiFamOwnHU90cen","MobileHomOwnHU90cen","SingFamRntrHU90cen","MultiFamRntrHU90cen","MobileHomRntrHU90cen","HU<5yrs90cen","HU5to20yrs90cen","HU20to50yrs90cen","HU>50yrs90cen","Units0Bedroom90cen","Units1Bedroom90cen","Units2Bedroom90cen","Units3Bedroom90cen","Units4+Bedroom90cen","HI<5K","HI5Kto10K","HI10Kto15K","HI15Kto25K","HI25Kto35K","HI35Kto50K","HI50Kto75K","HI75Kto100K","HI>100K","MedHI","HH<25HI<5K","HH<25HI5Kto10K","HH<25HI10Kto15K","HH<25HI15Kto25K","HH<25HI25Kto35K","HH<25HI35Kto50K","HH<25HI50Kto75K","HH<25HI75Kto100K","HH<25HI>100K","HH25to34HI<5K","HH25to34HI5Kto10K","HH25to34HI10Kto15K","HH25to34HI15Kto25K","HH25to34HI25Kto35K","HH25to34HI35Kto50K","HH25to34HI50Kto75K","HH25to34HI75Kto100K","HH25to34HI>100K","HH35to44HI<5K","HH35to44HI5Kto10K","HH35to44HI10Kto15K","HH35to44HI15Kto25K","HH35to44HI25Kto35K","HH35to44HI35Kto50K","HH35to44HI50Kto75K","HH35to44HI75Kto100K","HH35to44HI>100K","HH45to54HI<5K","HH45to54HI5Kto10K","HH45to54HI10Kto15K","HH45to54HI15Kto25K","HH45to54HI25Kto35K","HH45to54HI35Kto50K","HH45to54HI50Kto75K","HH45to54HI75Kto100K","HH45to54HI>100K","HH55to64HI<5K","HH55to64HI5Kto10K","HH55to64HI10Kto15K","HH55to64HI15Kto25K","HH55to64HI25Kto35K","HH55to64HI35Kto50K","HH55to64HI50Kto75K","HH55to64HI75Kto100K","HH55to64HI>100K","HH65to74HI<5K","HH65to74HI5Kto10K","HH65to74HI10Kto15K","HH65to74HI15Kto25K","HH65to74HI25Kto35K","HH65to74HI35Kto50K","HH65to74HI50Kto75K","HH65to74HI75Kto100K","HH65to74HI>100K","HH>75HI<5K","HH>75HI5Kto10K","HH>75HI10Kto15K","HH>75HI15Kto25K","HH>75HI25Kto35K","HH>75HI35Kto50K","HH>75HI50Kto75K","HH>75HI75Kto100K","HH>75HI>100K","SchoolEnrollment1thru12","Pop25andOver","HSGradorHigher","CollGradorHigher","NativePop","ForeignBornPop","BornStateOfRes","NativePop2","ForeignBornPop2","DroveAlone","CarPooled","PublicTranspt","Walked","OtherMeans","WorkedAtHome","HHInc<10K","HHInc10to15K","HHInc15to25K","HHInc25to35K","HHInc35to50K","HHInc50to75K","HHInc75to100K","HHInc100to150K","HHInc>150K"]
["Alton",1005,"01060",40906.19,12324.31,3267,3286,938,1262,1667,1619,3274,2,5,4,1,14,661,367,461,538,356,389,324,190,3258,2869,28,2.5816164817749603,3.0586353944562901,268,826,112,56,3267,1262,2005,984,278,25,56,1834,2769,179,319,851,26,319,131,115,32,682,1064,579,942,12,107,1297,1231,620,43,89,88,254,269,290,148,35,45,31033,0,0,0,7,0,0,0,9,0,11,17,8,24,107,38,49,0,0,0,0,18,37,66,87,41,13,0,0,6,0,26,41,47,24,7,18,0,7,22,30,36,95,19,0,19,6,16,10,113,19,23,15,0,8,26,43,30,17,0,0,0,6,0,600,2345,1997,425,3251,35,1486,3251,35,1248,108,6,76,6,54,132,88,254,269,290,148,35,27,18,132,550,456,608,220,192,167,942,101]
["Barnstead",1010,"03220",27483.81,1274.82,1861,3100,851,1096,1551,1549,3081,9,4,6,0,17,737,376,589,541,332,224,204,97,3100,2755,0,2.8284671532846715,3.2373678025851937,162,742,109,83,1861,1096,765,934,162,15,13,679,1672,74,115,859,21,115,108,38,16,383,695,287,490,16,77,719,785,258,44,39,99,269,188,290,208,26,18,32063,0,0,0,6,6,27,0,0,0,0,11,7,64,7,135,50,8,0,17,7,13,37,110,50,57,18,0,0,0,0,34,39,28,59,0,18,17,0,8,55,16,31,42,0,0,0,0,38,46,10,7,0,0,0,10,21,33,27,0,12,0,0,0,379,2074,1739,514,2958,76,1529,2958,76,1342,146,0,0,0,122,83,99,269,188,290,208,26,18,0,77,306,168,527,237,37,13,490,102]
["Belmont",1015,"04740",19293.73,1133.73,2869,5796,1580,2146,2871,2925,5738,10,29,18,1,24,1396,683,1157,1022,539,446,361,192,5784,5038,12,2.6952469711090399,3.188607594936709,413,1311,269,153,2869,2146,723,1675,471,77,65,525,1635,441,793,1142,60,793,105,296,70,828,1280,393,368,6,254,1218,1151,240,62,143,149,369,359,629,374,53,24,34972,7,16,10,27,0,35,11,0,0,0,30,21,125,113,165,109,0,0,0,0,22,46,138,214,143,38,0,9,0,9,56,30,95,68,5,24,9,42,4,40,34,77,43,10,0,12,6,39,48,44,30,0,0,0,25,49,44,27,0,13,0,0,0,1042,3717,2925,612,5704,92,3527,5704,92,2219,574,0,47,52,69,205,149,369,359,629,374,53,14,10,55,773,602,678,223,135,35,368,103]
["Center Harbor",1020,"10660",8532.56,1861.86,649,996,285,377,471,525,990,3,0,3,0,3,202,109,142,173,113,101,103,53,996,873,0,2.6419098143236073,3.0631578947368423,69,250,35,23,649,377,272,318,59,7,8,239,527,38,84,282,10,84,31,17,11,115,189,146,199,5,74,145,312,113,5,20,36,50,70,84,70,10,25,35435,0,0,0,4,0,2,1,0,2,0,0,2,13,21,17,7,0,0,0,0,0,12,23,25,22,2,8,0,2,2,0,8,17,15,3,6,3,5,5,11,9,10,16,0,4,0,7,12,9,7,11,5,5,5,2,6,15,1,2,2,4,0,0,188,687,626,206,980,16,410,980,16,381,32,0,16,11,43,25,36,50,70,84,70,10,16,9,19,96,55,134,115,29,2,199,104]
["Gilford",1025,"28740",24826.75,9416.9,4397,5867,1701,2298,2891,2976,5830,2,8,26,1,29,1169,632,776,1066,741,654,547,282,5867,5123,0,2.5530896431679722,3.0117577895355674,467,1487,214,130,4397,2298,2099,1854,444,134,60,1833,3076,702,619,1460,63,619,205,192,47,1162,1898,864,473,34,379,1214,2191,579,67,163,124,382,315,542,525,103,94,37048,0,30,7,0,25,11,13,0,0,24,0,13,55,85,87,57,11,9,0,0,20,75,80,193,186,27,6,7,10,23,63,26,52,139,41,44,14,41,14,52,32,88,85,14,26,7,37,11,81,61,93,25,10,9,15,45,36,56,6,18,20,0,0,1057,4066,3485,1176,5750,117,2870,5750,117,2508,263,0,76,8,162,230,124,382,315,542,525,103,49,45,103,1059,672,1226,448,182,234,473,105]
["Gilmanton",1030,"28980",36891.370000000003,1235.77,1744,2609,748,914,1328,1281,2597,6,2,4,0,7,627,269,497,482,244,216,176,98,2609,2392,0,2.8544857768052516,3.1978609625668448,120,667,81,46,1744,914,830,828,86,7,26,752,1618,49,77,779,17,77,63,20,3,366,717,259,432,7,129,648,716,274,13,56,16,97,243,204,158,62,39,36397,0,0,0,0,0,5,0,0,0,0,0,4,21,88,62,53,15,12,0,9,0,36,63,72,58,16,21,0,10,0,0,22,28,21,31,6,0,6,8,12,35,27,16,0,0,0,19,0,0,28,10,10,0,0,13,12,4,28,7,0,0,0,0,552,1751,1470,369,2661,30,1556,2661,30,1014,277,0,11,0,18,69,16,97,243,204,158,62,26,13,81,285,259,458,31,210,18,432,106]
["Laconia",1035,"40180",12860.61,3851.61,8201,15743,4032,6176,7452,8291,15539,20,35,122,27,98,3423,2064,2537,2365,1575,1368,1290,1121,15312,12623,431,2.4792746113989637,3.1307043650793651,1721,3144,888,423,8201,6176,2025,3494,2682,469,148,1216,3948,4090,163,2854,564,163,298,2327,57,1092,1898,1895,3316,131,1341,2580,2983,1166,215,555,589,1257,1013,1051,1042,194,247,29116,29,32,57,116,66,29,17,0,0,38,74,78,270,298,237,180,33,20,14,39,61,260,203,284,365,42,86,10,18,54,133,125,249,259,26,71,45,32,90,185,132,117,110,77,43,45,157,90,156,119,121,82,16,13,34,203,159,137,70,14,29,0,14,2499,10256,7899,1784,15257,486,9455,15257,486,5500,954,50,380,50,284,770,589,1257,1013,1051,1042,194,190,57,57,1035,860,1038,587,596,712,3316,107]
["Meredith",1040,"47140",25804.32,9115.3700000000008,3720,4837,1310,1936,2296,2541,4806,9,8,11,3,26,942,592,783,780,520,444,415,361,4726,3940,111,2.4411157024793386,3.0076335877862594,503,1086,224,123,3720,1936,1784,1408,528,51,50,1603,2877,508,335,1119,69,335,157,326,45,602,1146,980,992,12,372,1223,1531,582,79,146,155,504,310,377,244,57,54,27057,0,0,15,46,33,20,0,0,0,17,5,17,59,58,141,48,5,0,0,21,22,135,76,127,75,23,34,15,0,9,61,44,39,62,10,10,20,5,19,58,62,45,15,8,3,0,50,61,100,14,5,38,11,7,27,65,12,45,23,0,6,0,0,791,3303,2651,808,4732,105,2690,4732,105,1883,239,12,58,27,167,225,155,504,310,377,244,57,22,32,48,554,437,709,600,246,134,992,108]
["New Hampton",1045,"51540",23560.79,999.14,855,1606,444,590,804,802,1602,3,0,1,0,4,369,174,291,263,176,155,122,56,1606,1416,0,2.7220338983050847,3.189189189189189,111,378,66,35,855,590,265,488,102,37,13,182,666,48,141,410,9,141,47,20,35,152,256,147,300,4,119,292,307,133,13,23,55,108,112,173,77,20,18,33487,3,3,9,2,2,3,1,0,0,3,5,5,29,29,38,16,2,2,2,0,10,21,25,54,24,4,9,0,0,1,8,25,40,18,6,0,0,3,8,18,18,24,13,6,3,5,12,8,14,11,6,5,2,4,0,0,14,16,2,8,0,0,0,272,1063,856,272,1583,23,874,1583,23,544,132,0,58,7,68,36,55,108,112,173,77,20,9,9,24,128,107,149,59,61,27,300,109]
["Sanbornton",1050,"67300",30261.919999999998,1512.45,1131,2136,613,756,1088,1048,2123,2,2,8,1,5,495,242,334,449,224,179,158,55,2136,1948,0,2.8253968253968256,3.1778140293637849,106,559,54,37,1131,756,375,650,106,10,19,311,1032,37,62,613,9,62,74,22,10,181,401,286,263,17,116,313,486,199,8,39,81,133,144,170,140,24,29,33581,0,2,2,2,2,8,1,0,0,0,5,6,26,32,36,16,4,7,5,2,19,29,58,66,55,5,15,3,0,5,16,31,30,37,8,5,0,6,16,23,2,16,24,4,2,0,13,23,37,14,11,5,3,0,0,11,10,0,5,3,2,0,0,404,1399,1207,328,2088,48,1115,2088,48,863,114,3,27,0,73,47,81,133,144,170,140,24,23,6,59,122,126,275,142,95,49,263,110]
["Tilton",1055,"77060",7304.19,333.57,1612,3240,832,1288,1630,1610,3208,1,15,13,3,18,625,342,562,493,351,329,298,240,3122,2534,118,2.4239130434782608,3.0456730769230771,350,696,136,106,1612,1288,324,842,446,94,51,145,843,445,324,560,60,324,101,300,45,190,443,463,492,16,203,721,423,225,63,191,103,203,264,227,145,41,20,27446,17,9,0,0,9,13,0,0,0,5,24,28,53,94,69,22,0,0,0,10,7,41,51,84,25,29,0,0,23,17,35,51,25,31,12,9,0,21,13,15,28,0,46,0,0,19,71,22,30,31,36,14,0,0,22,33,16,29,0,0,7,0,11,579,2148,1517,222,3087,137,1877,3087,137,1121,156,0,65,0,65,254,103,203,264,227,145,41,9,11,25,165,103,340,177,187,99,492,111]
[]
[]
["Census 1990 Data -    Query Name:  CountySTF1Qry1"]
["NAME","COUSUBFP","Census_Cnty_Code","FIPS","LandAcres","WaterAcres","HousingUnits90Cen","P01Persons90Cen","P02Families90Cen","P03Households90cen","P05MalePop90cen","P05FemalePop90cen","P06WhitePop","P06BlackPop","P06AmerIndianPop","P06AsianPIPop","P06OtherRacePop","P08HispanicOrPop","P11AgeUnder15_90cen","P11Age15to24_90cen","P11Age25to34_90cen","P11Age35to44_90cen","P11Age45to54_90cen","P11Age55to64_90cen","P11Age65to74_90cen","P11Age75andOver_90cen","P15PersonsInHH90cen","P15PersonsInFamHH90cen","P15PersonsInGC","PersonsPerHH90cen","PersonsPerFam90Cen","P16SinglePersonHH90cen","P16MarriedCoupleHH90cen","P16SingleParentHH90cen","P16NonFamilyHH90cen","H01TotalHousingUnits","H02OccupiedHousingUnits","H02VacantHousingUnits","H03OwnerOccHU","H03RenterOccHU","H05VacantForRent90","H05VacantForSale90","H05VacantSeasonalRec","H23OOHUVal<15k","H23OOHUVal15to19k","H23OOHUVal20to24k","H23OOHUVal25to29k","H23OOHUVal30to34k","H23OOHUVal35to39k","H23OOHUVal40to44k","H23OOHUVal45to49k","H23OOHUVal50to59k","H23OOHUVal60to74k","H23OOHUVal75to99k","H23OOHUVal100to124k","H23OOHUVal125to149k","H23OOHUVal150to174k","H23OOHUVal175to199k","H23OOHUVal200to249k","H23OOHUVal250to299k","H23OOHUVal300to399k","H23OOHUVal400to499k","H23OOHUVal500kOrMore","H23BOOHUMedVal","H41SingFamHU90cen","H41MultiFamHU90cen","H41MobileHom90cen","H43SingFamOwnHU90cen","H43MultiFamOwnHU90cen","H43MobileHomOwnHU90cen","H43SingFamRntrHU90cen","H43MultiFamRntrHU90cen","H43MobileHomRntrHU90cen","H41HU1UnitDet","H41HU1UnitAtt","H41HU2Unit","H41HU3to4Unit","H41HU5to9Unit","H41HU10to19Unit","H41HU20to49Unit","H41HU50PlusUnit","H41HUMobilH","H41HUOther"]
["Alton",101,1005,"01060",40906.19,12324.31,3267,3286,938,1262,1667,1619,3274,2,5,4,1,14,661,367,461,538,356,389,324,190,3258,2869,28,2.5816164817749603,3.0586353944562901,268,826,112,56,3267,1262,2005,984,278,25,56,1834,1,0,1,2,0,3,2,3,12,34,123,144,86,74,40,40,29,46,9,18,127500,2769,179,319,851,26,107,131,115,32,2769,27,61,64,11,16,0,0,279,40]
["Barnstead",102,1010,"03220",27483.81,1274.82,1861,3100,851,1096,1551,1549,3081,9,4,6,0,17,737,376,589,541,332,224,204,97,3100,2755,0,2.8284671532846715,3.2373678025851937,162,742,109,83,1861,1096,765,934,162,15,13,679,1,3,3,1,1,6,9,6,15,60,244,165,79,41,20,10,5,3,1,1,98800,1672,74,115,859,21,54,108,38,16,1672,17,39,16,2,0,0,0,109,6]
["Belmont",103,1015,"04740",19293.73,1133.73,2869,5796,1580,2146,2871,2925,5738,10,29,18,1,24,1396,683,1157,1022,539,446,361,192,5784,5038,12,2.6952469711090399,3.188607594936709,413,1311,269,153,2869,2146,723,1675,471,77,65,525,1,2,0,3,1,4,6,5,22,65,309,252,163,83,29,17,7,6,0,3,107000,1635,441,793,1142,60,473,105,296,70,1635,50,117,201,67,6,0,0,771,22]
["Center Harbor",104,1020,"10660",8532.56,1861.86,649,996,285,377,471,525,990,3,0,3,0,3,202,109,142,173,113,101,103,53,996,873,0,2.6419098143236073,3.0631578947368423,69,250,35,23,649,377,272,318,59,7,8,239,0,1,0,2,1,1,2,1,6,11,46,31,31,26,19,25,9,6,5,8,135900,527,38,84,282,10,26,31,17,11,527,12,7,6,13,0,0,0,77,7]
["Gilford",105,1025,"28740",24826.75,9416.9,4397,5867,1701,2298,2891,2976,5830,2,8,26,1,29,1169,632,776,1066,741,654,547,282,5867,5123,0,2.5530896431679722,3.0117577895355674,467,1487,214,130,4397,2298,2099,1854,444,134,60,1833,1,1,3,2,2,6,3,4,13,43,187,281,196,183,119,108,52,55,26,43,140100,3076,702,619,1460,63,331,205,192,47,3076,318,75,69,86,38,116,0,575,44]
["Gilmanton",106,1030,"28980",36891.370000000003,1235.77,1744,2609,748,914,1328,1281,2597,6,2,4,0,7,627,269,497,482,244,216,176,98,2609,2392,0,2.8544857768052516,3.1978609625668448,120,667,81,46,1744,914,830,828,86,7,26,752,3,4,2,3,3,3,7,7,23,53,136,124,83,43,25,19,10,7,1,0,106900,1618,49,77,779,17,32,63,20,3,1618,11,25,13,0,0,0,0,58,19]
["Laconia",107,1035,"40180",12860.61,3851.61,8201,15743,4032,6176,7452,8291,15539,20,35,122,27,98,3423,2064,2537,2365,1575,1368,1290,1121,15312,12623,431,2.4792746113989637,3.1307043650793651,1721,3144,888,423,8201,6176,2025,3494,2682,469,148,1216,5,1,1,0,8,2,10,9,43,183,909,568,349,199,122,144,65,49,34,29,108500,3948,4090,163,2854,564,76,298,2327,57,3948,543,939,809,734,505,405,155,65,98]
["Meredith",108,1040,"47140",25804.32,9115.3700000000008,3720,4837,1310,1936,2296,2541,4806,9,8,11,3,26,942,592,783,780,520,444,415,361,4726,3940,111,2.4411157024793386,3.0076335877862594,503,1086,224,123,3720,1936,1784,1408,528,51,50,1603,3,2,1,2,6,3,11,9,39,59,203,154,112,96,76,82,37,38,12,9,122600,2877,508,335,1119,69,220,157,326,45,2877,56,144,103,125,24,56,0,313,22]
["New Hampton",109,1045,"51540",23560.79,999.14,855,1606,444,590,804,802,1602,3,0,1,0,4,369,174,291,263,176,155,122,56,1606,1416,0,2.7220338983050847,3.189189189189189,111,378,66,35,855,590,265,488,102,37,13,182,3,2,2,3,3,2,6,4,17,22,65,45,37,27,11,11,6,5,1,0,103900,666,48,141,410,9,69,47,20,35,666,4,26,18,0,0,0,0,111,30]
["Sanbornton",110,1050,"67300",30261.919999999998,1512.45,1131,2136,613,756,1088,1048,2123,2,2,8,1,5,495,242,334,449,224,179,158,55,2136,1948,0,2.8253968253968256,3.1778140293637849,106,559,54,37,1131,756,375,650,106,10,19,311,1,1,3,1,1,1,3,5,12,21,70,91,91,51,24,16,6,3,3,2,123100,1032,37,62,613,9,28,74,22,10,1032,6,27,4,0,0,0,0,56,6]
["Tilton",111,1055,"77060",7304.19,333.57,1612,3240,832,1288,1630,1610,3208,1,15,13,3,18,625,342,562,493,351,329,298,240,3122,2534,118,2.4239130434782608,3.0456730769230771,350,696,136,106,1612,1288,324,842,446,94,51,145,2,1,3,2,5,2,2,8,15,49,170,90,58,31,9,9,7,3,0,0,96200,843,445,324,560,60,222,101,300,45,843,16,134,131,67,97,0,0,266,58]
[]
[]
[]
["Census 1990 Data -          Query Name: CountySTF3Qry1"]
[]
["NAME","FIPS","COUSUBFP","LandAcres","WaterAcres","HousingUnits90Cen","P01Persons90Cen","P02Families90Cen","P03Households90cen","H25HU<5yrs90cen","H25HU5to20yrs90cen","H25HU20to50yrs90cen","H25HU>50yrs90cen","H31Units0Bedroom90cen","H31Units1Bedroom90cen","H31Units2Bedroom90cen","H31Units3Bedroom90cen","H31Units4Bedroom90cen","H31Units5+Bedroom90cen","P80HI<5K","P80HI5Kto10K","P80HI10Kto15K","P80HI15Kto25K","P80HI25Kto35K","P80HI35Kto50K","P80HI50Kto75K","P80HI75Kto100K","P80HI>100K","P80AMedHI","P86HH<25HI<5K","P86HH<25HI5Kto10K","P86HH<25HI10Kto15K","P86HH<25HI15Kto25K","P86HH<25HI25Kto35K","P86HH<25HI35Kto50K","P86HH<25HI50Kto75K","P86HH<25HI75Kto100K","P86HH<25HI>100K","P86HH25to34HI<5K","P86HH25to34HI5Kto10K","P86HH25to34HI10Kto15K","P86HH25to34HI15Kto25K","P86HH25to34HI25Kto35K","P86HH25to34HI35Kto50K","P86HH25to34HI50Kto75K","P86HH25to34HI75Kto100K","P86HH25to34HI>100K","P86HH35to44HI<5K","P86HH35to44HI5Kto10K","P86HH35to44HI10Kto15K","P86HH35to44HI15Kto25K","P86HH35to44HI25Kto35K","P86HH35to44HI35Kto50K","P86HH35to44HI50Kto75K","P86HH35to44HI75Kto100K","P86HH35to44HI>100K","P86HH45to54HI<5K","P86HH45to54HI5Kto10K","P86HH45to54HI10Kto15K","P86HH45to54HI15Kto25K","P86HH45to54HI25Kto35K","P86HH45to54HI35Kto50K","P86HH45to54HI50Kto75K","P86HH45to54HI75Kto100K","P86HH45to54HI>100K","P86HH55to64HI<5K","P86HH55to64HI5Kto10K","P86HH55to64HI10Kto15K","P86HH55to64HI15Kto25K","P86HH55to64HI25Kto35K","P86HH55to64HI35Kto50K","P86HH55to64HI50Kto75K","P86HH55to64HI75Kto100K","P86HH55to64HI>100K","P86HH65to74HI<5K","P86HH65to74HI5Kto10K","P86HH65to74HI10Kto15K","P86HH65to74HI15Kto25K","P86HH65to74HI25Kto35K","P86HH65to74HI35Kto50K","P86HH65to74HI50Kto75K","P86HH65to74HI75Kto100K","P86HH65to74HI>100K","P86HH>75HI<5K","P86HH>75HI5Kto10K","P86HH>75HI10Kto15K","P86HH>75HI15Kto25K","P86HH>75HI25Kto35K","P86HH>75HI35Kto50K","P86HH>75HI50Kto75K","P86HH>75HI75Kto100K","P86HH>75HI>100K","P54SchlEnrlPrePrim","P54SchlEnrlElemThrHS","P54SchlEnrlCollege","P54NotEnrlInSch","P57Pop25andOver","P57LessThan9thGrade","P579thto12thNoDip","P57HSGrad","P57SomeCollege","P57AssocDeg","P57BachelDeg","P57GradorProfDeg","P57HSGradorHigher","P57CollGradorHigher","P42NativePop","P42ForeignBornPop","P42BornStateOfRes","P37NativePop2","P37ForeignBornPop2","P49DroveAlone","P49CarPooled","P49PublicTranspt","P49Walked","P49OtherMeans","P49WorkedAtHome","P80HHInc<10K","P80HHInc10to15K","P80HHInc15to25K","P80HHInc25to35K","P80HHInc35to50K","P80HHInc50to75K","P80HHInc75to100K","P80HHInc100to150K","P80HHInc>150K","H25YearStBlt89to90","H25YearStBlt85to88","H25YearStBlt80to84","H25YearStBlt70to79","H25YearStBlt60to69","H25YearStBlt50to59","H25YearStBlt40to49","H25YearStBlt39earlier","P107FamInc<10K","P107FamInc10to15K","P107FamInc15to25K","P107FamInc25to35K","P107FamInc35to50K","P107FamInc50to75K","P107FamInc75to100K","P107FamInc100to150K","P107FamInc>150K","P107AMedFamInc","P110NonFamInc<10K","P110NonFamInc10to15K","P110NonFamInc15to25K","P110NonFamInc25to35K","P110NonFamInc35to50K","P110NonFamInc50to75K","P110NonFamInc75to100K","P110NonFamInc100to150K","P110NonFamInc>150K","P110AMedNonFamInc","H16HU1Room","H16HU2Room","H16HU3Room","H16HU4Room","H16HU5Room","H16HU6Room","H16HU7Room","H16HU8Room","H16HU9+Room","H43GrossRnt<100","H43GrossRnt100to149","H43GrossRnt150to199","H43GrossRnt200to249","H43GrossRnt250to299","H43GrossRnt300to349","H43GrossRnt350to399","H43GrossRnt400to449","H43GrossRnt450to499","H43GrossRnt500to549","H43GrossRnt550to599","H43GrossRnt600to649","H43GrossRnt650to699","H43GrossRnt700to749","H43GrossRnt750to999","H43GrossRnt1000Plus","H43NoCashRent","H43MedGrossRent","H51GrossRnt<20PctHHInc","H51GrossRnt20to24PctHHInc","H51GrossRnt25to29PctHHInc","H51GrossRnt30to34PctHHInc","H51GrossRnt35PctOrMoreHHInc","H51GrossRntAsPctHHIncNotComp","H52HUwMtgMoOwnCst<200","H52HUwMtgMoOwnCst200to299","H52HUwMtgMoOwnCst300to399","H52HUwMtgMoOwnCst400to499","H52HUwMtgMoOwnCst500to599","H52HUwMtgMoOwnCst600to699","H52HUwMtgMoOwnCst700to799","H52HUwMtgMoOwnCst800to899","H52HUwMtgMoOwnCst900to999","H52HUwMtgMoOwnCst1000to1249","H52HUwMtgMoOwnCst1250to1499","H52HUwMtgMoOwnCst1500to1999","H52HUwMtgMoOwnCst2000More","H52HUwNoMtgMoOwnCst<100","H52HUwNoMtgMoOwnCst100to149","H52HUwNoMtgMoOwnCst150to199","H52HUwNoMtgMoOwnCst200to249","H52HUwNoMtgMoOwnCst250to299","H52HUwNoMtgMoOwnCst300to349","H52HUwNoMtgMoOwnCst350to399","H52HUwNoMtgMoOwnCst400More","H52AMedMoOwnCstWMortg","H52AMedMoOwnCstWNoMortg","H58HUwMtgMOC<20pHHInc","H58HUwMtgMOC20to24pHHInc","H58HUwMtgMOC25to29pHHInc","H58HUwMtgMOC30to34pHHInc","H58wMtgMOC>35pHHInc","H58HUwMtgMOCNotComp","H58HUwNoMtgMOC<20pHHInc","H58HUwNoMtgMOC20to24pHHInc","H58HUwNoMtgMOC25to29pHHInc","H58HUwNoMtgMOC30to34pHHInc","H58wNoMtgMOC>35pHHInc","H58HUwNoMtgMOCNotComp","H61OOHUVal<15k","H61OOHUVal15to19k","H61OOHUVal20to24k","H61OOHUVal25to29k","H61OOHUVal30to34k","H61OOHUVal35to39k","H61OOHUVal40to44k","H61OOHUVal45to49k","H61OOHUVal50to59k","H61OOHUVal60to74k","H61OOHUVal75to99k","H61OOHUVal100to124k","H61OOHUVal125to149k","H61OOHUVal150to174k","H61OOHUVal175to199k","H61OOHUVal200to249k","H61OOHUVal250to299k","H61OOHUVal300to399k","H61OOHUVal400to499k","H61OOHUVal500kOrMore","H61aOOHUMedVal"]
[]
[]
[]
[]
[]
[]
[]
[]
[]
[]
[]
[]
[]
[]
[]
["Other Demo Data -             Query Name: QryAllTowns-ACSDemographicSheet",null,null,"2023-01-25"]
[]
["TOWN_NAME","FIPS","TOWNCNTY","COUSUB","POP80","POP90CDCEN","POP2000CEN","POP2010CEN","POP2020CEN","POP2025-Proj","POP2030-Proj","POP2035-Proj","SF80","MF80","MH80","SF81","MF81","MH81","SF82","MF82","MH82","SF83","MF83","MH83","SF84_OSP","MF84_OSP","MH84_OSP","SF85_OSP","MF85_OSP","MH85_OSP","SF86_OSP","MF86_OSP","MH86_OSP","SF87_OSP","MF87_OSP","MH87_OSP","SF88_OSP","MF88_OSP","MH88_OSP","SF89_OSP","MF89_OSP","MH89_OSP","SF90_OSP","MF90_OSP","MH90_OSP","SF91_OSP","MF91_OSP","MH91_OSP","SF92_OSP","MF92_OSP","MH92_OSP","SF93_OSP","MF93_OSP","MH93_OSP","SF94_OSP","MF94_OSP","MH94_OSP","SF95_OSP","MF95_OSP","MH95_OSP","SF96_OSP","MF96_OSP","MH96_OSP","SF97_OSP","MF97_OSP","MH97_OSP","SF98_OSP","MF98_OSP","MH98_OSP","SF99_OSP","MF99_OSP","MH99_OSP","SF00_OSP","MF00_OSP","MH00_OSP","SF01_OSP","MF01_OSP","MH01_OSP","SF02_OSP","MF02_OSP","MH02_OSP","SF03_OSP","MF03_OSP","MH03_OSP","SF04_OSP","MF04_OSP","MH04_OSP","SF05_OSP","MF05_OSP","MH05_OSP","SF06_OSP","MF06_OSP","MH06_OSP","SF07_OSP","MF07_OSP","MH07_OSP","SF08_OSP","MF08_OSP","MH08_OSP","SF09_OSP","MF09_OSP","MH09_OSP","SF10_OSP","MF10_OSP","MH10_OSP","SF11_OSP","MF11_OSP","MH11_OSP","SF12_OSP","MF12_OSP","MH12_OSP","SF13_OSP","MF13_OSP","MH13_OSP","SF14_OSP","MF14_OSP","MH14_OSP","SF15_OSP","MF15_OSP","MH15_OSP","SF16_OSP","MF16_OSP","MH16_OSP","SF17_OSP","MF17_OSP","MH17_OSP","SF18_OSP","MF18_OSP","MH18_OSP","SF19_OSP","MF19_OSP","MH19_OSP","SF20_OSP","MF20_OSP","MH20_OSP","SF20 Census_OSP","MF20 Census OSP","MH20 Census_OSP","SF21_OSP","MF21_OSP","MH21_OSP","COMMENTS","CNTY_CODE"]
["Alton",1005,101,"01060",2440,3286,4502,5250,5894,6141,6350,6465,42,0,17,23,0,10,27,0,28,31,2,26,23,0,4,21,24,0,64,4,2,105,0,8,73,0,4,51,1,0,30,7,6,28,0,1,25,0,0,44,0,0,41,0,0,26,0,4,35,0,3,58,0,5,35,0,3,65,0,4,67,6,5,57,0,1,80,2,3,100,4,0,106,4,0,86,1,0,58,0,2,42,0,0,49,0,4,17,0,1,7,0,0,15,0,0,6,0,0,11,0,0,16,0,2,5,0,0,33,0,0,14,0,0,32,0,0,21,0,0,40,4,2,null,null,null,38,0,0,"",1]
["Barnstead",1010,102,"03220",2292,3100,3886,4593,4915,5121,5295,5391,26,0,2,9,81,0,18,0,0,23,0,3,17,2,1,25,1,3,80,0,-1,23,0,3,63,0,4,55,0,3,27,2,1,18,0,0,13,0,3,12,1,4,7,1,0,8,0,1,16,0,0,17,0,8,28,0,3,22,2,12,48,4,5,123,4,12,56,2,19,35,0,2,33,0,0,40,0,0,34,0,0,25,1,1,24,0,2,6,0,0,3,0,1,6,0,3,6,0,1,3,0,1,5,0,1,14,0,1,14,0,1,20,0,6,18,0,0,15,0,0,27,0,1,null,null,null,2,0,1,"2000 Did not provide data to OEP. Census data used",1]
["Belmont",1015,103,"04740",4026,5796,6716,7356,7314,7620,7880,8022,34,34,30,45,3,31,46,20,17,54,8,32,56,63,44,85,136,44,102,19,24,94,18,5,61,54,0,25,4,14,18,0,8,27,0,3,21,0,11,17,0,21,12,0,37,6,2,30,9,2,20,7,40,42,13,2,30,20,0,7,25,6,22,29,0,22,37,3,14,43,14,5,40,5,3,23,2,-2,26,12,-2,19,2,0,8,33,1,6,5,-1,5,-2,0,4,1,0,6,-3,-12,2,0,1,10,0,-6,10,0,2,3,0,-2,12,0,6,10,0,-2,4,0,1,23,0,2,null,null,null,24,4,3,"",1]
["Center Harbor",1020,104,"10660",808,996,996,1096,1040,1084,1120,1141,6,0,4,10,0,3,4,0,2,8,0,0,6,0,1,9,9,0,12,3,0,17,0,3,13,0,0,2,0,0,5,0,2,3,0,1,5,0,2,12,0,2,2,0,0,9,0,0,7,0,0,9,0,0,5,0,1,6,0,-1,3,0,2,7,0,0,6,0,1,15,0,0,19,0,2,12,0,0,10,0,0,3,0,0,1,0,0,7,0,0,0,0,0,0,0,0,0,1,-1,3,0,0,0,0,0,3,0,0,5,0,0,2,2,0,-1,0,0,3,2,0,3,0,0,null,null,null,4,0,-1,"",1]
["Gilford",1025,105,"28740",4841,5867,6803,7126,7699,8021,8295,8444,53,11,1,94,22,6,45,65,10,67,46,0,143,6,16,131,5,23,142,79,49,110,4,13,59,0,14,24,0,2,16,0,2,20,0,5,21,0,0,14,0,5,15,0,6,16,0,6,26,0,7,23,0,10,31,0,3,28,0,11,51,5,7,62,0,-3,102,8,14,59,7,-5,38,0,0,57,12,6,51,4,11,51,2,1,23,0,0,12,0,0,17,0,0,2,0,1,14,0,3,13,0,4,13,0,0,25,0,0,26,0,0,23,0,0,13,3,1,16,0,2,28,0,3,null,null,null,28,0,3,"",1]
["Gilmanton",1030,106,"28980",1941,2609,3060,3777,3945,4110,4250,4327,15,0,2,18,0,3,10,0,0,23,0,0,22,1,0,34,0,0,62,2,0,68,0,0,102,2,0,32,0,1,26,0,2,18,0,0,13,0,0,20,0,0,13,0,0,15,2,0,16,0,0,13,2,0,13,2,0,24,4,0,45,0,2,43,0,0,53,2,0,55,0,0,45,2,0,26,2,0,17,2,0,17,0,0,-1,0,0,5,0,0,1,0,0,0,0,0,1,0,0,0,0,0,1,0,0,2,0,0,10,0,0,16,1,0,14,0,0,2,2,0,12,0,0,null,null,null,20,0,0,"",1]
["Laconia",1035,107,"40180",15575,15743,16411,15951,16871,17577,18177,18504,32,5,1,17,67,2,25,148,0,7,-11,0,52,24,3,85,164,0,132,277,0,110,134,0,95,116,0,27,8,0,19,12,0,10,0,10,31,29,5,8,52,27,35,14,20,19,5,19,17,-6,23,26,-26,6,34,-5,6,33,0,22,47,8,26,60,4,1,72,10,0,139,0,1,166,0,0,36,72,0,57,80,0,51,14,0,30,47,0,32,-3,0,54,-4,0,36,10,0,27,4,0,1,50,0,34,64,0,32,138,0,26,10,1,18,5,3,14,9,1,12,4,0,44,24,19,null,null,null,26,55,0,"2002 Did not submit data to OEP. Used Census Data",1]
["Meredith",1040,108,"47140",4646,4837,5943,6241,6662,6941,7178,7307,51,3,1,25,0,6,29,0,9,30,2,4,46,47,9,65,4,18,89,20,6,84,0,6,55,0,3,34,5,0,21,1,0,26,2,0,24,1,0,20,2,0,38,0,4,34,0,2,48,0,5,35,0,11,45,0,5,54,0,11,59,0,0,42,0,0,71,0,4,70,0,1,79,4,5,46,48,5,23,46,4,27,2,0,17,0,0,-4,0,0,17,0,0,6,0,0,1,0,0,15,0,0,19,0,0,12,0,0,15,5,1,16,2,0,15,6,-1,31,6,3,-8,36,2,null,null,null,22,21,0,"",1]
["New Hampton",1045,109,"51540",1249,1606,1950,2165,2377,2476,2561,2607,0,0,0,2,0,4,0,0,0,0,0,0,3,0,3,8,0,1,20,1,1,27,0,5,24,0,2,18,24,6,16,0,3,13,0,1,8,0,2,10,0,2,12,0,4,12,1,3,8,1,3,11,0,4,8,0,2,7,3,2,21,2,0,13,0,2,25,1,-1,24,1,-1,21,0,1,12,3,0,20,0,-1,10,2,0,9,0,1,3,1,2,4,2,1,7,0,0,4,1,1,1,5,4,2,3,2,9,0,5,3,0,6,2,4,16,0,1,0,1,1,11,10,1,3,null,null,null,10,2,4,"",1]
["Sanbornton",1050,110,"67300",1679,2136,2581,2966,3026,3153,3260,3319,16,0,2,14,0,2,10,0,0,-1,0,0,17,0,0,40,0,0,38,0,1,58,0,3,38,1,1,27,2,-1,5,0,1,8,0,2,16,0,3,12,0,0,24,0,2,1,0,3,7,1,1,9,1,2,19,0,0,25,0,7,36,0,6,19,0,5,29,0,0,23,0,0,27,0,0,36,0,1,16,0,2,16,3,0,8,0,1,6,0,0,0,0,2,5,0,0,6,0,0,4,0,0,2,0,0,6,0,0,0,0,0,3,2,0,6,0,0,3,3,0,7,2,0,null,null,null,8,2,0,"",1]
["Tilton",1055,111,"77060",3387,3240,3477,3567,3962,4128,4269,4346,4,2,0,7,0,0,7,4,0,7,1,0,8,4,3,28,9,6,15,0,6,14,4,8,12,13,-1,2,16,-1,3,11,3,5,-3,0,7,0,-3,2,0,-2,4,0,-2,4,0,0,6,0,2,4,0,4,2,0,4,5,0,1,6,2,2,-2,0,0,19,0,13,15,0,10,12,0,7,12,0,9,10,2,0,4,19,0,1,0,2,1,0,0,-1,10,-1,-1,4,0,3,19,1,1,0,14,4,0,4,2,0,1,1,0,14,4,5,0,9,0,4,6,13,0,12,6,2,null,null,null,6,2,4,"",1]
[]
[]
[]
[]
[]
[]
["NH Employment Data","Query Name: DPQryEmploymentByCnty-Good-Serv-Total","Updated:","2022-09-14"]
[]
["AreaName","COUNTYCODE","TOTP & G2001","TOT2001","GOODPRO2001","SERVICEPROMAN2001","WAGEP & G2001","WAGETOT2001","WAGEGOODPRO2001","WAGESERVICEPRO2001","TOTP & G2002","TOT2002","GOODPRO2002","SERVICEPROMAN2002","WAGEP & G2002","WAGETOT2002","WAGEGOODPRO2002","WAGESERVICEPRO2002","TOTP & G2003","TOT2003","GOODPRO2003","SERVICEPROMAN2003","WAGEP & G2003","WAGETOT2003","WAGEGOODPRO2003","WAGESERVICEPRO2003","TOTP & G2004","TOT2004","GOODPRO2004","SERVICEPROMAN2004","WAGEP & G2004","WAGETOT2004","WAGEGOODPRO2004","WAGESERVICEPRO2004","TOTP & G2005","TOT2005","GOODPRO2005","SERVICEPROMAN2005","WAGEP & G2005","WAGETOT2005","WAGEGOODPRO2005","WAGESERVICEPRO2005","TOTP & G2006","TOT2006","GOODPRO2006","SERVICEPROMAN2006","WAGEP & G2006","WAGETOT2006","WAGEGOODPRO2006","WAGESERVICEPRO2006","TOTP & G2007","TOT2007","GOODPRO2007","SERVICEPROMAN2007","WAGEP & G2007","WAGETOT2007","WAGEGOODPRO2007","WAGESERVICEPRO2007","TOTP & G2008","TOT2008","GOODPRO2008","SERVICEPROMAN2008","WAGEP & G2008","WAGETOT2008","WAGEGOODPRO2008","WAGESERVICEPRO2008","TOTP & G2009","TOT2009","GOODPRO2009","SERVICEPROMAN2009","WAGEP & G2009","WAGETOT2009","WAGEGOODPRO2009","WAGESERVICEPRO2009","TOTP & G2010","TOT2010","GOODPRO2010","SERVICEPROMAN2010","WAGEP & G2010","WAGETOT2010","WAGEGOODPRO2010","WAGESERVICEPRO2010","TOTP & G2011","TOT2011","GOODPRO2011","SERVICEPROMAN2011","WAGEP & G2011","WAGETOT2011","WAGEGOODPRO2011","WAGESERVICEPRO2011","TOTP & G2012","TOT2012","GOODPRO2012","SERVICEPROMAN2012","WAGEP & G2012","WAGETOT2012","WAGEGOODPRO2012","WAGESERVICEPRO2012","TOTP & G2013","TOT2013","GOODPRO2013","SERVICEPROMAN2013","WAGEP & G2013","WAGETOT2013","WAGEGOODPRO2013","WAGESERVICEPRO2013","TOTP & G2014","TOT2014","GOODPRO2014","SERVICEPROMAN2014","WAGEP & G2014","WAGETOT2014","WAGEGOODPRO2014","WAGESERVICEPRO2014","TOTP & G2015","TOT2015","GOODPRO2015","SERVICEPROMAN2015","WAGEP & G2015","WAGETOT2015","WAGEGOODPRO2015","WAGESERVICEPRO2015","TOTP & G2016","TOT2016","GOODPRO2016","SERVICEPROMAN2016","WAGEP & G2016","WAGETOT2016","WAGEGOODPRO2016","WAGESERVICEPRO2016","TOTP & G2017","TOT2017","GOODPRO2017","SERVICEPROMAN2017","WAGEP & G2017","WAGETOT2017","WAGEGOODPRO2017","WAGESERVICEPRO2017","TOTP & G2018","TOT2018","GOODPRO2018","SERVICEPROMAN2018","WAGEP & G2018","WAGETOT2018","WAGEGOODPRO2018","WAGESERVICEPRO2018","TOTP & G2019","TOT2019","TOTGov2019","GOODPRO2019","SERVICEPROMAN2019","WAGEP & G2019","WAGETOT2019","WAGEGov2019","WAGEGOODPRO2019","WAGESERVICEPRO2019","TOTP & G2020","TOT2020","TOTGov2020","GOODPRO2020","SERVICEPROMAN2020","WAGEP & G2020","WAGETOT2020","WAGEGov2020","WAGEGOODPRO2020","WAGESERVICEPRO2020","TOTP & G2021","TOT2021","TOTGov2021","GOODPRO2021","SERVICEPROMAN2021","WAGEP & G2021","WAGETOT2021","WAGEGov2021","WAGEGOODPRO2021","WAGESERVICEPRO2021","TOTP & G2022","TOT2022","TOTGov2022","GOODPRO2022","SERVICEPROMAN2022","WAGEP & G2022","WAGETOT2022","WAGEGov2022","WAGEGOODPRO2022","WAGESERVICEPRO2022","SummaryLevel"]
["Alton",1,793,605,58,547,378.55,349.52,639.23,318.58999999999997,800,611,66,545,403.77,361.16,520.02,341.94,764,562,65,497,476.34,451.28,552.1,438.01,858,614,71,543,486.24,469.58,624.64,449.37,912,627,82,545,569.04,565.94000000000005,604.41999999999996,560.14,992,698,91,607,556.22,548.58000000000004,704.38,525.35,995,699,79,620,561.87,535.66,692.01,515.79999999999995,1032,719,77,642,551.27,508.09,805.41,472.21,1021,697,87,610,558.70000000000005,514.45000000000005,635.32000000000005,497.12,1017,688,78,610,579.28,534.76,793.48,501.69,1022,702,61,641,548.26,482.83,708.12,461.45,1005,672,45,627,540.45000000000005,473.98,606.98,464.49,1079,743,61,682,569.92999999999995,513.27,1081.83,462.8,1099,764,46,719,560.63,489.82,626.05999999999995,481.18,1109,769,55,714,598.29,530.28,655.94,520.66,1099,768,54,714,631.67999999999995,568.29,691.3,559.04999999999995,1112,789,59,731,632.29999999999995,568.42999999999995,710.19,557,1142,821,70,750,654.4,586.46,723.51,573.63,1174,855,320,74,780,696.93,635.15,862.19,843.53,615.32000000000005,1118,812,306,90,722,786.38,733.59,926.24,887.13,714.57,1182,887,295,108,780,826.83,773.44,987.33,984.98,744.18,1263,964,300,115,849,840,785,1015,1101,743]
["Barnstead",1,445,314,154,160,435.57,433.61,529.66999999999996,340.66,419,283,134,150,441.45,441.8,568.67999999999995,328.48,413,272,113,160,466.42,472.81,595.92999999999995,386.09,381,226,68,158,444.6,441.13,519.47,407.73,384,222,56,166,450.03,435.69,569.94000000000005,390.26,397,245,56,190,452.05,392.74,570.88,340.58,392,243,45,45,504.33,417.16,569.52,569.52,379,220,35,186,518.02,448.61,525.54,434.29,365,203,33,170,511.52,440.71,515.86,425.92,356,202,37,165,507.54,423.46,448.61,417.82,323,172,22,150,599.23,535.5,448.12,548.54999999999995,316,157,19,137,566.27,472.9,569.21,459.46,324,163,21,143,585.37,518.47,659.43,497.87,352,183,26,157,666.82,681.82,629.11,690.62,382,211,34,177,662.62,661.2,649.04999999999995,663.53,417,236,42,193,663.39,661.92,669.78,660.2,417,228,47,181,660.29,667.21,658.62,669.43,417,229,54,175,654.12,628.16999999999996,670.89,614.9,398,217,181,57,160,710.25,690.01,734.49,716.61,680.58,376,205,170,50,155,777.6,778.92,776.02,696.74,805.69,400,236,164,50,185,763.98,762.87,765.58,719.07,774.79,406,249,157,59,190,805,812,794,835,805]
["Belmont",1,1933,1872,616,1255,642.78,641.69000000000005,823.16,552.62,2261,1995,693,1302,672.34,670.56,860.66,569.38,2261,1988,563,1425,663.41,655.66,797.56,599.66,2324,2052,559,1493,694.94,691.09,811.66,645.91,2298,2007,555,1452,715.75,714.11,889.19,647.27,2593,2289,690,1598,792.15,797.16,1016.39,702.47,2666,2345,704,1641,810.43,815.99,1076.04,704.37,2649,2324,664,1660,801.42,801,1072.02,692.62,2406,2080,570,1509,801.76,797.67,1078.6500000000001,691.5,2366,2033,539,1494,823.08,823.23,1066.68,735.49,2319,1992,506,1485,832.62,830.21,1109.28,735.06,2330,1982,500,1482,822.02,825.86,1085.1099999999999,738.33,2368,2019,463,1556,821.81,824.49,1190.01,715.64,2423,2077,446,1632,835.61,834.51,1249.83,721.02,2412,2071,432,1639,849.65,853.17,1229.77,753.99,2434,2100,456,1644,889.47,892.25,1238.92,796.13,2441,2097,454,1644,941.12,952.9,1524.1,795.33,2360,2021,491,1530,986.02,1001.79,1281.1099999999999,912.06,2383,2035,348,514,1521,1009,1029.53,889.01,1308.83,935.07,2250,1934,316,495,1439,1109.02,1133.0899999999999,961.63,1429.93,1031.04,2281,1952,330,514,1438,1224.81,1264.49,989.71,1433.77,1204,2202,1870,17,452,332,1169,1200,914,1105,994]
["Center Harbor",1,492,476,42,434,410.04,400.87,1184.78,324.83,415,399,42,358,466.04,455.73,1158.4000000000001,374.02,461,445,59,387,445.41,435.81,1024.1500000000001,346.76,543,529,82,447,474.25,463.11,889.7,384.91,521,507,72,435,504.74,496.19,932.31,424.51,548,527,65,462,553.91,552.79999999999995,1003.41,489.71,556,531,74,457,584.74,581.72,1019.05,511.05,470,446,60,386,585.75,578.57000000000005,955.5,520.17999999999995,379,355,48,307,618.66999999999996,610.29999999999995,1059.21,540.27,361,334,47,287,638.49,637.52,1106.1099999999999,560.37,315,290,15,275,493.01,473.33,552.12,469.11,318,293,19,275,520.69000000000005,503.91,592.75,497.84,368,345,23,322,465.67,446.87,666.18,431.32,356,331,24,308,503.47,486.5,750.33,466.28,327,300,22,278,541.35,521.49,753.43,503.14,304,270,21,250,491.66,478.09,818.23,450.16,296,263,15,248,501.02,479.61,724.55,464.44,296,263,14,248,524.72,511.09,816.9,493.43,289,253,36,18,235,577.55999999999995,558.6,712.14,812.87,538.64,268,234,34,20,214,710.1,693.13,826.16,796.58,683.72,291,257,34,18,240,727.98,710.96,856.01,885.17,698.17,294,261,33,23,238,738,723,855,949,700]
["Gilford",1,3321,2792,625,2167,499.75,500.22,655.96,455.32,3357,2836,545,2291,502.31,498.51,648.16999999999996,462.9,3464,2910,591,2319,529.78,519.38,684.73,477.24,3362,2840,599,2242,557.6,550.17999999999995,678,516.04,3254,2693,545,2148,584.44000000000005,580.36,712.39,546.85,3178,2652,485,2167,606.57000000000005,601.64,762.87,565.57000000000005,3081,2558,374,2184,620.57000000000005,607.79,825.96,570.4,3070,2519,332,2187,623.85,610.59,857.38,573.08000000000004,3040,2471,294,2176,650.87,643.37,867.68,613.02,2940,2372,279,2093,661.34,657.61,826.98,635.04,3080,2427,279,2148,657.46,656.1,863.17,629.19000000000005,3006,2356,269,2087,668.78,677.65,833.85,657.54,3121,2453,286,2167,677.04,690.62,868.13,667.19,3207,2527,289,2238,687.88,706.06,955.86,673.83,3296,2645,329,2316,722.4,734.96,964.25,702.36,3374,2714,335,2379,744.59,763.33,1048.76,723.15,3296,2666,323,2343,778.42,794.22,1135.5,747.23,3263,2636,330,2307,830.64,855.7,1196.73,806.98,3307,2670,8,315,2355,806.54,821.86,797.88,1219.8900000000001,768.64,2974,2373,601,322,2051,979.13,1023.41,804.16,1465.76,953.91,3391,2732,658,341,2392,910.91,947.33,759.79,1504.2,868.04,3452,2773,679,341,2432,936,975,776,1499,902]
["Gilmanton",1,305,189,55,134,458.11,466.44,650.97,390.81,259,137,54,84,491.81,517.17999999999995,690.78,406,272,151,66,85,545.92999999999995,563.35,673.72,477.95,307,185,78,107,550.98,567.82000000000005,656.31,503.22,316,187,71,116,540.11,545.20000000000005,752.22,418.73,301,164,70,94,623.52,706.23,774.05,655.26,310,174,69,105,631.09,681.99,751.05,636.77,333,203,81,122,622.88,623.24,778.7,520.73,308,181,61,120,660.06,671.56,866.81,571.42999999999995,275,145,45,100,648.6,668.17,937.83,547.03,269,146,44,102,625.38,591.66,890.29,463.33,274,144,46,98,690.07,710.68,1005.65,570.62,282,148,48,100,695.91,731.63,995.95,604.20000000000005,299,171,55,115,707.17,702.77,965.85,576.54999999999995,304,175,53,122,783.85,840.59,1120.95,719.26,298,167,51,116,831.67,932.16,1251.23,790.34,304,171,58,114,772.42,825.87,1196.82,638.35,322,191,57,134,824.33,872.46,1121.55,766.1,307,185,122,56,129,820.48,820.02,821.16,1205.25,652.92999999999995,322,194,127,60,134,864.06,863.58,864.81,1381.7,630.9,348,225,123,74,151,920.58,925.35,911.88,1191.17,795.87,358,236,122,74,163,993,1011,957,1401,835]
["Laconia",1,11173,9667,2988,6679,588.16999999999996,582.5,683.4,537.37,10794,9255,2508,6747,605.79,597.80999999999995,729.18,548.97,10672,9075,2328,6748,623.02,613.75,749.5,566.91999999999996,10694,9162,2515,6647,666.65,650.61,786.16,599.33000000000004,10662,9108,2644,6465,679.56,673.11,791.83,624.55999999999995,10638,9046,2562,6484,705.37,698.97,841.62,642.6,10367,8841,2334,6507,723.77,713.96,864.73,659.87,10043,8522,2183,6339,757.94,746.94,908.64,691.25,9545,8047,1829,6218,763.23,751.21,893.63,709.32,9322,7924,1619,6304,771.69,765.42,920.17,725.67,9357,8006,1625,6380,788.52,784.83,932.15,747.31,9542,8242,1661,6581,797.33,796.43,933.69,761.79,9506,8240,1776,6464,814.31,815.1,934.46,782.3,9327,8056,1776,6280,854.39,858.23,956.72,830.37,9378,8123,1758,6364,879.19,884.84,1006.54,851.22,9226,7976,1753,6223,906.63,913.75,1022.5,883.12,9253,8010,1805,6205,934.56,944.33,1038.98,997.89,9224,7964,1838,6126,961.3,971.79,1141.8599999999999,920.76,9270,8033,1237,1876,6157,954.52,958.29,930.07,1122.25,908.33,8597,7382,1215,1780,5602,1030.23,1033.43,1010.74,1118.67,1006.35,8472,7298,1174,1669,5628,1052.3699999999999,1056.27,1028.1099999999999,1205.03,1012.15,8615,7443,1172,1705,5738,1113,1116,1096,1225,1083]
["Meredith",1,3098,2729,838,1891,518.01,517.79,646.34,460.83,2998,2642,708,1934,552.47,549.1,701.24,493.37,3035,2661,726,1935,577.30999999999995,572.45000000000005,781.74,493.98,3067,2712,717,1994,597.21,590.33000000000004,793.67,517.17999999999995,3153,2814,721,2093,648.77,641,912.21,547.54999999999995,3133,2775,656,2119,691.65,688.53,922.4,616.17999999999995,3181,2798,650,2148,717.83,716.5,1027.02,622.47,3156,2799,697,2102,738.81,728.54,990.04,641.76,3059,2700,627,2074,718.77,703.34,1025.46,605.95000000000005,2965,2575,591,1985,723.07,715.81,1014.65,626.87,2979,2625,592,2033,723.08,704.99,1032.8800000000001,609.54999999999995,3015,2651,584,2067,724.33,708.34,1096.02,598.75,3015,2651,584,2067,724.33,708.34,1096.02,598.75,3066,2714,627,2087,777.53,759.87,1229.3800000000001,618.89,3074,2726,653,2073,818.87,798.88,1230.8900000000001,662.82,3137,2781,656,2125,836.83,823.11,1234.6500000000001,696.04,3215,2862,644,2218,858.94,844.34,1259.33,723.89,3293,2934,658,2276,868.05,852.56,1231.1300000000001,743.04,3338,2978,360,658,2320,893.67,876.11,1039.04,1287.3399999999999,759.46,2921,2586,335,541,2046,999.06,983.38,1120.1500000000001,1240.57,915.41,3096,2746,350,564,2182,1026.29,1014.6,1117.9000000000001,1347.13,928.68,3096,2752,344,547,2204,1065,1051,1174,1409,963]
["New Hampton",1,470,380,73,307,511.53,511.92,529.42999999999995,507.75,460,361,54,307,511.67,520.48,602.47,506.04,557,453,84,369,488.94,483.09,488.82,481.77,662,559,93,466,547.80999999999995,555.64,558.38,555.1,622,526,82,444,636.03,648.41,586.53,659.85,584,492,50,442,649.38,648.79999999999995,762.14,635.98,641,539,99,440,688.1,702.55,815.98,676.95,613,513,83,431,717.88,729.75,865.36,703.77,559,457,74,383,747.75,768.12,841.4,754.04,538,425,29,397,701.06,722.16,1011.08,701.28,522,407,29,379,675.35,688.52,767.04,682.6,493,379,26,353,674.82,692.04,770.19,686.28,493,379,26,353,674.82,692.04,770.19,686.28,562,450,33,417,688.81,694.09,878.59,679.64,554,440,37,403,746.61,775.85,874.36,766.83,571,454,44,411,723.37,739.92,857.91,727.4,567,457,41,416,730.28,736.51,888.45,721.49,586,473,42,431,732.33,743.65,958.14,722.61,614,500,114,38,462,698.94,699.18,697.91,941.02,679.03,565,454,111,37,417,802.16,819.37,731.83,1435.96,765.19,583,467,116,57,410,890.81,937.35,703.45,1585.53,847.53,601,485,116,58,427,984,1043,734,2148,892]
["Sanbornton",1,328,247,87,160,602.55999999999995,675.25,523.05999999999995,758.38,283,214,96,117,683.43,758.42,500.88,970.21,297,228,106,123,736.57,799.39,558.69000000000005,1006.9,313,239,105,134,746.23,819.35,554.62,1026.1199999999999,287,208,62,146,803.73,919.32,587.66,1059.0899999999999,316,234,72,162,777.54,862.28,695.51,935.73,321,228,60,167,737.04,824.21,670.41,879.71,304,209,62,146,764.57,864.51,565.13,992.11,275,182,38,144,820.47,945.23,544.04999999999995,1050.45,300,207,50,157,821.54,939.68,656.74,1029.1400000000001,301,215,42,173,840.6,946.13,672.54,1012.85,297,212,46,166,853.4,963.94,674.66,1044.4100000000001,297,212,46,166,853.4,963.94,674.66,1044.4100000000001,371,279,72,207,694.67,736.71,724.92,740.83,366,272,76,196,652.82000000000005,678.7,732.15,657.99,359,269,71,198,661.49,684.06,830.06,631.84,338,250,66,184,721.19,751.43,905.81,695.68,369,280,55,226,681.58,685.94,922.46,628.86,367,275,92,37,238,605.67999999999995,583.30999999999995,672.93,634.64,575.34,308,222,87,34,187,651.84,599.99,783.84,810.76,561.21,401,307,95,45,262,666.47,652.95000000000005,710.34,781.23,631,418,323,96,54,269,729,735,711,817,855]
["Tilton",1,3814,3438,154,2837,474.27,464.06,740.13,405.52,4006,3601,134,3093,488.94,480.61,791.72,429.45,4090,3630,113,3048,514.9,510.08,877.44,439.98,4420,3912,68,3368,535.97,531.01,922.15,467.77,4532,3993,579,3414,564.07000000000005,563.14,970.51,494.11,4559,3922,338,3584,531.13,518.72,862.33,486.31,4758,4076,331,3745,540.53,524.38,1092.8599999999999,474.09,4744,4033,297,3735,543.38,522.91,1052.3599999999999,480.76,4614,3908,282,3626,539.73,508.58,991.31,471.06,4502,3807,166,3641,531.57000000000005,499,975.08,477.26,4465,3768,196,3573,547.66999999999996,516.91,982.63,491.42,4600,3885,185,3699,537.94000000000005,508.68,871.23,490.53,4559,3854,148,3706,549.55999999999995,521.23,1096.43,498.23,4429,3763,161,3602,588.79,560.41,1130.49,534.91999999999996,4383,3724,149,3575,614.03,580.41999999999996,1291.28,550.83000000000004,4489,3842,144,3698,629.95000000000005,592.04,1298.05,564.54999999999995,4590,3933,165,3767,646.91,609.84,1193.6400000000001,584.21,4625,3991,164,3827,682.27,646.69000000000005,1347.97,616.65,4633,4008,626,155,3852,690.93,651.83000000000004,941.46,1403.1,621.57000000000005,4197,3622,575,150,3472,765.42,716.43,1073.93,1364.76,688.4,4490,3914,576,180,3734,777.95,748.17,980.31,1492.7,712.21,4520,3983,537,205,3779,843,809,1094,1558,768]
[]
[]
[]
[]
[]
[]
["NH Employment Data","Query Name: DPQryEmploymentByCnty-Good-Serv-Total","Updated:","2022-09-14"]
[]
["AreaName","COUNTYCODE","TOTP & G2001","TOT2001","GOODPRO2001","SERVICEPROMAN2001","WAGEP & G2001","WAGETOT2001","WAGEGOODPRO2001","WAGESERVICEPRO2001","TOTP & G2002","TOT2002","GOODPRO2002","SERVICEPROMAN2002","WAGEP & G2002","WAGETOT2002","WAGEGOODPRO2002","WAGESERVICEPRO2002","TOTP & G2003","TOT2003","GOODPRO2003","SERVICEPROMAN2003","WAGEP & G2003","WAGETOT2003","WAGEGOODPRO2003","WAGESERVICEPRO2003","TOTP & G2004","TOT2004","GOODPRO2004","SERVICEPROMAN2004","WAGEP & G2004","WAGETOT2004","WAGEGOODPRO2004","WAGESERVICEPRO2004","TOTP & G2005","TOT2005","GOODPRO2005","SERVICEPROMAN2005","WAGEP & G2005","WAGETOT2005","WAGEGOODPRO2005","WAGESERVICEPRO2005","TOTP & G2006","TOT2006","GOODPRO2006","SERVICEPROMAN2006","WAGEP & G2006","WAGETOT2006","WAGEGOODPRO2006","WAGESERVICEPRO2006","TOTP & G2007","TOT2007","GOODPRO2007","SERVICEPROMAN2007","WAGEP & G2007","WAGETOT2007","WAGEGOODPRO2007","WAGESERVICEPRO2007","TOTP & G2008","TOT2008","GOODPRO2008","SERVICEPROMAN2008","WAGEP & G2008","WAGETOT2008","WAGEGOODPRO2008","WAGESERVICEPRO2008","TOTP & G2009","TOT2009","GOODPRO2009","SERVICEPROMAN2009","WAGEP & G2009","WAGETOT2009","WAGEGOODPRO2009","WAGESERVICEPRO2009","TOTP & G2010","TOT2010","GOODPRO2010","SERVICEPROMAN2010","WAGEP & G2010","WAGETOT2010","WAGEGOODPRO2010","WAGESERVICEPRO2010","TOTP & G2011","TOT2011","GOODPRO2011","SERVICEPROMAN2011","WAGEP & G2011","WAGETOT2011","WAGEGOODPRO2011","WAGESERVICEPRO2011","TOTP & G2012","TOT2012","GOODPRO2012","SERVICEPROMAN2012","WAGEP & G2012","WAGETOT2012","WAGEGOODPRO2012","WAGESERVICEPRO2012","TOTP & G2013","TOT2013","GOODPRO2013","SERVICEPROMAN2013","WAGEP & G2013","WAGETOT2013","WAGEGOODPRO2013","WAGESERVICEPRO2013","TOTP & G2014","TOT2014","GOODPRO2014","SERVICEPROMAN2014","WAGEP & G2014","WAGETOT2014","WAGEGOODPRO2014","WAGESERVICEPRO2014","TOTP & G2015","TOT2015","GOODPRO2015","SERVICEPROMAN2015","WAGEP & G2015","WAGETOT2015","WAGEGOODPRO2015","WAGESERVICEPRO2015","TOTP & G2016","TOT2016","GOODPRO2016","SERVICEPROMAN2016","WAGEP & G2016","WAGETOT2016","WAGEGOODPRO2016","WAGESERVICEPRO2016","TOTP & G2017","TOT2017","GOODPRO2017","SERVICEPROMAN2017","WAGEP & G2017","WAGETOT2017","WAGEGOODPRO2017","WAGESERVICEPRO2017","TOTP & G2018","TOT2018","GOODPRO2018","SERVICEPROMAN2018","WAGEP & G2018","WAGETOT2018","WAGEGOODPRO2018","WAGESERVICEPRO2018","TOTP & G2019","TOT2019","TOTGov2019","GOODPRO2019","SERVICEPROMAN2019","WAGEP & G2019","WAGETOT2019","WAGEGov2019","WAGEGOODPRO2019","WAGESERVICEPRO2019","TOTP & G2020","TOT2020","TOTGov2020","GOODPRO2020","SERVICEPROMAN2020","WAGEP & G2020","WAGETOT2020","WAGEGov2020","WAGEGOODPRO2020","WAGESERVICEPRO2020","TOTP & G2021","TOT2021","TOTGov2021","GOODPRO2021","SERVICEPROMAN2021","WAGEP & G2021","WAGETOT2021","WAGEGov2021","WAGEGOODPRO2021","WAGESERVICEPRO2021","PlaceTownIDNumber","COUNTYCODE"]
["Belknap County",1,26173,22708,6138,16570,541.07000000000005,538.34,689.88,482.21,26052,22334,5408,16926,561.11,555.84,731.15,499.83,26286,22376,5281,17095,579.91,573.04,754.28,517.04999999999995,26931,23030,5431,17599,610.04,602.01,777.41,547.89,26940,22891,5467,17424,636.41999999999996,634.14,819.42,576,27237,23042,5133,17909,657.93,655.07000000000005,862.32,595.66999999999996,27266,23032,4820,18212,674.29,668.31,921.91,601.17999999999995,26793,22507,4572,17935,689.74,680.53,938.61,614.74,25570,21280,3944,17337,692.98,680.87,934.72,623.12,24943,20713,3480,17234,698.61,690.71,945.91,639.19000000000005,24953,20748,3411,17337,706.01,697.17,959.24,645.61,25196,20972,3400,17572,708.66,703.81,960.55,654.13,25517,21311,3517,17794,718.36,714.81,997.67,658.89,25490,21315,3554,17761,748.41,745.98,1036.05,687.93,25584,21457,3597,17859,776.57,774.35,1066.24,715.55,25708,21577,3626,17951,797.95,796.89,1088.81,737.93,25829,21725,3676,18049,823.13,823.31,1139.79,758.85,25898,21803,3774,18029,851.06,851.82,1167.98,785.64,26080,22008,4072,3799,18209,854.12,849.87,877.08,1177.3,781.56,23895,20018,3878,3578,16439,949.48,948,957.09,1212.92,890.34,24938,21021,3917,3619,17402,965.32,969.25,944.22,1287.7,903.02,1016,1]
["Carroll County",2,19495,16938,2563,14374,467.52,460.32,627.98,430.42,19756,17153,2497,14656,481.01,472.65,645.74,443.16,20167,17534,2567,14967,492.28,481.72,647.55999999999995,453.27,20405,17701,2526,15175,519.72,511.1,687.06,481.81,20205,17448,2541,14906,533.86,524.08000000000004,703.81,493.43,20294,17504,2588,14916,575.59,568.1,737.84,538.66,20402,17510,2544,14966,573.29999999999995,562.55999999999995,760.1,528.99,20584,17636,2552,15084,584.17999999999995,570.32000000000005,770.38,536.47,19942,16904,2265,14639,587.36,570.99,765.31,540.91999999999996,19810,16754,2124,14630,600.19000000000005,586.5,775.97,558.99,19997,17005,2189,14816,617.28,603.41999999999996,798.39,574.61,20082,17083,2162,14921,627.16999999999996,615.41,800.29,588.62,19971,16958,2084,14874,645.66999999999996,633.79,805.62,609.71,20015,16952,2024,14928,640.24,627.02,843.7,597.64,19806,16828,1996,14832,667.3,653.87,884.26,622.86,19997,17053,2030,15023,686.74,674.21,909.04,642.48,20005,17047,2057,14991,692.33,677.15,941.62,640.87,20015,17037,2078,14959,710.33,694.81,905.58,665.54,20228,17268,2960,2128,15140,735.27,721.26,816.99,942.12,690.22,17882,15000,2883,2074,12926,841.07,832.06,888,1019.76,801.94,18856,16033,2823,2145,13888,872.88,865.29,916,1033.17,839.36,1017,2]
["Cheshire County",3,32349,27819,"n","n",571.92999999999995,577.30999999999995,"n","n",32369,27595,7795,19800,584.33000000000004,590.97,743.2,531.04,32548,27626,7754,19873,598.89,603.04,763.11,540.59,33075,28132,7648,20484,631.09,634.67999999999995,807.42,570.17999999999995,33995,28886,8110,20776,656.03,666.98,828.9,603.78,34194,29151,7889,21262,723.95,741.43,987.42,650.15,33638,28601,7473,21128,707.44,717.07,867.3,663.94,33220,28351,7351,21000,746.75,752.8,902.94,700.24,32207,27212,6761,20451,742.41,745.7,870.79,704.34,31527,26585,6300,20286,754.45,756.21,900.6,711.38,31690,26854,6240,20614,768.13,768.69,935.64,718.15,32021,27158,6245,20914,790.24,793.9,933.87,752.11,31923,27008,6032,20975,796.52,797.61,965.3,749.39,31904,26935,6025,20910,810.83,815.88,993.69,764.64,32067,27097,6073,21024,830.63,834.25,1010.79,783.25,32005,27109,6177,20932,838.96,843.47,1028.03,789.01,31743,26953,6194,20759,867.06,873.07,1043.75,822.14,31642,26825,6445,20380,895.81,907.01,1090.07,849.12,31737,26923,4814,6652,20272,913.17,927.09,835.36,1100.44,870.2,29801,25226,4575,6410,18816,1000.19,1013.03,929.37,1159.32,963.2,30189,26304,3884,6689,19615,1014.16,1025.44,937.75,1193.71,968.06,1018,3]
["Coos County",4,13872,11234,"n","n",489.02,487.7,"n","n",13737,11021,2332,8689,490.8,484.33,650.88,439.63,13946,11225,2578,8647,525.08000000000004,519.66,703.37,464.89,14103,11341,2590,8751,542.98,540.59,726.42,485.6,14026,11222,2533,8689,556.04,552.64,754.89,493.68,13898,10991,2334,8657,572.86,571.41999999999996,766.73,518.76,13876,11050,2184,8866,583.63,572.30999999999995,758.88,526.34,13566,10747,1988,8759,602.53,587.51,755.51,549.38,13002,10134,1720,8414,609.67999999999995,592.77,751.35,560.36,12832,9977,1593,8384,608.57000000000005,589.54,744.88,560.02,12555,9785,1473,8312,620.23,600.46,757.95,572.54,12371,9564,1568,7995,640.94000000000005,622.74,825.56,582.97,12515,9564,1649,7915,667.37,647.75,855.89,604.39,12064,9083,1293,7789,675.59,651.58000000000004,777.89,630.61,11974,9046,1222,7824,694.46,666.94,788.97,647.89,11990,9038,1167,7870,706.62,682.98,853.55,657.68,11999,9070,1223,7846,729.45,705.37,867.99,680.02,11970,9060,1296,7764,749.69,723.06,852.68,701.43,12083,9226,2857,1304,7921,766.79,735.31,868.44,914.39,705.82,10860,8144,2716,1260,6884,857.08,825.46,951.91,905.94,810.72,11341,8617,2724,1357,7260,875.17,849.5,956.35,872.32,845.23,1019,4]
["Grafton County",5,49352,43256,8085,35171,617.73,624.04999999999995,672.45,612.92999999999995,49690,43362,7763,35599,658.93,668.77,701.81,661.56,50615,44009,7790,36220,704.15,717.01,753.77,709.11,51355,44704,7636,37069,728.96,740.6,770.78,734.38,51541,44954,7698,37256,768.82,783.94,809.26,778.7,52267,45531,7761,37770,803.4,820.96,855.22,813.92,52729,45992,7672,38320,843.04,860.73,901.98,852.47,52901,46166,7347,38819,867.61,884.82,928.14,876.62,51401,44646,6446,38200,879.4,895.26,899.95,894.47,51256,44376,6289,38086,905.77,925.54,949.83,921.53,51663,44867,6681,38186,926.58,946.3,981.6,940.12,52026,45246,6818,38428,950.95,973.52,996.15,969.5,52153,45454,6717,38736,965.05,986.68,1028.75,979.39,52226,45565,6778,38787,1004.06,1029.1500000000001,1069.54,1022.09,52654,46056,6882,39174,1037.55,1061.83,1078.8900000000001,1058.83,53361,46686,6801,39885,1058.5999999999999,1086.92,1082.4000000000001,1087.69,53790,47161,6781,40380,1079.6300000000001,1108.6099999999999,1125.3,1105.81,54119,47417,6926,40491,1105.33,1135.81,1167.74,1130.3399999999999,54388,47685,6703,6855,40830,1142.8,1174.8,915.17,1156.02,1177.95,50622,44208,6414,6338,37870,1251.72,1287.53,1004.85,1194.47,1303.1099999999999,52299,45834,6465,6526,39308,1284.3900000000001,1324,1003.57,1309.54,1326.4,1020,5]
["Hillsborough County",6,192842,173003,47169,125834,756.14,762.49,941.37,695.43,188573,168164,42086,126078,768.52,773.3,968.23,708.23,190864,169969,41006,128962,801.91,806.79,1014.82,740.64,193543,172567,40910,131656,839.56,844.4,1064.01,776.16,196190,174854,40181,134673,866.71,873.18,1101.58,805.03,196502,175094,39123,135971,897.24,904,1171.1600000000001,827.13,197183,175821,38588,137233,946.54,951.14,1248.82,867.44,195976,174253,36628,137625,973.54,979.17,1267.17,902.52,187240,165260,33003,132257,959.3,962.96,1236.24,894.76,184628,162829,32117,130712,980.99,986.25,1287.9100000000001,912.12,186437,165030,32694,132336,1013.7,1018.86,1329.81,942.03,188425,167133,31642,135492,1029.82,1035.95,1325.69,968.28,190568,169383,30861,138522,1038.74,1045.24,1365.43,973.9,193565,172574,31422,141152,1092.9000000000001,1101.22,1393.55,1036.1500000000001,196842,175848,31842,144005,1099.51,1106.52,1401.46,1041.3,199729,178867,32654,146213,1118.6300000000001,1126.21,1436.51,1056.9100000000001,201740,180839,33513,147327,1147.78,1156.08,1490.14,1080.0899999999999,203961,182874,34296,148577,1182,1189.98,1525.57,1112.51,205989,184819,21170,35047,149772,1219.73,1229.8399999999999,1131.48,1558.29,1152.98,192746,172283,20463,33774,138510,1350.41,1366.74,1212.8699999999999,1698.45,1285.8599999999999,196932,176563,20368,33764,142800,1406.98,1425.94,1242.6500000000001,1745.36,1350.42,1021,6]
["Merrimack County",7,71543,56168,12137,44031,631.86,633.92999999999995,772.48,595.74,71850,56025,11403,44622,653.27,655.12,799.93,618.12,72840,56631,11036,45595,667.06,666.91,826.68,628.24,72381,56515,10742,45773,690.51,689.4,845.49,652.77,72963,56979,11012,45967,710.07,710.67,861.87,674.44,74077,57818,10760,47058,739.28,739.89,906.79,701.73,74070,57629,10051,47579,774.05,772.96,972.47,730.82,73959,57295,9822,47472,795.3,789.49,978.78,750.33,72134,55582,8724,46857,810.16,788.36,966.04,755.28,71882,55306,8662,46645,821.15,806.64,998.67,770.98,72140,55913,9059,46854,835.3,821.63,1012.78,784.67,72901,56946,9282,47664,850.4,842.26,1036.72,804.39,73510,57805,9457,48348,866.04,857.51,1050.8699999999999,819.69,74884,58800,9698,49103,892.44,882.46,1086.78,842.11,75670,59563,9801,49762,929.04,918.53,1114.06,880.02,76413,60219,9936,50283,946.35,937.29,1126.3800000000001,899.92,76803,60570,10042,50528,980.03,971.23,1164.72,932.78,77469,61326,10142,51184,1012.33,1004.39,1186.1199999999999,968.39,77816,61536,16281,10313,51222,1038.6300000000001,1030.98,1067.56,1209.32,995.07,73101,57299,15802,9711,47587,1132,1126.1500000000001,1153.22,1268.4000000000001,1097.1199999999999,73335,57980,15355,9834,48146,1169.23,1172.8,1155.74,1298.8699999999999,1147.05,1022,7]
["New Hampshire",1026,610446,531225,127190,404035,682.38,691.51,842.11,644.1,603100,521320,115244,406076,695.8,703.84,868.13,657.22,604198,520362,111472,408890,717.94,724.91,888.81,680.22,613327,529515,111893,417622,753.7,760.58,928.63,715.56,620909,536173,112033,424140,779.84,788.93,958.48,744.15,627301,541435,110189,431246,816.3,827.48,1013.11,780.04,630171,543800,107673,436127,843.46,852.45,1054.1600000000001,802.65,628819,541768,104441,437326,863.66,870.64,1074.5999999999999,821.93,604915,517658,92952,424706,864.05,867.37,1066.42,823.81,600540,513386,89428,423957,883.88,890.13,1119.47,841.75,605864,520338,90996,429342,909.31,916.27,1140.95,868.65,612432,527263,90404,436858,928.33,938.02,1152.07,893.72,618756,534106,90890,443216,941.75,950.79,1173.1099999999999,905.2,626567,541441,92176,449265,983.96,996.35,1200.71,954.42,636798,552276,93968,458308,1010.64,1021.89,1224.55,980.34,647375,562836,96138,466699,1030.04,1042.6300000000001,1251.03,999.7,653496,569023,97995,471029,1060.3399999999999,1073.99,1294.46,1028.1199999999999,658816,574044,100089,473955,1091.97,1106.44,1317.59,1061.8499999999999,665374,580394,84980,101907,478487,1128.27,1145.04,1013.77,1346.98,1102.03,624442,542824,81618,97843,444981,1247.45,1269.51,1100.73,1431.08,1233.99,647978,567574,80404,99578,467996,1386.82,1425,1117.32,1483.75,1412.5,1026]
["Rockingham County",8,130960,117604,24384,93220,704.6,714.62,913.02,662.73,130242,116589,22286,94302,712.56,720.57,945.47,667.42,130329,116466,21075,95392,725.68,731.51,920.38,689.79,133803,119786,21944,97841,774.11,781.14,964.22,740.08,136154,122028,22051,99976,796.86,803.2,996.54,760.55,138063,123549,22274,101275,842.13,851.8,1013.05,816.33,138382,123679,22407,101273,849.04,856.27,1052.77,812.8,137191,122378,22407,99970,839.01,841.86,1081.82,788.07,131375,116492,19644,96848,839.06,840.45,1104.3599999999999,786.93,131892,117079,18689,98391,862.17,865.32,1199.72,801.8,133444,119079,18941,100138,880.6,883.65,1146.49,833.93,135396,121125,18942,102183,907.06,912.95,1200.98,859.56,137505,123255,19558,103698,919.22,924.42,1204.8699999999999,871.53,139972,125705,20107,105598,967.99,976.63,1214.5999999999999,931.32,143650,129571,20954,108617,999.45,1007.52,1260.8800000000001,958.65,146926,132843,21711,111132,1008.63,1016.49,1289.1199999999999,963.24,149059,134948,22384,112564,1040.5999999999999,1049.82,1335.62,992.99,149817,135525,22957,112568,1068.69,1079.1600000000001,1345.67,1024.8,151694,137342,14352,23611,113731,1110.28,1122.81,990.42,1388.53,1067.6400000000001,141876,128387,13488,23301,105086,1204.1600000000001,1216.3900000000001,1087.78,1435.04,1167.9100000000001,147153,133559,13593,23930,109629,1266.5,1282.33,1110.97,1480.19,1239.1400000000001,1023,8]
["Strafford County",9,43645,34821,9068,25753,655.37,655.92,770.85,615.45000000000005,42874,33684,7630,26054,655.35,652.99,800.21,609.88,43046,33530,7366,26164,668.52,656.47,806.84,614.13,43436,33873,7230,26643,693.72,673.65,820.17,633.9,43773,34267,7211,27056,709.03,692.76,828.02,656.71,44557,35064,7140,27925,723.22,705.71,858.22,666.71,45570,35960,6960,29000,746.96,729.16,880.17,692.91,46580,36991,6754,30237,803.35,784.14,900.05,758.25,44375,35115,5981,29133,822.2,798.7,916.04,774.61,44144,34793,5960,28833,843.68,824.98,964.85,796.07,44154,34870,6008,28863,879.87,868.02,1098.93,819.95,45017,35667,6036,29631,875.8,864.35,1039.17,828.73,45379,36187,6365,29822,896.63,880.93,1050.44,844.76,46249,36899,6431,30469,915.86,906.58,1082.2,869.52,46826,37517,6657,30860,954.37,941.53,1121.8,902.65,47632,38313,6879,31434,967.61,953.88,1119.03,917.74,48165,38780,6935,31845,990.95,980.7,1148.01,944.26,48371,39036,6997,32039,1004.47,991.1,1131.83,960.36,48714,39366,9348,7127,32239,1034.79,1028.5999999999999,1060.8599999999999,1146.21,1002.6,45799,36761,9038,6439,30321,1109.92,1099.0999999999999,1153.96,1214.9000000000001,1074.5,46804,37871,8933,6556,31316,1140.3699999999999,1132.99,1171.6600000000001,1259.19,1106.57,1024,9]
["Sullivan County",10,14086,11544,"n","n",536.78,549.33000000000004,"n","n",13793,11231,4452,6779,561.15,569.74,685.65,493.64,13370,10809,4059,6750,577.41,588.45000000000005,688.92,528.03,13551,11127,4066,7061,602.70000000000005,607.34,721.67,541.5,13862,11386,4086,7300,615.79,621.85,741.34,554.98,13826,11306,3928,7377,642.61,650.96,800.27,571.45000000000005,13873,11351,3958,7393,676.8,687.32,843.22,603.85,13799,11227,3909,7318,687.34,698.53,866.24,608.95000000000005,13185,10586,3466,7121,698.02,705.82,887.35,617.47,13076,10479,3303,7176,714.38,723.66,917.55,634.42999999999995,13190,10617,3204,7413,723.57,732.12,955.94,635.39,13597,11070,3448,7622,757.15,771.77,1038.8399999999999,650.94000000000005,13793,11373,3704,7670,768.35,784.88,1012.65,674.88,13873,11439,3932,7507,795.94,816.28,1039.17,699.53,14090,11709,3948,7761,803.2,815.31,1021.57,710.37,14204,11783,4061,7722,810.76,830.28,1066.2,706.22,13997,11636,4031,7605,821.95,836.22,1048.48,723.72,13966,11628,3919,7708,836.09,849.04,1063.6199999999999,739.94,13735,11390,2344,3818,7573,854.16,864.16,805.53,1081.23,754.74,13162,10897,2266,3666,7231,933.76,950.68,852.41,1145.6400000000001,851.82,13487,11250,2237,3748,7502,996.61,1021.24,872.79,1258.53,902.68,1025,10]

{"sheet":"CntyDataLink","index":16,"n_rows":167,"n_cols":373,"rows_kept":167,"cut":false,"hidden":true,"merged":[]}
[1,{"$f":"A1+1","v":2},{"$f":"B1+1","v":3},4,5,6,7,8,9,10,11,12,13,14,15,{"$f":"O1+1","v":16},17,18,19,20,21,22,23,24,25,26,27,28,29,30,31,32,33,34,35,36,37,38,39,40,41,42,43,44,45,46,47,48,49,50,51,52,53,54,55,56,57,58,59,60,61,62,63,64,65,66,{"$f":"BN1+1","v":67},68,69,70,71,72,73,74,75,76,77,78,79,80,81,82,83,84,85,86,87,88,89,90,91,92,93,94,95,96,97,98,99,100,101,102,103,104,105,106,107,108,109,110,111,112,113,114,115,116,117,118,119,120,121,122,123,124,125,126,127,128,129,130,{"$f":"DZ1+1","v":131},132,133,134,135,136,137,138,139,140,141,142,143,144,145,146,147,148,149,150,151,152,153,154,155,156,157,158,159,160,161,162,163,164,165,166,167,168,169,170,171,172,173,174,175,176,177,178,179,180,181,182,183,184,185,186,187,188,189,190,191,192,193,194,{"$f":"GL1+1","v":195},196,197,198,199,200,201,202,203,204,205,206,207,208,209,210,211,212,213,214,215,216,217,218,219,220,221,222,223,224,225,226,227,228,229,230,231,232,233,234,235,236,237,238,239,240,241,242,243]
[]
["Census 1990 Data -           Query Name:  DPCnty90Census"]
["CountyName","Cnty_Code","Census_Cnty_Code","LandAcres","WaterAcres","HousingUnits90Cen","Persons90Cen","Families90Cen","Households90cen","MalePop90cen","FemalePop90cen","WhitePop","BlackPop","AmerIndianPop","AsianPIPop","OtherRacePop","HispanicOrPop","AgeUnder15_90cen","Age15to24_90cen","Age25to34_90cen","Age35to44_90cen","Age45to54_90cen","Age55to64_90cen","Age65to74_90cen","Age75andOver_90cen","PersonsInHH90cen","PersonsInFamHH90cen","PersonsInGC","PersonsPerHH90cen","PersonsPerFam90Cen","SinglePersonHH90cen","MarriedCoupleHH90cen","SingleParentHH90cen","NonFamilyHH90cen","TotalHousingUnits","OccupiedHousingUnits","VacantHousingUnits","OwnerOccHU","RenterOccHU","VacantForRent90","VacantForSale90","VacantSeasonalRec","SingFamHU90cen","MultiFamHU90cen","MobileHom90cen","SingFamOwnHU90cen","MultiFamOwnHU90cen","MobileHomOwnHU90cen","SingFamRntrHU90cen","MultiFamRntrHU90cen","MobileHomRntrHU90cen","HU<5yrs90cen","HU5to20yrs90cen","HU20to50yrs90cen","HU>50yrs90cen","Units0Bedroom90cen","Units1Bedroom90cen","Units2Bedroom90cen","Units3Bedroom90cen","Units4+Bedroom90cen","HI<5K","HI5Kto10K","HI10Kto15K","HI15Kto25K","HI25Kto35K","HI35Kto50K","HI50Kto75K","HI75Kto100K","HI>100K","MedHI","HH<25HI<5K","HH<25HI5Kto10K","HH<25HI10Kto15K","HH<25HI15Kto25K","HH<25HI25Kto35K","HH<25HI35Kto50K","HH<25HI50Kto75K","HH<25HI75Kto100K","HH<25HI>100K","HH25to34HI<5K","HH25to34HI5Kto10K","HH25to34HI10Kto15K","HH25to34HI15Kto25K","HH25to34HI25Kto35K","HH25to34HI35Kto50K","HH25to34HI50Kto75K","HH25to34HI75Kto100K","HH25to34HI>100K","HH35to44HI<5K","HH35to44HI5Kto10K","HH35to44HI10Kto15K","HH35to44HI15Kto25K","HH35to44HI25Kto35K","HH35to44HI35Kto50K","HH35to44HI50Kto75K","HH35to44HI75Kto100K","HH35to44HI>100K","HH45to54HI<5K","HH45to54HI5Kto10K","HH45to54HI10Kto15K","HH45to54HI15Kto25K","HH45to54HI25Kto35K","HH45to54HI35Kto50K","HH45to54HI50Kto75K","HH45to54HI75Kto100K","HH45to54HI>100K","HH55to64HI<5K","HH55to64HI5Kto10K","HH55to64HI10Kto15K","HH55to64HI15Kto25K","HH55to64HI25Kto35K","HH55to64HI35Kto50K","HH55to64HI50Kto75K","HH55to64HI75Kto100K","HH55to64HI>100K","HH65to74HI<5K","HH65to74HI5Kto10K","HH65to74HI10Kto15K","HH65to74HI15Kto25K","HH65to74HI25Kto35K","HH65to74HI35Kto50K","HH65to74HI50Kto75K","HH65to74HI75Kto100K","HH65to74HI>100K","HH>75HI<5K","HH>75HI5Kto10K","HH>75HI10Kto15K","HH>75HI15Kto25K","HH>75HI25Kto35K","HH>75HI35Kto50K","HH>75HI50Kto75K","HH>75HI75Kto100K","HH>75HI>100K","SchoolEnrollment1thru12","Pop25andOver","HSGradorHigher","CollGradorHigher","NativePop","ForeignBornPop","BornStateOfRes","NativePop2","ForeignBornPop2","DroveAlone","CarPooled","PublicTranspt","Walked","OtherMeans","WorkedAtHome","HHInc<10K","HHInc10to15K","HHInc15to25K","HHInc25to35K","HHInc35to50K","HHInc50to75K","HHInc75to100K","HHInc100to150K","HHInc>150K"]
[{"$f":"VLOOKUP(DropDownList!$A$19,CntyQuery!$A$5:$FA$15,A1)","v":"Laconia"},{"$f":"VLOOKUP(DropDownList!$A$19,CntyQuery!$A$5:$FA$15,B$1)","v":1035},{"$f":"VLOOKUP(DropDownList!$A$19,CntyQuery!$A$5:$FA$15,C$1)","v":"40180"},{"$f":"VLOOKUP(DropDownList!$A$19,CntyQuery!$A$5:$FA$15,D$1)","v":12860.61},{"$f":"VLOOKUP(DropDownList!$A$19,CntyQuery!$A$5:$FA$15,E$1)","v":3851.61},{"$f":"VLOOKUP(DropDownList!$A$19,CntyQuery!$A$5:$FA$15,F$1)","v":8201},{"$f":"VLOOKUP(DropDownList!$A$19,CntyQuery!$A$5:$FA$15,G$1)","v":15743},{"$f":"VLOOKUP(DropDownList!$A$19,CntyQuery!$A$5:$FA$15,H$1)","v":4032},{"$f":"VLOOKUP(DropDownList!$A$19,CntyQuery!$A$5:$FA$15,I$1)","v":6176},{"$f":"VLOOKUP(DropDownList!$A$19,CntyQuery!$A$5:$FA$15,J$1)","v":7452},{"$f":"VLOOKUP(DropDownList!$A$19,CntyQuery!$A$5:$FA$15,K$1)","v":8291},{"$f":"VLOOKUP(DropDownList!$A$19,CntyQuery!$A$5:$FA$15,L$1)","v":15539},{"$f":"VLOOKUP(DropDownList!$A$19,CntyQuery!$A$5:$FA$15,M$1)","v":20},{"$f":"VLOOKUP(DropDownList!$A$19,CntyQuery!$A$5:$FA$15,N$1)","v":35},{"$f":"VLOOKUP(DropDownList!$A$19,CntyQuery!$A$5:$FA$15,O$1)","v":122},{"$f":"VLOOKUP(DropDownList!$A$19,CntyQuery!$A$5:$FA$15,P$1)","v":27},{"$f":"VLOOKUP(DropDownList!$A$19,CntyQuery!$A$5:$FA$15,Q$1)","v":98},{"$f":"VLOOKUP(DropDownList!$A$19,CntyQuery!$A$5:$FA$15,R$1)","v":3423},{"$f":"VLOOKUP(DropDownList!$A$19,CntyQuery!$A$5:$FA$15,S$1)","v":2064},{"$f":"VLOOKUP(DropDownList!$A$19,CntyQuery!$A$5:$FA$15,T$1)","v":2537},{"$f":"VLOOKUP(DropDownList!$A$19,CntyQuery!$A$5:$FA$15,U$1)","v":2365},{"$f":"VLOOKUP(DropDownList!$A$19,CntyQuery!$A$5:$FA$15,V$1)","v":1575},{"$f":"VLOOKUP(DropDownList!$A$19,CntyQuery!$A$5:$FA$15,W$1)","v":1368},{"$f":"VLOOKUP(DropDownList!$A$19,CntyQuery!$A$5:$FA$15,X$1)","v":1290},{"$f":"VLOOKUP(DropDownList!$A$19,CntyQuery!$A$5:$FA$15,Y$1)","v":1121},{"$f":"VLOOKUP(DropDownList!$A$19,CntyQuery!$A$5:$FA$15,Z$1)","v":15312},{"$f":"VLOOKUP(DropDownList!$A$19,CntyQuery!$A$5:$FA$15,AA$1)","v":12623},{"$f":"VLOOKUP(DropDownList!$A$19,CntyQuery!$A$5:$FA$15,AB$1)","v":431},{"$f":"VLOOKUP(DropDownList!$A$19,CntyQuery!$A$5:$FA$15,AC$1)","v":2.4792746113989637},{"$f":"VLOOKUP(DropDownList!$A$19,CntyQuery!$A$5:$FA$15,AD$1)","v":3.1307043650793651},{"$f":"VLOOKUP(DropDownList!$A$19,CntyQuery!$A$5:$FA$15,AE$1)","v":1721},{"$f":"VLOOKUP(DropDownList!$A$19,CntyQuery!$A$5:$FA$15,AF$1)","v":3144},{"$f":"VLOOKUP(DropDownList!$A$19,CntyQuery!$A$5:$FA$15,AG$1)","v":888},{"$f":"VLOOKUP(DropDownList!$A$19,CntyQuery!$A$5:$FA$15,AH$1)","v":423},{"$f":"VLOOKUP(DropDownList!$A$19,CntyQuery!$A$5:$FA$15,AI$1)","v":8201},{"$f":"VLOOKUP(DropDownList!$A$19,CntyQuery!$A$5:$FA$15,AJ$1)","v":6176},{"$f":"VLOOKUP(DropDownList!$A$19,CntyQuery!$A$5:$FA$15,AK$1)","v":2025},{"$f":"VLOOKUP(DropDownList!$A$19,CntyQuery!$A$5:$FA$15,AL$1)","v":3494},{"$f":"VLOOKUP(DropDownList!$A$19,CntyQuery!$A$5:$FA$15,AM$1)","v":2682},{"$f":"VLOOKUP(DropDownList!$A$19,CntyQuery!$A$5:$FA$15,AN$1)","v":469},{"$f":"VLOOKUP(DropDownList!$A$19,CntyQuery!$A$5:$FA$15,AO$1)","v":148},{"$f":"VLOOKUP(DropDownList!$A$19,CntyQuery!$A$5:$FA$15,AP$1)","v":1216},{"$f":"VLOOKUP(DropDownList!$A$19,CntyQuery!$A$5:$FA$15,AQ$1)","v":3948},{"$f":"VLOOKUP(DropDownList!$A$19,CntyQuery!$A$5:$FA$15,AR$1)","v":4090},{"$f":"VLOOKUP(DropDownList!$A$19,CntyQuery!$A$5:$FA$15,AS$1)","v":163},{"$f":"VLOOKUP(DropDownList!$A$19,CntyQuery!$A$5:$FA$15,AT$1)","v":2854},{"$f":"VLOOKUP(DropDownList!$A$19,CntyQuery!$A$5:$FA$15,AU$1)","v":564},{"$f":"VLOOKUP(DropDownList!$A$19,CntyQuery!$A$5:$FA$15,AV$1)","v":163},{"$f":"VLOOKUP(DropDownList!$A$19,CntyQuery!$A$5:$FA$15,AW$1)","v":298},{"$f":"VLOOKUP(DropDownList!$A$19,CntyQuery!$A$5:$FA$15,AX$1)","v":2327},{"$f":"VLOOKUP(DropDownList!$A$19,CntyQuery!$A$5:$FA$15,AY$1)","v":57},{"$f":"VLOOKUP(DropDownList!$A$19,CntyQuery!$A$5:$FA$15,AZ$1)","v":1092},{"$f":"VLOOKUP(DropDownList!$A$19,CntyQuery!$A$5:$FA$15,BA$1)","v":1898},{"$f":"VLOOKUP(DropDownList!$A$19,CntyQuery!$A$5:$FA$15,BB$1)","v":1895},{"$f":"VLOOKUP(DropDownList!$A$19,CntyQuery!$A$5:$FA$15,BC$1)","v":3316},{"$f":"VLOOKUP(DropDownList!$A$19,CntyQuery!$A$5:$FA$15,BD$1)","v":131},{"$f":"VLOOKUP(DropDownList!$A$19,CntyQuery!$A$5:$FA$15,BE$1)","v":1341},{"$f":"VLOOKUP(DropDownList!$A$19,CntyQuery!$A$5:$FA$15,BF$1)","v":2580},{"$f":"VLOOKUP(DropDownList!$A$19,CntyQuery!$A$5:$FA$15,BG$1)","v":2983},{"$f":"VLOOKUP(DropDownList!$A$19,CntyQuery!$A$5:$FA$15,BH$1)","v":1166},{"$f":"VLOOKUP(DropDownList!$A$19,CntyQuery!$A$5:$FA$15,BI$1)","v":215},{"$f":"VLOOKUP(DropDownList!$A$19,CntyQuery!$A$5:$FA$15,BJ$1)","v":555},{"$f":"VLOOKUP(DropDownList!$A$19,CntyQuery!$A$5:$FA$15,BK$1)","v":589},{"$f":"VLOOKUP(DropDownList!$A$19,CntyQuery!$A$5:$FA$15,BL$1)","v":1257},{"$f":"VLOOKUP(DropDownList!$A$19,CntyQuery!$A$5:$FA$15,BM$1)","v":1013},{"$f":"VLOOKUP(DropDownList!$A$19,CntyQuery!$A$5:$FA$15,BN$1)","v":1051},{"$f":"VLOOKUP(DropDownList!$A$19,CntyQuery!$A$5:$FA$15,BO$1)","v":1042},{"$f":"VLOOKUP(DropDownList!$A$19,CntyQuery!$A$5:$FA$15,BP$1)","v":194},{"$f":"VLOOKUP(DropDownList!$A$19,CntyQuery!$A$5:$FA$15,BQ$1)","v":247},{"$f":"VLOOKUP(DropDownList!$A$19,CntyQuery!$A$5:$FA$15,BR$1)","v":29116},{"$f":"VLOOKUP(DropDownList!$A$19,CntyQuery!$A$5:$FA$15,BS$1)","v":29},{"$f":"VLOOKUP(DropDownList!$A$19,CntyQuery!$A$5:$FA$15,BT$1)","v":32},{"$f":"VLOOKUP(DropDownList!$A$19,CntyQuery!$A$5:$FA$15,BU$1)","v":57},{"$f":"VLOOKUP(DropDownList!$A$19,CntyQuery!$A$5:$FA$15,BV$1)","v":116},{"$f":"VLOOKUP(DropDownList!$A$19,CntyQuery!$A$5:$FA$15,BW$1)","v":66},{"$f":"VLOOKUP(DropDownList!$A$19,CntyQuery!$A$5:$FA$15,BX$1)","v":29},{"$f":"VLOOKUP(DropDownList!$A$19,CntyQuery!$A$5:$FA$15,BY$1)","v":17},{"$f":"VLOOKUP(DropDownList!$A$19,CntyQuery!$A$5:$FA$15,BZ$1)","v":0},{"$f":"VLOOKUP(DropDownList!$A$19,CntyQuery!$A$5:$FA$15,CA$1)","v":0},{"$f":"VLOOKUP(DropDownList!$A$19,CntyQuery!$A$5:$FA$15,CB$1)","v":38},{"$f":"VLOOKUP(DropDownList!$A$19,CntyQuery!$A$5:$FA$15,CC$1)","v":74},{"$f":"VLOOKUP(DropDownList!$A$19,CntyQuery!$A$5:$FA$15,CD$1)","v":78},{"$f":"VLOOKUP(DropDownList!$A$19,CntyQuery!$A$5:$FA$15,CE$1)","v":270},{"$f":"VLOOKUP(DropDownList!$A$19,CntyQuery!$A$5:$FA$15,CF$1)","v":298},{"$f":"VLOOKUP(DropDownList!$A$19,CntyQuery!$A$5:$FA$15,CG$1)","v":237},{"$f":"VLOOKUP(DropDownList!$A$19,CntyQuery!$A$5:$FA$15,CH$1)","v":180},{"$f":"VLOOKUP(DropDownList!$A$19,CntyQuery!$A$5:$FA$15,CI$1)","v":33},{"$f":"VLOOKUP(DropDownList!$A$19,CntyQuery!$A$5:$FA$15,CJ$1)","v":20},{"$f":"VLOOKUP(DropDownList!$A$19,CntyQuery!$A$5:$FA$15,CK$1)","v":14},{"$f":"VLOOKUP(DropDownList!$A$19,CntyQuery!$A$5:$FA$15,CL$1)","v":39},{"$f":"VLOOKUP(DropDownList!$A$19,CntyQuery!$A$5:$FA$15,CM$1)","v":61},{"$f":"VLOOKUP(DropDownList!$A$19,CntyQuery!$A$5:$FA$15,CN$1)","v":260},{"$f":"VLOOKUP(DropDownList!$A$19,CntyQuery!$A$5:$FA$15,CO$1)","v":203},{"$f":"VLOOKUP(DropDownList!$A$19,CntyQuery!$A$5:$FA$15,CP$1)","v":284},{"$f":"VLOOKUP(DropDownList!$A$19,CntyQuery!$A$5:$FA$15,CQ$1)","v":365},{"$f":"VLOOKUP(DropDownList!$A$19,CntyQuery!$A$5:$FA$15,CR$1)","v":42},{"$f":"VLOOKUP(DropDownList!$A$19,CntyQuery!$A$5:$FA$15,CS$1)","v":86},{"$f":"VLOOKUP(DropDownList!$A$19,CntyQuery!$A$5:$FA$15,CT$1)","v":10},{"$f":"VLOOKUP(DropDownList!$A$19,CntyQuery!$A$5:$FA$15,CU$1)","v":18},{"$f":"VLOOKUP(DropDownList!$A$19,CntyQuery!$A$5:$FA$15,CV$1)","v":54},{"$f":"VLOOKUP(DropDownList!$A$19,CntyQuery!$A$5:$FA$15,CW$1)","v":133},{"$f":"VLOOKUP(DropDownList!$A$19,CntyQuery!$A$5:$FA$15,CX$1)","v":125},{"$f":"VLOOKUP(DropDownList!$A$19,CntyQuery!$A$5:$FA$15,CY$1)","v":249},{"$f":"VLOOKUP(DropDownList!$A$19,CntyQuery!$A$5:$FA$15,CZ$1)","v":259},{"$f":"VLOOKUP(DropDownList!$A$19,CntyQuery!$A$5:$FA$15,DA$1)","v":26},{"$f":"VLOOKUP(DropDownList!$A$19,CntyQuery!$A$5:$FA$15,DB$1)","v":71},{"$f":"VLOOKUP(DropDownList!$A$19,CntyQuery!$A$5:$FA$15,DC$1)","v":45},{"$f":"VLOOKUP(DropDownList!$A$19,CntyQuery!$A$5:$FA$15,DD$1)","v":32},{"$f":"VLOOKUP(DropDownList!$A$19,CntyQuery!$A$5:$FA$15,DE$1)","v":90},{"$f":"VLOOKUP(DropDownList!$A$19,CntyQuery!$A$5:$FA$15,DF$1)","v":185},{"$f":"VLOOKUP(DropDownList!$A$19,CntyQuery!$A$5:$FA$15,DG$1)","v":132},{"$f":"VLOOKUP(DropDownList!$A$19,CntyQuery!$A$5:$FA$15,DH$1)","v":117},{"$f":"VLOOKUP(DropDownList!$A$19,CntyQuery!$A$5:$FA$15,DI$1)","v":110},{"$f":"VLOOKUP(DropDownList!$A$19,CntyQuery!$A$5:$FA$15,DJ$1)","v":77},{"$f":"VLOOKUP(DropDownList!$A$19,CntyQuery!$A$5:$FA$15,DK$1)","v":43},{"$f":"VLOOKUP(DropDownList!$A$19,CntyQuery!$A$5:$FA$15,DL$1)","v":45},{"$f":"VLOOKUP(DropDownList!$A$19,CntyQuery!$A$5:$FA$15,DM$1)","v":157},{"$f":"VLOOKUP(DropDownList!$A$19,CntyQuery!$A$5:$FA$15,DN$1)","v":90},{"$f":"VLOOKUP(DropDownList!$A$19,CntyQuery!$A$5:$FA$15,DO$1)","v":156},{"$f":"VLOOKUP(DropDownList!$A$19,CntyQuery!$A$5:$FA$15,DP$1)","v":119},{"$f":"VLOOKUP(DropDownList!$A$19,CntyQuery!$A$5:$FA$15,DQ$1)","v":121},{"$f":"VLOOKUP(DropDownList!$A$19,CntyQuery!$A$5:$FA$15,DR$1)","v":82},{"$f":"VLOOKUP(DropDownList!$A$19,CntyQuery!$A$5:$FA$15,DS$1)","v":16},{"$f":"VLOOKUP(DropDownList!$A$19,CntyQuery!$A$5:$FA$15,DT$1)","v":13},{"$f":"VLOOKUP(DropDownList!$A$19,CntyQuery!$A$5:$FA$15,DU$1)","v":34},{"$f":"VLOOKUP(DropDownList!$A$19,CntyQuery!$A$5:$FA$15,DV$1)","v":203},{"$f":"VLOOKUP(DropDownList!$A$19,CntyQuery!$A$5:$FA$15,DW$1)","v":159},{"$f":"VLOOKUP(DropDownList!$A$19,CntyQuery!$A$5:$FA$15,DX$1)","v":137},{"$f":"VLOOKUP(DropDownList!$A$19,CntyQuery!$A$5:$FA$15,DY$1)","v":70},{"$f":"VLOOKUP(DropDownList!$A$19,CntyQuery!$A$5:$FA$15,DZ$1)","v":14},{"$f":"VLOOKUP(DropDownList!$A$19,CntyQuery!$A$5:$FA$15,EA$1)","v":29},{"$f":"VLOOKUP(DropDownList!$A$19,CntyQuery!$A$5:$FA$15,EB$1)","v":0},{"$f":"VLOOKUP(DropDownList!$A$19,CntyQuery!$A$5:$FA$15,EC$1)","v":14},{"$f":"VLOOKUP(DropDownList!$A$19,CntyQuery!$A$5:$FA$15,ED$1)","v":2499},{"$f":"VLOOKUP(DropDownList!$A$19,CntyQuery!$A$5:$FA$15,EE$1)","v":10256},{"$f":"VLOOKUP(DropDownList!$A$19,CntyQuery!$A$5:$FA$15,EF$1)","v":7899},{"$f":"VLOOKUP(DropDownList!$A$19,CntyQuery!$A$5:$FA$15,EG$1)","v":1784},{"$f":"VLOOKUP(DropDownList!$A$19,CntyQuery!$A$5:$FA$15,EH$1)","v":15257},{"$f":"VLOOKUP(DropDownList!$A$19,CntyQuery!$A$5:$FA$15,EI$1)","v":486},{"$f":"VLOOKUP(DropDownList!$A$19,CntyQuery!$A$5:$FA$15,EJ$1)","v":9455},{"$f":"VLOOKUP(DropDownList!$A$19,CntyQuery!$A$5:$FA$15,EK$1)","v":15257},{"$f":"VLOOKUP(DropDownList!$A$19,CntyQuery!$A$5:$FA$15,EL$1)","v":486},{"$f":"VLOOKUP(DropDownList!$A$19,CntyQuery!$A$5:$FA$15,EM$1)","v":5500},{"$f":"VLOOKUP(DropDownList!$A$19,CntyQuery!$A$5:$FA$15,EN$1)","v":954},{"$f":"VLOOKUP(DropDownList!$A$19,CntyQuery!$A$5:$FA$15,EO$1)","v":50},{"$f":"VLOOKUP(DropDownList!$A$19,CntyQuery!$A$5:$FA$15,EP$1)","v":380},{"$f":"VLOOKUP(DropDownList!$A$19,CntyQuery!$A$5:$FA$15,EQ$1)","v":50},{"$f":"VLOOKUP(DropDownList!$A$19,CntyQuery!$A$5:$FA$15,ER$1)","v":284},{"$f":"VLOOKUP(DropDownList!$A$19,CntyQuery!$A$5:$FA$15,ES$1)","v":770},{"$f":"VLOOKUP(DropDownList!$A$19,CntyQuery!$A$5:$FA$15,ET$1)","v":589},{"$f":"VLOOKUP(DropDownList!$A$19,CntyQuery!$A$5:$FA$15,EU$1)","v":1257},{"$f":"VLOOKUP(DropDownList!$A$19,CntyQuery!$A$5:$FA$15,EV$1)","v":1013},{"$f":"VLOOKUP(DropDownList!$A$19,CntyQuery!$A$5:$FA$15,EW$1)","v":1051},{"$f":"VLOOKUP(DropDownList!$A$19,CntyQuery!$A$5:$FA$15,EX$1)","v":1042},{"$f":"VLOOKUP(DropDownList!$A$19,CntyQuery!$A$5:$FA$15,EY$1)","v":194},{"$f":"VLOOKUP(DropDownList!$A$19,CntyQuery!$A$5:$FA$15,EZ$1)","v":190},{"$f":"VLOOKUP(DropDownList!$A$19,CntyQuery!$A$5:$FA$15,FA$1)","v":57}]
[]
[]
["Census 1990 Data -    Query Name:  CountySTF1Qry1"]
["NAME","COUSUBFP","Census_Cnty_Code","FIPS","LandAcres","WaterAcres","HousingUnits90Cen","P01Persons90Cen","P02Families90Cen","P03Households90cen","P05MalePop90cen","P05FemalePop90cen","P06WhitePop","P06BlackPop","P06AmerIndianPop","P06AsianPIPop","P06OtherRacePop","P08HispanicOrPop","P11AgeUnder15_90cen","P11Age15to24_90cen","P11Age25to34_90cen","P11Age35to44_90cen","P11Age45to54_90cen","P11Age55to64_90cen","P11Age65to74_90cen","P11Age75andOver_90cen","P15PersonsInHH90cen","P15PersonsInFamHH90cen","P15PersonsInGC","PersonsPerHH90cen","PersonsPerFam90Cen","P16SinglePersonHH90cen","P16MarriedCoupleHH90cen","P16SingleParentHH90cen","P16NonFamilyHH90cen","H01TotalHousingUnits","H02OccupiedHousingUnits","H02VacantHousingUnits","H03OwnerOccHU","H03RenterOccHU","H05VacantForRent90","H05VacantForSale90","H05VacantSeasonalRec","H23OOHUVal<15k","H23OOHUVal15to19k","H23OOHUVal20to24k","H23OOHUVal25to29k","H23OOHUVal30to34k","H23OOHUVal35to39k","H23OOHUVal40to44k","H23OOHUVal45to49k","H23OOHUVal50to59k","H23OOHUVal60to74k","H23OOHUVal75to99k","H23OOHUVal100to124k","H23OOHUVal125to149k","H23OOHUVal150to174k","H23OOHUVal175to199k","H23OOHUVal200to249k","H23OOHUVal250to299k","H23OOHUVal300to399k","H23OOHUVal400to499k","H23OOHUVal500kOrMore","H23BOOHUMedVal","H41SingFamHU90cen","H41MultiFamHU90cen","H41MobileHom90cen","H43SingFamOwnHU90cen","H43MultiFamOwnHU90cen","H43MobileHomOwnHU90cen","H43SingFamRntrHU90cen","H43MultiFamRntrHU90cen","H43MobileHomRntrHU90cen","H41HU1UnitDet","H41HU1UnitAtt","H41HU2Unit","H41HU3to4Unit","H41HU5to9Unit","H41HU10to19Unit","H41HU20to49Unit","H41HU50PlusUnit","H41HUMobilH","H41HUOther"]
[{"$f":"VLOOKUP(DropDownList!$A$19,CntyQuery!$A$20:$CE$30,A$1)","v":"Laconia"},{"$f":"VLOOKUP(DropDownList!$A$19,CntyQuery!$A$20:$CE$30,B$1)","v":107},{"$f":"VLOOKUP(DropDownList!$A$19,CntyQuery!$A$20:$CE$30,C$1)","v":1035},{"$f":"VLOOKUP(DropDownList!$A$19,CntyQuery!$A$20:$CE$30,D$1)","v":"40180"},{"$f":"VLOOKUP(DropDownList!$A$19,CntyQuery!$A$20:$CE$30,E$1)","v":12860.61},{"$f":"VLOOKUP(DropDownList!$A$19,CntyQuery!$A$20:$CE$30,F$1)","v":3851.61},{"$f":"VLOOKUP(DropDownList!$A$19,CntyQuery!$A$20:$CE$30,G$1)","v":8201},{"$f":"VLOOKUP(DropDownList!$A$19,CntyQuery!$A$20:$CE$30,H$1)","v":15743},{"$f":"VLOOKUP(DropDownList!$A$19,CntyQuery!$A$20:$CE$30,I$1)","v":4032},{"$f":"VLOOKUP(DropDownList!$A$19,CntyQuery!$A$20:$CE$30,J$1)","v":6176},{"$f":"VLOOKUP(DropDownList!$A$19,CntyQuery!$A$20:$CE$30,K$1)","v":7452},{"$f":"VLOOKUP(DropDownList!$A$19,CntyQuery!$A$20:$CE$30,L$1)","v":8291},{"$f":"VLOOKUP(DropDownList!$A$19,CntyQuery!$A$20:$CE$30,M$1)","v":15539},{"$f":"VLOOKUP(DropDownList!$A$19,CntyQuery!$A$20:$CE$30,N$1)","v":20},{"$f":"VLOOKUP(DropDownList!$A$19,CntyQuery!$A$20:$CE$30,O$1)","v":35},{"$f":"VLOOKUP(DropDownList!$A$19,CntyQuery!$A$20:$CE$30,P$1)","v":122},{"$f":"VLOOKUP(DropDownList!$A$19,CntyQuery!$A$20:$CE$30,Q$1)","v":27},{"$f":"VLOOKUP(DropDownList!$A$19,CntyQuery!$A$20:$CE$30,R$1)","v":98},{"$f":"VLOOKUP(DropDownList!$A$19,CntyQuery!$A$20:$CE$30,S$1)","v":3423},{"$f":"VLOOKUP(DropDownList!$A$19,CntyQuery!$A$20:$CE$30,T$1)","v":2064},{"$f":"VLOOKUP(DropDownList!$A$19,CntyQuery!$A$20:$CE$30,U$1)","v":2537},{"$f":"VLOOKUP(DropDownList!$A$19,CntyQuery!$A$20:$CE$30,V$1)","v":2365},{"$f":"VLOOKUP(DropDownList!$A$19,CntyQuery!$A$20:$CE$30,W$1)","v":1575},{"$f":"VLOOKUP(DropDownList!$A$19,CntyQuery!$A$20:$CE$30,X$1)","v":1368},{"$f":"VLOOKUP(DropDownList!$A$19,CntyQuery!$A$20:$CE$30,Y$1)","v":1290},{"$f":"VLOOKUP(DropDownList!$A$19,CntyQuery!$A$20:$CE$30,Z$1)","v":1121},{"$f":"VLOOKUP(DropDownList!$A$19,CntyQuery!$A$20:$CE$30,AA$1)","v":15312},{"$f":"VLOOKUP(DropDownList!$A$19,CntyQuery!$A$20:$CE$30,AB$1)","v":12623},{"$f":"VLOOKUP(DropDownList!$A$19,CntyQuery!$A$20:$CE$30,AC$1)","v":431},{"$f":"VLOOKUP(DropDownList!$A$19,CntyQuery!$A$20:$CE$30,AD$1)","v":2.4792746113989637},{"$f":"VLOOKUP(DropDownList!$A$19,CntyQuery!$A$20:$CE$30,AE$1)","v":3.1307043650793651},{"$f":"VLOOKUP(DropDownList!$A$19,CntyQuery!$A$20:$CE$30,AF$1)","v":1721},{"$f":"VLOOKUP(DropDownList!$A$19,CntyQuery!$A$20:$CE$30,AG$1)","v":3144},{"$f":"VLOOKUP(DropDownList!$A$19,CntyQuery!$A$20:$CE$30,AH$1)","v":888},{"$f":"VLOOKUP(DropDownList!$A$19,CntyQuery!$A$20:$CE$30,AI$1)","v":423},{"$f":"VLOOKUP(DropDownList!$A$19,CntyQuery!$A$20:$CE$30,AJ$1)","v":8201},{"$f":"VLOOKUP(DropDownList!$A$19,CntyQuery!$A$20:$CE$30,AK$1)","v":6176},{"$f":"VLOOKUP(DropDownList!$A$19,CntyQuery!$A$20:$CE$30,AL$1)","v":2025},{"$f":"VLOOKUP(DropDownList!$A$19,CntyQuery!$A$20:$CE$30,AM$1)","v":3494},{"$f":"VLOOKUP(DropDownList!$A$19,CntyQuery!$A$20:$CE$30,AN$1)","v":2682},{"$f":"VLOOKUP(DropDownList!$A$19,CntyQuery!$A$20:$CE$30,AO$1)","v":469},{"$f":"VLOOKUP(DropDownList!$A$19,CntyQuery!$A$20:$CE$30,AP$1)","v":148},{"$f":"VLOOKUP(DropDownList!$A$19,CntyQuery!$A$20:$CE$30,AQ$1)","v":1216},{"$f":"VLOOKUP(DropDownList!$A$19,CntyQuery!$A$20:$CE$30,AR$1)","v":5},{"$f":"VLOOKUP(DropDownList!$A$19,CntyQuery!$A$20:$CE$30,AS$1)","v":1},{"$f":"VLOOKUP(DropDownList!$A$19,CntyQuery!$A$20:$CE$30,AT$1)","v":1},{"$f":"VLOOKUP(DropDownList!$A$19,CntyQuery!$A$20:$CE$30,AU$1)","v":0},{"$f":"VLOOKUP(DropDownList!$A$19,CntyQuery!$A$20:$CE$30,AV$1)","v":8},{"$f":"VLOOKUP(DropDownList!$A$19,CntyQuery!$A$20:$CE$30,AW$1)","v":2},{"$f":"VLOOKUP(DropDownList!$A$19,CntyQuery!$A$20:$CE$30,AX$1)","v":10},{"$f":"VLOOKUP(DropDownList!$A$19,CntyQuery!$A$20:$CE$30,AY$1)","v":9},{"$f":"VLOOKUP(DropDownList!$A$19,CntyQuery!$A$20:$CE$30,AZ$1)","v":43},{"$f":"VLOOKUP(DropDownList!$A$19,CntyQuery!$A$20:$CE$30,BA$1)","v":183},{"$f":"VLOOKUP(DropDownList!$A$19,CntyQuery!$A$20:$CE$30,BB$1)","v":909},{"$f":"VLOOKUP(DropDownList!$A$19,CntyQuery!$A$20:$CE$30,BC$1)","v":568},{"$f":"VLOOKUP(DropDownList!$A$19,CntyQuery!$A$20:$CE$30,BD$1)","v":349},{"$f":"VLOOKUP(DropDownList!$A$19,CntyQuery!$A$20:$CE$30,BE$1)","v":199},{"$f":"VLOOKUP(DropDownList!$A$19,CntyQuery!$A$20:$CE$30,BF$1)","v":122},{"$f":"VLOOKUP(DropDownList!$A$19,CntyQuery!$A$20:$CE$30,BG$1)","v":144},{"$f":"VLOOKUP(DropDownList!$A$19,CntyQuery!$A$20:$CE$30,BH$1)","v":65},{"$f":"VLOOKUP(DropDownList!$A$19,CntyQuery!$A$20:$CE$30,BI$1)","v":49},{"$f":"VLOOKUP(DropDownList!$A$19,CntyQuery!$A$20:$CE$30,BJ$1)","v":34},{"$f":"VLOOKUP(DropDownList!$A$19,CntyQuery!$A$20:$CE$30,BK$1)","v":29},{"$f":"VLOOKUP(DropDownList!$A$19,CntyQuery!$A$20:$CE$30,BL$1)","v":108500},{"$f":"VLOOKUP(DropDownList!$A$19,CntyQuery!$A$20:$CE$30,BM$1)","v":3948},{"$f":"VLOOKUP(DropDownList!$A$19,CntyQuery!$A$20:$CE$30,BN$1)","v":4090},{"$f":"VLOOKUP(DropDownList!$A$19,CntyQuery!$A$20:$CE$30,BO$1)","v":163},{"$f":"VLOOKUP(DropDownList!$A$19,CntyQuery!$A$20:$CE$30,BP$1)","v":2854},{"$f":"VLOOKUP(DropDownList!$A$19,CntyQuery!$A$20:$CE$30,BQ$1)","v":564},{"$f":"VLOOKUP(DropDownList!$A$19,CntyQuery!$A$20:$CE$30,BR$1)","v":76},{"$f":"VLOOKUP(DropDownList!$A$19,CntyQuery!$A$20:$CE$30,BS$1)","v":298},{"$f":"VLOOKUP(DropDownList!$A$19,CntyQuery!$A$20:$CE$30,BT$1)","v":2327},{"$f":"VLOOKUP(DropDownList!$A$19,CntyQuery!$A$20:$CE$30,BU$1)","v":57},{"$f":"VLOOKUP(DropDownList!$A$19,CntyQuery!$A$20:$CE$30,BV$1)","v":3948},{"$f":"VLOOKUP(DropDownList!$A$19,CntyQuery!$A$20:$CE$30,BW$1)","v":543},{"$f":"VLOOKUP(DropDownList!$A$19,CntyQuery!$A$20:$CE$30,BX$1)","v":939},{"$f":"VLOOKUP(DropDownList!$A$19,CntyQuery!$A$20:$CE$30,BY$1)","v":809},{"$f":"VLOOKUP(DropDownList!$A$19,CntyQuery!$A$20:$CE$30,BZ$1)","v":734},{"$f":"VLOOKUP(DropDownList!$A$19,CntyQuery!$A$20:$CE$30,CA$1)","v":505},{"$f":"VLOOKUP(DropDownList!$A$19,CntyQuery!$A$20:$CE$30,CB$1)","v":405},{"$f":"VLOOKUP(DropDownList!$A$19,CntyQuery!$A$20:$CE$30,CC$1)","v":155},{"$f":"VLOOKUP(DropDownList!$A$19,CntyQuery!$A$20:$CE$30,CD$1)","v":65},{"$f":"VLOOKUP(DropDownList!$A$19,CntyQuery!$A$20:$CE$30,CE$1)","v":98}]
[]
[]
["Census 1990 Data -          Query Name: CountySTF3Qry1"]
["NAME","FIPS","COUSUBFP","LandAcres","WaterAcres","HousingUnits90Cen","P01Persons90Cen","P02Families90Cen","P03Households90cen","H25HU<5yrs90cen","H25HU5to20yrs90cen","H25HU20to50yrs90cen","H25HU>50yrs90cen","H31Units0Bedroom90cen","H31Units1Bedroom90cen","H31Units2Bedroom90cen","H31Units3Bedroom90cen","H31Units4Bedroom90cen","H31Units5+Bedroom90cen","P80HI<5K","P80HI5Kto10K","P80HI10Kto15K","P80HI15Kto25K","P80HI25Kto35K","P80HI35Kto50K","P80HI50Kto75K","P80HI75Kto100K","P80HI>100K","P80AMedHI","P86HH<25HI<5K","P86HH<25HI5Kto10K","P86HH<25HI10Kto15K","P86HH<25HI15Kto25K","P86HH<25HI25Kto35K","P86HH<25HI35Kto50K","P86HH<25HI50Kto75K","P86HH<25HI75Kto100K","P86HH<25HI>100K","P86HH25to34HI<5K","P86HH25to34HI5Kto10K","P86HH25to34HI10Kto15K","P86HH25to34HI15Kto25K","P86HH25to34HI25Kto35K","P86HH25to34HI35Kto50K","P86HH25to34HI50Kto75K","P86HH25to34HI75Kto100K","P86HH25to34HI>100K","P86HH35to44HI<5K","P86HH35to44HI5Kto10K","P86HH35to44HI10Kto15K","P86HH35to44HI15Kto25K","P86HH35to44HI25Kto35K","P86HH35to44HI35Kto50K","P86HH35to44HI50Kto75K","P86HH35to44HI75Kto100K","P86HH35to44HI>100K","P86HH45to54HI<5K","P86HH45to54HI5Kto10K","P86HH45to54HI10Kto15K","P86HH45to54HI15Kto25K","P86HH45to54HI25Kto35K","P86HH45to54HI35Kto50K","P86HH45to54HI50Kto75K","P86HH45to54HI75Kto100K","P86HH45to54HI>100K","P86HH55to64HI<5K","P86HH55to64HI5Kto10K","P86HH55to64HI10Kto15K","P86HH55to64HI15Kto25K","P86HH55to64HI25Kto35K","P86HH55to64HI35Kto50K","P86HH55to64HI50Kto75K","P86HH55to64HI75Kto100K","P86HH55to64HI>100K","P86HH65to74HI<5K","P86HH65to74HI5Kto10K","P86HH65to74HI10Kto15K","P86HH65to74HI15Kto25K","P86HH65to74HI25Kto35K","P86HH65to74HI35Kto50K","P86HH65to74HI50Kto75K","P86HH65to74HI75Kto100K","P86HH65to74HI>100K","P86HH>75HI<5K","P86HH>75HI5Kto10K","P86HH>75HI10Kto15K","P86HH>75HI15Kto25K","P86HH>75HI25Kto35K","P86HH>75HI35Kto50K","P86HH>75HI50Kto75K","P86HH>75HI75Kto100K","P86HH>75HI>100K","P54SchlEnrlPrePrim","P54SchlEnrlElemThrHS","P54SchlEnrlCollege","P54NotEnrlInSch","P57Pop25andOver","P57LessThan9thGrade","P579thto12thNoDip","P57HSGrad","P57SomeCollege","P57AssocDeg","P57BachelDeg","P57GradorProfDeg","P57HSGradorHigher","P57CollGradorHigher","P42NativePop","P42ForeignBornPop","P42BornStateOfRes","P37NativePop2","P37ForeignBornPop2","P49DroveAlone","P49CarPooled","P49PublicTranspt","P49Walked","P49OtherMeans","P49WorkedAtHome","P80HHInc<10K","P80HHInc10to15K","P80HHInc15to25K","P80HHInc25to35K","P80HHInc35to50K","P80HHInc50to75K","P80HHInc75to100K","P80HHInc100to150K","P80HHInc>150K","H25YearStBlt89to90","H25YearStBlt85to88","H25YearStBlt80to84","H25YearStBlt70to79","H25YearStBlt60to69","H25YearStBlt50to59","H25YearStBlt40to49","H25YearStBlt39earlier","P107FamInc<10K","P107FamInc10to15K","P107FamInc15to25K","P107FamInc25to35K","P107FamInc35to50K","P107FamInc50to75K","P107FamInc75to100K","P107FamInc100to150K","P107FamInc>150K","P107AMedFamInc","P110NonFamInc<10K","P110NonFamInc10to15K","P110NonFamInc15to25K","P110NonFamInc25to35K","P110NonFamInc35to50K","P110NonFamInc50to75K","P110NonFamInc75to100K","P110NonFamInc100to150K","P110NonFamInc>150K","P110AMedNonFamInc","H16HU1Room","H16HU2Room","H16HU3Room","H16HU4Room","H16HU5Room","H16HU6Room","H16HU7Room","H16HU8Room","H16HU9+Room","H43GrossRnt<100","H43GrossRnt100to149","H43GrossRnt150to199","H43GrossRnt200to249","H43GrossRnt250to299","H43GrossRnt300to349","H43GrossRnt350to399","H43GrossRnt400to449","H43GrossRnt450to499","H43GrossRnt500to549","H43GrossRnt550to599","H43GrossRnt600to649","H43GrossRnt650to699","H43GrossRnt700to749","H43GrossRnt750to999","H43GrossRnt1000Plus","H43NoCashRent","H43MedGrossRent","H51GrossRnt<20PctHHInc","H51GrossRnt20to24PctHHInc","H51GrossRnt25to29PctHHInc","H51GrossRnt30to34PctHHInc","H51GrossRnt35PctOrMoreHHInc","H51GrossRntAsPctHHIncNotComp","H52HUwMtgMoOwnCst<200","H52HUwMtgMoOwnCst200to299","H52HUwMtgMoOwnCst300to399","H52HUwMtgMoOwnCst400to499","H52HUwMtgMoOwnCst500to599","H52HUwMtgMoOwnCst600to699","H52HUwMtgMoOwnCst700to799","H52HUwMtgMoOwnCst800to899","H52HUwMtgMoOwnCst900to999","H52HUwMtgMoOwnCst1000to1249","H52HUwMtgMoOwnCst1250to1499","H52HUwMtgMoOwnCst1500to1999","H52HUwMtgMoOwnCst2000More","H52HUwNoMtgMoOwnCst<100","H52HUwNoMtgMoOwnCst100to149","H52HUwNoMtgMoOwnCst150to199","H52HUwNoMtgMoOwnCst200to249","H52HUwNoMtgMoOwnCst250to299","H52HUwNoMtgMoOwnCst300to349","H52HUwNoMtgMoOwnCst350to399","H52HUwNoMtgMoOwnCst400More","H52AMedMoOwnCstWMortg","H52AMedMoOwnCstWNoMortg","H58HUwMtgMOC<20pHHInc","H58HUwMtgMOC20to24pHHInc","H58HUwMtgMOC25to29pHHInc","H58HUwMtgMOC30to34pHHInc","H58wMtgMOC>35pHHInc","H58HUwMtgMOCNotComp","H58HUwNoMtgMOC<20pHHInc","H58HUwNoMtgMOC20to24pHHInc","H58HUwNoMtgMOC25to29pHHInc","H58HUwNoMtgMOC30to34pHHInc","H58wNoMtgMOC>35pHHInc","H58HUwNoMtgMOCNotComp","H61OOHUVal<15k","H61OOHUVal15to19k","H61OOHUVal20to24k","H61OOHUVal25to29k","H61OOHUVal30to34k","H61OOHUVal35to39k","H61OOHUVal40to44k","H61OOHUVal45to49k","H61OOHUVal50to59k","H61OOHUVal60to74k","H61OOHUVal75to99k","H61OOHUVal100to124k","H61OOHUVal125to149k","H61OOHUVal150to174k","H61OOHUVal175to199k","H61OOHUVal200to249k","H61OOHUVal250to299k","H61OOHUVal300to399k","H61OOHUVal400to499k","H61OOHUVal500kOrMore","H61aOOHUMedVal"]
[{"$f":"VLOOKUP(DropDownList!$A$19,CntyQuery!$A$20:$CE$30,A$1)","v":"Laconia"},{"$f":"VLOOKUP(DropDownList!$A$19,CntyQuery!$A$37:$II$47,B$1)","v":{"$error":"#N/A"}},{"$f":"VLOOKUP(DropDownList!$A$19,CntyQuery!$A$37:$II$47,C$1)","v":{"$error":"#N/A"}},{"$f":"VLOOKUP(DropDownList!$A$19,CntyQuery!$A$37:$II$47,D$1)","v":{"$error":"#N/A"}},{"$f":"VLOOKUP(DropDownList!$A$19,CntyQuery!$A$37:$II$47,E$1)","v":{"$error":"#N/A"}},{"$f":"VLOOKUP(DropDownList!$A$19,CntyQuery!$A$37:$II$47,F$1)","v":{"$error":"#N/A"}},{"$f":"VLOOKUP(DropDownList!$A$19,CntyQuery!$A$37:$II$47,G$1)","v":{"$error":"#N/A"}},{"$f":"VLOOKUP(DropDownList!$A$19,CntyQuery!$A$37:$II$47,H$1)","v":{"$error":"#N/A"}},{"$f":"VLOOKUP(DropDownList!$A$19,CntyQuery!$A$37:$II$47,I$1)","v":{"$error":"#N/A"}},{"$f":"VLOOKUP(DropDownList!$A$19,CntyQuery!$A$37:$II$47,J$1)","v":{"$error":"#N/A"}},{"$f":"VLOOKUP(DropDownList!$A$19,CntyQuery!$A$37:$II$47,K$1)","v":{"$error":"#N/A"}},{"$f":"VLOOKUP(DropDownList!$A$19,CntyQuery!$A$37:$II$47,L$1)","v":{"$error":"#N/A"}},{"$f":"VLOOKUP(DropDownList!$A$19,CntyQuery!$A$37:$II$47,M$1)","v":{"$error":"#N/A"}},{"$f":"VLOOKUP(DropDownList!$A$19,CntyQuery!$A$37:$II$47,N$1)","v":{"$error":"#N/A"}},{"$f":"VLOOKUP(DropDownList!$A$19,CntyQuery!$A$37:$II$47,O$1)","v":{"$error":"#N/A"}},{"$f":"VLOOKUP(DropDownList!$A$19,CntyQuery!$A$37:$II$47,P$1)","v":{"$error":"#N/A"}},{"$f":"VLOOKUP(DropDownList!$A$19,CntyQuery!$A$37:$II$47,Q$1)","v":{"$error":"#N/A"}},{"$f":"VLOOKUP(DropDownList!$A$19,CntyQuery!$A$37:$II$47,R$1)","v":{"$error":"#N/A"}},{"$f":"VLOOKUP(DropDownList!$A$19,CntyQuery!$A$37:$II$47,S$1)","v":{"$error":"#N/A"}},{"$f":"VLOOKUP(DropDownList!$A$19,CntyQuery!$A$37:$II$47,T$1)","v":{"$error":"#N/A"}},{"$f":"VLOOKUP(DropDownList!$A$19,CntyQuery!$A$37:$II$47,U$1)","v":{"$error":"#N/A"}},{"$f":"VLOOKUP(DropDownList!$A$19,CntyQuery!$A$37:$II$47,V$1)","v":{"$error":"#N/A"}},{"$f":"VLOOKUP(DropDownList!$A$19,CntyQuery!$A$37:$II$47,W$1)","v":{"$error":"#N/A"}},{"$f":"VLOOKUP(DropDownList!$A$19,CntyQuery!$A$37:$II$47,X$1)","v":{"$error":"#N/A"}},{"$f":"VLOOKUP(DropDownList!$A$19,CntyQuery!$A$37:$II$47,Y$1)","v":{"$error":"#N/A"}},{"$f":"VLOOKUP(DropDownList!$A$19,CntyQuery!$A$37:$II$47,Z$1)","v":{"$error":"#N/A"}},{"$f":"VLOOKUP(DropDownList!$A$19,CntyQuery!$A$37:$II$47,AA$1)","v":{"$error":"#N/A"}},{"$f":"VLOOKUP(DropDownList!$A$19,CntyQuery!$A$37:$II$47,AB$1)","v":{"$error":"#N/A"}},{"$f":"VLOOKUP(DropDownList!$A$19,CntyQuery!$A$37:$II$47,AC$1)","v":{"$error":"#N/A"}},{"$f":"VLOOKUP(DropDownList!$A$19,CntyQuery!$A$37:$II$47,AD$1)","v":{"$error":"#N/A"}},{"$f":"VLOOKUP(DropDownList!$A$19,CntyQuery!$A$37:$II$47,AE$1)","v":{"$error":"#N/A"}},{"$f":"VLOOKUP(DropDownList!$A$19,CntyQuery!$A$37:$II$47,AF$1)","v":{"$error":"#N/A"}},{"$f":"VLOOKUP(DropDownList!$A$19,CntyQuery!$A$37:$II$47,AG$1)","v":{"$error":"#N/A"}},{"$f":"VLOOKUP(DropDownList!$A$19,CntyQuery!$A$37:$II$47,AH$1)","v":{"$error":"#N/A"}},{"$f":"VLOOKUP(DropDownList!$A$19,CntyQuery!$A$37:$II$47,AI$1)","v":{"$error":"#N/A"}},{"$f":"VLOOKUP(DropDownList!$A$19,CntyQuery!$A$37:$II$47,AJ$1)","v":{"$error":"#N/A"}},{"$f":"VLOOKUP(DropDownList!$A$19,CntyQuery!$A$37:$II$47,AK$1)","v":{"$error":"#N/A"}},{"$f":"VLOOKUP(DropDownList!$A$19,CntyQuery!$A$37:$II$47,AL$1)","v":{"$error":"#N/A"}},{"$f":"VLOOKUP(DropDownList!$A$19,CntyQuery!$A$37:$II$47,AM$1)","v":{"$error":"#N/A"}},{"$f":"VLOOKUP(DropDownList!$A$19,CntyQuery!$A$37:$II$47,AN$1)","v":{"$error":"#N/A"}},{"$f":"VLOOKUP(DropDownList!$A$19,CntyQuery!$A$37:$II$47,AO$1)","v":{"$error":"#N/A"}},{"$f":"VLOOKUP(DropDownList!$A$19,CntyQuery!$A$37:$II$47,AP$1)","v":{"$error":"#N/A"}},{"$f":"VLOOKUP(DropDownList!$A$19,CntyQuery!$A$37:$II$47,AQ$1)","v":{"$error":"#N/A"}},{"$f":"VLOOKUP(DropDownList!$A$19,CntyQuery!$A$37:$II$47,AR$1)","v":{"$error":"#N/A"}},{"$f":"VLOOKUP(DropDownList!$A$19,CntyQuery!$A$37:$II$47,AS$1)","v":{"$error":"#N/A"}},{"$f":"VLOOKUP(DropDownList!$A$19,CntyQuery!$A$37:$II$47,AT$1)","v":{"$error":"#N/A"}},{"$f":"VLOOKUP(DropDownList!$A$19,CntyQuery!$A$37:$II$47,AU$1)","v":{"$error":"#N/A"}},{"$f":"VLOOKUP(DropDownList!$A$19,CntyQuery!$A$37:$II$47,AV$1)","v":{"$error":"#N/A"}},{"$f":"VLOOKUP(DropDownList!$A$19,CntyQuery!$A$37:$II$47,AW$1)","v":{"$error":"#N/A"}},{"$f":"VLOOKUP(DropDownList!$A$19,CntyQuery!$A$37:$II$47,AX$1)","v":{"$error":"#N/A"}},{"$f":"VLOOKUP(DropDownList!$A$19,CntyQuery!$A$37:$II$47,AY$1)","v":{"$error":"#N/A"}},{"$f":"VLOOKUP(DropDownList!$A$19,CntyQuery!$A$37:$II$47,AZ$1)","v":{"$error":"#N/A"}},{"$f":"VLOOKUP(DropDownList!$A$19,CntyQuery!$A$37:$II$47,BA$1)","v":{"$error":"#N/A"}},{"$f":"VLOOKUP(DropDownList!$A$19,CntyQuery!$A$37:$II$47,BB$1)","v":{"$error":"#N/A"}},{"$f":"VLOOKUP(DropDownList!$A$19,CntyQuery!$A$37:$II$47,BC$1)","v":{"$error":"#N/A"}},{"$f":"VLOOKUP(DropDownList!$A$19,CntyQuery!$A$37:$II$47,BD$1)","v":{"$error":"#N/A"}},{"$f":"VLOOKUP(DropDownList!$A$19,CntyQuery!$A$37:$II$47,BE$1)","v":{"$error":"#N/A"}},{"$f":"VLOOKUP(DropDownList!$A$19,CntyQuery!$A$37:$II$47,BF$1)","v":{"$error":"#N/A"}},{"$f":"VLOOKUP(DropDownList!$A$19,CntyQuery!$A$37:$II$47,BG$1)","v":{"$error":"#N/A"}},{"$f":"VLOOKUP(DropDownList!$A$19,CntyQuery!$A$37:$II$47,BH$1)","v":{"$error":"#N/A"}},{"$f":"VLOOKUP(DropDownList!$A$19,CntyQuery!$A$37:$II$47,BI$1)","v":{"$error":"#N/A"}},{"$f":"VLOOKUP(DropDownList!$A$19,CntyQuery!$A$37:$II$47,BJ$1)","v":{"$error":"#N/A"}},{"$f":"VLOOKUP(DropDownList!$A$19,CntyQuery!$A$37:$II$47,BK$1)","v":{"$error":"#N/A"}},{"$f":"VLOOKUP(DropDownList!$A$19,CntyQuery!$A$37:$II$47,BL$1)","v":{"$error":"#N/A"}},{"$f":"VLOOKUP(DropDownList!$A$19,CntyQuery!$A$37:$II$47,BM$1)","v":{"$error":"#N/A"}},{"$f":"VLOOKUP(DropDownList!$A$19,CntyQuery!$A$37:$II$47,BN$1)","v":{"$error":"#N/A"}},{"$f":"VLOOKUP(DropDownList!$A$19,CntyQuery!$A$37:$II$47,BO$1)","v":{"$error":"#N/A"}},{"$f":"VLOOKUP(DropDownList!$A$19,CntyQuery!$A$37:$II$47,BP$1)","v":{"$error":"#N/A"}},{"$f":"VLOOKUP(DropDownList!$A$19,CntyQuery!$A$37:$II$47,BQ$1)","v":{"$error":"#N/A"}},{"$f":"VLOOKUP(DropDownList!$A$19,CntyQuery!$A$37:$II$47,BR$1)","v":{"$error":"#N/A"}},{"$f":"VLOOKUP(DropDownList!$A$19,CntyQuery!$A$37:$II$47,BS$1)","v":{"$error":"#N/A"}},{"$f":"VLOOKUP(DropDownList!$A$19,CntyQuery!$A$37:$II$47,BT$1)","v":{"$error":"#N/A"}},{"$f":"VLOOKUP(DropDownList!$A$19,CntyQuery!$A$37:$II$47,BU$1)","v":{"$error":"#N/A"}},{"$f":"VLOOKUP(DropDownList!$A$19,CntyQuery!$A$37:$II$47,BV$1)","v":{"$error":"#N/A"}},{"$f":"VLOOKUP(DropDownList!$A$19,CntyQuery!$A$37:$II$47,BW$1)","v":{"$error":"#N/A"}},{"$f":"VLOOKUP(DropDownList!$A$19,CntyQuery!$A$37:$II$47,BX$1)","v":{"$error":"#N/A"}},{"$f":"VLOOKUP(DropDownList!$A$19,CntyQuery!$A$37:$II$47,BY$1)","v":{"$error":"#N/A"}},{"$f":"VLOOKUP(DropDownList!$A$19,CntyQuery!$A$37:$II$47,BZ$1)","v":{"$error":"#N/A"}},{"$f":"VLOOKUP(DropDownList!$A$19,CntyQuery!$A$37:$II$47,CA$1)","v":{"$error":"#N/A"}},{"$f":"VLOOKUP(DropDownList!$A$19,CntyQuery!$A$37:$II$47,CB$1)","v":{"$error":"#N/A"}},{"$f":"VLOOKUP(DropDownList!$A$19,CntyQuery!$A$37:$II$47,CC$1)","v":{"$error":"#N/A"}},{"$f":"VLOOKUP(DropDownList!$A$19,CntyQuery!$A$37:$II$47,CD$1)","v":{"$error":"#N/A"}},{"$f":"VLOOKUP(DropDownList!$A$19,CntyQuery!$A$37:$II$47,CE$1)","v":{"$error":"#N/A"}},{"$f":"VLOOKUP(DropDownList!$A$19,CntyQuery!$A$37:$II$47,CF$1)","v":{"$error":"#N/A"}},{"$f":"VLOOKUP(DropDownList!$A$19,CntyQuery!$A$37:$II$47,CG$1)","v":{"$error":"#N/A"}},{"$f":"VLOOKUP(DropDownList!$A$19,CntyQuery!$A$37:$II$47,CH$1)","v":{"$error":"#N/A"}},{"$f":"VLOOKUP(DropDownList!$A$19,CntyQuery!$A$37:$II$47,CI$1)","v":{"$error":"#N/A"}},{"$f":"VLOOKUP(DropDownList!$A$19,CntyQuery!$A$37:$II$47,CJ$1)","v":{"$error":"#N/A"}},{"$f":"VLOOKUP(DropDownList!$A$19,CntyQuery!$A$37:$II$47,CK$1)","v":{"$error":"#N/A"}},{"$f":"VLOOKUP(DropDownList!$A$19,CntyQuery!$A$37:$II$47,CL$1)","v":{"$error":"#N/A"}},{"$f":"VLOOKUP(DropDownList!$A$19,CntyQuery!$A$37:$II$47,CM$1)","v":{"$error":"#N/A"}},{"$f":"VLOOKUP(DropDownList!$A$19,CntyQuery!$A$37:$II$47,CN$1)","v":{"$error":"#N/A"}},{"$f":"VLOOKUP(DropDownList!$A$19,CntyQuery!$A$37:$II$47,CO$1)","v":{"$error":"#N/A"}},{"$f":"VLOOKUP(DropDownList!$A$19,CntyQuery!$A$37:$II$47,CP$1)","v":{"$error":"#N/A"}},{"$f":"VLOOKUP(DropDownList!$A$19,CntyQuery!$A$37:$II$47,CQ$1)","v":{"$error":"#N/A"}},{"$f":"VLOOKUP(DropDownList!$A$19,CntyQuery!$A$37:$II$47,CR$1)","v":{"$error":"#N/A"}},{"$f":"VLOOKUP(DropDownList!$A$19,CntyQuery!$A$37:$II$47,CS$1)","v":{"$error":"#N/A"}},{"$f":"VLOOKUP(DropDownList!$A$19,CntyQuery!$A$37:$II$47,CT$1)","v":{"$error":"#N/A"}},{"$f":"VLOOKUP(DropDownList!$A$19,CntyQuery!$A$37:$II$47,CU$1)","v":{"$error":"#N/A"}},{"$f":"VLOOKUP(DropDownList!$A$19,CntyQuery!$A$37:$II$47,CV$1)","v":{"$error":"#N/A"}},{"$f":"VLOOKUP(DropDownList!$A$19,CntyQuery!$A$37:$II$47,CW$1)","v":{"$error":"#N/A"}},{"$f":"VLOOKUP(DropDownList!$A$19,CntyQuery!$A$37:$II$47,CX$1)","v":{"$error":"#N/A"}},{"$f":"VLOOKUP(DropDownList!$A$19,CntyQuery!$A$37:$II$47,CY$1)","v":{"$error":"#N/A"}},{"$f":"VLOOKUP(DropDownList!$A$19,CntyQuery!$A$37:$II$47,CZ$1)","v":{"$error":"#N/A"}},{"$f":"VLOOKUP(DropDownList!$A$19,CntyQuery!$A$37:$II$47,DA$1)","v":{"$error":"#N/A"}},{"$f":"VLOOKUP(DropDownList!$A$19,CntyQuery!$A$37:$II$47,DB$1)","v":{"$error":"#N/A"}},{"$f":"VLOOKUP(DropDownList!$A$19,CntyQuery!$A$37:$II$47,DC$1)","v":{"$error":"#N/A"}},{"$f":"VLOOKUP(DropDownList!$A$19,CntyQuery!$A$37:$II$47,DD$1)","v":{"$error":"#N/A"}},{"$f":"VLOOKUP(DropDownList!$A$19,CntyQuery!$A$37:$II$47,DE$1)","v":{"$error":"#N/A"}},{"$f":"VLOOKUP(DropDownList!$A$19,CntyQuery!$A$37:$II$47,DF$1)","v":{"$error":"#N/A"}},{"$f":"VLOOKUP(DropDownList!$A$19,CntyQuery!$A$37:$II$47,DG$1)","v":{"$error":"#N/A"}},{"$f":"VLOOKUP(DropDownList!$A$19,CntyQuery!$A$37:$II$47,DH$1)","v":{"$error":"#N/A"}},{"$f":"VLOOKUP(DropDownList!$A$19,CntyQuery!$A$37:$II$47,DI$1)","v":{"$error":"#N/A"}},{"$f":"VLOOKUP(DropDownList!$A$19,CntyQuery!$A$37:$II$47,DJ$1)","v":{"$error":"#N/A"}},{"$f":"VLOOKUP(DropDownList!$A$19,CntyQuery!$A$37:$II$47,DK$1)","v":{"$error":"#N/A"}},{"$f":"VLOOKUP(DropDownList!$A$19,CntyQuery!$A$37:$II$47,DL$1)","v":{"$error":"#N/A"}},{"$f":"VLOOKUP(DropDownList!$A$19,CntyQuery!$A$37:$II$47,DM$1)","v":{"$error":"#N/A"}},{"$f":"VLOOKUP(DropDownList!$A$19,CntyQuery!$A$37:$II$47,DN$1)","v":{"$error":"#N/A"}},{"$f":"VLOOKUP(DropDownList!$A$19,CntyQuery!$A$37:$II$47,DO$1)","v":{"$error":"#N/A"}},{"$f":"VLOOKUP(DropDownList!$A$19,CntyQuery!$A$37:$II$47,DP$1)","v":{"$error":"#N/A"}},{"$f":"VLOOKUP(DropDownList!$A$19,CntyQuery!$A$37:$II$47,DQ$1)","v":{"$error":"#N/A"}},{"$f":"VLOOKUP(DropDownList!$A$19,CntyQuery!$A$37:$II$47,DR$1)","v":{"$error":"#N/A"}},{"$f":"VLOOKUP(DropDownList!$A$19,CntyQuery!$A$37:$II$47,DS$1)","v":{"$error":"#N/A"}},{"$f":"VLOOKUP(DropDownList!$A$19,CntyQuery!$A$37:$II$47,DT$1)","v":{"$error":"#N/A"}},{"$f":"VLOOKUP(DropDownList!$A$19,CntyQuery!$A$37:$II$47,DU$1)","v":{"$error":"#N/A"}},{"$f":"VLOOKUP(DropDownList!$A$19,CntyQuery!$A$37:$II$47,DV$1)","v":{"$error":"#N/A"}},{"$f":"VLOOKUP(DropDownList!$A$19,CntyQuery!$A$37:$II$47,DW$1)","v":{"$error":"#N/A"}},{"$f":"VLOOKUP(DropDownList!$A$19,CntyQuery!$A$37:$II$47,DX$1)","v":{"$error":"#N/A"}},{"$f":"VLOOKUP(DropDownList!$A$19,CntyQuery!$A$37:$II$47,DY$1)","v":{"$error":"#N/A"}},{"$f":"VLOOKUP(DropDownList!$A$19,CntyQuery!$A$37:$II$47,DZ$1)","v":{"$error":"#N/A"}},{"$f":"VLOOKUP(DropDownList!$A$19,CntyQuery!$A$37:$II$47,EA$1)","v":{"$error":"#N/A"}},{"$f":"VLOOKUP(DropDownList!$A$19,CntyQuery!$A$37:$II$47,EB$1)","v":{"$error":"#N/A"}},{"$f":"VLOOKUP(DropDownList!$A$19,CntyQuery!$A$37:$II$47,EC$1)","v":{"$error":"#N/A"}},{"$f":"VLOOKUP(DropDownList!$A$19,CntyQuery!$A$37:$II$47,ED$1)","v":{"$error":"#N/A"}},{"$f":"VLOOKUP(DropDownList!$A$19,CntyQuery!$A$37:$II$47,EE$1)","v":{"$error":"#N/A"}},{"$f":"VLOOKUP(DropDownList!$A$19,CntyQuery!$A$37:$II$47,EF$1)","v":{"$error":"#N/A"}},{"$f":"VLOOKUP(DropDownList!$A$19,CntyQuery!$A$37:$II$47,EG$1)","v":{"$error":"#N/A"}},{"$f":"VLOOKUP(DropDownList!$A$19,CntyQuery!$A$37:$II$47,EH$1)","v":{"$error":"#N/A"}},{"$f":"VLOOKUP(DropDownList!$A$19,CntyQuery!$A$37:$II$47,EI$1)","v":{"$error":"#N/A"}},{"$f":"VLOOKUP(DropDownList!$A$19,CntyQuery!$A$37:$II$47,EJ$1)","v":{"$error":"#N/A"}},{"$f":"VLOOKUP(DropDownList!$A$19,CntyQuery!$A$37:$II$47,EK$1)","v":{"$error":"#N/A"}},{"$f":"VLOOKUP(DropDownList!$A$19,CntyQuery!$A$37:$II$47,EL$1)","v":{"$error":"#N/A"}},{"$f":"VLOOKUP(DropDownList!$A$19,CntyQuery!$A$37:$II$47,EM$1)","v":{"$error":"#N/A"}},{"$f":"VLOOKUP(DropDownList!$A$19,CntyQuery!$A$37:$II$47,EN$1)","v":{"$error":"#N/A"}},{"$f":"VLOOKUP(DropDownList!$A$19,CntyQuery!$A$37:$II$47,EO$1)","v":{"$error":"#N/A"}},{"$f":"VLOOKUP(DropDownList!$A$19,CntyQuery!$A$37:$II$47,EP$1)","v":{"$error":"#N/A"}},{"$f":"VLOOKUP(DropDownList!$A$19,CntyQuery!$A$37:$II$47,EQ$1)","v":{"$error":"#N/A"}},{"$f":"VLOOKUP(DropDownList!$A$19,CntyQuery!$A$37:$II$47,ER$1)","v":{"$error":"#N/A"}},{"$f":"VLOOKUP(DropDownList!$A$19,CntyQuery!$A$37:$II$47,ES$1)","v":{"$error":"#N/A"}},{"$f":"VLOOKUP(DropDownList!$A$19,CntyQuery!$A$37:$II$47,ET$1)","v":{"$error":"#N/A"}},{"$f":"VLOOKUP(DropDownList!$A$19,CntyQuery!$A$37:$II$47,EU$1)","v":{"$error":"#N/A"}},{"$f":"VLOOKUP(DropDownList!$A$19,CntyQuery!$A$37:$II$47,EV$1)","v":{"$error":"#N/A"}},{"$f":"VLOOKUP(DropDownList!$A$19,CntyQuery!$A$37:$II$47,EW$1)","v":{"$error":"#N/A"}},{"$f":"VLOOKUP(DropDownList!$A$19,CntyQuery!$A$37:$II$47,EX$1)","v":{"$error":"#N/A"}},{"$f":"VLOOKUP(DropDownList!$A$19,CntyQuery!$A$37:$II$47,EY$1)","v":{"$error":"#N/A"}},{"$f":"VLOOKUP(DropDownList!$A$19,CntyQuery!$A$37:$II$47,EZ$1)","v":{"$error":"#N/A"}},{"$f":"VLOOKUP(DropDownList!$A$19,CntyQuery!$A$37:$II$47,FA$1)","v":{"$error":"#N/A"}},{"$f":"VLOOKUP(DropDownList!$A$19,CntyQuery!$A$37:$II$47,FB$1)","v":{"$error":"#N/A"}},{"$f":"VLOOKUP(DropDownList!$A$19,CntyQuery!$A$37:$II$47,FC$1)","v":{"$error":"#N/A"}},{"$f":"VLOOKUP(DropDownList!$A$19,CntyQuery!$A$37:$II$47,FD$1)","v":{"$error":"#N/A"}},{"$f":"VLOOKUP(DropDownList!$A$19,CntyQuery!$A$37:$II$47,FE$1)","v":{"$error":"#N/A"}},{"$f":"VLOOKUP(DropDownList!$A$19,CntyQuery!$A$37:$II$47,FF$1)","v":{"$error":"#N/A"}},{"$f":"VLOOKUP(DropDownList!$A$19,CntyQuery!$A$37:$II$47,FG$1)","v":{"$error":"#N/A"}},{"$f":"VLOOKUP(DropDownList!$A$19,CntyQuery!$A$37:$II$47,FH$1)","v":{"$error":"#N/A"}},{"$f":"VLOOKUP(DropDownList!$A$19,CntyQuery!$A$37:$II$47,FI$1)","v":{"$error":"#N/A"}},{"$f":"VLOOKUP(DropDownList!$A$19,CntyQuery!$A$37:$II$47,FJ$1)","v":{"$error":"#N/A"}},{"$f":"VLOOKUP(DropDownList!$A$19,CntyQuery!$A$37:$II$47,FK$1)","v":{"$error":"#N/A"}},{"$f":"VLOOKUP(DropDownList!$A$19,CntyQuery!$A$37:$II$47,FL$1)","v":{"$error":"#N/A"}},{"$f":"VLOOKUP(DropDownList!$A$19,CntyQuery!$A$37:$II$47,FM$1)","v":{"$error":"#N/A"}},{"$f":"VLOOKUP(DropDownList!$A$19,CntyQuery!$A$37:$II$47,FN$1)","v":{"$error":"#N/A"}},{"$f":"VLOOKUP(DropDownList!$A$19,CntyQuery!$A$37:$II$47,FO$1)","v":{"$error":"#N/A"}},{"$f":"VLOOKUP(DropDownList!$A$19,CntyQuery!$A$37:$II$47,FP$1)","v":{"$error":"#N/A"}},{"$f":"VLOOKUP(DropDownList!$A$19,CntyQuery!$A$37:$II$47,FQ$1)","v":{"$error":"#N/A"}},{"$f":"VLOOKUP(DropDownList!$A$19,CntyQuery!$A$37:$II$47,FR$1)","v":{"$error":"#N/A"}},{"$f":"VLOOKUP(DropDownList!$A$19,CntyQuery!$A$37:$II$47,FS$1)","v":{"$error":"#N/A"}},{"$f":"VLOOKUP(DropDownList!$A$19,CntyQuery!$A$37:$II$47,FT$1)","v":{"$error":"#N/A"}},{"$f":"VLOOKUP(DropDownList!$A$19,CntyQuery!$A$37:$II$47,FU$1)","v":{"$error":"#N/A"}},{"$f":"VLOOKUP(DropDownList!$A$19,CntyQuery!$A$37:$II$47,FV$1)","v":{"$error":"#N/A"}},{"$f":"VLOOKUP(DropDownList!$A$19,CntyQuery!$A$37:$II$47,FW$1)","v":{"$error":"#N/A"}},{"$f":"VLOOKUP(DropDownList!$A$19,CntyQuery!$A$37:$II$47,FX$1)","v":{"$error":"#N/A"}},{"$f":"VLOOKUP(DropDownList!$A$19,CntyQuery!$A$37:$II$47,FY$1)","v":{"$error":"#N/A"}},{"$f":"VLOOKUP(DropDownList!$A$19,CntyQuery!$A$37:$II$47,FZ$1)","v":{"$error":"#N/A"}},{"$f":"VLOOKUP(DropDownList!$A$19,CntyQuery!$A$37:$II$47,GA$1)","v":{"$error":"#N/A"}},{"$f":"VLOOKUP(DropDownList!$A$19,CntyQuery!$A$37:$II$47,GB$1)","v":{"$error":"#N/A"}},{"$f":"VLOOKUP(DropDownList!$A$19,CntyQuery!$A$37:$II$47,GC$1)","v":{"$error":"#N/A"}},{"$f":"VLOOKUP(DropDownList!$A$19,CntyQuery!$A$37:$II$47,GD$1)","v":{"$error":"#N/A"}},{"$f":"VLOOKUP(DropDownList!$A$19,CntyQuery!$A$37:$II$47,GE$1)","v":{"$error":"#N/A"}},{"$f":"VLOOKUP(DropDownList!$A$19,CntyQuery!$A$37:$II$47,GF$1)","v":{"$error":"#N/A"}},{"$f":"VLOOKUP(DropDownList!$A$19,CntyQuery!$A$37:$II$47,GG$1)","v":{"$error":"#N/A"}},{"$f":"VLOOKUP(DropDownList!$A$19,CntyQuery!$A$37:$II$47,GH$1)","v":{"$error":"#N/A"}},{"$f":"VLOOKUP(DropDownList!$A$19,CntyQuery!$A$37:$II$47,GI$1)","v":{"$error":"#N/A"}},{"$f":"VLOOKUP(DropDownList!$A$19,CntyQuery!$A$37:$II$47,GJ$1)","v":{"$error":"#N/A"}},{"$f":"VLOOKUP(DropDownList!$A$19,CntyQuery!$A$37:$II$47,GK$1)","v":{"$error":"#N/A"}},{"$f":"VLOOKUP(DropDownList!$A$19,CntyQuery!$A$37:$II$47,GL$1)","v":{"$error":"#N/A"}},{"$f":"VLOOKUP(DropDownList!$A$19,CntyQuery!$A$37:$II$47,GM$1)","v":{"$error":"#N/A"}},{"$f":"VLOOKUP(DropDownList!$A$19,CntyQuery!$A$37:$II$47,GN$1)","v":{"$error":"#N/A"}},{"$f":"VLOOKUP(DropDownList!$A$19,CntyQuery!$A$37:$II$47,GO$1)","v":{"$error":"#N/A"}},{"$f":"VLOOKUP(DropDownList!$A$19,CntyQuery!$A$37:$II$47,GP$1)","v":{"$error":"#N/A"}},{"$f":"VLOOKUP(DropDownList!$A$19,CntyQuery!$A$37:$II$47,GQ$1)","v":{"$error":"#N/A"}},{"$f":"VLOOKUP(DropDownList!$A$19,CntyQuery!$A$37:$II$47,GR$1)","v":{"$error":"#N/A"}},{"$f":"VLOOKUP(DropDownList!$A$19,CntyQuery!$A$37:$II$47,GS$1)","v":{"$error":"#N/A"}},{"$f":"VLOOKUP(DropDownList!$A$19,CntyQuery!$A$37:$II$47,GT$1)","v":{"$error":"#N/A"}},{"$f":"VLOOKUP(DropDownList!$A$19,CntyQuery!$A$37:$II$47,GU$1)","v":{"$error":"#N/A"}},{"$f":"VLOOKUP(DropDownList!$A$19,CntyQuery!$A$37:$II$47,GV$1)","v":{"$error":"#N/A"}},{"$f":"VLOOKUP(DropDownList!$A$19,CntyQuery!$A$37:$II$47,GW$1)","v":{"$error":"#N/A"}},{"$f":"VLOOKUP(DropDownList!$A$19,CntyQuery!$A$37:$II$47,GX$1)","v":{"$error":"#N/A"}},{"$f":"VLOOKUP(DropDownList!$A$19,CntyQuery!$A$37:$II$47,GY$1)","v":{"$error":"#N/A"}},{"$f":"VLOOKUP(DropDownList!$A$19,CntyQuery!$A$37:$II$47,GZ$1)","v":{"$error":"#N/A"}},{"$f":"VLOOKUP(DropDownList!$A$19,CntyQuery!$A$37:$II$47,HA$1)","v":{"$error":"#N/A"}},{"$f":"VLOOKUP(DropDownList!$A$19,CntyQuery!$A$37:$II$47,HB$1)","v":{"$error":"#N/A"}},{"$f":"VLOOKUP(DropDownList!$A$19,CntyQuery!$A$37:$II$47,HC$1)","v":{"$error":"#N/A"}},{"$f":"VLOOKUP(DropDownList!$A$19,CntyQuery!$A$37:$II$47,HD$1)","v":{"$error":"#N/A"}},{"$f":"VLOOKUP(DropDownList!$A$19,CntyQuery!$A$37:$II$47,HE$1)","v":{"$error":"#N/A"}},{"$f":"VLOOKUP(DropDownList!$A$19,CntyQuery!$A$37:$II$47,HF$1)","v":{"$error":"#N/A"}},{"$f":"VLOOKUP(DropDownList!$A$19,CntyQuery!$A$37:$II$47,HG$1)","v":{"$error":"#N/A"}},{"$f":"VLOOKUP(DropDownList!$A$19,CntyQuery!$A$37:$II$47,HH$1)","v":{"$error":"#N/A"}},{"$f":"VLOOKUP(DropDownList!$A$19,CntyQuery!$A$37:$II$47,HI$1)","v":{"$error":"#N/A"}},{"$f":"VLOOKUP(DropDownList!$A$19,CntyQuery!$A$37:$II$47,HJ$1)","v":{"$error":"#N/A"}},{"$f":"VLOOKUP(DropDownList!$A$19,CntyQuery!$A$37:$II$47,HK$1)","v":{"$error":"#N/A"}},{"$f":"VLOOKUP(DropDownList!$A$19,CntyQuery!$A$37:$II$47,HL$1)","v":{"$error":"#N/A"}},{"$f":"VLOOKUP(DropDownList!$A$19,CntyQuery!$A$37:$II$47,HM$1)","v":{"$error":"#N/A"}},{"$f":"VLOOKUP(DropDownList!$A$19,CntyQuery!$A$37:$II$47,HN$1)","v":{"$error":"#N/A"}},{"$f":"VLOOKUP(DropDownList!$A$19,CntyQuery!$A$37:$II$47,HO$1)","v":{"$error":"#N/A"}},{"$f":"VLOOKUP(DropDownList!$A$19,CntyQuery!$A$37:$II$47,HP$1)","v":{"$error":"#N/A"}},{"$f":"VLOOKUP(DropDownList!$A$19,CntyQuery!$A$37:$II$47,HQ$1)","v":{"$error":"#N/A"}},{"$f":"VLOOKUP(DropDownList!$A$19,CntyQuery!$A$37:$II$47,HR$1)","v":{"$error":"#N/A"}},{"$f":"VLOOKUP(DropDownList!$A$19,CntyQuery!$A$37:$II$47,HS$1)","v":{"$error":"#N/A"}},{"$f":"VLOOKUP(DropDownList!$A$19,CntyQuery!$A$37:$II$47,HT$1)","v":{"$error":"#N/A"}},{"$f":"VLOOKUP(DropDownList!$A$19,CntyQuery!$A$37:$II$47,HU$1)","v":{"$error":"#N/A"}},{"$f":"VLOOKUP(DropDownList!$A$19,CntyQuery!$A$37:$II$47,HV$1)","v":{"$error":"#N/A"}},{"$f":"VLOOKUP(DropDownList!$A$19,CntyQuery!$A$37:$II$47,HW$1)","v":{"$error":"#N/A"}},{"$f":"VLOOKUP(DropDownList!$A$19,CntyQuery!$A$37:$II$47,HX$1)","v":{"$error":"#N/A"}},{"$f":"VLOOKUP(DropDownList!$A$19,CntyQuery!$A$37:$II$47,HY$1)","v":{"$error":"#N/A"}},{"$f":"VLOOKUP(DropDownList!$A$19,CntyQuery!$A$37:$II$47,HZ$1)","v":{"$error":"#N/A"}},{"$f":"VLOOKUP(DropDownList!$A$19,CntyQuery!$A$37:$II$47,IA$1)","v":{"$error":"#N/A"}},{"$f":"VLOOKUP(DropDownList!$A$19,CntyQuery!$A$37:$II$47,IB$1)","v":{"$error":"#N/A"}},{"$f":"VLOOKUP(DropDownList!$A$19,CntyQuery!$A$37:$II$47,IC$1)","v":{"$error":"#N/A"}},{"$f":"VLOOKUP(DropDownList!$A$19,CntyQuery!$A$37:$II$47,ID$1)","v":{"$error":"#N/A"}},{"$f":"VLOOKUP(DropDownList!$A$19,CntyQuery!$A$37:$II$47,IE$1)","v":{"$error":"#N/A"}},{"$f":"VLOOKUP(DropDownList!$A$19,CntyQuery!$A$37:$II$47,IF$1)","v":{"$error":"#N/A"}},{"$f":"VLOOKUP(DropDownList!$A$19,CntyQuery!$A$37:$II$47,IG$1)","v":{"$error":"#N/A"}},{"$f":"VLOOKUP(DropDownList!$A$19,CntyQuery!$A$37:$II$47,IH$1)","v":{"$error":"#N/A"}},{"$f":"VLOOKUP(DropDownList!$A$19,CntyQuery!$A$37:$II$47,II$1)","v":{"$error":"#N/A"}}]
[]
[]
[]
["TOWN_NAME","FIPS","TOWNCNTY","COUSUB","POP80","POP90CDCEN","POP2000CEN","POP2010CEN","POP2020CEN","POP2025-Proj","POP2030-Proj","POP2035-Proj","SF80","MF80","MH80","SF81","MF81","MH81","SF82","MF82","MH82","SF83","MF83","MH83","SF84_OSP","MF84_OSP","MH84_OSP","SF85_OSP","MF85_OSP","MH85_OSP","SF86_OSP","MF86_OSP","MH86_OSP","SF87_OSP","MF87_OSP","MH87_OSP","SF88_OSP","MF88_OSP","MH88_OSP","SF89_OSP","MF89_OSP","MH89_OSP","SF90_OSP","MF90_OSP","MH90_OSP","SF91_OSP","MF91_OSP","MH91_OSP","SF92_OSP","MF92_OSP","MH92_OSP","SF93_OSP","MF93_OSP","MH93_OSP","SF94_OSP","MF94_OSP","MH94_OSP","SF95_OSP","MF95_OSP","MH95_OSP","SF96_OSP","MF96_OSP","MH96_OSP","SF97_OSP","MF97_OSP","MH97_OSP","SF98_OSP","MF98_OSP","MH98_OSP","SF99_OSP","MF99_OSP","MH99_OSP","SF00_OSP","MF00_OSP","MH00_OSP","SF01_OSP","MF01_OSP","MH01_OSP","SF02_OSP","MF02_OSP","MH02_OSP","SF03_OSP","MF03_OSP","MH03_OSP","SF04_OSP","MF04_OSP","MH04_OSP","SF05_OSP","MF05_OSP","MH05_OSP","SF06_OSP","MF06_OSP","MH06_OSP","SF07_OSP","MF07_OSP","MH07_OSP","SF08_OSP","MF08_OSP","MH08_OSP","SF09_OSP","MF09_OSP","MH09_OSP","SF10_OSP","MF10_OSP","MH10_OSP","SF11_OSP","MF11_OSP","MH11_OSP","SF12_OSP","MF12_OSP","MH12_OSP","SF13_OSP","MF13_OSP","MH13_OSP","SF14_OSP","MF14_OSP","MH14_OSP","SF15_OSP","MF15_OSP","MH15_OSP","SF16_OSP","MF16_OSP","MH16_OSP","SF17_OSP","MF17_OSP","MH17_OSP","SF18_OSP","MF18_OSP","MH18_OSP","SF19_OSP","MF19_OSP","MH19_OSP","SF20_OSP","MF20_OSP","MH20_OSP","SF20 Census_OSP","MF20 Census OSP","MH20 Census_OSP","SF21_OSP","MF21_OSP","MH21_OSP","COMMENTS","CNTY_CODE"]
[{"$f":"VLOOKUP(DropDownList!$A$19,CntyQuery!$A$53:$FZ$64,A$1)","v":"Laconia"},{"$f":"VLOOKUP(DropDownList!$A$19,CntyQuery!$A$53:$FZ$64,B$1)","v":1035},{"$f":"VLOOKUP(DropDownList!$A$19,CntyQuery!$A$53:$FZ$64,C$1)","v":107},{"$f":"VLOOKUP(DropDownList!$A$19,CntyQuery!$A$53:$FZ$64,D$1)","v":"40180"},{"$f":"VLOOKUP(DropDownList!$A$19,CntyQuery!$A$53:$FZ$64,E$1)","v":15575},{"$f":"VLOOKUP(DropDownList!$A$19,CntyQuery!$A$53:$FZ$64,F$1)","v":15743},{"$f":"VLOOKUP(DropDownList!$A$19,CntyQuery!$A$53:$FZ$64,G$1)","v":16411},{"$f":"VLOOKUP(DropDownList!$A$19,CntyQuery!$A$53:$FZ$64,H$1)","v":15951},{"$f":"VLOOKUP(DropDownList!$A$19,CntyQuery!$A$53:$FZ$64,I$1)","v":16871},{"$f":"VLOOKUP(DropDownList!$A$19,CntyQuery!$A$53:$FZ$64,J$1)","v":17577},{"$f":"VLOOKUP(DropDownList!$A$19,CntyQuery!$A$53:$FZ$64,K$1)","v":18177},{"$f":"VLOOKUP(DropDownList!$A$19,CntyQuery!$A$53:$FZ$64,L$1)","v":18504},{"$f":"VLOOKUP(DropDownList!$A$19,CntyQuery!$A$53:$FZ$64,M$1)","v":32},{"$f":"VLOOKUP(DropDownList!$A$19,CntyQuery!$A$53:$FZ$64,N$1)","v":5},{"$f":"VLOOKUP(DropDownList!$A$19,CntyQuery!$A$53:$FZ$64,O$1)","v":1},{"$f":"VLOOKUP(DropDownList!$A$19,CntyQuery!$A$53:$FZ$64,P$1)","v":17},{"$f":"VLOOKUP(DropDownList!$A$19,CntyQuery!$A$53:$FZ$64,Q$1)","v":67},{"$f":"VLOOKUP(DropDownList!$A$19,CntyQuery!$A$53:$FZ$64,R$1)","v":2},{"$f":"VLOOKUP(DropDownList!$A$19,CntyQuery!$A$53:$FZ$64,S$1)","v":25},{"$f":"VLOOKUP(DropDownList!$A$19,CntyQuery!$A$53:$FZ$64,T$1)","v":148},{"$f":"VLOOKUP(DropDownList!$A$19,CntyQuery!$A$53:$FZ$64,U$1)","v":0},{"$f":"VLOOKUP(DropDownList!$A$19,CntyQuery!$A$53:$FZ$64,V$1)","v":7},{"$f":"VLOOKUP(DropDownList!$A$19,CntyQuery!$A$53:$FZ$64,W$1)","v":-11},{"$f":"VLOOKUP(DropDownList!$A$19,CntyQuery!$A$53:$FZ$64,X$1)","v":0},{"$f":"VLOOKUP(DropDownList!$A$19,CntyQuery!$A$53:$FZ$64,Y$1)","v":52},{"$f":"VLOOKUP(DropDownList!$A$19,CntyQuery!$A$53:$FZ$64,Z$1)","v":24},{"$f":"VLOOKUP(DropDownList!$A$19,CntyQuery!$A$53:$FZ$64,AA$1)","v":3},{"$f":"VLOOKUP(DropDownList!$A$19,CntyQuery!$A$53:$FZ$64,AB$1)","v":85},{"$f":"VLOOKUP(DropDownList!$A$19,CntyQuery!$A$53:$FZ$64,AC$1)","v":164},{"$f":"VLOOKUP(DropDownList!$A$19,CntyQuery!$A$53:$FZ$64,AD$1)","v":0},{"$f":"VLOOKUP(DropDownList!$A$19,CntyQuery!$A$53:$FZ$64,AE$1)","v":132},{"$f":"VLOOKUP(DropDownList!$A$19,CntyQuery!$A$53:$FZ$64,AF$1)","v":277},{"$f":"VLOOKUP(DropDownList!$A$19,CntyQuery!$A$53:$FZ$64,AG$1)","v":0},{"$f":"VLOOKUP(DropDownList!$A$19,CntyQuery!$A$53:$FZ$64,AH$1)","v":110},{"$f":"VLOOKUP(DropDownList!$A$19,CntyQuery!$A$53:$FZ$64,AI$1)","v":134},{"$f":"VLOOKUP(DropDownList!$A$19,CntyQuery!$A$53:$FZ$64,AJ$1)","v":0},{"$f":"VLOOKUP(DropDownList!$A$19,CntyQuery!$A$53:$FZ$64,AK$1)","v":95},{"$f":"VLOOKUP(DropDownList!$A$19,CntyQuery!$A$53:$FZ$64,AL$1)","v":116},{"$f":"VLOOKUP(DropDownList!$A$19,CntyQuery!$A$53:$FZ$64,AM$1)","v":0},{"$f":"VLOOKUP(DropDownList!$A$19,CntyQuery!$A$53:$FZ$64,AN$1)","v":27},{"$f":"VLOOKUP(DropDownList!$A$19,CntyQuery!$A$53:$FZ$64,AO$1)","v":8},{"$f":"VLOOKUP(DropDownList!$A$19,CntyQuery!$A$53:$FZ$64,AP$1)","v":0},{"$f":"VLOOKUP(DropDownList!$A$19,CntyQuery!$A$53:$FZ$64,AQ$1)","v":19},{"$f":"VLOOKUP(DropDownList!$A$19,CntyQuery!$A$53:$FZ$64,AR$1)","v":12},{"$f":"VLOOKUP(DropDownList!$A$19,CntyQuery!$A$53:$FZ$64,AS$1)","v":0},{"$f":"VLOOKUP(DropDownList!$A$19,CntyQuery!$A$53:$FZ$64,AT$1)","v":10},{"$f":"VLOOKUP(DropDownList!$A$19,CntyQuery!$A$53:$FZ$64,AU$1)","v":0},{"$f":"VLOOKUP(DropDownList!$A$19,CntyQuery!$A$53:$FZ$64,AV$1)","v":10},{"$f":"VLOOKUP(DropDownList!$A$19,CntyQuery!$A$53:$FZ$64,AW$1)","v":31},{"$f":"VLOOKUP(DropDownList!$A$19,CntyQuery!$A$53:$FZ$64,AX$1)","v":29},{"$f":"VLOOKUP(DropDownList!$A$19,CntyQuery!$A$53:$FZ$64,AY$1)","v":5},{"$f":"VLOOKUP(DropDownList!$A$19,CntyQuery!$A$53:$FZ$64,AZ$1)","v":8},{"$f":"VLOOKUP(DropDownList!$A$19,CntyQuery!$A$53:$FZ$64,BA$1)","v":52},{"$f":"VLOOKUP(DropDownList!$A$19,CntyQuery!$A$53:$FZ$64,BB$1)","v":27},{"$f":"VLOOKUP(DropDownList!$A$19,CntyQuery!$A$53:$FZ$64,BC$1)","v":35},{"$f":"VLOOKUP(DropDownList!$A$19,CntyQuery!$A$53:$FZ$64,BD$1)","v":14},{"$f":"VLOOKUP(DropDownList!$A$19,CntyQuery!$A$53:$FZ$64,BE$1)","v":20},{"$f":"VLOOKUP(DropDownList!$A$19,CntyQuery!$A$53:$FZ$64,BF$1)","v":19},{"$f":"VLOOKUP(DropDownList!$A$19,CntyQuery!$A$53:$FZ$64,BG$1)","v":5},{"$f":"VLOOKUP(DropDownList!$A$19,CntyQuery!$A$53:$FZ$64,BH$1)","v":19},{"$f":"VLOOKUP(DropDownList!$A$19,CntyQuery!$A$53:$FZ$64,BI$1)","v":17},{"$f":"VLOOKUP(DropDownList!$A$19,CntyQuery!$A$53:$FZ$64,BJ$1)","v":-6},{"$f":"VLOOKUP(DropDownList!$A$19,CntyQuery!$A$53:$FZ$64,BK$1)","v":23},{"$f":"VLOOKUP(DropDownList!$A$19,CntyQuery!$A$53:$FZ$64,BL$1)","v":26},{"$f":"VLOOKUP(DropDownList!$A$19,CntyQuery!$A$53:$FZ$64,BM$1)","v":-26},{"$f":"VLOOKUP(DropDownList!$A$19,CntyQuery!$A$53:$FZ$64,BN$1)","v":6},{"$f":"VLOOKUP(DropDownList!$A$19,CntyQuery!$A$53:$FZ$64,BO$1)","v":34},{"$f":"VLOOKUP(DropDownList!$A$19,CntyQuery!$A$53:$FZ$64,BP$1)","v":-5},{"$f":"VLOOKUP(DropDownList!$A$19,CntyQuery!$A$53:$FZ$64,BQ$1)","v":6},{"$f":"VLOOKUP(DropDownList!$A$19,CntyQuery!$A$53:$FZ$64,BR$1)","v":33},{"$f":"VLOOKUP(DropDownList!$A$19,CntyQuery!$A$53:$FZ$64,BS$1)","v":0},{"$f":"VLOOKUP(DropDownList!$A$19,CntyQuery!$A$53:$FZ$64,BT$1)","v":22},{"$f":"VLOOKUP(DropDownList!$A$19,CntyQuery!$A$53:$FZ$64,BU$1)","v":47},{"$f":"VLOOKUP(DropDownList!$A$19,CntyQuery!$A$53:$FZ$64,BV$1)","v":8},{"$f":"VLOOKUP(DropDownList!$A$19,CntyQuery!$A$53:$FZ$64,BW$1)","v":26},{"$f":"VLOOKUP(DropDownList!$A$19,CntyQuery!$A$53:$FZ$64,BX$1)","v":60},{"$f":"VLOOKUP(DropDownList!$A$19,CntyQuery!$A$53:$FZ$64,BY$1)","v":4},{"$f":"VLOOKUP(DropDownList!$A$19,CntyQuery!$A$53:$FZ$64,BZ$1)","v":1},{"$f":"VLOOKUP(DropDownList!$A$19,CntyQuery!$A$53:$FZ$64,CA$1)","v":72},{"$f":"VLOOKUP(DropDownList!$A$19,CntyQuery!$A$53:$FZ$64,CB$1)","v":10},{"$f":"VLOOKUP(DropDownList!$A$19,CntyQuery!$A$53:$FZ$64,CC$1)","v":0},{"$f":"VLOOKUP(DropDownList!$A$19,CntyQuery!$A$53:$FZ$64,CD$1)","v":139},{"$f":"VLOOKUP(DropDownList!$A$19,CntyQuery!$A$53:$FZ$64,CE$1)","v":0},{"$f":"VLOOKUP(DropDownList!$A$19,CntyQuery!$A$53:$FZ$64,CF$1)","v":1},{"$f":"VLOOKUP(DropDownList!$A$19,CntyQuery!$A$53:$FZ$64,CG$1)","v":166},{"$f":"VLOOKUP(DropDownList!$A$19,CntyQuery!$A$53:$FZ$64,CH$1)","v":0},{"$f":"VLOOKUP(DropDownList!$A$19,CntyQuery!$A$53:$FZ$64,CI$1)","v":0},{"$f":"VLOOKUP(DropDownList!$A$19,CntyQuery!$A$53:$FZ$64,CJ$1)","v":36},{"$f":"VLOOKUP(DropDownList!$A$19,CntyQuery!$A$53:$FZ$64,CK$1)","v":72},{"$f":"VLOOKUP(DropDownList!$A$19,CntyQuery!$A$53:$FZ$64,CL$1)","v":0},{"$f":"VLOOKUP(DropDownList!$A$19,CntyQuery!$A$53:$FZ$64,CM$1)","v":57},{"$f":"VLOOKUP(DropDownList!$A$19,CntyQuery!$A$53:$FZ$64,CN$1)","v":80},{"$f":"VLOOKUP(DropDownList!$A$19,CntyQuery!$A$53:$FZ$64,CO$1)","v":0},{"$f":"VLOOKUP(DropDownList!$A$19,CntyQuery!$A$53:$FZ$64,CP$1)","v":51},{"$f":"VLOOKUP(DropDownList!$A$19,CntyQuery!$A$53:$FZ$64,CQ$1)","v":14},{"$f":"VLOOKUP(DropDownList!$A$19,CntyQuery!$A$53:$FZ$64,CR$1)","v":0},{"$f":"VLOOKUP(DropDownList!$A$19,CntyQuery!$A$53:$FZ$64,CS$1)","v":30},{"$f":"VLOOKUP(DropDownList!$A$19,CntyQuery!$A$53:$FZ$64,CT$1)","v":47},{"$f":"VLOOKUP(DropDownList!$A$19,CntyQuery!$A$53:$FZ$64,CU$1)","v":0},{"$f":"VLOOKUP(DropDownList!$A$19,CntyQuery!$A$53:$FZ$64,CV$1)","v":32},{"$f":"VLOOKUP(DropDownList!$A$19,CntyQuery!$A$53:$FZ$64,CW$1)","v":-3},{"$f":"VLOOKUP(DropDownList!$A$19,CntyQuery!$A$53:$FZ$64,CX$1)","v":0},{"$f":"VLOOKUP(DropDownList!$A$19,CntyQuery!$A$53:$FZ$64,CY$1)","v":54},{"$f":"VLOOKUP(DropDownList!$A$19,CntyQuery!$A$53:$FZ$64,CZ$1)","v":-4},{"$f":"VLOOKUP(DropDownList!$A$19,CntyQuery!$A$53:$FZ$64,DA$1)","v":0},{"$f":"VLOOKUP(DropDownList!$A$19,CntyQuery!$A$53:$FZ$64,DB$1)","v":36},{"$f":"VLOOKUP(DropDownList!$A$19,CntyQuery!$A$53:$FZ$64,DC$1)","v":10},{"$f":"VLOOKUP(DropDownList!$A$19,CntyQuery!$A$53:$FZ$64,DD$1)","v":0},{"$f":"VLOOKUP(DropDownList!$A$19,CntyQuery!$A$53:$FZ$64,DE$1)","v":27},{"$f":"VLOOKUP(DropDownList!$A$19,CntyQuery!$A$53:$FZ$64,DF$1)","v":4},{"$f":"VLOOKUP(DropDownList!$A$19,CntyQuery!$A$53:$FZ$64,DG$1)","v":0},{"$f":"VLOOKUP(DropDownList!$A$19,CntyQuery!$A$53:$FZ$64,DH$1)","v":1},{"$f":"VLOOKUP(DropDownList!$A$19,CntyQuery!$A$53:$FZ$64,DI$1)","v":50},{"$f":"VLOOKUP(DropDownList!$A$19,CntyQuery!$A$53:$FZ$64,DJ$1)","v":0},{"$f":"VLOOKUP(DropDownList!$A$19,CntyQuery!$A$53:$FZ$64,DK$1)","v":34},{"$f":"VLOOKUP(DropDownList!$A$19,CntyQuery!$A$53:$FZ$64,DL$1)","v":64},{"$f":"VLOOKUP(DropDownList!$A$19,CntyQuery!$A$53:$FZ$64,DM$1)","v":0},{"$f":"VLOOKUP(DropDownList!$A$19,CntyQuery!$A$53:$FZ$64,DN$1)","v":32},{"$f":"VLOOKUP(DropDownList!$A$19,CntyQuery!$A$53:$FZ$64,DO$1)","v":138},{"$f":"VLOOKUP(DropDownList!$A$19,CntyQuery!$A$53:$FZ$64,DP$1)","v":0},{"$f":"VLOOKUP(DropDownList!$A$19,CntyQuery!$A$53:$FZ$64,DQ$1)","v":26},{"$f":"VLOOKUP(DropDownList!$A$19,CntyQuery!$A$53:$FZ$64,DR$1)","v":10},{"$f":"VLOOKUP(DropDownList!$A$19,CntyQuery!$A$53:$FZ$64,DS$1)","v":1},{"$f":"VLOOKUP(DropDownList!$A$19,CntyQuery!$A$53:$FZ$64,DT$1)","v":18},{"$f":"VLOOKUP(DropDownList!$A$19,CntyQuery!$A$53:$FZ$64,DU$1)","v":5},{"$f":"VLOOKUP(DropDownList!$A$19,CntyQuery!$A$53:$FZ$64,DV$1)","v":3},{"$f":"VLOOKUP(DropDownList!$A$19,CntyQuery!$A$53:$FZ$64,DW$1)","v":14},{"$f":"VLOOKUP(DropDownList!$A$19,CntyQuery!$A$53:$FZ$64,DX$1)","v":9},{"$f":"VLOOKUP(DropDownList!$A$19,CntyQuery!$A$53:$FZ$64,DY$1)","v":1},{"$f":"VLOOKUP(DropDownList!$A$19,CntyQuery!$A$53:$FZ$64,DZ$1)","v":12},{"$f":"VLOOKUP(DropDownList!$A$19,CntyQuery!$A$53:$FZ$64,EA$1)","v":4},{"$f":"VLOOKUP(DropDownList!$A$19,CntyQuery!$A$53:$FZ$64,EB$1)","v":0},{"$f":"VLOOKUP(DropDownList!$A$19,CntyQuery!$A$53:$FZ$64,EC$1)","v":44},{"$f":"VLOOKUP(DropDownList!$A$19,CntyQuery!$A$53:$FZ$64,ED$1)","v":24},{"$f":"VLOOKUP(DropDownList!$A$19,CntyQuery!$A$53:$FZ$64,EE$1)","v":19},{"$f":"VLOOKUP(DropDownList!$A$19,CntyQuery!$A$53:$FZ$64,EF$1)","v":0},{"$f":"VLOOKUP(DropDownList!$A$19,CntyQuery!$A$53:$FZ$64,EG$1)","v":0},{"$f":"VLOOKUP(DropDownList!$A$19,CntyQuery!$A$53:$FZ$64,EH$1)","v":0},{"$f":"VLOOKUP(DropDownList!$A$19,CntyQuery!$A$53:$FZ$64,EI$1)","v":26},{"$f":"VLOOKUP(DropDownList!$A$19,CntyQuery!$A$53:$FZ$64,EJ$1)","v":55},{"$f":"VLOOKUP(DropDownList!$A$19,CntyQuery!$A$53:$FZ$64,EK$1)","v":0},{"$f":"VLOOKUP(DropDownList!$A$19,CntyQuery!$A$53:$FZ$64,EL$1)","v":"2002 Did not submit data to OEP. Used Census Data"},{"$f":"VLOOKUP(DropDownList!$A$19,CntyQuery!$A$53:$FZ$64,EM$1)","v":1}]
[]
[]
["NH Employment Data","Query Name: DPQryEmploymentByCnty"]
["AreaName","COUNTYCODE","TOTP & G2001","TOT2001","GOODPRO2001","SERVICEPROMAN2001","WAGEP & G2001","WAGETOT2001","WAGEGOODPRO2001","WAGESERVICEPRO2001","TOTP & G2002","TOT2002","GOODPRO2002","SERVICEPROMAN2002","WAGEP & G2002","WAGETOT2002","WAGEGOODPRO2002","WAGESERVICEPRO2002","TOTP & G2003","TOT2003","GOODPRO2003","SERVICEPROMAN2003","WAGEP & G2003","WAGETOT2003","WAGEGOODPRO2003","WAGESERVICEPRO2003","TOTP & G2004","TOT2004","GOODPRO2004","SERVICEPROMAN2004","WAGEP & G2004","WAGETOT2004","WAGEGOODPRO2004","WAGESERVICEPRO2004","TOTP & G2005","TOT2005","GOODPRO2005","SERVICEPROMAN2005","WAGEP & G2005","WAGETOT2005","WAGEGOODPRO2005","WAGESERVICEPRO2005","TOTP & G2006","TOT2006","GOODPRO2006","SERVICEPROMAN2006","WAGEP & G2006","WAGETOT2006","WAGEGOODPRO2006","WAGESERVICEPRO2006","TOTP & G2007","TOT2007","GOODPRO2007","SERVICEPROMAN2007","WAGEP & G2007","WAGETOT2007","WAGEGOODPRO2007","WAGESERVICEPRO2007","TOTP & G2008","TOT2008","GOODPRO2008","SERVICEPROMAN2008","WAGEP & G2008","WAGETOT2008","WAGEGOODPRO2008","WAGESERVICEPRO2008","TOTP & G2009","TOT2009","GOODPRO2009","SERVICEPROMAN2009","WAGEP & G2009","WAGETOT2009","WAGEGOODPRO2009","WAGESERVICEPRO2009","TOTP & G2010","TOT2010","GOODPRO2010","SERVICEPROMAN2010","WAGEP & G2010","WAGETOT2010","WAGEGOODPRO2010","WAGESERVICEPRO2010","TOTP & G2011","TOT2011","GOODPRO2011","SERVICEPROMAN2011","WAGEP & G2011","WAGETOT2011","WAGEGOODPRO2011","WAGESERVICEPRO2011","TOTP & G2012","TOT2012","GOODPRO2012","SERVICEPROMAN2012","WAGEP & G2012","WAGETOT2012","WAGEGOODPRO2012","WAGESERVICEPRO2012","TOTP & G2013","TOT2013","GOODPRO2013","SERVICEPROMAN2013","WAGEP & G2013","WAGETOT2013","WAGEGOODPRO2013","WAGESERVICEPRO2013","TOTP & G2014","TOT2014","GOODPRO2014","SERVICEPROMAN2014","WAGEP & G2014","WAGETOT2014","WAGEGOODPRO2014","WAGESERVICEPRO2014","TOTP & G2015","TOT2015","GOODPRO2015","SERVICEPROMAN2015","WAGEP & G2015","WAGETOT2015","WAGEGOODPRO2015","WAGESERVICEPRO2015","TOTP & G2016","TOT2016","GOODPRO2016","SERVICEPROMAN2016","WAGEP & G2016","WAGETOT2016","WAGEGOODPRO2016","WAGESERVICEPRO2016","TOTP & G2017","TOT2017","GOODPRO2017","SERVICEPROMAN2017","WAGEP & G2017","WAGETOT2017","WAGEGOODPRO2017","WAGESERVICEPRO2017","TOTP & G2018","TOT2018","GOODPRO2018","SERVICEPROMAN2018","WAGEP & G2018","WAGETOT2018","WAGEGOODPRO2018","WAGESERVICEPRO2018","TOTP & G2019","TOT2019","TOTGov2019","GOODPRO2019","SERVICEPROMAN2019","WAGEP & G2019","WAGETOT2019","WAGEGov2019","WAGEGOODPRO2019","WAGESERVICEPRO2019","TOTP & G2020","TOT2020","TOTGov2020","GOODPRO2020","SERVICEPROMAN2020","WAGEP & G2020","WAGETOT2020","WAGEGov2020","WAGEGOODPRO2020","WAGESERVICEPRO2020","TOTP & G2021","TOT2021","TOTGov2021","GOODPRO2021","SERVICEPROMAN2021","WAGEP & G2021","WAGETOT2021","WAGEGov2021","WAGEGOODPRO2021","WAGESERVICEPRO2021","TOTP & G2022","TOT2022","TOTGov2022","GOODPRO2022","SERVICEPROMAN2022","WAGEP & G2022","WAGETOT2022","WAGEGov2022","WAGEGOODPRO2022","WAGESERVICEPRO2022","SummaryLevel"]
[{"$f":"VLOOKUP(DropDownList!$A$19,CntyQuery!$A$53:$GZ$64,A$1)","v":"Laconia"},{"$f":"VLOOKUP(DropDownList!$A$19,CntyQuery!$A$75:$GZ$85,B$1)","v":1},{"$f":"VLOOKUP(DropDownList!$A$19,CntyQuery!$A$75:$GZ$85,C$1)","v":11173},{"$f":"VLOOKUP(DropDownList!$A$19,CntyQuery!$A$75:$GZ$85,D$1)","v":9667},{"$f":"VLOOKUP(DropDownList!$A$19,CntyQuery!$A$75:$GZ$85,E$1)","v":2988},{"$f":"VLOOKUP(DropDownList!$A$19,CntyQuery!$A$75:$GZ$85,F$1)","v":6679},{"$f":"VLOOKUP(DropDownList!$A$19,CntyQuery!$A$75:$GZ$85,G$1)","v":588.16999999999996},{"$f":"VLOOKUP(DropDownList!$A$19,CntyQuery!$A$75:$GZ$85,H$1)","v":582.5},{"$f":"VLOOKUP(DropDownList!$A$19,CntyQuery!$A$75:$GZ$85,I$1)","v":683.4},{"$f":"VLOOKUP(DropDownList!$A$19,CntyQuery!$A$75:$GZ$85,J$1)","v":537.37},{"$f":"VLOOKUP(DropDownList!$A$19,CntyQuery!$A$75:$GZ$85,K$1)","v":10794},{"$f":"VLOOKUP(DropDownList!$A$19,CntyQuery!$A$75:$GZ$85,L$1)","v":9255},{"$f":"VLOOKUP(DropDownList!$A$19,CntyQuery!$A$75:$GZ$85,M$1)","v":2508},{"$f":"VLOOKUP(DropDownList!$A$19,CntyQuery!$A$75:$GZ$85,N$1)","v":6747},{"$f":"VLOOKUP(DropDownList!$A$19,CntyQuery!$A$75:$GZ$85,O$1)","v":605.79},{"$f":"VLOOKUP(DropDownList!$A$19,CntyQuery!$A$75:$GZ$85,P$1)","v":597.80999999999995},{"$f":"VLOOKUP(DropDownList!$A$19,CntyQuery!$A$75:$GZ$85,Q$1)","v":729.18},{"$f":"VLOOKUP(DropDownList!$A$19,CntyQuery!$A$75:$GZ$85,R$1)","v":548.97},{"$f":"VLOOKUP(DropDownList!$A$19,CntyQuery!$A$75:$GZ$85,S$1)","v":10672},{"$f":"VLOOKUP(DropDownList!$A$19,CntyQuery!$A$75:$GZ$85,T$1)","v":9075},{"$f":"VLOOKUP(DropDownList!$A$19,CntyQuery!$A$75:$GZ$85,U$1)","v":2328},{"$f":"VLOOKUP(DropDownList!$A$19,CntyQuery!$A$75:$GZ$85,V$1)","v":6748},{"$f":"VLOOKUP(DropDownList!$A$19,CntyQuery!$A$75:$GZ$85,W$1)","v":623.02},{"$f":"VLOOKUP(DropDownList!$A$19,CntyQuery!$A$75:$GZ$85,X$1)","v":613.75},{"$f":"VLOOKUP(DropDownList!$A$19,CntyQuery!$A$75:$GZ$85,Y$1)","v":749.5},{"$f":"VLOOKUP(DropDownList!$A$19,CntyQuery!$A$75:$GZ$85,Z$1)","v":566.91999999999996},{"$f":"VLOOKUP(DropDownList!$A$19,CntyQuery!$A$75:$GZ$85,AA$1)","v":10694},{"$f":"VLOOKUP(DropDownList!$A$19,CntyQuery!$A$75:$GZ$85,AB$1)","v":9162},{"$f":"VLOOKUP(DropDownList!$A$19,CntyQuery!$A$75:$GZ$85,AC$1)","v":2515},{"$f":"VLOOKUP(DropDownList!$A$19,CntyQuery!$A$75:$GZ$85,AD$1)","v":6647},{"$f":"VLOOKUP(DropDownList!$A$19,CntyQuery!$A$75:$GZ$85,AE$1)","v":666.65},{"$f":"VLOOKUP(DropDownList!$A$19,CntyQuery!$A$75:$GZ$85,AF$1)","v":650.61},{"$f":"VLOOKUP(DropDownList!$A$19,CntyQuery!$A$75:$GZ$85,AG$1)","v":786.16},{"$f":"VLOOKUP(DropDownList!$A$19,CntyQuery!$A$75:$GZ$85,AH$1)","v":599.33000000000004},{"$f":"VLOOKUP(DropDownList!$A$19,CntyQuery!$A$75:$GZ$85,AI$1)","v":10662},{"$f":"VLOOKUP(DropDownList!$A$19,CntyQuery!$A$75:$GZ$85,AJ$1)","v":9108},{"$f":"VLOOKUP(DropDownList!$A$19,CntyQuery!$A$75:$GZ$85,AK$1)","v":2644},{"$f":"VLOOKUP(DropDownList!$A$19,CntyQuery!$A$75:$GZ$85,AL$1)","v":6465},{"$f":"VLOOKUP(DropDownList!$A$19,CntyQuery!$A$75:$GZ$85,AM$1)","v":679.56},{"$f":"VLOOKUP(DropDownList!$A$19,CntyQuery!$A$75:$GZ$85,AN$1)","v":673.11},{"$f":"VLOOKUP(DropDownList!$A$19,CntyQuery!$A$75:$GZ$85,AO$1)","v":791.83},{"$f":"VLOOKUP(DropDownList!$A$19,CntyQuery!$A$75:$GZ$85,AP$1)","v":624.55999999999995},{"$f":"VLOOKUP(DropDownList!$A$19,CntyQuery!$A$75:$GZ$85,AQ$1)","v":10638},{"$f":"VLOOKUP(DropDownList!$A$19,CntyQuery!$A$75:$GZ$85,AR$1)","v":9046},{"$f":"VLOOKUP(DropDownList!$A$19,CntyQuery!$A$75:$GZ$85,AS$1)","v":2562},{"$f":"VLOOKUP(DropDownList!$A$19,CntyQuery!$A$75:$GZ$85,AT$1)","v":6484},{"$f":"VLOOKUP(DropDownList!$A$19,CntyQuery!$A$75:$GZ$85,AU$1)","v":705.37},{"$f":"VLOOKUP(DropDownList!$A$19,CntyQuery!$A$75:$GZ$85,AV$1)","v":698.97},{"$f":"VLOOKUP(DropDownList!$A$19,CntyQuery!$A$75:$GZ$85,AW$1)","v":841.62},{"$f":"VLOOKUP(DropDownList!$A$19,CntyQuery!$A$75:$GZ$85,AX$1)","v":642.6},{"$f":"VLOOKUP(DropDownList!$A$19,CntyQuery!$A$75:$GZ$85,AY$1)","v":10367},{"$f":"VLOOKUP(DropDownList!$A$19,CntyQuery!$A$75:$GZ$85,AZ$1)","v":8841},{"$f":"VLOOKUP(DropDownList!$A$19,CntyQuery!$A$75:$GZ$85,BA$1)","v":2334},{"$f":"VLOOKUP(DropDownList!$A$19,CntyQuery!$A$75:$GZ$85,BB$1)","v":6507},{"$f":"VLOOKUP(DropDownList!$A$19,CntyQuery!$A$75:$GZ$85,BC$1)","v":723.77},{"$f":"VLOOKUP(DropDownList!$A$19,CntyQuery!$A$75:$GZ$85,BD$1)","v":713.96},{"$f":"VLOOKUP(DropDownList!$A$19,CntyQuery!$A$75:$GZ$85,BE$1)","v":864.73},{"$f":"VLOOKUP(DropDownList!$A$19,CntyQuery!$A$75:$GZ$85,BF$1)","v":659.87},{"$f":"VLOOKUP(DropDownList!$A$19,CntyQuery!$A$75:$GZ$85,BG$1)","v":10043},{"$f":"VLOOKUP(DropDownList!$A$19,CntyQuery!$A$75:$GZ$85,BH$1)","v":8522},{"$f":"VLOOKUP(DropDownList!$A$19,CntyQuery!$A$75:$GZ$85,BI$1)","v":2183},{"$f":"VLOOKUP(DropDownList!$A$19,CntyQuery!$A$75:$GZ$85,BJ$1)","v":6339},{"$f":"VLOOKUP(DropDownList!$A$19,CntyQuery!$A$75:$GZ$85,BK$1)","v":757.94},{"$f":"VLOOKUP(DropDownList!$A$19,CntyQuery!$A$75:$GZ$85,BL$1)","v":746.94},{"$f":"VLOOKUP(DropDownList!$A$19,CntyQuery!$A$75:$GZ$85,BM$1)","v":908.64},{"$f":"VLOOKUP(DropDownList!$A$19,CntyQuery!$A$75:$GZ$85,BN$1)","v":691.25},{"$f":"VLOOKUP(DropDownList!$A$19,CntyQuery!$A$75:$GZ$85,BO$1)","v":9545},{"$f":"VLOOKUP(DropDownList!$A$19,CntyQuery!$A$75:$GZ$85,BP$1)","v":8047},{"$f":"VLOOKUP(DropDownList!$A$19,CntyQuery!$A$75:$GZ$85,BQ$1)","v":1829},{"$f":"VLOOKUP(DropDownList!$A$19,CntyQuery!$A$75:$GZ$85,BR$1)","v":6218},{"$f":"VLOOKUP(DropDownList!$A$19,CntyQuery!$A$75:$GZ$85,BS$1)","v":763.23},{"$f":"VLOOKUP(DropDownList!$A$19,CntyQuery!$A$75:$GZ$85,BT$1)","v":751.21},{"$f":"VLOOKUP(DropDownList!$A$19,CntyQuery!$A$75:$GZ$85,BU$1)","v":893.63},{"$f":"VLOOKUP(DropDownList!$A$19,CntyQuery!$A$75:$GZ$85,BV$1)","v":709.32},{"$f":"VLOOKUP(DropDownList!$A$19,CntyQuery!$A$75:$GZ$85,BW$1)","v":9322},{"$f":"VLOOKUP(DropDownList!$A$19,CntyQuery!$A$75:$GZ$85,BX$1)","v":7924},{"$f":"VLOOKUP(DropDownList!$A$19,CntyQuery!$A$75:$GZ$85,BY$1)","v":1619},{"$f":"VLOOKUP(DropDownList!$A$19,CntyQuery!$A$75:$GZ$85,BZ$1)","v":6304},{"$f":"VLOOKUP(DropDownList!$A$19,CntyQuery!$A$75:$GZ$85,CA$1)","v":771.69},{"$f":"VLOOKUP(DropDownList!$A$19,CntyQuery!$A$75:$GZ$85,CB$1)","v":765.42},{"$f":"VLOOKUP(DropDownList!$A$19,CntyQuery!$A$75:$GZ$85,CC$1)","v":920.17},{"$f":"VLOOKUP(DropDownList!$A$19,CntyQuery!$A$75:$GZ$85,CD$1)","v":725.67},{"$f":"VLOOKUP(DropDownList!$A$19,CntyQuery!$A$75:$GZ$85,CE$1)","v":9357},{"$f":"VLOOKUP(DropDownList!$A$19,CntyQuery!$A$75:$GZ$85,CF$1)","v":8006},{"$f":"VLOOKUP(DropDownList!$A$19,CntyQuery!$A$75:$GZ$85,CG$1)","v":1625},{"$f":"VLOOKUP(DropDownList!$A$19,CntyQuery!$A$75:$GZ$85,CH$1)","v":6380},{"$f":"VLOOKUP(DropDownList!$A$19,CntyQuery!$A$75:$GZ$85,CI$1)","v":788.52},{"$f":"VLOOKUP(DropDownList!$A$19,CntyQuery!$A$75:$GZ$85,CJ$1)","v":784.83},{"$f":"VLOOKUP(DropDownList!$A$19,CntyQuery!$A$75:$GZ$85,CK$1)","v":932.15},{"$f":"VLOOKUP(DropDownList!$A$19,CntyQuery!$A$75:$GZ$85,CL$1)","v":747.31},{"$f":"VLOOKUP(DropDownList!$A$19,CntyQuery!$A$75:$GZ$85,CM$1)","v":9542},{"$f":"VLOOKUP(DropDownList!$A$19,CntyQuery!$A$75:$GZ$85,CN$1)","v":8242},{"$f":"VLOOKUP(DropDownList!$A$19,CntyQuery!$A$75:$GZ$85,CO$1)","v":1661},{"$f":"VLOOKUP(DropDownList!$A$19,CntyQuery!$A$75:$GZ$85,CP$1)","v":6581},{"$f":"VLOOKUP(DropDownList!$A$19,CntyQuery!$A$75:$GZ$85,CQ$1)","v":797.33},{"$f":"VLOOKUP(DropDownList!$A$19,CntyQuery!$A$75:$GZ$85,CR$1)","v":796.43},{"$f":"VLOOKUP(DropDownList!$A$19,CntyQuery!$A$75:$GZ$85,CS$1)","v":933.69},{"$f":"VLOOKUP(DropDownList!$A$19,CntyQuery!$A$75:$GZ$85,CT$1)","v":761.79},{"$f":"VLOOKUP(DropDownList!$A$19,CntyQuery!$A$75:$GZ$85,CU$1)","v":9506},{"$f":"VLOOKUP(DropDownList!$A$19,CntyQuery!$A$75:$GZ$85,CV$1)","v":8240},{"$f":"VLOOKUP(DropDownList!$A$19,CntyQuery!$A$75:$GZ$85,CW$1)","v":1776},{"$f":"VLOOKUP(DropDownList!$A$19,CntyQuery!$A$75:$GZ$85,CX$1)","v":6464},{"$f":"VLOOKUP(DropDownList!$A$19,CntyQuery!$A$75:$GZ$85,CY$1)","v":814.31},{"$f":"VLOOKUP(DropDownList!$A$19,CntyQuery!$A$75:$GZ$85,CZ$1)","v":815.1},{"$f":"VLOOKUP(DropDownList!$A$19,CntyQuery!$A$75:$GZ$85,DA$1)","v":934.46},{"$f":"VLOOKUP(DropDownList!$A$19,CntyQuery!$A$75:$GZ$85,DB$1)","v":782.3},{"$f":"VLOOKUP(DropDownList!$A$19,CntyQuery!$A$75:$GZ$85,DC$1)","v":9327},{"$f":"VLOOKUP(DropDownList!$A$19,CntyQuery!$A$75:$GZ$85,DD$1)","v":8056},{"$f":"VLOOKUP(DropDownList!$A$19,CntyQuery!$A$75:$GZ$85,DE$1)","v":1776},{"$f":"VLOOKUP(DropDownList!$A$19,CntyQuery!$A$75:$GZ$85,DF$1)","v":6280},{"$f":"VLOOKUP(DropDownList!$A$19,CntyQuery!$A$75:$GZ$85,DG$1)","v":854.39},{"$f":"VLOOKUP(DropDownList!$A$19,CntyQuery!$A$75:$GZ$85,DH$1)","v":858.23},{"$f":"VLOOKUP(DropDownList!$A$19,CntyQuery!$A$75:$GZ$85,DI$1)","v":956.72},{"$f":"VLOOKUP(DropDownList!$A$19,CntyQuery!$A$75:$GZ$85,DJ$1)","v":830.37},{"$f":"VLOOKUP(DropDownList!$A$19,CntyQuery!$A$75:$GZ$85,DK$1)","v":9378},{"$f":"VLOOKUP(DropDownList!$A$19,CntyQuery!$A$75:$GZ$85,DL$1)","v":8123},{"$f":"VLOOKUP(DropDownList!$A$19,CntyQuery!$A$75:$GZ$85,DM$1)","v":1758},{"$f":"VLOOKUP(DropDownList!$A$19,CntyQuery!$A$75:$GZ$85,DN$1)","v":6364},{"$f":"VLOOKUP(DropDownList!$A$19,CntyQuery!$A$75:$GZ$85,DO$1)","v":879.19},{"$f":"VLOOKUP(DropDownList!$A$19,CntyQuery!$A$75:$GZ$85,DP$1)","v":884.84},{"$f":"VLOOKUP(DropDownList!$A$19,CntyQuery!$A$75:$GZ$85,DQ$1)","v":1006.54},{"$f":"VLOOKUP(DropDownList!$A$19,CntyQuery!$A$75:$GZ$85,DR$1)","v":851.22},{"$f":"VLOOKUP(DropDownList!$A$19,CntyQuery!$A$75:$GZ$85,DS$1)","v":9226},{"$f":"VLOOKUP(DropDownList!$A$19,CntyQuery!$A$75:$GZ$85,DT$1)","v":7976},{"$f":"VLOOKUP(DropDownList!$A$19,CntyQuery!$A$75:$GZ$85,DU$1)","v":1753},{"$f":"VLOOKUP(DropDownList!$A$19,CntyQuery!$A$75:$GZ$85,DV$1)","v":6223},{"$f":"VLOOKUP(DropDownList!$A$19,CntyQuery!$A$75:$GZ$85,DW$1)","v":906.63},{"$f":"VLOOKUP(DropDownList!$A$19,CntyQuery!$A$75:$GZ$85,DX$1)","v":913.75},{"$f":"VLOOKUP(DropDownList!$A$19,CntyQuery!$A$75:$GZ$85,DY$1)","v":1022.5},{"$f":"VLOOKUP(DropDownList!$A$19,CntyQuery!$A$75:$GZ$85,DZ$1)","v":883.12},{"$f":"VLOOKUP(DropDownList!$A$19,CntyQuery!$A$75:$GZ$85,EA$1)","v":9253},{"$f":"VLOOKUP(DropDownList!$A$19,CntyQuery!$A$75:$GZ$85,EB$1)","v":8010},{"$f":"VLOOKUP(DropDownList!$A$19,CntyQuery!$A$75:$GZ$85,EC$1)","v":1805},{"$f":"VLOOKUP(DropDownList!$A$19,CntyQuery!$A$75:$GZ$85,ED$1)","v":6205},{"$f":"VLOOKUP(DropDownList!$A$19,CntyQuery!$A$75:$GZ$85,EE$1)","v":934.56},{"$f":"VLOOKUP(DropDownList!$A$19,CntyQuery!$A$75:$GZ$85,EF$1)","v":944.33},{"$f":"VLOOKUP(DropDownList!$A$19,CntyQuery!$A$75:$GZ$85,EG$1)","v":1038.98},{"$f":"VLOOKUP(DropDownList!$A$19,CntyQuery!$A$75:$GZ$85,EH$1)","v":997.89},{"$f":"VLOOKUP(DropDownList!$A$19,CntyQuery!$A$75:$GZ$85,EI$1)","v":9224},{"$f":"VLOOKUP(DropDownList!$A$19,CntyQuery!$A$75:$GZ$85,EJ$1)","v":7964},{"$f":"VLOOKUP(DropDownList!$A$19,CntyQuery!$A$75:$GZ$85,EK$1)","v":1838},{"$f":"VLOOKUP(DropDownList!$A$19,CntyQuery!$A$75:$GZ$85,EL$1)","v":6126},{"$f":"VLOOKUP(DropDownList!$A$19,CntyQuery!$A$75:$GZ$85,EM$1)","v":961.3},{"$f":"VLOOKUP(DropDownList!$A$19,CntyQuery!$A$75:$GZ$85,EN$1)","v":971.79},{"$f":"VLOOKUP(DropDownList!$A$19,CntyQuery!$A$75:$GZ$85,EO$1)","v":1141.8599999999999},{"$f":"VLOOKUP(DropDownList!$A$19,CntyQuery!$A$75:$GZ$85,EP$1)","v":920.76},{"$f":"VLOOKUP(DropDownList!$A$19,CntyQuery!$A$75:$GZ$85,EQ$1)","v":9270},{"$f":"VLOOKUP(DropDownList!$A$19,CntyQuery!$A$75:$GZ$85,ER$1)","v":8033},{"$f":"VLOOKUP(DropDownList!$A$19,CntyQuery!$A$75:$GZ$85,ES$1)","v":1237},{"$f":"VLOOKUP(DropDownList!$A$19,CntyQuery!$A$75:$GZ$85,ET$1)","v":1876},{"$f":"VLOOKUP(DropDownList!$A$19,CntyQuery!$A$75:$GZ$85,EU$1)","v":6157},{"$f":"VLOOKUP(DropDownList!$A$19,CntyQuery!$A$75:$GZ$85,EV$1)","v":954.52},{"$f":"VLOOKUP(DropDownList!$A$19,CntyQuery!$A$75:$GZ$85,EW$1)","v":958.29},{"$f":"VLOOKUP(DropDownList!$A$19,CntyQuery!$A$75:$GZ$85,EX$1)","v":930.07},{"$f":"VLOOKUP(DropDownList!$A$19,CntyQuery!$A$75:$GZ$85,EY$1)","v":1122.25},{"$f":"VLOOKUP(DropDownList!$A$19,CntyQuery!$A$75:$GZ$85,EZ$1)","v":908.33},{"$f":"VLOOKUP(DropDownList!$A$19,CntyQuery!$A$75:$GZ$85,FA$1)","v":8597},{"$f":"VLOOKUP(DropDownList!$A$19,CntyQuery!$A$75:$GZ$85,FB$1)","v":7382},{"$f":"VLOOKUP(DropDownList!$A$19,CntyQuery!$A$75:$GZ$85,FC$1)","v":1215},{"$f":"VLOOKUP(DropDownList!$A$19,CntyQuery!$A$75:$GZ$85,FD$1)","v":1780},{"$f":"VLOOKUP(DropDownList!$A$19,CntyQuery!$A$75:$GZ$85,FE$1)","v":5602},{"$f":"VLOOKUP(DropDownList!$A$19,CntyQuery!$A$75:$GZ$85,FF$1)","v":1030.23},{"$f":"VLOOKUP(DropDownList!$A$19,CntyQuery!$A$75:$GZ$85,FG$1)","v":1033.43},{"$f":"VLOOKUP(DropDownList!$A$19,CntyQuery!$A$75:$GZ$85,FH$1)","v":1010.74},{"$f":"VLOOKUP(DropDownList!$A$19,CntyQuery!$A$75:$GZ$85,FI$1)","v":1118.67},{"$f":"VLOOKUP(DropDownList!$A$19,CntyQuery!$A$75:$GZ$85,FJ$1)","v":1006.35},{"$f":"VLOOKUP(DropDownList!$A$19,CntyQuery!$A$75:$GZ$85,FK$1)","v":8472},{"$f":"VLOOKUP(DropDownList!$A$19,CntyQuery!$A$75:$GZ$85,FL$1)","v":7298},{"$f":"VLOOKUP(DropDownList!$A$19,CntyQuery!$A$75:$GZ$85,FM$1)","v":1174},{"$f":"VLOOKUP(DropDownList!$A$19,CntyQuery!$A$75:$GZ$85,FN$1)","v":1669},{"$f":"VLOOKUP(DropDownList!$A$19,CntyQuery!$A$75:$GZ$85,FO$1)","v":5628},{"$f":"VLOOKUP(DropDownList!$A$19,CntyQuery!$A$75:$GZ$85,FP$1)","v":1052.3699999999999},{"$f":"VLOOKUP(DropDownList!$A$19,CntyQuery!$A$75:$GZ$85,FQ$1)","v":1056.27},{"$f":"VLOOKUP(DropDownList!$A$19,CntyQuery!$A$75:$GZ$85,FR$1)","v":1028.1099999999999},{"$f":"VLOOKUP(DropDownList!$A$19,CntyQuery!$A$75:$GZ$85,FS$1)","v":1205.03},{"$f":"VLOOKUP(DropDownList!$A$19,CntyQuery!$A$75:$GZ$85,FT$1)","v":1012.15},{"$f":"VLOOKUP(DropDownList!$A$19,CntyQuery!$A$75:$GZ$85,FU$1)","v":8615},{"$f":"VLOOKUP(DropDownList!$A$19,CntyQuery!$A$75:$GZ$85,FV$1)","v":7443},{"$f":"VLOOKUP(DropDownList!$A$19,CntyQuery!$A$75:$GZ$85,FW$1)","v":1172},{"$f":"VLOOKUP(DropDownList!$A$19,CntyQuery!$A$75:$GZ$85,FX$1)","v":1705},{"$f":"VLOOKUP(DropDownList!$A$19,CntyQuery!$A$75:$GZ$85,FY$1)","v":5738},{"$f":"VLOOKUP(DropDownList!$A$19,CntyQuery!$A$75:$GZ$85,FZ$1)","v":1113},{"$f":"VLOOKUP(DropDownList!$A$19,CntyQuery!$A$75:$GZ$85,GA$1)","v":1116},{"$f":"VLOOKUP(DropDownList!$A$19,CntyQuery!$A$75:$GZ$85,GB$1)","v":1096},{"$f":"VLOOKUP(DropDownList!$A$19,CntyQuery!$A$75:$GZ$85,GC$1)","v":1225},{"$f":"VLOOKUP(DropDownList!$A$19,CntyQuery!$A$75:$GZ$85,GD$1)","v":1083},{"$f":"VLOOKUP(DropDownList!$A$19,CntyQuery!$A$75:$GZ$85,GE$1)","v":0}]
[]
[]
["Labor Force and Unemployment Rate","Query Name: DPQryUnempByCnty"]
[]
[]
[]
[null,null,null,null,null,null,null,null,null,null,null,null,{"$f":"IF((CntyDataLink!$BL$25)=\"n\",NA(),IF(VALUE(CntyDataLink!$BL$25)=\"\",NA(),VALUE(CntyDataLink!$BL$25)))","v":746.94}]
["Census 2000 Data   -           Query Name:  CountyQuery3",2,{"$f":"B33+1","v":3},{"$f":"C33+1","v":4},5,6,7,8,9,10,11,12,13,14,15,16,17,18,19,20,21,22,23,24,25,26,27,28,29,30,31,32,33,34,35,36,37,38,39,40,41,42,43,44,45,46,47,48,49,50,51,52,53,54,55,56,57,58,59,60,61,62,63,64,65,66,67,{"$f":"BO33+1","v":68},69,70,71,72,73,74,75,76,77,78,79,80,81,82,83,84,85,86,87,88,89,90,91,92,93,94,95,96,97,98,99,100,101,102,103]
["NAME","COUNTY","LOGRECNO","COUSUB","TRACT","AREALAND","AREAWATR","POP100","HU100","2000Population","PopOfOneRace","PopWhite","PopBlack","PopAmIndian","PopAsian","PopHawaiian","PopOtherRace","Pop2orMoreRaces","PopHispanicLatino","PopNotHispanicLatino","PopMale","PopMale<15","PopMale15to24","PopMale25to34","PopMale35to44","PopMale45to54","PopMale55to64","PopMale65to74","PopMale75to84","PopMale85andOver","PopFemale","PopFemale<15","PopFemale15to24","PopFemale25to34","PopFemale35t44","PopFemale45to54","PopFemale55to64","PopFemale65to74","PopFemale75to84","PopFemale85andOver","Households2000","PopInHH","AvgHHSize","HHs1Person","HHs2orMorePerson","HHsFamily","HHMarriedCoupleFam","HHSingleParentFam","HHsNonFamily","Families","PopInFam","AvgFamSize","TotHsUnits","OccHsUnits","OwnerOccHU","RenterOccHU","VctHsUnits","VctHUForRent","VctHUForSale","VctHUSeasonal","PopInOccHU","PopInOwnOccHU","PopInRntOccHU","AvgHHSize2","AvgHHSizOwnOcc","AvgHHSizRntOcc","OwnOccWhtHsHldr","OwnOccBlkHsHldr","OwnOccAmIHsHldr","OwnOccAsnHsHldr","OwnOccPIsHsHldr","OwnOccORHsHldr","OwnOcc2RcHsHldr","RntOccWhtHsHldr","RntOccBlkHsHldr","RntOccAmIHsHldr","RntOccAsnHsHldr","RntOccPIsHsHldr","RntOccORHsHldr","RntOcc2RcHsHldr","OwnOccHH15to24","OwnOccHH25to34","OwnOccHH35to44","OwnOccHH45to54","OwnOccHH55to64","OwnOccHH65to74","OwnOccHH75to84","OwnOccHH85Over","RntOccHH15to24","RntOccHH25to34","RntOccHH35to44","RntOccHH45to54","RntOccHH55to64","RntOccHH65to74","RntOccHH75to84","RntOccHH85Over","P27TotalPop","P27PopInHseHlds","P27PopInGrpQtrs","SUMLEV","Median Age Total","Median Age (Male)","Median Age (Female)"]
[{"$f":"VLOOKUP(DropDownList!$A$19,CntyQuery!$A$20:$CE$30,A$1)","v":"Laconia"},{"$f":"VLOOKUP(DropDownList!$A$19,CntyQryCensus!$A$5:$CY$15,B1)","v":"001"},{"$f":"VLOOKUP(DropDownList!$A$19,CntyQryCensus!$A$5:$CY$15,C1)","v":"0001059"},{"$f":"VLOOKUP(DropDownList!$A$19,CntyQryCensus!$A$5:$CY$15,D1)","v":"40180"},{"$f":"VLOOKUP(DropDownList!$A$19,CntyQryCensus!$A$5:$CY$15,E1)","v":""},{"$f":"VLOOKUP(DropDownList!$A$19,CntyQryCensus!$A$5:$CY$15,F1)","v":"      52522328"},{"$f":"VLOOKUP(DropDownList!$A$19,CntyQryCensus!$A$5:$CY$15,G1)","v":"      16318600"},{"$f":"VLOOKUP(DropDownList!$A$19,CntyQryCensus!$A$5:$CY$15,H1)","v":"    16411"},{"$f":"VLOOKUP(DropDownList!$A$19,CntyQryCensus!$A$5:$CY$15,I1)","v":"     8554"},{"$f":"VLOOKUP(DropDownList!$A$19,CntyQryCensus!$A$5:$CY$15,J1)","v":16411},{"$f":"VLOOKUP(DropDownList!$A$19,CntyQryCensus!$A$5:$CY$15,K1)","v":16211},{"$f":"VLOOKUP(DropDownList!$A$19,CntyQryCensus!$A$5:$CY$15,L1)","v":15885},{"$f":"VLOOKUP(DropDownList!$A$19,CntyQryCensus!$A$5:$CY$15,M1)","v":90},{"$f":"VLOOKUP(DropDownList!$A$19,CntyQryCensus!$A$5:$CY$15,N1)","v":68},{"$f":"VLOOKUP(DropDownList!$A$19,CntyQryCensus!$A$5:$CY$15,O1)","v":120},{"$f":"VLOOKUP(DropDownList!$A$19,CntyQryCensus!$A$5:$CY$15,P1)","v":4},{"$f":"VLOOKUP(DropDownList!$A$19,CntyQryCensus!$A$5:$CY$15,Q1)","v":44},{"$f":"VLOOKUP(DropDownList!$A$19,CntyQryCensus!$A$5:$CY$15,R1)","v":200},{"$f":"VLOOKUP(DropDownList!$A$19,CntyQryCensus!$A$5:$CY$15,S1)","v":162},{"$f":"VLOOKUP(DropDownList!$A$19,CntyQryCensus!$A$5:$CY$15,T1)","v":16249},{"$f":"VLOOKUP(DropDownList!$A$19,CntyQryCensus!$A$5:$CY$15,U1)","v":7969},{"$f":"VLOOKUP(DropDownList!$A$19,CntyQryCensus!$A$5:$CY$15,V1)","v":1510},{"$f":"VLOOKUP(DropDownList!$A$19,CntyQryCensus!$A$5:$CY$15,W1)","v":1125},{"$f":"VLOOKUP(DropDownList!$A$19,CntyQryCensus!$A$5:$CY$15,X1)","v":1123},{"$f":"VLOOKUP(DropDownList!$A$19,CntyQryCensus!$A$5:$CY$15,Y1)","v":1246},{"$f":"VLOOKUP(DropDownList!$A$19,CntyQryCensus!$A$5:$CY$15,Z1)","v":1093},{"$f":"VLOOKUP(DropDownList!$A$19,CntyQryCensus!$A$5:$CY$15,AA1)","v":769},{"$f":"VLOOKUP(DropDownList!$A$19,CntyQryCensus!$A$5:$CY$15,AB1)","v":617},{"$f":"VLOOKUP(DropDownList!$A$19,CntyQryCensus!$A$5:$CY$15,AC1)","v":383},{"$f":"VLOOKUP(DropDownList!$A$19,CntyQryCensus!$A$5:$CY$15,AD1)","v":103},{"$f":"VLOOKUP(DropDownList!$A$19,CntyQryCensus!$A$5:$CY$15,AE1)","v":8442},{"$f":"VLOOKUP(DropDownList!$A$19,CntyQryCensus!$A$5:$CY$15,AF1)","v":1461},{"$f":"VLOOKUP(DropDownList!$A$19,CntyQryCensus!$A$5:$CY$15,AG1)","v":1016},{"$f":"VLOOKUP(DropDownList!$A$19,CntyQryCensus!$A$5:$CY$15,AH1)","v":1023},{"$f":"VLOOKUP(DropDownList!$A$19,CntyQryCensus!$A$5:$CY$15,AI1)","v":1216},{"$f":"VLOOKUP(DropDownList!$A$19,CntyQryCensus!$A$5:$CY$15,AJ1)","v":1191},{"$f":"VLOOKUP(DropDownList!$A$19,CntyQryCensus!$A$5:$CY$15,AK1)","v":810},{"$f":"VLOOKUP(DropDownList!$A$19,CntyQryCensus!$A$5:$CY$15,AL1)","v":723},{"$f":"VLOOKUP(DropDownList!$A$19,CntyQryCensus!$A$5:$CY$15,AM1)","v":642},{"$f":"VLOOKUP(DropDownList!$A$19,CntyQryCensus!$A$5:$CY$15,AN1)","v":360},{"$f":"VLOOKUP(DropDownList!$A$19,CntyQryCensus!$A$5:$CY$15,AO1)","v":6724},{"$f":"VLOOKUP(DropDownList!$A$19,CntyQryCensus!$A$5:$CY$15,AP1)","v":15591},{"$f":"VLOOKUP(DropDownList!$A$19,CntyQryCensus!$A$5:$CY$15,AQ1)","v":2.3199999999999998},{"$f":"VLOOKUP(DropDownList!$A$19,CntyQryCensus!$A$5:$CY$15,AR1)","v":2036},{"$f":"VLOOKUP(DropDownList!$A$19,CntyQryCensus!$A$5:$CY$15,AS1)","v":4688},{"$f":"VLOOKUP(DropDownList!$A$19,CntyQryCensus!$A$5:$CY$15,AT1)","v":4170},{"$f":"VLOOKUP(DropDownList!$A$19,CntyQryCensus!$A$5:$CY$15,AU1)","v":3122},{"$f":"VLOOKUP(DropDownList!$A$19,CntyQryCensus!$A$5:$CY$15,AV1)","v":1048},{"$f":"VLOOKUP(DropDownList!$A$19,CntyQryCensus!$A$5:$CY$15,AW1)","v":518},{"$f":"VLOOKUP(DropDownList!$A$19,CntyQryCensus!$A$5:$CY$15,AX1)","v":4170},{"$f":"VLOOKUP(DropDownList!$A$19,CntyQryCensus!$A$5:$CY$15,AY1)","v":11975},{"$f":"VLOOKUP(DropDownList!$A$19,CntyQryCensus!$A$5:$CY$15,AZ1)","v":2.87},{"$f":"VLOOKUP(DropDownList!$A$19,CntyQryCensus!$A$5:$CY$15,BA1)","v":8554},{"$f":"VLOOKUP(DropDownList!$A$19,CntyQryCensus!$A$5:$CY$15,BB1)","v":6724},{"$f":"VLOOKUP(DropDownList!$A$19,CntyQryCensus!$A$5:$CY$15,BC1)","v":3819},{"$f":"VLOOKUP(DropDownList!$A$19,CntyQryCensus!$A$5:$CY$15,BD1)","v":2905},{"$f":"VLOOKUP(DropDownList!$A$19,CntyQryCensus!$A$5:$CY$15,BE1)","v":1830},{"$f":"VLOOKUP(DropDownList!$A$19,CntyQryCensus!$A$5:$CY$15,BF1)","v":209},{"$f":"VLOOKUP(DropDownList!$A$19,CntyQryCensus!$A$5:$CY$15,BG1)","v":40},{"$f":"VLOOKUP(DropDownList!$A$19,CntyQryCensus!$A$5:$CY$15,BH1)","v":1477},{"$f":"VLOOKUP(DropDownList!$A$19,CntyQryCensus!$A$5:$CY$15,BI1)","v":15591},{"$f":"VLOOKUP(DropDownList!$A$19,CntyQryCensus!$A$5:$CY$15,BJ1)","v":9474},{"$f":"VLOOKUP(DropDownList!$A$19,CntyQryCensus!$A$5:$CY$15,BK1)","v":6117},{"$f":"VLOOKUP(DropDownList!$A$19,CntyQryCensus!$A$5:$CY$15,BL1)","v":2.3199999999999998},{"$f":"VLOOKUP(DropDownList!$A$19,CntyQryCensus!$A$5:$CY$15,BM1)","v":2.48},{"$f":"VLOOKUP(DropDownList!$A$19,CntyQryCensus!$A$5:$CY$15,BN1)","v":2.11},{"$f":"VLOOKUP(DropDownList!$A$19,CntyQryCensus!$A$5:$CY$15,BO1)","v":3765},{"$f":"VLOOKUP(DropDownList!$A$19,CntyQryCensus!$A$5:$CY$15,BP1)","v":2},{"$f":"VLOOKUP(DropDownList!$A$19,CntyQryCensus!$A$5:$CY$15,BQ1)","v":8},{"$f":"VLOOKUP(DropDownList!$A$19,CntyQryCensus!$A$5:$CY$15,BR1)","v":11},{"$f":"VLOOKUP(DropDownList!$A$19,CntyQryCensus!$A$5:$CY$15,BS1)","v":0},{"$f":"VLOOKUP(DropDownList!$A$19,CntyQryCensus!$A$5:$CY$15,BT1)","v":4},{"$f":"VLOOKUP(DropDownList!$A$19,CntyQryCensus!$A$5:$CY$15,BU1)","v":29},{"$f":"VLOOKUP(DropDownList!$A$19,CntyQryCensus!$A$5:$CY$15,BV1)","v":2796},{"$f":"VLOOKUP(DropDownList!$A$19,CntyQryCensus!$A$5:$CY$15,BW1)","v":17},{"$f":"VLOOKUP(DropDownList!$A$19,CntyQryCensus!$A$5:$CY$15,BX1)","v":18},{"$f":"VLOOKUP(DropDownList!$A$19,CntyQryCensus!$A$5:$CY$15,BY1)","v":21},{"$f":"VLOOKUP(DropDownList!$A$19,CntyQryCensus!$A$5:$CY$15,BZ1)","v":1},{"$f":"VLOOKUP(DropDownList!$A$19,CntyQryCensus!$A$5:$CY$15,CA1)","v":6},{"$f":"VLOOKUP(DropDownList!$A$19,CntyQryCensus!$A$5:$CY$15,CB1)","v":46},{"$f":"VLOOKUP(DropDownList!$A$19,CntyQryCensus!$A$5:$CY$15,CC1)","v":37},{"$f":"VLOOKUP(DropDownList!$A$19,CntyQryCensus!$A$5:$CY$15,CD1)","v":358},{"$f":"VLOOKUP(DropDownList!$A$19,CntyQryCensus!$A$5:$CY$15,CE1)","v":730},{"$f":"VLOOKUP(DropDownList!$A$19,CntyQryCensus!$A$5:$CY$15,CF1)","v":861},{"$f":"VLOOKUP(DropDownList!$A$19,CntyQryCensus!$A$5:$CY$15,CG1)","v":702},{"$f":"VLOOKUP(DropDownList!$A$19,CntyQryCensus!$A$5:$CY$15,CH1)","v":613},{"$f":"VLOOKUP(DropDownList!$A$19,CntyQryCensus!$A$5:$CY$15,CI1)","v":407},{"$f":"VLOOKUP(DropDownList!$A$19,CntyQryCensus!$A$5:$CY$15,CJ1)","v":111},{"$f":"VLOOKUP(DropDownList!$A$19,CntyQryCensus!$A$5:$CY$15,CK1)","v":346},{"$f":"VLOOKUP(DropDownList!$A$19,CntyQryCensus!$A$5:$CY$15,CL1)","v":686},{"$f":"VLOOKUP(DropDownList!$A$19,CntyQryCensus!$A$5:$CY$15,CM1)","v":622},{"$f":"VLOOKUP(DropDownList!$A$19,CntyQryCensus!$A$5:$CY$15,CN1)","v":429},{"$f":"VLOOKUP(DropDownList!$A$19,CntyQryCensus!$A$5:$CY$15,CO1)","v":249},{"$f":"VLOOKUP(DropDownList!$A$19,CntyQryCensus!$A$5:$CY$15,CP1)","v":210},{"$f":"VLOOKUP(DropDownList!$A$19,CntyQryCensus!$A$5:$CY$15,CQ1)","v":264},{"$f":"VLOOKUP(DropDownList!$A$19,CntyQryCensus!$A$5:$CY$15,CR1)","v":99},{"$f":"VLOOKUP(DropDownList!$A$19,CntyQryCensus!$A$5:$CY$15,CS1)","v":16411},{"$f":"VLOOKUP(DropDownList!$A$19,CntyQryCensus!$A$5:$CY$15,CT1)","v":15591},{"$f":"VLOOKUP(DropDownList!$A$19,CntyQryCensus!$A$5:$CY$15,CU1)","v":820},{"$f":"VLOOKUP(DropDownList!$A$19,CntyQryCensus!$A$5:$CY$15,CV1)","v":38.799999999999997},{"$f":"VLOOKUP(DropDownList!$A$19,CntyQryCensus!$A$5:$CY$15,CW1)","v":36.799999999999997},{"$f":"VLOOKUP(DropDownList!$A$19,CntyQryCensus!$A$5:$CY$15,CX1)","v":40.700000000000003},{"$f":"VLOOKUP(DropDownList!$A$19,CntyQryCensus!$A$5:$CY$15,CY1)","v":0}]
[]
[]
["Census 2000 DemoProfile Sample Data Tables 2&3   -  DPTab23CountyQry"]
["NAME","COUSUB","AREANAME","PopInSchool","Preschool","Kindergarten","Elementary","HighSchool","College","Pop25andOver","HighSchoolGrad","SomeCollege","AssocDegree","BachelDegree","GradDegree","HSGradorHigher","CollegeGradorHigher","Pop5to20yrs","Pop5to20wDis","Pop21to64","Pop21to64wDis","Pop65over","Pop65overwDis","Pop5yrsOver","SameHUin95","DiffHUinUSin95","HUinSameCountyin95","HUinSameStatein95","TotalPop","NativePop","NatPopBornUS","NatPopBornInStatRes","NatPopBornDiffState","NatPopBornOutUS","FornBornPop","FornPopEnt90to00","FornPopNatCit","FornPopNotCit","Households","HHIncLessThn10k","HHInc10to15K","HHInc15to25K","HHInc25to35K","HHInc35to50K","HHInc50to75K","HHInc75to100K","HHInc100to150K","HHInc150to200K","HHIncOver200K","MedianHHInc","HHwithPubAssistInc","MeanPubAssist","FamilyHH","FHHIncLessThn10k","FHHInc10to15K","FHHInc15to25K","FHHInc25to35K","FHHInc35to50K","FHHInc50to75K","FHHInc75to100K","FHHInc100to150K","FHHInc150to200K","FHHIncOver200K","MedianFHHInc","PerCapitaInc","PovStatFamilies","PovStatFHHwChilUnd18","PovStatFHHwChilUnd5","PovStFmalHH","DP3088","DP3089","PovStatIndiv","PovStatIndiv18yrOver","PovStatIndiv65yrOver","DP3093","DP3094","DP3095"]
[{"$f":"VLOOKUP(DropDownList!$A$19,CntyQuery!$A$20:$CE$30,A$1)","v":"Laconia"},{"$f":"VLOOKUP(DropDownList!$A$19,CntyQryCensus!$A$21:$BY$31,B$1)","v":"40180"},{"$f":"VLOOKUP(DropDownList!$A$19,CntyQryCensus!$A$21:$BY$31,C$1)","v":"Laconia city, New Hampshire"},{"$f":"VLOOKUP(DropDownList!$A$19,CntyQryCensus!$A$21:$BY$31,D$1)","v":3671},{"$f":"VLOOKUP(DropDownList!$A$19,CntyQryCensus!$A$21:$BY$31,E$1)","v":231},{"$f":"VLOOKUP(DropDownList!$A$19,CntyQryCensus!$A$21:$BY$31,F$1)","v":226},{"$f":"VLOOKUP(DropDownList!$A$19,CntyQryCensus!$A$21:$BY$31,G$1)","v":1745},{"$f":"VLOOKUP(DropDownList!$A$19,CntyQryCensus!$A$21:$BY$31,H$1)","v":899},{"$f":"VLOOKUP(DropDownList!$A$19,CntyQryCensus!$A$21:$BY$31,I$1)","v":570},{"$f":"VLOOKUP(DropDownList!$A$19,CntyQryCensus!$A$21:$BY$31,J$1)","v":11295},{"$f":"VLOOKUP(DropDownList!$A$19,CntyQryCensus!$A$21:$BY$31,K$1)","v":3906},{"$f":"VLOOKUP(DropDownList!$A$19,CntyQryCensus!$A$21:$BY$31,L$1)","v":2393},{"$f":"VLOOKUP(DropDownList!$A$19,CntyQryCensus!$A$21:$BY$31,M$1)","v":731},{"$f":"VLOOKUP(DropDownList!$A$19,CntyQryCensus!$A$21:$BY$31,N$1)","v":1509},{"$f":"VLOOKUP(DropDownList!$A$19,CntyQryCensus!$A$21:$BY$31,O$1)","v":708},{"$f":"VLOOKUP(DropDownList!$A$19,CntyQryCensus!$A$21:$BY$31,P$1)","v":9247},{"$f":"VLOOKUP(DropDownList!$A$19,CntyQryCensus!$A$21:$BY$31,Q$1)","v":2217},{"$f":"VLOOKUP(DropDownList!$A$19,CntyQryCensus!$A$21:$BY$31,R$1)","v":3305},{"$f":"VLOOKUP(DropDownList!$A$19,CntyQryCensus!$A$21:$BY$31,S$1)","v":300},{"$f":"VLOOKUP(DropDownList!$A$19,CntyQryCensus!$A$21:$BY$31,T$1)","v":8942},{"$f":"VLOOKUP(DropDownList!$A$19,CntyQryCensus!$A$21:$BY$31,U$1)","v":1873},{"$f":"VLOOKUP(DropDownList!$A$19,CntyQryCensus!$A$21:$BY$31,V$1)","v":2534},{"$f":"VLOOKUP(DropDownList!$A$19,CntyQryCensus!$A$21:$BY$31,W$1)","v":960},{"$f":"VLOOKUP(DropDownList!$A$19,CntyQryCensus!$A$21:$BY$31,X$1)","v":15545},{"$f":"VLOOKUP(DropDownList!$A$19,CntyQryCensus!$A$21:$BY$31,Y$1)","v":7536},{"$f":"VLOOKUP(DropDownList!$A$19,CntyQryCensus!$A$21:$BY$31,Z$1)","v":7698},{"$f":"VLOOKUP(DropDownList!$A$19,CntyQryCensus!$A$21:$BY$31,AA$1)","v":4746},{"$f":"VLOOKUP(DropDownList!$A$19,CntyQryCensus!$A$21:$BY$31,AB$1)","v":2952},{"$f":"VLOOKUP(DropDownList!$A$19,CntyQryCensus!$A$21:$BY$31,AC$1)","v":16411},{"$f":"VLOOKUP(DropDownList!$A$19,CntyQryCensus!$A$21:$BY$31,AD$1)","v":15831},{"$f":"VLOOKUP(DropDownList!$A$19,CntyQryCensus!$A$21:$BY$31,AE$1)","v":15683},{"$f":"VLOOKUP(DropDownList!$A$19,CntyQryCensus!$A$21:$BY$31,AF$1)","v":9629},{"$f":"VLOOKUP(DropDownList!$A$19,CntyQryCensus!$A$21:$BY$31,AG$1)","v":6054},{"$f":"VLOOKUP(DropDownList!$A$19,CntyQryCensus!$A$21:$BY$31,AH$1)","v":148},{"$f":"VLOOKUP(DropDownList!$A$19,CntyQryCensus!$A$21:$BY$31,AI$1)","v":580},{"$f":"VLOOKUP(DropDownList!$A$19,CntyQryCensus!$A$21:$BY$31,AJ$1)","v":269},{"$f":"VLOOKUP(DropDownList!$A$19,CntyQryCensus!$A$21:$BY$31,AK$1)","v":223},{"$f":"VLOOKUP(DropDownList!$A$19,CntyQryCensus!$A$21:$BY$31,AL$1)","v":357},{"$f":"VLOOKUP(DropDownList!$A$19,CntyQryCensus!$A$21:$BY$31,AM$1)","v":6727},{"$f":"VLOOKUP(DropDownList!$A$19,CntyQryCensus!$A$21:$BY$31,AN$1)","v":633},{"$f":"VLOOKUP(DropDownList!$A$19,CntyQryCensus!$A$21:$BY$31,AO$1)","v":472},{"$f":"VLOOKUP(DropDownList!$A$19,CntyQryCensus!$A$21:$BY$31,AP$1)","v":1021},{"$f":"VLOOKUP(DropDownList!$A$19,CntyQryCensus!$A$21:$BY$31,AQ$1)","v":1009},{"$f":"VLOOKUP(DropDownList!$A$19,CntyQryCensus!$A$21:$BY$31,AR$1)","v":1356},{"$f":"VLOOKUP(DropDownList!$A$19,CntyQryCensus!$A$21:$BY$31,AS$1)","v":1289},{"$f":"VLOOKUP(DropDownList!$A$19,CntyQryCensus!$A$21:$BY$31,AT$1)","v":550},{"$f":"VLOOKUP(DropDownList!$A$19,CntyQryCensus!$A$21:$BY$31,AU$1)","v":282},{"$f":"VLOOKUP(DropDownList!$A$19,CntyQryCensus!$A$21:$BY$31,AV$1)","v":42},{"$f":"VLOOKUP(DropDownList!$A$19,CntyQryCensus!$A$21:$BY$31,AW$1)","v":73},{"$f":"VLOOKUP(DropDownList!$A$19,CntyQryCensus!$A$21:$BY$31,AX$1)","v":37796},{"$f":"VLOOKUP(DropDownList!$A$19,CntyQryCensus!$A$21:$BY$31,AY$1)","v":299},{"$f":"VLOOKUP(DropDownList!$A$19,CntyQryCensus!$A$21:$BY$31,AZ$1)","v":2056},{"$f":"VLOOKUP(DropDownList!$A$19,CntyQryCensus!$A$21:$BY$31,BA$1)","v":4224},{"$f":"VLOOKUP(DropDownList!$A$19,CntyQryCensus!$A$21:$BY$31,BB$1)","v":192},{"$f":"VLOOKUP(DropDownList!$A$19,CntyQryCensus!$A$21:$BY$31,BC$1)","v":172},{"$f":"VLOOKUP(DropDownList!$A$19,CntyQryCensus!$A$21:$BY$31,BD$1)","v":477},{"$f":"VLOOKUP(DropDownList!$A$19,CntyQryCensus!$A$21:$BY$31,BE$1)","v":582},{"$f":"VLOOKUP(DropDownList!$A$19,CntyQryCensus!$A$21:$BY$31,BF$1)","v":964},{"$f":"VLOOKUP(DropDownList!$A$19,CntyQryCensus!$A$21:$BY$31,BG$1)","v":1025},{"$f":"VLOOKUP(DropDownList!$A$19,CntyQryCensus!$A$21:$BY$31,BH$1)","v":452},{"$f":"VLOOKUP(DropDownList!$A$19,CntyQryCensus!$A$21:$BY$31,BI$1)","v":245},{"$f":"VLOOKUP(DropDownList!$A$19,CntyQryCensus!$A$21:$BY$31,BJ$1)","v":42},{"$f":"VLOOKUP(DropDownList!$A$19,CntyQryCensus!$A$21:$BY$31,BK$1)","v":73},{"$f":"VLOOKUP(DropDownList!$A$19,CntyQryCensus!$A$21:$BY$31,BL$1)","v":45307},{"$f":"VLOOKUP(DropDownList!$A$19,CntyQryCensus!$A$21:$BY$31,BM$1)","v":19540},{"$f":"VLOOKUP(DropDownList!$A$19,CntyQryCensus!$A$21:$BY$31,BN$1)","v":316},{"$f":"VLOOKUP(DropDownList!$A$19,CntyQryCensus!$A$21:$BY$31,BO$1)","v":250},{"$f":"VLOOKUP(DropDownList!$A$19,CntyQryCensus!$A$21:$BY$31,BP$1)","v":167},{"$f":"VLOOKUP(DropDownList!$A$19,CntyQryCensus!$A$21:$BY$31,BQ$1)","v":193},{"$f":"VLOOKUP(DropDownList!$A$19,CntyQryCensus!$A$21:$BY$31,BR$1)","v":193},{"$f":"VLOOKUP(DropDownList!$A$19,CntyQryCensus!$A$21:$BY$31,BS$1)","v":118},{"$f":"VLOOKUP(DropDownList!$A$19,CntyQryCensus!$A$21:$BY$31,BT$1)","v":1382},{"$f":"VLOOKUP(DropDownList!$A$19,CntyQryCensus!$A$21:$BY$31,BU$1)","v":982},{"$f":"VLOOKUP(DropDownList!$A$19,CntyQryCensus!$A$21:$BY$31,BV$1)","v":135},{"$f":"VLOOKUP(DropDownList!$A$19,CntyQryCensus!$A$21:$BY$31,BW$1)","v":397},{"$f":"VLOOKUP(DropDownList!$A$19,CntyQryCensus!$A$21:$BY$31,BX$1)","v":235},{"$f":"VLOOKUP(DropDownList!$A$19,CntyQryCensus!$A$21:$BY$31,BY$1)","v":537}]
[]
[]
["Census 2000 DemoProfile Sample Data Table 4   -  DPTab4CountyQry"]
["NAME","COUSUB","TotHousingUnits","1UnitDet","1UnitAtt","2Units","3to4Units","5to9Units","10to19Units","20orMoreUnits","MobileHomes","BoatRvVan","SingleFamilyUnits","MultiFamUnits","MobileHomeUnits","YearBuilt99to00","YearBuilt95to98","YearBUilt90to94","YearBuilt80to89","YearBuilt70to79","YearBuilt60to69","YearBuilt40to59","YearBuilt39orEarlier","Rooms1","Rooms2","Rooms3","Rooms4","Rooms5","Rooms6","Rooms7","Rooms8","Rooms9orMore","MedianRooms","OccHU1","YrHHMvdIn99to00","YrHHMvdIn95to98","YrHHMvdIn90to94","YrHHMvdIn80to89","YrHHMvdIn70to79","YrHHMvdIn69orBefore","HeatFuelNatGas","HeatFuelBotGas","HeatFuelElectric","HeatFuelOil","HeatFuelCoal","HeatFuelWood","HeatFuelSolar","HeatFuelOther","HeatFuelNone","LackCompPlumb","LackCompKit","NoTelephone","OccHU","OccPerRm1orLess","OccPerRm1to1_5","OccPerRm1_5orMore","SpecOwnOccUnits","Value<50K","Value50to100K","Value100to150K","Value150to200K","Value200to300K","Value300to500K","Value500Kto1mil","Value1MilorMore","MedianValue","WithMortg","MnthOwnCst<300","MnthOwnCst300to500","MnthOwnCst500to700","MnthOwnCst700to1000","MnthOwnCst1000to1500","MnthOwnCst1500to2000","MnthOwnCst2000orMore","MediMnthOwnCst","NotMrtg","NotMrtgMediMnthOwnCst","OwnCst%HHInc<15","OwnCst%HHInc15to20","OwnCst%HHInc20to25","OwnCst%HHInc25to30","OwnCst%HHInc30to35","OwnCst%HHInc35orMor","NotComputed","SpecRntOccUnits","Rnt<200","Rnt200to300","Rnt300to500","Rnt500to750","Rnt750to1000","Rnt1000to1500","Rnt1500orMore","NoRent","MedianRent","Rnt%HHInc<15","Rnt%HHInc15to20","Rnt%HHInc20to25","Rnt%HHInc25to30","Rnt%HHInc30to35","Rnt%HHInc35orMore","Rnt%NotCompute"]
[{"$f":"VLOOKUP(DropDownList!$A$19,CntyQuery!$A$20:$CE$30,A$1)","v":"Laconia"},{"$f":"VLOOKUP(DropDownList!$A$19,CntyQryCensus!$A$37:$CW$47,B$1)","v":"40180"},{"$f":"VLOOKUP(DropDownList!$A$19,CntyQryCensus!$A$37:$CW$47,C$1)","v":8554},{"$f":"VLOOKUP(DropDownList!$A$19,CntyQryCensus!$A$37:$CW$47,D$1)","v":4223},{"$f":"VLOOKUP(DropDownList!$A$19,CntyQryCensus!$A$37:$CW$47,E$1)","v":496},{"$f":"VLOOKUP(DropDownList!$A$19,CntyQryCensus!$A$37:$CW$47,F$1)","v":896},{"$f":"VLOOKUP(DropDownList!$A$19,CntyQryCensus!$A$37:$CW$47,G$1)","v":847},{"$f":"VLOOKUP(DropDownList!$A$19,CntyQryCensus!$A$37:$CW$47,H$1)","v":630},{"$f":"VLOOKUP(DropDownList!$A$19,CntyQryCensus!$A$37:$CW$47,I$1)","v":325},{"$f":"VLOOKUP(DropDownList!$A$19,CntyQryCensus!$A$37:$CW$47,J$1)","v":900},{"$f":"VLOOKUP(DropDownList!$A$19,CntyQryCensus!$A$37:$CW$47,K$1)","v":237},{"$f":"VLOOKUP(DropDownList!$A$19,CntyQryCensus!$A$37:$CW$47,L$1)","v":0},{"$f":"VLOOKUP(DropDownList!$A$19,CntyQryCensus!$A$37:$CW$47,M$1)","v":4223},{"$f":"VLOOKUP(DropDownList!$A$19,CntyQryCensus!$A$37:$CW$47,N$1)","v":4094},{"$f":"VLOOKUP(DropDownList!$A$19,CntyQryCensus!$A$37:$CW$47,O$1)","v":237},{"$f":"VLOOKUP(DropDownList!$A$19,CntyQryCensus!$A$37:$CW$47,P$1)","v":82},{"$f":"VLOOKUP(DropDownList!$A$19,CntyQryCensus!$A$37:$CW$47,Q$1)","v":458},{"$f":"VLOOKUP(DropDownList!$A$19,CntyQryCensus!$A$37:$CW$47,R$1)","v":378},{"$f":"VLOOKUP(DropDownList!$A$19,CntyQryCensus!$A$37:$CW$47,S$1)","v":1397},{"$f":"VLOOKUP(DropDownList!$A$19,CntyQryCensus!$A$37:$CW$47,T$1)","v":962},{"$f":"VLOOKUP(DropDownList!$A$19,CntyQryCensus!$A$37:$CW$47,U$1)","v":745},{"$f":"VLOOKUP(DropDownList!$A$19,CntyQryCensus!$A$37:$CW$47,V$1)","v":1507},{"$f":"VLOOKUP(DropDownList!$A$19,CntyQryCensus!$A$37:$CW$47,W$1)","v":3025},{"$f":"VLOOKUP(DropDownList!$A$19,CntyQryCensus!$A$37:$CW$47,X$1)","v":130},{"$f":"VLOOKUP(DropDownList!$A$19,CntyQryCensus!$A$37:$CW$47,Y$1)","v":447},{"$f":"VLOOKUP(DropDownList!$A$19,CntyQryCensus!$A$37:$CW$47,Z$1)","v":782},{"$f":"VLOOKUP(DropDownList!$A$19,CntyQryCensus!$A$37:$CW$47,AA$1)","v":1790},{"$f":"VLOOKUP(DropDownList!$A$19,CntyQryCensus!$A$37:$CW$47,AB$1)","v":1782},{"$f":"VLOOKUP(DropDownList!$A$19,CntyQryCensus!$A$37:$CW$47,AC$1)","v":1574},{"$f":"VLOOKUP(DropDownList!$A$19,CntyQryCensus!$A$37:$CW$47,AD$1)","v":807},{"$f":"VLOOKUP(DropDownList!$A$19,CntyQryCensus!$A$37:$CW$47,AE$1)","v":747},{"$f":"VLOOKUP(DropDownList!$A$19,CntyQryCensus!$A$37:$CW$47,AF$1)","v":495},{"$f":"VLOOKUP(DropDownList!$A$19,CntyQryCensus!$A$37:$CW$47,AG$1)","v":5.0999999999999996},{"$f":"VLOOKUP(DropDownList!$A$19,CntyQryCensus!$A$37:$CW$47,AH$1)","v":6724},{"$f":"VLOOKUP(DropDownList!$A$19,CntyQryCensus!$A$37:$CW$47,AI$1)","v":1556},{"$f":"VLOOKUP(DropDownList!$A$19,CntyQryCensus!$A$37:$CW$47,AJ$1)","v":1971},{"$f":"VLOOKUP(DropDownList!$A$19,CntyQryCensus!$A$37:$CW$47,AK$1)","v":1018},{"$f":"VLOOKUP(DropDownList!$A$19,CntyQryCensus!$A$37:$CW$47,AL$1)","v":1065},{"$f":"VLOOKUP(DropDownList!$A$19,CntyQryCensus!$A$37:$CW$47,AM$1)","v":506},{"$f":"VLOOKUP(DropDownList!$A$19,CntyQryCensus!$A$37:$CW$47,AN$1)","v":608},{"$f":"VLOOKUP(DropDownList!$A$19,CntyQryCensus!$A$37:$CW$47,AO$1)","v":1279},{"$f":"VLOOKUP(DropDownList!$A$19,CntyQryCensus!$A$37:$CW$47,AP$1)","v":442},{"$f":"VLOOKUP(DropDownList!$A$19,CntyQryCensus!$A$37:$CW$47,AQ$1)","v":542},{"$f":"VLOOKUP(DropDownList!$A$19,CntyQryCensus!$A$37:$CW$47,AR$1)","v":4304},{"$f":"VLOOKUP(DropDownList!$A$19,CntyQryCensus!$A$37:$CW$47,AS$1)","v":0},{"$f":"VLOOKUP(DropDownList!$A$19,CntyQryCensus!$A$37:$CW$47,AT$1)","v":75},{"$f":"VLOOKUP(DropDownList!$A$19,CntyQryCensus!$A$37:$CW$47,AU$1)","v":0},{"$f":"VLOOKUP(DropDownList!$A$19,CntyQryCensus!$A$37:$CW$47,AV$1)","v":48},{"$f":"VLOOKUP(DropDownList!$A$19,CntyQryCensus!$A$37:$CW$47,AW$1)","v":34},{"$f":"VLOOKUP(DropDownList!$A$19,CntyQryCensus!$A$37:$CW$47,AX$1)","v":19},{"$f":"VLOOKUP(DropDownList!$A$19,CntyQryCensus!$A$37:$CW$47,AY$1)","v":19},{"$f":"VLOOKUP(DropDownList!$A$19,CntyQryCensus!$A$37:$CW$47,AZ$1)","v":162},{"$f":"VLOOKUP(DropDownList!$A$19,CntyQryCensus!$A$37:$CW$47,BA$1)","v":6724},{"$f":"VLOOKUP(DropDownList!$A$19,CntyQryCensus!$A$37:$CW$47,BB$1)","v":6609},{"$f":"VLOOKUP(DropDownList!$A$19,CntyQryCensus!$A$37:$CW$47,BC$1)","v":87},{"$f":"VLOOKUP(DropDownList!$A$19,CntyQryCensus!$A$37:$CW$47,BD$1)","v":28},{"$f":"VLOOKUP(DropDownList!$A$19,CntyQryCensus!$A$37:$CW$47,BE$1)","v":3034},{"$f":"VLOOKUP(DropDownList!$A$19,CntyQryCensus!$A$37:$CW$47,BF$1)","v":36},{"$f":"VLOOKUP(DropDownList!$A$19,CntyQryCensus!$A$37:$CW$47,BG$1)","v":1648},{"$f":"VLOOKUP(DropDownList!$A$19,CntyQryCensus!$A$37:$CW$47,BH$1)","v":882},{"$f":"VLOOKUP(DropDownList!$A$19,CntyQryCensus!$A$37:$CW$47,BI$1)","v":278},{"$f":"VLOOKUP(DropDownList!$A$19,CntyQryCensus!$A$37:$CW$47,BJ$1)","v":118},{"$f":"VLOOKUP(DropDownList!$A$19,CntyQryCensus!$A$37:$CW$47,BK$1)","v":62},{"$f":"VLOOKUP(DropDownList!$A$19,CntyQryCensus!$A$37:$CW$47,BL$1)","v":10},{"$f":"VLOOKUP(DropDownList!$A$19,CntyQryCensus!$A$37:$CW$47,BM$1)","v":0},{"$f":"VLOOKUP(DropDownList!$A$19,CntyQryCensus!$A$37:$CW$47,BN$1)","v":96700},{"$f":"VLOOKUP(DropDownList!$A$19,CntyQryCensus!$A$37:$CW$47,BO$1)","v":2146},{"$f":"VLOOKUP(DropDownList!$A$19,CntyQryCensus!$A$37:$CW$47,BP$1)","v":0},{"$f":"VLOOKUP(DropDownList!$A$19,CntyQryCensus!$A$37:$CW$47,BQ$1)","v":67},{"$f":"VLOOKUP(DropDownList!$A$19,CntyQryCensus!$A$37:$CW$47,BR$1)","v":213},{"$f":"VLOOKUP(DropDownList!$A$19,CntyQryCensus!$A$37:$CW$47,BS$1)","v":772},{"$f":"VLOOKUP(DropDownList!$A$19,CntyQryCensus!$A$37:$CW$47,BT$1)","v":768},{"$f":"VLOOKUP(DropDownList!$A$19,CntyQryCensus!$A$37:$CW$47,BU$1)","v":208},{"$f":"VLOOKUP(DropDownList!$A$19,CntyQryCensus!$A$37:$CW$47,BV$1)","v":118},{"$f":"VLOOKUP(DropDownList!$A$19,CntyQryCensus!$A$37:$CW$47,BW$1)","v":1010},{"$f":"VLOOKUP(DropDownList!$A$19,CntyQryCensus!$A$37:$CW$47,BX$1)","v":888},{"$f":"VLOOKUP(DropDownList!$A$19,CntyQryCensus!$A$37:$CW$47,BY$1)","v":399},{"$f":"VLOOKUP(DropDownList!$A$19,CntyQryCensus!$A$37:$CW$47,BZ$1)","v":883},{"$f":"VLOOKUP(DropDownList!$A$19,CntyQryCensus!$A$37:$CW$47,CA$1)","v":605},{"$f":"VLOOKUP(DropDownList!$A$19,CntyQryCensus!$A$37:$CW$47,CB$1)","v":544},{"$f":"VLOOKUP(DropDownList!$A$19,CntyQryCensus!$A$37:$CW$47,CC$1)","v":302},{"$f":"VLOOKUP(DropDownList!$A$19,CntyQryCensus!$A$37:$CW$47,CD$1)","v":194},{"$f":"VLOOKUP(DropDownList!$A$19,CntyQryCensus!$A$37:$CW$47,CE$1)","v":499},{"$f":"VLOOKUP(DropDownList!$A$19,CntyQryCensus!$A$37:$CW$47,CF$1)","v":7},{"$f":"VLOOKUP(DropDownList!$A$19,CntyQryCensus!$A$37:$CW$47,CG$1)","v":2894},{"$f":"VLOOKUP(DropDownList!$A$19,CntyQryCensus!$A$37:$CW$47,CH$1)","v":143},{"$f":"VLOOKUP(DropDownList!$A$19,CntyQryCensus!$A$37:$CW$47,CI$1)","v":130},{"$f":"VLOOKUP(DropDownList!$A$19,CntyQryCensus!$A$37:$CW$47,CJ$1)","v":683},{"$f":"VLOOKUP(DropDownList!$A$19,CntyQryCensus!$A$37:$CW$47,CK$1)","v":1328},{"$f":"VLOOKUP(DropDownList!$A$19,CntyQryCensus!$A$37:$CW$47,CL$1)","v":377},{"$f":"VLOOKUP(DropDownList!$A$19,CntyQryCensus!$A$37:$CW$47,CM$1)","v":111},{"$f":"VLOOKUP(DropDownList!$A$19,CntyQryCensus!$A$37:$CW$47,CN$1)","v":0},{"$f":"VLOOKUP(DropDownList!$A$19,CntyQryCensus!$A$37:$CW$47,CO$1)","v":122},{"$f":"VLOOKUP(DropDownList!$A$19,CntyQryCensus!$A$37:$CW$47,CP$1)","v":570},{"$f":"VLOOKUP(DropDownList!$A$19,CntyQryCensus!$A$37:$CW$47,CQ$1)","v":419},{"$f":"VLOOKUP(DropDownList!$A$19,CntyQryCensus!$A$37:$CW$47,CR$1)","v":518},{"$f":"VLOOKUP(DropDownList!$A$19,CntyQryCensus!$A$37:$CW$47,CS$1)","v":424},{"$f":"VLOOKUP(DropDownList!$A$19,CntyQryCensus!$A$37:$CW$47,CT$1)","v":321},{"$f":"VLOOKUP(DropDownList!$A$19,CntyQryCensus!$A$37:$CW$47,CU$1)","v":247},{"$f":"VLOOKUP(DropDownList!$A$19,CntyQryCensus!$A$37:$CW$47,CV$1)","v":825},{"$f":"VLOOKUP(DropDownList!$A$19,CntyQryCensus!$A$37:$CW$47,CW$1)","v":140}]
[]
[]
["Census 2000 SummaryFile3 Sample Data  -  SF3CountyQry1SocialChar"]
["NAME","LOGRECNO","COUNTY","P01TotalPopulation","P02SampleCountOfPop","P03Pop100pctCount","P05UrbanPopulation","P05RuralPopulation","P06WhiteAlone","P06BlackOrAfAm","P06AmIndAlone","P06AsianAlone","P06HawaiianOrPI","P06OtherRace","P06TwoPlusRaces","P07NotHispanicOrLatino","P07HispanicOrLatino","P08MalePop","P08FemalePop","P09PopInHouseholds","P09PopInFamHH","P09PopInNonFamHH","P09PopInGroupQtr","P13TotalHH","P13FamilyHH","P13FamHHolder15to24yrs","P13FamHHolder25to34yrs","P13FamHHolder35to44yrs","P13FamHHolder45to54yrs","P13FamHHolder55to64yrs","P13FamHHolder65to74yrs","P13FamHHolder75to84yrs","P13FamHHolder85yrsOver","P13NonFamilyHH","P13NonFamHHolder15to24yrs","P13NonFamHHolder25to34yrs","P13NonFamHHolder35to44yrs","P13NonFamHHolder45to54yrs","P13NonFamHHolder55to64yrs","P13NonFamHHolder65to74yrs","P13NonFamHHolder75to84yrs","P13NonFamHHolder85yrsOver","P18Pop15yrsOver","P18MaritalStatNeverMarried","P18MaritalStatNowMarried","P18MaritalStatSeparated","P18MaritalStatWidowed","P18MaritalStatWidowFemale","P18MaritalStatDivorced","P18MaritalStatDivorcedFemale","P21NativeBornPop","P21NatPopBornInState","P21NatPopBornOtherState","P021005","P021006","P021007","P021008","P21NatPopBornOutUS","P21ForeignBornPop","P021014","P021015","P24Pop5YrsPlus","P24ResSameHouseIn95","P24ResDiffHouseIn95","P24ResDiffHouseInUSIn95","P24ResDiffHouseSameCountyIn95","P24ResDiffHouseDiffCountyIn95","P24ResDiffHouseDiffCntySamStIn95","P24ResDiffHouseDiffCntyDifStIn95","P24ResDiffHouseDiffCntyNEStIn95","P24ResDiffHouseDiffCntyMWStIn95","P24ResDiffHouseDiffCntySoStIn95","P24ResDiffHouseDiffCntyWstStIn95","P24ResDiffInPR","P24ResDiffElsewhereIn95","P26Workers16yrsOver","P26WorkedInState","P26WorkedInCnty","P26WorkedOutsideCnty","P26WorkedOutsideState","P30Workers16Over","P30TranspToWrkCar","P30TranspToWrkPublic","P30TranspToWrkOther","P30WrkdAtHome","P31WrkrsNotWrkAtHom","P31TravTim<5min","P31TravTim5to9Min","P31TravTim10to14Min","P31TravTim15to19Min","P31TravTim20to24Min","P31TravTim25to29Min","P31TravTim30to34Min","P31TravTim35to39Min","P31TravTim40to44Min","P31TravTim45to59Min","P31TravTim60to89Min","P31TravTim90MinMore","P31WorkAtHome","P36SchEnrlPop3yrOver","P36NurserSchEnrl","P36KinderSchEnrl","P36ElemSchEnrl","P36HighSchEnrl","P36CollGradSchEnrl","P37Pop25yrsOver","P37EduAtain<9grd","P37EduAtainHSnoDip","P37EduAtainHSgrad","P37EduAtainCollNoDeg","P37EduAtainAssocDeg","P37EduAtainBachDeg","P37EduAtainGradProfDeg","P42NIPop5to15","P42NIPop5to15wDisabl","P42NIPop16to20","P42NIPop16to20wDisab","P42NIPop16to20wDisEmp","P42NIPop16to21NoDis","P42NIPop16to21NoDisEmpl","P42NIPop21to64","P42NIPop21to64wDis","P42NIPop21to64wDisEmp","P42NIPop21to64NoDis","P42NIPop21to64NoDisEmp","P42NIPop65to74","P42NIPop65to74wDis","P42NIPop75Over","P42NIPop75OverwDis","P43Pop16YrsOver","P43Pop16OvrInLaborForce","P43Pop16OvrCivlLabFrc","P43Pop16OvrCivlLbrFrcEmp","P48Families","P48MarriedFam","P48MarrFamNoWorkers","P48MarrFam1Worker","P48MarrFam2Worker","P48MarrFamHusbspouseWorked","P48MarrFamOther","P48MarrFam3PlusWorker","P48MarrFam3WorkHsbWif","P48MarrFam3PlsWrkOther","P48OtherFam","P48MaleHHNoWif","P48MaleHHNoWifNoWorker","P48MaleHHNoWif1Worker","P48MaleHHNoWif2Worker","P48MaleHHNoWif3PlusWorker","P48FemaleHHNoHsb","P48FemaleHHNoHsbNoWorker","P48FemaleHHNoHsb1Worker","P48FemaleHHNoHsb2Worker","P48FemaleHHNoHsb3Worker","P49EmpCivPop16YrOver","P49IndustAgricult","P49IndustConst","P49IndustMnftg","P49IndustWhlslTrd","P49IndustRtlTrd","P49IndustTrspWrhsUtlt","P49IndustInfrm","P49IndustFinInsRE","P49IndustPrfsScntfMngmt","P49IndustEduHlthSocSrv","P49IndustArtsEntRec","P49IndustOthrSrvc","P49IndustPubAdm","P50OccupMngmtProfs","P50OccupService","P50OccupSalesOff","P50OccupFarmFishForest","P50OccupConstExtrctMaint","P50OccupPrdctTrnspMatMv"]
[{"$f":"VLOOKUP(DropDownList!$A$19,CntyQuery!$A$20:$CE$30,A$1)","v":"Laconia"},{"$f":"VLOOKUP(DropDownList!$A$19,CntyQryCensus!$A$55:$FR$65,B$1)","v":"0000155"},{"$f":"VLOOKUP(DropDownList!$A$19,CntyQryCensus!$A$55:$FR$65,C$1)","v":"40180"},{"$f":"VLOOKUP(DropDownList!$A$19,CntyQryCensus!$A$55:$FR$65,D$1)","v":16411},{"$f":"VLOOKUP(DropDownList!$A$19,CntyQryCensus!$A$55:$FR$65,E$1)","v":2580},{"$f":"VLOOKUP(DropDownList!$A$19,CntyQryCensus!$A$55:$FR$65,F$1)","v":16411},{"$f":"VLOOKUP(DropDownList!$A$19,CntyQryCensus!$A$55:$FR$65,G$1)","v":15589},{"$f":"VLOOKUP(DropDownList!$A$19,CntyQryCensus!$A$55:$FR$65,H$1)","v":822},{"$f":"VLOOKUP(DropDownList!$A$19,CntyQryCensus!$A$55:$FR$65,I$1)","v":15784},{"$f":"VLOOKUP(DropDownList!$A$19,CntyQryCensus!$A$55:$FR$65,J$1)","v":59},{"$f":"VLOOKUP(DropDownList!$A$19,CntyQryCensus!$A$55:$FR$65,K$1)","v":108},{"$f":"VLOOKUP(DropDownList!$A$19,CntyQryCensus!$A$55:$FR$65,L$1)","v":153},{"$f":"VLOOKUP(DropDownList!$A$19,CntyQryCensus!$A$55:$FR$65,M$1)","v":7},{"$f":"VLOOKUP(DropDownList!$A$19,CntyQryCensus!$A$55:$FR$65,N$1)","v":59},{"$f":"VLOOKUP(DropDownList!$A$19,CntyQryCensus!$A$55:$FR$65,O$1)","v":241},{"$f":"VLOOKUP(DropDownList!$A$19,CntyQryCensus!$A$55:$FR$65,P$1)","v":16244},{"$f":"VLOOKUP(DropDownList!$A$19,CntyQryCensus!$A$55:$FR$65,Q$1)","v":167},{"$f":"VLOOKUP(DropDownList!$A$19,CntyQryCensus!$A$55:$FR$65,R$1)","v":7979},{"$f":"VLOOKUP(DropDownList!$A$19,CntyQryCensus!$A$55:$FR$65,S$1)","v":8432},{"$f":"VLOOKUP(DropDownList!$A$19,CntyQryCensus!$A$55:$FR$65,T$1)","v":15593},{"$f":"VLOOKUP(DropDownList!$A$19,CntyQryCensus!$A$55:$FR$65,U$1)","v":12528},{"$f":"VLOOKUP(DropDownList!$A$19,CntyQryCensus!$A$55:$FR$65,V$1)","v":3065},{"$f":"VLOOKUP(DropDownList!$A$19,CntyQryCensus!$A$55:$FR$65,W$1)","v":818},{"$f":"VLOOKUP(DropDownList!$A$19,CntyQryCensus!$A$55:$FR$65,X$1)","v":6727},{"$f":"VLOOKUP(DropDownList!$A$19,CntyQryCensus!$A$55:$FR$65,Y$1)","v":4224},{"$f":"VLOOKUP(DropDownList!$A$19,CntyQryCensus!$A$55:$FR$65,Z$1)","v":238},{"$f":"VLOOKUP(DropDownList!$A$19,CntyQryCensus!$A$55:$FR$65,AA$1)","v":578},{"$f":"VLOOKUP(DropDownList!$A$19,CntyQryCensus!$A$55:$FR$65,AB$1)","v":1012},{"$f":"VLOOKUP(DropDownList!$A$19,CntyQryCensus!$A$55:$FR$65,AC$1)","v":880},{"$f":"VLOOKUP(DropDownList!$A$19,CntyQryCensus!$A$55:$FR$65,AD$1)","v":662},{"$f":"VLOOKUP(DropDownList!$A$19,CntyQryCensus!$A$55:$FR$65,AE$1)","v":548},{"$f":"VLOOKUP(DropDownList!$A$19,CntyQryCensus!$A$55:$FR$65,AF$1)","v":229},{"$f":"VLOOKUP(DropDownList!$A$19,CntyQryCensus!$A$55:$FR$65,AG$1)","v":77},{"$f":"VLOOKUP(DropDownList!$A$19,CntyQryCensus!$A$55:$FR$65,AH$1)","v":2503},{"$f":"VLOOKUP(DropDownList!$A$19,CntyQryCensus!$A$55:$FR$65,AI$1)","v":163},{"$f":"VLOOKUP(DropDownList!$A$19,CntyQryCensus!$A$55:$FR$65,AJ$1)","v":343},{"$f":"VLOOKUP(DropDownList!$A$19,CntyQryCensus!$A$55:$FR$65,AK$1)","v":384},{"$f":"VLOOKUP(DropDownList!$A$19,CntyQryCensus!$A$55:$FR$65,AL$1)","v":386},{"$f":"VLOOKUP(DropDownList!$A$19,CntyQryCensus!$A$55:$FR$65,AM$1)","v":300},{"$f":"VLOOKUP(DropDownList!$A$19,CntyQryCensus!$A$55:$FR$65,AN$1)","v":323},{"$f":"VLOOKUP(DropDownList!$A$19,CntyQryCensus!$A$55:$FR$65,AO$1)","v":428},{"$f":"VLOOKUP(DropDownList!$A$19,CntyQryCensus!$A$55:$FR$65,AP$1)","v":176},{"$f":"VLOOKUP(DropDownList!$A$19,CntyQryCensus!$A$55:$FR$65,AQ$1)","v":13428},{"$f":"VLOOKUP(DropDownList!$A$19,CntyQryCensus!$A$55:$FR$65,AR$1)","v":3466},{"$f":"VLOOKUP(DropDownList!$A$19,CntyQryCensus!$A$55:$FR$65,AS$1)","v":6978},{"$f":"VLOOKUP(DropDownList!$A$19,CntyQryCensus!$A$55:$FR$65,AT$1)","v":177},{"$f":"VLOOKUP(DropDownList!$A$19,CntyQryCensus!$A$55:$FR$65,AU$1)","v":1205},{"$f":"VLOOKUP(DropDownList!$A$19,CntyQryCensus!$A$55:$FR$65,AV$1)","v":935},{"$f":"VLOOKUP(DropDownList!$A$19,CntyQryCensus!$A$55:$FR$65,AW$1)","v":1602},{"$f":"VLOOKUP(DropDownList!$A$19,CntyQryCensus!$A$55:$FR$65,AX$1)","v":1027},{"$f":"VLOOKUP(DropDownList!$A$19,CntyQryCensus!$A$55:$FR$65,AY$1)","v":15831},{"$f":"VLOOKUP(DropDownList!$A$19,CntyQryCensus!$A$55:$FR$65,AZ$1)","v":9629},{"$f":"VLOOKUP(DropDownList!$A$19,CntyQryCensus!$A$55:$FR$65,BA$1)","v":6054},{"$f":"VLOOKUP(DropDownList!$A$19,CntyQryCensus!$A$55:$FR$65,BB$1)","v":4710},{"$f":"VLOOKUP(DropDownList!$A$19,CntyQryCensus!$A$55:$FR$65,BC$1)","v":499},{"$f":"VLOOKUP(DropDownList!$A$19,CntyQryCensus!$A$55:$FR$65,BD$1)","v":514},{"$f":"VLOOKUP(DropDownList!$A$19,CntyQryCensus!$A$55:$FR$65,BE$1)","v":331},{"$f":"VLOOKUP(DropDownList!$A$19,CntyQryCensus!$A$55:$FR$65,BF$1)","v":148},{"$f":"VLOOKUP(DropDownList!$A$19,CntyQryCensus!$A$55:$FR$65,BG$1)","v":580},{"$f":"VLOOKUP(DropDownList!$A$19,CntyQryCensus!$A$55:$FR$65,BH$1)","v":223},{"$f":"VLOOKUP(DropDownList!$A$19,CntyQryCensus!$A$55:$FR$65,BI$1)","v":357},{"$f":"VLOOKUP(DropDownList!$A$19,CntyQryCensus!$A$55:$FR$65,BJ$1)","v":15545},{"$f":"VLOOKUP(DropDownList!$A$19,CntyQryCensus!$A$55:$FR$65,BK$1)","v":7536},{"$f":"VLOOKUP(DropDownList!$A$19,CntyQryCensus!$A$55:$FR$65,BL$1)","v":8009},{"$f":"VLOOKUP(DropDownList!$A$19,CntyQryCensus!$A$55:$FR$65,BM$1)","v":7698},{"$f":"VLOOKUP(DropDownList!$A$19,CntyQryCensus!$A$55:$FR$65,BN$1)","v":4746},{"$f":"VLOOKUP(DropDownList!$A$19,CntyQryCensus!$A$55:$FR$65,BO$1)","v":2952},{"$f":"VLOOKUP(DropDownList!$A$19,CntyQryCensus!$A$55:$FR$65,BP$1)","v":1619},{"$f":"VLOOKUP(DropDownList!$A$19,CntyQryCensus!$A$55:$FR$65,BQ$1)","v":1333},{"$f":"VLOOKUP(DropDownList!$A$19,CntyQryCensus!$A$55:$FR$65,BR$1)","v":818},{"$f":"VLOOKUP(DropDownList!$A$19,CntyQryCensus!$A$55:$FR$65,BS$1)","v":53},{"$f":"VLOOKUP(DropDownList!$A$19,CntyQryCensus!$A$55:$FR$65,BT$1)","v":299},{"$f":"VLOOKUP(DropDownList!$A$19,CntyQryCensus!$A$55:$FR$65,BU$1)","v":163},{"$f":"VLOOKUP(DropDownList!$A$19,CntyQryCensus!$A$55:$FR$65,BV$1)","v":7},{"$f":"VLOOKUP(DropDownList!$A$19,CntyQryCensus!$A$55:$FR$65,BW$1)","v":304},{"$f":"VLOOKUP(DropDownList!$A$19,CntyQryCensus!$A$55:$FR$65,BX$1)","v":7767},{"$f":"VLOOKUP(DropDownList!$A$19,CntyQryCensus!$A$55:$FR$65,BY$1)","v":7603},{"$f":"VLOOKUP(DropDownList!$A$19,CntyQryCensus!$A$55:$FR$65,BZ$1)","v":6308},{"$f":"VLOOKUP(DropDownList!$A$19,CntyQryCensus!$A$55:$FR$65,CA$1)","v":1295},{"$f":"VLOOKUP(DropDownList!$A$19,CntyQryCensus!$A$55:$FR$65,CB$1)","v":164},{"$f":"VLOOKUP(DropDownList!$A$19,CntyQryCensus!$A$55:$FR$65,CC$1)","v":7767},{"$f":"VLOOKUP(DropDownList!$A$19,CntyQryCensus!$A$55:$FR$65,CD$1)","v":7066},{"$f":"VLOOKUP(DropDownList!$A$19,CntyQryCensus!$A$55:$FR$65,CE$1)","v":61},{"$f":"VLOOKUP(DropDownList!$A$19,CntyQryCensus!$A$55:$FR$65,CF$1)","v":56},{"$f":"VLOOKUP(DropDownList!$A$19,CntyQryCensus!$A$55:$FR$65,CG$1)","v":234},{"$f":"VLOOKUP(DropDownList!$A$19,CntyQryCensus!$A$55:$FR$65,CH$1)","v":7533},{"$f":"VLOOKUP(DropDownList!$A$19,CntyQryCensus!$A$55:$FR$65,CI$1)","v":497},{"$f":"VLOOKUP(DropDownList!$A$19,CntyQryCensus!$A$55:$FR$65,CJ$1)","v":1653},{"$f":"VLOOKUP(DropDownList!$A$19,CntyQryCensus!$A$55:$FR$65,CK$1)","v":1815},{"$f":"VLOOKUP(DropDownList!$A$19,CntyQryCensus!$A$55:$FR$65,CL$1)","v":1044},{"$f":"VLOOKUP(DropDownList!$A$19,CntyQryCensus!$A$55:$FR$65,CM$1)","v":576},{"$f":"VLOOKUP(DropDownList!$A$19,CntyQryCensus!$A$55:$FR$65,CN$1)","v":259},{"$f":"VLOOKUP(DropDownList!$A$19,CntyQryCensus!$A$55:$FR$65,CO$1)","v":437},{"$f":"VLOOKUP(DropDownList!$A$19,CntyQryCensus!$A$55:$FR$65,CP$1)","v":197},{"$f":"VLOOKUP(DropDownList!$A$19,CntyQryCensus!$A$55:$FR$65,CQ$1)","v":176},{"$f":"VLOOKUP(DropDownList!$A$19,CntyQryCensus!$A$55:$FR$65,CR$1)","v":304},{"$f":"VLOOKUP(DropDownList!$A$19,CntyQryCensus!$A$55:$FR$65,CS$1)","v":246},{"$f":"VLOOKUP(DropDownList!$A$19,CntyQryCensus!$A$55:$FR$65,CT$1)","v":329},{"$f":"VLOOKUP(DropDownList!$A$19,CntyQryCensus!$A$55:$FR$65,CU$1)","v":234},{"$f":"VLOOKUP(DropDownList!$A$19,CntyQryCensus!$A$55:$FR$65,CV$1)","v":15881},{"$f":"VLOOKUP(DropDownList!$A$19,CntyQryCensus!$A$55:$FR$65,CW$1)","v":231},{"$f":"VLOOKUP(DropDownList!$A$19,CntyQryCensus!$A$55:$FR$65,CX$1)","v":226},{"$f":"VLOOKUP(DropDownList!$A$19,CntyQryCensus!$A$55:$FR$65,CY$1)","v":1745},{"$f":"VLOOKUP(DropDownList!$A$19,CntyQryCensus!$A$55:$FR$65,CZ$1)","v":899},{"$f":"VLOOKUP(DropDownList!$A$19,CntyQryCensus!$A$55:$FR$65,DA$1)","v":570},{"$f":"VLOOKUP(DropDownList!$A$19,CntyQryCensus!$A$55:$FR$65,DB$1)","v":11295},{"$f":"VLOOKUP(DropDownList!$A$19,CntyQryCensus!$A$55:$FR$65,DC$1)","v":658},{"$f":"VLOOKUP(DropDownList!$A$19,CntyQryCensus!$A$55:$FR$65,DD$1)","v":1390},{"$f":"VLOOKUP(DropDownList!$A$19,CntyQryCensus!$A$55:$FR$65,DE$1)","v":3906},{"$f":"VLOOKUP(DropDownList!$A$19,CntyQryCensus!$A$55:$FR$65,DF$1)","v":2393},{"$f":"VLOOKUP(DropDownList!$A$19,CntyQryCensus!$A$55:$FR$65,DG$1)","v":731},{"$f":"VLOOKUP(DropDownList!$A$19,CntyQryCensus!$A$55:$FR$65,DH$1)","v":1509},{"$f":"VLOOKUP(DropDownList!$A$19,CntyQryCensus!$A$55:$FR$65,DI$1)","v":708},{"$f":"VLOOKUP(DropDownList!$A$19,CntyQryCensus!$A$55:$FR$65,DJ$1)","v":2343},{"$f":"VLOOKUP(DropDownList!$A$19,CntyQryCensus!$A$55:$FR$65,DK$1)","v":185},{"$f":"VLOOKUP(DropDownList!$A$19,CntyQryCensus!$A$55:$FR$65,DL$1)","v":962},{"$f":"VLOOKUP(DropDownList!$A$19,CntyQryCensus!$A$55:$FR$65,DM$1)","v":115},{"$f":"VLOOKUP(DropDownList!$A$19,CntyQryCensus!$A$55:$FR$65,DN$1)","v":68},{"$f":"VLOOKUP(DropDownList!$A$19,CntyQryCensus!$A$55:$FR$65,DO$1)","v":847},{"$f":"VLOOKUP(DropDownList!$A$19,CntyQryCensus!$A$55:$FR$65,DP$1)","v":399},{"$f":"VLOOKUP(DropDownList!$A$19,CntyQryCensus!$A$55:$FR$65,DQ$1)","v":8942},{"$f":"VLOOKUP(DropDownList!$A$19,CntyQryCensus!$A$55:$FR$65,DR$1)","v":1873},{"$f":"VLOOKUP(DropDownList!$A$19,CntyQryCensus!$A$55:$FR$65,DS$1)","v":1079},{"$f":"VLOOKUP(DropDownList!$A$19,CntyQryCensus!$A$55:$FR$65,DT$1)","v":7069},{"$f":"VLOOKUP(DropDownList!$A$19,CntyQryCensus!$A$55:$FR$65,DU$1)","v":6043},{"$f":"VLOOKUP(DropDownList!$A$19,CntyQryCensus!$A$55:$FR$65,DV$1)","v":1340},{"$f":"VLOOKUP(DropDownList!$A$19,CntyQryCensus!$A$55:$FR$65,DW$1)","v":353},{"$f":"VLOOKUP(DropDownList!$A$19,CntyQryCensus!$A$55:$FR$65,DX$1)","v":1194},{"$f":"VLOOKUP(DropDownList!$A$19,CntyQryCensus!$A$55:$FR$65,DY$1)","v":607},{"$f":"VLOOKUP(DropDownList!$A$19,CntyQryCensus!$A$55:$FR$65,DZ$1)","v":13202},{"$f":"VLOOKUP(DropDownList!$A$19,CntyQryCensus!$A$55:$FR$65,EA$1)","v":8290},{"$f":"VLOOKUP(DropDownList!$A$19,CntyQryCensus!$A$55:$FR$65,EB$1)","v":8290},{"$f":"VLOOKUP(DropDownList!$A$19,CntyQryCensus!$A$55:$FR$65,EC$1)","v":7956},{"$f":"VLOOKUP(DropDownList!$A$19,CntyQryCensus!$A$55:$FR$65,ED$1)","v":4224},{"$f":"VLOOKUP(DropDownList!$A$19,CntyQryCensus!$A$55:$FR$65,EE$1)","v":3242},{"$f":"VLOOKUP(DropDownList!$A$19,CntyQryCensus!$A$55:$FR$65,EF$1)","v":472},{"$f":"VLOOKUP(DropDownList!$A$19,CntyQryCensus!$A$55:$FR$65,EG$1)","v":587},{"$f":"VLOOKUP(DropDownList!$A$19,CntyQryCensus!$A$55:$FR$65,EH$1)","v":1783},{"$f":"VLOOKUP(DropDownList!$A$19,CntyQryCensus!$A$55:$FR$65,EI$1)","v":1682},{"$f":"VLOOKUP(DropDownList!$A$19,CntyQryCensus!$A$55:$FR$65,EJ$1)","v":101},{"$f":"VLOOKUP(DropDownList!$A$19,CntyQryCensus!$A$55:$FR$65,EK$1)","v":400},{"$f":"VLOOKUP(DropDownList!$A$19,CntyQryCensus!$A$55:$FR$65,EL$1)","v":382},{"$f":"VLOOKUP(DropDownList!$A$19,CntyQryCensus!$A$55:$FR$65,EM$1)","v":18},{"$f":"VLOOKUP(DropDownList!$A$19,CntyQryCensus!$A$55:$FR$65,EN$1)","v":982},{"$f":"VLOOKUP(DropDownList!$A$19,CntyQryCensus!$A$55:$FR$65,EO$1)","v":245},{"$f":"VLOOKUP(DropDownList!$A$19,CntyQryCensus!$A$55:$FR$65,EP$1)","v":0},{"$f":"VLOOKUP(DropDownList!$A$19,CntyQryCensus!$A$55:$FR$65,EQ$1)","v":138},{"$f":"VLOOKUP(DropDownList!$A$19,CntyQryCensus!$A$55:$FR$65,ER$1)","v":82},{"$f":"VLOOKUP(DropDownList!$A$19,CntyQryCensus!$A$55:$FR$65,ES$1)","v":25},{"$f":"VLOOKUP(DropDownList!$A$19,CntyQryCensus!$A$55:$FR$65,ET$1)","v":737},{"$f":"VLOOKUP(DropDownList!$A$19,CntyQryCensus!$A$55:$FR$65,EU$1)","v":98},{"$f":"VLOOKUP(DropDownList!$A$19,CntyQryCensus!$A$55:$FR$65,EV$1)","v":417},{"$f":"VLOOKUP(DropDownList!$A$19,CntyQryCensus!$A$55:$FR$65,EW$1)","v":207},{"$f":"VLOOKUP(DropDownList!$A$19,CntyQryCensus!$A$55:$FR$65,EX$1)","v":15},{"$f":"VLOOKUP(DropDownList!$A$19,CntyQryCensus!$A$55:$FR$65,EY$1)","v":7956},{"$f":"VLOOKUP(DropDownList!$A$19,CntyQryCensus!$A$55:$FR$65,EZ$1)","v":73},{"$f":"VLOOKUP(DropDownList!$A$19,CntyQryCensus!$A$55:$FR$65,FA$1)","v":646},{"$f":"VLOOKUP(DropDownList!$A$19,CntyQryCensus!$A$55:$FR$65,FB$1)","v":1470},{"$f":"VLOOKUP(DropDownList!$A$19,CntyQryCensus!$A$55:$FR$65,FC$1)","v":259},{"$f":"VLOOKUP(DropDownList!$A$19,CntyQryCensus!$A$55:$FR$65,FD$1)","v":1288},{"$f":"VLOOKUP(DropDownList!$A$19,CntyQryCensus!$A$55:$FR$65,FE$1)","v":163},{"$f":"VLOOKUP(DropDownList!$A$19,CntyQryCensus!$A$55:$FR$65,FF$1)","v":145},{"$f":"VLOOKUP(DropDownList!$A$19,CntyQryCensus!$A$55:$FR$65,FG$1)","v":406},{"$f":"VLOOKUP(DropDownList!$A$19,CntyQryCensus!$A$55:$FR$65,FH$1)","v":485},{"$f":"VLOOKUP(DropDownList!$A$19,CntyQryCensus!$A$55:$FR$65,FI$1)","v":1553},{"$f":"VLOOKUP(DropDownList!$A$19,CntyQryCensus!$A$55:$FR$65,FJ$1)","v":721},{"$f":"VLOOKUP(DropDownList!$A$19,CntyQryCensus!$A$55:$FR$65,FK$1)","v":364},{"$f":"VLOOKUP(DropDownList!$A$19,CntyQryCensus!$A$55:$FR$65,FL$1)","v":383},{"$f":"VLOOKUP(DropDownList!$A$19,CntyQryCensus!$A$55:$FR$65,FM$1)","v":2127},{"$f":"VLOOKUP(DropDownList!$A$19,CntyQryCensus!$A$55:$FR$65,FN$1)","v":1391},{"$f":"VLOOKUP(DropDownList!$A$19,CntyQryCensus!$A$55:$FR$65,FO$1)","v":2159},{"$f":"VLOOKUP(DropDownList!$A$19,CntyQryCensus!$A$55:$FR$65,FP$1)","v":23},{"$f":"VLOOKUP(DropDownList!$A$19,CntyQryCensus!$A$55:$FR$65,FQ$1)","v":799},{"$f":"VLOOKUP(DropDownList!$A$19,CntyQryCensus!$A$55:$FR$65,FR$1)","v":1457}]
[]
[]
["Census 2000 SummaryFile3 Sample Data  -  SF3CountyQry2aIncomeChar"]
["NAME","LOGRECNO","COUNTY","TotalPop","P52Households1","P52HHInc<10K","P52HHInc10to15K","P52HHInc15to20K","P52HHInc20to25K","P52HHInc25to30K","P52HHInc30to35K","P52HHInc35to40K","P52HHInc40to45K","P52HHInc45to50K","P52HHInc50to60K","P52HHInc60to75K","P52HHInc75to100K","P52HHInc100to125K","P52HHInc125to150K","P52HHInc150to200K","P52HHInc>200K","P53MedianHHInc","P54AggregHHInc","P55Households2","P55HHUnder25yrs","P55HH<25HHInc<10K","P55HH<25HHInc10to15K","P55HH<25HHInc15to20K","P55HH<25HHInc20to25K","P55HH<25HHInc25to30K","P55HH<25HHInc30to35K","P55HH<25HHInc35to40K","P55HH<25HHInc40to45K","P55HH<25HHInc45to50K","P55HH<25HHInc50to60K","P55HH<25HHInc60to75K","P55HH<25HHInc75to100K","P55HH<25HHInc100to125K","P55HH<25HHInc125to150K","P55HH<25HHInc150to200K","P55HH<25HHInc>200K","P55HH25to34yrs","P55HH25to34HHInc<10K","P55HH25to34HHInc10to15K","P55HH25to34HHInc15to20K","P55HH25to34HHInc20to25K","P55HH25to34HHInc25to30K","P55HH25to34HHInc30to35K","P55HH25to34HHInc35to40K","P55HH25to34HHInc40to45K","P55HH25to34HHInc45to50K","P55HH25to34HHInc50to60K","P55HH25to34HHInc60to75K","P55HH25to34HHInc75to100K","P55HH25to34HHInc100to125K","P55HH25to34HHInc125to150K","P55HH25to34HHInc150to200K","P55HH25to34HHInc>200K","P55HH35to44yrs","P55HH35to44HHInc<10K","P55HH35to44HHInc10to15K","P55HH35to44HHInc15to20K","P55HH35to44HHInc20to25K","P55HH35to44HHInc25to30K","P55HH35to44HHInc30to35K","P55HH35to44HHInc35to40K","P55HH35to44HHInc40to45K","P55HH35to44HHInc45to50K","P55HH35to44HHInc50to60K","P55HH35to44HHInc60to75K","P55HH35to44HHInc75to100K","P55HH35to44HHInc100to125K","P55HH35to44HHInc125to150K","P55HH35to44HHInc150to200K","P55HH35to44HHInc>200K","P55HH45to54yrs","P55HH45to55HHInc<10K","P55HH45to55HHInc10to15K","P55HH45to55HHInc15to20K","P55HH45to55HHInc20to25K","P55HH45to55HHInc25to30K","P55HH45to55HHInc30to35K","P55HH45to55HHInc35to40K","P55HH45to55HHInc40to45K","P55HH45to55HHInc45to50K","P55HH45to55HHInc50to60K","P55HH45to55HHInc60to75K","P55HH45to55HHInc75to100K","P55HH45to55HHInc100to125K","P55HH45to55HHInc125to150K","P55HH45to55HHInc150to200K","P55HH45to55HHInc>200K","P55HH55to64yrs","P55HH55to64HHInc<10K","P55HH55to64HHInc10to15K","P55HH55to64HHInc15to20K","P55HH55to64HHInc20to25K","P55HH55to64HHInc25to30K","P55HH55to64HHInc30to35K","P55HH55to64HHInc35to40K","P55HH55to64HHInc40to45K","P55HH55to64HHInc45to50K","P55HH55to64HHInc50to60K","P55HH55to64HHInc60to75K","P55HH55to64HHInc75to100K","P55HH55to64HHInc100to125K","P55HH55to64HHInc125to150K","P55HH55to64HHInc150to200K","P55HH55to64HHInc>200K","P55HH65to74yrs","P55HH65to74HHInc<10K","P55HH65to74HHInc10to15K","P55HH65to74HHInc15to20K","P55HH65to74HHInc20to25K","P55HH65to74HHInc25to30K","P55HH65to74HHInc30to35K","P55HH65to74HHInc35to40K","P55HH65to74HHInc40to45K","P55HH65to74HHInc45to50K","P55HH65to74HHInc50to60K","P55HH65to74HHInc60to75K","P55HH65to74HHInc75to100K","P55HH65to74HHInc100to125K","P55HH65to74HHInc125to150K","P55HH65to74HHInc150to200K","P55HH65to74HHInc>200K","P55HH>75yrs","P55HH>75HHInc<10K","P55HH>75HHInc10to15K","P55HH>75HHInc15to20K","P55HH>75HHInc20to25K","P55HH>75HHInc25to30K","P55HH>75HHInc30to35K","P55HH>75HHInc35to40K","P55HH>75HHInc40to45K","P55HH>75HHInc45to50K","P55HH>75HHInc50to60K","P55HH>75HHInc60to75K","P55HH>75HHInc75to100K","P55HH>75HHInc100to125K","P55HH>75HHInc125to150K","P55HH>75HHInc150to200K","P55HH>75HHInc>200K","P56MedHHInc","P56MedHHIncHH<25y","P56MedHHIncHH25to34y","P56MedHHIncHH35to44y","P56MedHHIncHH45to54y","P56MedHHIncHH55to64y","P56MedHHIncHH65to74y","P56MedHHIncHH>75y","P58Households3","P58HHwithEarnings","P58HHNoEarnings","P59HHwWageSalInc","P59HHNoWageSalInc","P60HHwSelfEmpInc","P60HHNoSelfEmpInc","P61HHwIndDivInc","P61HHNoIndDivInc","P62HHwSocSecInc","P62HHNoSocSecInc","P63HHwSSI","P63HHNoSSI","P64HHwPubAssInc","P64HHNoPubAssInc","P65HHwRetInc","P65HHNoRetInc","P66HHwOtherTypInc","P66HHNoOtherTypInc","P67AggregEarnings","P68AggregWageSalInc","P69AggregSelfEmpInc","P70AggregIntDivInc","P71AggregSocSecInc","P72AggregSSIInc","P73AggregPublicAssInc","P74AggregRetireInc","P76Families1","P76FamInc<10K","P76FamInc10to15K","P76FamInc15to20K","P76FamInc20to25K","P76FamInc25to30K","P76FamInc30to35K","P76FamInc35to40K","P76FamInc40to45K","P76FamInc45to50K","P76FamInc50to60K","P76FamInc60to75K","P76FamInc75to100K","P76FamInc100to125K","P76FamInc125to150K","P76FamInc150to200K","P76FamInc>200K","P77MedFamInc","P78AggregFamInc","P79NonFamHH","P79NonFamHHwInc<10K","P79NonFamHHwInc10to15K","P79NonFamHHwInc15to20K","P79NonFamHHwInc20to25K","P79NonFamHHwInc25to30K","P79NonFamHHwInc30to35K","P79NonFamHHwInc35to40K","P79NonFamHHwInc40to45K","P79NonFamHHwInc45to50K","P79NonFamHHwInc50to60K","P79NonFamHHwInc60to75K","P79NonFamHHwInc75to100K","P79NonFamHHwInc100to125K","P79NonFamHHwInc125to150K","P79NonFamHHwInc150to200K","P79NonFamHHwInc200KorMore","P80MedNonFamInc","P82PerCapitaInc"]
[{"$f":"VLOOKUP(DropDownList!$A$19,CntyQuery!$A$20:$CE$30,A$1)","v":"Laconia"},{"$f":"VLOOKUP(DropDownList!$A$19,CntyQryCensus!$A$71:$IK$81,B$1)","v":"0000155"},{"$f":"VLOOKUP(DropDownList!$A$19,CntyQryCensus!$A$71:$IK$81,C$1)","v":"40180"},{"$f":"VLOOKUP(DropDownList!$A$19,CntyQryCensus!$A$71:$IK$81,D$1)","v":16411},{"$f":"VLOOKUP(DropDownList!$A$19,CntyQryCensus!$A$71:$IK$81,E$1)","v":6727},{"$f":"VLOOKUP(DropDownList!$A$19,CntyQryCensus!$A$71:$IK$81,F$1)","v":633},{"$f":"VLOOKUP(DropDownList!$A$19,CntyQryCensus!$A$71:$IK$81,G$1)","v":472},{"$f":"VLOOKUP(DropDownList!$A$19,CntyQryCensus!$A$71:$IK$81,H$1)","v":489},{"$f":"VLOOKUP(DropDownList!$A$19,CntyQryCensus!$A$71:$IK$81,I$1)","v":532},{"$f":"VLOOKUP(DropDownList!$A$19,CntyQryCensus!$A$71:$IK$81,J$1)","v":489},{"$f":"VLOOKUP(DropDownList!$A$19,CntyQryCensus!$A$71:$IK$81,K$1)","v":520},{"$f":"VLOOKUP(DropDownList!$A$19,CntyQryCensus!$A$71:$IK$81,L$1)","v":463},{"$f":"VLOOKUP(DropDownList!$A$19,CntyQryCensus!$A$71:$IK$81,M$1)","v":484},{"$f":"VLOOKUP(DropDownList!$A$19,CntyQryCensus!$A$71:$IK$81,N$1)","v":409},{"$f":"VLOOKUP(DropDownList!$A$19,CntyQryCensus!$A$71:$IK$81,O$1)","v":610},{"$f":"VLOOKUP(DropDownList!$A$19,CntyQryCensus!$A$71:$IK$81,P$1)","v":679},{"$f":"VLOOKUP(DropDownList!$A$19,CntyQryCensus!$A$71:$IK$81,Q$1)","v":550},{"$f":"VLOOKUP(DropDownList!$A$19,CntyQryCensus!$A$71:$IK$81,R$1)","v":224},{"$f":"VLOOKUP(DropDownList!$A$19,CntyQryCensus!$A$71:$IK$81,S$1)","v":58},{"$f":"VLOOKUP(DropDownList!$A$19,CntyQryCensus!$A$71:$IK$81,T$1)","v":42},{"$f":"VLOOKUP(DropDownList!$A$19,CntyQryCensus!$A$71:$IK$81,U$1)","v":73},{"$f":"VLOOKUP(DropDownList!$A$19,CntyQryCensus!$A$71:$IK$81,V$1)","v":37796},{"$f":"VLOOKUP(DropDownList!$A$19,CntyQryCensus!$A$71:$IK$81,W$1)","v":311048600},{"$f":"VLOOKUP(DropDownList!$A$19,CntyQryCensus!$A$71:$IK$81,X$1)","v":6727},{"$f":"VLOOKUP(DropDownList!$A$19,CntyQryCensus!$A$71:$IK$81,Y$1)","v":401},{"$f":"VLOOKUP(DropDownList!$A$19,CntyQryCensus!$A$71:$IK$81,Z$1)","v":75},{"$f":"VLOOKUP(DropDownList!$A$19,CntyQryCensus!$A$71:$IK$81,AA$1)","v":50},{"$f":"VLOOKUP(DropDownList!$A$19,CntyQryCensus!$A$71:$IK$81,AB$1)","v":21},{"$f":"VLOOKUP(DropDownList!$A$19,CntyQryCensus!$A$71:$IK$81,AC$1)","v":57},{"$f":"VLOOKUP(DropDownList!$A$19,CntyQryCensus!$A$71:$IK$81,AD$1)","v":28},{"$f":"VLOOKUP(DropDownList!$A$19,CntyQryCensus!$A$71:$IK$81,AE$1)","v":49},{"$f":"VLOOKUP(DropDownList!$A$19,CntyQryCensus!$A$71:$IK$81,AF$1)","v":34},{"$f":"VLOOKUP(DropDownList!$A$19,CntyQryCensus!$A$71:$IK$81,AG$1)","v":29},{"$f":"VLOOKUP(DropDownList!$A$19,CntyQryCensus!$A$71:$IK$81,AH$1)","v":18},{"$f":"VLOOKUP(DropDownList!$A$19,CntyQryCensus!$A$71:$IK$81,AI$1)","v":22},{"$f":"VLOOKUP(DropDownList!$A$19,CntyQryCensus!$A$71:$IK$81,AJ$1)","v":6},{"$f":"VLOOKUP(DropDownList!$A$19,CntyQryCensus!$A$71:$IK$81,AK$1)","v":12},{"$f":"VLOOKUP(DropDownList!$A$19,CntyQryCensus!$A$71:$IK$81,AL$1)","v":0},{"$f":"VLOOKUP(DropDownList!$A$19,CntyQryCensus!$A$71:$IK$81,AM$1)","v":0},{"$f":"VLOOKUP(DropDownList!$A$19,CntyQryCensus!$A$71:$IK$81,AN$1)","v":0},{"$f":"VLOOKUP(DropDownList!$A$19,CntyQryCensus!$A$71:$IK$81,AO$1)","v":0},{"$f":"VLOOKUP(DropDownList!$A$19,CntyQryCensus!$A$71:$IK$81,AP$1)","v":921},{"$f":"VLOOKUP(DropDownList!$A$19,CntyQryCensus!$A$71:$IK$81,AQ$1)","v":56},{"$f":"VLOOKUP(DropDownList!$A$19,CntyQryCensus!$A$71:$IK$81,AR$1)","v":31},{"$f":"VLOOKUP(DropDownList!$A$19,CntyQryCensus!$A$71:$IK$81,AS$1)","v":61},{"$f":"VLOOKUP(DropDownList!$A$19,CntyQryCensus!$A$71:$IK$81,AT$1)","v":86},{"$f":"VLOOKUP(DropDownList!$A$19,CntyQryCensus!$A$71:$IK$81,AU$1)","v":71},{"$f":"VLOOKUP(DropDownList!$A$19,CntyQryCensus!$A$71:$IK$81,AV$1)","v":139},{"$f":"VLOOKUP(DropDownList!$A$19,CntyQryCensus!$A$71:$IK$81,AW$1)","v":65},{"$f":"VLOOKUP(DropDownList!$A$19,CntyQryCensus!$A$71:$IK$81,AX$1)","v":71},{"$f":"VLOOKUP(DropDownList!$A$19,CntyQryCensus!$A$71:$IK$81,AY$1)","v":84},{"$f":"VLOOKUP(DropDownList!$A$19,CntyQryCensus!$A$71:$IK$81,AZ$1)","v":86},{"$f":"VLOOKUP(DropDownList!$A$19,CntyQryCensus!$A$71:$IK$81,BA$1)","v":107},{"$f":"VLOOKUP(DropDownList!$A$19,CntyQryCensus!$A$71:$IK$81,BB$1)","v":48},{"$f":"VLOOKUP(DropDownList!$A$19,CntyQryCensus!$A$71:$IK$81,BC$1)","v":16},{"$f":"VLOOKUP(DropDownList!$A$19,CntyQryCensus!$A$71:$IK$81,BD$1)","v":0},{"$f":"VLOOKUP(DropDownList!$A$19,CntyQryCensus!$A$71:$IK$81,BE$1)","v":0},{"$f":"VLOOKUP(DropDownList!$A$19,CntyQryCensus!$A$71:$IK$81,BF$1)","v":0},{"$f":"VLOOKUP(DropDownList!$A$19,CntyQryCensus!$A$71:$IK$81,BG$1)","v":1396},{"$f":"VLOOKUP(DropDownList!$A$19,CntyQryCensus!$A$71:$IK$81,BH$1)","v":80},{"$f":"VLOOKUP(DropDownList!$A$19,CntyQryCensus!$A$71:$IK$81,BI$1)","v":73},{"$f":"VLOOKUP(DropDownList!$A$19,CntyQryCensus!$A$71:$IK$81,BJ$1)","v":81},{"$f":"VLOOKUP(DropDownList!$A$19,CntyQryCensus!$A$71:$IK$81,BK$1)","v":108},{"$f":"VLOOKUP(DropDownList!$A$19,CntyQryCensus!$A$71:$IK$81,BL$1)","v":83},{"$f":"VLOOKUP(DropDownList!$A$19,CntyQryCensus!$A$71:$IK$81,BM$1)","v":86},{"$f":"VLOOKUP(DropDownList!$A$19,CntyQryCensus!$A$71:$IK$81,BN$1)","v":91},{"$f":"VLOOKUP(DropDownList!$A$19,CntyQryCensus!$A$71:$IK$81,BO$1)","v":123},{"$f":"VLOOKUP(DropDownList!$A$19,CntyQryCensus!$A$71:$IK$81,BP$1)","v":121},{"$f":"VLOOKUP(DropDownList!$A$19,CntyQryCensus!$A$71:$IK$81,BQ$1)","v":149},{"$f":"VLOOKUP(DropDownList!$A$19,CntyQryCensus!$A$71:$IK$81,BR$1)","v":201},{"$f":"VLOOKUP(DropDownList!$A$19,CntyQryCensus!$A$71:$IK$81,BS$1)","v":123},{"$f":"VLOOKUP(DropDownList!$A$19,CntyQryCensus!$A$71:$IK$81,BT$1)","v":48},{"$f":"VLOOKUP(DropDownList!$A$19,CntyQryCensus!$A$71:$IK$81,BU$1)","v":18},{"$f":"VLOOKUP(DropDownList!$A$19,CntyQryCensus!$A$71:$IK$81,BV$1)","v":6},{"$f":"VLOOKUP(DropDownList!$A$19,CntyQryCensus!$A$71:$IK$81,BW$1)","v":5},{"$f":"VLOOKUP(DropDownList!$A$19,CntyQryCensus!$A$71:$IK$81,BX$1)","v":1266},{"$f":"VLOOKUP(DropDownList!$A$19,CntyQryCensus!$A$71:$IK$81,BY$1)","v":81},{"$f":"VLOOKUP(DropDownList!$A$19,CntyQryCensus!$A$71:$IK$81,BZ$1)","v":24},{"$f":"VLOOKUP(DropDownList!$A$19,CntyQryCensus!$A$71:$IK$81,CA$1)","v":66},{"$f":"VLOOKUP(DropDownList!$A$19,CntyQryCensus!$A$71:$IK$81,CB$1)","v":69},{"$f":"VLOOKUP(DropDownList!$A$19,CntyQryCensus!$A$71:$IK$81,CC$1)","v":86},{"$f":"VLOOKUP(DropDownList!$A$19,CntyQryCensus!$A$71:$IK$81,CD$1)","v":69},{"$f":"VLOOKUP(DropDownList!$A$19,CntyQryCensus!$A$71:$IK$81,CE$1)","v":79},{"$f":"VLOOKUP(DropDownList!$A$19,CntyQryCensus!$A$71:$IK$81,CF$1)","v":83},{"$f":"VLOOKUP(DropDownList!$A$19,CntyQryCensus!$A$71:$IK$81,CG$1)","v":63},{"$f":"VLOOKUP(DropDownList!$A$19,CntyQryCensus!$A$71:$IK$81,CH$1)","v":141},{"$f":"VLOOKUP(DropDownList!$A$19,CntyQryCensus!$A$71:$IK$81,CI$1)","v":152},{"$f":"VLOOKUP(DropDownList!$A$19,CntyQryCensus!$A$71:$IK$81,CJ$1)","v":177},{"$f":"VLOOKUP(DropDownList!$A$19,CntyQryCensus!$A$71:$IK$81,CK$1)","v":101},{"$f":"VLOOKUP(DropDownList!$A$19,CntyQryCensus!$A$71:$IK$81,CL$1)","v":14},{"$f":"VLOOKUP(DropDownList!$A$19,CntyQryCensus!$A$71:$IK$81,CM$1)","v":30},{"$f":"VLOOKUP(DropDownList!$A$19,CntyQryCensus!$A$71:$IK$81,CN$1)","v":31},{"$f":"VLOOKUP(DropDownList!$A$19,CntyQryCensus!$A$71:$IK$81,CO$1)","v":962},{"$f":"VLOOKUP(DropDownList!$A$19,CntyQryCensus!$A$71:$IK$81,CP$1)","v":62},{"$f":"VLOOKUP(DropDownList!$A$19,CntyQryCensus!$A$71:$IK$81,CQ$1)","v":40},{"$f":"VLOOKUP(DropDownList!$A$19,CntyQryCensus!$A$71:$IK$81,CR$1)","v":65},{"$f":"VLOOKUP(DropDownList!$A$19,CntyQryCensus!$A$71:$IK$81,CS$1)","v":27},{"$f":"VLOOKUP(DropDownList!$A$19,CntyQryCensus!$A$71:$IK$81,CT$1)","v":68},{"$f":"VLOOKUP(DropDownList!$A$19,CntyQryCensus!$A$71:$IK$81,CU$1)","v":62},{"$f":"VLOOKUP(DropDownList!$A$19,CntyQryCensus!$A$71:$IK$81,CV$1)","v":46},{"$f":"VLOOKUP(DropDownList!$A$19,CntyQryCensus!$A$71:$IK$81,CW$1)","v":82},{"$f":"VLOOKUP(DropDownList!$A$19,CntyQryCensus!$A$71:$IK$81,CX$1)","v":69},{"$f":"VLOOKUP(DropDownList!$A$19,CntyQryCensus!$A$71:$IK$81,CY$1)","v":124},{"$f":"VLOOKUP(DropDownList!$A$19,CntyQryCensus!$A$71:$IK$81,CZ$1)","v":157},{"$f":"VLOOKUP(DropDownList!$A$19,CntyQryCensus!$A$71:$IK$81,DA$1)","v":82},{"$f":"VLOOKUP(DropDownList!$A$19,CntyQryCensus!$A$71:$IK$81,DB$1)","v":30},{"$f":"VLOOKUP(DropDownList!$A$19,CntyQryCensus!$A$71:$IK$81,DC$1)","v":19},{"$f":"VLOOKUP(DropDownList!$A$19,CntyQryCensus!$A$71:$IK$81,DD$1)","v":6},{"$f":"VLOOKUP(DropDownList!$A$19,CntyQryCensus!$A$71:$IK$81,DE$1)","v":23},{"$f":"VLOOKUP(DropDownList!$A$19,CntyQryCensus!$A$71:$IK$81,DF$1)","v":871},{"$f":"VLOOKUP(DropDownList!$A$19,CntyQryCensus!$A$71:$IK$81,DG$1)","v":69},{"$f":"VLOOKUP(DropDownList!$A$19,CntyQryCensus!$A$71:$IK$81,DH$1)","v":89},{"$f":"VLOOKUP(DropDownList!$A$19,CntyQryCensus!$A$71:$IK$81,DI$1)","v":59},{"$f":"VLOOKUP(DropDownList!$A$19,CntyQryCensus!$A$71:$IK$81,DJ$1)","v":106},{"$f":"VLOOKUP(DropDownList!$A$19,CntyQryCensus!$A$71:$IK$81,DK$1)","v":102},{"$f":"VLOOKUP(DropDownList!$A$19,CntyQryCensus!$A$71:$IK$81,DL$1)","v":86},{"$f":"VLOOKUP(DropDownList!$A$19,CntyQryCensus!$A$71:$IK$81,DM$1)","v":88},{"$f":"VLOOKUP(DropDownList!$A$19,CntyQryCensus!$A$71:$IK$81,DN$1)","v":47},{"$f":"VLOOKUP(DropDownList!$A$19,CntyQryCensus!$A$71:$IK$81,DO$1)","v":38},{"$f":"VLOOKUP(DropDownList!$A$19,CntyQryCensus!$A$71:$IK$81,DP$1)","v":62},{"$f":"VLOOKUP(DropDownList!$A$19,CntyQryCensus!$A$71:$IK$81,DQ$1)","v":39},{"$f":"VLOOKUP(DropDownList!$A$19,CntyQryCensus!$A$71:$IK$81,DR$1)","v":50},{"$f":"VLOOKUP(DropDownList!$A$19,CntyQryCensus!$A$71:$IK$81,DS$1)","v":22},{"$f":"VLOOKUP(DropDownList!$A$19,CntyQryCensus!$A$71:$IK$81,DT$1)","v":0},{"$f":"VLOOKUP(DropDownList!$A$19,CntyQryCensus!$A$71:$IK$81,DU$1)","v":0},{"$f":"VLOOKUP(DropDownList!$A$19,CntyQryCensus!$A$71:$IK$81,DV$1)","v":14},{"$f":"VLOOKUP(DropDownList!$A$19,CntyQryCensus!$A$71:$IK$81,DW$1)","v":910},{"$f":"VLOOKUP(DropDownList!$A$19,CntyQryCensus!$A$71:$IK$81,DX$1)","v":210},{"$f":"VLOOKUP(DropDownList!$A$19,CntyQryCensus!$A$71:$IK$81,DY$1)","v":165},{"$f":"VLOOKUP(DropDownList!$A$19,CntyQryCensus!$A$71:$IK$81,DZ$1)","v":136},{"$f":"VLOOKUP(DropDownList!$A$19,CntyQryCensus!$A$71:$IK$81,EA$1)","v":79},{"$f":"VLOOKUP(DropDownList!$A$19,CntyQryCensus!$A$71:$IK$81,EB$1)","v":51},{"$f":"VLOOKUP(DropDownList!$A$19,CntyQryCensus!$A$71:$IK$81,EC$1)","v":29},{"$f":"VLOOKUP(DropDownList!$A$19,CntyQryCensus!$A$71:$IK$81,ED$1)","v":60},{"$f":"VLOOKUP(DropDownList!$A$19,CntyQryCensus!$A$71:$IK$81,EE$1)","v":49},{"$f":"VLOOKUP(DropDownList!$A$19,CntyQryCensus!$A$71:$IK$81,EF$1)","v":16},{"$f":"VLOOKUP(DropDownList!$A$19,CntyQryCensus!$A$71:$IK$81,EG$1)","v":26},{"$f":"VLOOKUP(DropDownList!$A$19,CntyQryCensus!$A$71:$IK$81,EH$1)","v":17},{"$f":"VLOOKUP(DropDownList!$A$19,CntyQryCensus!$A$71:$IK$81,EI$1)","v":58},{"$f":"VLOOKUP(DropDownList!$A$19,CntyQryCensus!$A$71:$IK$81,EJ$1)","v":7},{"$f":"VLOOKUP(DropDownList!$A$19,CntyQryCensus!$A$71:$IK$81,EK$1)","v":7},{"$f":"VLOOKUP(DropDownList!$A$19,CntyQryCensus!$A$71:$IK$81,EL$1)","v":0},{"$f":"VLOOKUP(DropDownList!$A$19,CntyQryCensus!$A$71:$IK$81,EM$1)","v":0},{"$f":"VLOOKUP(DropDownList!$A$19,CntyQryCensus!$A$71:$IK$81,EN$1)","v":37796},{"$f":"VLOOKUP(DropDownList!$A$19,CntyQryCensus!$A$71:$IK$81,EO$1)","v":24777},{"$f":"VLOOKUP(DropDownList!$A$19,CntyQryCensus!$A$71:$IK$81,EP$1)","v":36289},{"$f":"VLOOKUP(DropDownList!$A$19,CntyQryCensus!$A$71:$IK$81,EQ$1)","v":43269},{"$f":"VLOOKUP(DropDownList!$A$19,CntyQryCensus!$A$71:$IK$81,ER$1)","v":51121},{"$f":"VLOOKUP(DropDownList!$A$19,CntyQryCensus!$A$71:$IK$81,ES$1)","v":46648},{"$f":"VLOOKUP(DropDownList!$A$19,CntyQryCensus!$A$71:$IK$81,ET$1)","v":31050},{"$f":"VLOOKUP(DropDownList!$A$19,CntyQryCensus!$A$71:$IK$81,EU$1)","v":18250},{"$f":"VLOOKUP(DropDownList!$A$19,CntyQryCensus!$A$71:$IK$81,EV$1)","v":6727},{"$f":"VLOOKUP(DropDownList!$A$19,CntyQryCensus!$A$71:$IK$81,EW$1)","v":5227},{"$f":"VLOOKUP(DropDownList!$A$19,CntyQryCensus!$A$71:$IK$81,EX$1)","v":1500},{"$f":"VLOOKUP(DropDownList!$A$19,CntyQryCensus!$A$71:$IK$81,EY$1)","v":5011},{"$f":"VLOOKUP(DropDownList!$A$19,CntyQryCensus!$A$71:$IK$81,EZ$1)","v":1716},{"$f":"VLOOKUP(DropDownList!$A$19,CntyQryCensus!$A$71:$IK$81,FA$1)","v":908},{"$f":"VLOOKUP(DropDownList!$A$19,CntyQryCensus!$A$71:$IK$81,FB$1)","v":5819},{"$f":"VLOOKUP(DropDownList!$A$19,CntyQryCensus!$A$71:$IK$81,FC$1)","v":2615},{"$f":"VLOOKUP(DropDownList!$A$19,CntyQryCensus!$A$71:$IK$81,FD$1)","v":4112},{"$f":"VLOOKUP(DropDownList!$A$19,CntyQryCensus!$A$71:$IK$81,FE$1)","v":2211},{"$f":"VLOOKUP(DropDownList!$A$19,CntyQryCensus!$A$71:$IK$81,FF$1)","v":4516},{"$f":"VLOOKUP(DropDownList!$A$19,CntyQryCensus!$A$71:$IK$81,FG$1)","v":327},{"$f":"VLOOKUP(DropDownList!$A$19,CntyQryCensus!$A$71:$IK$81,FH$1)","v":6400},{"$f":"VLOOKUP(DropDownList!$A$19,CntyQryCensus!$A$71:$IK$81,FI$1)","v":299},{"$f":"VLOOKUP(DropDownList!$A$19,CntyQryCensus!$A$71:$IK$81,FJ$1)","v":6428},{"$f":"VLOOKUP(DropDownList!$A$19,CntyQryCensus!$A$71:$IK$81,FK$1)","v":1309},{"$f":"VLOOKUP(DropDownList!$A$19,CntyQryCensus!$A$71:$IK$81,FL$1)","v":5418},{"$f":"VLOOKUP(DropDownList!$A$19,CntyQryCensus!$A$71:$IK$81,FM$1)","v":930},{"$f":"VLOOKUP(DropDownList!$A$19,CntyQryCensus!$A$71:$IK$81,FN$1)","v":5797},{"$f":"VLOOKUP(DropDownList!$A$19,CntyQryCensus!$A$71:$IK$81,FO$1)","v":241446900},{"$f":"VLOOKUP(DropDownList!$A$19,CntyQryCensus!$A$71:$IK$81,FP$1)","v":218699000},{"$f":"VLOOKUP(DropDownList!$A$19,CntyQryCensus!$A$71:$IK$81,FQ$1)","v":22747900},{"$f":"VLOOKUP(DropDownList!$A$19,CntyQryCensus!$A$71:$IK$81,FR$1)","v":18730400},{"$f":"VLOOKUP(DropDownList!$A$19,CntyQryCensus!$A$71:$IK$81,FS$1)","v":25352600},{"$f":"VLOOKUP(DropDownList!$A$19,CntyQryCensus!$A$71:$IK$81,FT$1)","v":2251500},{"$f":"VLOOKUP(DropDownList!$A$19,CntyQryCensus!$A$71:$IK$81,FU$1)","v":614900},{"$f":"VLOOKUP(DropDownList!$A$19,CntyQryCensus!$A$71:$IK$81,FV$1)","v":15265300},{"$f":"VLOOKUP(DropDownList!$A$19,CntyQryCensus!$A$71:$IK$81,FW$1)","v":4224},{"$f":"VLOOKUP(DropDownList!$A$19,CntyQryCensus!$A$71:$IK$81,FX$1)","v":192},{"$f":"VLOOKUP(DropDownList!$A$19,CntyQryCensus!$A$71:$IK$81,FY$1)","v":172},{"$f":"VLOOKUP(DropDownList!$A$19,CntyQryCensus!$A$71:$IK$81,FZ$1)","v":175},{"$f":"VLOOKUP(DropDownList!$A$19,CntyQryCensus!$A$71:$IK$81,GA$1)","v":302},{"$f":"VLOOKUP(DropDownList!$A$19,CntyQryCensus!$A$71:$IK$81,GB$1)","v":285},{"$f":"VLOOKUP(DropDownList!$A$19,CntyQryCensus!$A$71:$IK$81,GC$1)","v":297},{"$f":"VLOOKUP(DropDownList!$A$19,CntyQryCensus!$A$71:$IK$81,GD$1)","v":341},{"$f":"VLOOKUP(DropDownList!$A$19,CntyQryCensus!$A$71:$IK$81,GE$1)","v":328},{"$f":"VLOOKUP(DropDownList!$A$19,CntyQryCensus!$A$71:$IK$81,GF$1)","v":295},{"$f":"VLOOKUP(DropDownList!$A$19,CntyQryCensus!$A$71:$IK$81,GG$1)","v":524},{"$f":"VLOOKUP(DropDownList!$A$19,CntyQryCensus!$A$71:$IK$81,GH$1)","v":501},{"$f":"VLOOKUP(DropDownList!$A$19,CntyQryCensus!$A$71:$IK$81,GI$1)","v":452},{"$f":"VLOOKUP(DropDownList!$A$19,CntyQryCensus!$A$71:$IK$81,GJ$1)","v":208},{"$f":"VLOOKUP(DropDownList!$A$19,CntyQryCensus!$A$71:$IK$81,GK$1)","v":37},{"$f":"VLOOKUP(DropDownList!$A$19,CntyQryCensus!$A$71:$IK$81,GL$1)","v":42},{"$f":"VLOOKUP(DropDownList!$A$19,CntyQryCensus!$A$71:$IK$81,GM$1)","v":73},{"$f":"VLOOKUP(DropDownList!$A$19,CntyQryCensus!$A$71:$IK$81,GN$1)","v":45307},{"$f":"VLOOKUP(DropDownList!$A$19,CntyQryCensus!$A$71:$IK$81,GO$1)","v":235385900},{"$f":"VLOOKUP(DropDownList!$A$19,CntyQryCensus!$A$71:$IK$81,GP$1)","v":2503},{"$f":"VLOOKUP(DropDownList!$A$19,CntyQryCensus!$A$71:$IK$81,GQ$1)","v":484},{"$f":"VLOOKUP(DropDownList!$A$19,CntyQryCensus!$A$71:$IK$81,GR$1)","v":329},{"$f":"VLOOKUP(DropDownList!$A$19,CntyQryCensus!$A$71:$IK$81,GS$1)","v":326},{"$f":"VLOOKUP(DropDownList!$A$19,CntyQryCensus!$A$71:$IK$81,GT$1)","v":254},{"$f":"VLOOKUP(DropDownList!$A$19,CntyQryCensus!$A$71:$IK$81,GU$1)","v":220},{"$f":"VLOOKUP(DropDownList!$A$19,CntyQryCensus!$A$71:$IK$81,GV$1)","v":198},{"$f":"VLOOKUP(DropDownList!$A$19,CntyQryCensus!$A$71:$IK$81,GW$1)","v":134},{"$f":"VLOOKUP(DropDownList!$A$19,CntyQryCensus!$A$71:$IK$81,GX$1)","v":148},{"$f":"VLOOKUP(DropDownList!$A$19,CntyQryCensus!$A$71:$IK$81,GY$1)","v":93},{"$f":"VLOOKUP(DropDownList!$A$19,CntyQryCensus!$A$71:$IK$81,GZ$1)","v":82},{"$f":"VLOOKUP(DropDownList!$A$19,CntyQryCensus!$A$71:$IK$81,HA$1)","v":128},{"$f":"VLOOKUP(DropDownList!$A$19,CntyQryCensus!$A$71:$IK$81,HB$1)","v":77},{"$f":"VLOOKUP(DropDownList!$A$19,CntyQryCensus!$A$71:$IK$81,HC$1)","v":11},{"$f":"VLOOKUP(DropDownList!$A$19,CntyQryCensus!$A$71:$IK$81,HD$1)","v":19},{"$f":"VLOOKUP(DropDownList!$A$19,CntyQryCensus!$A$71:$IK$81,HE$1)","v":0},{"$f":"VLOOKUP(DropDownList!$A$19,CntyQryCensus!$A$71:$IK$81,HF$1)","v":0},{"$f":"VLOOKUP(DropDownList!$A$19,CntyQryCensus!$A$71:$IK$81,HG$1)","v":22250},{"$f":"VLOOKUP(DropDownList!$A$19,CntyQryCensus!$A$71:$IK$81,HH$1)","v":19540}]
[]
[]
["Census 2000 SummaryFile3 Sample Data  -  SF3CountyQry2bPovertyChar"]
["NAME","LOGRECNO","COUNTY","TotalPop","P52Households1","P82PerCapitaInc","P87PopForPovStatus","P87PopWIncBelowPovStatus","P87PopUnder5yrBelowPoverty","P87Pop5yrBelowPoverty","P87Pop5to11yrBelowPoverty","P87Pop12to17yrBelowPoverty","P87Pop18to64yrBelowPoverty","P87Pop65to74yrBelowPoverty","P87PopOver75yrBelowPoverty","P87PopWIncAbovePovStatus","P87PopUnder5yrAbovePoverty","P87Pop5yrAbovePoverty","P87Pop5to11yrAbovePoverty","P87Pop12to17yrAbovePoverty","P87Pop18to64yrAbovePoverty","P87Pop65to74yrAbovePoverty","P87PopOver75yrAbovePoverty","P90Families","P90FamWIncBelowPov","P90MarCupFamWIncBelowPov","P90MCFamWRltdChld<18WIncBelowPov","P90MCFamWRltdChld<5WIncBelowPov","P90MaleHhlrWIncBelowPov","P90MaleHhlrWRltdChld<18yrWIncBelowPov","P90MaleHhlrWRltdChld<5yrWIncBelowPov","P90FemaleHhlrWIncBelowPov","P90FemaleHhlrWRltdChld<18yWIncBelowPov","P90FemaleHhlrWRltdChld<5yWIncBelowPov","P90FamWIncAbovePov","P90MarCupFamWIncAbovePov","P90MCFamWRltdChld<18WIncAbovePov","P90MCFamWRltdChld<5WIncAbovePov","P90MaleHhlrWIncAbovePov","P90MaleHhlrWRltdChld<18yrWIncAbovePov","P90MaleHhlrWRltdChld<5yrWIncAbovePov","P90FemaleHhlrWIncAbovePov","P90FemaleHhlrWRltdChld<18yWIncAbovePov","P90FemaleHhlrWRltdChld<5yWIncAbovePov","P92Households","P92HHwIncBelowPov","P92FamHHwIncBelowPov","P92MCFamHHwIncBelowPov","P92MaleFamHHwIncBelowPov","P92FemaleFamHHwIncBelowPov","P92NonFamHHwIncBelowPov","P92NonFamMaleHHwIncBelowPov","P92NonFamFemaleHHwIncBelowPov","P92HHwIncAbovePov","P92FamHHwIncAbovePov","P92MCFamHHwIncAbovePov","P92MaleFamHHwIncAbovePov","P92FemaleFamHHwIncAbovePov","P92NonFamHHwIncAbovePov","P92NonFamMaleHHwIncAbovePov","P92NonFamFemaleHHwIncAbovePov"]
[{"$f":"VLOOKUP(DropDownList!$A$19,CntyQuery!$A$20:$CE$30,A$1)","v":"Laconia"},{"$f":"VLOOKUP(DropDownList!$A$19,CntyQryCensus!$A$87:$FZ$97,B$1)","v":"0000155"},{"$f":"VLOOKUP(DropDownList!$A$19,CntyQryCensus!$A$87:$FZ$97,C$1)","v":"40180"},{"$f":"VLOOKUP(DropDownList!$A$19,CntyQryCensus!$A$87:$FZ$97,D$1)","v":16411},{"$f":"VLOOKUP(DropDownList!$A$19,CntyQryCensus!$A$87:$FZ$97,E$1)","v":6727},{"$f":"VLOOKUP(DropDownList!$A$19,CntyQryCensus!$A$87:$FZ$97,F$1)","v":19540},{"$f":"VLOOKUP(DropDownList!$A$19,CntyQryCensus!$A$87:$FZ$97,G$1)","v":15601},{"$f":"VLOOKUP(DropDownList!$A$19,CntyQryCensus!$A$87:$FZ$97,H$1)","v":1382},{"$f":"VLOOKUP(DropDownList!$A$19,CntyQryCensus!$A$87:$FZ$97,I$1)","v":162},{"$f":"VLOOKUP(DropDownList!$A$19,CntyQryCensus!$A$87:$FZ$97,J$1)","v":6},{"$f":"VLOOKUP(DropDownList!$A$19,CntyQryCensus!$A$87:$FZ$97,K$1)","v":119},{"$f":"VLOOKUP(DropDownList!$A$19,CntyQryCensus!$A$87:$FZ$97,L$1)","v":113},{"$f":"VLOOKUP(DropDownList!$A$19,CntyQryCensus!$A$87:$FZ$97,M$1)","v":847},{"$f":"VLOOKUP(DropDownList!$A$19,CntyQryCensus!$A$87:$FZ$97,N$1)","v":42},{"$f":"VLOOKUP(DropDownList!$A$19,CntyQryCensus!$A$87:$FZ$97,O$1)","v":93},{"$f":"VLOOKUP(DropDownList!$A$19,CntyQryCensus!$A$87:$FZ$97,P$1)","v":14219},{"$f":"VLOOKUP(DropDownList!$A$19,CntyQryCensus!$A$87:$FZ$97,Q$1)","v":687},{"$f":"VLOOKUP(DropDownList!$A$19,CntyQryCensus!$A$87:$FZ$97,R$1)","v":245},{"$f":"VLOOKUP(DropDownList!$A$19,CntyQryCensus!$A$87:$FZ$97,S$1)","v":1059},{"$f":"VLOOKUP(DropDownList!$A$19,CntyQryCensus!$A$87:$FZ$97,T$1)","v":1239},{"$f":"VLOOKUP(DropDownList!$A$19,CntyQryCensus!$A$87:$FZ$97,U$1)","v":8590},{"$f":"VLOOKUP(DropDownList!$A$19,CntyQryCensus!$A$87:$FZ$97,V$1)","v":1298},{"$f":"VLOOKUP(DropDownList!$A$19,CntyQryCensus!$A$87:$FZ$97,W$1)","v":1101},{"$f":"VLOOKUP(DropDownList!$A$19,CntyQryCensus!$A$87:$FZ$97,X$1)","v":4224},{"$f":"VLOOKUP(DropDownList!$A$19,CntyQryCensus!$A$87:$FZ$97,Y$1)","v":316},{"$f":"VLOOKUP(DropDownList!$A$19,CntyQryCensus!$A$87:$FZ$97,Z$1)","v":98},{"$f":"VLOOKUP(DropDownList!$A$19,CntyQryCensus!$A$87:$FZ$97,AA$1)","v":39},{"$f":"VLOOKUP(DropDownList!$A$19,CntyQryCensus!$A$87:$FZ$97,AB$1)","v":21},{"$f":"VLOOKUP(DropDownList!$A$19,CntyQryCensus!$A$87:$FZ$97,AC$1)","v":25},{"$f":"VLOOKUP(DropDownList!$A$19,CntyQryCensus!$A$87:$FZ$97,AD$1)","v":18},{"$f":"VLOOKUP(DropDownList!$A$19,CntyQryCensus!$A$87:$FZ$97,AE$1)","v":8},{"$f":"VLOOKUP(DropDownList!$A$19,CntyQryCensus!$A$87:$FZ$97,AF$1)","v":193},{"$f":"VLOOKUP(DropDownList!$A$19,CntyQryCensus!$A$87:$FZ$97,AG$1)","v":193},{"$f":"VLOOKUP(DropDownList!$A$19,CntyQryCensus!$A$87:$FZ$97,AH$1)","v":56},{"$f":"VLOOKUP(DropDownList!$A$19,CntyQryCensus!$A$87:$FZ$97,AI$1)","v":3908},{"$f":"VLOOKUP(DropDownList!$A$19,CntyQryCensus!$A$87:$FZ$97,AJ$1)","v":3144},{"$f":"VLOOKUP(DropDownList!$A$19,CntyQryCensus!$A$87:$FZ$97,AK$1)","v":1301},{"$f":"VLOOKUP(DropDownList!$A$19,CntyQryCensus!$A$87:$FZ$97,AL$1)","v":189},{"$f":"VLOOKUP(DropDownList!$A$19,CntyQryCensus!$A$87:$FZ$97,AM$1)","v":220},{"$f":"VLOOKUP(DropDownList!$A$19,CntyQryCensus!$A$87:$FZ$97,AN$1)","v":135},{"$f":"VLOOKUP(DropDownList!$A$19,CntyQryCensus!$A$87:$FZ$97,AO$1)","v":55},{"$f":"VLOOKUP(DropDownList!$A$19,CntyQryCensus!$A$87:$FZ$97,AP$1)","v":544},{"$f":"VLOOKUP(DropDownList!$A$19,CntyQryCensus!$A$87:$FZ$97,AQ$1)","v":303},{"$f":"VLOOKUP(DropDownList!$A$19,CntyQryCensus!$A$87:$FZ$97,AR$1)","v":47},{"$f":"VLOOKUP(DropDownList!$A$19,CntyQryCensus!$A$87:$FZ$97,AS$1)","v":6727},{"$f":"VLOOKUP(DropDownList!$A$19,CntyQryCensus!$A$87:$FZ$97,AT$1)","v":665},{"$f":"VLOOKUP(DropDownList!$A$19,CntyQryCensus!$A$87:$FZ$97,AU$1)","v":316},{"$f":"VLOOKUP(DropDownList!$A$19,CntyQryCensus!$A$87:$FZ$97,AV$1)","v":98},{"$f":"VLOOKUP(DropDownList!$A$19,CntyQryCensus!$A$87:$FZ$97,AW$1)","v":25},{"$f":"VLOOKUP(DropDownList!$A$19,CntyQryCensus!$A$87:$FZ$97,AX$1)","v":193},{"$f":"VLOOKUP(DropDownList!$A$19,CntyQryCensus!$A$87:$FZ$97,AY$1)","v":349},{"$f":"VLOOKUP(DropDownList!$A$19,CntyQryCensus!$A$87:$FZ$97,AZ$1)","v":190},{"$f":"VLOOKUP(DropDownList!$A$19,CntyQryCensus!$A$87:$FZ$97,BA$1)","v":159},{"$f":"VLOOKUP(DropDownList!$A$19,CntyQryCensus!$A$87:$FZ$97,BB$1)","v":6062},{"$f":"VLOOKUP(DropDownList!$A$19,CntyQryCensus!$A$87:$FZ$97,BC$1)","v":3908},{"$f":"VLOOKUP(DropDownList!$A$19,CntyQryCensus!$A$87:$FZ$97,BD$1)","v":3144},{"$f":"VLOOKUP(DropDownList!$A$19,CntyQryCensus!$A$87:$FZ$97,BE$1)","v":220},{"$f":"VLOOKUP(DropDownList!$A$19,CntyQryCensus!$A$87:$FZ$97,BF$1)","v":544},{"$f":"VLOOKUP(DropDownList!$A$19,CntyQryCensus!$A$87:$FZ$97,BG$1)","v":2154},{"$f":"VLOOKUP(DropDownList!$A$19,CntyQryCensus!$A$87:$FZ$97,BH$1)","v":958},{"$f":"VLOOKUP(DropDownList!$A$19,CntyQryCensus!$A$87:$FZ$97,BI$1)","v":1196}]
[null,null,null,null,null,null,null,null,null,null,null,null,null,null,null,null,null,null,{"$f":"SUM(R60:T60)","v":2543}]
[]
["Census 2000 SummaryFile3 Sample Data  -  SF3CountyQry7HousingA"]
["NAME","LOGRECNO","COUNTY","TotalPop","H1HousingUnitsTotal","H2SampleHU","H2SampleOccHU","H2SampleVacHU","H3HU100pctCount","H5HUTotal","H5HUUrban","H5HUUrbanInUrbanAreas","H5HUUrbanInUrbanClusters","H5HURural","H5HURuralFarm","H5HURuralNonFarm","H7HUOcc","H7HUOwnrOcc","H7HURentrOcc","H8HUVacant","H8HUVacantForRent","H8HUVacantForSale","H8HUVacRentedorSold","H8HUVacSeasonal","H8HUVacForMigrantWrkrs","H8HUOtherVacant","H14OccHUa","H14OwnerOccHU","H14OwnOccHuHh15to24","H14OwnOccHuHh25to34","H14OwnOccHuHh35to44","H14OwnOccHuHh45to54","H14OwnOccHuHh55to59","H14OwnOccHuHh60to64","H14OwnOccHuHh65to74","H14OwnOccHuHh75to84","H14OwnOccHuHh85Over","H14RenterOccHU1","H14RntrOccHuHh15to24","H14RntrOccHuHh25to34","H14RntrOccHuHh35to44","H14RntrOccHuHh45to54","H14RntrOccHuHh55to59","H14RntrOccHuHh60to64","H14RntrOccHuHh65to74","H14RntrOccHuHh75to84","H14RntrOccHuHh85Over","H15PopInOccHU","H15PopInOwnOccHU1","H15PopInRentOccHU1","H17OccupHUb","H17OwnOccHU2","H17OwnOccHU1PersonHH","H17OwnOccHU2PersonHH","H17OwnOccHU3PersonHH","H17OwnOccHU4PersonHH","H17OwnOccHU5PersonHH","H17OwnOccHU6PersonHH","H17OwnOccHU7PlusPersonHH","H17RentOccHU2","H17RntOccHU1PersonHH","H17RntOccHU2PersonHH","H17RntOccHU3PersonHH","H17RntOccHU4PersonHH","H17RntOccHU5PersonHH","H17RntOccHU6PersonHH","H17RntOccHU7PlusPersonHH","H18AvgHHSize","H18AvgHHSizeOwnOcc","H18AvgHHSizeRentOcc","H23TotHU","H23HU1Room","H23HU2Room","H23HU3Room","H23HU4Room","H23HU5Room","H23HU6Room","H23HU7Room","H23HU8Room","H23HU9orMoreRoom","H24MedianNumRooms","H25AggregNumRooms","H30TotalHU","H30Det1HU","H30Att1HU","H30Units2","H30Units3or4","H30Units5to9","H30Units10to19","H30Units20to49","H30Units50orMore","H30UnitsMobileHome","H30UnitsBoatRv","H32OccHUcTotal","H32OwnerOccHU3","H32OwnOccHU1Det","H32OwnOccHU1Att","H32OwnOccHU2Unit","H32OwnOccHU3to4Unit","H32OwnOccHU5to9Unit","H32OwnOccHU10to19Unit","H32OwnOccHU20to49Unit","H32OwnOccHU50plusUnit","H32OwnOccHUMobHom","H32OwnOccHUBoatRVOth","H32RentrOccHU3","H32RntrOccHU1Det","H32RntrOccHU1Att","H32RntrOccHU2Unit","H32RntrOccHU3to4Unit","H32RntrOccHU5to9Unit","H32RntrOccHU10to19Unit","H32RntrOccHU20to49Unit","H32RntrOccHU50PlusUnit","H32RntrOccHUMobHom","H32RntrOccHUBoatRVOth","H33TotPopInOccHU","H33PopInOwnOccHU2","H33PopInOOHU1Det","H33PopInOOHU1Att","H33PopInOOHU2unit","H33PopInOOHU3to4Unit","H33PopInOOHU5to9Unit","H33PopInOOHU10to19Unit","H33PopInOOHU20to49Unit","H33PopInOOHU50PlusUnit","H33PopInOOHUMobilHome","H33PopInOOHUOtherUnit","H33PopInRentOccHU2","H33PopInROHU1Det","H33PopInROHU1Att","H33PopInROHU2Unit","H33PopInROHU3to4Unit","H33PopInROHU5to9Unit","H33PopInROHU10to19Unit","H33PopInROHU20to49Unit","H33PopInROHU50PlusUnit","H33PopInROHUMobilHome","H33PopInROHUOtherUnit","H36OccHousingUnitsdTotal","H36OwnerOccHU4","H36OOHUBuilt99to0300","H36OOHUBuilt95to98","H36OOHUBuilt90to94","H36OOHUBuilt80to89","H36OOHUBuilt70to79","H36OOHUBuilt60to69","H36OOHUBuilt50to59","H36OOHUBuilt40to49","H36OOHUBuilt39Earlier","H36RentOccHU4","H36ROHUBuilt99to0300","H36ROHUBuilt95to98","H36ROHUBuilt90to94","H36ROHUBuilt80to89","H36ROHUBuilt70to79","H36ROHUBuilt60to69","H36ROHUBuilt50to59","H36ROHUBuilt40to49","H36ROHUBuilt39Earlier","H40OccupHousUnitse","H40HeatFuelUtilGas","H40HeatFuelBotGas","H40HeatFuelElect","H40HeatFuelOilKero","H40HeatFuelCoal","H40HeatFuelWood","H40HeatFuelSolar","H40HeatFuelOther","H40HeatFuelNone","H41TotalHU","H41HUNoBdrm","H41HU1Bdrm","H41HU2Bdrm","H41HU3Bdrm","H41HU4Bdrm","H41HU5MoreBdrm","H42OccuHousUnitf","H42OwnerOccHU5","H42OOHUNoBdrm","H42OOHU1Bdrm","H42OOHU2Bdrm","H42OOHU3Bdrm","H42OOHU4Bdrm","H42OOHU5PlusBdrm","H42RentOccHU5","H42ROHUNoBdrm","H42ROHU1Bdrm","H42ROHU2Bdrm","H42ROHU3Bdrm","H42ROHU4Bdrm","H42ROHU5PlusBdrm","H48OccupHousUnitsg","H48OwnerOccHU6","H48OOHUwCompltPlumFacil","H48OOHULackCompltPlumFacil","H48RentOccHU6","H48ROHUwCompltPlumFacil","H48ROHULackCompltPlumFacil","H51OccupHousUnitf","H51OwnerOccHU7","H51OOHUwCompleteKitFacil","H51OOHULackCompleteKitFacil","H51RenterOccHU7","H51ROHUwCompleteKitFacil","H51ROHULackCompleteKitFacil"]
[{"$f":"VLOOKUP(DropDownList!$A$19,CntyQuery!$A$20:$CE$30,A$1)","v":"Laconia"},{"$f":"VLOOKUP(DropDownList!$A$19,CntyQryCensus!$A$103:$GX$113,B$1)","v":"0000155"},{"$f":"VLOOKUP(DropDownList!$A$19,CntyQryCensus!$A$103:$GX$113,C$1)","v":"40180"},{"$f":"VLOOKUP(DropDownList!$A$19,CntyQryCensus!$A$103:$GX$113,D$1)","v":16411},{"$f":"VLOOKUP(DropDownList!$A$19,CntyQryCensus!$A$103:$GX$113,E$1)","v":8554},{"$f":"VLOOKUP(DropDownList!$A$19,CntyQryCensus!$A$103:$GX$113,F$1)","v":1331},{"$f":"VLOOKUP(DropDownList!$A$19,CntyQryCensus!$A$103:$GX$113,G$1)","v":1049},{"$f":"VLOOKUP(DropDownList!$A$19,CntyQryCensus!$A$103:$GX$113,H$1)","v":282},{"$f":"VLOOKUP(DropDownList!$A$19,CntyQryCensus!$A$103:$GX$113,I$1)","v":8554},{"$f":"VLOOKUP(DropDownList!$A$19,CntyQryCensus!$A$103:$GX$113,J$1)","v":8554},{"$f":"VLOOKUP(DropDownList!$A$19,CntyQryCensus!$A$103:$GX$113,K$1)","v":7806},{"$f":"VLOOKUP(DropDownList!$A$19,CntyQryCensus!$A$103:$GX$113,L$1)","v":0},{"$f":"VLOOKUP(DropDownList!$A$19,CntyQryCensus!$A$103:$GX$113,M$1)","v":7806},{"$f":"VLOOKUP(DropDownList!$A$19,CntyQryCensus!$A$103:$GX$113,N$1)","v":748},{"$f":"VLOOKUP(DropDownList!$A$19,CntyQryCensus!$A$103:$GX$113,O$1)","v":7},{"$f":"VLOOKUP(DropDownList!$A$19,CntyQryCensus!$A$103:$GX$113,P$1)","v":741},{"$f":"VLOOKUP(DropDownList!$A$19,CntyQryCensus!$A$103:$GX$113,Q$1)","v":6724},{"$f":"VLOOKUP(DropDownList!$A$19,CntyQryCensus!$A$103:$GX$113,R$1)","v":3824},{"$f":"VLOOKUP(DropDownList!$A$19,CntyQryCensus!$A$103:$GX$113,S$1)","v":2900},{"$f":"VLOOKUP(DropDownList!$A$19,CntyQryCensus!$A$103:$GX$113,T$1)","v":1830},{"$f":"VLOOKUP(DropDownList!$A$19,CntyQryCensus!$A$103:$GX$113,U$1)","v":212},{"$f":"VLOOKUP(DropDownList!$A$19,CntyQryCensus!$A$103:$GX$113,V$1)","v":42},{"$f":"VLOOKUP(DropDownList!$A$19,CntyQryCensus!$A$103:$GX$113,W$1)","v":34},{"$f":"VLOOKUP(DropDownList!$A$19,CntyQryCensus!$A$103:$GX$113,X$1)","v":1508},{"$f":"VLOOKUP(DropDownList!$A$19,CntyQryCensus!$A$103:$GX$113,Y$1)","v":0},{"$f":"VLOOKUP(DropDownList!$A$19,CntyQryCensus!$A$103:$GX$113,Z$1)","v":34},{"$f":"VLOOKUP(DropDownList!$A$19,CntyQryCensus!$A$103:$GX$113,AA$1)","v":6724},{"$f":"VLOOKUP(DropDownList!$A$19,CntyQryCensus!$A$103:$GX$113,AB$1)","v":3824},{"$f":"VLOOKUP(DropDownList!$A$19,CntyQryCensus!$A$103:$GX$113,AC$1)","v":38},{"$f":"VLOOKUP(DropDownList!$A$19,CntyQryCensus!$A$103:$GX$113,AD$1)","v":254},{"$f":"VLOOKUP(DropDownList!$A$19,CntyQryCensus!$A$103:$GX$113,AE$1)","v":788},{"$f":"VLOOKUP(DropDownList!$A$19,CntyQryCensus!$A$103:$GX$113,AF$1)","v":967},{"$f":"VLOOKUP(DropDownList!$A$19,CntyQryCensus!$A$103:$GX$113,AG$1)","v":371},{"$f":"VLOOKUP(DropDownList!$A$19,CntyQryCensus!$A$103:$GX$113,AH$1)","v":307},{"$f":"VLOOKUP(DropDownList!$A$19,CntyQryCensus!$A$103:$GX$113,AI$1)","v":643},{"$f":"VLOOKUP(DropDownList!$A$19,CntyQryCensus!$A$103:$GX$113,AJ$1)","v":336},{"$f":"VLOOKUP(DropDownList!$A$19,CntyQryCensus!$A$103:$GX$113,AK$1)","v":120},{"$f":"VLOOKUP(DropDownList!$A$19,CntyQryCensus!$A$103:$GX$113,AL$1)","v":2900},{"$f":"VLOOKUP(DropDownList!$A$19,CntyQryCensus!$A$103:$GX$113,AM$1)","v":394},{"$f":"VLOOKUP(DropDownList!$A$19,CntyQryCensus!$A$103:$GX$113,AN$1)","v":606},{"$f":"VLOOKUP(DropDownList!$A$19,CntyQryCensus!$A$103:$GX$113,AO$1)","v":617},{"$f":"VLOOKUP(DropDownList!$A$19,CntyQryCensus!$A$103:$GX$113,AP$1)","v":411},{"$f":"VLOOKUP(DropDownList!$A$19,CntyQryCensus!$A$103:$GX$113,AQ$1)","v":214},{"$f":"VLOOKUP(DropDownList!$A$19,CntyQryCensus!$A$103:$GX$113,AR$1)","v":50},{"$f":"VLOOKUP(DropDownList!$A$19,CntyQryCensus!$A$103:$GX$113,AS$1)","v":224},{"$f":"VLOOKUP(DropDownList!$A$19,CntyQryCensus!$A$103:$GX$113,AT$1)","v":265},{"$f":"VLOOKUP(DropDownList!$A$19,CntyQryCensus!$A$103:$GX$113,AU$1)","v":119},{"$f":"VLOOKUP(DropDownList!$A$19,CntyQryCensus!$A$103:$GX$113,AV$1)","v":15593},{"$f":"VLOOKUP(DropDownList!$A$19,CntyQryCensus!$A$103:$GX$113,AW$1)","v":9518},{"$f":"VLOOKUP(DropDownList!$A$19,CntyQryCensus!$A$103:$GX$113,AX$1)","v":6075},{"$f":"VLOOKUP(DropDownList!$A$19,CntyQryCensus!$A$103:$GX$113,AY$1)","v":6724},{"$f":"VLOOKUP(DropDownList!$A$19,CntyQryCensus!$A$103:$GX$113,AZ$1)","v":3824},{"$f":"VLOOKUP(DropDownList!$A$19,CntyQryCensus!$A$103:$GX$113,BA$1)","v":861},{"$f":"VLOOKUP(DropDownList!$A$19,CntyQryCensus!$A$103:$GX$113,BB$1)","v":1534},{"$f":"VLOOKUP(DropDownList!$A$19,CntyQryCensus!$A$103:$GX$113,BC$1)","v":539},{"$f":"VLOOKUP(DropDownList!$A$19,CntyQryCensus!$A$103:$GX$113,BD$1)","v":588},{"$f":"VLOOKUP(DropDownList!$A$19,CntyQryCensus!$A$103:$GX$113,BE$1)","v":205},{"$f":"VLOOKUP(DropDownList!$A$19,CntyQryCensus!$A$103:$GX$113,BF$1)","v":52},{"$f":"VLOOKUP(DropDownList!$A$19,CntyQryCensus!$A$103:$GX$113,BG$1)","v":45},{"$f":"VLOOKUP(DropDownList!$A$19,CntyQryCensus!$A$103:$GX$113,BH$1)","v":2900},{"$f":"VLOOKUP(DropDownList!$A$19,CntyQryCensus!$A$103:$GX$113,BI$1)","v":1170},{"$f":"VLOOKUP(DropDownList!$A$19,CntyQryCensus!$A$103:$GX$113,BJ$1)","v":895},{"$f":"VLOOKUP(DropDownList!$A$19,CntyQryCensus!$A$103:$GX$113,BK$1)","v":480},{"$f":"VLOOKUP(DropDownList!$A$19,CntyQryCensus!$A$103:$GX$113,BL$1)","v":225},{"$f":"VLOOKUP(DropDownList!$A$19,CntyQryCensus!$A$103:$GX$113,BM$1)","v":79},{"$f":"VLOOKUP(DropDownList!$A$19,CntyQryCensus!$A$103:$GX$113,BN$1)","v":40},{"$f":"VLOOKUP(DropDownList!$A$19,CntyQryCensus!$A$103:$GX$113,BO$1)","v":11},{"$f":"VLOOKUP(DropDownList!$A$19,CntyQryCensus!$A$103:$GX$113,BP$1)","v":2},{"$f":"VLOOKUP(DropDownList!$A$19,CntyQryCensus!$A$103:$GX$113,BQ$1)","v":2},{"$f":"VLOOKUP(DropDownList!$A$19,CntyQryCensus!$A$103:$GX$113,BR$1)","v":2},{"$f":"VLOOKUP(DropDownList!$A$19,CntyQryCensus!$A$103:$GX$113,BS$1)","v":8554},{"$f":"VLOOKUP(DropDownList!$A$19,CntyQryCensus!$A$103:$GX$113,BT$1)","v":130},{"$f":"VLOOKUP(DropDownList!$A$19,CntyQryCensus!$A$103:$GX$113,BU$1)","v":447},{"$f":"VLOOKUP(DropDownList!$A$19,CntyQryCensus!$A$103:$GX$113,BV$1)","v":782},{"$f":"VLOOKUP(DropDownList!$A$19,CntyQryCensus!$A$103:$GX$113,BW$1)","v":1790},{"$f":"VLOOKUP(DropDownList!$A$19,CntyQryCensus!$A$103:$GX$113,BX$1)","v":1782},{"$f":"VLOOKUP(DropDownList!$A$19,CntyQryCensus!$A$103:$GX$113,BY$1)","v":1574},{"$f":"VLOOKUP(DropDownList!$A$19,CntyQryCensus!$A$103:$GX$113,BZ$1)","v":807},{"$f":"VLOOKUP(DropDownList!$A$19,CntyQryCensus!$A$103:$GX$113,CA$1)","v":747},{"$f":"VLOOKUP(DropDownList!$A$19,CntyQryCensus!$A$103:$GX$113,CB$1)","v":495},{"$f":"VLOOKUP(DropDownList!$A$19,CntyQryCensus!$A$103:$GX$113,CC$1)","v":5},{"$f":"VLOOKUP(DropDownList!$A$19,CntyQryCensus!$A$103:$GX$113,CD$1)","v":45459},{"$f":"VLOOKUP(DropDownList!$A$19,CntyQryCensus!$A$103:$GX$113,CE$1)","v":8554},{"$f":"VLOOKUP(DropDownList!$A$19,CntyQryCensus!$A$103:$GX$113,CF$1)","v":4223},{"$f":"VLOOKUP(DropDownList!$A$19,CntyQryCensus!$A$103:$GX$113,CG$1)","v":496},{"$f":"VLOOKUP(DropDownList!$A$19,CntyQryCensus!$A$103:$GX$113,CH$1)","v":896},{"$f":"VLOOKUP(DropDownList!$A$19,CntyQryCensus!$A$103:$GX$113,CI$1)","v":847},{"$f":"VLOOKUP(DropDownList!$A$19,CntyQryCensus!$A$103:$GX$113,CJ$1)","v":630},{"$f":"VLOOKUP(DropDownList!$A$19,CntyQryCensus!$A$103:$GX$113,CK$1)","v":325},{"$f":"VLOOKUP(DropDownList!$A$19,CntyQryCensus!$A$103:$GX$113,CL$1)","v":535},{"$f":"VLOOKUP(DropDownList!$A$19,CntyQryCensus!$A$103:$GX$113,CM$1)","v":365},{"$f":"VLOOKUP(DropDownList!$A$19,CntyQryCensus!$A$103:$GX$113,CN$1)","v":237},{"$f":"VLOOKUP(DropDownList!$A$19,CntyQryCensus!$A$103:$GX$113,CO$1)","v":0},{"$f":"VLOOKUP(DropDownList!$A$19,CntyQryCensus!$A$103:$GX$113,CP$1)","v":6724},{"$f":"VLOOKUP(DropDownList!$A$19,CntyQryCensus!$A$103:$GX$113,CQ$1)","v":3824},{"$f":"VLOOKUP(DropDownList!$A$19,CntyQryCensus!$A$103:$GX$113,CR$1)","v":3046},{"$f":"VLOOKUP(DropDownList!$A$19,CntyQryCensus!$A$103:$GX$113,CS$1)","v":162},{"$f":"VLOOKUP(DropDownList!$A$19,CntyQryCensus!$A$103:$GX$113,CT$1)","v":243},{"$f":"VLOOKUP(DropDownList!$A$19,CntyQryCensus!$A$103:$GX$113,CU$1)","v":80},{"$f":"VLOOKUP(DropDownList!$A$19,CntyQryCensus!$A$103:$GX$113,CV$1)","v":71},{"$f":"VLOOKUP(DropDownList!$A$19,CntyQryCensus!$A$103:$GX$113,CW$1)","v":40},{"$f":"VLOOKUP(DropDownList!$A$19,CntyQryCensus!$A$103:$GX$113,CX$1)","v":34},{"$f":"VLOOKUP(DropDownList!$A$19,CntyQryCensus!$A$103:$GX$113,CY$1)","v":0},{"$f":"VLOOKUP(DropDownList!$A$19,CntyQryCensus!$A$103:$GX$113,CZ$1)","v":148},{"$f":"VLOOKUP(DropDownList!$A$19,CntyQryCensus!$A$103:$GX$113,DA$1)","v":0},{"$f":"VLOOKUP(DropDownList!$A$19,CntyQryCensus!$A$103:$GX$113,DB$1)","v":2900},{"$f":"VLOOKUP(DropDownList!$A$19,CntyQryCensus!$A$103:$GX$113,DC$1)","v":350},{"$f":"VLOOKUP(DropDownList!$A$19,CntyQryCensus!$A$103:$GX$113,DD$1)","v":167},{"$f":"VLOOKUP(DropDownList!$A$19,CntyQryCensus!$A$103:$GX$113,DE$1)","v":583},{"$f":"VLOOKUP(DropDownList!$A$19,CntyQryCensus!$A$103:$GX$113,DF$1)","v":662},{"$f":"VLOOKUP(DropDownList!$A$19,CntyQryCensus!$A$103:$GX$113,DG$1)","v":421},{"$f":"VLOOKUP(DropDownList!$A$19,CntyQryCensus!$A$103:$GX$113,DH$1)","v":201},{"$f":"VLOOKUP(DropDownList!$A$19,CntyQryCensus!$A$103:$GX$113,DI$1)","v":290},{"$f":"VLOOKUP(DropDownList!$A$19,CntyQryCensus!$A$103:$GX$113,DJ$1)","v":210},{"$f":"VLOOKUP(DropDownList!$A$19,CntyQryCensus!$A$103:$GX$113,DK$1)","v":16},{"$f":"VLOOKUP(DropDownList!$A$19,CntyQryCensus!$A$103:$GX$113,DL$1)","v":0},{"$f":"VLOOKUP(DropDownList!$A$19,CntyQryCensus!$A$103:$GX$113,DM$1)","v":15593},{"$f":"VLOOKUP(DropDownList!$A$19,CntyQryCensus!$A$103:$GX$113,DN$1)","v":9518},{"$f":"VLOOKUP(DropDownList!$A$19,CntyQryCensus!$A$103:$GX$113,DO$1)","v":7868},{"$f":"VLOOKUP(DropDownList!$A$19,CntyQryCensus!$A$103:$GX$113,DP$1)","v":254},{"$f":"VLOOKUP(DropDownList!$A$19,CntyQryCensus!$A$103:$GX$113,DQ$1)","v":603},{"$f":"VLOOKUP(DropDownList!$A$19,CntyQryCensus!$A$103:$GX$113,DR$1)","v":220},{"$f":"VLOOKUP(DropDownList!$A$19,CntyQryCensus!$A$103:$GX$113,DS$1)","v":159},{"$f":"VLOOKUP(DropDownList!$A$19,CntyQryCensus!$A$103:$GX$113,DT$1)","v":61},{"$f":"VLOOKUP(DropDownList!$A$19,CntyQryCensus!$A$103:$GX$113,DU$1)","v":63},{"$f":"VLOOKUP(DropDownList!$A$19,CntyQryCensus!$A$103:$GX$113,DV$1)","v":0},{"$f":"VLOOKUP(DropDownList!$A$19,CntyQryCensus!$A$103:$GX$113,DW$1)","v":290},{"$f":"VLOOKUP(DropDownList!$A$19,CntyQryCensus!$A$103:$GX$113,DX$1)","v":0},{"$f":"VLOOKUP(DropDownList!$A$19,CntyQryCensus!$A$103:$GX$113,DY$1)","v":6075},{"$f":"VLOOKUP(DropDownList!$A$19,CntyQryCensus!$A$103:$GX$113,DZ$1)","v":944},{"$f":"VLOOKUP(DropDownList!$A$19,CntyQryCensus!$A$103:$GX$113,EA$1)","v":351},{"$f":"VLOOKUP(DropDownList!$A$19,CntyQryCensus!$A$103:$GX$113,EB$1)","v":1301},{"$f":"VLOOKUP(DropDownList!$A$19,CntyQryCensus!$A$103:$GX$113,EC$1)","v":1438},{"$f":"VLOOKUP(DropDownList!$A$19,CntyQryCensus!$A$103:$GX$113,ED$1)","v":813},{"$f":"VLOOKUP(DropDownList!$A$19,CntyQryCensus!$A$103:$GX$113,EE$1)","v":369},{"$f":"VLOOKUP(DropDownList!$A$19,CntyQryCensus!$A$103:$GX$113,EF$1)","v":568},{"$f":"VLOOKUP(DropDownList!$A$19,CntyQryCensus!$A$103:$GX$113,EG$1)","v":263},{"$f":"VLOOKUP(DropDownList!$A$19,CntyQryCensus!$A$103:$GX$113,EH$1)","v":28},{"$f":"VLOOKUP(DropDownList!$A$19,CntyQryCensus!$A$103:$GX$113,EI$1)","v":0},{"$f":"VLOOKUP(DropDownList!$A$19,CntyQryCensus!$A$103:$GX$113,EJ$1)","v":6724},{"$f":"VLOOKUP(DropDownList!$A$19,CntyQryCensus!$A$103:$GX$113,EK$1)","v":3824},{"$f":"VLOOKUP(DropDownList!$A$19,CntyQryCensus!$A$103:$GX$113,EL$1)","v":45},{"$f":"VLOOKUP(DropDownList!$A$19,CntyQryCensus!$A$103:$GX$113,EM$1)","v":164},{"$f":"VLOOKUP(DropDownList!$A$19,CntyQryCensus!$A$103:$GX$113,EN$1)","v":244},{"$f":"VLOOKUP(DropDownList!$A$19,CntyQryCensus!$A$103:$GX$113,EO$1)","v":694},{"$f":"VLOOKUP(DropDownList!$A$19,CntyQryCensus!$A$103:$GX$113,EP$1)","v":316},{"$f":"VLOOKUP(DropDownList!$A$19,CntyQryCensus!$A$103:$GX$113,EQ$1)","v":317},{"$f":"VLOOKUP(DropDownList!$A$19,CntyQryCensus!$A$103:$GX$113,ER$1)","v":367},{"$f":"VLOOKUP(DropDownList!$A$19,CntyQryCensus!$A$103:$GX$113,ES$1)","v":309},{"$f":"VLOOKUP(DropDownList!$A$19,CntyQryCensus!$A$103:$GX$113,ET$1)","v":1368},{"$f":"VLOOKUP(DropDownList!$A$19,CntyQryCensus!$A$103:$GX$113,EU$1)","v":2900},{"$f":"VLOOKUP(DropDownList!$A$19,CntyQryCensus!$A$103:$GX$113,EV$1)","v":0},{"$f":"VLOOKUP(DropDownList!$A$19,CntyQryCensus!$A$103:$GX$113,EW$1)","v":44},{"$f":"VLOOKUP(DropDownList!$A$19,CntyQryCensus!$A$103:$GX$113,EX$1)","v":84},{"$f":"VLOOKUP(DropDownList!$A$19,CntyQryCensus!$A$103:$GX$113,EY$1)","v":301},{"$f":"VLOOKUP(DropDownList!$A$19,CntyQryCensus!$A$103:$GX$113,EZ$1)","v":423},{"$f":"VLOOKUP(DropDownList!$A$19,CntyQryCensus!$A$103:$GX$113,FA$1)","v":250},{"$f":"VLOOKUP(DropDownList!$A$19,CntyQryCensus!$A$103:$GX$113,FB$1)","v":264},{"$f":"VLOOKUP(DropDownList!$A$19,CntyQryCensus!$A$103:$GX$113,FC$1)","v":241},{"$f":"VLOOKUP(DropDownList!$A$19,CntyQryCensus!$A$103:$GX$113,FD$1)","v":1293},{"$f":"VLOOKUP(DropDownList!$A$19,CntyQryCensus!$A$103:$GX$113,FE$1)","v":6724},{"$f":"VLOOKUP(DropDownList!$A$19,CntyQryCensus!$A$103:$GX$113,FF$1)","v":1279},{"$f":"VLOOKUP(DropDownList!$A$19,CntyQryCensus!$A$103:$GX$113,FG$1)","v":442},{"$f":"VLOOKUP(DropDownList!$A$19,CntyQryCensus!$A$103:$GX$113,FH$1)","v":542},{"$f":"VLOOKUP(DropDownList!$A$19,CntyQryCensus!$A$103:$GX$113,FI$1)","v":4304},{"$f":"VLOOKUP(DropDownList!$A$19,CntyQryCensus!$A$103:$GX$113,FJ$1)","v":0},{"$f":"VLOOKUP(DropDownList!$A$19,CntyQryCensus!$A$103:$GX$113,FK$1)","v":75},{"$f":"VLOOKUP(DropDownList!$A$19,CntyQryCensus!$A$103:$GX$113,FL$1)","v":0},{"$f":"VLOOKUP(DropDownList!$A$19,CntyQryCensus!$A$103:$GX$113,FM$1)","v":48},{"$f":"VLOOKUP(DropDownList!$A$19,CntyQryCensus!$A$103:$GX$113,FN$1)","v":34},{"$f":"VLOOKUP(DropDownList!$A$19,CntyQryCensus!$A$103:$GX$113,FO$1)","v":8554},{"$f":"VLOOKUP(DropDownList!$A$19,CntyQryCensus!$A$103:$GX$113,FP$1)","v":150},{"$f":"VLOOKUP(DropDownList!$A$19,CntyQryCensus!$A$103:$GX$113,FQ$1)","v":1231},{"$f":"VLOOKUP(DropDownList!$A$19,CntyQryCensus!$A$103:$GX$113,FR$1)","v":2959},{"$f":"VLOOKUP(DropDownList!$A$19,CntyQryCensus!$A$103:$GX$113,FS$1)","v":3003},{"$f":"VLOOKUP(DropDownList!$A$19,CntyQryCensus!$A$103:$GX$113,FT$1)","v":946},{"$f":"VLOOKUP(DropDownList!$A$19,CntyQryCensus!$A$103:$GX$113,FU$1)","v":265},{"$f":"VLOOKUP(DropDownList!$A$19,CntyQryCensus!$A$103:$GX$113,FV$1)","v":6724},{"$f":"VLOOKUP(DropDownList!$A$19,CntyQryCensus!$A$103:$GX$113,FW$1)","v":3824},{"$f":"VLOOKUP(DropDownList!$A$19,CntyQryCensus!$A$103:$GX$113,FX$1)","v":0},{"$f":"VLOOKUP(DropDownList!$A$19,CntyQryCensus!$A$103:$GX$113,FY$1)","v":83},{"$f":"VLOOKUP(DropDownList!$A$19,CntyQryCensus!$A$103:$GX$113,FZ$1)","v":934},{"$f":"VLOOKUP(DropDownList!$A$19,CntyQryCensus!$A$103:$GX$113,GA$1)","v":1909},{"$f":"VLOOKUP(DropDownList!$A$19,CntyQryCensus!$A$103:$GX$113,GB$1)","v":683},{"$f":"VLOOKUP(DropDownList!$A$19,CntyQryCensus!$A$103:$GX$113,GC$1)","v":215},{"$f":"VLOOKUP(DropDownList!$A$19,CntyQryCensus!$A$103:$GX$113,GD$1)","v":2900},{"$f":"VLOOKUP(DropDownList!$A$19,CntyQryCensus!$A$103:$GX$113,GE$1)","v":92},{"$f":"VLOOKUP(DropDownList!$A$19,CntyQryCensus!$A$103:$GX$113,GF$1)","v":906},{"$f":"VLOOKUP(DropDownList!$A$19,CntyQryCensus!$A$103:$GX$113,GG$1)","v":1197},{"$f":"VLOOKUP(DropDownList!$A$19,CntyQryCensus!$A$103:$GX$113,GH$1)","v":547},{"$f":"VLOOKUP(DropDownList!$A$19,CntyQryCensus!$A$103:$GX$113,GI$1)","v":134},{"$f":"VLOOKUP(DropDownList!$A$19,CntyQryCensus!$A$103:$GX$113,GJ$1)","v":24},{"$f":"VLOOKUP(DropDownList!$A$19,CntyQryCensus!$A$103:$GX$113,GK$1)","v":6724},{"$f":"VLOOKUP(DropDownList!$A$19,CntyQryCensus!$A$103:$GX$113,GL$1)","v":3824},{"$f":"VLOOKUP(DropDownList!$A$19,CntyQryCensus!$A$103:$GX$113,GM$1)","v":3812},{"$f":"VLOOKUP(DropDownList!$A$19,CntyQryCensus!$A$103:$GX$113,GN$1)","v":12},{"$f":"VLOOKUP(DropDownList!$A$19,CntyQryCensus!$A$103:$GX$113,GO$1)","v":2900},{"$f":"VLOOKUP(DropDownList!$A$19,CntyQryCensus!$A$103:$GX$113,GP$1)","v":2893},{"$f":"VLOOKUP(DropDownList!$A$19,CntyQryCensus!$A$103:$GX$113,GQ$1)","v":7},{"$f":"VLOOKUP(DropDownList!$A$19,CntyQryCensus!$A$103:$GX$113,GR$1)","v":6724},{"$f":"VLOOKUP(DropDownList!$A$19,CntyQryCensus!$A$103:$GX$113,GS$1)","v":3824},{"$f":"VLOOKUP(DropDownList!$A$19,CntyQryCensus!$A$103:$GX$113,GT$1)","v":3812},{"$f":"VLOOKUP(DropDownList!$A$19,CntyQryCensus!$A$103:$GX$113,GU$1)","v":12},{"$f":"VLOOKUP(DropDownList!$A$19,CntyQryCensus!$A$103:$GX$113,GV$1)","v":2900},{"$f":"VLOOKUP(DropDownList!$A$19,CntyQryCensus!$A$103:$GX$113,GW$1)","v":2893},{"$f":"VLOOKUP(DropDownList!$A$19,CntyQryCensus!$A$103:$GX$113,GX$1)","v":7}]
[]
[]
["Census 2000 SummaryFile3 Sample Data  -  SF3CountyQry8HousingCostA"]
["NAME","LOGRECNO","COUNTY","TotalPop","H62RntrOccHU","H62RntrOccHUwRent","H62ROHUGRent<100","H62ROHUGRent100to149","H62ROHUGRent150to199","H62ROHUGRent200to249","H62ROHUGRent250to299","H62ROHUGRent300to349","H62ROHUGRent350to399","H62ROHUGRent400to449","H62ROHUGRent450to499","H62ROHUGRent500to549","H62ROHUGRent550to599","H62ROHUGRent600to649","H62ROHUGRent650to699","H62ROHUGRent700to749","H62ROHUGRent750to799","H62ROHUGRent800to899","H62ROHUGRent900to999","H62ROHUGRent1000to1249","H62ROHUGRent1250to1499","H62ROHUGRent1500to1999","H62ROHUGRent2000>","H62ROHUNoGRent","H63MedianGrossRnt","H69RenterOccHsU","H69GRnt<10PctHHInc","H69GRnt10to15PctHHInc","H69GRnt15to20PctHHInc","H69GRnt20to25PctHHInc","H69GRnt25to30PctHHInc","H69GRnt30to35PctHHInc","H69GRnt35to40PctHHInc","H69GRnt40to50PctHHInc","H69GRnt>50PctHHInc","H69GRntPctNotcomputed","H73RenterOccHU","H73ROHUHhInc<10k","H73ROHUHhInc<10kRnt<20pct","H73ROHUHhInc<10kRnt20to25pct","H73ROHUHhInc<10kRnt25to30pct","H73ROHUHhInc<10kRnt30to35pct","H73ROHUHhInc<10kRnt>35pct","H73ROHUHhInc<10kPctNotComput","H73ROHUHhInc10to20k","H73ROHUHhInc10to20kRnt<20pct","H73ROHUHhInc10to20kRnt20to25pct","H73ROHUHhInc10to20kRnt25to30pct","H73ROHUHhInc10to20kRnt30to35pct","H73ROHUHhInc10to20kRnt>35pct","H73ROHUHhInc10to20kRntPctNC","H73ROHUHhInc20to35k","H73ROHUHhInc20to35kRnt<20pct","H73ROHUHhInc20to35kRnt20to25pct","H73ROHUHhInc20to35kRnt25to30pct","H73ROHUHhInc20to35kRnt30to35pct","H73ROHUHhInc20to35kRnt>35pct","H73ROHUHhInc20to35kRntPctNC","H73ROHUHhInc35to40k","H73ROHUHhInc35to40kRnt<20pct","H73ROHUHhInc35to40kRnt20to25pct","H73ROHUHhInc35to40kRnt25to30pct","H73ROHUHhInc35to40kRnt30to35pct","H73ROHUHhInc35to40kRnt>35pct","H73ROHUHhInc35to40kRntPctNC","H73ROHUHhInc50to75k","H73ROHUHhInc50to75kRnt<20pct","H73ROHUHhInc50to75kRnt20to25pct","H73ROHUHhInc50to75kRnt25to30pct","H73ROHUHhInc50to75kRnt30to35pct","H73ROHUHhInc50to75kRnt>35pct","H73ROHUHhInc50to75kRntPctNC","H73ROHUHhInc75to100k","H73ROHUHhInc75to100kRnt<20pct","H73ROHUHhInc75to100kRnt20to25pct","H73ROHUHhInc75to100kRnt25to30pct","H73ROHUHhInc75to100kRnt30to35pct","H73ROHUHhInc75to100kRnt>35pct","H73ROHUHhInc75to100kRntPctNC","H73ROHUHhInc>100k","H73ROHUHhInc>100kRnt<20pct","H73ROHUHhInc>100kRnt20to25pct","H73ROHUHhInc>100kRnt25to30pct","H73ROHUHhInc>100kRnt30to35pct","H73ROHUHhInc>100kRnt>35pct","H73ROHUHhInc>100kRntPctNC"]
[{"$f":"VLOOKUP(DropDownList!$A$19,CntyQuery!$A$20:$CE$30,A$1)","v":"Laconia"},{"$f":"VLOOKUP(DropDownList!$A$19,CntyQryCensus!$A$119:$CL$129,B$1)","v":"0000155"},{"$f":"VLOOKUP(DropDownList!$A$19,CntyQryCensus!$A$119:$CL$129,C$1)","v":"40180"},{"$f":"VLOOKUP(DropDownList!$A$19,CntyQryCensus!$A$119:$CL$129,D$1)","v":16411},{"$f":"VLOOKUP(DropDownList!$A$19,CntyQryCensus!$A$119:$CL$129,E$1)","v":2894},{"$f":"VLOOKUP(DropDownList!$A$19,CntyQryCensus!$A$119:$CL$129,F$1)","v":2772},{"$f":"VLOOKUP(DropDownList!$A$19,CntyQryCensus!$A$119:$CL$129,G$1)","v":5},{"$f":"VLOOKUP(DropDownList!$A$19,CntyQryCensus!$A$119:$CL$129,H$1)","v":57},{"$f":"VLOOKUP(DropDownList!$A$19,CntyQryCensus!$A$119:$CL$129,I$1)","v":81},{"$f":"VLOOKUP(DropDownList!$A$19,CntyQryCensus!$A$119:$CL$129,J$1)","v":61},{"$f":"VLOOKUP(DropDownList!$A$19,CntyQryCensus!$A$119:$CL$129,K$1)","v":69},{"$f":"VLOOKUP(DropDownList!$A$19,CntyQryCensus!$A$119:$CL$129,L$1)","v":93},{"$f":"VLOOKUP(DropDownList!$A$19,CntyQryCensus!$A$119:$CL$129,M$1)","v":133},{"$f":"VLOOKUP(DropDownList!$A$19,CntyQryCensus!$A$119:$CL$129,N$1)","v":220},{"$f":"VLOOKUP(DropDownList!$A$19,CntyQryCensus!$A$119:$CL$129,O$1)","v":237},{"$f":"VLOOKUP(DropDownList!$A$19,CntyQryCensus!$A$119:$CL$129,P$1)","v":327},{"$f":"VLOOKUP(DropDownList!$A$19,CntyQryCensus!$A$119:$CL$129,Q$1)","v":254},{"$f":"VLOOKUP(DropDownList!$A$19,CntyQryCensus!$A$119:$CL$129,R$1)","v":393},{"$f":"VLOOKUP(DropDownList!$A$19,CntyQryCensus!$A$119:$CL$129,S$1)","v":166},{"$f":"VLOOKUP(DropDownList!$A$19,CntyQryCensus!$A$119:$CL$129,T$1)","v":188},{"$f":"VLOOKUP(DropDownList!$A$19,CntyQryCensus!$A$119:$CL$129,U$1)","v":119},{"$f":"VLOOKUP(DropDownList!$A$19,CntyQryCensus!$A$119:$CL$129,V$1)","v":190},{"$f":"VLOOKUP(DropDownList!$A$19,CntyQryCensus!$A$119:$CL$129,W$1)","v":68},{"$f":"VLOOKUP(DropDownList!$A$19,CntyQryCensus!$A$119:$CL$129,X$1)","v":99},{"$f":"VLOOKUP(DropDownList!$A$19,CntyQryCensus!$A$119:$CL$129,Y$1)","v":12},{"$f":"VLOOKUP(DropDownList!$A$19,CntyQryCensus!$A$119:$CL$129,Z$1)","v":0},{"$f":"VLOOKUP(DropDownList!$A$19,CntyQryCensus!$A$119:$CL$129,AA$1)","v":0},{"$f":"VLOOKUP(DropDownList!$A$19,CntyQryCensus!$A$119:$CL$129,AB$1)","v":122},{"$f":"VLOOKUP(DropDownList!$A$19,CntyQryCensus!$A$119:$CL$129,AC$1)","v":570},{"$f":"VLOOKUP(DropDownList!$A$19,CntyQryCensus!$A$119:$CL$129,AD$1)","v":2894},{"$f":"VLOOKUP(DropDownList!$A$19,CntyQryCensus!$A$119:$CL$129,AE$1)","v":90},{"$f":"VLOOKUP(DropDownList!$A$19,CntyQryCensus!$A$119:$CL$129,AF$1)","v":329},{"$f":"VLOOKUP(DropDownList!$A$19,CntyQryCensus!$A$119:$CL$129,AG$1)","v":518},{"$f":"VLOOKUP(DropDownList!$A$19,CntyQryCensus!$A$119:$CL$129,AH$1)","v":424},{"$f":"VLOOKUP(DropDownList!$A$19,CntyQryCensus!$A$119:$CL$129,AI$1)","v":321},{"$f":"VLOOKUP(DropDownList!$A$19,CntyQryCensus!$A$119:$CL$129,AJ$1)","v":247},{"$f":"VLOOKUP(DropDownList!$A$19,CntyQryCensus!$A$119:$CL$129,AK$1)","v":115},{"$f":"VLOOKUP(DropDownList!$A$19,CntyQryCensus!$A$119:$CL$129,AL$1)","v":197},{"$f":"VLOOKUP(DropDownList!$A$19,CntyQryCensus!$A$119:$CL$129,AM$1)","v":513},{"$f":"VLOOKUP(DropDownList!$A$19,CntyQryCensus!$A$119:$CL$129,AN$1)","v":140},{"$f":"VLOOKUP(DropDownList!$A$19,CntyQryCensus!$A$119:$CL$129,AO$1)","v":2894},{"$f":"VLOOKUP(DropDownList!$A$19,CntyQryCensus!$A$119:$CL$129,AP$1)","v":493},{"$f":"VLOOKUP(DropDownList!$A$19,CntyQryCensus!$A$119:$CL$129,AQ$1)","v":6},{"$f":"VLOOKUP(DropDownList!$A$19,CntyQryCensus!$A$119:$CL$129,AR$1)","v":20},{"$f":"VLOOKUP(DropDownList!$A$19,CntyQryCensus!$A$119:$CL$129,AS$1)","v":56},{"$f":"VLOOKUP(DropDownList!$A$19,CntyQryCensus!$A$119:$CL$129,AT$1)","v":19},{"$f":"VLOOKUP(DropDownList!$A$19,CntyQryCensus!$A$119:$CL$129,AU$1)","v":355},{"$f":"VLOOKUP(DropDownList!$A$19,CntyQryCensus!$A$119:$CL$129,AV$1)","v":37},{"$f":"VLOOKUP(DropDownList!$A$19,CntyQryCensus!$A$119:$CL$129,AW$1)","v":604},{"$f":"VLOOKUP(DropDownList!$A$19,CntyQryCensus!$A$119:$CL$129,AX$1)","v":68},{"$f":"VLOOKUP(DropDownList!$A$19,CntyQryCensus!$A$119:$CL$129,AY$1)","v":44},{"$f":"VLOOKUP(DropDownList!$A$19,CntyQryCensus!$A$119:$CL$129,AZ$1)","v":50},{"$f":"VLOOKUP(DropDownList!$A$19,CntyQryCensus!$A$119:$CL$129,BA$1)","v":62},{"$f":"VLOOKUP(DropDownList!$A$19,CntyQryCensus!$A$119:$CL$129,BB$1)","v":374},{"$f":"VLOOKUP(DropDownList!$A$19,CntyQryCensus!$A$119:$CL$129,BC$1)","v":6},{"$f":"VLOOKUP(DropDownList!$A$19,CntyQryCensus!$A$119:$CL$129,BD$1)","v":851},{"$f":"VLOOKUP(DropDownList!$A$19,CntyQryCensus!$A$119:$CL$129,BE$1)","v":159},{"$f":"VLOOKUP(DropDownList!$A$19,CntyQryCensus!$A$119:$CL$129,BF$1)","v":233},{"$f":"VLOOKUP(DropDownList!$A$19,CntyQryCensus!$A$119:$CL$129,BG$1)","v":188},{"$f":"VLOOKUP(DropDownList!$A$19,CntyQryCensus!$A$119:$CL$129,BH$1)","v":142},{"$f":"VLOOKUP(DropDownList!$A$19,CntyQryCensus!$A$119:$CL$129,BI$1)","v":91},{"$f":"VLOOKUP(DropDownList!$A$19,CntyQryCensus!$A$119:$CL$129,BJ$1)","v":38},{"$f":"VLOOKUP(DropDownList!$A$19,CntyQryCensus!$A$119:$CL$129,BK$1)","v":495},{"$f":"VLOOKUP(DropDownList!$A$19,CntyQryCensus!$A$119:$CL$129,BL$1)","v":324},{"$f":"VLOOKUP(DropDownList!$A$19,CntyQryCensus!$A$119:$CL$129,BM$1)","v":98},{"$f":"VLOOKUP(DropDownList!$A$19,CntyQryCensus!$A$119:$CL$129,BN$1)","v":27},{"$f":"VLOOKUP(DropDownList!$A$19,CntyQryCensus!$A$119:$CL$129,BO$1)","v":24},{"$f":"VLOOKUP(DropDownList!$A$19,CntyQryCensus!$A$119:$CL$129,BP$1)","v":5},{"$f":"VLOOKUP(DropDownList!$A$19,CntyQryCensus!$A$119:$CL$129,BQ$1)","v":17},{"$f":"VLOOKUP(DropDownList!$A$19,CntyQryCensus!$A$119:$CL$129,BR$1)","v":305},{"$f":"VLOOKUP(DropDownList!$A$19,CntyQryCensus!$A$119:$CL$129,BS$1)","v":261},{"$f":"VLOOKUP(DropDownList!$A$19,CntyQryCensus!$A$119:$CL$129,BT$1)","v":23},{"$f":"VLOOKUP(DropDownList!$A$19,CntyQryCensus!$A$119:$CL$129,BU$1)","v":0},{"$f":"VLOOKUP(DropDownList!$A$19,CntyQryCensus!$A$119:$CL$129,BV$1)","v":0},{"$f":"VLOOKUP(DropDownList!$A$19,CntyQryCensus!$A$119:$CL$129,BW$1)","v":0},{"$f":"VLOOKUP(DropDownList!$A$19,CntyQryCensus!$A$119:$CL$129,BX$1)","v":21},{"$f":"VLOOKUP(DropDownList!$A$19,CntyQryCensus!$A$119:$CL$129,BY$1)","v":96},{"$f":"VLOOKUP(DropDownList!$A$19,CntyQryCensus!$A$119:$CL$129,BZ$1)","v":80},{"$f":"VLOOKUP(DropDownList!$A$19,CntyQryCensus!$A$119:$CL$129,CA$1)","v":6},{"$f":"VLOOKUP(DropDownList!$A$19,CntyQryCensus!$A$119:$CL$129,CB$1)","v":0},{"$f":"VLOOKUP(DropDownList!$A$19,CntyQryCensus!$A$119:$CL$129,CC$1)","v":0},{"$f":"VLOOKUP(DropDownList!$A$19,CntyQryCensus!$A$119:$CL$129,CD$1)","v":0},{"$f":"VLOOKUP(DropDownList!$A$19,CntyQryCensus!$A$119:$CL$129,CE$1)","v":10},{"$f":"VLOOKUP(DropDownList!$A$19,CntyQryCensus!$A$119:$CL$129,CF$1)","v":50},{"$f":"VLOOKUP(DropDownList!$A$19,CntyQryCensus!$A$119:$CL$129,CG$1)","v":39},{"$f":"VLOOKUP(DropDownList!$A$19,CntyQryCensus!$A$119:$CL$129,CH$1)","v":0},{"$f":"VLOOKUP(DropDownList!$A$19,CntyQryCensus!$A$119:$CL$129,CI$1)","v":0},{"$f":"VLOOKUP(DropDownList!$A$19,CntyQryCensus!$A$119:$CL$129,CJ$1)","v":0},{"$f":"VLOOKUP(DropDownList!$A$19,CntyQryCensus!$A$119:$CL$129,CK$1)","v":0},{"$f":"VLOOKUP(DropDownList!$A$19,CntyQryCensus!$A$119:$CL$129,CL$1)","v":11}]
[]
[]
["Census 2000 SummaryFile3 Sample Data  -  SF3CountyQry8HousingCostB"]
["NAME","LOGRECNO","COUNTY","TotalPop","H74SpecOwnerOccHU","H74OOHU<10k","H74OOHU10to15k","H74OOHU15to20k","H74OOHU20to25k","H74OOHU25to30k","H74OOHU30to35k","H74OOHU35to40k","H74OOHU40to50k","H74OOHU50to60k","H74OOHU60to70k","H74OOHU70to80k","H74OOHU80to90k","H74OOHU90to100k","H74OOHU100to125k","H74OOHU125to150k","H74OOHU150to175k","H74OOHU175to200k","H74OOHU200to250k","H74OOHU250to300k","H74OOHU300to400k","H74OOHU400to500k","H74OOHU500to750k","H74OOHU750to1000k","H74OOHU1000kmore","H76OOHUMedianVal","H84OwnerOccHU","H84AllOOHU<10k","H84AllOOHU10to15k","H84AllOOHU15to20k","H84AllOOHU20to25k","H84AllOOHU25to30k","H84AllOOHU30to35k","H84AllOOHU35to40k","H84AllOOHU40to50k","H84AllOOHU50to60k","H84AllOOHU60to70k","H84AllOOHU70to80k","H84AllOOHU80to90k","H84AllOOHU90to100k","H84AllOOHU100to125k","H84AllOOHU125to150k","H84AllOOHU150to175k","H84AllOOHU175to200k","H84AllOOHU200to250k","H84AllOOHU250to300k","H84AllOOHU300to400k","H84AllOOHU400to500k","H84AllOOHU500to750k","H84AllOOHU750to1000k","H84AllOOHU1000kmore","H85OOHUMedVal","H90SOOHU","H90HUwMorgt","H90HUwMtgHC<200","H90HUwMtgHC200to300","H90HUwMtgHC300to400","H90HUwMtgHC400to500","H90HUwMtgHC500to600","H90HUwMtgHC600to700","H90HUwMtgHC700to800","H90HUwMtgHC800to900","H90HUwMtgHC900to1000","H90HUwMtgHC1000to1250","H90HUwMtgHC1250to1500","H90HUwMtgHC1500to2000","H90HUwMtgHC2000to2500","H90HUwMtgHC2500to3000","H90HUwMtgHC3000orMore","H90HUwOutMorgt","H90HUwOutMtgHC<100","H90HUwOutMtgHC100to150","H90HUwOutMtgHC150to200","H90HUwOutMtgHC200to250","H90HUwOutMtgHC250to300","H90HUwOutMtgHC300to350","H90HUwOutMtgHC350to400","H90HUwOutMtgHC400to500","H90HUwOutMtgHC500to600","H90HUwOutMtgHC600to700","H90HUwOutMtgHC700to800","H90HUwOutMtgHC800to900","H90HUwOutMtgHC900to1000","H90HUwOutMtgHC1000orMore","H91MedianOCHUwMtg","H91MedianOCHUwOutMtg","H94SpecOOHU","H94HUwMortg","H94HUwMtgHC<10pct","H94HUwMtgHC10to15pct","H94HUwMtgHC15to20pct","H94HUwMtgHC20to25pct","H94HUwMtgHC25to30pct","H94HUwMtgHC30to35pct","H94HUwMtgHC35to40pct","H94HUwMtgHC40to50pct","H94HUwMtgHC50pctOrMore","H94HUwMtgHCpctNotComp","H94HUWOutMortg","H94HUWOutMortgHC<10pct","H94HUWOutMortgHC10to15pct","H94HUWOutMortgHC15to20pct","H94HUWOutMortgHC20to25pct","H94HUWOutMortgHC25to30pct","H94HUWOutMortgHC30to35pct","H94HUWOutMortgHC35to40pct","H94HUWOutMortgHC40to50pct","H94HUWOutMortgHC50pctOrMore","H94HUWOutMortgHCpctNotComp","H97SpecifOwnOccHU","H97SOOHUInc<10k","H97SOOHUInc<10kHC<20pct","H97SOOHUInc<10kHC20to25pct","H97SOOHUInc<10kHC25to30pct","H97SOOHUInc<10kHC30to35pct","H97SOOHUInc<10kHC>35pct","H97SOOHUInc<10kHCpctNotComput","H97SOOHUInc10to20k","H97SOOHUInc10to20kHC<20pct","H97SOOHUInc10to20kHC20to25pct","H97SOOHUInc10to20kHC25to30pct","H97SOOHUInc10to20kHC30to35pct","H97SOOHUInc10to20kHC>35pct","H97SOOHUInc10to20kHCpctNotComput","H97SOOHUInc20to35k","H97SOOHUInc20to35kRC<20pct","H97SOOHUInc20to35kRC20to25pct","H97SOOHUInc20to35kRC25to30pct","H97SOOHUInc20to35kRC30to35pct","H97SOOHUInc20to35kRC>35pct","H97SOOHUInc20to35kRCpctNotComput","H97SOOHUInc35to50k","H97SOOHUInc35to50kRC<20pct","H97SOOHUInc35to50kRC20to25pct","H97SOOHUInc35to50kRC25to30pct","H97SOOHUInc35to50kRC30to35pct","H97SOOHUInc35to50kRC>35pct","H97SOOHUInc35to50kRCpctNotCompute","H97SOOHUInc50to75k","H97SOOHUInc50to75kRC<20pct","H97SOOHUInc50to75kRC20to25pct","H97SOOHUInc50to75kRC25to30pct","H97SOOHUInc50to75kRC30to35pct","H97SOOHUInc50to75kRC>35pct","H97SOOHUInc50to75kRCpctNotComput","H97SOOHUInc75to100k","H97SOOHUInc75to100kRC<20pct","H97SOOHUInc75to100kRC20to25pct","H97SOOHUInc75to100kRC25to30pct","H97SOOHUInc75to100kRC30to35pct","H97SOOHUInc75to100kRC>35pct","H97SOOHUInc75to100kRCpctNotCompute","H97SOOHUInc100to150k","H97SOOHUInc100to150kRC<20pct","H97SOOHUInc100to150kRC20to25pct","H97SOOHUInc100to150kRC25to30pct","H97SOOHUInc100to150kRC30to35pct","H97SOOHUInc100to150kRC>35pct","H97SOOHUInc100to150kRCpctNotCompute","H97SOOHUInc>150k","H97SOOHUInc>150kRC<20pct","H97SOOHUInc>150kRC20to25pct","H97SOOHUInc>150kRC25to30pct","H97SOOHUInc>150kRC30to35pct","H97SOOHUInc>150kRC>35pct","H97SOOHUInc>150kRCpctNotCompute"]
[{"$f":"VLOOKUP(DropDownList!$A$19,CntyQuery!$A$20:$CE$30,A$1)","v":"Laconia"},{"$f":"VLOOKUP(DropDownList!$A$19,CntyQryCensus!$A$135:$FN$145,B$1)","v":"0000155"},{"$f":"VLOOKUP(DropDownList!$A$19,CntyQryCensus!$A$135:$FN$145,C$1)","v":"40180"},{"$f":"VLOOKUP(DropDownList!$A$19,CntyQryCensus!$A$135:$FN$145,D$1)","v":16411},{"$f":"VLOOKUP(DropDownList!$A$19,CntyQryCensus!$A$135:$FN$145,E$1)","v":3034},{"$f":"VLOOKUP(DropDownList!$A$19,CntyQryCensus!$A$135:$FN$145,F$1)","v":0},{"$f":"VLOOKUP(DropDownList!$A$19,CntyQryCensus!$A$135:$FN$145,G$1)","v":0},{"$f":"VLOOKUP(DropDownList!$A$19,CntyQryCensus!$A$135:$FN$145,H$1)","v":0},{"$f":"VLOOKUP(DropDownList!$A$19,CntyQryCensus!$A$135:$FN$145,I$1)","v":0},{"$f":"VLOOKUP(DropDownList!$A$19,CntyQryCensus!$A$135:$FN$145,J$1)","v":0},{"$f":"VLOOKUP(DropDownList!$A$19,CntyQryCensus!$A$135:$FN$145,K$1)","v":0},{"$f":"VLOOKUP(DropDownList!$A$19,CntyQryCensus!$A$135:$FN$145,L$1)","v":13},{"$f":"VLOOKUP(DropDownList!$A$19,CntyQryCensus!$A$135:$FN$145,M$1)","v":23},{"$f":"VLOOKUP(DropDownList!$A$19,CntyQryCensus!$A$135:$FN$145,N$1)","v":128},{"$f":"VLOOKUP(DropDownList!$A$19,CntyQryCensus!$A$135:$FN$145,O$1)","v":156},{"$f":"VLOOKUP(DropDownList!$A$19,CntyQryCensus!$A$135:$FN$145,P$1)","v":313},{"$f":"VLOOKUP(DropDownList!$A$19,CntyQryCensus!$A$135:$FN$145,Q$1)","v":552},{"$f":"VLOOKUP(DropDownList!$A$19,CntyQryCensus!$A$135:$FN$145,R$1)","v":499},{"$f":"VLOOKUP(DropDownList!$A$19,CntyQryCensus!$A$135:$FN$145,S$1)","v":483},{"$f":"VLOOKUP(DropDownList!$A$19,CntyQryCensus!$A$135:$FN$145,T$1)","v":399},{"$f":"VLOOKUP(DropDownList!$A$19,CntyQryCensus!$A$135:$FN$145,U$1)","v":165},{"$f":"VLOOKUP(DropDownList!$A$19,CntyQryCensus!$A$135:$FN$145,V$1)","v":113},{"$f":"VLOOKUP(DropDownList!$A$19,CntyQryCensus!$A$135:$FN$145,W$1)","v":41},{"$f":"VLOOKUP(DropDownList!$A$19,CntyQryCensus!$A$135:$FN$145,X$1)","v":77},{"$f":"VLOOKUP(DropDownList!$A$19,CntyQryCensus!$A$135:$FN$145,Y$1)","v":50},{"$f":"VLOOKUP(DropDownList!$A$19,CntyQryCensus!$A$135:$FN$145,Z$1)","v":12},{"$f":"VLOOKUP(DropDownList!$A$19,CntyQryCensus!$A$135:$FN$145,AA$1)","v":10},{"$f":"VLOOKUP(DropDownList!$A$19,CntyQryCensus!$A$135:$FN$145,AB$1)","v":0},{"$f":"VLOOKUP(DropDownList!$A$19,CntyQryCensus!$A$135:$FN$145,AC$1)","v":0},{"$f":"VLOOKUP(DropDownList!$A$19,CntyQryCensus!$A$135:$FN$145,AD$1)","v":96700},{"$f":"VLOOKUP(DropDownList!$A$19,CntyQryCensus!$A$135:$FN$145,AE$1)","v":3824},{"$f":"VLOOKUP(DropDownList!$A$19,CntyQryCensus!$A$135:$FN$145,AF$1)","v":0},{"$f":"VLOOKUP(DropDownList!$A$19,CntyQryCensus!$A$135:$FN$145,AG$1)","v":0},{"$f":"VLOOKUP(DropDownList!$A$19,CntyQryCensus!$A$135:$FN$145,AH$1)","v":0},{"$f":"VLOOKUP(DropDownList!$A$19,CntyQryCensus!$A$135:$FN$145,AI$1)","v":0},{"$f":"VLOOKUP(DropDownList!$A$19,CntyQryCensus!$A$135:$FN$145,AJ$1)","v":11},{"$f":"VLOOKUP(DropDownList!$A$19,CntyQryCensus!$A$135:$FN$145,AK$1)","v":34},{"$f":"VLOOKUP(DropDownList!$A$19,CntyQryCensus!$A$135:$FN$145,AL$1)","v":26},{"$f":"VLOOKUP(DropDownList!$A$19,CntyQryCensus!$A$135:$FN$145,AM$1)","v":70},{"$f":"VLOOKUP(DropDownList!$A$19,CntyQryCensus!$A$135:$FN$145,AN$1)","v":161},{"$f":"VLOOKUP(DropDownList!$A$19,CntyQryCensus!$A$135:$FN$145,AO$1)","v":245},{"$f":"VLOOKUP(DropDownList!$A$19,CntyQryCensus!$A$135:$FN$145,AP$1)","v":484},{"$f":"VLOOKUP(DropDownList!$A$19,CntyQryCensus!$A$135:$FN$145,AQ$1)","v":602},{"$f":"VLOOKUP(DropDownList!$A$19,CntyQryCensus!$A$135:$FN$145,AR$1)","v":581},{"$f":"VLOOKUP(DropDownList!$A$19,CntyQryCensus!$A$135:$FN$145,AS$1)","v":608},{"$f":"VLOOKUP(DropDownList!$A$19,CntyQryCensus!$A$135:$FN$145,AT$1)","v":435},{"$f":"VLOOKUP(DropDownList!$A$19,CntyQryCensus!$A$135:$FN$145,AU$1)","v":185},{"$f":"VLOOKUP(DropDownList!$A$19,CntyQryCensus!$A$135:$FN$145,AV$1)","v":132},{"$f":"VLOOKUP(DropDownList!$A$19,CntyQryCensus!$A$135:$FN$145,AW$1)","v":62},{"$f":"VLOOKUP(DropDownList!$A$19,CntyQryCensus!$A$135:$FN$145,AX$1)","v":110},{"$f":"VLOOKUP(DropDownList!$A$19,CntyQryCensus!$A$135:$FN$145,AY$1)","v":50},{"$f":"VLOOKUP(DropDownList!$A$19,CntyQryCensus!$A$135:$FN$145,AZ$1)","v":18},{"$f":"VLOOKUP(DropDownList!$A$19,CntyQryCensus!$A$135:$FN$145,BA$1)","v":10},{"$f":"VLOOKUP(DropDownList!$A$19,CntyQryCensus!$A$135:$FN$145,BB$1)","v":0},{"$f":"VLOOKUP(DropDownList!$A$19,CntyQryCensus!$A$135:$FN$145,BC$1)","v":0},{"$f":"VLOOKUP(DropDownList!$A$19,CntyQryCensus!$A$135:$FN$145,BD$1)","v":94800},{"$f":"VLOOKUP(DropDownList!$A$19,CntyQryCensus!$A$135:$FN$145,BE$1)","v":3034},{"$f":"VLOOKUP(DropDownList!$A$19,CntyQryCensus!$A$135:$FN$145,BF$1)","v":2146},{"$f":"VLOOKUP(DropDownList!$A$19,CntyQryCensus!$A$135:$FN$145,BG$1)","v":0},{"$f":"VLOOKUP(DropDownList!$A$19,CntyQryCensus!$A$135:$FN$145,BH$1)","v":0},{"$f":"VLOOKUP(DropDownList!$A$19,CntyQryCensus!$A$135:$FN$145,BI$1)","v":16},{"$f":"VLOOKUP(DropDownList!$A$19,CntyQryCensus!$A$135:$FN$145,BJ$1)","v":51},{"$f":"VLOOKUP(DropDownList!$A$19,CntyQryCensus!$A$135:$FN$145,BK$1)","v":95},{"$f":"VLOOKUP(DropDownList!$A$19,CntyQryCensus!$A$135:$FN$145,BL$1)","v":118},{"$f":"VLOOKUP(DropDownList!$A$19,CntyQryCensus!$A$135:$FN$145,BM$1)","v":211},{"$f":"VLOOKUP(DropDownList!$A$19,CntyQryCensus!$A$135:$FN$145,BN$1)","v":309},{"$f":"VLOOKUP(DropDownList!$A$19,CntyQryCensus!$A$135:$FN$145,BO$1)","v":252},{"$f":"VLOOKUP(DropDownList!$A$19,CntyQryCensus!$A$135:$FN$145,BP$1)","v":527},{"$f":"VLOOKUP(DropDownList!$A$19,CntyQryCensus!$A$135:$FN$145,BQ$1)","v":241},{"$f":"VLOOKUP(DropDownList!$A$19,CntyQryCensus!$A$135:$FN$145,BR$1)","v":208},{"$f":"VLOOKUP(DropDownList!$A$19,CntyQryCensus!$A$135:$FN$145,BS$1)","v":84},{"$f":"VLOOKUP(DropDownList!$A$19,CntyQryCensus!$A$135:$FN$145,BT$1)","v":12},{"$f":"VLOOKUP(DropDownList!$A$19,CntyQryCensus!$A$135:$FN$145,BU$1)","v":22},{"$f":"VLOOKUP(DropDownList!$A$19,CntyQryCensus!$A$135:$FN$145,BV$1)","v":888},{"$f":"VLOOKUP(DropDownList!$A$19,CntyQryCensus!$A$135:$FN$145,BW$1)","v":0},{"$f":"VLOOKUP(DropDownList!$A$19,CntyQryCensus!$A$135:$FN$145,BX$1)","v":5},{"$f":"VLOOKUP(DropDownList!$A$19,CntyQryCensus!$A$135:$FN$145,BY$1)","v":24},{"$f":"VLOOKUP(DropDownList!$A$19,CntyQryCensus!$A$135:$FN$145,BZ$1)","v":53},{"$f":"VLOOKUP(DropDownList!$A$19,CntyQryCensus!$A$135:$FN$145,CA$1)","v":72},{"$f":"VLOOKUP(DropDownList!$A$19,CntyQryCensus!$A$135:$FN$145,CB$1)","v":122},{"$f":"VLOOKUP(DropDownList!$A$19,CntyQryCensus!$A$135:$FN$145,CC$1)","v":172},{"$f":"VLOOKUP(DropDownList!$A$19,CntyQryCensus!$A$135:$FN$145,CD$1)","v":234},{"$f":"VLOOKUP(DropDownList!$A$19,CntyQryCensus!$A$135:$FN$145,CE$1)","v":109},{"$f":"VLOOKUP(DropDownList!$A$19,CntyQryCensus!$A$135:$FN$145,CF$1)","v":53},{"$f":"VLOOKUP(DropDownList!$A$19,CntyQryCensus!$A$135:$FN$145,CG$1)","v":34},{"$f":"VLOOKUP(DropDownList!$A$19,CntyQryCensus!$A$135:$FN$145,CH$1)","v":0},{"$f":"VLOOKUP(DropDownList!$A$19,CntyQryCensus!$A$135:$FN$145,CI$1)","v":10},{"$f":"VLOOKUP(DropDownList!$A$19,CntyQryCensus!$A$135:$FN$145,CJ$1)","v":0},{"$f":"VLOOKUP(DropDownList!$A$19,CntyQryCensus!$A$135:$FN$145,CK$1)","v":1010},{"$f":"VLOOKUP(DropDownList!$A$19,CntyQryCensus!$A$135:$FN$145,CL$1)","v":399},{"$f":"VLOOKUP(DropDownList!$A$19,CntyQryCensus!$A$135:$FN$145,CM$1)","v":3034},{"$f":"VLOOKUP(DropDownList!$A$19,CntyQryCensus!$A$135:$FN$145,CN$1)","v":2146},{"$f":"VLOOKUP(DropDownList!$A$19,CntyQryCensus!$A$135:$FN$145,CO$1)","v":80},{"$f":"VLOOKUP(DropDownList!$A$19,CntyQryCensus!$A$135:$FN$145,CP$1)","v":308},{"$f":"VLOOKUP(DropDownList!$A$19,CntyQryCensus!$A$135:$FN$145,CQ$1)","v":456},{"$f":"VLOOKUP(DropDownList!$A$19,CntyQryCensus!$A$135:$FN$145,CR$1)","v":446},{"$f":"VLOOKUP(DropDownList!$A$19,CntyQryCensus!$A$135:$FN$145,CS$1)","v":261},{"$f":"VLOOKUP(DropDownList!$A$19,CntyQryCensus!$A$135:$FN$145,CT$1)","v":180},{"$f":"VLOOKUP(DropDownList!$A$19,CntyQryCensus!$A$135:$FN$145,CU$1)","v":86},{"$f":"VLOOKUP(DropDownList!$A$19,CntyQryCensus!$A$135:$FN$145,CV$1)","v":97},{"$f":"VLOOKUP(DropDownList!$A$19,CntyQryCensus!$A$135:$FN$145,CW$1)","v":225},{"$f":"VLOOKUP(DropDownList!$A$19,CntyQryCensus!$A$135:$FN$145,CX$1)","v":7},{"$f":"VLOOKUP(DropDownList!$A$19,CntyQryCensus!$A$135:$FN$145,CY$1)","v":888},{"$f":"VLOOKUP(DropDownList!$A$19,CntyQryCensus!$A$135:$FN$145,CZ$1)","v":237},{"$f":"VLOOKUP(DropDownList!$A$19,CntyQryCensus!$A$135:$FN$145,DA$1)","v":258},{"$f":"VLOOKUP(DropDownList!$A$19,CntyQryCensus!$A$135:$FN$145,DB$1)","v":149},{"$f":"VLOOKUP(DropDownList!$A$19,CntyQryCensus!$A$135:$FN$145,DC$1)","v":98},{"$f":"VLOOKUP(DropDownList!$A$19,CntyQryCensus!$A$135:$FN$145,DD$1)","v":41},{"$f":"VLOOKUP(DropDownList!$A$19,CntyQryCensus!$A$135:$FN$145,DE$1)","v":14},{"$f":"VLOOKUP(DropDownList!$A$19,CntyQryCensus!$A$135:$FN$145,DF$1)","v":19},{"$f":"VLOOKUP(DropDownList!$A$19,CntyQryCensus!$A$135:$FN$145,DG$1)","v":40},{"$f":"VLOOKUP(DropDownList!$A$19,CntyQryCensus!$A$135:$FN$145,DH$1)","v":32},{"$f":"VLOOKUP(DropDownList!$A$19,CntyQryCensus!$A$135:$FN$145,DI$1)","v":0},{"$f":"VLOOKUP(DropDownList!$A$19,CntyQryCensus!$A$135:$FN$145,DJ$1)","v":3034},{"$f":"VLOOKUP(DropDownList!$A$19,CntyQryCensus!$A$135:$FN$145,DK$1)","v":77},{"$f":"VLOOKUP(DropDownList!$A$19,CntyQryCensus!$A$135:$FN$145,DL$1)","v":0},{"$f":"VLOOKUP(DropDownList!$A$19,CntyQryCensus!$A$135:$FN$145,DM$1)","v":0},{"$f":"VLOOKUP(DropDownList!$A$19,CntyQryCensus!$A$135:$FN$145,DN$1)","v":0},{"$f":"VLOOKUP(DropDownList!$A$19,CntyQryCensus!$A$135:$FN$145,DO$1)","v":7},{"$f":"VLOOKUP(DropDownList!$A$19,CntyQryCensus!$A$135:$FN$145,DP$1)","v":63},{"$f":"VLOOKUP(DropDownList!$A$19,CntyQryCensus!$A$135:$FN$145,DQ$1)","v":7},{"$f":"VLOOKUP(DropDownList!$A$19,CntyQryCensus!$A$135:$FN$145,DR$1)","v":252},{"$f":"VLOOKUP(DropDownList!$A$19,CntyQryCensus!$A$135:$FN$145,DS$1)","v":56},{"$f":"VLOOKUP(DropDownList!$A$19,CntyQryCensus!$A$135:$FN$145,DT$1)","v":43},{"$f":"VLOOKUP(DropDownList!$A$19,CntyQryCensus!$A$135:$FN$145,DU$1)","v":11},{"$f":"VLOOKUP(DropDownList!$A$19,CntyQryCensus!$A$135:$FN$145,DV$1)","v":7},{"$f":"VLOOKUP(DropDownList!$A$19,CntyQryCensus!$A$135:$FN$145,DW$1)","v":135},{"$f":"VLOOKUP(DropDownList!$A$19,CntyQryCensus!$A$135:$FN$145,DX$1)","v":0},{"$f":"VLOOKUP(DropDownList!$A$19,CntyQryCensus!$A$135:$FN$145,DY$1)","v":545},{"$f":"VLOOKUP(DropDownList!$A$19,CntyQryCensus!$A$135:$FN$145,DZ$1)","v":144},{"$f":"VLOOKUP(DropDownList!$A$19,CntyQryCensus!$A$135:$FN$145,EA$1)","v":84},{"$f":"VLOOKUP(DropDownList!$A$19,CntyQryCensus!$A$135:$FN$145,EB$1)","v":57},{"$f":"VLOOKUP(DropDownList!$A$19,CntyQryCensus!$A$135:$FN$145,EC$1)","v":57},{"$f":"VLOOKUP(DropDownList!$A$19,CntyQryCensus!$A$135:$FN$145,ED$1)","v":203},{"$f":"VLOOKUP(DropDownList!$A$19,CntyQryCensus!$A$135:$FN$145,EE$1)","v":0},{"$f":"VLOOKUP(DropDownList!$A$19,CntyQryCensus!$A$135:$FN$145,EF$1)","v":633},{"$f":"VLOOKUP(DropDownList!$A$19,CntyQryCensus!$A$135:$FN$145,EG$1)","v":261},{"$f":"VLOOKUP(DropDownList!$A$19,CntyQryCensus!$A$135:$FN$145,EH$1)","v":143},{"$f":"VLOOKUP(DropDownList!$A$19,CntyQryCensus!$A$135:$FN$145,EI$1)","v":126},{"$f":"VLOOKUP(DropDownList!$A$19,CntyQryCensus!$A$135:$FN$145,EJ$1)","v":38},{"$f":"VLOOKUP(DropDownList!$A$19,CntyQryCensus!$A$135:$FN$145,EK$1)","v":65},{"$f":"VLOOKUP(DropDownList!$A$19,CntyQryCensus!$A$135:$FN$145,EL$1)","v":0},{"$f":"VLOOKUP(DropDownList!$A$19,CntyQryCensus!$A$135:$FN$145,EM$1)","v":813},{"$f":"VLOOKUP(DropDownList!$A$19,CntyQryCensus!$A$135:$FN$145,EN$1)","v":451},{"$f":"VLOOKUP(DropDownList!$A$19,CntyQryCensus!$A$135:$FN$145,EO$1)","v":192},{"$f":"VLOOKUP(DropDownList!$A$19,CntyQryCensus!$A$135:$FN$145,EP$1)","v":89},{"$f":"VLOOKUP(DropDownList!$A$19,CntyQryCensus!$A$135:$FN$145,EQ$1)","v":55},{"$f":"VLOOKUP(DropDownList!$A$19,CntyQryCensus!$A$135:$FN$145,ER$1)","v":26},{"$f":"VLOOKUP(DropDownList!$A$19,CntyQryCensus!$A$135:$FN$145,ES$1)","v":0},{"$f":"VLOOKUP(DropDownList!$A$19,CntyQryCensus!$A$135:$FN$145,ET$1)","v":436},{"$f":"VLOOKUP(DropDownList!$A$19,CntyQryCensus!$A$135:$FN$145,EU$1)","v":354},{"$f":"VLOOKUP(DropDownList!$A$19,CntyQryCensus!$A$135:$FN$145,EV$1)","v":45},{"$f":"VLOOKUP(DropDownList!$A$19,CntyQryCensus!$A$135:$FN$145,EW$1)","v":6},{"$f":"VLOOKUP(DropDownList!$A$19,CntyQryCensus!$A$135:$FN$145,EX$1)","v":24},{"$f":"VLOOKUP(DropDownList!$A$19,CntyQryCensus!$A$135:$FN$145,EY$1)","v":7},{"$f":"VLOOKUP(DropDownList!$A$19,CntyQryCensus!$A$135:$FN$145,EZ$1)","v":0},{"$f":"VLOOKUP(DropDownList!$A$19,CntyQryCensus!$A$135:$FN$145,FA$1)","v":209},{"$f":"VLOOKUP(DropDownList!$A$19,CntyQryCensus!$A$135:$FN$145,FB$1)","v":153},{"$f":"VLOOKUP(DropDownList!$A$19,CntyQryCensus!$A$135:$FN$145,FC$1)","v":37},{"$f":"VLOOKUP(DropDownList!$A$19,CntyQryCensus!$A$135:$FN$145,FD$1)","v":13},{"$f":"VLOOKUP(DropDownList!$A$19,CntyQryCensus!$A$135:$FN$145,FE$1)","v":6},{"$f":"VLOOKUP(DropDownList!$A$19,CntyQryCensus!$A$135:$FN$145,FF$1)","v":0},{"$f":"VLOOKUP(DropDownList!$A$19,CntyQryCensus!$A$135:$FN$145,FG$1)","v":0},{"$f":"VLOOKUP(DropDownList!$A$19,CntyQryCensus!$A$135:$FN$145,FH$1)","v":69},{"$f":"VLOOKUP(DropDownList!$A$19,CntyQryCensus!$A$135:$FN$145,FI$1)","v":69},{"$f":"VLOOKUP(DropDownList!$A$19,CntyQryCensus!$A$135:$FN$145,FJ$1)","v":0},{"$f":"VLOOKUP(DropDownList!$A$19,CntyQryCensus!$A$135:$FN$145,FK$1)","v":0},{"$f":"VLOOKUP(DropDownList!$A$19,CntyQryCensus!$A$135:$FN$145,FL$1)","v":0},{"$f":"VLOOKUP(DropDownList!$A$19,CntyQryCensus!$A$135:$FN$145,FM$1)","v":0},{"$f":"VLOOKUP(DropDownList!$A$19,CntyQryCensus!$A$135:$FN$145,FN$1)","v":0}]
[]
[]
["Census 2000 SummaryFile3 Sample Data  -  SF3CountyQry9HHIncomeByTenure"]
["NAME","LOGRECNO","COUNTY","TotalPop","HCT11OccHU","HCT11OwnOccHU","HCT11OOHUInc<5K","HCT11OOHUInc5to10K","HCT11OOHUInc10to15K","HCT11OOHUInc15to20K","HCT11OOHUInc20to25K","HCT11OOHUInc25to35K","HCT11OOHUInc35to50K","HCT11OOHUInc50to75K","HCT11OOHUInc75to100K","HCT11OOHUInc100to150K","HCT11OOHUInc>150K","HCT11RentOccHU","HCT11ROHUInc<5K","HCT11ROHUInc5to10K","HCT11ROHUInc10to15K","HCT11ROHUInc15to20K","HCT11ROHUInc20to25K","HCT11ROHUInc25to35K","HCT11ROHUInc35to50K","HCT11ROHUInc50to75K","HCT11ROHUInc75to100K","HCT11ROHUInc100to150K","HCT11ROHUInc>150K","HCT12MedHHInc","HCT12MedOwnOccHHInc","HCT12MedRentOccHHInc"]
[{"$f":"VLOOKUP(DropDownList!$A$19,CntyQuery!$A$20:$CE$30,A$1)","v":"Laconia"},{"$f":"VLOOKUP(DropDownList!$A$19,CntyQryCensus!$A$151:$AZ$161,B$1)","v":"0000155"},{"$f":"VLOOKUP(DropDownList!$A$19,CntyQryCensus!$A$151:$AZ$161,C$1)","v":"40180"},{"$f":"VLOOKUP(DropDownList!$A$19,CntyQryCensus!$A$151:$AZ$161,D$1)","v":"Laconia city"},{"$f":"VLOOKUP(DropDownList!$A$19,CntyQryCensus!$A$151:$AZ$161,E$1)","v":"001"},{"$f":"VLOOKUP(DropDownList!$A$19,CntyQryCensus!$A$151:$AZ$161,F$1)","v":16411},{"$f":"VLOOKUP(DropDownList!$A$19,CntyQryCensus!$A$151:$AZ$161,G$1)","v":6724},{"$f":"VLOOKUP(DropDownList!$A$19,CntyQryCensus!$A$151:$AZ$161,H$1)","v":3824},{"$f":"VLOOKUP(DropDownList!$A$19,CntyQryCensus!$A$151:$AZ$161,I$1)","v":27},{"$f":"VLOOKUP(DropDownList!$A$19,CntyQryCensus!$A$151:$AZ$161,J$1)","v":104},{"$f":"VLOOKUP(DropDownList!$A$19,CntyQryCensus!$A$151:$AZ$161,K$1)","v":184},{"$f":"VLOOKUP(DropDownList!$A$19,CntyQryCensus!$A$151:$AZ$161,L$1)","v":170},{"$f":"VLOOKUP(DropDownList!$A$19,CntyQryCensus!$A$151:$AZ$161,M$1)","v":224},{"$f":"VLOOKUP(DropDownList!$A$19,CntyQryCensus!$A$151:$AZ$161,N$1)","v":465},{"$f":"VLOOKUP(DropDownList!$A$19,CntyQryCensus!$A$151:$AZ$161,O$1)","v":838},{"$f":"VLOOKUP(DropDownList!$A$19,CntyQryCensus!$A$151:$AZ$161,P$1)","v":989},{"$f":"VLOOKUP(DropDownList!$A$19,CntyQryCensus!$A$151:$AZ$161,Q$1)","v":477},{"$f":"VLOOKUP(DropDownList!$A$19,CntyQryCensus!$A$151:$AZ$161,R$1)","v":243},{"$f":"VLOOKUP(DropDownList!$A$19,CntyQryCensus!$A$151:$AZ$161,S$1)","v":103},{"$f":"VLOOKUP(DropDownList!$A$19,CntyQryCensus!$A$151:$AZ$161,T$1)","v":2900},{"$f":"VLOOKUP(DropDownList!$A$19,CntyQryCensus!$A$151:$AZ$161,U$1)","v":89},{"$f":"VLOOKUP(DropDownList!$A$19,CntyQryCensus!$A$151:$AZ$161,V$1)","v":404},{"$f":"VLOOKUP(DropDownList!$A$19,CntyQryCensus!$A$151:$AZ$161,W$1)","v":292},{"$f":"VLOOKUP(DropDownList!$A$19,CntyQryCensus!$A$151:$AZ$161,X$1)","v":318},{"$f":"VLOOKUP(DropDownList!$A$19,CntyQryCensus!$A$151:$AZ$161,Y$1)","v":329},{"$f":"VLOOKUP(DropDownList!$A$19,CntyQryCensus!$A$151:$AZ$161,Z$1)","v":522},{"$f":"VLOOKUP(DropDownList!$A$19,CntyQryCensus!$A$151:$AZ$161,AA$1)","v":495},{"$f":"VLOOKUP(DropDownList!$A$19,CntyQryCensus!$A$151:$AZ$161,AB$1)","v":305},{"$f":"VLOOKUP(DropDownList!$A$19,CntyQryCensus!$A$151:$AZ$161,AC$1)","v":96},{"$f":"VLOOKUP(DropDownList!$A$19,CntyQryCensus!$A$151:$AZ$161,AD$1)","v":44},{"$f":"VLOOKUP(DropDownList!$A$19,CntyQryCensus!$A$151:$AZ$161,AE$1)","v":6},{"$f":"VLOOKUP(DropDownList!$A$19,CntyQryCensus!$A$151:$AZ$161,AF$1)","v":37867}]
[]
[]
[]
["Census 1990 Data -          Query Name: CountySTF3Qry2Poverty"]
["NAME","FIPS","COUSUBFP","HousingUnits90Cen","P01Persons90Cen","P02Families90Cen","P03Households90cen","P1Persons","P2UnweightedSample","P3Count100pct","P3APctPersons","P4TotFamilies","P5TotHouseholds","P117AbvPovertyPop<5","P117AbvPovertyPop5yrs","P117AbvPovertyPop6to11yrs","P117AbvPovertyPop12to17yrs","P117AbvPovertyPop18to24yrs","P117AbvPovertyPop25to34yrs","P117AbvPovertyPop35to44yrs","P117AbvPovertyPop45to54yrs","P117AbvPovertyPop55to59yrs","P117AbvPovertyPop60to64yrs","P117AbvPovertyPop65to74yrs","P117AbvPovertyPop75yrsPlus","P117BlwPovertyPop<5","P117BlwPovertyPop5yrs","P117BlwPovertyPop6to11yrs","P117BlwPovertyPop12to17yrs","P117BlwPovertyPop18to24yrs","P117BlwPovertyPop25to34yrs","P117BlwPovertyPop35to44yrs","P117BlwPovertyPop45to54yrs","P117BlwPovertyPop55to59yrs","P117BlwPovertyPop60to64yrs","P117BlwPovertyPop65to74yrs","P117BlwPovertyPop75yrsPlus","P1230001","P1230002","P1230003","P1230004","P1230005","P1230006","P1230007","P1230008","P1230009","P1230010","P1230011","P1230012","P1230013","P1230014","P1230015","P1230016","P1230017","P1230018","P1230019","P1230020","P1230021","P1230022","P1230023","P1230024","P1270001","P1270002","P1270003","P1270004","P1270005","P1270006","P1270007","P1270008","P1270009","P1270010","P1270011","P1270012","P1270013","P1270014","P1270015","P1270016","P1270017","P1270018","P1270019","P1270020","P1270021","P1270022","P1270023","P1270024","P1270025","P1270026","P1270027","P1270028","P1270029","P1270030"]
[{"$f":"VLOOKUP(DropDownList!$A$19,CntyQuery!$A$20:$CE$30,A$1)","v":"Laconia"},{"$f":"VLOOKUP(DropDownList!$A$19,CntyQuery!$A$110:$CM$120,B$1)","v":{"$error":"#N/A"}},{"$f":"VLOOKUP(DropDownList!$A$19,CntyQuery!$A$110:$CM$120,C$1)","v":{"$error":"#N/A"}},{"$f":"VLOOKUP(DropDownList!$A$19,CntyQuery!$A$110:$CM$120,D$1)","v":{"$error":"#N/A"}},{"$f":"VLOOKUP(DropDownList!$A$19,CntyQuery!$A$110:$CM$120,E$1)","v":{"$error":"#N/A"}},{"$f":"VLOOKUP(DropDownList!$A$19,CntyQuery!$A$110:$CM$120,F$1)","v":{"$error":"#N/A"}},{"$f":"VLOOKUP(DropDownList!$A$19,CntyQuery!$A$110:$CM$120,G$1)","v":{"$error":"#N/A"}},{"$f":"VLOOKUP(DropDownList!$A$19,CntyQuery!$A$110:$CM$120,H$1)","v":{"$error":"#N/A"}},{"$f":"VLOOKUP(DropDownList!$A$19,CntyQuery!$A$110:$CM$120,I$1)","v":{"$error":"#N/A"}},{"$f":"VLOOKUP(DropDownList!$A$19,CntyQuery!$A$110:$CM$120,J$1)","v":{"$error":"#N/A"}},{"$f":"VLOOKUP(DropDownList!$A$19,CntyQuery!$A$110:$CM$120,K$1)","v":{"$error":"#N/A"}},{"$f":"VLOOKUP(DropDownList!$A$19,CntyQuery!$A$110:$CM$120,L$1)","v":{"$error":"#N/A"}},{"$f":"VLOOKUP(DropDownList!$A$19,CntyQuery!$A$110:$CM$120,M$1)","v":{"$error":"#N/A"}},{"$f":"VLOOKUP(DropDownList!$A$19,CntyQuery!$A$110:$CM$120,N$1)","v":{"$error":"#N/A"}},{"$f":"VLOOKUP(DropDownList!$A$19,CntyQuery!$A$110:$CM$120,O$1)","v":{"$error":"#N/A"}},{"$f":"VLOOKUP(DropDownList!$A$19,CntyQuery!$A$110:$CM$120,P$1)","v":{"$error":"#N/A"}},{"$f":"VLOOKUP(DropDownList!$A$19,CntyQuery!$A$110:$CM$120,Q$1)","v":{"$error":"#N/A"}},{"$f":"VLOOKUP(DropDownList!$A$19,CntyQuery!$A$110:$CM$120,R$1)","v":{"$error":"#N/A"}},{"$f":"VLOOKUP(DropDownList!$A$19,CntyQuery!$A$110:$CM$120,S$1)","v":{"$error":"#N/A"}},{"$f":"VLOOKUP(DropDownList!$A$19,CntyQuery!$A$110:$CM$120,T$1)","v":{"$error":"#N/A"}},{"$f":"VLOOKUP(DropDownList!$A$19,CntyQuery!$A$110:$CM$120,U$1)","v":{"$error":"#N/A"}},{"$f":"VLOOKUP(DropDownList!$A$19,CntyQuery!$A$110:$CM$120,V$1)","v":{"$error":"#N/A"}},{"$f":"VLOOKUP(DropDownList!$A$19,CntyQuery!$A$110:$CM$120,W$1)","v":{"$error":"#N/A"}},{"$f":"VLOOKUP(DropDownList!$A$19,CntyQuery!$A$110:$CM$120,X$1)","v":{"$error":"#N/A"}},{"$f":"VLOOKUP(DropDownList!$A$19,CntyQuery!$A$110:$CM$120,Y$1)","v":{"$error":"#N/A"}},{"$f":"VLOOKUP(DropDownList!$A$19,CntyQuery!$A$110:$CM$120,Z$1)","v":{"$error":"#N/A"}},{"$f":"VLOOKUP(DropDownList!$A$19,CntyQuery!$A$110:$CM$120,AA$1)","v":{"$error":"#N/A"}},{"$f":"VLOOKUP(DropDownList!$A$19,CntyQuery!$A$110:$CM$120,AB$1)","v":{"$error":"#N/A"}},{"$f":"VLOOKUP(DropDownList!$A$19,CntyQuery!$A$110:$CM$120,AC$1)","v":{"$error":"#N/A"}},{"$f":"VLOOKUP(DropDownList!$A$19,CntyQuery!$A$110:$CM$120,AD$1)","v":{"$error":"#N/A"}},{"$f":"VLOOKUP(DropDownList!$A$19,CntyQuery!$A$110:$CM$120,AE$1)","v":{"$error":"#N/A"}},{"$f":"VLOOKUP(DropDownList!$A$19,CntyQuery!$A$110:$CM$120,AF$1)","v":{"$error":"#N/A"}},{"$f":"VLOOKUP(DropDownList!$A$19,CntyQuery!$A$110:$CM$120,AG$1)","v":{"$error":"#N/A"}},{"$f":"VLOOKUP(DropDownList!$A$19,CntyQuery!$A$110:$CM$120,AH$1)","v":{"$error":"#N/A"}},{"$f":"VLOOKUP(DropDownList!$A$19,CntyQuery!$A$110:$CM$120,AI$1)","v":{"$error":"#N/A"}},{"$f":"VLOOKUP(DropDownList!$A$19,CntyQuery!$A$110:$CM$120,AJ$1)","v":{"$error":"#N/A"}},{"$f":"VLOOKUP(DropDownList!$A$19,CntyQuery!$A$110:$CM$120,AK$1)","v":{"$error":"#N/A"}},{"$f":"VLOOKUP(DropDownList!$A$19,CntyQuery!$A$110:$CM$120,AL$1)","v":{"$error":"#N/A"}},{"$f":"VLOOKUP(DropDownList!$A$19,CntyQuery!$A$110:$CM$120,AM$1)","v":{"$error":"#N/A"}},{"$f":"VLOOKUP(DropDownList!$A$19,CntyQuery!$A$110:$CM$120,AN$1)","v":{"$error":"#N/A"}},{"$f":"VLOOKUP(DropDownList!$A$19,CntyQuery!$A$110:$CM$120,AO$1)","v":{"$error":"#N/A"}},{"$f":"VLOOKUP(DropDownList!$A$19,CntyQuery!$A$110:$CM$120,AP$1)","v":{"$error":"#N/A"}},{"$f":"VLOOKUP(DropDownList!$A$19,CntyQuery!$A$110:$CM$120,AQ$1)","v":{"$error":"#N/A"}},{"$f":"VLOOKUP(DropDownList!$A$19,CntyQuery!$A$110:$CM$120,AR$1)","v":{"$error":"#N/A"}},{"$f":"VLOOKUP(DropDownList!$A$19,CntyQuery!$A$110:$CM$120,AS$1)","v":{"$error":"#N/A"}},{"$f":"VLOOKUP(DropDownList!$A$19,CntyQuery!$A$110:$CM$120,AT$1)","v":{"$error":"#N/A"}},{"$f":"VLOOKUP(DropDownList!$A$19,CntyQuery!$A$110:$CM$120,AU$1)","v":{"$error":"#N/A"}},{"$f":"VLOOKUP(DropDownList!$A$19,CntyQuery!$A$110:$CM$120,AV$1)","v":{"$error":"#N/A"}},{"$f":"VLOOKUP(DropDownList!$A$19,CntyQuery!$A$110:$CM$120,AW$1)","v":{"$error":"#N/A"}},{"$f":"VLOOKUP(DropDownList!$A$19,CntyQuery!$A$110:$CM$120,AX$1)","v":{"$error":"#N/A"}},{"$f":"VLOOKUP(DropDownList!$A$19,CntyQuery!$A$110:$CM$120,AY$1)","v":{"$error":"#N/A"}},{"$f":"VLOOKUP(DropDownList!$A$19,CntyQuery!$A$110:$CM$120,AZ$1)","v":{"$error":"#N/A"}},{"$f":"VLOOKUP(DropDownList!$A$19,CntyQuery!$A$110:$CM$120,BA$1)","v":{"$error":"#N/A"}},{"$f":"VLOOKUP(DropDownList!$A$19,CntyQuery!$A$110:$CM$120,BB$1)","v":{"$error":"#N/A"}},{"$f":"VLOOKUP(DropDownList!$A$19,CntyQuery!$A$110:$CM$120,BC$1)","v":{"$error":"#N/A"}},{"$f":"VLOOKUP(DropDownList!$A$19,CntyQuery!$A$110:$CM$120,BD$1)","v":{"$error":"#N/A"}},{"$f":"VLOOKUP(DropDownList!$A$19,CntyQuery!$A$110:$CM$120,BE$1)","v":{"$error":"#N/A"}},{"$f":"VLOOKUP(DropDownList!$A$19,CntyQuery!$A$110:$CM$120,BF$1)","v":{"$error":"#N/A"}},{"$f":"VLOOKUP(DropDownList!$A$19,CntyQuery!$A$110:$CM$120,BG$1)","v":{"$error":"#N/A"}},{"$f":"VLOOKUP(DropDownList!$A$19,CntyQuery!$A$110:$CM$120,BH$1)","v":{"$error":"#N/A"}},{"$f":"VLOOKUP(DropDownList!$A$19,CntyQuery!$A$110:$CM$120,BI$1)","v":{"$error":"#N/A"}},{"$f":"VLOOKUP(DropDownList!$A$19,CntyQuery!$A$110:$CM$120,BJ$1)","v":{"$error":"#N/A"}},{"$f":"VLOOKUP(DropDownList!$A$19,CntyQuery!$A$110:$CM$120,BK$1)","v":{"$error":"#N/A"}},{"$f":"VLOOKUP(DropDownList!$A$19,CntyQuery!$A$110:$CM$120,BL$1)","v":{"$error":"#N/A"}},{"$f":"VLOOKUP(DropDownList!$A$19,CntyQuery!$A$110:$CM$120,BM$1)","v":{"$error":"#N/A"}},{"$f":"VLOOKUP(DropDownList!$A$19,CntyQuery!$A$110:$CM$120,BN$1)","v":{"$error":"#N/A"}},{"$f":"VLOOKUP(DropDownList!$A$19,CntyQuery!$A$110:$CM$120,BO$1)","v":{"$error":"#N/A"}},{"$f":"VLOOKUP(DropDownList!$A$19,CntyQuery!$A$110:$CM$120,BP$1)","v":{"$error":"#N/A"}},{"$f":"VLOOKUP(DropDownList!$A$19,CntyQuery!$A$110:$CM$120,BQ$1)","v":{"$error":"#N/A"}},{"$f":"VLOOKUP(DropDownList!$A$19,CntyQuery!$A$110:$CM$120,BR$1)","v":{"$error":"#N/A"}},{"$f":"VLOOKUP(DropDownList!$A$19,CntyQuery!$A$110:$CM$120,BS$1)","v":{"$error":"#N/A"}},{"$f":"VLOOKUP(DropDownList!$A$19,CntyQuery!$A$110:$CM$120,BT$1)","v":{"$error":"#N/A"}},{"$f":"VLOOKUP(DropDownList!$A$19,CntyQuery!$A$110:$CM$120,BU$1)","v":{"$error":"#N/A"}},{"$f":"VLOOKUP(DropDownList!$A$19,CntyQuery!$A$110:$CM$120,BV$1)","v":{"$error":"#N/A"}},{"$f":"VLOOKUP(DropDownList!$A$19,CntyQuery!$A$110:$CM$120,BW$1)","v":{"$error":"#N/A"}},{"$f":"VLOOKUP(DropDownList!$A$19,CntyQuery!$A$110:$CM$120,BX$1)","v":{"$error":"#N/A"}},{"$f":"VLOOKUP(DropDownList!$A$19,CntyQuery!$A$110:$CM$120,BY$1)","v":{"$error":"#N/A"}},{"$f":"VLOOKUP(DropDownList!$A$19,CntyQuery!$A$110:$CM$120,BZ$1)","v":{"$error":"#N/A"}},{"$f":"VLOOKUP(DropDownList!$A$19,CntyQuery!$A$110:$CM$120,CA$1)","v":{"$error":"#N/A"}},{"$f":"VLOOKUP(DropDownList!$A$19,CntyQuery!$A$110:$CM$120,CB$1)","v":{"$error":"#N/A"}},{"$f":"VLOOKUP(DropDownList!$A$19,CntyQuery!$A$110:$CM$120,CC$1)","v":{"$error":"#N/A"}},{"$f":"VLOOKUP(DropDownList!$A$19,CntyQuery!$A$110:$CM$120,CD$1)","v":{"$error":"#N/A"}},{"$f":"VLOOKUP(DropDownList!$A$19,CntyQuery!$A$110:$CM$120,CE$1)","v":{"$error":"#N/A"}},{"$f":"VLOOKUP(DropDownList!$A$19,CntyQuery!$A$110:$CM$120,CF$1)","v":{"$error":"#N/A"}},{"$f":"VLOOKUP(DropDownList!$A$19,CntyQuery!$A$110:$CM$120,CG$1)","v":{"$error":"#N/A"}},{"$f":"VLOOKUP(DropDownList!$A$19,CntyQuery!$A$110:$CM$120,CH$1)","v":{"$error":"#N/A"}},{"$f":"VLOOKUP(DropDownList!$A$19,CntyQuery!$A$110:$CM$120,CI$1)","v":{"$error":"#N/A"}},{"$f":"VLOOKUP(DropDownList!$A$19,CntyQuery!$A$110:$CM$120,CJ$1)","v":{"$error":"#N/A"}},{"$f":"VLOOKUP(DropDownList!$A$19,CntyQuery!$A$110:$CM$120,CK$1)","v":{"$error":"#N/A"}},{"$f":"VLOOKUP(DropDownList!$A$19,CntyQuery!$A$110:$CM$120,CL$1)","v":{"$error":"#N/A"}},{"$f":"VLOOKUP(DropDownList!$A$19,CntyQuery!$A$110:$CM$120,CM$1)","v":{"$error":"#N/A"}},{"$f":"VLOOKUP(DropDownList!$A$19,CntyQuery!$A$110:$CM$120,CN$1)","v":{"$error":"#N/A"}}]
[null,null,null,null,null,null,null,null,null,null,null,null,null,null,null,null,null,null,null,null,null,null,null,null,null,null,null,null,null,null,null,null,null,null,null,null,null,null,null,null,null,null,null,null,null,null,null,null,null,{"$f":"SUM(AX86:BI86)","v":{"$error":"#N/A"}},null,null,null,null,null,null,null,null,null,null,null,null,null,null,null,null,null,null,null,null,null,null,null,null,null,null,{"$f":"BY86+BZ86+CA86+CD86+CE86+CF86+CI86+CJ86+CK86","v":{"$error":"#N/A"}}]
[]
["Census 1990 Data -          Query Name: CountySTF3QryTableP42_P43"]
["NAME","FIPS","COUSUBFP","HousingUnits90Cen","Persons90Cen","Families90Cen","Households90cen","P01Persons","P02SampleCount","P03_100PctCount","P03APctPersonsInCount","P0420001","P0420002","P0420003","P0420004","P0420005","P0420006","P0420007","P0420008","P0420009","P0430001","P0430002","P0430003","P0430004","P0430005","P0430006","P0430007","P0430008","P0430009","P0430010"]
[{"$f":"VLOOKUP(DropDownList!$A$19,CntyQuery!$A$20:$CE$30,A$1)","v":"Laconia"},{"$f":"VLOOKUP(DropDownList!$A$19,CntyQuery!$A$126:$AD$136,B$1)","v":{"$error":"#N/A"}},{"$f":"VLOOKUP(DropDownList!$A$19,CntyQuery!$A$126:$AD$136,C$1)","v":{"$error":"#N/A"}},{"$f":"VLOOKUP(DropDownList!$A$19,CntyQuery!$A$126:$AD$136,D$1)","v":{"$error":"#N/A"}},{"$f":"VLOOKUP(DropDownList!$A$19,CntyQuery!$A$126:$AD$136,E$1)","v":{"$error":"#N/A"}},{"$f":"VLOOKUP(DropDownList!$A$19,CntyQuery!$A$126:$AD$136,F$1)","v":{"$error":"#N/A"}},{"$f":"VLOOKUP(DropDownList!$A$19,CntyQuery!$A$126:$AD$136,G$1)","v":{"$error":"#N/A"}},{"$f":"VLOOKUP(DropDownList!$A$19,CntyQuery!$A$126:$AD$136,H$1)","v":{"$error":"#N/A"}},{"$f":"VLOOKUP(DropDownList!$A$19,CntyQuery!$A$126:$AD$136,I$1)","v":{"$error":"#N/A"}},{"$f":"VLOOKUP(DropDownList!$A$19,CntyQuery!$A$126:$AD$136,J$1)","v":{"$error":"#N/A"}},{"$f":"VLOOKUP(DropDownList!$A$19,CntyQuery!$A$126:$AD$136,K$1)","v":{"$error":"#N/A"}},{"$f":"VLOOKUP(DropDownList!$A$19,CntyQuery!$A$126:$AD$136,L$1)","v":{"$error":"#N/A"}},{"$f":"VLOOKUP(DropDownList!$A$19,CntyQuery!$A$126:$AD$136,M$1)","v":{"$error":"#N/A"}},{"$f":"VLOOKUP(DropDownList!$A$19,CntyQuery!$A$126:$AD$136,N$1)","v":{"$error":"#N/A"}},{"$f":"VLOOKUP(DropDownList!$A$19,CntyQuery!$A$126:$AD$136,O$1)","v":{"$error":"#N/A"}},{"$f":"VLOOKUP(DropDownList!$A$19,CntyQuery!$A$126:$AD$136,P$1)","v":{"$error":"#N/A"}},{"$f":"VLOOKUP(DropDownList!$A$19,CntyQuery!$A$126:$AD$136,Q$1)","v":{"$error":"#N/A"}},{"$f":"VLOOKUP(DropDownList!$A$19,CntyQuery!$A$126:$AD$136,R$1)","v":{"$error":"#N/A"}},{"$f":"VLOOKUP(DropDownList!$A$19,CntyQuery!$A$126:$AD$136,S$1)","v":{"$error":"#N/A"}},{"$f":"VLOOKUP(DropDownList!$A$19,CntyQuery!$A$126:$AD$136,T$1)","v":{"$error":"#N/A"}},{"$f":"VLOOKUP(DropDownList!$A$19,CntyQuery!$A$126:$AD$136,U$1)","v":{"$error":"#N/A"}},{"$f":"VLOOKUP(DropDownList!$A$19,CntyQuery!$A$126:$AD$136,V$1)","v":{"$error":"#N/A"}},{"$f":"VLOOKUP(DropDownList!$A$19,CntyQuery!$A$126:$AD$136,W$1)","v":{"$error":"#N/A"}},{"$f":"VLOOKUP(DropDownList!$A$19,CntyQuery!$A$126:$AD$136,X$1)","v":{"$error":"#N/A"}},{"$f":"VLOOKUP(DropDownList!$A$19,CntyQuery!$A$126:$AD$136,Y$1)","v":{"$error":"#N/A"}},{"$f":"VLOOKUP(DropDownList!$A$19,CntyQuery!$A$126:$AD$136,Z$1)","v":{"$error":"#N/A"}},{"$f":"VLOOKUP(DropDownList!$A$19,CntyQuery!$A$126:$AD$136,AA$1)","v":{"$error":"#N/A"}},{"$f":"VLOOKUP(DropDownList!$A$19,CntyQuery!$A$126:$AD$136,AB$1)","v":{"$error":"#N/A"}},{"$f":"VLOOKUP(DropDownList!$A$19,CntyQuery!$A$126:$AD$136,AC$1)","v":{"$error":"#N/A"}},{"$f":"VLOOKUP(DropDownList!$A$19,CntyQuery!$A$126:$AD$136,AD$1)","v":{"$error":"#N/A"}}]
[]
[]
["Census 2000 SummaryFile3 Sample Data - SF3CountyQry10Disabil"]
["NAME","LOGRECNO","COUNTY","TotalPop","PCT026001-NonInstPop5yrs+","PCT026002-MaleNonInstPop5yrs+","PCT026003","PCT026004","PCT026005","PCT026006","PCT026007","PCT026008","PCT026009","PCT026010","PCT026011","PCT026012","PCT026013","PCT026014","PCT026015","PCT026016","PCT026017","PCT026018","PCT026019","PCT026020","PCT026021","PCT026022","PCT026023","PCT026024","PCT026025","PCT026026","PCT026027","PCT026028","PCT026029","PCT026030","PCT026031","PCT026032","PCT026033","PCT026034","PCT026035","PCT026036","PCT026037","PCT026038","PCT026039","PCT026040","PCT026041","PCT026042","PCT026043","PCT026044","PCT026045","PCT026046","PCT026047","PCT026048","PCT026049","PCT026050","PCT026051","PCT026052","PCT026053","PCT026054","PCT026055","PCT026056","PCT026057","PCT026058","PCT026059","PCT026060","PCT026061","PCT026062","PCT026063","PCT026064","PCT026065","PCT026066","PCT026067","PCT026068","PCT026069","PCT026070","PCT026071","PCT026072","PCT026073","PCT026074","PCT026075","PCT026076","PCT026077","PCT026078","PCT026079","PCT026080","PCT026081","PCT026082","PCT026083","PCT026084","PCT026085","PCT026086","PCT026087","PCT026088","PCT026089","PCT026090","PCT026091","PCT026092","PCT026093","PCT026094","PCT026095","PCT026096","PCT026097","PCT026098","PCT026099","PCT026100","PCT026101"]
[{"$f":"VLOOKUP(DropDownList!$A$19,CntyQuery!$A$20:$CE$30,A$1)","v":"Laconia"},{"$f":"VLOOKUP(DropDownList!$A$19,CntyQryCensus!$A$168:$DA$178,B$1)","v":"0000155"},{"$f":"VLOOKUP(DropDownList!$A$19,CntyQryCensus!$A$168:$DA$178,C$1)","v":"40180"},{"$f":"VLOOKUP(DropDownList!$A$19,CntyQryCensus!$A$168:$DA$178,D$1)","v":16411},{"$f":"VLOOKUP(DropDownList!$A$19,CntyQryCensus!$A$168:$DA$178,E$1)","v":14781},{"$f":"VLOOKUP(DropDownList!$A$19,CntyQryCensus!$A$168:$DA$178,F$1)","v":7050},{"$f":"VLOOKUP(DropDownList!$A$19,CntyQryCensus!$A$168:$DA$178,G$1)","v":1170},{"$f":"VLOOKUP(DropDownList!$A$19,CntyQryCensus!$A$168:$DA$178,H$1)","v":111},{"$f":"VLOOKUP(DropDownList!$A$19,CntyQryCensus!$A$168:$DA$178,I$1)","v":6},{"$f":"VLOOKUP(DropDownList!$A$19,CntyQryCensus!$A$168:$DA$178,J$1)","v":2},{"$f":"VLOOKUP(DropDownList!$A$19,CntyQryCensus!$A$168:$DA$178,K$1)","v":103},{"$f":"VLOOKUP(DropDownList!$A$19,CntyQryCensus!$A$168:$DA$178,L$1)","v":0},{"$f":"VLOOKUP(DropDownList!$A$19,CntyQryCensus!$A$168:$DA$178,M$1)","v":22},{"$f":"VLOOKUP(DropDownList!$A$19,CntyQryCensus!$A$168:$DA$178,N$1)","v":19},{"$f":"VLOOKUP(DropDownList!$A$19,CntyQryCensus!$A$168:$DA$178,O$1)","v":3},{"$f":"VLOOKUP(DropDownList!$A$19,CntyQryCensus!$A$168:$DA$178,P$1)","v":1037},{"$f":"VLOOKUP(DropDownList!$A$19,CntyQryCensus!$A$168:$DA$178,Q$1)","v":448},{"$f":"VLOOKUP(DropDownList!$A$19,CntyQryCensus!$A$168:$DA$178,R$1)","v":31},{"$f":"VLOOKUP(DropDownList!$A$19,CntyQryCensus!$A$168:$DA$178,S$1)","v":0},{"$f":"VLOOKUP(DropDownList!$A$19,CntyQryCensus!$A$168:$DA$178,T$1)","v":0},{"$f":"VLOOKUP(DropDownList!$A$19,CntyQryCensus!$A$168:$DA$178,U$1)","v":10},{"$f":"VLOOKUP(DropDownList!$A$19,CntyQryCensus!$A$168:$DA$178,V$1)","v":0},{"$f":"VLOOKUP(DropDownList!$A$19,CntyQryCensus!$A$168:$DA$178,W$1)","v":0},{"$f":"VLOOKUP(DropDownList!$A$19,CntyQryCensus!$A$168:$DA$178,X$1)","v":21},{"$f":"VLOOKUP(DropDownList!$A$19,CntyQryCensus!$A$168:$DA$178,Y$1)","v":15},{"$f":"VLOOKUP(DropDownList!$A$19,CntyQryCensus!$A$168:$DA$178,Z$1)","v":0},{"$f":"VLOOKUP(DropDownList!$A$19,CntyQryCensus!$A$168:$DA$178,AA$1)","v":15},{"$f":"VLOOKUP(DropDownList!$A$19,CntyQryCensus!$A$168:$DA$178,AB$1)","v":5},{"$f":"VLOOKUP(DropDownList!$A$19,CntyQryCensus!$A$168:$DA$178,AC$1)","v":10},{"$f":"VLOOKUP(DropDownList!$A$19,CntyQryCensus!$A$168:$DA$178,AD$1)","v":402},{"$f":"VLOOKUP(DropDownList!$A$19,CntyQryCensus!$A$168:$DA$178,AE$1)","v":4365},{"$f":"VLOOKUP(DropDownList!$A$19,CntyQryCensus!$A$168:$DA$178,AF$1)","v":483},{"$f":"VLOOKUP(DropDownList!$A$19,CntyQryCensus!$A$168:$DA$178,AG$1)","v":116},{"$f":"VLOOKUP(DropDownList!$A$19,CntyQryCensus!$A$168:$DA$178,AH$1)","v":132},{"$f":"VLOOKUP(DropDownList!$A$19,CntyQryCensus!$A$168:$DA$178,AI$1)","v":57},{"$f":"VLOOKUP(DropDownList!$A$19,CntyQryCensus!$A$168:$DA$178,AJ$1)","v":0},{"$f":"VLOOKUP(DropDownList!$A$19,CntyQryCensus!$A$168:$DA$178,AK$1)","v":0},{"$f":"VLOOKUP(DropDownList!$A$19,CntyQryCensus!$A$168:$DA$178,AL$1)","v":178},{"$f":"VLOOKUP(DropDownList!$A$19,CntyQryCensus!$A$168:$DA$178,AM$1)","v":465},{"$f":"VLOOKUP(DropDownList!$A$19,CntyQryCensus!$A$168:$DA$178,AN$1)","v":113},{"$f":"VLOOKUP(DropDownList!$A$19,CntyQryCensus!$A$168:$DA$178,AO$1)","v":352},{"$f":"VLOOKUP(DropDownList!$A$19,CntyQryCensus!$A$168:$DA$178,AP$1)","v":142},{"$f":"VLOOKUP(DropDownList!$A$19,CntyQryCensus!$A$168:$DA$178,AQ$1)","v":210},{"$f":"VLOOKUP(DropDownList!$A$19,CntyQryCensus!$A$168:$DA$178,AR$1)","v":3417},{"$f":"VLOOKUP(DropDownList!$A$19,CntyQryCensus!$A$168:$DA$178,AS$1)","v":1067},{"$f":"VLOOKUP(DropDownList!$A$19,CntyQryCensus!$A$168:$DA$178,AT$1)","v":163},{"$f":"VLOOKUP(DropDownList!$A$19,CntyQryCensus!$A$168:$DA$178,AU$1)","v":47},{"$f":"VLOOKUP(DropDownList!$A$19,CntyQryCensus!$A$168:$DA$178,AV$1)","v":50},{"$f":"VLOOKUP(DropDownList!$A$19,CntyQryCensus!$A$168:$DA$178,AW$1)","v":29},{"$f":"VLOOKUP(DropDownList!$A$19,CntyQryCensus!$A$168:$DA$178,AX$1)","v":0},{"$f":"VLOOKUP(DropDownList!$A$19,CntyQryCensus!$A$168:$DA$178,AY$1)","v":37},{"$f":"VLOOKUP(DropDownList!$A$19,CntyQryCensus!$A$168:$DA$178,AZ$1)","v":185},{"$f":"VLOOKUP(DropDownList!$A$19,CntyQryCensus!$A$168:$DA$178,BA$1)","v":59},{"$f":"VLOOKUP(DropDownList!$A$19,CntyQryCensus!$A$168:$DA$178,BB$1)","v":126},{"$f":"VLOOKUP(DropDownList!$A$19,CntyQryCensus!$A$168:$DA$178,BC$1)","v":719},{"$f":"VLOOKUP(DropDownList!$A$19,CntyQryCensus!$A$168:$DA$178,BD$1)","v":7731},{"$f":"VLOOKUP(DropDownList!$A$19,CntyQryCensus!$A$168:$DA$178,BE$1)","v":1173},{"$f":"VLOOKUP(DropDownList!$A$19,CntyQryCensus!$A$168:$DA$178,BF$1)","v":39},{"$f":"VLOOKUP(DropDownList!$A$19,CntyQryCensus!$A$168:$DA$178,BG$1)","v":0},{"$f":"VLOOKUP(DropDownList!$A$19,CntyQryCensus!$A$168:$DA$178,BH$1)","v":0},{"$f":"VLOOKUP(DropDownList!$A$19,CntyQryCensus!$A$168:$DA$178,BI$1)","v":39},{"$f":"VLOOKUP(DropDownList!$A$19,CntyQryCensus!$A$168:$DA$178,BJ$1)","v":0},{"$f":"VLOOKUP(DropDownList!$A$19,CntyQryCensus!$A$168:$DA$178,BK$1)","v":13},{"$f":"VLOOKUP(DropDownList!$A$19,CntyQryCensus!$A$168:$DA$178,BL$1)","v":13},{"$f":"VLOOKUP(DropDownList!$A$19,CntyQryCensus!$A$168:$DA$178,BM$1)","v":0},{"$f":"VLOOKUP(DropDownList!$A$19,CntyQryCensus!$A$168:$DA$178,BN$1)","v":1121},{"$f":"VLOOKUP(DropDownList!$A$19,CntyQryCensus!$A$168:$DA$178,BO$1)","v":514},{"$f":"VLOOKUP(DropDownList!$A$19,CntyQryCensus!$A$168:$DA$178,BP$1)","v":52},{"$f":"VLOOKUP(DropDownList!$A$19,CntyQryCensus!$A$168:$DA$178,BQ$1)","v":0},{"$f":"VLOOKUP(DropDownList!$A$19,CntyQryCensus!$A$168:$DA$178,BR$1)","v":0},{"$f":"VLOOKUP(DropDownList!$A$19,CntyQryCensus!$A$168:$DA$178,BS$1)","v":15},{"$f":"VLOOKUP(DropDownList!$A$19,CntyQryCensus!$A$168:$DA$178,BT$1)","v":0},{"$f":"VLOOKUP(DropDownList!$A$19,CntyQryCensus!$A$168:$DA$178,BU$1)","v":6},{"$f":"VLOOKUP(DropDownList!$A$19,CntyQryCensus!$A$168:$DA$178,BV$1)","v":31},{"$f":"VLOOKUP(DropDownList!$A$19,CntyQryCensus!$A$168:$DA$178,BW$1)","v":17},{"$f":"VLOOKUP(DropDownList!$A$19,CntyQryCensus!$A$168:$DA$178,BX$1)","v":0},{"$f":"VLOOKUP(DropDownList!$A$19,CntyQryCensus!$A$168:$DA$178,BY$1)","v":17},{"$f":"VLOOKUP(DropDownList!$A$19,CntyQryCensus!$A$168:$DA$178,BZ$1)","v":11},{"$f":"VLOOKUP(DropDownList!$A$19,CntyQryCensus!$A$168:$DA$178,CA$1)","v":6},{"$f":"VLOOKUP(DropDownList!$A$19,CntyQryCensus!$A$168:$DA$178,CB$1)","v":445},{"$f":"VLOOKUP(DropDownList!$A$19,CntyQryCensus!$A$168:$DA$178,CC$1)","v":4577},{"$f":"VLOOKUP(DropDownList!$A$19,CntyQryCensus!$A$168:$DA$178,CD$1)","v":430},{"$f":"VLOOKUP(DropDownList!$A$19,CntyQryCensus!$A$168:$DA$178,CE$1)","v":33},{"$f":"VLOOKUP(DropDownList!$A$19,CntyQryCensus!$A$168:$DA$178,CF$1)","v":64},{"$f":"VLOOKUP(DropDownList!$A$19,CntyQryCensus!$A$168:$DA$178,CG$1)","v":32},{"$f":"VLOOKUP(DropDownList!$A$19,CntyQryCensus!$A$168:$DA$178,CH$1)","v":6},{"$f":"VLOOKUP(DropDownList!$A$19,CntyQryCensus!$A$168:$DA$178,CI$1)","v":30},{"$f":"VLOOKUP(DropDownList!$A$19,CntyQryCensus!$A$168:$DA$178,CJ$1)","v":265},{"$f":"VLOOKUP(DropDownList!$A$19,CntyQryCensus!$A$168:$DA$178,CK$1)","v":495},{"$f":"VLOOKUP(DropDownList!$A$19,CntyQryCensus!$A$168:$DA$178,CL$1)","v":164},{"$f":"VLOOKUP(DropDownList!$A$19,CntyQryCensus!$A$168:$DA$178,CM$1)","v":331},{"$f":"VLOOKUP(DropDownList!$A$19,CntyQryCensus!$A$168:$DA$178,CN$1)","v":63},{"$f":"VLOOKUP(DropDownList!$A$19,CntyQryCensus!$A$168:$DA$178,CO$1)","v":268},{"$f":"VLOOKUP(DropDownList!$A$19,CntyQryCensus!$A$168:$DA$178,CP$1)","v":3652},{"$f":"VLOOKUP(DropDownList!$A$19,CntyQryCensus!$A$168:$DA$178,CQ$1)","v":1467},{"$f":"VLOOKUP(DropDownList!$A$19,CntyQryCensus!$A$168:$DA$178,CR$1)","v":288},{"$f":"VLOOKUP(DropDownList!$A$19,CntyQryCensus!$A$168:$DA$178,CS$1)","v":77},{"$f":"VLOOKUP(DropDownList!$A$19,CntyQryCensus!$A$168:$DA$178,CT$1)","v":159},{"$f":"VLOOKUP(DropDownList!$A$19,CntyQryCensus!$A$168:$DA$178,CU$1)","v":0},{"$f":"VLOOKUP(DropDownList!$A$19,CntyQryCensus!$A$168:$DA$178,CV$1)","v":0},{"$f":"VLOOKUP(DropDownList!$A$19,CntyQryCensus!$A$168:$DA$178,CW$1)","v":52},{"$f":"VLOOKUP(DropDownList!$A$19,CntyQryCensus!$A$168:$DA$178,CX$1)","v":324},{"$f":"VLOOKUP(DropDownList!$A$19,CntyQryCensus!$A$168:$DA$178,CY$1)","v":151},{"$f":"VLOOKUP(DropDownList!$A$19,CntyQryCensus!$A$168:$DA$178,CZ$1)","v":173},{"$f":"VLOOKUP(DropDownList!$A$19,CntyQryCensus!$A$168:$DA$178,DA$1)","v":855}]
[]
[]
["OSP PopProjections2002"]
["NAME","FIPS","CNTY_CODE","COUSUB","Pop2005Age<15","Pop2005Age15to24","Pop2005Age25to34","Pop2005Age35to44","Pop2005Age45to54","Pop2005Age55to64","Pop2005Age65to74","Pop2005Age75+","Pop2010Age<15","Pop2010Age15to24","Pop2010Age25to34","Pop2010Age35to44","Pop2010Age45to54","Pop2010Age55to64","Pop2010Age65to74","Pop2010Age75+","Pop2015Age<15","Pop2015Age15to24","Pop2015Age25to34","Pop2015Age35to44","Pop2015Age45to54","Pop2015Age55to64","Pop2015Age65to74","Pop2015Age75+","Pop2020Age<15","Pop2020Age15to24","Pop2020Age25to34","Pop2020Age35to44","Pop2020Age45to54","Pop2020Age55to64","Pop2020Age65to74","Pop2020Age75+"]
[{"$f":"VLOOKUP(DropDownList!$A$19,CntyQuery!$A$20:$CE$30,A$1)","v":"Laconia"},{"$f":"VLOOKUP(DropDownList!$A$19,CntyQuery!$A$142:$AJ$152,B$1)","v":{"$error":"#N/A"}},{"$f":"VLOOKUP(DropDownList!$A$19,CntyQuery!$A$142:$AJ$152,C$1)","v":{"$error":"#N/A"}},{"$f":"VLOOKUP(DropDownList!$A$19,CntyQuery!$A$142:$AJ$152,D$1)","v":{"$error":"#N/A"}},{"$f":"VLOOKUP(DropDownList!$A$19,CntyQuery!$A$142:$AJ$152,E$1)","v":{"$error":"#N/A"}},{"$f":"VLOOKUP(DropDownList!$A$19,CntyQuery!$A$142:$AJ$152,F$1)","v":{"$error":"#N/A"}},{"$f":"VLOOKUP(DropDownList!$A$19,CntyQuery!$A$142:$AJ$152,G$1)","v":{"$error":"#N/A"}},{"$f":"VLOOKUP(DropDownList!$A$19,CntyQuery!$A$142:$AJ$152,H$1)","v":{"$error":"#N/A"}},{"$f":"VLOOKUP(DropDownList!$A$19,CntyQuery!$A$142:$AJ$152,I$1)","v":{"$error":"#N/A"}},{"$f":"VLOOKUP(DropDownList!$A$19,CntyQuery!$A$142:$AJ$152,J$1)","v":{"$error":"#N/A"}},{"$f":"VLOOKUP(DropDownList!$A$19,CntyQuery!$A$142:$AJ$152,K$1)","v":{"$error":"#N/A"}},{"$f":"VLOOKUP(DropDownList!$A$19,CntyQuery!$A$142:$AJ$152,L$1)","v":{"$error":"#N/A"}},{"$f":"VLOOKUP(DropDownList!$A$19,CntyQuery!$A$142:$AJ$152,M$1)","v":{"$error":"#N/A"}},{"$f":"VLOOKUP(DropDownList!$A$19,CntyQuery!$A$142:$AJ$152,N$1)","v":{"$error":"#N/A"}},{"$f":"VLOOKUP(DropDownList!$A$19,CntyQuery!$A$142:$AJ$152,O$1)","v":{"$error":"#N/A"}},{"$f":"VLOOKUP(DropDownList!$A$19,CntyQuery!$A$142:$AJ$152,P$1)","v":{"$error":"#N/A"}},{"$f":"VLOOKUP(DropDownList!$A$19,CntyQuery!$A$142:$AJ$152,Q$1)","v":{"$error":"#N/A"}},{"$f":"VLOOKUP(DropDownList!$A$19,CntyQuery!$A$142:$AJ$152,R$1)","v":{"$error":"#N/A"}},{"$f":"VLOOKUP(DropDownList!$A$19,CntyQuery!$A$142:$AJ$152,S$1)","v":{"$error":"#N/A"}},{"$f":"VLOOKUP(DropDownList!$A$19,CntyQuery!$A$142:$AJ$152,T$1)","v":{"$error":"#N/A"}},{"$f":"VLOOKUP(DropDownList!$A$19,CntyQuery!$A$142:$AJ$152,U$1)","v":{"$error":"#N/A"}},{"$f":"VLOOKUP(DropDownList!$A$19,CntyQuery!$A$142:$AJ$152,V$1)","v":{"$error":"#N/A"}},{"$f":"VLOOKUP(DropDownList!$A$19,CntyQuery!$A$142:$AJ$152,W$1)","v":{"$error":"#N/A"}},{"$f":"VLOOKUP(DropDownList!$A$19,CntyQuery!$A$142:$AJ$152,X$1)","v":{"$error":"#N/A"}},{"$f":"VLOOKUP(DropDownList!$A$19,CntyQuery!$A$142:$AJ$152,Y$1)","v":{"$error":"#N/A"}},{"$f":"VLOOKUP(DropDownList!$A$19,CntyQuery!$A$142:$AJ$152,Z$1)","v":{"$error":"#N/A"}},{"$f":"VLOOKUP(DropDownList!$A$19,CntyQuery!$A$142:$AJ$152,AA$1)","v":{"$error":"#N/A"}},{"$f":"VLOOKUP(DropDownList!$A$19,CntyQuery!$A$142:$AJ$152,AB$1)","v":{"$error":"#N/A"}},{"$f":"VLOOKUP(DropDownList!$A$19,CntyQuery!$A$142:$AJ$152,AC$1)","v":{"$error":"#N/A"}},{"$f":"VLOOKUP(DropDownList!$A$19,CntyQuery!$A$142:$AJ$152,AD$1)","v":{"$error":"#N/A"}},{"$f":"VLOOKUP(DropDownList!$A$19,CntyQuery!$A$142:$AJ$152,AE$1)","v":{"$error":"#N/A"}},{"$f":"VLOOKUP(DropDownList!$A$19,CntyQuery!$A$142:$AJ$152,AF$1)","v":{"$error":"#N/A"}},{"$f":"VLOOKUP(DropDownList!$A$19,CntyQuery!$A$142:$AJ$152,AG$1)","v":{"$error":"#N/A"}},{"$f":"VLOOKUP(DropDownList!$A$19,CntyQuery!$A$142:$AJ$152,AH$1)","v":{"$error":"#N/A"}},{"$f":"VLOOKUP(DropDownList!$A$19,CntyQuery!$A$142:$AJ$152,AI$1)","v":{"$error":"#N/A"}},{"$f":"VLOOKUP(DropDownList!$A$19,CntyQuery!$A$142:$AJ$152,AJ$1)","v":{"$error":"#N/A"}}]
[]
[]
[]
["ACS",2,{"$f":"B105+1","v":3},{"$f":"C105+1","v":4},5,6,7,8,9,10,11,{"$f":"K105+1","v":12},13,14,15,{"$f":"O105+1","v":16},17,18,19,20,21,22,23,24,25,26,27,28,29,30,31,32,33,34,35,36,37,38,39,40,41,42,43,44,45,46,47,48,49,50,51,52,53,54,55,56,57,58,59,60,61,62,63,64,65,66,67,{"$f":"BO105+1","v":68},69,70,71,72,73,74,75,76,77,78,79,80,81,82,83,84,85,86,87,88,89,90,91,92,93,94,95,96,97,98,99,100,101,102,103,104,105,106,107,108,109,110,111,112,113,114,115,116,117,118,119,120,121,122,123,124,125]
["Househould Data (Housing Unit Type)"]
["NAME","TotalHU",{"$f":"\"MOE \"&B107","v":"MOE TotalHU"},"TotalOccHU",{"$f":"\"MOE \"&D107","v":"MOE TotalOccHU"},"TotalOwnerOccUn",{"$f":"\"MOE \"&F107","v":"MOE TotalOwnerOccUn"},"TotalRenterOccn",{"$f":"\"MOE \"&H107","v":"MOE TotalRenterOccn"},"TotalVacantUntis",{"$f":"\"MOE \"&J107","v":"MOE TotalVacantUntis"},"VacantUnitsForRent",{"$f":"\"MOE \"&L107","v":"MOE VacantUnitsForRent"},"VacantUnitRentedNotOcc",{"$f":"\"MOE \"&N107","v":"MOE VacantUnitRentedNotOcc"},"VacantUnitForSale",{"$f":"\"MOE \"&P107","v":"MOE VacantUnitForSale"},"VacantUnitSoldNotOcc",{"$f":"\"MOE \"&R107","v":"MOE VacantUnitSoldNotOcc"},"VacantUnitSeasonalRec",{"$f":"\"MOE \"&T107","v":"MOE VacantUnitSeasonalRec"},"TotalPopInHousingUnits",{"$f":"\"MOE \"&V107","v":"MOE TotalPopInHousingUnits"},"OwnerOccPopHousingUnits",{"$f":"\"MOE \"&X107","v":"MOE OwnerOccPopHousingUnits"},"RenterOccPopHousingUnits",{"$f":"\"MOE \"&Z107","v":"MOE RenterOccPopHousingUnits"},"TotalUntis",{"$f":"\"MOE \"&AB107","v":"MOE TotalUntis"},"TotalOwnerOccUnits",{"$f":"\"MOE \"&AD107","v":"MOE TotalOwnerOccUnits"},"SigFamOwnerOcc",{"$f":"\"MOE \"&AF107","v":"MOE SigFamOwnerOcc"},"MultiFamOwnerOcc",{"$f":"\"MOE \"&AH107","v":"MOE MultiFamOwnerOcc"},"MobileOwnerOcc",{"$f":"\"MOE \"&AJ107","v":"MOE MobileOwnerOcc"},"TotalRenterOccUnits",{"$f":"\"MOE \"&AL107","v":"MOE TotalRenterOccUnits"},"SigFamRenterOcc",{"$f":"\"MOE \"&AN107","v":"MOE SigFamRenterOcc"},"MultiFamRenterOcc",{"$f":"\"MOE \"&AP107","v":"MOE MultiFamRenterOcc"},"MobileRenterOcc",{"$f":"\"MOE \"&AR107","v":"MOE MobileRenterOcc"},"TotalSigFamilyUnits",{"$f":"\"MOE \"&AT107","v":"MOE TotalSigFamilyUnits"},"TotalMultiFamilyUnits",{"$f":"\"MOE \"&AV107","v":"MOE TotalMultiFamilyUnits"},"TotalMobileUnits",{"$f":"\"MOE \"&AX107","v":"MOE TotalMobileUnits"},"YrHouseBuilt2014Later",{"$f":"\"MOE \"&AZ107","v":"MOE YrHouseBuilt2014Later"},"YrHouseBuilt2010-2013",{"$f":"\"MOE \"&BB107","v":"MOE YrHouseBuilt2010-2013"},"YrHouseBuilt2000-2009",{"$f":"\"MOE \"&BD107","v":"MOE YrHouseBuilt2000-2009"},"YrHouseBuilt1990-1999",{"$f":"\"MOE \"&BF107","v":"MOE YrHouseBuilt1990-1999"},"YrHouseBuilt1980-1989",{"$f":"\"MOE \"&BH107","v":"MOE YrHouseBuilt1980-1989"},"YrHouseBuilt1970-1979",{"$f":"\"MOE \"&BJ107","v":"MOE YrHouseBuilt1970-1979"},"YrHouseBuilt1960-1969",{"$f":"\"MOE \"&BL107","v":"MOE YrHouseBuilt1960-1969"},"YrHouseBuilt1950-1959",{"$f":"\"MOE \"&BN107","v":"MOE YrHouseBuilt1950-1959"},"YrHouseBuilt1940-1949",{"$f":"\"MOE \"&BP107","v":"MOE YrHouseBuilt1940-1949"},"YrHouseBuilt1939orEarlier",{"$f":"\"MOE \"&BR107","v":"MOE YrHouseBuilt1939orEarlier"},"NoBedrooms",{"$f":"\"MOE \"&BT107","v":"MOE NoBedrooms"},"1Bedroom",{"$f":"\"MOE \"&BV107","v":"MOE 1Bedroom"},"2Bedroom",{"$f":"\"MOE \"&BX107","v":"MOE 2Bedroom"},"3Bedroom",{"$f":"\"MOE \"&BZ107","v":"MOE 3Bedroom"},"4+Bedroom",{"$f":"\"MOE \"&CB107","v":"MOE 4+Bedroom"}]
[{"$f":"VLOOKUP(DropDownList!$A$19,CntyQuery!$A$20:$CE$30,A$1)","v":"Laconia"},10073,360,6965,394,4095,367,2870,417,3108,326,115,95,38,46,83,75,0,19,2529,326,16373,21,10231,911,6142,909,6965,394,4095,367,3142,298,762,229.42536912904816,191,95.900990610107883,2870,417,419,150,2426,422.72449656957428,25,45.188494110780013,4901,380,4609,568.79697608197603,563,181.99450541156455,31,50,560,169,1238,216,617,197,1746,374,1102,262,643,218,817,228,583,213,2736,327,295,136,1510,291,3767,398,3104,311,1298,248.65437860612872]
[]
["Disability Data"]
["NAME","TotalPop",{"$f":"\"MOE \"&B111","v":"MOE TotalPop"},"PopUnder 5 years:",{"$f":"\"MOE \"&D111","v":"MOE PopUnder 5 years:"},{"$f":"D$111&\"-WithDisability\"","v":"PopUnder 5 years:-WithDisability"},{"$f":"\"MOE \"&F111","v":"MOE PopUnder 5 years:-WithDisability"},{"$f":"D111&\"-NoDisability\"","v":"PopUnder 5 years:-NoDisability"},{"$f":"\"MOE \"&H111","v":"MOE PopUnder 5 years:-NoDisability"},"PopUnder 5 to 17years:",{"$f":"\"MOE \"&J111","v":"MOE PopUnder 5 to 17years:"},{"$f":"J$111&\"-WithDisability\"","v":"PopUnder 5 to 17years:-WithDisability"},{"$f":"\"MOE \"&L111","v":"MOE PopUnder 5 to 17years:-WithDisability"},{"$f":"J111&\"-NoDisability\"","v":"PopUnder 5 to 17years:-NoDisability"},{"$f":"\"MOE \"&N111","v":"MOE PopUnder 5 to 17years:-NoDisability"},"PopUnder 18 to 34 years:",{"$f":"\"MOE \"&P111","v":"MOE PopUnder 18 to 34 years:"},{"$f":"P$111&\"-WithDisability\"","v":"PopUnder 18 to 34 years:-WithDisability"},{"$f":"\"MOE \"&R111","v":"MOE PopUnder 18 to 34 years:-WithDisability"},{"$f":"P111&\"-NoDisability\"","v":"PopUnder 18 to 34 years:-NoDisability"},{"$f":"\"MOE \"&T111","v":"MOE PopUnder 18 to 34 years:-NoDisability"},"Pop 35 years to 64:",{"$f":"\"MOE \"&V111","v":"MOE Pop 35 years to 64:"},{"$f":"$V$111&\"-WithDisability\"","v":"Pop 35 years to 64:-WithDisability"},{"$f":"\"MOE \"&X111","v":"MOE Pop 35 years to 64:-WithDisability"},{"$f":"$V$111&\"-NoDisability\"","v":"Pop 35 years to 64:-NoDisability"},{"$f":"\"MOE \"&Z111","v":"MOE Pop 35 years to 64:-NoDisability"},"Pop 65 years to 74:",{"$f":"\"MOE \"&AB111","v":"MOE Pop 65 years to 74:"},{"$f":"$AB$111&\"-WithDisability\"","v":"Pop 65 years to 74:-WithDisability"},{"$f":"\"MOE \"&AD111","v":"MOE Pop 65 years to 74:-WithDisability"},{"$f":"$AB$111&\"-NoDisability\"","v":"Pop 65 years to 74:-NoDisability"},{"$f":"\"MOE \"&AF111","v":"MOE Pop 65 years to 74:-NoDisability"},"Pop 75 and older:",{"$f":"\"MOE \"&AH111","v":"MOE Pop 75 and older:"},{"$f":"$AH$111&\"-WithDisability\"","v":"Pop 75 and older:-WithDisability"},{"$f":"\"MOE \"&AJ111","v":"MOE Pop 75 and older:-WithDisability"},{"$f":"$AH$111&\"-NoDisability\"","v":"Pop 75 and older:-NoDisability"},{"$f":"\"MOE \"&AL111","v":"MOE Pop 75 and older:-NoDisability"},"TotalPopUnder5_HearingDisability",{"$f":"\"MOE \"&AN111","v":"MOE TotalPopUnder5_HearingDisability"},"TotalUnder5_HearingDisability",{"$f":"\"MOE \"&AP111","v":"MOE TotalUnder5_HearingDisability"},"TotalPop18To34_HearingDisability",{"$f":"\"MOE \"&AR111","v":"MOE TotalPop18To34_HearingDisability"},"TotalPop35To64_HearingDisability",{"$f":"\"MOE \"&AT111","v":"MOE TotalPop35To64_HearingDisability"},"TotalPop65To74_HearingDisability",{"$f":"\"MOE \"&AV111","v":"MOE TotalPop65To74_HearingDisability"},"TotalPop75andOlder_HearingDisability",{"$f":"\"MOE \"&AX111","v":"MOE TotalPop75andOlder_HearingDisability"},"TotalUnder5_VisionDisability",{"$f":"\"MOE \"&AZ111","v":"MOE TotalUnder5_VisionDisability"},"Total5To17_VisionDisability",{"$f":"\"MOE \"&BB111","v":"MOE Total5To17_VisionDisability"},"Total18To34_VisionDisability",{"$f":"\"MOE \"&BD111","v":"MOE Total18To34_VisionDisability"},"Total35To64_VisionDisability",{"$f":"\"MOE \"&BF111","v":"MOE Total35To64_VisionDisability"},"Total65To74_VisionDisability",{"$f":"\"MOE \"&BH111","v":"MOE Total65To74_VisionDisability"},"Total75andOlder_VisionDisability",{"$f":"\"MOE \"&BJ111","v":"MOE Total75andOlder_VisionDisability"},"Total5To17_CongnitiveDisability",{"$f":"\"MOE \"&BL111","v":"MOE Total5To17_CongnitiveDisability"},"Total18To34_CongnitiveDisability",{"$f":"\"MOE \"&BN111","v":"MOE Total18To34_CongnitiveDisability"},"Total35To64_CongnitiveDisability",{"$f":"\"MOE \"&BP111","v":"MOE Total35To64_CongnitiveDisability"},"Total65To74_CongnitiveDisability",{"$f":"\"MOE \"&BR111","v":"MOE Total65To74_CongnitiveDisability"},"Total75andOlder_CongnitiveDisability",{"$f":"\"MOE \"&BT111","v":"MOE Total75andOlder_CongnitiveDisability"},"Total5To17_AmbulatoryDisability",{"$f":"\"MOE \"&BV111","v":"MOE Total5To17_AmbulatoryDisability"},"Total18To34_AmbulatoryDisability",{"$f":"\"MOE \"&BX111","v":"MOE Total18To34_AmbulatoryDisability"},"Total35To64_AmbulatoryDisability",{"$f":"\"MOE \"&BZ111","v":"MOE Total35To64_AmbulatoryDisability"},"Total65To74_AmbulatoryDisability",{"$f":"\"MOE \"&CB111","v":"MOE Total65To74_AmbulatoryDisability"},"Total75andOlder_AmbulatoryDisability",{"$f":"\"MOE \"&CD111","v":"MOE Total75andOlder_AmbulatoryDisability"},"Total5To17_SelfCareDisability",{"$f":"\"MOE \"&CF111","v":"MOE Total5To17_SelfCareDisability"},"Total18To34_SelfCareDisability",{"$f":"\"MOE \"&CH111","v":"MOE Total18To34_SelfCareDisability"},"Total35To64_SelfCareDisability",{"$f":"\"MOE \"&CJ111","v":"MOE Total35To64_SelfCareDisability"},"Total65To74_SelfCareDisability",{"$f":"\"MOE \"&CL111","v":"MOE Total65To74_SelfCareDisability"},"Total75andOlder_SelfCareDisability",{"$f":"\"MOE \"&CN111","v":"MOE Total75andOlder_SelfCareDisability"},"Total18To34_IndependantLivingDisability",{"$f":"\"MOE \"&CP111","v":"MOE Total18To34_IndependantLivingDisability"},"Total35To64_IndependantLivingDisability",{"$f":"\"MOE \"&CR111","v":"MOE Total35To64_IndependantLivingDisability"},"Total65To74_IndependantLivingDisability",{"$f":"\"MOE \"&CT111","v":"MOE Total65To74_IndependantLivingDisability"},"Total75andOlder_IndependantLivingDisability",{"$f":"\"MOE \"&CV111","v":"MOE Total75andOlder_IndependantLivingDisability"},"TotalUnder18_OneDisability",{"$f":"\"MOE \"&CX111","v":"MOE TotalUnder18_OneDisability"},"TotalUnder18_TwoDisability",{"$f":"\"MOE \"&CZ111","v":"MOE TotalUnder18_TwoDisability"},"18to6YearWIthOneDisability",{"$f":"\"MOE \"&DB111","v":"MOE 18to6YearWIthOneDisability"},"18to64YearWIthTwoOrMoreDisability",{"$f":"\"MOE \"&DD111","v":"MOE 18to64YearWIthTwoOrMoreDisability"},"Over64YearsWIthOneDisability",{"$f":"\"MOE \"&DF111","v":"MOE Over64YearsWIthOneDisability"},"Over64YearsWIthTwoOrMoreDisability",{"$f":"\"MOE \"&DH111","v":"MOE Over64YearsWIthTwoOrMoreDisability"}]
[{"$f":"VLOOKUP(DropDownList!$A$19,CntyQuery!$A$20:$CE$30,A$1)","v":"Laconia"},16394,103,727,191.637678967368,27,41.593268686170845,700,192.25503894566717,2369,346.46933486240886,202,124.80785231707178,2167,348.24416721604973,3300,393.15391388106514,623,205.41178155110774,2677,401.88555584892572,6613,416.55851929830942,1068,302.29952034364857,5545,437.07436438208089,2398,302.64170234784234,756,234.27334462119245,1642,264.5467822522134,987,193.32873557751316,593,171.81385275931623,394,99.859901862559425,27,41.593268686170845,0,26.870057685088806,79,116.55899793666725,434,194.01030900444439,374,166.85922210054798,319,148.03377992877165,0,26.870057685088806,64,94.921019800674287,30,58.189346103904619,187,133.76471881628578,168,128.68954891520912,163,111.00450441310929,70,67.675697262754525,308,127.47548783981962,620,223.14345161801185,110,140.73023839957068,167,82.540898953185632,0,24.041630560342615,139,93.941471140279674,610,182.03571078225283,238,85.586213843118443,247,78.447434629820748,34,59.135437767890075,12,26.172504656604801,143,106.62082348209472,44,32.280024783137947,131,121.01652779682617,263,126.82665335015349,292,138.65785228395831,168,163.44112089679268,220,122.78436382536663,195,118,34,56,925,237,766,264,842,184,507,241,1176,134.97036711811967,424,99.478640923567099,752,131.36970731489052]
[]
[]
["NAME","TotalHouseholds",{"$f":"\"MOE \"&B115","v":"MOE TotalHouseholds"},"HHInc<10K",{"$f":"\"MOE \"&D115","v":"MOE HHInc<10K"},"HHInc10to15K",{"$f":"\"MOE \"&F115","v":"MOE HHInc10to15K"},"HHInc15to20K",{"$f":"\"MOE \"&H115","v":"MOE HHInc15to20K"},"HHInc20to25K",{"$f":"\"MOE \"&J115","v":"MOE HHInc20to25K"},"HHInc25to30K",{"$f":"\"MOE \"&L115","v":"MOE HHInc25to30K"},"HHInc30to35K",{"$f":"\"MOE \"&N115","v":"MOE HHInc30to35K"},"HHInc35to40K",{"$f":"\"MOE \"&P115","v":"MOE HHInc35to40K"},"HHInc40to45K",{"$f":"\"MOE \"&R115","v":"MOE HHInc40to45K"},"HHInc45to50K",{"$f":"\"MOE \"&T115","v":"MOE HHInc45to50K"},"HHInc50to60K",{"$f":"\"MOE \"&V115","v":"MOE HHInc50to60K"},"HHInc60to75K",{"$f":"\"MOE \"&X115","v":"MOE HHInc60to75K"},"HHInc75to100K",{"$f":"\"MOE \"&Z115","v":"MOE HHInc75to100K"},"HHInc100to125K",{"$f":"\"MOE \"&AB115","v":"MOE HHInc100to125K"},"HHInc125to150K",{"$f":"\"MOE \"&AD115","v":"MOE HHInc125to150K"},"HHInc150to200K",{"$f":"\"MOE \"&AF115","v":"MOE HHInc150to200K"},"HHInc>200K",{"$f":"\"MOE \"&AH115","v":"MOE HHInc>200K"},"TotalHH",{"$f":"\"MOE \"&AJ115","v":"MOE TotalHH"},"HHAgeHHUnder25yrs",{"$f":"\"MOE \"&AL115","v":"MOE HHAgeHHUnder25yrs"},"HHAgeHH<25HHInc<10K",{"$f":"\"MOE \"&AN115","v":"MOE HHAgeHH<25HHInc<10K"},"HHAgeHH<25HHInc10to15K",{"$f":"\"MOE \"&AP115","v":"MOE HHAgeHH<25HHInc10to15K"},"HHAgeHH<25HHInc15to20K",{"$f":"\"MOE \"&AR115","v":"MOE HHAgeHH<25HHInc15to20K"},"HHAgeHH<25HHInc20to25K",{"$f":"\"MOE \"&AT115","v":"MOE HHAgeHH<25HHInc20to25K"},"HHAgeHH<25HHInc25to30K",{"$f":"\"MOE \"&AV115","v":"MOE HHAgeHH<25HHInc25to30K"},"HHAgeHH<25HHInc30to35K",{"$f":"\"MOE \"&AX115","v":"MOE HHAgeHH<25HHInc30to35K"},"HHAgeHH<25HHInc35to40K",{"$f":"\"MOE \"&AZ115","v":"MOE HHAgeHH<25HHInc35to40K"},"HHAgeHH<25HHInc40to45K",{"$f":"\"MOE \"&BB115","v":"MOE HHAgeHH<25HHInc40to45K"},"HHAgeHH<25HHInc45to50K",{"$f":"\"MOE \"&BD115","v":"MOE HHAgeHH<25HHInc45to50K"},"HHAgeHH<25HHInc50to60K",{"$f":"\"MOE \"&BF115","v":"MOE HHAgeHH<25HHInc50to60K"},"HHAgeHH<25HHInc60to75K",{"$f":"\"MOE \"&BH115","v":"MOE HHAgeHH<25HHInc60to75K"},"HHAgeHH<25HHInc75to100K",{"$f":"\"MOE \"&BJ115","v":"MOE HHAgeHH<25HHInc75to100K"},"HHAgeHH<25HHInc100to125K",{"$f":"\"MOE \"&BL115","v":"MOE HHAgeHH<25HHInc100to125K"},"HHAgeHH<25HHInc125to150K",{"$f":"\"MOE \"&BN115","v":"MOE HHAgeHH<25HHInc125to150K"},"HHAgeHH<25HHInc150to200K",{"$f":"\"MOE \"&BP115","v":"MOE HHAgeHH<25HHInc150to200K"},"HHAge<25HHInc>200K",{"$f":"\"MOE \"&BR115","v":"MOE HHAge<25HHInc>200K"},"HHAgeHH25to44yrs",{"$f":"\"MOE \"&BT115","v":"MOE HHAgeHH25to44yrs"},"HHAgeHH25To44yrsHHInc<10K",{"$f":"\"MOE \"&BV115","v":"MOE HHAgeHH25To44yrsHHInc<10K"},"HHAgeHH25To44yrsHHInc10to15K",{"$f":"\"MOE \"&BX115","v":"MOE HHAgeHH25To44yrsHHInc10to15K"},"HHAgeHH25To44yrsHHInc15to20K",{"$f":"\"MOE \"&BZ115","v":"MOE HHAgeHH25To44yrsHHInc15to20K"},"HHAgeHH25To44yrsHHInc20to25K",{"$f":"\"MOE \"&CB115","v":"MOE HHAgeHH25To44yrsHHInc20to25K"},"HHAgeHH25To44yrsHHInc25to30K",{"$f":"\"MOE \"&CD115","v":"MOE HHAgeHH25To44yrsHHInc25to30K"},"HHAgeHH25To44yrsHHInc30to35K",{"$f":"\"MOE \"&CF115","v":"MOE HHAgeHH25To44yrsHHInc30to35K"},"HHAgeHH25To44yrsHHInc35to40K",{"$f":"\"MOE \"&CH115","v":"MOE HHAgeHH25To44yrsHHInc35to40K"},"HHAgeHH25To44yrsHHInc40to45K",{"$f":"\"MOE \"&CJ115","v":"MOE HHAgeHH25To44yrsHHInc40to45K"},"HHAgeHH25To44yrsHHInc45to50K",{"$f":"\"MOE \"&CL115","v":"MOE HHAgeHH25To44yrsHHInc45to50K"},"HHAgeHH25To44yrsHHInc50to60K",{"$f":"\"MOE \"&CN115","v":"MOE HHAgeHH25To44yrsHHInc50to60K"},"HHAgeHH25To44yrsHHInc60to75K",{"$f":"\"MOE \"&CP115","v":"MOE HHAgeHH25To44yrsHHInc60to75K"},"HHAgeHH25To44yrsHHInc75to100K",{"$f":"\"MOE \"&CR115","v":"MOE HHAgeHH25To44yrsHHInc75to100K"},"HHAgeHH25To44yrsHHInc100to125K",{"$f":"\"MOE \"&CT115","v":"MOE HHAgeHH25To44yrsHHInc100to125K"},"HHAgeHH25To44yrsHHInc125to150K",{"$f":"\"MOE \"&CV115","v":"MOE HHAgeHH25To44yrsHHInc125to150K"},"HHAgeHH25To44yrsHHInc150to200K",{"$f":"\"MOE \"&CX115","v":"MOE HHAgeHH25To44yrsHHInc150to200K"},"HHAge25To44yrsHHInc>200K",{"$f":"\"MOE \"&CZ115","v":"MOE HHAge25To44yrsHHInc>200K"},"HHAgeHH45To64yrs",{"$f":"\"MOE \"&DB115","v":"MOE HHAgeHH45To64yrs"},"HHAgeHH45To64yrsHHInc<10K",{"$f":"\"MOE \"&DD115","v":"MOE HHAgeHH45To64yrsHHInc<10K"},"HHAgeHH45To64yrsHHInc10to15K",{"$f":"\"MOE \"&DF115","v":"MOE HHAgeHH45To64yrsHHInc10to15K"},"HHAgeHH45To64yrsHHInc15to20K",{"$f":"\"MOE \"&DH115","v":"MOE HHAgeHH45To64yrsHHInc15to20K"},"HHAgeHH45To64yrsHHInc20to25K",{"$f":"\"MOE \"&DJ115","v":"MOE HHAgeHH45To64yrsHHInc20to25K"},"HHAgeHH45To64yrsHHInc25to30K",{"$f":"\"MOE \"&DL115","v":"MOE HHAgeHH45To64yrsHHInc25to30K"},"HHAgeHH45To64yrsHHInc30to35K",{"$f":"\"MOE \"&DN115","v":"MOE HHAgeHH45To64yrsHHInc30to35K"},"HHAgeHH45To64yrsHHInc35to40K",{"$f":"\"MOE \"&DP115","v":"MOE HHAgeHH45To64yrsHHInc35to40K"},"HHAgeHH45To64yrsHHInc40to45K",{"$f":"\"MOE \"&DR115","v":"MOE HHAgeHH45To64yrsHHInc40to45K"},"HHAgeHH45To64yrsHHInc45to50K",{"$f":"\"MOE \"&DT115","v":"MOE HHAgeHH45To64yrsHHInc45to50K"},"HHAgeHH45To64yrsHHInc50to60K",{"$f":"\"MOE \"&DV115","v":"MOE HHAgeHH45To64yrsHHInc50to60K"},"HHAgeHH45To64yrsHHInc60to75K",{"$f":"\"MOE \"&DX115","v":"MOE HHAgeHH45To64yrsHHInc60to75K"},"HHAgeHH45To64yrsHHInc75to100K",{"$f":"\"MOE \"&DZ115","v":"MOE HHAgeHH45To64yrsHHInc75to100K"},"HHAgeHH45To64yrsHHInc100to125K",{"$f":"\"MOE \"&EB115","v":"MOE HHAgeHH45To64yrsHHInc100to125K"},"HHAgeHH45To64yrsHHInc125to150K",{"$f":"\"MOE \"&ED115","v":"MOE HHAgeHH45To64yrsHHInc125to150K"},"HHAgeHH45To64yrsHHInc150to200K",{"$f":"\"MOE \"&EF115","v":"MOE HHAgeHH45To64yrsHHInc150to200K"},"HHAge45To64yrsHHInc>200K",{"$f":"\"MOE \"&EH115","v":"MOE HHAge45To64yrsHHInc>200K"},"HHAgeHH65yrsorOlder",{"$f":"\"MOE \"&EJ115","v":"MOE HHAgeHH65yrsorOlder"},"HHAgeHH65yrsorOlderHHInc<10K",{"$f":"\"MOE \"&EL115","v":"MOE HHAgeHH65yrsorOlderHHInc<10K"},"HHAgeHH65yrsorOlderHHInc10to15K",{"$f":"\"MOE \"&EN115","v":"MOE HHAgeHH65yrsorOlderHHInc10to15K"},"HHAgeHH65yrsorOlderHHInc15to20K",{"$f":"\"MOE \"&EP115","v":"MOE HHAgeHH65yrsorOlderHHInc15to20K"},"HHAgeHH65yrsorOlderHHInc20to25K",{"$f":"\"MOE \"&ER115","v":"MOE HHAgeHH65yrsorOlderHHInc20to25K"},"HHAgeHH65yrsorOlderHHInc25to30K",{"$f":"\"MOE \"&ET115","v":"MOE HHAgeHH65yrsorOlderHHInc25to30K"},"HHAgeHH65yrsorOlderHHInc30to35K",{"$f":"\"MOE \"&EV115","v":"MOE HHAgeHH65yrsorOlderHHInc30to35K"},"HHAgeHH65yrsorOlderHHInc35to40K",{"$f":"\"MOE \"&EX115","v":"MOE HHAgeHH65yrsorOlderHHInc35to40K"},"HHAgeHH65yrsorOlderHHInc40to45K",{"$f":"\"MOE \"&EZ115","v":"MOE HHAgeHH65yrsorOlderHHInc40to45K"},"HHAgeHH65yrsorOlderHHInc45to50K",{"$f":"\"MOE \"&FB115","v":"MOE HHAgeHH65yrsorOlderHHInc45to50K"},"HHAgeHH65yrsorOlderHHInc50to60K",{"$f":"\"MOE \"&FD115","v":"MOE HHAgeHH65yrsorOlderHHInc50to60K"},"HHAgeHH65yrsorOlderHHInc60to75K",{"$f":"\"MOE \"&FF115","v":"MOE HHAgeHH65yrsorOlderHHInc60to75K"},"HHAgeHH65yrsorOlderHHInc75to100K",{"$f":"\"MOE \"&FH115","v":"MOE HHAgeHH65yrsorOlderHHInc75to100K"},"HHAgeHH65yrsorOlderHHInc100to125K",{"$f":"\"MOE \"&FJ115","v":"MOE HHAgeHH65yrsorOlderHHInc100to125K"},"HHAgeHH65yrsorOlderHHInc125to150K",{"$f":"\"MOE \"&FL115","v":"MOE HHAgeHH65yrsorOlderHHInc125to150K"},"HHAgeHH65yrsorOlderHHInc150to200K",{"$f":"\"MOE \"&FN115","v":"MOE HHAgeHH65yrsorOlderHHInc150to200K"},"HHAge65yrsorOlderHHInc>200K",{"$f":"\"MOE \"&FP115","v":"MOE HHAge65yrsorOlderHHInc>200K"},"MedianHHInc",{"$f":"\"MOE \"&FR115","v":"MOE MedianHHInc"},"HH under 25 years",{"$f":"\"MOE \"&FT115","v":"MOE HH under 25 years"},"Householder 25 to 44 years",{"$f":"\"MOE \"&FV115","v":"MOE Householder 25 to 44 years"},"Householder 45 to 64 years",{"$f":"\"MOE \"&FX115","v":"MOE Householder 45 to 64 years"},"Householder 65 years and over",{"$f":"\"MOE \"&FZ115","v":"MOE Householder 65 years and over"}]
[{"$f":"VLOOKUP(DropDownList!$A$19,CntyQuery!$A$20:$CE$30,A$1)","v":"Laconia"},6965,394,272,171,318,164,277,132,227,89,399,166,363,172,286,161,221,174,215,97,611,180,637,233,1082,228,664,170,524,172,419,128,450,148,6965,394,64,71,0,19,0,19,0,19,12,27,0,19,0,19,0,19,0,19,0,19,0,19,0,19,11,21,41,62,0,19,0,19,0,19,2086,251,4,9,115,123,105,106,52,50,99,66,21,34,160,150,41,49,67,60,160,102,244,126,480,178,277,122,155,108,62,46,44,46,2611,274,194,161,118,89,23,24,34,39,105,91,153,102,73,62,164,170,66,64,204,126,169,117,317,129,256,123,194,98,264,112,277,107,2204,299,74,46,85,87,149,90,129,59,195,97,189,127,53,41,16,16,82,59,247,79,224,129,274,98,90,59,175,111,93,64,129,69,67856,7883,108049,73409,72685,14893,75139,23396,54730,8196,712,181.10770276274835,745,221.00904958847272,1127,230.60355591360684,1421,221.92115717073935,774,188,765,195.25624189766637,157,83,159,75]
[]
["Number of Households by Income"]
["NAME","HHIncLessThn10k",{"$f":"\"MOE \"&B119","v":"MOE HHIncLessThn10k"},"HHInc10to15K",{"$f":"\"MOE \"&D119","v":"MOE HHInc10to15K"},"HHInc15to25K",{"$f":"\"MOE \"&F119","v":"MOE HHInc15to25K"},"HHInc25to35K",{"$f":"\"MOE \"&H119","v":"MOE HHInc25to35K"},"HHInc35to50K",{"$f":"\"MOE \"&J119","v":"MOE HHInc35to50K"},"HHInc50to75K",{"$f":"\"MOE \"&L119","v":"MOE HHInc50to75K"},"HHInc75to100K",{"$f":"\"MOE \"&N119","v":"MOE HHInc75to100K"},"HHInc100to150K",{"$f":"\"MOE \"&P119","v":"MOE HHInc100to150K"},"HHInc150to200K",{"$f":"\"MOE \"&R119","v":"MOE HHInc150to200K"},"HHIncOver200K",{"$f":"\"MOE \"&T119","v":"MOE HHIncOver200K"}]
[{"$f":"VLOOKUP(DropDownList!$A$19,CntyQuery!$A$20:$CE$30,A$1)","v":"Laconia"},272,171,318,164,504,159.20113064925135,762,239.03974564912841,722,256.13668226163935,1248,294.42995771490371,1082,228,1188,241.83465425782137,419,128,450,148,null,null,null,null,null,null,null,null,null,null,null,null,null,null,null,null,null,null,null,null,null,null,null,null,null,null,null,null,null,null,null,null,null,null,null,null,null,null,null,null,null,null,null,null,null,null,null,null,null,null,null,null,null,null,null,null,null,null,null,null,null,null,null,null,null,null,null,null,null,null,null,null,null,null,null,null,null,null,null,null,null,null,null,null,null,null,null,null,null,null,null,null,null,null,null,null,"Laconia",null,"Households","Margin of Error",6938,301,null,null,640,173,438,157,367,124,345,132,410,178,335,131,438,151,389,136,300,109,669,168,752,145,774,188,456,150,309,125,157,83,159,75,null,null,null,null,null,null,null,null,null,null,null,null,null,null,"Laconia",null,"Households","Margin of Error",6938,301,null,null,640,173,438,157,712,181.10770276274835,745,221.00904958847272,1127,230.60355591360684,1421,221.92115717073935,774,188,765,195.25624189766637,157,83,159,75]
[]
["Poverty Data"]
["NAME","TotalPop",{"$f":"\"MOE \"&B123","v":"MOE TotalPop"},"Total Individuals living in Poverty",{"$f":"\"MOE \"&D123","v":"MOE Total Individuals living in Poverty"},"Under 5 yrs.",{"$f":"\"MOE \"&F123","v":"MOE Under 5 yrs."},"5 to 17 yrs.",{"$f":"\"MOE \"&H123","v":"MOE 5 to 17 yrs."},"18 to 64 yrs.",{"$f":"\"MOE \"&J123","v":"MOE 18 to 64 yrs."},"65 to 74 yrs.",{"$f":"\"MOE \"&L123","v":"MOE 65 to 74 yrs."},"75 yrs. & Over",{"$f":"\"MOE \"&N123","v":"MOE 75 yrs. & Over"},"Total Individuals  Not living Poverty",{"$f":"\"MOE \"&P123","v":"MOE Total Individuals  Not living Poverty"},"Under 5 yrs.",{"$f":"\"MOE \"&R123","v":"MOE Under 5 yrs."},"5 to 17 yrs.",{"$f":"\"MOE \"&T123","v":"MOE 5 to 17 yrs."},"18 to 64 yrs.",{"$f":"\"MOE \"&V123","v":"MOE 18 to 64 yrs."},"65 to 74 yrs.",{"$f":"\"MOE \"&X123","v":"MOE 65 to 74 yrs."},"75 yrs. & Over",{"$f":"\"MOE \"&Z123","v":"MOE 75 yrs. & Over"},"Total HH",{"$f":"\"MOE \"&AB123","v":"MOE Total HH"},"Total Households Below Poverty",{"$f":"\"MOE \"&AD123","v":"MOE Total Households Below Poverty"},"Family Households in Poverty",{"$f":"\"MOE \"&AF123","v":"MOE Family Households in Poverty"},"Married Couple Fam HH",{"$f":"\"MOE \"&AH123","v":"MOE Married Couple Fam HH"},"Other Family",{"$f":"\"MOE \"&AJ123","v":"MOE Other Family"},"Male Head of Family HH no wife",{"$f":"\"MOE \"&AL123","v":"MOE Male Head of Family HH no wife"},"Female Head of Family HH no husband",{"$f":"\"MOE \"&AN123","v":"MOE Female Head of Family HH no husband"},"Non-Family HH",{"$f":"\"MOE \"&AP123","v":"MOE Non-Family HH"},"Non-Family Male HH",{"$f":"\"MOE \"&AR123","v":"MOE Non-Family Male HH"},"Non-Family Female HH",{"$f":"\"MOE \"&AT123","v":"MOE Non-Family Female HH"},"Total Households at or Above Poverty",{"$f":"\"MOE \"&AV123","v":"MOE Total Households at or Above Poverty"},"Family Households above Poverty",{"$f":"\"MOE \"&AX123","v":"MOE Family Households above Poverty"},"Married Couple Fam HH",{"$f":"\"MOE \"&AZ123","v":"MOE Married Couple Fam HH"},"Other Family",{"$f":"\"MOE \"&BB123","v":"MOE Other Family"},"Male Head of Family HH no wife",{"$f":"\"MOE \"&BD123","v":"MOE Male Head of Family HH no wife"},"Female Head of Family HH no husband",{"$f":"\"MOE \"&BF123","v":"MOE Female Head of Family HH no husband"},"Non-Family HH",{"$f":"\"MOE \"&BH123","v":"MOE Non-Family HH"},"Non-Family Male HH",{"$f":"\"MOE \"&BJ123","v":"MOE Non-Family Male HH"},"Non-Family Female HH",{"$f":"\"MOE \"&BL123","v":"MOE Non-Family Female HH"},"Married Couple with Children Below Poverty",{"$f":"\"MOE \"&BN123","v":"MOE Married Couple with Children Below Poverty"},"Male HH with children below poverty",{"$f":"\"MOE \"&BP123","v":"MOE Male HH with children below poverty"},"Female HH with children below poverty",{"$f":"\"MOE \"&BR123","v":"MOE Female HH with children below poverty"},"Married Couple with Children At or Above Poverty",{"$f":"\"MOE \"&BT123","v":"MOE Married Couple with Children At or Above Poverty"},"Male HH with children at or above poverty",{"$f":"\"MOE \"&BV123","v":"MOE Male HH with children at or above poverty"},"Female HH with children at or above poverty",{"$f":"\"MOE \"&BX123","v":"MOE Female HH with children at or above poverty"}]
[{"$f":"VLOOKUP(DropDownList!$A$19,CntyQuery!$A$20:$CE$30,A$1)","v":"Laconia"},16414,59,1674,536,188,86.977008456258133,298,213.36353952819587,923,286.54668031579081,213,137.64446955835166,52,32.202484376209235,14740,537,511,140.80127840328723,2054,392.05611843204287,9055,655.08396408399437,2185,289.94482233694049,935,192.41881404893857,6965,394,709,260,249,153,64,58,185,130,0,19,185,130,460,225,236,163,224,141,6256,427,3808,321,2721,314,1087,253,346,144,741,216,2448,369,993,219,1455,337,14,24,0,19,185,130,752,184,213,115,354,167,null,null,null,null,null,null,null,null,null,null,null,null,null,null,null,null,null,null,null,null,null,null,null,null,null,null,null,null,null,null,null,null,null,null,null,null,null,null,null,null,null,null,null,null,null,152.9477034806342]
[]
["Household Income By Tenure"]
["NAME","TotalOccHU",{"$f":"\"MOE \"&B127","v":"MOE TotalOccHU"},"OwnOccHU",{"$f":"\"MOE \"&D127","v":"MOE OwnOccHU"},"OOHUInc<5K",{"$f":"\"MOE \"&F127","v":"MOE OOHUInc<5K"},"OOHUInc5to10K",{"$f":"\"MOE \"&H127","v":"MOE OOHUInc5to10K"},"OOHUInc10to15K",{"$f":"\"MOE \"&J127","v":"MOE OOHUInc10to15K"},"OOHUInc15to20K",{"$f":"\"MOE \"&L127","v":"MOE OOHUInc15to20K"},"OOHUInc20to25K",{"$f":"\"MOE \"&N127","v":"MOE OOHUInc20to25K"},"OOHUInc25to35K",{"$f":"\"MOE \"&P127","v":"MOE OOHUInc25to35K"},"OOHUInc35to50K",{"$f":"\"MOE \"&R127","v":"MOE OOHUInc35to50K"},"OOHUInc50to75K",{"$f":"\"MOE \"&T127","v":"MOE OOHUInc50to75K"},"OOHUInc75to100K",{"$f":"\"MOE \"&V127","v":"MOE OOHUInc75to100K"},"OOHUInc100to150K",{"$f":"\"MOE \"&X127","v":"MOE OOHUInc100to150K"},"OOHUInc>150K",{"$f":"\"MOE \"&Z127","v":"MOE OOHUInc>150K"},"RentOccHU",{"$f":"\"MOE \"&AB127","v":"MOE RentOccHU"},"ROHUInc<5K",{"$f":"\"MOE \"&AD127","v":"MOE ROHUInc<5K"},"ROHUInc5to10K",{"$f":"\"MOE \"&AF127","v":"MOE ROHUInc5to10K"},"ROHUInc10to15K",{"$f":"\"MOE \"&AH127","v":"MOE ROHUInc10to15K"},"ROHUInc15to20K",{"$f":"\"MOE \"&AJ127","v":"MOE ROHUInc15to20K"},"ROHUInc20to25K",{"$f":"\"MOE \"&AL127","v":"MOE ROHUInc20to25K"},"ROHUInc25to35K",{"$f":"\"MOE \"&AN127","v":"MOE ROHUInc25to35K"},"ROHUInc35to50K",{"$f":"\"MOE \"&AP127","v":"MOE ROHUInc35to50K"},"ROHUInc50to75K",{"$f":"\"MOE \"&AR127","v":"MOE ROHUInc50to75K"},"ROHUInc75to100K",{"$f":"\"MOE \"&AT127","v":"MOE ROHUInc75to100K"},"ROHUInc100to150K",{"$f":"\"MOE \"&AV127","v":"MOE ROHUInc100to150K"},"ROHUInc>150K",{"$f":"\"MOE \"&AX127","v":"MOE ROHUInc>150K"},"Total OCC HUInc<5K",{"$f":"\"MOE \"&AZ127","v":"MOE Total OCC HUInc<5K"},"Total OCC HUInc5to10K",{"$f":"\"MOE \"&BB127","v":"MOE Total OCC HUInc5to10K"},"Total OCC HUInc10to15K",{"$f":"\"MOE \"&BD127","v":"MOE Total OCC HUInc10to15K"},"Total OCC HUInc15to20K",{"$f":"\"MOE \"&BF127","v":"MOE Total OCC HUInc15to20K"},"Total OCC HUInc20to25K",{"$f":"\"MOE \"&BH127","v":"MOE Total OCC HUInc20to25K"},"Total OCC HUInc25to35K",{"$f":"\"MOE \"&BJ127","v":"MOE Total OCC HUInc25to35K"},"Total OCC HUInc35to50K",{"$f":"\"MOE \"&BL127","v":"MOE Total OCC HUInc35to50K"},"Total OCC HUInc50to75K",{"$f":"\"MOE \"&BN127","v":"MOE Total OCC HUInc50to75K"},"Total OCC HUInc75to100K",{"$f":"\"MOE \"&BP127","v":"MOE Total OCC HUInc75to100K"},"Total OCC HUInc100to150K",{"$f":"\"MOE \"&BR127","v":"MOE Total OCC HUInc100to150K"},"Total OCC HUInc>150K",{"$f":"\"MOE \"&BT127","v":"MOE Total OCC HUInc>150K"},"MedHHInc",{"$f":"\"MOE \"&BV127","v":"MOE MedHHInc"},"MedOwnOccHHInc",{"$f":"\"MOE \"&BX127","v":"MOE MedOwnOccHHInc"},"MedRentOccHHInc",{"$f":"\"MOE \"&BZ127","v":"MOE MedRentOccHHInc"}]
[{"$f":"VLOOKUP(DropDownList!$A$19,CntyQuery!$A$20:$CE$30,A$1)","v":"Laconia"},6965,394,4095,367,22,22,62,95,44,39,100,90,125,64,351,152,252,88,655,211,824,171,881,213,779,185,2870,417,156,138,32,30,274,151,177,103,102,65,411,167,470,225,593,191,258,138,307,200,90,69,178,139.74262055650738,94,99.624294225856374,318,155.95512174981621,277,136.78084661238211,227,91.219515455849688,762,225.81629702038779,722,241.59677150160761,1248,284.60850303530987,1082,219.73848092675985,1188,292.17973920174546,869,197.44872752185566,67856,7883,91128,6160,43891,7667]
[]
["Population Data"]
["NAME","Total Population","MOE Total Population","Under 15 Years","MOE Under 15 yrs.","15 to 24 yrs.","MOE 15 to 24 yrs.","25 to 34 yrs.","MOE 25 to 34 yrs.","35 to 44 yrs.","MOE 35 to 44 yrs.","45 to 54 yrs.","MOE 45 to 54 yrs.","55 to 64 yrs.","MOE 55 to 64 yrs.","65 to 74 yrs.","MOE 65 to 74 yrs.","Over 74 yrs. ","MOE Over 74 yrs. ","TotalHH","MOE TotalHH","FamilyHH","MOE FamilyHH","MarriedFamilyHH","MOE MarriedFamilyHH","SingleFamilyHH","MOE SingleFamilyHH","Sfamily-MaleHH","MOE Sfamily-MaleHH","Sfamily-FemaleHH","MOE Sfamily-FemaleHH","NonFamilyHH","MOE NonFamilyHH","NonFamilyHH-LivingAlone","MOE NonFamilyHH-LivingAlone","NonFamilyHH-NotLivingAlone","MOE NonFamilyHH-NotLivingAlone","PopRaceWhite","MOE PopRaceWhite","PopRaceBlack","MOE PopRaceBlack","PopRaceAmerican Indian","MOE PopRaceAmerican Indian","PopRaceAsian &Pacific Is.","MOE PopRaceAsian &Pacific Is.","PopRaceOther*","MOE PopRaceOther*","PopRaceHispanic or Latino:","MOE PopRaceHispanic or Latino:","MedianAgeTotalPop","MOE MedianAgeTotalPop","MedianAgeMale","MOE MedianAgeMale","MedianAgeFemale","MOE MedianAgeFemale","AvgHHSizeTotal","MOE AvgHHSizeTotal","AvgHHSizeFamilyHH","MOE AvgHHSizeFamilyHH","AvgHHSizeNonFamilyHH","MOE AvgHHSizeNonFamilyHH"]
[{"$f":"VLOOKUP(DropDownList!$A$19,CntyQuery!$A$20:$CE$30,A$1)","v":"Laconia"},3047,21,485,170.9122581911549,199,118.0127111797708,480,169.44320582425252,291,127.38131731144878,343,152.30561381643159,585,153.37209654953537,467,135.96690773861116,197,74.82646590612174,1125,132,768,96,620,112,148,81,35,37,113,78,357,130,276,113,81,69,2889,98,29,41,0,12,29,35.114099732158877,87,75.953933407032977,13,2,45.8,6.5,42.2,7.9,51.7,5.6,2.6968888888888887,0.31698506310205876,3.390625,0.47576181100249815,1.2044817927170868,0.6392088182995167,null,null,null,null,null,null,null,null,null,null,null,null,null,null,null,null,null,null,null,null,null,null,null,null,null,null,null,null,null,null,null,null,null,null,null,null,null,null,null,null,null,null,null,null,null,null,null,null,null,null,null,null,null,null,null,null,null,null,null,null,null,null,null,null,null,null,null,null,null,null,null,null,null,null,null,null,null,null,null,null,null,null,null,null,null,null,null,null,null,null,null,null,null,null,null,null,null,null,null,null,null,null,null,null,null,null,null,null,"Tilton",null,"Estimate","Margin of Error",3567,18,568,149.03355326905415,238,86.434946636184137,458,120.63996021219504,381,90.675244692253244,536,146.13007903919029,609,137.84411485442533,388,94.984209213953037,389,114.33722053644648,null,null,null,null,null,null,null,null,null,null,null,null,null,null,null,null,null,null,null,null,null,null,null,null,null,null,null,null,null,null,null,null,null,null,null,null,null,null,null,null,null,null,null,null,null,null,null,null,null,null,null,null,null,null,null,null,null,null,null,null,null,null,null,null,null,null,null,null,null,null,null,null,null,null,null,null,null,null,null,null,null,null,null,null,null,null,null,null,null,null,null,null,null,null,null,null,null,null,null,null,null,null,null,null,null,null,null,null,null,null,null,null,null,null,null,null,null,null,null,null,null,null,null,null,null,null,null,null,null,null,null,null,null,null,null,null,null,null,null,null,null,null,null,null,null,null,null,null,null,null,null,null,null,null,null,null,null,null,null,null,"Tilton",null,"Estimate","Margin of Error",3581,14,466,128.4562182223967,401,175.31970796233946,423,122.67436570041843,476,126.11899143269423,514,131.82564242210239,603,124.7517534946904,282,105.19980988575978,416,119.98333217576514]
[]
["Nativity and Prior Place of Residence"]
["NAME","TotalPop",{"$f":"\"MOE \"&B135","v":"MOE TotalPop"},"Native:",{"$f":"\"MOE \"&D135","v":"MOE Native:"},"NatBornInStateOfResidence",{"$f":"\"MOE \"&F135","v":"MOE NatBornInStateOfResidence"},"Born in other state in the United States:",{"$f":"\"MOE \"&H135","v":"MOE Born in other state in the United States:"},"Northeast",{"$f":"\"MOE \"&J135","v":"MOE Northeast"},"Midwest",{"$f":"\"MOE \"&L135","v":"MOE Midwest"},"South",{"$f":"\"MOE \"&N135","v":"MOE South"},"West",{"$f":"\"MOE \"&P135","v":"MOE West"},"Born outside the United States:",{"$f":"\"MOE \"&R135","v":"MOE Born outside the United States:"},"Puerto Rico",{"$f":"\"MOE \"&T135","v":"MOE Puerto Rico"},"U.S. Island Areas",{"$f":"\"MOE \"&V135","v":"MOE U.S. Island Areas"},"Born abroad of American parent(s)",{"$f":"\"MOE \"&X135","v":"MOE Born abroad of American parent(s)"},"Foreign born:",{"$f":"\"MOE \"&Z135","v":"MOE Foreign born:"},"Naturalized U.S. citizen",{"$f":"\"MOE \"&AB135","v":"MOE Naturalized U.S. citizen"},"Not a U.S. citizen",{"$f":"\"MOE \"&AD135","v":"MOE Not a U.S. citizen"},"CurrentResidenceTotal:",{"$f":"\"MOE \"&AF135","v":"MOE CurrentResidenceTotal:"},"SameHouse:",{"$f":"\"MOE \"&AH135","v":"MOE SameHouse:"},"DifferentHouse:",{"$f":"\"MOE \"&AJ135","v":"MOE DifferentHouse:"},"DiffHouseInNH",{"$f":"\"MOE \"&AL135","v":"MOE DiffHouseInNH"},"DiffHouseInNHSameCnty",{"$f":"\"MOE \"&AN135","v":"MOE DiffHouseInNHSameCnty"},"DiffHouseInNHDiffCnty",{"$f":"\"MOE \"&AP135","v":"MOE DiffHouseInNHDiffCnty"},"DiffHouseInDiffState",{"$f":"\"MOE \"&AR135","v":"MOE DiffHouseInDiffState"},"DiffHouseInElsewhere",{"$f":"\"MOE \"&AT135","v":"MOE DiffHouseInElsewhere"}]
[{"$f":"VLOOKUP(DropDownList!$A$19,CntyQuery!$A$20:$CE$30,A$1)","v":"Laconia"},45.8,6.5,42.2,7.9,51.7,5.6,1058,330,758,222,43,32,109,76,148,126,0,12,0,12,0,12,0,12,133,97,102,91,31,23,3045,21,2731,155,314,152.56474035634838,105,87.692645073575008,20,11,85,87,140,95,69,81]
[]
["School Enrollment - Education"]
["NAME","Total Pop 3 Years and Older","MOE Total Pop 3 Years and Older","SchEnrlPop3yrOver",{"$f":"\"MOE \"&D139","v":"MOE SchEnrlPop3yrOver"},"TotalEnrollNursy&Kinder",{"$f":"\"MOE \"&F139","v":"MOE TotalEnrollNursy&Kinder"},"NurserSchEnrl",{"$f":"\"MOE \"&H139","v":"MOE NurserSchEnrl"},"KinderSchEnrl",{"$f":"\"MOE \"&J139","v":"MOE KinderSchEnrl"},"ElemSchEnrl (1-8)",{"$f":"\"MOE \"&L139","v":"MOE ElemSchEnrl (1-8)"},"HighSchEnrl(9-12)",{"$f":"\"MOE \"&N139","v":"MOE HighSchEnrl(9-12)"},"TotalElementry&HSEnroll",{"$f":"\"MOE \"&P139","v":"MOE TotalElementry&HSEnroll"},"CollGradSchEnrl",{"$f":"\"MOE \"&R139","v":"MOE CollGradSchEnrl"},"PopNotEnrolled","MOE PopNotEnrolled","Pop25yrsOver",{"$f":"\"MOE \"&V139","v":"MOE Pop25yrsOver"},"EduAtain<9grd",{"$f":"\"MOE \"&X139","v":"MOE EduAtain<9grd"},"EduAtainHSnoDip",{"$f":"\"MOE \"&Z139","v":"MOE EduAtainHSnoDip"},"EduAtainHSgrad",{"$f":"\"MOE \"&AB139","v":"MOE EduAtainHSgrad"},"EduAtainCollNoDeg",{"$f":"\"MOE \"&AD139","v":"MOE EduAtainCollNoDeg"},"EduAtainAssocDeg",{"$f":"\"MOE \"&AF139","v":"MOE EduAtainAssocDeg"},"EduAtainBachDeg",{"$f":"\"MOE \"&AH139","v":"MOE EduAtainBachDeg"},"EduAtainGradProfDeg",{"$f":"\"MOE \"&AJ139","v":"MOE EduAtainGradProfDeg"}]
[{"$f":"VLOOKUP(DropDownList!$A$19,CntyQuery!$A$20:$CE$30,A$1)","v":"Laconia"},2979,39,515,116,43,43.829214001622255,30,39,13,20,342,145.96232390586277,79,82,421,167.41863695538797,51,45.705579528105758,2464,107,2363,135,10,32.878564445547191,193,202.12372448577133,515,133.40539719216761,596,176.16469566857032,191,96.046863561492728,539,159.55249919697278,307,118.31736981525579,10,17,4,7]
[]
["Occupied Owner Housing Value"]
["NAME","Estimate; Total:","Margin of Error; Total:","Estimate; Total: - Less than $10,000","Margin of Error; Total: - Less than $10,000","Estimate; Total: - $10,000 to $14,999","Margin of Error; Total: - $10,000 to $14,999","Estimate; Total: - $15,000 to $19,999","Margin of Error; Total: - $15,000 to $19,999","Estimate; Total: - $20,000 to $24,999","Margin of Error; Total: - $20,000 to $24,999","Estimate; Total: - $25,000 to $29,999","Margin of Error; Total: - $25,000 to $29,999","Estimate; Total: - $30,000 to $34,999","Margin of Error; Total: - $30,000 to $34,999","Estimate; Total: - $35,000 to $39,999","Margin of Error; Total: - $35,000 to $39,999","Estimate; Total: - $40,000 to $49,999","Margin of Error; Total: - $40,000 to $49,999","Estimate; Total: - $50,000 to $59,999","Margin of Error; Total: - $50,000 to $59,999","Estimate; Total: - $60,000 to $69,999","Margin of Error; Total: - $60,000 to $69,999","Estimate; Total: - $70,000 to $79,999","Margin of Error; Total: - $70,000 to $79,999","Estimate; Total: - $80,000 to $89,999","Margin of Error; Total: - $80,000 to $89,999","Estimate; Total: - $90,000 to $99,999","Margin of Error; Total: - $90,000 to $99,999","Estimate; Total: - $100,000 to $124,999","Margin of Error; Total: - $100,000 to $124,999","Estimate; Total: - $125,000 to $149,999","Margin of Error; Total: - $125,000 to $149,999","Estimate; Total: - $150,000 to $174,999","Margin of Error; Total: - $150,000 to $174,999","Estimate; Total: - $175,000 to $199,999","Margin of Error; Total: - $175,000 to $199,999","Estimate; Total: - $200,000 to $249,999","Margin of Error; Total: - $200,000 to $249,999","Estimate; Total: - $250,000 to $299,999","Margin of Error; Total: - $250,000 to $299,999","Estimate; Total: - $300,000 to $399,999","Margin of Error; Total: - $300,000 to $399,999","Estimate; Total: - $400,000 to $499,999","Margin of Error; Total: - $400,000 to $499,999","Estimate; Total: - $500,000 to $749,999","Margin of Error; Total: - $500,000 to $749,999","Estimate; Total: - $750,000 to $999,999","Margin of Error; Total: - $750,000 to $999,999","Estimate; Total: - $1,000,000 to $1,499,999","Margin of Error; Total: - $1,000,000 to $1,499,999","Estimate; Total: - $1,500,000 to $1,999,999","Margin of Error; Total: - $1,500,000 to $1,999,999","Estimate; Total: - $2,000,000 or more","Margin of Error; Total: - $2,000,000 or more","MedianOwnOCCHomeValue","MOE MedianOwnOCCHomeValue","OnwerOccHsU","MOE OnwerOccHsU","OwnerCosts>20PctHHInc","MOE OwnerCosts>20PctHHInc","OwnerCosts20to29.9PctHHInc","MOE OwnerCosts20to29.9PctHHInc","OwnerCosts<30PctHHInc","MOE OwnerCosts<30PctHHInc","OwnerCosts>30PctHHInc","MOE OwnerCosts>30PctHHInc","OwnerCosts30to34.9PctHHInc","MOE OwnerCosts30to34.9PctHHInc","OwnerCosts<35PctHHInc","MOE OwnerCosts<35PctHHInc","OwnerCosts>35PctHHInc","MOE OwnerCosts>35PctHHInc","OwnerCosts>50PctHHInc","MOE OwnerCosts>50PctHHInc","OwnerCostsPctNotcomputed","MOE OwnerCostsPctNotcomputed","OwnerOHUHhInc<20k","MOE OwnerOHUHhInc<20k","OwnerOHUHhInc<20kHCosts<20pct","MOE OwnerOHUHhInc<20kHCosts<20pct","OwnerOHUHhInc<20kHCosts20to29pct","MOE OwnerOHUHhInc<20kHCosts20to29pct","OwnerOHUHhInc>20kHCosts30pct","MOE OwnerOHUHhInc>20kHCosts30pct","OwnerOHUHhInc20kTo34999","MOE OwnerOHUHhInc20kTo34999","OwnerOHUHhInc20kTo34999HCosts<20pct","MOE OwnerOHUHhInc20kTo34999HCosts<20pct","OwnerOHUHhInc20kTo34999HCosts20to29pct","MOE OwnerOHUHhInc20kTo34999HCosts20to29pct","OwnerOHUHhInc20kTo34999HCosts30pct","MOE OwnerOHUHhInc20kTo34999HCosts30pct","OwnerOHUHhInc35kTo49999","MOE OwnerOHUHhInc35kTo49999","OwnerOHUHhInc35kTo49999HCosts<20pct","MOE OwnerOHUHhInc35kTo49999HCosts<20pct","OwnerOHUHhInc35kTo49999HCosts20to29pct","MOE OwnerOHUHhInc35kTo49999HCosts20to29pct","OwnerOHUHhInc35kTo49999HCosts30pct","MOE OwnerOHUHhInc35kTo49999HCosts30pct","OwnerOHUHhInc50kTo74999","MOE OwnerOHUHhInc50kTo74999","OwnerOHUHhInc50kTo74999HCosts<20pct","MOE OwnerOHUHhInc50kTo74999HCosts<20pct","OwnerOHUHhInc50kTo74999HCosts20to29pct","MOE OwnerOHUHhInc50kTo74999HCosts20to29pct","OwnerOHUHhInc50kTo74999HCosts30pct","MOE OwnerOHUHhInc50kTo74999HCosts30pct","OwnerOHUHhInc>75000","MOE OwnerOHUHhInc>75000","OwnerOHUHhInc>75000HCosts<20pct","MOE OwnerOHUHhInc>75000HCosts<20pct","OwnerOHUHhInc>75000HCosts20to29pct","MOE OwnerOHUHhInc>75000HCosts20to29pct","OwnerOHUHhInc>75000HCosts30pct","MOE OwnerOHUHhInc>75000HCosts30pct","ZeroOrNegativeIncome","MOE ZeroOrNegativeIncome"]
[{"$f":"VLOOKUP(DropDownList!$A$19,CntyQuery!$A$20:$CE$30,A$1)","v":"Laconia"},4095,367,0,19,0,19,16,25,39,54,18,29,61,61,0,19,0,19,11,20,61,57,13,16,21,27,24,26,109,70,150,69,380,171,467,183,661,184,488,188,770,205,371,110,194,100,85,45,74,47,23,34,59,46,251700,20517,4095,367,1882,293.43312696421992,1011,281.3574239290657,2893,406.52798181675024,1202,259.96922894835075,403,149.01342221424215,3296,432.97805949031641,799,213.02347288503208,396,166.82026255823962,0,26.870057685088806,228,140,0,19,0,19,228,140,476,167,34,38,114,81,328,139,252,88,38,43,73,55,141,80,655,211,157,66,280,147,218,104,2484,299,1653,242,544,200,287,104,0,19,71,39,446,111,434,140,513,131,453,150,522,146,380,99,423,125,115,55,20,26,81,64,59,44,0,17,0,17,null,null,null,null,null,null,null,null,null,null,null,null,"Laconia",null,"Estimate","Margin of Error",null,null,184000,8470,null,null,null,null,null,null,null,null,null,null,null,null,null,null,null,null,null,null,"Laconia",null,"Estimate","Margin of Error",4127,291,19,22,0,114,0,114,13,24,11,16,0,114,0,114,41,35,51,52,0,114,24,28,49,33,48,31,154,97,231,87,618,134,709,172,960,171,300,95,424,112,189,90,129,62,85,48,72,53,null,null,null,null,null,null,null,null,null,null,null,null,null,null,null,null,"Laconia",null,"Estimate","Margin of Error",null,null,205000,9449]
[]
["Occupied Rental Housing Value"]
["NAME","RntrOccHU","MOE RntrOccHU","RntrOccHUwRent","MOE RntrOccHUwRent","ROHUGRent<100","MOE ROHUGRent<100","ROHUGRent100to149","MOE ROHUGRent100to149","ROHUGRent150to199","MOE ROHUGRent150to199","ROHUGRent200to249","MOE ROHUGRent200to249","ROHUGRent250to299","MOE ROHUGRent250to299","ROHUGRent300to349","MOE ROHUGRent300to349","ROHUGRent350to399","MOE ROHUGRent350to399","ROHUGRent400to449","MOE ROHUGRent400to449","ROHUGRent450to499","MOE ROHUGRent450to499","ROHUGRent500to549","MOE ROHUGRent500to549","ROHUGRent550to599","MOE ROHUGRent550to599","ROHUGRent600to649","MOE ROHUGRent600to649","ROHUGRent650to699","MOE ROHUGRent650to699","ROHUGRent700to749","MOE ROHUGRent700to749","ROHUGRent750to799","MOE ROHUGRent750to799","ROHUGRent800to899","MOE ROHUGRent800to899","ROHUGRent900to999","MOE ROHUGRent900to999","ROHUGRent1000to1249","MOE ROHUGRent1000to1249","ROHUGRent1250to1499","MOE ROHUGRent1250to1499","ROHUGRent1500to1999","MOE ROHUGRent1500to1999","ROHUGRent$2,000 to $2,499","MOE ROHUGRent$2,000 to $2,499","ROHUGRent$2,500 to $2,999","MOE ROHUGRent$2,500 to $2,999","ROHUGRent$3,000 to $3,499","MOE ROHUGRent$3,000 to $3,499","ROHUGRent$3,500 or more","MOE ROHUGRent$3,500 or more","ROHUNoGRent","MOE ROHUNoGRent","MedianGrossRnt","MOE MedianGrossRnt","H73RenterOccHU","MOE H73RenterOccHU","H73ROHUHhInc<10k","MOE H73ROHUHhInc<10k","H73ROHUHhInc<10kRnt<20pct","MOE H73ROHUHhInc<10kRnt<20pct","H73ROHUHhInc<10kRnt20to25pct","MOE H73ROHUHhInc<10kRnt20to25pct","H73ROHUHhInc<10kRnt25to30pct","MOE H73ROHUHhInc<10kRnt25to30pct","H73ROHUHhInc<10kRnt30to35pct","MOE H73ROHUHhInc<10kRnt30to35pct","H73ROHUHhInc<10kRnt35to39.9","MOE H73ROHUHhInc<10kRnt35to39.9","H73ROHUHhInc<10kRnt40to49.9","MOE H73ROHUHhInc<10kRnt40to49.9","H73ROHUHhInc<10kRnt>50pct","MOE H73ROHUHhInc<10kRnt>50pct","H73ROHUHhInc<10kPctNotComput","MOE H73ROHUHhInc<10kPctNotComput","H73ROHUHhInc10to20k","MOE H73ROHUHhInc10to20k","H73ROHUHhInc10to20kRnt<20pct","MOE H73ROHUHhInc10to20kRnt<20pct","H73ROHUHhInc10to20kRnt20to25pct","MOE H73ROHUHhInc10to20kRnt20to25pct","H73ROHUHhInc10to20kRnt25to30pct","MOE H73ROHUHhInc10to20kRnt25to30pct","H73ROHUHhInc10to20kRnt30to35pct","MOE H73ROHUHhInc10to20kRnt30to35pct","H73ROHUHhInc10to20kRnt35to39.9","MOE H73ROHUHhInc10to20kRnt35to39.9","H73ROHUHhInc10to20kRnt40to49.9","MOE H73ROHUHhInc10to20kRnt40to49.9","H73ROHUHhInc10to20kRnt>50pct","MOE H73ROHUHhInc10to20kRnt>50pct","H73ROHUHhInc10to20kRntPctNC","MOE H73ROHUHhInc10to20kRntPctNC","H73ROHUHhInc20to34.9k","MOE H73ROHUHhInc20to34.9k","H73ROHUHhInc20to34.9kRnt<20pct","MOE H73ROHUHhInc20to34.9kRnt<20pct","H73ROHUHhInc20to34.9kRnt20to25pct","MOE H73ROHUHhInc20to34.9kRnt20to25pct","H73ROHUHhInc20to34.9kRnt25to30pct","MOE H73ROHUHhInc20to34.9kRnt25to30pct","H73ROHUHhInc20to34.9kRnt30to35pct","MOE H73ROHUHhInc20to34.9kRnt30to35pct","H73ROHUHhInc20to34.9kRnt35to39.9","MOE H73ROHUHhInc20to34.9kRnt35to39.9","H73ROHUHhInc20to34.9kRnt40to49.9","MOE H73ROHUHhInc20to34.9kRnt40to49.9","H73ROHUHhInc20to34.9kRnt>50pct","MOE H73ROHUHhInc20to34.9kRnt>50pct","H73ROHUHhInc20to34.9kRntPctNC","MOE H73ROHUHhInc20to34.9kRntPctNC","H73ROHUHhInc35to49.9k","MOE H73ROHUHhInc35to49.9k","H73ROHUHhInc35to49.9kRnt<20pct","MOE H73ROHUHhInc35to49.9kRnt<20pct","H73ROHUHhInc35to49.9kRnt20to25pct","MOE H73ROHUHhInc35to49.9kRnt20to25pct","H73ROHUHhInc35to49.9kRnt25to30pct","MOE H73ROHUHhInc35to49.9kRnt25to30pct","H73ROHUHhInc35to49.9kRnt30to35pct","MOE H73ROHUHhInc35to49.9kRnt30to35pct","H73ROHUHhInc35to49.9kRnt35to39.9","MOE H73ROHUHhInc35to49.9kRnt35to39.9","H73ROHUHhInc35to49.9kRnt40to49.9","MOE H73ROHUHhInc35to49.9kRnt40to49.9","H73ROHUHhInc35to49.9kRnt>50pct","MOE H73ROHUHhInc35to49.9kRnt>50pct","H73ROHUHhInc35to49.9kRntPctNC","MOE H73ROHUHhInc35to49.9kRntPctNC","H73ROHUHhInc50to74.9k","MOE H73ROHUHhInc50to74.9k","H73ROHUHhInc50to74.9kRnt<20pct","MOE H73ROHUHhInc50to74.9kRnt<20pct","H73ROHUHhInc50to74.9kRnt20to25pct","MOE H73ROHUHhInc50to74.9kRnt20to25pct","H73ROHUHhInc50to74.9kRnt25to30pct","MOE H73ROHUHhInc50to74.9kRnt25to30pct","H73ROHUHhInc50to74.9kRnt30to35pct","MOE H73ROHUHhInc50to74.9kRnt30to35pct","H73ROHUHhInc50to74.9kRnt35to39.9","MOE H73ROHUHhInc50to74.9kRnt35to39.9","H73ROHUHhInc50to74.9kRnt40to49.9","MOE H73ROHUHhInc50to74.9kRnt40to49.9","H73ROHUHhInc50to74.9kRnt>50pct","MOE H73ROHUHhInc50to74.9kRnt>50pct","H73ROHUHhInc50to74.9kRntPctNC","MOE H73ROHUHhInc50to74.9kRntPctNC","H73ROHUHhInc75to99.9k","MOE H73ROHUHhInc75to99.9k","H73ROHUHhInc75to99.9kRnt<20pct","MOE H73ROHUHhInc75to99.9kRnt<20pct","H73ROHUHhInc75to99.9kRnt20to25pct","MOE H73ROHUHhInc75to99.9kRnt20to25pct","H73ROHUHhInc75to99.9kRnt25to30pct","MOE H73ROHUHhInc75to99.9kRnt25to30pct","H73ROHUHhInc75to99.9kRnt30to35pct","MOE H73ROHUHhInc75to99.9kRnt30to35pct","H73ROHUHhInc75to99.9kRnt35to39.9","MOE H73ROHUHhInc75to99.9kRnt35to39.9","H73ROHUHhInc75to99.9kRnt40to49.9","MOE H73ROHUHhInc75to99.9kRnt40to49.9","H73ROHUHhInc75to99.9kRnt>50pct","MOE H73ROHUHhInc75to99.9kRnt>50pct","H73ROHUHhInc75to99.9kRntPctNC","MOE H73ROHUHhInc75to99.9kRntPctNC","H73ROHUHhInc>100k","MOE H73ROHUHhInc>100k","H73ROHUHhInc>100kRnt<20pct","MOE H73ROHUHhInc>100kRnt<20pct","H73ROHUHhInc>100kRnt20to25pct","MOE H73ROHUHhInc>100kRnt20to25pct","H73ROHUHhInc>100kRnt25to30pct","MOE H73ROHUHhInc>100kRnt25to30pct","H73ROHUHhInc>100kRnt30to35pct","MOE H73ROHUHhInc>100kRnt30to35pct","H73ROHUHhInc>100kRnt35to39.9","MOE H73ROHUHhInc>100kRnt35to39.9","H73ROHUHhInc>100kRnt40to49.9","MOE H73ROHUHhInc>100kRnt40to49.9","H73ROHUHhInc>100kRnt>50pct","MOE H73ROHUHhInc>100kRnt>50pct","H73ROHUHhInc>100kRntPctNC","MOE H73ROHUHhInc>100kRntPctNC"]
[{"$f":"VLOOKUP(DropDownList!$A$19,CntyQuery!$A$20:$CE$30,A$1)","v":"Laconia"},2870,417,2788,412,0,19,13,20,0,19,28,48,8,13,6,11,33,47,21,35,21,27,21,34,14,19,1,2,0,19,19,25,170,129,314,188,285,175,676,178,375,186,703,267,51,45,29,38,0,19,0,19,82,56,1163,99,2870,417,188,143,0,19,0,19,0,19,0,19,0,19,0,19,175,134,13,20,451,185,0,19,34,51,35,47,0,19,0,19,21,35,329,147,32,29,513,185,21,34,17,26,0,19,0,19,52,58,224,113,191,111,8,12,470,null,null,null,null,null,null,null,null,null,null,null,"Laconia",null,"Estimate","Margin of Error",834,41]
[]
[]
[null,43.9,45,43.2,3.2,5,6.3]
[]
[]
["Occupied Rental Housing Cost Burdern All Incomes"]
["NAME","RntrOccHU","MOE RntrOccHU","RntrOccHUwRent","MOE RntrOccHUwRent","ROHUGRent<100","MOE ROHUGRent<100","ROHUGRent100to149","MOE ROHUGRent100to149","ROHUGRent150to199","MOE ROHUGRent150to199","ROHUGRent200to249","MOE ROHUGRent200to249","ROHUGRent250to299","MOE ROHUGRent250to299","ROHUGRent300to349","MOE ROHUGRent300to349","ROHUGRent350to399","MOE ROHUGRent350to399","ROHUGRent400to449","MOE ROHUGRent400to449","ROHUGRent450to499","MOE ROHUGRent450to499","ROHUGRent500to549","MOE ROHUGRent500to549","ROHUGRent550to599","MOE ROHUGRent550to599","ROHUGRent600to649","MOE ROHUGRent600to649","ROHUGRent650to699","MOE ROHUGRent650to699","ROHUGRent700to749","MOE ROHUGRent700to749","ROHUGRent750to799","MOE ROHUGRent750to799","ROHUGRent800to899","MOE ROHUGRent800to899","ROHUGRent900to999","MOE ROHUGRent900to999","ROHUGRent1000to1249","MOE ROHUGRent1000to1249","ROHUGRent1250to1499","MOE ROHUGRent1250to1499","ROHUGRent1500to1999","MOE ROHUGRent1500to1999","ROHUGRent2000-2499","MOE ROHUGRent2000-2499","ROHUGRent2500-2999","MOE ROHUGRent2500-2999","ROHUGRent3000-3499","MOE ROHUGRent3000-3499","ROHUGRent3500<","MOE ROHUGRent3500<","ROHUNoGRent","MOE ROHUNoGRent","MedianGrossRnt","MOE MedianGrossRnt","H73RenterOccHU","MOE H73RenterOccHU","H73ROHUHhInc<10k","MOE H73ROHUHhInc<10k","H73ROHUHhInc<10kRnt<20pct","MOE H73ROHUHhInc<10kRnt<20pct","H73ROHUHhInc<10kRnt20to25pct","MOE H73ROHUHhInc<10kRnt20to25pct","H73ROHUHhInc<10kRnt25to30pct","MOE H73ROHUHhInc<10kRnt25to30pct","H73ROHUHhInc<10kRnt30to35pct","MOE H73ROHUHhInc<10kRnt30to35pct","H73ROHUHhInc<10kRnt35to39.9","MOE H73ROHUHhInc<10kRnt35to39.9","H73ROHUHhInc<10kRnt40to49.9","MOE H73ROHUHhInc<10kRnt40to49.9","H73ROHUHhInc<10kRnt>50pct","MOE H73ROHUHhInc<10kRnt>50pct","H73ROHUHhInc<10kPctNotComput","MOE H73ROHUHhInc<10kPctNotComput","H73ROHUHhInc10to20k","MOE H73ROHUHhInc10to20k","H73ROHUHhInc10to20kRnt<20pct","MOE H73ROHUHhInc10to20kRnt<20pct","H73ROHUHhInc10to20kRnt20to25pct","MOE H73ROHUHhInc10to20kRnt20to25pct","H73ROHUHhInc10to20kRnt25to30pct","MOE H73ROHUHhInc10to20kRnt25to30pct","H73ROHUHhInc10to20kRnt30to35pct","MOE H73ROHUHhInc10to20kRnt30to35pct","H73ROHUHhInc10to20kRnt35to39.9","MOE H73ROHUHhInc10to20kRnt35to39.9","H73ROHUHhInc10to20kRnt40to49.9","MOE H73ROHUHhInc10to20kRnt40to49.9","H73ROHUHhInc10to20kRnt>50pct","MOE H73ROHUHhInc10to20kRnt>50pct","H73ROHUHhInc10to20kRntPctNC","MOE H73ROHUHhInc10to20kRntPctNC","H73ROHUHhInc20to34.9k","MOE H73ROHUHhInc20to34.9k","H73ROHUHhInc20to34.9kRnt<20pct","MOE H73ROHUHhInc20to34.9kRnt<20pct","H73ROHUHhInc20to34.9kRnt20to25pct","MOE H73ROHUHhInc20to34.9kRnt20to25pct","H73ROHUHhInc20to34.9kRnt25to30pct","MOE H73ROHUHhInc20to34.9kRnt25to30pct","H73ROHUHhInc20to34.9kRnt30to35pct","MOE H73ROHUHhInc20to34.9kRnt30to35pct","H73ROHUHhInc20to34.9kRnt35to39.9","MOE H73ROHUHhInc20to34.9kRnt35to39.9","H73ROHUHhInc20to34.9kRnt40to49.9","MOE H73ROHUHhInc20to34.9kRnt40to49.9","H73ROHUHhInc20to34.9kRnt>50pct","MOE H73ROHUHhInc20to34.9kRnt>50pct","H73ROHUHhInc20to34.9kRntPctNC","MOE H73ROHUHhInc20to34.9kRntPctNC","H73ROHUHhInc35to49.9k","MOE H73ROHUHhInc35to49.9k","H73ROHUHhInc35to49.9kRnt<20pct","MOE H73ROHUHhInc35to49.9kRnt<20pct","H73ROHUHhInc35to49.9kRnt20to25pct","MOE H73ROHUHhInc35to49.9kRnt20to25pct","H73ROHUHhInc35to49.9kRnt25to30pct","MOE H73ROHUHhInc35to49.9kRnt25to30pct","H73ROHUHhInc35to49.9kRnt30to35pct","MOE H73ROHUHhInc35to49.9kRnt30to35pct","H73ROHUHhInc35to49.9kRnt35to39.9","MOE H73ROHUHhInc35to49.9kRnt35to39.9","H73ROHUHhInc35to49.9kRnt40to49.9","MOE H73ROHUHhInc35to49.9kRnt40to49.9","H73ROHUHhInc35to49.9kRnt>50pct","MOE H73ROHUHhInc35to49.9kRnt>50pct","H73ROHUHhInc35to49.9kRntPctNC","MOE H73ROHUHhInc35to49.9kRntPctNC","H73ROHUHhInc50to74.9k","MOE H73ROHUHhInc50to74.9k","H73ROHUHhInc50to74.9kRnt<20pct","MOE H73ROHUHhInc50to74.9kRnt<20pct","H73ROHUHhInc50to74.9kRnt20to25pct","MOE H73ROHUHhInc50to74.9kRnt20to25pct","H73ROHUHhInc50to74.9kRnt25to30pct","MOE H73ROHUHhInc50to74.9kRnt25to30pct","H73ROHUHhInc50to74.9kRnt30to35pct","MOE H73ROHUHhInc50to74.9kRnt30to35pct","H73ROHUHhInc50to74.9kRnt35to39.9","MOE H73ROHUHhInc50to74.9kRnt35to39.9","H73ROHUHhInc50to74.9kRnt40to49.9","MOE H73ROHUHhInc50to74.9kRnt40to49.9","H73ROHUHhInc50to74.9kRnt>50pct","MOE H73ROHUHhInc50to74.9kRnt>50pct","H73ROHUHhInc50to74.9kRntPctNC","MOE H73ROHUHhInc50to74.9kRntPctNC","H73ROHUHhInc75to99.9k","MOE H73ROHUHhInc75to99.9k","H73ROHUHhInc75to99.9kRnt<20pct","MOE H73ROHUHhInc75to99.9kRnt<20pct","H73ROHUHhInc75to99.9kRnt20to25pct","MOE H73ROHUHhInc75to99.9kRnt20to25pct","H73ROHUHhInc75to99.9kRnt25to30pct","MOE H73ROHUHhInc75to99.9kRnt25to30pct","H73ROHUHhInc75to99.9kRnt30to35pct","MOE H73ROHUHhInc75to99.9kRnt30to35pct","H73ROHUHhInc75to99.9kRnt35to39.9","MOE H73ROHUHhInc75to99.9kRnt35to39.9","H73ROHUHhInc75to99.9kRnt40to49.9","MOE H73ROHUHhInc75to99.9kRnt40to49.9","H73ROHUHhInc75to99.9kRnt>50pct","MOE H73ROHUHhInc75to99.9kRnt>50pct","H73ROHUHhInc75to99.9kRntPctNC","MOE H73ROHUHhInc75to99.9kRntPctNC","H73ROHUHhInc>100k","MOE H73ROHUHhInc>100k","H73ROHUHhInc>100kRnt<20pct","MOE H73ROHUHhInc>100kRnt<20pct","H73ROHUHhInc>100kRnt20to25pct","MOE H73ROHUHhInc>100kRnt20to25pct","H73ROHUHhInc>100kRnt25to30pct","MOE H73ROHUHhInc>100kRnt25to30pct","H73ROHUHhInc>100kRnt30to35pct","MOE H73ROHUHhInc>100kRnt30to35pct","H73ROHUHhInc>100kRnt35to39.9","MOE H73ROHUHhInc>100kRnt35to39.9","H73ROHUHhInc>100kRnt40to49.9","MOE H73ROHUHhInc>100kRnt40to49.9","H73ROHUHhInc>100kRnt>50pct","MOE H73ROHUHhInc>100kRnt>50pct","H73ROHUHhInc>100kRntPctNC","MOE H73ROHUHhInc>100kRntPctNC"]
[{"$f":"VLOOKUP(DropDownList!$A$19,CntyQuery!$A$20:$CE$30,A$1)","v":"Laconia"},2870,417,632,234.02777612924496,407,169,308,166,1347,332.9954954650288,1428,326.44141894067303,188,115,1535,352.29391138650124,1240,305.51432044995863,724,205,95,57,null,null,null,null,null,null,null,null,null,null,null,null,null,null,null,null,null,null,null,null,null,null,null,null,null,null,null,null,null,null,null,null,null,null,null,null,null,null,null,null,null,null,null,null,null,null,null,null,null,null,null,null,null,null,null,null,null,null,null,null,null,null,null,null,null,null,null,null,null,null,null,null,null,null,null,null,null,null,null,null,null,null,null,null,null,null,null,null,null,null,null,null,null,null,null,null,null,null,null,null,null,null,null,null,null,null,null,null,null,null,null,null,"Barnstead",null,"Estimate","Margin of Error",239,88,107,83.408632646747066,3,6,48,55,158,100.08995953640904,63,50.318982501636498,37,41,195,108.16191566350885,26,29.171904291629644,11,17,18,19,null,null,null,null,null,null,null,null,null,null,null,null,null,null,null,null,"Barnstead",null,"Estimate","Margin of Error",87,68,19,162.71447384913242,0,114,19,27,38,200.50187031546614,0,228,0,114,38,230.64474847695971,0,197.45379206285202,0,114,49,59]
[]
["Income By Household Type and Tenure"]
["NAME","RntrOccHU","MOE RntrOccHU","RntrOccHUwRent","MOE RntrOccHUwRent","ROHUGRent<100","MOE ROHUGRent<100","ROHUGRent100to149","MOE ROHUGRent100to149","ROHUGRent150to199","MOE ROHUGRent150to199","ROHUGRent200to249","MOE ROHUGRent200to249","ROHUGRent250to299","MOE ROHUGRent250to299","ROHUGRent300to349","MOE ROHUGRent300to349","ROHUGRent350to399","MOE ROHUGRent350to399","ROHUGRent400to449","MOE ROHUGRent400to449","ROHUGRent450to499","MOE ROHUGRent450to499","ROHUGRent500to549","MOE ROHUGRent500to549","ROHUGRent550to599","MOE ROHUGRent550to599","ROHUGRent600to649","MOE ROHUGRent600to649","ROHUGRent650to699","MOE ROHUGRent650to699","ROHUGRent700to749","MOE ROHUGRent700to749","ROHUGRent750to799","MOE ROHUGRent750to799","ROHUGRent800to899","MOE ROHUGRent800to899","ROHUGRent900to999","MOE ROHUGRent900to999","ROHUGRent1000to1249","MOE ROHUGRent1000to1249","ROHUGRent1250to1499","MOE ROHUGRent1250to1499","ROHUGRent1500to1999","MOE ROHUGRent1500to1999","ROHUGRent2000-2499","MOE ROHUGRent2000-2499","ROHUGRent2500-2999","MOE ROHUGRent2500-2999","ROHUGRent3000-3499","MOE ROHUGRent3000-3499","ROHUGRent3500<","MOE ROHUGRent3500<","ROHUNoGRent","MOE ROHUNoGRent","MedianGrossRnt","MOE MedianGrossRnt","H73RenterOccHU","MOE H73RenterOccHU","H73ROHUHhInc<10k","MOE H73ROHUHhInc<10k","H73ROHUHhInc<10kRnt<20pct","MOE H73ROHUHhInc<10kRnt<20pct","H73ROHUHhInc<10kRnt20to25pct","MOE H73ROHUHhInc<10kRnt20to25pct","H73ROHUHhInc<10kRnt25to30pct","MOE H73ROHUHhInc<10kRnt25to30pct","H73ROHUHhInc<10kRnt30to35pct","MOE H73ROHUHhInc<10kRnt30to35pct","H73ROHUHhInc<10kRnt35to39.9","MOE H73ROHUHhInc<10kRnt35to39.9","H73ROHUHhInc<10kRnt40to49.9","MOE H73ROHUHhInc<10kRnt40to49.9","H73ROHUHhInc<10kRnt>50pct","MOE H73ROHUHhInc<10kRnt>50pct","H73ROHUHhInc<10kPctNotComput","MOE H73ROHUHhInc<10kPctNotComput","H73ROHUHhInc10to20k","MOE H73ROHUHhInc10to20k","H73ROHUHhInc10to20kRnt<20pct","MOE H73ROHUHhInc10to20kRnt<20pct","H73ROHUHhInc10to20kRnt20to25pct","MOE H73ROHUHhInc10to20kRnt20to25pct","H73ROHUHhInc10to20kRnt25to30pct","MOE H73ROHUHhInc10to20kRnt25to30pct","H73ROHUHhInc10to20kRnt30to35pct","MOE H73ROHUHhInc10to20kRnt30to35pct","H73ROHUHhInc10to20kRnt35to39.9","MOE H73ROHUHhInc10to20kRnt35to39.9","H73ROHUHhInc10to20kRnt40to49.9","MOE H73ROHUHhInc10to20kRnt40to49.9","H73ROHUHhInc10to20kRnt>50pct","MOE H73ROHUHhInc10to20kRnt>50pct","H73ROHUHhInc10to20kRntPctNC","MOE H73ROHUHhInc10to20kRntPctNC","H73ROHUHhInc20to34.9k","MOE H73ROHUHhInc20to34.9k","H73ROHUHhInc20to34.9kRnt<20pct","MOE H73ROHUHhInc20to34.9kRnt<20pct","H73ROHUHhInc20to34.9kRnt20to25pct","MOE H73ROHUHhInc20to34.9kRnt20to25pct","H73ROHUHhInc20to34.9kRnt25to30pct","MOE H73ROHUHhInc20to34.9kRnt25to30pct","H73ROHUHhInc20to34.9kRnt30to35pct","MOE H73ROHUHhInc20to34.9kRnt30to35pct","H73ROHUHhInc20to34.9kRnt35to39.9","MOE H73ROHUHhInc20to34.9kRnt35to39.9","H73ROHUHhInc20to34.9kRnt40to49.9","MOE H73ROHUHhInc20to34.9kRnt40to49.9","H73ROHUHhInc20to34.9kRnt>50pct","MOE H73ROHUHhInc20to34.9kRnt>50pct","H73ROHUHhInc20to34.9kRntPctNC","MOE H73ROHUHhInc20to34.9kRntPctNC","H73ROHUHhInc35to49.9k","MOE H73ROHUHhInc35to49.9k","H73ROHUHhInc35to49.9kRnt<20pct","MOE H73ROHUHhInc35to49.9kRnt<20pct","H73ROHUHhInc35to49.9kRnt20to25pct","MOE H73ROHUHhInc35to49.9kRnt20to25pct","H73ROHUHhInc35to49.9kRnt25to30pct","MOE H73ROHUHhInc35to49.9kRnt25to30pct","H73ROHUHhInc35to49.9kRnt30to35pct","MOE H73ROHUHhInc35to49.9kRnt30to35pct","H73ROHUHhInc35to49.9kRnt35to39.9","MOE H73ROHUHhInc35to49.9kRnt35to39.9","H73ROHUHhInc35to49.9kRnt40to49.9","MOE H73ROHUHhInc35to49.9kRnt40to49.9","H73ROHUHhInc35to49.9kRnt>50pct","MOE H73ROHUHhInc35to49.9kRnt>50pct","H73ROHUHhInc35to49.9kRntPctNC","MOE H73ROHUHhInc35to49.9kRntPctNC","H73ROHUHhInc50to74.9k","MOE H73ROHUHhInc50to74.9k","H73ROHUHhInc50to74.9kRnt<20pct","MOE H73ROHUHhInc50to74.9kRnt<20pct","H73ROHUHhInc50to74.9kRnt20to25pct","MOE H73ROHUHhInc50to74.9kRnt20to25pct","H73ROHUHhInc50to74.9kRnt25to30pct","MOE H73ROHUHhInc50to74.9kRnt25to30pct","H73ROHUHhInc50to74.9kRnt30to35pct","MOE H73ROHUHhInc50to74.9kRnt30to35pct","H73ROHUHhInc50to74.9kRnt35to39.9","MOE H73ROHUHhInc50to74.9kRnt35to39.9","H73ROHUHhInc50to74.9kRnt40to49.9","MOE H73ROHUHhInc50to74.9kRnt40to49.9","H73ROHUHhInc50to74.9kRnt>50pct","MOE H73ROHUHhInc50to74.9kRnt>50pct","H73ROHUHhInc50to74.9kRntPctNC","MOE H73ROHUHhInc50to74.9kRntPctNC","H73ROHUHhInc75to99.9k","MOE H73ROHUHhInc75to99.9k","H73ROHUHhInc75to99.9kRnt<20pct","MOE H73ROHUHhInc75to99.9kRnt<20pct","H73ROHUHhInc75to99.9kRnt20to25pct","MOE H73ROHUHhInc75to99.9kRnt20to25pct","H73ROHUHhInc75to99.9kRnt25to30pct","MOE H73ROHUHhInc75to99.9kRnt25to30pct","H73ROHUHhInc75to99.9kRnt30to35pct","MOE H73ROHUHhInc75to99.9kRnt30to35pct","H73ROHUHhInc75to99.9kRnt35to39.9","MOE H73ROHUHhInc75to99.9kRnt35to39.9","H73ROHUHhInc75to99.9kRnt40to49.9","MOE H73ROHUHhInc75to99.9kRnt40to49.9","H73ROHUHhInc75to99.9kRnt>50pct","MOE H73ROHUHhInc75to99.9kRnt>50pct","H73ROHUHhInc75to99.9kRntPctNC","MOE H73ROHUHhInc75to99.9kRntPctNC","H73ROHUHhInc>100k","MOE H73ROHUHhInc>100k","H73ROHUHhInc>100kRnt<20pct","MOE H73ROHUHhInc>100kRnt<20pct","H73ROHUHhInc>100kRnt20to25pct","MOE H73ROHUHhInc>100kRnt20to25pct","H73ROHUHhInc>100kRnt25to30pct","MOE H73ROHUHhInc>100kRnt25to30pct","H73ROHUHhInc>100kRnt30to35pct","MOE H73ROHUHhInc>100kRnt30to35pct","H73ROHUHhInc>100kRnt35to39.9","MOE H73ROHUHhInc>100kRnt35to39.9","H73ROHUHhInc>100kRnt40to49.9","MOE H73ROHUHhInc>100kRnt40to49.9","H73ROHUHhInc>100kRnt>50pct","MOE H73ROHUHhInc>100kRnt>50pct","H73ROHUHhInc>100kRntPctNC","MOE H73ROHUHhInc>100kRntPctNC"]
[{"$f":"VLOOKUP(DropDownList!$A$19,CntyQuery!$A$20:$CE$30,A$1)","v":"Laconia"},4057,295,5,8,138,114,92,89,35,35,175,89,102,87,196,157,68,73,126,85,342,147,447,197,806,190,415,117,432,136,340,124,338,118,88464,4774,2908,393,267,171,205,151,185,103,192,79,268,132,261,143,103,48,202,175,93,73,251,145,236,120,197,96,209,121,92,76,80,65,67,57,38500,10087,30635,5289]
[]
[]
[]
["2010 Census"]
[]
["TownName","LOGRECNO","COUNTY","TotalPop","TotalPop1Race","TotalPopWhite","TotalPopAfricanAmerican","TotalPopAmericanIndAlaska","TotalPopAsian","TotalPopNativeHawaiianPIsland","TotalPopSomeOtherRace","TotalPopTwoOrMoreRaces","TotalPopHispanicLatino","TotalNonHispanicLatino","TotPopUnder15yrs","TotPop15to24yrs","TotPop25to34yrs","TotPop35to44yrs","TotPop45to54yrs","TotPop55to64yrs","TotPop65to74yrs","TotPopOver74yrs","MedianAge","MedianAgeMale","MedianAgeFemale","TotalHH","TotalPopInHouseholds","TotalPopInFamilyHH","TotalPopInNonFamilyHH","AvgHHSize","TotalFamilyHH","TotalFamilyHHSpouse","TotalSingleParentHH","TotalNonFamilyHH","AvgFamilyHHSize","AvgNonFamilyHHSize","AverageHHSizeOwnerOccupied","AverageHHSizeRentalOccupied","TotalHousingUnits","TotalOccupiedHU","TotalOwnerOccupiedHUs","TotalRentalOccupiedHU","TotalVacantHU","VacantHUForRent","VacantHURentNotOccupied","VacantHUForSale","VacantHUsSoldNotOccupied","VacantHUSeasonalRecreational","VacantHUsAllOtherVacants","HomeOwnerVacancyRate","HomeRentalVacancyRate","Total HH","Total Single Family HU","Total Multi-Family HU","Total Manufacture HU"]
[{"$f":"VLOOKUP(DropDownList!$A$19,CntyQryCensus!$A$184:$BC$194,A$1)","v":"Laconia"},{"$f":"VLOOKUP(DropDownList!$A$19,CntyQryCensus!$A$184:$BC$194,B$1)","v":"0000286"},{"$f":"VLOOKUP(DropDownList!$A$19,CntyQryCensus!$A$184:$BC$194,C$1)","v":"001"},{"$f":"VLOOKUP(DropDownList!$A$19,CntyQryCensus!$A$184:$BC$194,D$1)","v":15951},{"$f":"VLOOKUP(DropDownList!$A$19,CntyQryCensus!$A$184:$BC$194,E$1)","v":15711},{"$f":"VLOOKUP(DropDownList!$A$19,CntyQryCensus!$A$184:$BC$194,F$1)","v":15073},{"$f":"VLOOKUP(DropDownList!$A$19,CntyQryCensus!$A$184:$BC$194,G$1)","v":150},{"$f":"VLOOKUP(DropDownList!$A$19,CntyQryCensus!$A$184:$BC$194,H$1)","v":54},{"$f":"VLOOKUP(DropDownList!$A$19,CntyQryCensus!$A$184:$BC$194,I$1)","v":391},{"$f":"VLOOKUP(DropDownList!$A$19,CntyQryCensus!$A$184:$BC$194,J$1)","v":1},{"$f":"VLOOKUP(DropDownList!$A$19,CntyQryCensus!$A$184:$BC$194,K$1)","v":42},{"$f":"VLOOKUP(DropDownList!$A$19,CntyQryCensus!$A$184:$BC$194,L$1)","v":240},{"$f":"VLOOKUP(DropDownList!$A$19,CntyQryCensus!$A$184:$BC$194,M$1)","v":250},{"$f":"VLOOKUP(DropDownList!$A$19,CntyQryCensus!$A$184:$BC$194,N$1)","v":15701},{"$f":"VLOOKUP(DropDownList!$A$19,CntyQryCensus!$A$184:$BC$194,O$1)","v":2624},{"$f":"VLOOKUP(DropDownList!$A$19,CntyQryCensus!$A$184:$BC$194,P$1)","v":1901},{"$f":"VLOOKUP(DropDownList!$A$19,CntyQryCensus!$A$184:$BC$194,Q$1)","v":1887},{"$f":"VLOOKUP(DropDownList!$A$19,CntyQryCensus!$A$184:$BC$194,R$1)","v":1987},{"$f":"VLOOKUP(DropDownList!$A$19,CntyQryCensus!$A$184:$BC$194,S$1)","v":2419},{"$f":"VLOOKUP(DropDownList!$A$19,CntyQryCensus!$A$184:$BC$194,T$1)","v":2252},{"$f":"VLOOKUP(DropDownList!$A$19,CntyQryCensus!$A$184:$BC$194,U$1)","v":1342},{"$f":"VLOOKUP(DropDownList!$A$19,CntyQryCensus!$A$184:$BC$194,V$1)","v":1539},{"$f":"VLOOKUP(DropDownList!$A$19,CntyQryCensus!$A$184:$BC$194,W$1)","v":43},{"$f":"VLOOKUP(DropDownList!$A$19,CntyQryCensus!$A$184:$BC$194,X$1)","v":41.4},{"$f":"VLOOKUP(DropDownList!$A$19,CntyQryCensus!$A$184:$BC$194,Y$1)","v":44.6},{"$f":"VLOOKUP(DropDownList!$A$19,CntyQryCensus!$A$184:$BC$194,Z$1)","v":6838},{"$f":"VLOOKUP(DropDownList!$A$19,CntyQryCensus!$A$184:$BC$194,AA$1)","v":15506},{"$f":"VLOOKUP(DropDownList!$A$19,CntyQryCensus!$A$184:$BC$194,AB$1)","v":7445},{"$f":"VLOOKUP(DropDownList!$A$19,CntyQryCensus!$A$184:$BC$194,AC$1)","v":8061},{"$f":"VLOOKUP(DropDownList!$A$19,CntyQryCensus!$A$184:$BC$194,AD$1)","v":2.27},{"$f":"VLOOKUP(DropDownList!$A$19,CntyQryCensus!$A$184:$BC$194,AE$1)","v":4065},{"$f":"VLOOKUP(DropDownList!$A$19,CntyQryCensus!$A$184:$BC$194,AF$1)","v":2875},{"$f":"VLOOKUP(DropDownList!$A$19,CntyQryCensus!$A$184:$BC$194,AG$1)","v":1190},{"$f":"VLOOKUP(DropDownList!$A$19,CntyQryCensus!$A$184:$BC$194,AH$1)","v":2773},{"$f":"VLOOKUP(DropDownList!$A$19,CntyQryCensus!$A$184:$BC$194,AI$1)","v":2.83},{"$f":"VLOOKUP(DropDownList!$A$19,CntyQryCensus!$A$184:$BC$194,AJ$1)","v":2.9069599711503789},{"$f":"VLOOKUP(DropDownList!$A$19,CntyQryCensus!$A$184:$BC$194,AK$1)","v":2.36},{"$f":"VLOOKUP(DropDownList!$A$19,CntyQryCensus!$A$184:$BC$194,AL$1)","v":2.15},{"$f":"VLOOKUP(DropDownList!$A$19,CntyQryCensus!$A$184:$BC$194,AM$1)","v":9879},{"$f":"VLOOKUP(DropDownList!$A$19,CntyQryCensus!$A$184:$BC$194,AN$1)","v":6838},{"$f":"VLOOKUP(DropDownList!$A$19,CntyQryCensus!$A$184:$BC$194,AO$1)","v":3860},{"$f":"VLOOKUP(DropDownList!$A$19,CntyQryCensus!$A$184:$BC$194,AP$1)","v":2978},{"$f":"VLOOKUP(DropDownList!$A$19,CntyQryCensus!$A$184:$BC$194,AQ$1)","v":3041},{"$f":"VLOOKUP(DropDownList!$A$19,CntyQryCensus!$A$184:$BC$194,AR$1)","v":320},{"$f":"VLOOKUP(DropDownList!$A$19,CntyQryCensus!$A$184:$BC$194,AS$1)","v":17},{"$f":"VLOOKUP(DropDownList!$A$19,CntyQryCensus!$A$184:$BC$194,AT$1)","v":212},{"$f":"VLOOKUP(DropDownList!$A$19,CntyQryCensus!$A$184:$BC$194,AU$1)","v":28},{"$f":"VLOOKUP(DropDownList!$A$19,CntyQryCensus!$A$184:$BC$194,AV$1)","v":2293},{"$f":"VLOOKUP(DropDownList!$A$19,CntyQryCensus!$A$184:$BC$194,AW$1)","v":171},{"$f":"VLOOKUP(DropDownList!$A$19,CntyQryCensus!$A$184:$BC$194,AX$1)","v":5.2},{"$f":"VLOOKUP(DropDownList!$A$19,CntyQryCensus!$A$184:$BC$194,AY$1)","v":9.6999999999999993},{"$f":"VLOOKUP(DropDownList!$A$19,CntyQryCensus!$A$184:$BC$194,AZ$1)","v":9879},{"$f":"VLOOKUP(DropDownList!$A$19,CntyQryCensus!$A$184:$BC$194,BA$1)","v":4979},{"$f":"VLOOKUP(DropDownList!$A$19,CntyQryCensus!$A$184:$BC$194,BB$1)","v":4425},{"$f":"VLOOKUP(DropDownList!$A$19,CntyQryCensus!$A$184:$BC$194,BC$1)","v":475}]

{"sheet":"OwnerHousingCost","index":17,"n_rows":112,"n_cols":17,"rows_kept":112,"cut":false,"hidden":true,"merged":[]}
[]
[null,null,"HIDE THIS COLUMN",{"$f":"CntyDataLink!$A$108","v":"Laconia"}]
[null,null,null,"OWNER HOUSING COST CHARACTERISTICS"]
[]
[]
[]
[]
[]
[]
[]
[]
[]
[]
[]
[]
[]
[]
[]
[]
[]
[]
[]
[]
[]
[]
[]
[]
[]
[]
[]
[]
[]
[]
[]
[]
[]
[null,null,null,"Income in 2022 Inflation Adjusted Dollars"]
[null,null,null,"Source: 2018-2022 American Community Survey Table B25106"]
[null,null,null,"Data from the American Community Survey are estimates."]
[]
[]
[null,null,null,{"$f":"CntyDataLink!$A$108","v":"Laconia"}]
[]
[null,null,null,{"$f":"D3","v":"OWNER HOUSING COST CHARACTERISTICS"}]
[]
[null,null,null,"Owner Households by "]
[null,null,null,"Selected Monthly Housing Costs as a Percent of 2022 Household Income",null,null,null,"By Household Income"]
[null,null,"H73RenterOccHU",null,"Specified Owner Occ Housing Units","Margin of Error Owner Occ Housing Units",null,"Less than $20,000",{"$f":"\"Margin of Error \"&H48","v":"Margin of Error Less than $20,000"},"$20,000 to $34,999",{"$f":"\"Margin of Error \"&J48","v":"Margin of Error $20,000 to $34,999"},"$35,000 to $49,999",{"$f":"\"Margin of Error \"&L48","v":"Margin of Error $35,000 to $49,999"},"$50,000 to $74,999",{"$f":"\"Margin of Error \"&N48","v":"Margin of Error $50,000 to $74,999"},"$75,000 or More",{"$f":"\"Margin of Error \"&P48","v":"Margin of Error $75,000 or More"}]
[]
[null,null,null,"Total Households",{"$f":"CntyDataLink!$BF144","v":4095},{"$f":"CntyDataLink!$BG$144","v":367},null,{"$f":"CntyDataLink!$BZ$144","v":228},{"$f":"CntyDataLink!$CA$144","v":140},{"$f":"CntyDataLink!$CH$144","v":476},{"$f":"CntyDataLink!$CI$144","v":167},{"$f":"CntyDataLink!$CP$144","v":252},{"$f":"CntyDataLink!$CQ$144","v":88},{"$f":"CntyDataLink!$CX$144","v":655},{"$f":"CntyDataLink!$CY$144","v":211},{"$f":"CntyDataLink!$DF$144","v":2484},{"$f":"CntyDataLink!$DG$144","v":299}]
[null,null,null,"Monthly Costs Less than 20% of HH Income",{"$f":"CntyDataLink!$BH$144","v":1882},{"$f":"CntyDataLink!$BI$144","v":293.43312696421992},null,{"$f":"CntyDataLink!$CB$144","v":0},{"$f":"CntyDataLink!$CC$144","v":19},{"$f":"CntyDataLink!CJ$144","v":34},{"$f":"CntyDataLink!CK$144","v":38},{"$f":"CntyDataLink!CR$144","v":38},{"$f":"CntyDataLink!CS$144","v":43},{"$f":"CntyDataLink!CZ$144","v":157},{"$f":"CntyDataLink!DA$144","v":66},{"$f":"CntyDataLink!DH$144","v":1653},{"$f":"CntyDataLink!DI$144","v":242}]
[null,null,null,"Monthly Costs 20% to 29.9% of HH Income",{"$f":"CntyDataLink!$BJ$144","v":1011},{"$f":"CntyDataLink!$BK$144","v":281.3574239290657},null,{"$f":"CntyDataLink!$CD$144","v":0},{"$f":"CntyDataLink!$CE$144","v":19},{"$f":"CntyDataLink!CL$144","v":114},{"$f":"CntyDataLink!CM$144","v":81},{"$f":"CntyDataLink!CT$144","v":73},{"$f":"CntyDataLink!CU$144","v":55},{"$f":"CntyDataLink!DB$144","v":280},{"$f":"CntyDataLink!DC$144","v":147},{"$f":"CntyDataLink!DJ$144","v":544},{"$f":"CntyDataLink!DK$144","v":200}]
[null,null,null,"Monthly Costs Less Than 30% of HH Income",{"$f":"CntyDataLink!$BL$144","v":2893},{"$f":"CntyDataLink!$BM$144","v":406.52798181675024},null,{"$f":"H52+H51","v":0},{"$f":"SQRT((I52^2)+(I51^2))","v":26.870057685088806},{"$f":"J52+J51","v":148},{"$f":"SQRT((K52^2)+(K51^2))","v":89.470665583754325},{"$f":"L52+L51","v":111},{"$f":"SQRT((M52^2)+(M51^2))","v":69.814038702828242},{"$f":"N52+N51","v":437},{"$f":"SQRT((O52^2)+(O51^2))","v":161.13658802394943},{"$f":"P52+P51","v":2197},{"$f":"SQRT((Q52^2)+(Q51^2))","v":313.94904045083496}]
[null,null,null,"Monthly Costs 30% or More of HH Income",{"$f":"CntyDataLink!$BN$144","v":1202},{"$f":"CntyDataLink!$BO$144","v":259.96922894835075},null,{"$f":"CntyDataLink!$CF$144","v":228},{"$f":"CntyDataLink!$CG$144","v":140},{"$f":"CntyDataLink!CN$144","v":328},{"$f":"CntyDataLink!CO$144","v":139},{"$f":"CntyDataLink!CV$144","v":141},{"$f":"CntyDataLink!CW$144","v":80},{"$f":"CntyDataLink!DD$144","v":218},{"$f":"CntyDataLink!DE$144","v":104},{"$f":"CntyDataLink!$DL$144","v":287},{"$f":"CntyDataLink!$DM$144","v":104}]
[]
[null,null,null,"Monthly Costs 35% or More of HH Income",{"$f":"CntyDataLink!$BT$144","v":799},{"$f":"CntyDataLink!$BU$144","v":213.02347288503208},null,"NA","NA","NA","NA","NA","NA","NA","NA","NA","NA"]
[null,null,null,"Monthly Costs 50% or More of HH Income",{"$f":"CntyDataLink!$BV$144","v":396},{"$f":"CntyDataLink!$BW$144","v":166.82026255823962},null,"NA","NA","NA","NA","NA","NA","NA","NA","NA","NA"]
[null,null,null,"Percent not computed",{"$f":"CntyDataLink!$BX$144","v":0},{"$f":"CntyDataLink!$BY$144","v":26.870057685088806},null,"NA","NA","NA","NA","NA","NA","NA","NA","NA","NA"]
[]
[null,null,null,"Percent of Owner Households Paying ",null,null,null,"By Household Income"]
[null,null,null,{"$f":"D53","v":"Monthly Costs Less Than 30% of HH Income"},{"$f":"E53/E$50","v":0.70647130647130651},null,null,{"$f":"H53/H$50","v":0},null,{"$f":"J53/J$50","v":0.31092436974789917},null,{"$f":"L53/L$50","v":0.44047619047619047},null,{"$f":"N53/N$50","v":0.66717557251908399},null,{"$f":"P53/P$50","v":0.88446054750402581}]
[null,null,null,{"$f":"D54","v":"Monthly Costs 30% or More of HH Income"},{"$f":"E54/E$50","v":0.29352869352869354},null,null,{"$f":"H54/H50","v":1},null,{"$f":"J54/J50","v":0.68907563025210083},null,{"$f":"L54/L50","v":0.55952380952380953},null,{"$f":"N54/N50","v":0.33282442748091601},null,{"$f":"P54/P50","v":0.11553945249597423}]
[]
[null,null,null,"Monthly Costs 35% or More of HH Income",{"$f":"E56/E$50","v":0.19511599511599512},null,null,"NA","NA","NA","NA","NA","NA","NA","NA","NA","NA"]
[null,null,null,"Monthly Costs 50% or More of HH Income",{"$f":"E57/E$50","v":9.6703296703296707E-2},null,null,"NA","NA","NA","NA","NA","NA","NA","NA","NA","NA"]
[null,null,null,"Percent not computed",{"$f":"E58/$E$50","v":0},null,null,"NA","NA","NA","NA","NA","NA","NA","NA","NA","NA"]
[]
[null,null,"H62ROHUGRent200to249",{"$f":"D37","v":"Income in 2022 Inflation Adjusted Dollars"}]
[null,null,null,"Source: 2018-2022 American Community Survey Table B25091; B25106",null,null,null,null,"NA indicates that the American Community Survey does not provide that data."]
[null,null,null,"Data from the American Community Survey are estimates."]
[]
[null,null,null,{"$f":"D2","v":"Laconia"}]
[null,null,"H62ROHUGRent250to299",{"$f":"D3","v":"OWNER HOUSING COST CHARACTERISTICS"}]
[null,null,"H62ROHUGRent300to349"]
[null,null,"H62ROHUGRent350to399","Value of Owner Occupied Housing Units"]
[null,null,"H62ROHUGRent400to449"]
[null,null,"H62ROHUGRent450to499","Owner Occupied Housing Units",{"$f":"CntyDataLink!$B$144","v":4095},{"$f":"CntyDataLink!$C$144","v":367}]
[null,null,"H62ROHUGRent500to549"]
[null,null,"H62ROHUGRent550to599","Value","Housing Units","Margin of Error"]
[null,null,"H62ROHUGRent600to649","Less than $10,000",{"$f":"CntyDataLink!$D$144","v":0},{"$f":"CntyDataLink!$E$144","v":19}]
[null,null,"H62ROHUGRent650to699","$10,000 to $14,999",{"$f":"CntyDataLink!$F$144","v":0},{"$f":"CntyDataLink!$G$144","v":19}]
[null,null,"H62ROHUGRent700to749","$15,000 to $19,999",{"$f":"CntyDataLink!$H$144","v":16},{"$f":"CntyDataLink!$I$144","v":25}]
[null,null,"H62ROHUGRent750to799","$20,000 to $24,999",{"$f":"CntyDataLink!$J$144","v":39},{"$f":"CntyDataLink!$K$144","v":54}]
[null,null,"H62ROHUGRent800to899","$25,000 to $29,999",{"$f":"CntyDataLink!$L$144","v":18},{"$f":"CntyDataLink!$M$144","v":29}]
[null,null,"H62ROHUGRent900to999","$30,000 to $34,999",{"$f":"CntyDataLink!$N$144","v":61},{"$f":"CntyDataLink!$O$144","v":61}]
[null,null,"H62ROHUGRent1000to1249","$35,000 to $39,999",{"$f":"CntyDataLink!$P$144","v":0},{"$f":"CntyDataLink!$Q$144","v":19}]
[null,null,"H62ROHUGRent1250to1499","$40,000 to $49,999",{"$f":"CntyDataLink!$R$144","v":0},{"$f":"CntyDataLink!$S$144","v":19}]
[null,null,"H62ROHUGRent1500to1999","$50,000 to $59,999",{"$f":"CntyDataLink!$T$144","v":11},{"$f":"CntyDataLink!$U$144","v":20}]
[null,null,"H62ROHUGRent2000>","$60,000 to $69,999",{"$f":"CntyDataLink!$V$144","v":61},{"$f":"CntyDataLink!$W$144","v":57}]
[null,null,"H62ROHUNoGRent","$70,000 to $79,999",{"$f":"CntyDataLink!$X$144","v":13},{"$f":"CntyDataLink!$Y$144","v":16}]
[null,null,"H63MedianGrossRnt","$80,000 to $89,999",{"$f":"CntyDataLink!$Z$144","v":21},{"$f":"CntyDataLink!$AA$144","v":27}]
[null,null,null,"$90,000 to $99,999",{"$f":"CntyDataLink!$AB$144","v":24},{"$f":"CntyDataLink!$AC$144","v":26}]
[null,null,null,"$100,000 to $124,999",{"$f":"CntyDataLink!$AD$144","v":109},{"$f":"CntyDataLink!$AE$144","v":70}]
[null,null,null,"$125,000 to $149,999",{"$f":"CntyDataLink!$AF$144","v":150},{"$f":"CntyDataLink!$AG$144","v":69}]
[null,null,null,"$150,000 to $174,999",{"$f":"CntyDataLink!$AH$144","v":380},{"$f":"CntyDataLink!$AI$144","v":171}]
[null,null,null,"$175,000 to $199,999",{"$f":"CntyDataLink!$AJ$144","v":467},{"$f":"CntyDataLink!$AK$144","v":183}]
[null,null,null,"$200,000 to $249,999",{"$f":"CntyDataLink!$AL$144","v":661},{"$f":"CntyDataLink!$AM$144","v":184}]
[null,null,null,"$250,000 to $299,999",{"$f":"CntyDataLink!$AN$144","v":488},{"$f":"CntyDataLink!$AO$144","v":188}]
[null,null,null,"$300,000 to $399,999",{"$f":"CntyDataLink!$AP$144","v":770},{"$f":"CntyDataLink!$AQ$144","v":205}]
[null,null,null,"$400,000 to $499,999",{"$f":"CntyDataLink!$AR$144","v":371},{"$f":"CntyDataLink!$AS$144","v":110}]
[null,null,null,"$500,000 to $749,999",{"$f":"CntyDataLink!$AT$144","v":194},{"$f":"CntyDataLink!$AU$144","v":100}]
[null,null,null,"$750,000 to $999,999",{"$f":"CntyDataLink!$AV$144","v":85},{"$f":"CntyDataLink!$AW$144","v":45}]
[null,null,null,"$1,000,000 to $1,499,999",{"$f":"CntyDataLink!$AX$144","v":74},{"$f":"CntyDataLink!$AY$144","v":47}]
[null,null,null,"$1,500,000 to $1,999,999",{"$f":"CntyDataLink!$AZ$144","v":23},{"$f":"CntyDataLink!$BA$144","v":34}]
[null,null,null,"$2,000,000 or more",{"$f":"CntyDataLink!$BB$144","v":59},{"$f":"CntyDataLink!$BC$144","v":46}]
[]
[null,null,null,"Median Value",{"$f":"CntyDataLink!$BD$144","v":251700},{"$f":"CntyDataLink!$BE$144","v":20517}]
[]
[]
[]
[null,null,null,"Source: 2018-2022 American Community Survey Tables B25075 and B25077"]
[null,null,null,"Data from the American Community Survey are estimates."]

{"sheet":"ACS_Table_B01001","index":18,"n_rows":265,"n_cols":24,"rows_kept":265,"cut":false,"hidden":true,"merged":[[64702,18,64702,19],[64702,20,64702,21],[64702,22,64702,23],[64682,16,64682,17],[64682,18,64682,19],[64682,20,64682,21],[64682,22,64682,23],[63698,22,63698,23],[63800,16,63800,17],[63800,18,63800,19],[63800,20,63800,21],[63800,22,63800,23],[63780,16,63780,17],[63780,18,63780,19],[63780,20,63780,21],[63780,22,63780,23],[63144,16,63144,17],[63144,18,63144,19],[63144,20,63144,21],[63144,22,63144,23],[63124,16,63124,17],[63124,18,63124,19],[63124,20,63124,21],[63124,22,63124,23],[63226,16,63226,17],[63226,18,63226,19],[63226,20,63226,21],[63226,22,63226,23],[63206,16,63206,17],[63206,18,63206,19],[63206,20,63206,21],[63206,22,63206,23],[63308,16,63308,17],[63308,18,63308,19],[63308,20,63308,21],[63308,22,63308,23],[64026,16,64026,17],[64026,18,64026,19],[64026,20,64026,21],[64026,22,64026,23],[64128,16,64128,17],[64128,18,64128,19],[64210,16,64210,17],[64210,18,64210,19],[64210,20,64210,21],[64210,22,64210,23],[64190,16,64190,17],[64190,18,64190,19],[64190,20,64190,21],[64190,22,64190,23],[63472,16,63472,17],[63472,18,63472,19],[63472,20,63472,21],[63472,22,63472,23],[63452,16,63452,17],[64518,22,64518,23],[64620,16,64620,17],[64620,18,64620,19],[64620,20,64620,21],[64620,22,64620,23],[64600,16,64600,17],[64600,18,64600,19],[64600,20,64600,21],[64600,22,64600,23],[239,6,239,7],[239,8,239,9],[239,10,239,11],[239,12,239,13],[239,14,239,15],[239,16,239,17],[239,18,239,19],[239,20,239,21],[239,22,239,23],[64866,16,64866,17],[64866,18,64866,19],[64866,20,64866,21],[64866,22,64866,23],[64846,16,64846,17],[64846,18,64846,19],[64846,20,64846,21],[64846,22,64846,23],[64948,16,64948,17],[64948,18,64948,19],[64948,20,64948,21],[64948,22,64948,23],[64928,16,64928,17],[64928,18,64928,19],[64928,20,64928,21],[64928,22,64928,23],[65030,16,65030,17],[65030,18,65030,19],[65030,20,65030,21],[65030,22,65030,23],[65010,16,65010,17],[65010,18,65010,19],[65010,20,65010,21],[65010,22,65010,23],[64292,16,64292,17],[64292,18,64292,19],[64292,20,64292,21],[64292,22,64292,23],[64272,16,64272,17],[64272,18,64272,19],[64272,20,64272,21],[64272,22,64272,23],[64374,16,64374,17],[64374,18,64374,19],[64374,20,64374,21],[64374,22,64374,23],[64354,16,64354,17],[64354,18,64354,19],[64354,20,64354,21],[64354,22,64354,23],[64456,16,64456,17],[64456,18,64456,19],[64456,20,64456,21],[64456,22,64456,23],[64436,16,64436,17],[64436,18,64436,19],[64436,20,64436,21],[64436,22,64436,23],[64538,16,64538,17],[64538,18,64538,19],[64538,20,64538,21],[64538,22,64538,23],[64518,16,64518,17],[64518,18,64518,19],[64518,20,64518,21],[64784,16,64784,17],[64784,18,64784,19],[64784,20,64784,21],[64784,22,64784,23],[64764,16,64764,17],[64764,18,64764,19],[64764,20,64764,21],[64764,22,64764,23],[64702,16,64702,17],[63288,16,63288,17],[63288,18,63288,19],[63288,20,63288,21],[63288,22,63288,23],[63390,16,63390,17],[63390,18,63390,19],[63390,20,63390,21],[63390,22,63390,23],[63370,16,63370,17],[63370,18,63370,19],[63370,20,63370,21],[63370,22,63370,23],[64128,20,64128,21],[64128,22,64128,23],[64108,16,64108,17],[64108,18,64108,19],[64108,20,64108,21],[64108,22,64108,23],[63452,18,63452,19],[63452,20,63452,21],[63452,22,63452,23],[63554,16,63554,17],[63554,18,63554,19],[63554,20,63554,21],[63554,22,63554,23],[63534,16,63534,17],[63534,18,63534,19],[63534,20,63534,21],[63534,22,63534,23],[63636,16,63636,17],[63636,18,63636,19],[63636,20,63636,21],[63636,22,63636,23],[63616,16,63616,17],[63616,18,63616,19],[63616,20,63616,21],[63616,22,63616,23],[63718,16,63718,17],[63718,18,63718,19],[63718,20,63718,21],[63718,22,63718,23],[63698,16,63698,17],[63698,18,63698,19],[63698,20,63698,21],[63882,16,63882,17],[63882,18,63882,19],[63882,20,63882,21],[63882,22,63882,23],[63862,16,63862,17],[63862,18,63862,19],[63862,20,63862,21],[63862,22,63862,23],[63964,16,63964,17],[63964,18,63964,19],[63964,20,63964,21],[63964,22,63964,23],[63944,16,63944,17],[63944,18,63944,19],[63944,20,63944,21],[63944,22,63944,23],[64046,16,64046,17],[64046,18,64046,19],[64046,20,64046,21],[64046,22,64046,23],[62734,16,62734,17],[62734,18,62734,19],[62734,20,62734,21],[62734,22,62734,23],[62714,16,62714,17],[62714,18,62714,19],[62714,20,62714,21],[62714,22,62714,23],[62816,16,62816,17],[62816,18,62816,19],[62816,20,62816,21],[62816,22,62816,23],[62796,16,62796,17],[62796,18,62796,19],[62796,20,62796,21],[62796,22,62796,23],[62898,16,62898,17],[62898,18,62898,19],[62898,20,62898,21],[62898,22,62898,23],[62878,16,62878,17],[62878,18,62878,19],[62878,20,62878,21],[62878,22,62878,23],[62980,16,62980,17],[62980,18,62980,19],[62980,20,62980,21],[62980,22,62980,23],[62960,16,62960,17],[62960,18,62960,19],[62960,20,62960,21],[62960,22,62960,23],[63062,16,63062,17],[63062,18,63062,19],[63062,20,63062,21],[63062,22,63062,23],[63042,16,63042,17],[63042,18,63042,19],[63042,20,63042,21],[63042,22,63042,23],[62324,16,62324,17],[62324,18,62324,19],[62324,20,62324,21],[62324,22,62324,23],[62304,16,62304,17],[62304,18,62304,19],[62304,20,62304,21],[62304,22,62304,23],[62406,16,62406,17],[62406,18,62406,19],[62406,20,62406,21],[62406,22,62406,23],[62386,16,62386,17],[62386,18,62386,19],[62386,20,62386,21],[62386,22,62386,23],[62488,16,62488,17],[62488,18,62488,19],[62488,20,62488,21],[62488,22,62488,23],[62468,16,62468,17],[62468,18,62468,19],[62468,20,62468,21],[62468,22,62468,23],[62570,16,62570,17],[62570,18,62570,19],[62570,20,62570,21],[62570,22,62570,23],[62550,16,62550,17],[62550,18,62550,19],[62550,20,62550,21],[62550,22,62550,23],[62652,16,62652,17],[62652,18,62652,19],[62652,20,62652,21],[62652,22,62652,23],[62632,16,62632,17],[62632,18,62632,19],[62632,20,62632,21],[62632,22,62632,23],[61914,16,61914,17],[61914,18,61914,19],[61914,20,61914,21],[61914,22,61914,23],[61894,16,61894,17],[61894,18,61894,19],[61894,20,61894,21],[61894,22,61894,23],[61996,16,61996,17],[61996,18,61996,19],[61996,20,61996,21],[61996,22,61996,23],[61976,16,61976,17],[61976,18,61976,19],[61976,20,61976,21],[61976,22,61976,23],[62078,16,62078,17],[62078,18,62078,19],[62078,20,62078,21],[62078,22,62078,23],[62058,16,62058,17],[62058,18,62058,19],[62058,20,62058,21],[62058,22,62058,23],[62160,16,62160,17],[62160,18,62160,19],[62160,20,62160,21],[62160,22,62160,23],[62140,16,62140,17],[62140,18,62140,19],[62140,20,62140,21],[62140,22,62140,23],[62242,16,62242,17],[62242,18,62242,19],[62242,20,62242,21],[62242,22,62242,23],[62222,16,62222,17],[62222,18,62222,19],[62222,20,62222,21],[62222,22,62222,23],[61504,16,61504,17],[61504,18,61504,19],[61504,20,61504,21],[61504,22,61504,23],[61484,16,61484,17],[61484,18,61484,19],[61484,20,61484,21],[61484,22,61484,23],[61586,16,61586,17],[61586,18,61586,19],[61586,20,61586,21],[61586,22,61586,23],[61566,16,61566,17],[61566,18,61566,19],[61566,20,61566,21],[61566,22,61566,23],[61668,16,61668,17],[61668,18,61668,19],[61668,20,61668,21],[61668,22,61668,23],[61648,16,61648,17],[61648,18,61648,19],[61648,20,61648,21],[61648,22,61648,23],[61750,16,61750,17],[61750,18,61750,19],[61750,20,61750,21],[61750,22,61750,23],[61730,16,61730,17],[61730,18,61730,19],[61730,20,61730,21],[61730,22,61730,23],[61832,16,61832,17],[61832,18,61832,19],[61832,20,61832,21],[61832,22,61832,23],[61812,16,61812,17],[61812,18,61812,19],[61812,20,61812,21],[61812,22,61812,23],[61094,16,61094,17],[61094,18,61094,19],[61094,20,61094,21],[61094,22,61094,23],[61074,16,61074,17],[61074,18,61074,19],[61074,20,61074,21],[61074,22,61074,23],[61176,16,61176,17],[61176,18,61176,19],[61176,20,61176,21],[61176,22,61176,23],[61156,16,61156,17],[61156,18,61156,19],[61156,20,61156,21],[61156,22,61156,23],[61258,16,61258,17],[61258,18,61258,19],[61258,20,61258,21],[61258,22,61258,23],[61238,16,61238,17],[61238,18,61238,19],[61238,20,61238,21],[61238,22,61238,23],[61340,16,61340,17],[61340,18,61340,19],[61340,20,61340,21],[61340,22,61340,23],[61320,16,61320,17],[61320,18,61320,19],[61320,20,61320,21],[61320,22,61320,23],[61422,16,61422,17],[61422,18,61422,19],[61422,20,61422,21],[61422,22,61422,23],[61402,16,61402,17],[61402,18,61402,19],[61402,20,61402,21],[61402,22,61402,23],[60684,16,60684,17],[60684,18,60684,19],[60684,20,60684,21],[60684,22,60684,23],[60664,16,60664,17],[60664,18,60664,19],[60664,20,60664,21],[60664,22,60664,23],[60766,16,60766,17],[60766,18,60766,19],[60766,20,60766,21],[60766,22,60766,23],[60746,16,60746,17],[60746,18,60746,19],[60746,20,60746,21],[60746,22,60746,23],[60848,16,60848,17],[60848,18,60848,19],[60848,20,60848,21],[60848,22,60848,23],[60828,16,60828,17],[60828,18,60828,19],[60828,20,60828,21],[60828,22,60828,23],[60930,16,60930,17],[60930,18,60930,19],[60930,20,60930,21],[60930,22,60930,23],[60910,16,60910,17],[60910,18,60910,19],[60910,20,60910,21],[60910,22,60910,23],[61012,16,61012,17],[61012,18,61012,19],[61012,20,61012,21],[61012,22,61012,23],[60992,16,60992,17],[60992,18,60992,19],[60992,20,60992,21],[60992,22,60992,23],[60274,16,60274,17],[60274,18,60274,19],[60274,20,60274,21],[60274,22,60274,23],[60254,16,60254,17],[60254,18,60254,19],[60254,20,60254,21],[60254,22,60254,23],[60356,16,60356,17],[60356,18,60356,19],[60356,20,60356,21],[60356,22,60356,23],[60336,16,60336,17],[60336,18,60336,19],[60336,20,60336,21],[60336,22,60336,23],[60438,16,60438,17],[60438,18,60438,19],[60438,20,60438,21],[60438,22,60438,23],[60418,16,60418,17],[60418,18,60418,19],[60418,20,60418,21],[60418,22,60418,23],[60520,16,60520,17],[60520,18,60520,19],[60520,20,60520,21],[60520,22,60520,23],[60500,16,60500,17],[60500,18,60500,19],[60500,20,60500,21],[60500,22,60500,23],[60602,16,60602,17],[60602,18,60602,19],[60602,20,60602,21],[60602,22,60602,23],[60582,16,60582,17],[60582,18,60582,19],[60582,20,60582,21],[60582,22,60582,23],[59864,16,59864,17],[59864,18,59864,19],[59864,20,59864,21],[59864,22,59864,23],[59844,16,59844,17],[59844,18,59844,19],[59844,20,59844,21],[59844,22,59844,23],[59946,16,59946,17],[59946,18,59946,19],[59946,20,59946,21],[59946,22,59946,23],[59926,16,59926,17],[59926,18,59926,19],[59926,20,59926,21],[59926,22,59926,23],[60028,16,60028,17],[60028,18,60028,19],[60028,20,60028,21],[60028,22,60028,23],[60008,16,60008,17],[60008,18,60008,19],[60008,20,60008,21],[60008,22,60008,23],[60110,16,60110,17],[60110,18,60110,19],[60110,20,60110,21],[60110,22,60110,23],[60090,16,60090,17],[60090,18,60090,19],[60090,20,60090,21],[60090,22,60090,23],[60192,16,60192,17],[60192,18,60192,19],[60192,20,60192,21],[60192,22,60192,23],[60172,16,60172,17],[60172,18,60172,19],[60172,20,60172,21],[60172,22,60172,23],[59454,16,59454,17],[59454,18,59454,19],[59454,20,59454,21],[59454,22,59454,23],[59434,16,59434,17],[59434,18,59434,19],[59434,20,59434,21],[59434,22,59434,23],[59536,16,59536,17],[59536,18,59536,19],[59536,20,59536,21],[59536,22,59536,23],[59516,16,59516,17],[59516,18,59516,19],[59516,20,59516,21],[59516,22,59516,23],[59618,16,59618,17],[59618,18,59618,19],[59618,20,59618,21],[59618,22,59618,23],[59598,16,59598,17],[59598,18,59598,19],[59598,20,59598,21],[59598,22,59598,23],[59700,16,59700,17],[59700,18,59700,19],[59700,20,59700,21],[59700,22,59700,23],[59680,16,59680,17],[59680,18,59680,19],[59680,20,59680,21],[59680,22,59680,23],[59782,16,59782,17],[59782,18,59782,19],[59782,20,59782,21],[59782,22,59782,23],[59762,16,59762,17],[59762,18,59762,19],[59762,20,59762,21],[59762,22,59762,23],[59044,16,59044,17],[59044,18,59044,19],[59044,20,59044,21],[59044,22,59044,23],[59024,16,59024,17],[59024,18,59024,19],[59024,20,59024,21],[59024,22,59024,23],[59126,16,59126,17],[59126,18,59126,19],[59126,20,59126,21],[59126,22,59126,23],[59106,16,59106,17],[59106,18,59106,19],[59106,20,59106,21],[59106,22,59106,23],[59208,16,59208,17],[59208,18,59208,19],[59208,20,59208,21],[59208,22,59208,23],[59188,16,59188,17],[59188,18,59188,19],[59188,20,59188,21],[59188,22,59188,23],[59290,16,59290,17],[59290,18,59290,19],[59290,20,59290,21],[59290,22,59290,23],[59270,16,59270,17],[59270,18,59270,19],[59270,20,59270,21],[59270,22,59270,23],[59372,16,59372,17],[59372,18,59372,19],[59372,20,59372,21],[59372,22,59372,23],[59352,16,59352,17],[59352,18,59352,19],[59352,20,59352,21],[59352,22,59352,23],[58634,16,58634,17],[58634,18,58634,19],[58634,20,58634,21],[58634,22,58634,23],[58614,16,58614,17],[58614,18,58614,19],[58614,20,58614,21],[58614,22,58614,23],[58716,16,58716,17],[58716,18,58716,19],[58716,20,58716,21],[58716,22,58716,23],[58696,16,58696,17],[58696,18,58696,19],[58696,20,58696,21],[58696,22,58696,23],[58798,16,58798,17],[58798,18,58798,19],[58798,20,58798,21],[58798,22,58798,23],[58778,16,58778,17],[58778,18,58778,19],[58778,20,58778,21],[58778,22,58778,23],[58880,16,58880,17],[58880,18,58880,19],[58880,20,58880,21],[58880,22,58880,23],[58860,16,58860,17],[58860,18,58860,19],[58860,20,58860,21],[58860,22,58860,23],[58962,16,58962,17],[58962,18,58962,19],[58962,20,58962,21],[58962,22,58962,23],[58942,16,58942,17],[58942,18,58942,19],[58942,20,58942,21],[58942,22,58942,23],[58224,16,58224,17],[58224,18,58224,19],[58224,20,58224,21],[58224,22,58224,23],[58204,16,58204,17],[58204,18,58204,19],[58204,20,58204,21],[58204,22,58204,23],[58306,16,58306,17],[58306,18,58306,19],[58306,20,58306,21],[58306,22,58306,23],[58286,16,58286,17],[58286,18,58286,19],[58286,20,58286,21],[58286,22,58286,23],[58388,16,58388,17],[58388,18,58388,19],[58388,20,58388,21],[58388,22,58388,23],[58368,16,58368,17],[58368,18,58368,19],[58368,20,58368,21],[58368,22,58368,23],[58470,16,58470,17],[58470,18,58470,19],[58470,20,58470,21],[58470,22,58470,23],[58450,16,58450,17],[58450,18,58450,19],[58450,20,58450,21],[58450,22,58450,23],[58552,16,58552,17],[58552,18,58552,19],[58552,20,58552,21],[58552,22,58552,23],[58532,16,58532,17],[58532,18,58532,19],[58532,20,58532,21],[58532,22,58532,23],[57814,16,57814,17],[57814,18,57814,19],[57814,20,57814,21],[57814,22,57814,23],[57794,16,57794,17],[57794,18,57794,19],[57794,20,57794,21],[57794,22,57794,23],[57896,16,57896,17],[57896,18,57896,19],[57896,20,57896,21],[57896,22,57896,23],[57876,16,57876,17],[57876,18,57876,19],[57876,20,57876,21],[57876,22,57876,23],[57978,16,57978,17],[57978,18,57978,19],[57978,20,57978,21],[57978,22,57978,23],[57958,16,57958,17],[57958,18,57958,19],[57958,20,57958,21],[57958,22,57958,23],[58060,16,58060,17],[58060,18,58060,19],[58060,20,58060,21],[58060,22,58060,23],[58040,16,58040,17],[58040,18,58040,19],[58040,20,58040,21],[58040,22,58040,23],[58142,16,58142,17],[58142,18,58142,19],[58142,20,58142,21],[58142,22,58142,23],[58122,16,58122,17],[58122,18,58122,19],[58122,20,58122,21],[58122,22,58122,23],[57404,16,57404,17],[57404,18,57404,19],[57404,20,57404,21],[57404,22,57404,23],[57384,16,57384,17],[57384,18,57384,19],[57384,20,57384,21],[57384,22,57384,23],[57486,16,57486,17],[57486,18,57486,19],[57486,20,57486,21],[57486,22,57486,23],[57466,16,57466,17],[57466,18,57466,19],[57466,20,57466,21],[57466,22,57466,23],[57568,16,57568,17],[57568,18,57568,19],[57568,20,57568,21],[57568,22,57568,23],[57548,16,57548,17],[57548,18,57548,19],[57548,20,57548,21],[57548,22,57548,23],[57650,16,57650,17],[57650,18,57650,19],[57650,20,57650,21],[57650,22,57650,23],[57630,16,57630,17],[57630,18,57630,19],[57630,20,57630,21],[57630,22,57630,23],[57732,16,57732,17],[57732,18,57732,19],[57732,20,57732,21],[57732,22,57732,23],[57712,16,57712,17],[57712,18,57712,19],[57712,20,57712,21],[57712,22,57712,23],[56994,16,56994,17],[56994,18,56994,19],[56994,20,56994,21],[56994,22,56994,23],[56974,16,56974,17],[56974,18,56974,19],[56974,20,56974,21],[56974,22,56974,23],[57076,16,57076,17],[57076,18,57076,19],[57076,20,57076,21],[57076,22,57076,23],[57056,16,57056,17],[57056,18,57056,19],[57056,20,57056,21],[57056,22,57056,23],[57158,16,57158,17],[57158,18,57158,19],[57158,20,57158,21],[57158,22,57158,23],[57138,16,57138,17],[57138,18,57138,19],[57138,20,57138,21],[57138,22,57138,23],[57240,16,57240,17],[57240,18,57240,19],[57240,20,57240,21],[57240,22,57240,23],[57220,16,57220,17],[57220,18,57220,19],[57220,20,57220,21],[57220,22,57220,23],[57322,16,57322,17],[57322,18,57322,19],[57322,20,57322,21],[57322,22,57322,23],[57302,16,57302,17],[57302,18,57302,19],[57302,20,57302,21],[57302,22,57302,23],[56584,16,56584,17],[56584,18,56584,19],[56584,20,56584,21],[56584,22,56584,23],[56564,16,56564,17],[56564,18,56564,19],[56564,20,56564,21],[56564,22,56564,23],[56666,16,56666,17],[56666,18,56666,19],[56666,20,56666,21],[56666,22,56666,23],[56646,16,56646,17],[56646,18,56646,19],[56646,20,56646,21],[56646,22,56646,23],[56748,16,56748,17],[56748,18,56748,19],[56748,20,56748,21],[56748,22,56748,23],[56728,16,56728,17],[56728,18,56728,19],[56728,20,56728,21],[56728,22,56728,23],[56830,16,56830,17],[56830,18,56830,19],[56830,20,56830,21],[56830,22,56830,23],[56810,16,56810,17],[56810,18,56810,19],[56810,20,56810,21],[56810,22,56810,23],[56912,16,56912,17],[56912,18,56912,19],[56912,20,56912,21],[56912,22,56912,23],[56892,16,56892,17],[56892,18,56892,19],[56892,20,56892,21],[56892,22,56892,23],[56174,16,56174,17],[56174,18,56174,19],[56174,20,56174,21],[56174,22,56174,23],[56154,16,56154,17],[56154,18,56154,19],[56154,20,56154,21],[56154,22,56154,23],[56256,16,56256,17],[56256,18,56256,19],[56256,20,56256,21],[56256,22,56256,23],[56236,16,56236,17],[56236,18,56236,19],[56236,20,56236,21],[56236,22,56236,23],[56338,16,56338,17],[56338,18,56338,19],[56338,20,56338,21],[56338,22,56338,23],[56318,16,56318,17],[56318,18,56318,19],[56318,20,56318,21],[56318,22,56318,23],[56420,16,56420,17],[56420,18,56420,19],[56420,20,56420,21],[56420,22,56420,23],[56400,16,56400,17],[56400,18,56400,19],[56400,20,56400,21],[56400,22,56400,23],[56502,16,56502,17],[56502,18,56502,19],[56502,20,56502,21],[56502,22,56502,23],[56482,16,56482,17],[56482,18,56482,19],[56482,20,56482,21],[56482,22,56482,23],[55764,16,55764,17],[55764,18,55764,19],[55764,20,55764,21],[55764,22,55764,23],[55744,16,55744,17],[55744,18,55744,19],[55744,20,55744,21],[55744,22,55744,23],[55846,16,55846,17],[55846,18,55846,19],[55846,20,55846,21],[55846,22,55846,23],[55826,16,55826,17],[55826,18,55826,19],[55826,20,55826,21],[55826,22,55826,23],[55928,16,55928,17],[55928,18,55928,19],[55928,20,55928,21],[55928,22,55928,23],[55908,16,55908,17],[55908,18,55908,19],[55908,20,55908,21],[55908,22,55908,23],[56010,16,56010,17],[56010,18,56010,19],[56010,20,56010,21],[56010,22,56010,23],[55990,16,55990,17],[55990,18,55990,19],[55990,20,55990,21],[55990,22,55990,23],[56092,16,56092,17],[56092,18,56092,19],[56092,20,56092,21],[56092,22,56092,23],[56072,16,56072,17],[56072,18,56072,19],[56072,20,56072,21],[56072,22,56072,23],[55354,16,55354,17],[55354,18,55354,19],[55354,20,55354,21],[55354,22,55354,23],[55334,16,55334,17],[55334,18,55334,19],[55334,20,55334,21],[55334,22,55334,23],[55436,16,55436,17],[55436,18,55436,19],[55436,20,55436,21],[55436,22,55436,23],[55416,16,55416,17],[55416,18,55416,19],[55416,20,55416,21],[55416,22,55416,23],[55518,16,55518,17],[55518,18,55518,19],[55518,20,55518,21],[55518,22,55518,23],[55498,16,55498,17],[55498,18,55498,19],[55498,20,55498,21],[55498,22,55498,23],[55600,16,55600,17],[55600,18,55600,19],[55600,20,55600,21],[55600,22,55600,23],[55580,16,55580,17],[55580,18,55580,19],[55580,20,55580,21],[55580,22,55580,23],[55682,16,55682,17],[55682,18,55682,19],[55682,20,55682,21],[55682,22,55682,23],[55662,16,55662,17],[55662,18,55662,19],[55662,20,55662,21],[55662,22,55662,23],[54944,16,54944,17],[54944,18,54944,19],[54944,20,54944,21],[54944,22,54944,23],[54924,16,54924,17],[54924,18,54924,19],[54924,20,54924,21],[54924,22,54924,23],[55026,16,55026,17],[55026,18,55026,19],[55026,20,55026,21],[55026,22,55026,23],[55006,16,55006,17],[55006,18,55006,19],[55006,20,55006,21],[55006,22,55006,23],[55108,16,55108,17],[55108,18,55108,19],[55108,20,55108,21],[55108,22,55108,23],[55088,16,55088,17],[55088,18,55088,19],[55088,20,55088,21],[55088,22,55088,23],[55190,16,55190,17],[55190,18,55190,19],[55190,20,55190,21],[55190,22,55190,23],[55170,16,55170,17],[55170,18,55170,19],[55170,20,55170,21],[55170,22,55170,23],[55272,16,55272,17],[55272,18,55272,19],[55272,20,55272,21],[55272,22,55272,23],[55252,16,55252,17],[55252,18,55252,19],[55252,20,55252,21]],"merged_total":17424,"flags":["merged_cut"]}
[null,"B01001. GENDER BY AGE"]
[null,"Universe:  TOTAL POPULATION"]
[null,"Data Set: 2018-2022 American Community Survey 5-Year Estimates"]
[]
[null,null,"Alton",null,"Barnstead",null,"Belmont",null,"Center Harbor",null,"Gilford",null,"Gilmanton",null,"Laconia",null,"Meredith",null,"New Hampton",null,"Sanbornton",null,"Tilton"]
[null," ","Estimate","Margin of Error","Estimate","Margin of Error","Estimate","Margin of Error","Estimate","Margin of Error","Estimate","Margin of Error","Estimate","Margin of Error","Estimate","Margin of Error","Estimate","Margin of Error","Estimate","Margin of Error","Estimate","Margin of Error","Estimate","Margin of Error"]
[null,"Total:",5903,16,4941,20,7358,20,820,181,7725,20,3960,27,16898,21,6688,33,2604,181,3047,21,3970,17]
[null,"Male:",2894,196,2234,144,3463,236,408,104,3749,264,2079,181,8397,301,3393,248,1345,125,1637,138,2059,156]
[null,"Under 5 years",117,69,117,64,31,47,5,8,216,122,160,89,311,118,21,24,43,30,75,60,178,61]
[null,"5 to 9 years",229,117,57,35,204,127,17,15,184,115,70,55,252,142,102,74,27,23,76,80,13,20]
[null,"10 to 14 years",172,92,136,87,244,121,8,11,188,180,149,99,669,276,125,74,39,22,172,87,184,102]
[null,"15 to 17 years",77,76,114,85,259,149,24,25,118,76,52,57,312,123,126,72,17,18,31,42,33,41]
[null,"18 and 19 years",33,54,126,87,82,62,6,10,147,90,42,56,222,82,20,35,2,4,15,20,11,19]
[null,"20 years",30,38,0,12,0,17,0,12,62,79,0,12,104,92,42,39,8,12,25,29,0,12]
[null,"21 years",0,17,0,12,23,38,0,12,54,78,20,34,120,107,0,17,10,14,0,12,40,44]
[null,"22 to 24 years",233,187,55,64,0,17,0,12,117,84,31,38,329,161,196,135,15,17,23,32,29,48]
[null,"25 to 29 years",125,92,29,31,168,113,3,5,173,102,142,77,564,168,104,99,252,119,167,119,79,75]
[null,"30 to 34 years",15,25,123,78,133,91,17,25,150,98,120,81,545,176,199,119,63,35,139,95,193,90]
[null,"35 to 39 years",129,76,156,66,146,99,13,12,348,152,146,70,457,186,158,84,29,20,63,54,141,76]
[null,"40 to 44 years",96,57,194,86,374,128,20,21,82,71,85,54,567,203,49,56,42,25,89,70,103,72]
[null,"45 to 49 years",188,112,179,112,313,156,14,12,299,129,69,47,338,131,200,103,84,38,138,124,70,52]
[null,"50 to 54 years",191,100,142,73,189,113,15,12,258,126,127,53,591,164,334,131,91,51,45,40,203,127]
[null,"55 to 59 years",404,173,187,71,306,134,34,20,345,153,216,141,528,172,232,105,46,25,122,71,182,103]
[null,"60 and 61 years",94,69,51,34,132,69,16,11,107,64,112,54,384,158,84,69,47,21,54,52,34,26]
[null,"62 to 64 years",102,63,160,71,244,109,6,7,217,129,172,78,347,132,308,130,174,36,100,71,87,75]
[null,"65 and 66 years",73,55,26,29,78,73,21,23,60,54,34,27,197,89,124,63,53,43,36,31,50,33]
[null,"67 to 69 years",134,85,48,36,224,121,75,43,153,87,104,64,402,174,254,85,52,39,117,61,88,58]
[null,"70 to 74 years",110,73,117,84,192,87,34,18,277,133,74,57,692,186,224,118,130,79,82,63,93,41]
[null,"75 to 79 years",166,105,69,33,55,37,64,47,113,51,96,112,237,77,200,102,53,31,31,24,67,27]
[null,"80 to 84 years",109,61,69,58,37,45,14,12,55,39,45,36,133,74,34,36,37,27,23,25,75,73]
[null,"85 years and over",67,55,79,63,29,27,2,3,26,24,13,17,96,57,257,122,31,21,14,17,106,55]
[null,"Female:",3009,196,2707,145,3895,234,412,101,3976,266,1881,179,8501,303,3295,249,1259,120,1410,132,1911,158]
[null,"Under 5 years",90,99,61,42,193,99,5,9,283,114,107,59,416,151,87,40,24,21,23,28,60,39]
[null,"5 to 9 years",114,90,282,101,248,120,14,14,118,75,28,40,446,179,103,74,29,27,55,83,68,79]
[null,"10 to 14 years",27,40,229,121,270,139,5,7,348,188,121,90,361,180,115,105,140,92,84,63,93,105]
[null,"15 to 17 years",124,88,26,22,150,77,10,15,69,73,134,73,329,143,158,82,13,14,23,34,33,33]
[null,"18 and 19 years",124,90,76,42,62,69,1,12,59,60,8,14,152,87,156,74,0,12,6,13,0,12]
[null,"20 years",5,4,16,25,81,67,0,12,0,17,0,12,105,98,73,67,13,22,63,91,24,39]
[null,"21 years",17,30,0,12,70,71,0,12,0,17,0,12,108,73,103,72,0,12,0,12,27,32]
[null,"22 to 24 years",144,125,152,92,35,40,9,14,97,94,87,77,254,116,18,27,23,24,13,2,10,17]
[null,"25 to 29 years",176,100,101,62,146,128,11,14,140,121,84,57,531,152,154,100,76,44,19,22,113,91]
[null,"30 to 34 years",100,82,128,77,180,95,8,10,225,113,127,72,373,128,150,84,91,82,155,71,168,89]
[null,"35 to 39 years",112,107,218,86,128,70,6,9,201,144,51,44,572,200,77,61,56,31,25,29,157,82]
[null,"40 to 44 years",140,85,196,111,250,101,14,12,234,127,218,75,639,190,34,42,122,47,114,87,125,106]
[null,"45 to 49 years",178,79,118,62,179,110,12,15,310,140,103,71,509,159,182,70,45,26,71,50,177,77]
[null,"50 to 54 years",316,176,94,66,291,137,25,32,346,145,103,56,381,127,239,102,131,62,89,61,163,107]
[null,"55 to 59 years",445,162,319,100,402,157,37,26,338,126,163,93,608,195,259,112,68,30,214,94,136,82]
[null,"60 and 61 years",101,74,32,29,157,78,39,46,160,95,109,58,315,122,143,80,79,51,45,26,75,59]
[null,"62 to 64 years",126,69,100,48,74,48,38,20,176,115,127,62,445,144,239,94,42,29,50,35,66,73]
[null,"65 and 66 years",37,34,67,56,60,58,46,29,113,108,32,24,213,79,152,85,74,54,48,38,47,34]
[null,"67 to 69 years",127,73,75,90,303,153,31,23,168,77,43,34,343,121,109,71,12,10,53,54,70,40]
[null,"70 to 74 years",220,104,124,61,181,100,69,38,313,119,157,81,618,208,401,176,116,59,131,74,85,44]
[null,"75 to 79 years",77,74,77,51,263,193,14,16,171,81,15,18,299,94,69,49,79,42,70,44,52,50]
[null,"80 to 84 years",143,80,94,65,65,50,18,16,81,57,22,19,160,69,98,61,17,13,14,18,80,69]
[null,"85 years and over",66,71,122,107,107,65,0,12,26,23,42,42,324,151,176,71,9,10,45,43,82,85]
[]
[]
[]
[]
[]
[]
[]
[]
[]
[]
[]
[]
[]
[null,"Calculated B01001. GENDER BY AGE"]
[null,"Universe:  TOTAL POPULATION"]
[null,{"$f":"$B$3","v":"Data Set: 2018-2022 American Community Survey 5-Year Estimates"}]
[]
[null,null,"Alton",null,"Barnstead",null,"Belmont",null,"Center Harbor",null,"Gilford",null,"Gilmanton",null,"Laconia",null,"Meredith",null,"New Hampton",null,"Sanbornton",null,"Tilton"]
[null," ","Estimate","Margin of Error","Estimate","Margin of Error","Estimate","Margin of Error","Estimate","Margin of Error","Estimate","Margin of Error","Estimate","Margin of Error","Estimate",null,"Estimate","Margin of Error","Estimate","Margin of Error","Estimate","Margin of Error","Estimate","Margin of Error"]
[null,"Total",{"$f":"C7","v":5903},16,4941,20,7358,20,820,181,7725,20,3960,27,16898,21,6688,33,2604,181,3047,21,3970,17]
[null,"Under 15 yrs.",{"$f":"C9+C10+C11+C33+C34+C35","v":749},{"$f":"SQRT((D9^2)+(D10^2)+(D11^2)+(D33^2)+(D34^2)+(D35^2))","v":215.44140734779839},{"$f":"E9+E10+E11+E33+E34+E35","v":882},{"$f":"SQRT((F9^2)+(F10^2)+(F11^2)+(F33^2)+(F34^2)+(F35^2))","v":198.73600579663466},{"$f":"G9+G10+G11+G33+G34+G35","v":1190},{"$f":"SQRT((H9^2)+(H10^2)+(H11^2)+(H33^2)+(H34^2)+(H35^2))","v":276.58814146669414},{"$f":"I9+I10+I11+I33+I34+I35","v":54},{"$f":"SQRT((J9^2)+(J10^2)+(J11^2)+(J33^2)+(J34^2)+(J35^2))","v":27.129319932501073},{"$f":"K9+K10+K11+K33+K34+K35","v":1337},{"$f":"SQRT((L9^2)+(L10^2)+(L11^2)+(L33^2)+(L34^2)+(L35^2))","v":338.34006561446427},{"$f":"M9+M10+M11+M33+M34+M35","v":635},{"$f":"SQRT((N9^2)+(N10^2)+(N11^2)+(N33^2)+(N34^2)+(N35^2))","v":184.19554826325202},{"$f":"O9+O10+O11+O33+O34+O35","v":2455},{"$f":"SQRT((P9^2)+(P10^2)+(P11^2)+(P33^2)+(P34^2)+(P35^2))","v":444.41647134191595},{"$f":"Q9+Q10+Q11+Q33+Q34+Q35","v":553},{"$f":"SQRT((R9^2)+(R10^2)+(R11^2)+(R33^2)+(R34^2)+(R35^2))","v":172.13076424625552},{"$f":"S9+S10+S11+S33+S34+S35","v":302},{"$f":"SQRT((T9^2)+(T10^2)+(T11^2)+(T33^2)+(T34^2)+(T35^2))","v":107.4569681314339},{"$f":"U9+U10+U11+U33+U34+U35","v":485},{"$f":"SQRT((V9^2)+(V10^2)+(V11^2)+(V33^2)+(V34^2)+(V35^2))","v":170.9122581911549},{"$f":"W9+W10+W11+W33+W34+W35","v":596},{"$f":"SQRT((X9^2)+(X10^2)+(X11^2)+(X33^2)+(X34^2)+(X35^2))","v":182.51575274479734}]
[null,"15 to 24 yrs.",{"$f":"C12+C13+C14+C15+C16+C36+C37+C38+C39+C40","v":787},{"$f":"SQRT((D12^2)+(D13^2)+(D14^2)+(D15^2)+(D16^2)+(D36^2)+(D37^2)+(D38^2)+(D39^2)+(D40^2))","v":278.88886675520052},{"$f":"E12+E13+E14+E15+E16+E36+E37+E38+E39+E40","v":565},{"$f":"SQRT((F12^2)+(F13^2)+(F14^2)+(F15^2)+(F16^2)+(F36^2)+(F37^2)+(F38^2)+(F39^2)+(F40^2))","v":175.09711591000007},{"$f":"G12+G13+G14+G15+G16+G36+G37+G38+G39+G40","v":762},{"$f":"SQRT((H12^2)+(H13^2)+(H14^2)+(H15^2)+(H16^2)+(H36^2)+(H37^2)+(H38^2)+(H39^2)+(H40^2))","v":223.35397914521246},{"$f":"I12+I13+I14+I15+I16+I36+I37+I38+I39+I40","v":50},{"$f":"SQRT((J12^2)+(J13^2)+(J14^2)+(J15^2)+(J16^2)+(J36^2)+(J37^2)+(J38^2)+(J39^2)+(J40^2))","v":44.83302354291979},{"$f":"K12+K13+K14+K15+K16+K36+K37+K38+K39+K40","v":723},{"$f":"SQRT((L12^2)+(L13^2)+(L14^2)+(L15^2)+(L16^2)+(L36^2)+(L37^2)+(L38^2)+(L39^2)+(L40^2))","v":227.15633383201094},{"$f":"M12+M13+M14+M15+M16+M36+M37+M38+M39+M40","v":374},{"$f":"SQRT((N12^2)+(N13^2)+(N14^2)+(N15^2)+(N16^2)+(N36^2)+(N37^2)+(N38^2)+(N39^2)+(N40^2))","v":144.46798953401407},{"$f":"O12+O13+O14+O15+O16+O36+O37+O38+O39+O40","v":2035},{"$f":"SQRT((P12^2)+(P13^2)+(P14^2)+(P15^2)+(P16^2)+(P36^2)+(P37^2)+(P38^2)+(P39^2)+(P40^2))","v":352.26978297889815},{"$f":"Q12+Q13+Q14+Q15+Q16+Q36+Q37+Q38+Q39+Q40","v":892},{"$f":"SQRT((R12^2)+(R13^2)+(R14^2)+(R15^2)+(R16^2)+(R36^2)+(R37^2)+(R38^2)+(R39^2)+(R40^2))","v":221.46331524656628},{"$f":"S12+S13+S14+S15+S16+S36+S37+S38+S39+S40","v":101},{"$f":"SQRT((T12^2)+(T13^2)+(T14^2)+(T15^2)+(T16^2)+(T36^2)+(T37^2)+(T38^2)+(T39^2)+(T40^2))","v":50.129831437977131},{"$f":"U12+U13+U14+U15+U16+U36+U37+U38+U39+U40","v":199},{"$f":"SQRT((V12^2)+(V13^2)+(V14^2)+(V15^2)+(V16^2)+(V36^2)+(V37^2)+(V38^2)+(V39^2)+(V40^2))","v":118.0127111797708},{"$f":"W12+W13+W14+W15+W16+W36+W37+W38+W39+W40","v":207},{"$f":"SQRT((X12^2)+(X13^2)+(X14^2)+(X15^2)+(X16^2)+(X36^2)+(X37^2)+(X38^2)+(X39^2)+(X40^2))","v":102.43534546239398}]
[null,"25 to 34 yrs.",{"$f":"C17+C18+C41+C42","v":416},{"$f":"SQRT((D17^2)+(D18^2)+(D41^2)+(D42^2))","v":160.6642461781712},{"$f":"E17+E18+E41+E42","v":381},{"$f":"SQRT((F17^2)+(F18^2)+(F41^2)+(F42^2))","v":129.68423188653276},{"$f":"G17+G18+G41+G42","v":627},{"$f":"SQRT((H17^2)+(H18^2)+(H41^2)+(H42^2))","v":215.54349909009085},{"$f":"I17+I18+I41+I42","v":39},{"$f":"SQRT((J17^2)+(J18^2)+(J41^2)+(J42^2))","v":30.757112998459398},{"$f":"K17+K18+K41+K42","v":688},{"$f":"SQRT((L17^2)+(L18^2)+(L41^2)+(L42^2))","v":217.75674501608441},{"$f":"M17+M18+M41+M42","v":473},{"$f":"SQRT((N17^2)+(N18^2)+(N41^2)+(N42^2))","v":144.64784823840276},{"$f":"O17+O18+O41+O42","v":2013},{"$f":"SQRT((P17^2)+(P18^2)+(P41^2)+(P42^2))","v":314.14646265714975},{"$f":"Q17+Q18+Q41+Q42","v":607},{"$f":"SQRT((R17^2)+(R18^2)+(R41^2)+(R42^2))","v":202.52901026766511},{"$f":"S17+S18+S41+S42","v":482},{"$f":"SQRT((T17^2)+(T18^2)+(T41^2)+(T42^2))","v":155.06772713882151},{"$f":"U17+U18+U41+U42","v":480},{"$f":"SQRT((V17^2)+(V18^2)+(V41^2)+(V42^2))","v":169.44320582425252},{"$f":"W17+W18+W41+W42","v":553},{"$f":"SQRT((X17^2)+(X18^2)+(X41^2)+(X42^2))","v":172.9942195566083}]
[null,"35 to 44 yrs.",{"$f":"C19+C20+C43+C44","v":477},{"$f":"SQRT((D19^2)+(D20^2)+(D43^2)+(D44^2))","v":166.43016553497748},{"$f":"E19+E20+E43+E44","v":764},{"$f":"SQRT((F19^2)+(F20^2)+(F43^2)+(F44^2))","v":177.39503938949363},{"$f":"G19+G20+G43+G44","v":898},{"$f":"SQRT((H19^2)+(H20^2)+(H43^2)+(H44^2))","v":203.18956666128307},{"$f":"I19+I20+I43+I44","v":53},{"$f":"SQRT((J19^2)+(J20^2)+(J43^2)+(J44^2))","v":28.460498941515414},{"$f":"K19+K20+K43+K44","v":865},{"$f":"SQRT((L19^2)+(L20^2)+(L43^2)+(L44^2))","v":254.97058653891824},{"$f":"M19+M20+M43+M44","v":500},{"$f":"SQRT((N19^2)+(N20^2)+(N43^2)+(N44^2))","v":124.00403219250575},{"$f":"O19+O20+O43+O44","v":2235},{"$f":"SQRT((P19^2)+(P20^2)+(P43^2)+(P44^2))","v":389.74991982038944},{"$f":"Q19+Q20+Q43+Q44","v":318},{"$f":"SQRT((R19^2)+(R20^2)+(R43^2)+(R44^2))","v":125.2078272313676},{"$f":"S19+S20+S43+S44","v":249},{"$f":"SQRT((T19^2)+(T20^2)+(T43^2)+(T44^2))","v":64.768819658845104},{"$f":"U19+U20+U43+U44","v":291},{"$f":"SQRT((V19^2)+(V20^2)+(V43^2)+(V44^2))","v":127.38131731144878},{"$f":"W19+W20+W43+W44","v":526},{"$f":"SQRT((X19^2)+(X20^2)+(X43^2)+(X44^2))","v":170.0588133558505}]
[null,"45 to 54 yrs.",{"$f":"C21+C22+C45+C46","v":873},{"$f":"SQRT((D21^2)+(D22^2)+(D45^2)+(D46^2))","v":244.46063077722761},{"$f":"E21+E22+E45+E46","v":533},{"$f":"SQRT((F21^2)+(F22^2)+(F45^2)+(F46^2))","v":161.47135968957468},{"$f":"G21+G22+G45+G46","v":972},{"$f":"SQRT((H21^2)+(H22^2)+(H45^2)+(H46^2))","v":260.71823871758568},{"$f":"I21+I22+I45+I46","v":66},{"$f":"SQRT((J21^2)+(J22^2)+(J45^2)+(J46^2))","v":39.204591567825318},{"$f":"K21+K22+K45+K46","v":1213},{"$f":"SQRT((L21^2)+(L22^2)+(L45^2)+(L46^2))","v":270.44777684425509},{"$f":"M21+M22+M45+M46","v":402},{"$f":"SQRT((N21^2)+(N22^2)+(N45^2)+(N46^2))","v":114.86949116279744},{"$f":"O21+O22+O45+O46","v":1819},{"$f":"SQRT((P21^2)+(P22^2)+(P45^2)+(P46^2))","v":292.34739608896808},{"$f":"Q21+Q22+Q45+Q46","v":955},{"$f":"SQRT((R21^2)+(R22^2)+(R45^2)+(R46^2))","v":207.54276667713572},{"$f":"S21+S22+S45+S46","v":351},{"$f":"SQRT((T21^2)+(T22^2)+(T45^2)+(T46^2))","v":92.54728521139883},{"$f":"U21+U22+U45+U46","v":343},{"$f":"SQRT((V21^2)+(V22^2)+(V45^2)+(V46^2))","v":152.30561381643159},{"$f":"W21+W22+W45+W46","v":613},{"$f":"SQRT((X21^2)+(X22^2)+(X45^2)+(X46^2))","v":190.2918810669546}]
[null,"55 to 64 yrs.",{"$f":"C23+C24+C25+C47+C48+C49","v":1272},{"$f":"SQRT((D23^2)+(D24^2)+(D25^2)+(D47^2)+(D48^2)+(D49^2))","v":274.11676344215067},{"$f":"E23+E24+E25+E47+E48+E49","v":849},{"$f":"SQRT((F23^2)+(F24^2)+(F25^2)+(F47^2)+(F48^2)+(F49^2))","v":156.15056836271842},{"$f":"G23+G24+G25+G47+G48+G49","v":1315},{"$f":"SQRT((H23^2)+(H24^2)+(H25^2)+(H47^2)+(H48^2)+(H49^2))","v":260.06729898239803},{"$f":"I23+I24+I25+I47+I48+I49","v":170},{"$f":"SQRT((J23^2)+(J24^2)+(J25^2)+(J47^2)+(J48^2)+(J49^2))","v":61.335144900782616},{"$f":"K23+K24+K25+K47+K48+K49","v":1343},{"$f":"SQRT((L23^2)+(L24^2)+(L25^2)+(L47^2)+(L48^2)+(L49^2))","v":286.83096067196095},{"$f":"M23+M24+M25+M47+M48+M49","v":899},{"$f":"SQRT((N23^2)+(N24^2)+(N25^2)+(N47^2)+(N48^2)+(N49^2))","v":211.51359294381058},{"$f":"O23+O24+O25+O47+O48+O49","v":2627},{"$f":"SQRT((P23^2)+(P24^2)+(P25^2)+(P47^2)+(P48^2)+(P49^2))","v":381.59795596936834},{"$f":"Q23+Q24+Q25+Q47+Q48+Q49","v":1265},{"$f":"SQRT((R23^2)+(R24^2)+(R25^2)+(R47^2)+(R48^2)+(R49^2))","v":245.89835298350414},{"$f":"S23+S24+S25+S47+S48+S49","v":456},{"$f":"SQRT((T23^2)+(T24^2)+(T25^2)+(T47^2)+(T48^2)+(T49^2))","v":81.877957961834881},{"$f":"U23+U24+U25+U47+U48+U49","v":585},{"$f":"SQRT((V23^2)+(V24^2)+(V25^2)+(V47^2)+(V48^2)+(V49^2))","v":153.37209654953537},{"$f":"W23+W24+W25+W47+W48+W49","v":580},{"$f":"SQRT((X23^2)+(X24^2)+(X25^2)+(X47^2)+(X48^2)+(X49^2))","v":180.12218075517518}]
[null,"65 to 74 yrs.",{"$f":"C26+C27+C28+C50+C51+C52","v":701},{"$f":"SQRT((D26^2)+(D27^2)+(D28^2)+(D50^2)+(D51^2)+(D52^2))","v":181.32843130629018},{"$f":"E26+E27+E28+E50+E51+E52","v":457},{"$f":"SQRT((F26^2)+(F27^2)+(F28^2)+(F50^2)+(F51^2)+(F52^2))","v":155.40270267920053},{"$f":"G26+G27+G28+G50+G51+G52","v":1038},{"$f":"SQRT((H26^2)+(H27^2)+(H28^2)+(H50^2)+(H51^2)+(H52^2))","v":253.59810724845721},{"$f":"I26+I27+I28+I50+I51+I52","v":276},{"$f":"SQRT((J26^2)+(J27^2)+(J28^2)+(J50^2)+(J51^2)+(J52^2))","v":74.269778510508573},{"$f":"K26+K27+K28+K50+K51+K52","v":1084},{"$f":"SQRT((L26^2)+(L27^2)+(L28^2)+(L50^2)+(L51^2)+(L52^2))","v":244.8019607764611},{"$f":"M26+M27+M28+M50+M51+M52","v":444},{"$f":"SQRT((N26^2)+(N27^2)+(N28^2)+(N50^2)+(N51^2)+(N52^2))","v":127.93357651531517},{"$f":"O26+O27+O28+O50+O51+O52","v":2465},{"$f":"SQRT((P26^2)+(P27^2)+(P28^2)+(P50^2)+(P51^2)+(P52^2))","v":370.05269894975771},{"$f":"Q26+Q27+Q28+Q50+Q51+Q52","v":1264},{"$f":"SQRT((R26^2)+(R27^2)+(R28^2)+(R50^2)+(R51^2)+(R52^2))","v":261.457453517776},{"$f":"S26+S27+S28+S50+S51+S52","v":437},{"$f":"SQRT((T26^2)+(T27^2)+(T28^2)+(T50^2)+(T51^2)+(T52^2))","v":126.91729590564086},{"$f":"U26+U27+U28+U50+U51+U52","v":467},{"$f":"SQRT((V26^2)+(V27^2)+(V28^2)+(V50^2)+(V51^2)+(V52^2))","v":135.96690773861116},{"$f":"W26+W27+W28+W50+W51+W52","v":433},{"$f":"SQRT((X26^2)+(X27^2)+(X28^2)+(X50^2)+(X51^2)+(X52^2))","v":104.04806581575652}]
[null,"Over 74 yrs. ",{"$f":"C29+C30+C31+C53+C54+C55","v":628},{"$f":"SQRT((D29^2)+(D30^2)+(D31^2)+(D53^2)+(D54^2)+(D55^2))","v":186.24714762916506},{"$f":"E29+E30+E31+E53+E54+E55","v":510},{"$f":"SQRT((F29^2)+(F30^2)+(F31^2)+(F53^2)+(F54^2)+(F55^2))","v":163.39216627488602},{"$f":"G29+G30+G31+G53+G54+G55","v":556},{"$f":"SQRT((H29^2)+(H30^2)+(H31^2)+(H53^2)+(H54^2)+(H55^2))","v":219.31028247667732},{"$f":"I29+I30+I31+I53+I54+I55","v":112},{"$f":"SQRT((J29^2)+(J30^2)+(J31^2)+(J53^2)+(J54^2)+(J55^2))","v":54.936326779281487},{"$f":"K29+K30+K31+K53+K54+K55","v":472},{"$f":"SQRT((L29^2)+(L30^2)+(L31^2)+(L53^2)+(L54^2)+(L55^2))","v":122.62544597268545},{"$f":"M29+M30+M31+M53+M54+M55","v":233},{"$f":"SQRT((N29^2)+(N30^2)+(N31^2)+(N53^2)+(N54^2)+(N55^2))","v":128.7555824032496},{"$f":"O29+O30+O31+O53+O54+O55","v":1249},{"$f":"SQRT((P29^2)+(P30^2)+(P31^2)+(P53^2)+(P54^2)+(P55^2))","v":225.94689641594991},{"$f":"Q29+Q30+Q31+Q53+Q54+Q55","v":834},{"$f":"SQRT((R29^2)+(R30^2)+(R31^2)+(R53^2)+(R54^2)+(R55^2))","v":194.28587184867561},{"$f":"S29+S30+S31+S53+S54+S55","v":226},{"$f":"SQRT((T29^2)+(T30^2)+(T31^2)+(T53^2)+(T54^2)+(T55^2))","v":64.529063219606712},{"$f":"U29+U30+U31+U53+U54+U55","v":197},{"$f":"SQRT((V29^2)+(V30^2)+(V31^2)+(V53^2)+(V54^2)+(V55^2))","v":74.82646590612174},{"$f":"W29+W30+W31+W53+W54+W55","v":462},{"$f":"SQRT((X29^2)+(X30^2)+(X31^2)+(X53^2)+(X54^2)+(X55^2))","v":153.52198539622916}]
[]
[]
[]
[]
[]
[]
[]
[]
[]
[]
[]
[]
[]
[]
[]
[]
[]
[]
[]
[]
[]
[]
[]
[]
[]
[]
[]
[]
[]
[]
[]
[]
[]
[]
[]
[]
[]
[]
[]
[]
[]
[]
[]
[]
[]
[]
[]
[]
[]
[]
[]
[]
[]
[]
[]
[]
[]
[]
[]
[]
[]
[]
[]
[]
[]
[]
[]
[]
[]
[]
[]
[]
[]
[]
[]
[]
[null,"Calculated B01001. GENDER BY AGE"]
[null,"Universe:  TOTAL POPULATION"]
[null,"Data Set: 2013-2017 American Community Survey 5-Year Estimates"]
[]
[null,null,"Alton",null,"Barnstead",null,"Belmont",null,"Center Harbor",null,"Gilford",null,"Gilmanton",null,"Laconia",null,"Meredith",null,"New Hampton",null,"Sanbornton",null,"Tilton"]
[null," ","Estimate","Margin of Error","Estimate","Margin of Error","Estimate","Margin of Error","Estimate","Margin of Error","Estimate","Margin of Error","Estimate","Margin of Error","Estimate",null,"Estimate","Margin of Error","Estimate","Margin of Error","Estimate","Margin of Error","Estimate","Margin of Error"]
[null,"Total",5267,14,4615,16,7275,17,1000,178,7111,23,16237,20,16171,27,6334,33,2276,176,2973,16,3555,21]
[null,"Under 15 yrs.",995,248.46327696462509,668,154.02921800749363,1135,264.70171892150609,108,51.584881506115721,1170,289.43220276949143,2230,340.8680096459625,2586,384.26683437424055,1171,265.72542219366215,343,84.510354395186397,456,83.252627586160912,503,143.07690239867509]
[null,"15 to 24 yrs.",400,163.05520537535745,735,178.10390225932727,900,250.86450526130633,66,50.960769224963627,562,168.78981011897608,1929,308.35369302150411,1659,294.42656130179557,597,156.79923469200989,355,109.48515881159419,285,76.81145747868608,268,91.945636111780743]
[null,"25 to 34 yrs.",267,115.03477735015616,452,124.45481107614924,679,208.92821733791729,134,60.720671933041061,810,216.84556716705094,2147,283.43253165436039,2194,290.80921580995329,686,165.16960979550689,73,34.669871646719429,228,62.153036933041335,545,142.22165798499185]
[null,"35 to 44 yrs.",763,183.11471814138807,689,161.5580391066938,1083,256.30840797757691,80,44.609416046390926,450,133.90668392578468,1323,218.1719505344351,1492,243.35570673399053,580,151.37370973851438,384,78.746428490440124,305,56.577380639262543,308,90.027773492406226]
[null,"45 to 54 yrs.",636,181.31464364468746,549,140.44215891248609,1276,260.82752922189792,152,44.732538492690082,1117,202.05444810743464,2709,294.78636332096505,2893,303.63629559062929,855,151.96710170296728,331,74.665922615340392,455,84.178382022939829,467,130.20752666416791]
[null,"55 to 64 yrs.",987,241.92354164074234,930,141.60155366379283,1053,200.91291645884792,187,50.378566871239997,1190,182.78949641595932,2579,319.34933849939318,2278,284.51889216711078,1001,169.57004452437937,390,81.492330927517344,714,110.48076755707302,652,152.80706789936124]
[null,"65 to 74 yrs.",751,210.52315787105226,336,96.669540187175812,759,192.9481795716145,118,38.729833462074168,1150,203.31010796318023,1847,221.82200071228283,1677,211.82539979898539,873,138.43048797140028,244,55.722526863020128,344,59.219929077971713,402,103.70149468546728]
[null,"Over 74 yrs. ",468,153.84407690905749,256,85.352211453482568,390,139.17614738165446,155,47.233462714478172,662,164.2589419179364,1473,201.85886158402855,1392,206.58412330089649,571,122.14335839496145,156,48.425200051213004,186,58.591808301161009,410,136.58330791132568]
[]
[]
[]
[]
[]
[]
[]
[]
[]
[]
[]
[]
[]
[]
[]
[]
[]
[]
[]
[]
[]
[]
[]
[]
[]
[]
[]
[]
[]
[]
[]
[]
[]
[]
[]
[]
[]
[]
[]
[]
[]
[]
[]
[]
[]
[]
[]
[]
[]
[]
[]
[]
[]
[]
[]
[]
[]
[]
[]
[]
[]
[]
[]
[]
[]
[]
[]
[]
[]
[]
[]
[]
[]
[]
[]
[]
[null,"Calculated B01001. GENDER BY AGE"]
[null,"Universe:  TOTAL POPULATION"]
[null,"Data Set: 2008-2012 American Community Survey 5-Year Estimates"]
[]
[null,null,"Alton",null,"Barnstead",null,"Belmont",null,"Center Harbor",null,"Gilford",null,"Gilmanton",null,"Laconia",null,"Meredith",null,"New Hampton",null,"Sanbornton",null,"Tilton"]
[null," ","Estimate","Margin of Error","Estimate","Margin of Error","Estimate","Margin of Error","Estimate","Margin of Error","Estimate","Margin of Error","Estimate","Margin of Error","Estimate",null,"Estimate","Margin of Error","Estimate","Margin of Error","Estimate","Margin of Error","Estimate","Margin of Error"]
[null,"Total",5240,16,4586,23,7345,19,1034,141,7140,20,3761,26,16062,22,6260,30,2234,144,2958,18,3586,22]
[null,"Under 15 yrs.",834,247.62875438849989,854,164.92119330152812,1402,307.6637775234517,123,46.98936049788292,983,191.35830266805775,800,157.99050604387594,2683,317.77193079313975,904,212.03537440719649,355,64.22616289332565,505,125.65826673959816,557,123.71337841963576]
[null,"15 to 24 yrs.",444,137.62267255071018,521,126.78722333105966,1231,252.52524626262618,138,57.428216061444921,890,200.75856146127367,437,111.98214143335535,1606,271.97610189132428,529,145.25839046333951,349,76.876524375130273,214,59.883219686319471,369,124.43873994861889]
[null,"25 to 34 yrs.",515,181.74157477033151,685,135.8455004775646,558,181.68654325513489,82,42.988370520409354,713,202.00495043438912,277,75.907838857393372,1953,239.55583900209987,534,157.04457965813401,240,60.19136150644875,269,76.883028036101706,382,120.69382751408624]
[null,"35 to 44 yrs.",743,203.9558775814024,600,136.4074778008889,1267,221.63934668736056,121,45.858477951192405,538,140.21412197064888,557,123.02032352420473,1824,301.77806414648495,819,182.54314558481784,210,47.843494855622744,358,83.186537372341689,508,135.36617007214173]
[null,"45 to 54 yrs.",667,191.0601999370879,762,139.89281611290838,1055,216.36543161974836,155,50.655700567655757,1227,247.04250646396866,435,100.69756700139284,2977,309.76281248723194,1186,180.7373785358192,461,77.01298591796062,586,111.91961400934154,532,131.03816238027761]
[null,"55 to 64 yrs.",992,261.5243774488336,594,111.08555261599052,956,187.24048707477772,197,49,1447,249.62772281940161,773,142.03872711341791,2359,292.28581901967124,832,156.71630419327786,279,55.21775076911409,592,110.81967334368028,535,114.39842656260619]
[null,"65 to 74 yrs.",665,168.33300330000651,356,100.9752444909147,492,137.22244714331543,136,38.93584466786357,741,156.96814963552319,293,96.291224937685783,1249,178.72324974664042,928,169.53465722382549,173,45.088801270381985,230,66.498120274185197,296,96.824583655185421]
[null,"Over 74 yrs. ",380,138.21722034536796,214,74.665922615340392,384,129.91535705989497,82,31.28897569432403,601,166.34301909007183,189,80.839346855352559,1411,196.98984745412642,528,129.93459893346343,167,60.876925020897694,204,66.113538704262382,407,116.2067123706716]

{"sheet":"ACS_Table_B01002","index":19,"n_rows":49,"n_cols":24,"rows_kept":49,"cut":false,"hidden":true,"merged":[[64938,10,64938,11],[64938,12,64938,13],[64938,14,64938,15],[64938,2,64938,3],[64938,4,64938,5],[64938,6,64938,7],[64938,8,64938,9],[64754,2,64754,3],[64754,4,64754,5],[64754,6,64754,7],[64754,8,64754,9],[64754,10,64754,11],[64754,12,64754,13],[64754,14,64754,15],[64692,2,64692,3],[64692,4,64692,5],[64774,14,64774,15],[64836,2,64836,3],[64836,4,64836,5],[64836,6,64836,7],[64836,8,64836,9],[64836,10,64836,11],[64836,12,64836,13],[64836,14,64836,15],[64774,2,64774,3],[64774,4,64774,5],[64856,6,64856,7],[64856,8,64856,9],[64774,10,64774,11],[64774,12,64774,13],[64774,6,64774,7],[64774,8,64774,9],[64856,10,64856,11],[64856,12,64856,13],[64856,14,64856,15],[64918,2,64918,3],[64918,4,64918,5],[64918,6,64918,7],[64918,8,64918,9],[64918,10,64918,11],[64918,12,64918,13],[64918,14,64918,15],[64856,2,64856,3],[64856,4,64856,5],[64528,6,64528,7],[64528,8,64528,9],[64446,10,64446,11],[64446,12,64446,13],[64446,6,64446,7],[64446,8,64446,9],[64528,10,64528,11],[64528,12,64528,13],[64528,14,64528,15],[64590,2,64590,3],[64590,4,64590,5],[64590,6,64590,7],[64590,8,64590,9],[64590,10,64590,11],[64590,12,64590,13],[64590,14,64590,15],[64528,2,64528,3],[64528,4,64528,5],[64610,14,64610,15],[64672,2,64672,3],[64672,4,64672,5],[64672,6,64672,7],[64672,8,64672,9],[64672,10,64672,11],[64672,12,64672,13],[64672,14,64672,15],[64610,2,64610,3],[64610,4,64610,5],[64692,6,64692,7],[64692,8,64692,9],[64610,10,64610,11],[64610,12,64610,13],[64610,6,64610,7],[64610,8,64610,9],[64692,10,64692,11],[64692,12,64692,13],[64692,14,64692,15],[64282,14,64282,15],[64344,2,64344,3],[64344,4,64344,5],[64344,6,64344,7],[64344,8,64344,9],[64344,10,64344,11],[64344,12,64344,13],[64344,14,64344,15],[64282,2,64282,3],[64282,4,64282,5],[64364,6,64364,7],[64364,8,64364,9],[64282,10,64282,11],[64282,12,64282,13],[64282,6,64282,7],[64282,8,64282,9],[64364,10,64364,11],[64364,12,64364,13],[64364,14,64364,15],[64426,2,64426,3],[64426,4,64426,5],[64426,6,64426,7],[64426,8,64426,9],[64426,10,64426,11],[64426,12,64426,13],[64426,14,64426,15],[64364,2,64364,3],[64364,4,64364,5],[64446,14,64446,15],[64508,2,64508,3],[64508,4,64508,5],[64508,6,64508,7],[64508,8,64508,9],[64508,10,64508,11],[64508,12,64508,13],[64508,14,64508,15],[64446,2,64446,3],[64446,4,64446,5],[64098,2,64098,3],[64098,4,64098,5],[64098,6,64098,7],[64098,8,64098,9],[64098,10,64098,11],[64098,12,64098,13],[64098,14,64098,15],[64036,2,64036,3],[64036,4,64036,5],[64118,14,64118,15],[64180,2,64180,3],[64180,4,64180,5],[64180,6,64180,7],[64180,8,64180,9],[64180,10,64180,11],[64180,12,64180,13],[64180,14,64180,15],[64118,2,64118,3],[64118,4,64118,5],[64200,6,64200,7],[64200,8,64200,9],[64118,10,64118,11],[64118,12,64118,13],[64118,6,64118,7],[64118,8,64118,9],[64200,10,64200,11],[64200,12,64200,13],[64200,14,64200,15],[64262,2,64262,3],[64262,4,64262,5],[64262,6,64262,7],[64262,8,64262,9],[64262,10,64262,11],[64262,12,64262,13],[64262,14,64262,15],[64200,2,64200,3],[64200,4,64200,5],[63872,6,63872,7],[63872,8,63872,9],[63790,10,63790,11],[63790,12,63790,13],[63790,6,63790,7],[63790,8,63790,9],[63872,10,63872,11],[63872,12,63872,13],[63872,14,63872,15],[63934,2,63934,3],[63934,4,63934,5],[63934,6,63934,7],[63934,8,63934,9],[63934,10,63934,11],[63934,12,63934,13],[63934,14,63934,15],[63872,2,63872,3],[63872,4,63872,5],[63954,14,63954,15],[64016,2,64016,3],[64016,4,64016,5],[64016,6,64016,7],[64016,8,64016,9],[64016,10,64016,11],[64016,12,64016,13],[64016,14,64016,15],[63954,2,63954,3],[63954,4,63954,5],[64036,6,64036,7],[64036,8,64036,9],[63954,10,63954,11],[63954,12,63954,13],[63954,6,63954,7],[63954,8,63954,9],[64036,10,64036,11],[64036,12,64036,13],[64036,14,64036,15],[63626,14,63626,15],[63688,2,63688,3],[63688,4,63688,5],[63688,6,63688,7],[63688,8,63688,9],[63688,10,63688,11],[63688,12,63688,13],[63688,14,63688,15],[63626,2,63626,3],[63626,4,63626,5],[63708,6,63708,7],[63708,8,63708,9],[63626,10,63626,11],[63626,12,63626,13],[63626,6,63626,7],[63626,8,63626,9],[63708,10,63708,11],[63708,12,63708,13],[63708,14,63708,15],[63770,2,63770,3],[63770,4,63770,5],[63770,6,63770,7],[63770,8,63770,9],[63770,10,63770,11],[63770,12,63770,13],[63770,14,63770,15],[63708,2,63708,3],[63708,4,63708,5],[63790,14,63790,15],[63852,2,63852,3],[63852,4,63852,5],[63852,6,63852,7],[63852,8,63852,9],[63852,10,63852,11],[63852,12,63852,13],[63852,14,63852,15],[63790,2,63790,3],[63790,4,63790,5],[63442,2,63442,3],[63442,4,63442,5],[63442,6,63442,7],[63442,8,63442,9],[63442,10,63442,11],[63442,12,63442,13],[63442,14,63442,15],[63380,2,63380,3],[63380,4,63380,5],[63462,14,63462,15],[63524,2,63524,3],[63524,4,63524,5],[63524,6,63524,7],[63524,8,63524,9],[63524,10,63524,11],[63524,12,63524,13],[63524,14,63524,15],[63462,2,63462,3],[63462,4,63462,5],[63544,6,63544,7],[63544,8,63544,9],[63462,10,63462,11],[63462,12,63462,13],[63462,6,63462,7],[63462,8,63462,9],[63544,10,63544,11],[63544,12,63544,13],[63544,14,63544,15],[63606,2,63606,3],[63606,4,63606,5],[63606,6,63606,7],[63606,8,63606,9],[63606,10,63606,11],[63606,12,63606,13],[63606,14,63606,15],[63544,2,63544,3],[63544,4,63544,5],[63216,6,63216,7],[63216,8,63216,9],[63134,10,63134,11],[63134,12,63134,13],[63134,6,63134,7],[63134,8,63134,9],[63216,10,63216,11],[63216,12,63216,13],[63216,14,63216,15],[63278,2,63278,3],[63278,4,63278,5],[63278,6,63278,7],[63278,8,63278,9],[63278,10,63278,11],[63278,12,63278,13],[63278,14,63278,15],[63216,2,63216,3],[63216,4,63216,5],[63298,14,63298,15],[63360,2,63360,3],[63360,4,63360,5],[63360,6,63360,7],[63360,8,63360,9],[63360,10,63360,11],[63360,12,63360,13],[63360,14,63360,15],[63298,2,63298,3],[63298,4,63298,5],[63380,6,63380,7],[63380,8,63380,9],[63298,10,63298,11],[63298,12,63298,13],[63298,6,63298,7],[63298,8,63298,9],[63380,10,63380,11],[63380,12,63380,13],[63380,14,63380,15],[62970,14,62970,15],[63032,2,63032,3],[63032,4,63032,5],[63032,6,63032,7],[63032,8,63032,9],[63032,10,63032,11],[63032,12,63032,13],[63032,14,63032,15],[62970,2,62970,3],[62970,4,62970,5],[63052,6,63052,7],[63052,8,63052,9],[62970,10,62970,11],[62970,12,62970,13],[62970,6,62970,7],[62970,8,62970,9],[63052,10,63052,11],[63052,12,63052,13],[63052,14,63052,15],[63114,2,63114,3],[63114,4,63114,5],[63114,6,63114,7],[63114,8,63114,9],[63114,10,63114,11],[63114,12,63114,13],[63114,14,63114,15],[63052,2,63052,3],[63052,4,63052,5],[63134,14,63134,15],[63196,2,63196,3],[63196,4,63196,5],[63196,6,63196,7],[63196,8,63196,9],[63196,10,63196,11],[63196,12,63196,13],[63196,14,63196,15],[63134,2,63134,3],[63134,4,63134,5],[62786,2,62786,3],[62786,4,62786,5],[62786,6,62786,7],[62786,8,62786,9],[62786,10,62786,11],[62786,12,62786,13],[62786,14,62786,15],[62724,2,62724,3],[62724,4,62724,5],[62806,14,62806,15],[62868,2,62868,3],[62868,4,62868,5],[62868,6,62868,7],[62868,8,62868,9],[62868,10,62868,11],[62868,12,62868,13],[62868,14,62868,15],[62806,2,62806,3],[62806,4,62806,5],[62888,6,62888,7],[62888,8,62888,9],[62806,10,62806,11],[62806,12,62806,13],[62806,6,62806,7],[62806,8,62806,9],[62888,10,62888,11],[62888,12,62888,13],[62888,14,62888,15],[62950,2,62950,3],[62950,4,62950,5],[62950,6,62950,7],[62950,8,62950,9],[62950,10,62950,11],[62950,12,62950,13],[62950,14,62950,15],[62888,2,62888,3],[62888,4,62888,5],[62560,6,62560,7],[62560,8,62560,9],[62478,10,62478,11],[62478,12,62478,13],[62478,6,62478,7],[62478,8,62478,9],[62560,10,62560,11],[62560,12,62560,13],[62560,14,62560,15],[62622,2,62622,3],[62622,4,62622,5],[62622,6,62622,7],[62622,8,62622,9],[62622,10,62622,11],[62622,12,62622,13],[62622,14,62622,15],[62560,2,62560,3],[62560,4,62560,5],[62642,14,62642,15],[62704,2,62704,3],[62704,4,62704,5],[62704,6,62704,7],[62704,8,62704,9],[62704,10,62704,11],[62704,12,62704,13],[62704,14,62704,15],[62642,2,62642,3],[62642,4,62642,5],[62724,6,62724,7],[62724,8,62724,9],[62642,10,62642,11],[62642,12,62642,13],[62642,6,62642,7],[62642,8,62642,9],[62724,10,62724,11],[62724,12,62724,13],[62724,14,62724,15],[62314,14,62314,15],[62376,2,62376,3],[62376,4,62376,5],[62376,6,62376,7],[62376,8,62376,9],[62376,10,62376,11],[62376,12,62376,13],[62376,14,62376,15],[62314,2,62314,3],[62314,4,62314,5],[62396,6,62396,7],[62396,8,62396,9],[62314,10,62314,11],[62314,12,62314,13],[62314,6,62314,7],[62314,8,62314,9],[62396,10,62396,11],[62396,12,62396,13],[62396,14,62396,15],[62458,2,62458,3],[62458,4,62458,5],[62458,6,62458,7],[62458,8,62458,9],[62458,10,62458,11],[62458,12,62458,13],[62458,14,62458,15],[62396,2,62396,3],[62396,4,62396,5],[62478,14,62478,15],[62540,2,62540,3],[62540,4,62540,5],[62540,6,62540,7],[62540,8,62540,9],[62540,10,62540,11],[62540,12,62540,13],[62540,14,62540,15],[62478,2,62478,3],[62478,4,62478,5],[62130,2,62130,3],[62130,4,62130,5],[62130,6,62130,7],[62130,8,62130,9],[62130,10,62130,11],[62130,12,62130,13],[62130,14,62130,15],[62068,2,62068,3],[62068,4,62068,5],[62150,14,62150,15],[62212,2,62212,3],[62212,4,62212,5],[62212,6,62212,7],[62212,8,62212,9],[62212,10,62212,11],[62212,12,62212,13],[62212,14,62212,15],[62150,2,62150,3],[62150,4,62150,5],[62232,6,62232,7],[62232,8,62232,9],[62150,10,62150,11],[62150,12,62150,13],[62150,6,62150,7],[62150,8,62150,9],[62232,10,62232,11],[62232,12,62232,13],[62232,14,62232,15],[62294,2,62294,3],[62294,4,62294,5],[62294,6,62294,7],[62294,8,62294,9],[62294,10,62294,11],[62294,12,62294,13],[62294,14,62294,15],[62232,2,62232,3],[62232,4,62232,5],[61904,6,61904,7],[61904,8,61904,9],[61822,10,61822,11],[61822,12,61822,13],[61822,6,61822,7],[61822,8,61822,9],[61904,10,61904,11],[61904,12,61904,13],[61904,14,61904,15],[61966,2,61966,3],[61966,4,61966,5],[61966,6,61966,7],[61966,8,61966,9],[61966,10,61966,11],[61966,12,61966,13],[61966,14,61966,15],[61904,2,61904,3],[61904,4,61904,5],[61986,14,61986,15],[62048,2,62048,3],[62048,4,62048,5],[62048,6,62048,7],[62048,8,62048,9],[62048,10,62048,11],[62048,12,62048,13],[62048,14,62048,15],[61986,2,61986,3],[61986,4,61986,5],[62068,6,62068,7],[62068,8,62068,9],[61986,10,61986,11],[61986,12,61986,13],[61986,6,61986,7],[61986,8,61986,9],[62068,10,62068,11],[62068,12,62068,13],[62068,14,62068,15],[61658,14,61658,15],[61720,2,61720,3],[61720,4,61720,5],[61720,6,61720,7],[61720,8,61720,9],[61720,10,61720,11],[61720,12,61720,13],[61720,14,61720,15],[61658,2,61658,3],[61658,4,61658,5],[61740,6,61740,7],[61740,8,61740,9],[61658,10,61658,11],[61658,12,61658,13],[61658,6,61658,7],[61658,8,61658,9],[61740,10,61740,11],[61740,12,61740,13],[61740,14,61740,15],[61802,2,61802,3],[61802,4,61802,5],[61802,6,61802,7],[61802,8,61802,9],[61802,10,61802,11],[61802,12,61802,13],[61802,14,61802,15],[61740,2,61740,3],[61740,4,61740,5],[61822,14,61822,15],[61884,2,61884,3],[61884,4,61884,5],[61884,6,61884,7],[61884,8,61884,9],[61884,10,61884,11],[61884,12,61884,13],[61884,14,61884,15],[61822,2,61822,3],[61822,4,61822,5],[61474,2,61474,3],[61474,4,61474,5],[61474,6,61474,7],[61474,8,61474,9],[61474,10,61474,11],[61474,12,61474,13],[61474,14,61474,15],[61412,2,61412,3],[61412,4,61412,5],[61494,14,61494,15],[61556,2,61556,3],[61556,4,61556,5],[61556,6,61556,7],[61556,8,61556,9],[61556,10,61556,11],[61556,12,61556,13],[61556,14,61556,15],[61494,2,61494,3],[61494,4,61494,5],[61576,6,61576,7],[61576,8,61576,9],[61494,10,61494,11],[61494,12,61494,13],[61494,6,61494,7],[61494,8,61494,9],[61576,10,61576,11],[61576,12,61576,13],[61576,14,61576,15],[61638,2,61638,3],[61638,4,61638,5],[61638,6,61638,7],[61638,8,61638,9],[61638,10,61638,11],[61638,12,61638,13],[61638,14,61638,15],[61576,2,61576,3],[61576,4,61576,5],[61248,6,61248,7],[61248,8,61248,9],[61166,10,61166,11],[61166,12,61166,13],[61166,6,61166,7],[61166,8,61166,9],[61248,10,61248,11],[61248,12,61248,13],[61248,14,61248,15],[61310,2,61310,3],[61310,4,61310,5],[61310,6,61310,7],[61310,8,61310,9],[61310,10,61310,11],[61310,12,61310,13],[61310,14,61310,15],[61248,2,61248,3],[61248,4,61248,5],[61330,14,61330,15],[61392,2,61392,3],[61392,4,61392,5],[61392,6,61392,7],[61392,8,61392,9],[61392,10,61392,11],[61392,12,61392,13],[61392,14,61392,15],[61330,2,61330,3],[61330,4,61330,5],[61412,6,61412,7],[61412,8,61412,9],[61330,10,61330,11],[61330,12,61330,13],[61330,6,61330,7],[61330,8,61330,9],[61412,10,61412,11],[61412,12,61412,13],[61412,14,61412,15],[61002,14,61002,15],[61064,2,61064,3],[61064,4,61064,5],[61064,6,61064,7],[61064,8,61064,9],[61064,10,61064,11],[61064,12,61064,13],[61064,14,61064,15],[61002,2,61002,3],[61002,4,61002,5],[61084,6,61084,7],[61084,8,61084,9],[61002,10,61002,11],[61002,12,61002,13],[61002,6,61002,7],[61002,8,61002,9],[61084,10,61084,11],[61084,12,61084,13],[61084,14,61084,15],[61146,2,61146,3],[61146,4,61146,5],[61146,6,61146,7],[61146,8,61146,9],[61146,10,61146,11],[61146,12,61146,13],[61146,14,61146,15],[61084,2,61084,3],[61084,4,61084,5],[61166,14,61166,15],[61228,2,61228,3],[61228,4,61228,5],[61228,6,61228,7],[61228,8,61228,9],[61228,10,61228,11],[61228,12,61228,13],[61228,14,61228,15],[61166,2,61166,3],[61166,4,61166,5],[60818,2,60818,3],[60818,4,60818,5],[60818,6,60818,7],[60818,8,60818,9],[60818,10,60818,11],[60818,12,60818,13],[60818,14,60818,15],[60756,2,60756,3],[60756,4,60756,5],[60838,14,60838,15],[60900,2,60900,3],[60900,4,60900,5],[60900,6,60900,7],[60900,8,60900,9],[60900,10,60900,11],[60900,12,60900,13],[60900,14,60900,15],[60838,2,60838,3],[60838,4,60838,5],[60920,6,60920,7],[60920,8,60920,9],[60838,10,60838,11],[60838,12,60838,13],[60838,6,60838,7],[60838,8,60838,9],[60920,10,60920,11],[60920,12,60920,13],[60920,14,60920,15],[60982,2,60982,3],[60982,4,60982,5],[60982,6,60982,7],[60982,8,60982,9],[60982,10,60982,11],[60982,12,60982,13],[60982,14,60982,15],[60920,2,60920,3],[60920,4,60920,5],[60592,6,60592,7],[60592,8,60592,9],[60510,10,60510,11],[60510,12,60510,13],[60510,6,60510,7],[60510,8,60510,9],[60592,10,60592,11],[60592,12,60592,13],[60592,14,60592,15],[60654,2,60654,3],[60654,4,60654,5],[60654,6,60654,7],[60654,8,60654,9],[60654,10,60654,11],[60654,12,60654,13],[60654,14,60654,15],[60592,2,60592,3],[60592,4,60592,5],[60674,14,60674,15],[60736,2,60736,3],[60736,4,60736,5],[60736,6,60736,7],[60736,8,60736,9],[60736,10,60736,11],[60736,12,60736,13],[60736,14,60736,15],[60674,2,60674,3],[60674,4,60674,5],[60756,6,60756,7],[60756,8,60756,9],[60674,10,60674,11],[60674,12,60674,13],[60674,6,60674,7],[60674,8,60674,9],[60756,10,60756,11],[60756,12,60756,13],[60756,14,60756,15],[60346,14,60346,15],[60408,2,60408,3],[60408,4,60408,5],[60408,6,60408,7],[60408,8,60408,9],[60408,10,60408,11],[60408,12,60408,13],[60408,14,60408,15],[60346,2,60346,3],[60346,4,60346,5],[60428,6,60428,7],[60428,8,60428,9],[60346,10,60346,11],[60346,12,60346,13],[60346,6,60346,7],[60346,8,60346,9],[60428,10,60428,11],[60428,12,60428,13],[60428,14,60428,15],[60490,2,60490,3],[60490,4,60490,5],[60490,6,60490,7],[60490,8,60490,9],[60490,10,60490,11],[60490,12,60490,13],[60490,14,60490,15],[60428,2,60428,3],[60428,4,60428,5],[60510,14,60510,15],[60572,2,60572,3],[60572,4,60572,5],[60572,6,60572,7],[60572,8,60572,9],[60572,10,60572,11],[60572,12,60572,13],[60572,14,60572,15],[60510,2,60510,3],[60510,4,60510,5],[60162,2,60162,3],[60162,4,60162,5],[60162,6,60162,7],[60162,8,60162,9],[60162,10,60162,11],[60162,12,60162,13],[60162,14,60162,15],[60100,2,60100,3],[60100,4,60100,5],[60182,14,60182,15],[60244,2,60244,3],[60244,4,60244,5],[60244,6,60244,7],[60244,8,60244,9],[60244,10,60244,11],[60244,12,60244,13],[60244,14,60244,15],[60182,2,60182,3],[60182,4,60182,5],[60264,6,60264,7],[60264,8,60264,9],[60182,10,60182,11],[60182,12,60182,13],[60182,6,60182,7],[60182,8,60182,9],[60264,10,60264,11],[60264,12,60264,13],[60264,14,60264,15],[60326,2,60326,3],[60326,4,60326,5],[60326,6,60326,7],[60326,8,60326,9],[60326,10,60326,11],[60326,12,60326,13],[60326,14,60326,15],[60264,2,60264,3],[60264,4,60264,5],[59936,6,59936,7],[59936,8,59936,9],[59854,10,59854,11],[59854,12,59854,13],[59854,6,59854,7],[59854,8,59854,9],[59936,10,59936,11],[59936,12,59936,13],[59936,14,59936,15],[59998,2,59998,3],[59998,4,59998,5],[59998,6,59998,7],[59998,8,59998,9],[59998,10,59998,11],[59998,12,59998,13],[59998,14,59998,15],[59936,2,59936,3],[59936,4,59936,5],[60018,14,60018,15],[60080,2,60080,3],[60080,4,60080,5],[60080,6,60080,7],[60080,8,60080,9],[60080,10,60080,11],[60080,12,60080,13],[60080,14,60080,15],[60018,2,60018,3],[60018,4,60018,5],[60100,6,60100,7],[60100,8,60100,9],[60018,10,60018,11],[60018,12,60018,13],[60018,6,60018,7],[60018,8,60018,9],[60100,10,60100,11],[60100,12,60100,13],[60100,14,60100,15],[59690,14,59690,15],[59752,2,59752,3],[59752,4,59752,5],[59752,6,59752,7],[59752,8,59752,9],[59752,10,59752,11],[59752,12,59752,13],[59752,14,59752,15],[59690,2,59690,3],[59690,4,59690,5],[59772,6,59772,7],[59772,8,59772,9],[59690,10,59690,11],[59690,12,59690,13],[59690,6,59690,7],[59690,8,59690,9],[59772,10,59772,11],[59772,12,59772,13],[59772,14,59772,15],[59834,2,59834,3],[59834,4,59834,5],[59834,6,59834,7],[59834,8,59834,9],[59834,10,59834,11],[59834,12,59834,13],[59834,14,59834,15],[59772,2,59772,3],[59772,4,59772,5],[59854,14,59854,15],[59916,2,59916,3],[59916,4,59916,5],[59916,6,59916,7],[59916,8,59916,9],[59916,10,59916,11],[59916,12,59916,13],[59916,14,59916,15],[59854,2,59854,3],[59854,4,59854,5],[59506,2,59506,3],[59506,4,59506,5],[59506,6,59506,7],[59506,8,59506,9],[59506,10,59506,11],[59506,12,59506,13],[59506,14,59506,15],[59444,2,59444,3],[59444,4,59444,5],[59526,14,59526,15],[59588,2,59588,3],[59588,4,59588,5],[59588,6,59588,7],[59588,8,59588,9],[59588,10,59588,11],[59588,12,59588,13],[59588,14,59588,15],[59526,2,59526,3],[59526,4,59526,5],[59608,6,59608,7],[59608,8,59608,9],[59526,10,59526,11],[59526,12,59526,13],[59526,6,59526,7],[59526,8,59526,9],[59608,10,59608,11],[59608,12,59608,13],[59608,14,59608,15],[59670,2,59670,3],[59670,4,59670,5],[59670,6,59670,7],[59670,8,59670,9],[59670,10,59670,11],[59670,12,59670,13],[59670,14,59670,15],[59608,2,59608,3],[59608,4,59608,5],[59280,6,59280,7],[59280,8,59280,9],[59198,10,59198,11],[59198,12,59198,13],[59198,6,59198,7],[59198,8,59198,9],[59280,10,59280,11],[59280,12,59280,13],[59280,14,59280,15],[59342,2,59342,3],[59342,4,59342,5],[59342,6,59342,7],[59342,8,59342,9],[59342,10,59342,11],[59342,12,59342,13],[59342,14,59342,15],[59280,2,59280,3],[59280,4,59280,5],[59362,14,59362,15],[59424,2,59424,3],[59424,4,59424,5],[59424,6,59424,7],[59424,8,59424,9],[59424,10,59424,11],[59424,12,59424,13],[59424,14,59424,15],[59362,2,59362,3],[59362,4,59362,5],[59444,6,59444,7],[59444,8,59444,9],[59362,10,59362,11],[59362,12,59362,13],[59362,6,59362,7],[59362,8,59362,9],[59444,10,59444,11],[59444,12,59444,13],[59444,14,59444,15],[59034,14,59034,15],[59096,2,59096,3],[59096,4,59096,5],[59096,6,59096,7],[59096,8,59096,9],[59096,10,59096,11],[59096,12,59096,13],[59096,14,59096,15],[59034,2,59034,3],[59034,4,59034,5],[59116,6,59116,7],[59116,8,59116,9],[59034,10,59034,11],[59034,12,59034,13],[59034,6,59034,7],[59034,8,59034,9],[59116,10,59116,11],[59116,12,59116,13],[59116,14,59116,15],[59178,2,59178,3],[59178,4,59178,5],[59178,6,59178,7],[59178,8,59178,9]],"merged_total":17424,"flags":["merged_cut"]}
[null,"B01001. GENDER BY AGE"]
[null,"Universe:  TOTAL POPULATION, Median Age"]
[null,"Data Set: 2018-2022 American Community Survey 5-Year Estimates"]
[]
[null,null,"Alton",null,"Barnstead",null,"Belmont",null,"Center Harbor",null,"Gilford",null,"Gilmanton",null,"Laconia",null,"Meredith",null,"New Hampton",null,"Sanbornton",null,"Tilton"]
[null," ","Estimate","Margin of Error","Estimate","Margin of Error","Estimate","Margin of Error","Estimate","Margin of Error","Estimate","Margin of Error","Estimate","Margin of Error","Estimate","Margin of Error","Estimate","Margin of Error","Estimate","Margin of Error","Estimate","Margin of Error","Estimate","Margin of Error"]
[null,"Total:",52.4,3.6,44.2,2.9,47.5,4.3,63.5,4.5,46.8,3.1,45,6.6,43.7,2.8,55.2,3.3,51.1,4.7,45.8,6.5,47.2,5]
[null,"Male:",50.1,6,45.3,2.2999999999999998,45.9,4.2,66.2,8.1999999999999993,45.3,6.7,46.3,8.3000000000000007,42.9,2.5,55.3,3.8,51.4,4.7,42.2,7.9,47.3,8.4]
[null,"Female:",52.7,1.8,42.5,4.2,49,5.6,62.8,3.6,48.3,4.5,44.7,6,44.7,5.4,55,5.0999999999999996,49.8,8.4,51.7,5.6,46.9,5]
[]
[]
[]
[]
[]
[]
[]
[]
[]
[]
[]
[null,"B01001. GENDER BY AGE"]
[null,"Universe:  TOTAL POPULATION, Median Age"]
[null,"Data Set: 2013-2017 American Community Survey 5-Year Estimates"]
[]
[null,null,"Alton",null,"Barnstead",null,"Belmont",null,"Center Harbor",null,"Gilford",null,"Gilmanton",null,"Laconia",null,"Meredith",null,"New Hampton",null,"Sanbornton",null,"Tilton"]
[null," ","Estimate","Margin of Error","Estimate","Margin of Error","Estimate","Margin of Error","Estimate","Margin of Error","Estimate","Margin of Error","Estimate","Margin of Error","Estimate","Margin of Error","Estimate","Margin of Error","Estimate","Margin of Error","Estimate","Margin of Error","Estimate","Margin of Error"]
[null,"Total:",46.8,2.9,41,3.4,44.1,1.8,53.2,4.8,50.5,2.4,47,1.7,46,2.5,47.3,2.6,44.5,3.1,48,2.5,49.2,3.8]
[null,"Male:",48,4.0999999999999996,40.6,2.9,40.799999999999997,4.8,52.3,5.7,48.5,3.9,48.1,2.2000000000000002,45.8,3,44.3,4.4000000000000004,47,6.1,47.6,2,49.3,2.5]
[null,"Female:",46.4,3.3,43,4,47.4,5,55.2,5.2,51.9,3.8,46.5,1.7,46.1,3.1,49.8,3.2,43.3,4.5999999999999996,50.2,4.9000000000000004,48.8,7.6]
[]
[]
[]
[]
[]
[]
[]
[]
[]
[]
[]
[null,"B01001. GENDER BY AGE"]
[null,"Universe:  TOTAL POPULATION, Median Age"]
[null,"Data Set: 2008-2012 American Community Survey 5-Year Estimates"]
[]
[null,null,"Alton",null,"Barnstead",null,"Belmont",null,"Center Harbor",null,"Gilford",null,"Gilmanton",null,"Laconia",null,"Meredith",null,"New Hampton",null,"Sanbornton",null,"Tilton"]
[null," ","Estimate","Margin of Error","Estimate","Margin of Error","Estimate","Margin of Error","Estimate","Margin of Error","Estimate","Margin of Error","Estimate","Margin of Error","Estimate","Margin of Error","Estimate","Margin of Error","Estimate","Margin of Error","Estimate","Margin of Error","Estimate","Margin of Error"]
[null,"Total:",46.4,5.9,38.4,2.9,40.1,2.8,48.5,6.3,49.2,1.9,40.5,3.9,44.7,2.1,48.3,3.3,44,4.5,47.4,3.7,44.7,6]
[null,"Male:",45.3,6,39.5,3.7,38.700000000000003,3.1,50.6,5.5,47.1,5,39.6,5.3,44,3.2,47.2,3.6,42.8,4,48.6,2.9,46.7,8.6]
[null,"Female:",47,6.6,37.299999999999997,3.6,41.1,3,45.6,7.9,50.2,2.2999999999999998,41.4,4.9000000000000004,45.1,2,50.2,4.5999999999999996,44.8,5.7,46.2,3.3,44.5,5.2]

{"sheet":"ACS_Tbl_B11001_B11002_B25010","index":20,"n_rows":202,"n_cols":24,"rows_kept":202,"cut":false,"hidden":true,"merged":[]}
[null,"B11001. HOUSEHOLD TYPE (INCLUDING LIVING ALONE)"]
[null,"Universe:  HOUSEHOLDS"]
[null,"Data Set: 2018-2022 American Community Survey 5-Year Estimates"]
[]
[null,null,"Alton",null,"Barnstead",null,"Belmont",null,"Center Harbor",null,"Gilford",null,"Gilmanton",null,"Laconia",null,"Meredith",null,"New Hampton",null,"Sanbornton",null,"Tilton"]
[null," ","Estimate","Margin of Error","Estimate","Margin of Error","Estimate","Margin of Error","Estimate","Margin of Error","Estimate","Margin of Error","Estimate","Margin of Error","Estimate","Margin of Error","Estimate","Margin of Error","Estimate","Margin of Error","Estimate","Margin of Error","Estimate","Margin of Error"]
[null,"Total:",2240,229,1840,167,2940,252,384,88,3069,236,1575,155,6965,394,3242,243,978,123,1125,132,1598,137]
[null,"Family households:",1852,184,1408,116,1988,170,283,77,2187,146,1093,121,4057,295,1801,201,666,78,768,96,997,113]
[null,"Married-couple family",1587,195,1149,128,1777,209,262,74,1833,202,912,135,2785,306,1442,193,621,80,620,112,687,122]
[null,"Other family:",265,143,259,104,211,96,21,19,354,154,181,84,1272,244,359,104,45,28,148,81,310,113]
[null,"Male householder, no spouse present",116,78,114,63,70,59,2,5,93,70,49,46,346,144,118,64,29,24,35,37,17,22]
[null,"Female householder, no spouse present",149,127,145,89,141,78,19,19,261,133,132,85,926,221,241,101,16,15,113,78,293,111]
[null,"Nonfamily households:",388,178,432,153,952,257,101,41,882,273,482,162,2908,393,1441,328,312,97,357,130,601,171]
[null,"Householder living alone",339,173,386,147,816,249,99,41,703,237,447,159,2572,383,1253,310,253,86,276,113,472,139]
[null,"Householder not living alone",49,45,46,33,136,97,2,4,179,112,35,35,336,155,188,87,59,36,81,69,129,79]
[]
[]
[]
[]
[]
[]
[]
[]
[]
[]
[]
[]
[]
[]
[]
[]
[]
[null,"B11002. HOUSEHOLD TYPE BY RELATIVES AND NONRELATIVES FOR POPULATION IN HOUSEHOLDS "]
[null,"Universe:  POPULATION IN HOUSEHOLDS"]
[null,{"$f":"B3","v":"Data Set: 2018-2022 American Community Survey 5-Year Estimates"}]
[]
[null,null,"Alton",null,"Barnstead",null,"Belmont",null,"Center Harbor",null,"Gilford",null,"Gilmanton",null,"Laconia",null,"Meredith",null,"New Hampton",null,"Sanbornton",null,"Tilton"]
[null," ","Estimate","Margin of Error","Estimate","Margin of Error","Estimate","Margin of Error","Estimate","Margin of Error","Estimate","Margin of Error","Estimate","Margin of Error","Estimate","Margin of Error","Estimate","Margin of Error","Estimate","Margin of Error","Estimate","Margin of Error","Estimate","Margin of Error"]
[null,"Total:",5896,17,4941,20,7350,21,819,181,7724,20,3959,28,16373,21,6639,37,2496,180,3034,21,3684,29]
[null,"In family households:",5459,195,4443,171,6224,300,716,175,6618,370,3443,170,13004,490,4950,386,2105,205,2604,166,2922,235]
[null,"In married-couple family:",4570,490,3535,334,5446,510,639,159,5362,588,2847,280,8480,957,3901,454,1946,196,2140,283,1856,327]
[null,"Relatives",4469,468,3511,334,5337,527,639,159,5362,588,2822,280,8090,921,3898,454,1930,195,2124,282,1844,328]
[null,"Nonrelatives",101,103,24,30,109,77,0,12,0,17,25,42,390,228,3,6,16,24,16,25,12,20]
[null,"In male householder, no spouse present, family:",550,383,430,237,249,204,9,18,368,272,188,180,1196,497,372,221,111,98,127,141,81,103]
[null,"Relatives",488,322,329,177,211,176,7,14,297,213,153,146,1004,419,361,212,100,90,103,111,72,98]
[null,"Nonrelatives",62,70,101,75,38,47,2,4,71,65,35,47,192,123,11,18,11,18,24,33,9,13]
[null,"In female householder, no spouse present, family:",339,307,478,275,529,289,68,66,888,438,408,257,3328,875,677,292,48,37,337,237,985,347]
[null,"Relatives",324,285,441,255,496,271,68,66,842,432,386,250,3120,809,592,249,48,37,283,200,901,332]
[null,"Nonrelatives",15,27,37,37,33,39,0,12,46,48,22,25,208,188,85,67,0,12,54,63,84,71]
[null,"In nonfamily households",437,194,498,169,1126,297,103,42,1106,371,516,172,3369,487,1689,388,391,116,430,166,762,235]
[]
[]
[]
[null,"Calculated Average  Household Size by Household Type"]
[null,"Universe:  POPULATION IN HOUSEHOLDS"]
[null,"Data Set: 2018-2022 American Community Survey 5-Year Estimates"]
[]
[null,null,"Alton",null,"Barnstead",null,"Belmont",null,"Center Harbor",null,"Gilford",null,"Gilmanton",null,"Laconia",null,"Meredith",null,"New Hampton",null,"Sanbornton",null,"Tilton"]
[null," ","Estimate","Margin of Error","Estimate","Margin of Error","Estimate","Margin of Error","Estimate","Margin of Error","Estimate","Margin of Error","Estimate","Margin of Error","Estimate","Margin of Error","Estimate","Margin of Error","Estimate","Margin of Error","Estimate","Margin of Error","Estimate","Margin of Error"]
[null,"Total:",{"$f":"C39/C7","v":2.6321428571428571},{"$f":"D73","v":0.27},{"$f":"E39/E7","v":2.6853260869565219},{"$f":"(SQRT((F$39^2)+((E$39^2)/(E$7^2))*(F$7^2)))/E$7","v":0.24396479136909405},{"$f":"G39/G7","v":2.5},{"$f":"(SQRT((H$39^2)+((G$39^2)/(G$7^2))*(H$7^2)))/G$7","v":0.21440472885433762},{"$f":"I39/I7","v":2.1328125},{"$f":"(SQRT((J$39^2)+((I$39^2)/(I$7^2))*(J$7^2)))/I$7","v":0.67902165290392069},{"$f":"K39/K7","v":2.5167807103290976},{"$f":"(SQRT((L$39^2)+((K$39^2)/(K$7^2))*(L$7^2)))/K$7","v":0.19364512059855743},{"$f":"M39/M7","v":2.5136507936507937},{"$f":"(SQRT((N$39^2)+((M$39^2)/(M$7^2))*(N$7^2)))/M$7","v":0.2480131406119826},{"$f":"O39/O7","v":2.3507537688442213},{"$f":"(SQRT((P$39^2)+((O$39^2)/(O$7^2))*(P$7^2)))/O$7","v":0.13301292528959385},{"$f":"Q39/Q7","v":2.0478099938309686},{"$f":"(SQRT((R$39^2)+((Q$39^2)/(Q$7^2))*(R$7^2)))/Q$7","v":0.15391470886544545},{"$f":"S39/S7","v":2.5521472392638036},{"$f":"(SQRT((T$39^2)+((S$39^2)/(S$7^2))*(T$7^2)))/S$7","v":0.36999916519427656},{"$f":"U39/U7","v":2.6968888888888887},{"$f":"(SQRT((V$39^2)+((U$39^2)/(U$7^2))*(V$7^2)))/U$7","v":0.31698506310205876},{"$f":"W39/W7","v":2.3053817271589487},{"$f":"(SQRT((X$39^2)+((W$39^2)/(W$7^2))*(X$7^2)))/W$7","v":0.19847677343054784}]
[null,"In family households:",{"$f":"C40/C8","v":2.9476241900647948},{"$f":"(SQRT((D$40^2)+((C$40^2)/(C$8^2))*(D$8^2)))/C$8","v":0.31120557435110702},{"$f":"E40/E8","v":3.1555397727272729},{"$f":"(SQRT((F$40^2)+((E$40^2)/(E$8^2))*(F$8^2)))/E$8","v":0.28694253731326252},{"$f":"G40/G8","v":3.1307847082494971},{"$f":"(SQRT((H$40^2)+((G$40^2)/(G$8^2))*(H$8^2)))/G$8","v":0.30732405518281708},{"$f":"I40/I8","v":2.5300353356890461},{"$f":"(SQRT((J$40^2)+((I$40^2)/(I$8^2))*(J$8^2)))/I$8","v":0.925343105801676},{"$f":"K40/K8","v":3.0260631001371743},{"$f":"(SQRT((L$40^2)+((K$40^2)/(K$8^2))*(L$8^2)))/K$8","v":0.26349982010325307},{"$f":"M40/M8","v":3.1500457456541628},{"$f":"(SQRT((N$40^2)+((M$40^2)/(M$8^2))*(N$8^2)))/M$8","v":0.38183735255575024},{"$f":"O40/O8","v":3.2053241311313778},{"$f":"(SQRT((P$40^2)+((O$40^2)/(O$8^2))*(P$8^2)))/O$8","v":0.26250678938030608},{"$f":"Q40/Q8","v":2.7484730705163796},{"$f":"(SQRT((R$40^2)+((Q$40^2)/(Q$8^2))*(R$8^2)))/Q$8","v":0.37420084804317982},{"$f":"S40/S8","v":3.1606606606606609},{"$f":"(SQRT((T$40^2)+((S$40^2)/(S$8^2))*(T$8^2)))/S$8","v":0.48142455121838029},{"$f":"U40/U8","v":3.390625},{"$f":"(SQRT((V$40^2)+((U$40^2)/(U$8^2))*(V$8^2)))/U$8","v":0.47576181100249815},{"$f":"W40/W8","v":2.9307923771313944},{"$f":"(SQRT((X$40^2)+((W$40^2)/(W$8^2))*(X$8^2)))/W$8","v":0.40730674733828259}]
[null,"In nonfamily households",{"$f":"C50/C13","v":1.1262886597938144},{"$f":"(SQRT((D$50^2)+((C$50^2)/(C$13^2))*(D$13^2)))/C$13","v":0.71901203598823649},{"$f":"E50/E13","v":1.1527777777777777},{"$f":"(SQRT((F$50^2)+((E$50^2)/(E$13^2))*(F$13^2)))/E$13","v":0.56544601108250547},{"$f":"G50/G13","v":1.1827731092436975},{"$f":"(SQRT((H$50^2)+((G$50^2)/(G$13^2))*(H$13^2)))/G$13","v":0.4464080515598825},{"$f":"I50/I13","v":1.0198019801980198},{"$f":"(SQRT((J$50^2)+((I$50^2)/(I$13^2))*(J$13^2)))/I$13","v":0.58677325560535964},{"$f":"K50/K13","v":1.253968253968254},{"$f":"(SQRT((L$50^2)+((K$50^2)/(K$13^2))*(L$13^2)))/K$13","v":0.5723469107133935},{"$f":"M50/M13","v":1.0705394190871369},{"$f":"(SQRT((N$50^2)+((M$50^2)/(M$13^2))*(N$13^2)))/M$13","v":0.50675546125096127},{"$f":"O50/O13","v":1.1585281980742779},{"$f":"(SQRT((P$50^2)+((O$50^2)/(O$13^2))*(P$13^2)))/O$13","v":0.22925884831852811},{"$f":"Q50/Q13","v":1.1721027064538514},{"$f":"(SQRT((R$50^2)+((Q$50^2)/(Q$13^2))*(R$13^2)))/Q$13","v":0.379049397300744},{"$f":"S50/S13","v":1.2532051282051282},{"$f":"(SQRT((T$50^2)+((S$50^2)/(S$13^2))*(T$13^2)))/S$13","v":0.5385478771728317},{"$f":"U50/U13","v":1.2044817927170868},{"$f":"(SQRT((V$50^2)+((U$50^2)/(U$13^2))*(V$13^2)))/U$13","v":0.6392088182995167},{"$f":"W50/W13","v":1.2678868552412645},{"$f":"(SQRT((X$50^2)+((W$50^2)/(W$13^2))*(X$13^2)))/W$13","v":0.53200634852165063}]
[]
[]
[]
[null,"B25010. AVERAGE HOUSEHOLD SIZE OF OCCUPIED HOUSING UNITS BY TENURE"]
[null,"Universe:  OCCUPIED HOUSING UNITS"]
[null,"Data Set: 2018-2022 American Community Survey 5-Year Estimates"]
[]
[null,null,"Alton",null,"Barnstead",null,"Belmont",null,"Center Harbor",null,"Gilford",null,"Gilmanton",null,"Laconia",null,"Meredith",null,"New Hampton",null,"Sanbornton",null,"Tilton"]
[null," ","Estimate","Margin of Error","Estimate","Margin of Error","Estimate","Margin of Error","Estimate","Margin of Error","Estimate","Margin of Error","Estimate","Margin of Error","Estimate","Margin of Error","Estimate","Margin of Error","Estimate","Margin of Error","Estimate","Margin of Error","Estimate","Margin of Error"]
[null,"Average household size --"]
[null,"Total:",2.63,0.27,2.69,0.25,2.5,0.22,2.13,0.27,2.52,0.19,2.5099999999999998,0.25,2.35,0.13,2.0499999999999998,0.15,2.5499999999999998,0.35,2.7,0.32,2.31,0.2]
[null,"Owner occupied",2.72,0.28999999999999998,2.63,0.25,2.4700000000000002,0.27,2.17,0.25,2.62,0.2,2.4700000000000002,0.28000000000000003,2.5,0.21,2.2000000000000002,0.18,2.72,0.39,2.95,0.4,2.2400000000000002,0.23]
[null,"Renter occupied",1.49,0.56000000000000005,3.09,0.94,2.63,0.52,1.91,1.01,1.56,0.33,3.15,1,2.14,0.19,1.55,0.24,1.66,0.47,1.97,0.55000000000000004,2.4300000000000002,0.51]
[]
[]
[]
[]
[]
[]
[null,"B11001. HOUSEHOLD TYPE (INCLUDING LIVING ALONE)"]
[null,"Universe:  HOUSEHOLDS"]
[null,"Data Set: 2013-2017 American Community Survey 5-Year Estimates"]
[]
[null,null,"Alton",null,"Barnstead",null,"Belmont",null,"Center Harbor",null,"Gilford",null,"Gilmanton",null,"Laconia",null,"Meredith",null,"New Hampton",null,"Sanbornton",null,"Tilton"]
[null," ","Estimate","Margin of Error","Estimate","Margin of Error","Estimate","Margin of Error","Estimate","Margin of Error","Estimate","Margin of Error","Estimate","Margin of Error","Estimate","Margin of Error","Estimate","Margin of Error","Estimate","Margin of Error","Estimate","Margin of Error","Estimate","Margin of Error"]
[null,"Total:",2159,178,1666,128,2799,234,419,56,3082,182,6904,342,6740,357,2626,159,848,88,1118,83,1515,130]
[null,"Family households:",1580,115,1331,96,1992,213,323,51,2016,139,3981,259,4106,245,1735,118,622,69,842,71,871,95]
[null,"Married-couple family",1445,125,1126,107,1590,221,301,49,1594,172,2836,250,2953,266,1441,135,547,75,749,70,660,119]
[null,"Other family:",135,103,205,71,402,156,22,19,422,154,1145,226,1153,217,294,78,75,44,93,48,211,71]
[null,"Male householder, no wife present",75,74,69,45,112,102,4,7,68,60,290,127,241,96,47,33,38,27,35,32,37,32]
[null,"Female householder, no husband present",60,61,136,74,290,140,18,17,354,141,855,209,912,219,247,75,37,34,58,33,174,61]
[null,"Nonfamily households:",579,186,335,110,807,214,96,39,1066,221,2923,343,2634,309,891,191,226,71,276,77,644,131]
[null,"Householder living alone",489,194,271,104,555,170,73,34,865,202,2097,284,1988,275,775,173,187,60,187,61,494,111]
[null,"Householder not living alone",90,67,64,44,252,131,23,20,201,117,826,214,646,165,116,49,39,27,89,41,150,68]
[]
[]
[]
[]
[]
[]
[]
[]
[]
[]
[]
[]
[]
[]
[]
[]
[]
[null,"B11002. HOUSEHOLD TYPE BY RELATIVES AND NONRELATIVES FOR POPULATION IN HOUSEHOLDS "]
[null,"Universe:  POPULATION IN HOUSEHOLDS"]
[null,"Data Set: 2013-2017 American Community Survey 5-Year Estimates"]
[]
[null,null,"Alton",null,"Barnstead",null,"Belmont",null,"Center Harbor",null,"Gilford",null,"Gilmanton",null,"Laconia",null,"Meredith",null,"New Hampton",null,"Sanbornton",null,"Tilton"]
[null," ","Estimate","Margin of Error","Estimate","Margin of Error","Estimate","Margin of Error","Estimate","Margin of Error","Estimate","Margin of Error","Estimate","Margin of Error","Estimate","Margin of Error","Estimate","Margin of Error","Estimate","Margin of Error","Estimate","Margin of Error","Estimate","Margin of Error"]
[null,"Total:",5256,19,4615,16,7268,19,952,145,7111,23,15704,175,15635,181,6334,33,2236,167,2963,17,3274,150]
[null,"In family households:",4561,206,4207,138,6152,342,832,149,5832,299,11703,564,12140,461,5330,214,1970,177,2583,108,2463,202]
[null,"In married-couple family:",4175,317,3317,316,4956,599,769,147,4419,531,8089,714,8497,791,4131,374,1760,194,2354,150,1808,318]
[null,"Relatives",4175,317,3289,313,4739,565,748,143,4399,528,8060,711,8434,785,4122,373,1678,179,2282,154,1808,318]
[null,"Nonrelatives",0,16,28,33,217,179,21,20,20,38,29,37,63,50,9,14,82,70,72,41,0,11]
[null,"In male householder, no wife present, family:",194,184,355,235,425,408,20,32,236,209,884,337,742,284,200,153,99,78,75,65,95,84]
[null,"Relatives",178,176,289,213,267,227,16,26,217,200,775,299,623,226,156,114,86,62,75,65,95,84]
[null,"Nonrelatives",16,26,66,78,158,192,4,6,19,24,109,68,119,85,44,47,13,20,0,11,0,11]
[null,"In female householder, no husband present, family:",192,197,535,285,771,400,43,38,1177,524,2730,700,2901,645,999,311,111,89,154,85,560,224]
[null,"Relatives",173,175,449,238,717,359,43,38,1068,485,2438,612,2547,550,924,277,91,73,138,76,514,209]
[null,"Nonrelatives",19,30,86,72,54,82,0,11,109,106,292,134,354,155,75,71,20,23,16,18,46,40]
[null,"In nonfamily households",695,206,408,135,1116,343,120,53,1279,297,4001,549,3495,429,1004,216,266,88,380,109,811,177]
[]
[]
[]
[null,"Calculated Average  Household Size by Household Type"]
[null,"Universe:  POPULATION IN HOUSEHOLDS"]
[null,"Data Set: 2013-2017 American Community Survey 5-Year Estimates"]
[]
[null,null,"Alton",null,"Barnstead",null,"Belmont",null,"Center Harbor",null,"Gilford",null,"Gilmanton",null,"Laconia",null,"Meredith",null,"New Hampton",null,"Sanbornton",null,"Tilton"]
[null," ","Estimate","Margin of Error","Estimate","Margin of Error","Estimate","Margin of Error","Estimate","Margin of Error","Estimate","Margin of Error","Estimate","Margin of Error","Estimate","Margin of Error","Estimate","Margin of Error","Estimate","Margin of Error","Estimate","Margin of Error","Estimate","Margin of Error"]
[null,"Total:",2.4344603983325612,0.2,2.7701080432172871,0.21304600402184398,2.5966416577349052,0.21718868840729438,2.2720763723150359,0.46040450340647249,2.307268007787151,0.13645431000559261,2.2746234067207416,0.11549277982867633,2.3197329376854601,0.12577057572982089,2.4120335110434121,0.14658434046973887,2.6367924528301887,0.33712911033860266,2.650268336314848,0.19734185595657408,2.1610561056105611,0.21021393841598537]
[null,"In family households:",2.8867088607594935,0.24727410665941565,3.1607813673929375,0.2504446849388387,3.0883534136546187,0.37219425355031283,2.5758513931888545,0.61499085145615096,2.8928571428571428,0.24855653090782609,2.9397136397889976,0.2380119069006793,2.9566488066244521,0.20911598426309061,3.0720461095100866,0.24262548526914912,3.167202572347267,0.45212996755494778,3.0676959619952493,0.2887320534198704,2.8277841561423651,0.3858919100807186]
[null,"In nonfamily households",1.2003454231433506,0.52466502138842375,1.2179104477611939,0.56773734503536211,1.3828996282527881,0.56136672645708263,1.25,0.75011301955151699,1.199812382739212,0.37349273219145618,1.3687991789257612,0.2471357029234198,1.326879271070615,0.22529181071169338,1.1268237934904601,0.34222384477081014,1.1769911504424779,0.53697454042067938,1.3768115942028984,0.5509161646581282,1.2593167701863355,0.375713076788597]
[]
[]
[]
[null,"B25010. AVERAGE HOUSEHOLD SIZE OF OCCUPIED HOUSING UNITS BY TENURE"]
[null,"Universe:  OCCUPIED HOUSING UNITS"]
[null,"Data Set: 2013-2017 American Community Survey 5-Year Estimates"]
[]
[null,null,"Alton",null,"Barnstead",null,"Belmont",null,"Center Harbor",null,"Gilford",null,"Gilmanton",null,"Laconia",null,"Meredith",null,"New Hampton",null,"Sanbornton",null,"Tilton"]
[null," ","Estimate","Margin of Error","Estimate","Margin of Error","Estimate","Margin of Error","Estimate","Margin of Error","Estimate","Margin of Error","Estimate","Margin of Error","Estimate","Margin of Error","Estimate","Margin of Error","Estimate","Margin of Error","Estimate","Margin of Error","Estimate","Margin of Error"]
[null,"Average household size --"]
[null,"Total:",2.4300000000000002,0.2,2.77,0.22,2.6,0.21,2.27,0.21,2.31,0.14000000000000001,2.27,0.11,2.3199999999999998,0.12,2.41,0.14000000000000001,2.64,0.21,2.65,0.19,2.16,0.14000000000000001]
[null,"Owner occupied",2.48,0.21,2.77,0.23,2.5499999999999998,0.26,2.15,0.2,2.38,0.15,2.39,0.14000000000000001,2.41,0.13,2.44,0.17,2.4900000000000002,0.2,2.56,0.16,2.16,0.18]
[null,"Renter occupied",2.17,0.65,2.74,0.94,2.86,0.39,3.09,0.7,1.74,0.31,2.13,0.17,2.2200000000000002,0.19,2.3199999999999998,0.39,3.55,1.05,3.7,1.41,2.16,0.32]
[]
[]
[]
[]
[]
[]
[null,"B11001. HOUSEHOLD TYPE (INCLUDING LIVING ALONE)"]
[null,"Universe:  HOUSEHOLDS"]
[null,"Data Set: 2008-2012 American Community Survey 5-Year Estimates"]
[]
[null,null,"Alton",null,"Barnstead",null,"Belmont",null,"Center Harbor",null,"Gilford",null,"Gilmanton",null,"Laconia",null,"Meredith",null,"New Hampton",null,"Sanbornton",null,"Tilton"]
[null," ","Estimate","Margin of Error","Estimate","Margin of Error","Estimate","Margin of Error","Estimate","Margin of Error","Estimate","Margin of Error","Estimate","Margin of Error","Estimate","Margin of Error","Estimate","Margin of Error","Estimate","Margin of Error","Estimate","Margin of Error","Estimate","Margin of Error"]
[null,"Total:",2182,151,1694,91,2774,177,443,61,2996,213,1433,86,7143,283,2949,153,870,73,1190,79,1453,141]
[null,"Family households:",1575,137,1393,94,2090,140,339,55,2047,165,1092,80,4385,213,1869,153,635,63,836,79,929,71]
[null,"Married-couple family",1245,163,1153,122,1584,191,242,53,1617,163,919,91,3220,269,1471,163,514,62,719,77,771,84]
[null,"Other family:",330,133,240,102,506,166,97,40,430,140,173,85,1165,275,398,115,121,41,117,53,158,65]
[null,"Male householder, no wife present",160,110,117,61,154,105,23,20,112,94,61,55,168,93,94,53,27,25,53,35,51,42]
[null,"Female householder, no husband present",170,106,123,71,352,145,74,37,318,133,112,57,997,266,304,104,94,39,64,37,107,54]
[null,"Nonfamily households:",607,183,301,92,684,171,104,35,949,194,341,107,2758,310,1080,217,235,52,354,90,524,131]
[null,"Householder living alone",492,167,210,75,516,173,61,25,812,189,268,91,2390,305,945,197,163,41,252,70,454,125]
[null,"Householder not living alone",115,75,91,50,168,84,43,30,137,90,73,52,368,139,135,78,72,34,102,57,70,49]
[]
[]
[]
[null,"Calculated Average  Household Size by Household Type"]
[null,"Universe:  POPULATION IN HOUSEHOLDS"]
[null,"Data Set: 2008-2012 American Community Survey 5-Year Estimates"]
[]
[null,null,"Alton",null,"Barnstead",null,"Belmont",null,"Center Harbor",null,"Gilford",null,"Gilmanton",null,"Laconia",null,"Meredith",null,"New Hampton",null,"Sanbornton",null,"Tilton"]
[null," ","Estimate","Margin of Error","Estimate","Margin of Error","Estimate","Margin of Error","Estimate","Margin of Error","Estimate","Margin of Error","Estimate","Margin of Error","Estimate","Margin of Error","Estimate","Margin of Error","Estimate","Margin of Error","Estimate","Margin of Error","Estimate","Margin of Error"]
[null,"Total:",2.3991750687442712,0.16,2.7072018890200709,0.14606062262618119,2.6449170872386447,0.1689671857909443,2.2731376975169302,0.44963501629630043,2.3821762349799731,0.16953422960732017,2.6245638520586181,0.15855201447077391,2.1682766344673108,8.8112897764953832E-2,2.0969820278060358,0.1101088239873388,2.5333333333333332,0.27735548293783463,2.4823529411764707,0.16556651561240082,2.2484514796971782,0.23281457504237296]
[null,"In family households:",2.8590476190476188,0.28711942523722406,3.0122038765254846,0.22219053561564217,3.0861244019138754,0.23285740415959863,2.5221238938053099,0.57098778382878868,2.9570102589154859,0.26477093677228969,3.0613553113553111,0.26110327264096683,2.8132269099201825,0.16169101461693955,2.6425896201177101,0.26436206689667763,2.9527559055118111,0.3773150392881604,2.9796650717703348,0.3276073597983537,2.8697524219590957,0.28019987581994765]
[null,"In nonfamily households",1.2059308072487644,0.52156973193356426,1.2956810631229236,0.57384055610753337,1.2967836257309941,0.46394134909411566,1.4615384615384615,0.77287095277673679,1.1422550052687039,0.34036061938824314,1.2258064516129032,0.57120261462797717,1.1428571428571428,0.18236352935113526,1.1527777777777777,0.35042646493978441,1.4,0.49923146004801722,1.307909604519774,0.51453608502539383,1.1469465648854962,0.41887057834582314]
[]
[]
[]
[null,"B25010. AVERAGE HOUSEHOLD SIZE OF OCCUPIED HOUSING UNITS BY TENURE"]
[null,"Universe:  OCCUPIED HOUSING UNITS"]
[null,"Data Set: 2008-2012 American Community Survey 5-Year Estimates"]
[]
[null,null,"Alton",null,"Barnstead",null,"Belmont",null,"Center Harbor",null,"Gilford",null,"Gilmanton",null,"Laconia",null,"Meredith",null,"New Hampton",null,"Sanbornton",null,"Tilton"]
[null," ","Estimate","Margin of Error","Estimate","Margin of Error","Estimate","Margin of Error","Estimate","Margin of Error","Estimate","Margin of Error","Estimate","Margin of Error","Estimate","Margin of Error","Estimate","Margin of Error","Estimate","Margin of Error","Estimate","Margin of Error","Estimate","Margin of Error"]
[null,"Average household size --"]
[null,"Total:",2.4,0.16,2.71,0.14000000000000001,2.64,0.17,2.27,0.16,2.38,0.17,2.62,0.16,2.17,0.09,2.1,0.11,2.5299999999999998,0.17,2.48,0.16,2.25,0.18]
[null,"Owner occupied",2.48,0.18,2.73,0.15,2.67,0.17,2.2999999999999998,0.19,2.46,0.18,2.62,0.17,2.2799999999999998,0.15,2.21,0.15,2.52,0.18,2.5,0.17,2.36,0.2]
[null,"Renter occupied",2.02,0.61,2.38,0.51,2.52,0.57999999999999996,2.17,0.49,1.87,0.41,2.71,0.85,2,0.17,1.81,0.27,2.58,0.54,2.27,0.65,2.0299999999999998,0.39]

{"sheet":"ACS_Table_B25118","index":21,"n_rows":191,"n_cols":24,"rows_kept":191,"cut":false,"hidden":true,"merged":[]}
[null,"B25118. TENURE BY HOUSEHOLD INCOME IN THE PAST 12 MONTHS (IN 2022 INFLATION-ADJUSTED DOLLARS) "]
[null,"Universe:  OCCUPIED HOUSING UNITS"]
[null,"Data Set: 2018-2022 American Community Survey 5-Year Estimates"]
[]
[null,null,"Alton",null,"Barnstead",null,"Belmont",null,"Center Harbor",null,"Gilford",null,"Gilmanton",null,"Laconia",null,"Meredith",null,"New Hampton",null,"Sanbornton",null,"Tilton"]
[null," ","Estimate","Margin of Error","Estimate","Margin of Error","Estimate","Margin of Error","Estimate","Margin of Error","Estimate","Margin of Error","Estimate","Margin of Error","Estimate","Margin of Error","Estimate","Margin of Error","Estimate","Margin of Error","Estimate","Margin of Error","Estimate","Margin of Error"]
[null,"Total:",2240,229,1840,167,2940,252,384,88,3069,236,1575,155,6965,394,3242,243,978,123,1125,132,1598,137]
[null,"Owner occupied:",2072,207,1600,176,2454,265,330,84,2771,206,1471,174,4095,367,2501,231,824,109,838,126,1055,163]
[null,"Less than $5,000",32,53,0,12,90,66,6,7,0,17,22,35,22,22,0,17,14,15,9,14,25,30]
[null,"$5,000 to $9,999",0,17,16,17,61,92,0,12,49,52,10,16,62,95,99,108,9,10,33,38,8,13]
[null,"$10,000 to $14,999",15,25,22,35,117,127,2,3,16,19,29,34,44,39,84,68,0,12,5,8,0,12]
[null,"$15,000 to $19,999",0,17,13,22,95,71,0,12,62,90,12,20,100,90,54,40,12,20,69,55,8,12]
[null,"$20,000 to $24,999",9,14,27,37,57,43,0,12,51,51,30,33,125,64,106,105,11,11,0,12,30,33]
[null,"$25,000 to $34,999",113,94,104,75,189,185,35,25,77,54,30,25,351,152,213,112,51,38,24,22,161,70]
[null,"$35,000 to $49,999",201,103,159,109,240,110,20,13,170,86,79,64,252,88,294,114,101,49,33,35,172,98]
[null,"$50,000 to $74,999",240,111,337,108,301,126,37,23,420,179,204,89,655,211,268,100,147,57,94,58,177,103]
[null,"$75,000 to $99,999",186,92,183,76,222,99,40,20,211,92,255,108,824,171,277,119,135,59,129,74,96,57]
[null,"$100,000 to $149,999",598,187,408,126,516,194,105,56,930,232,487,156,881,213,449,135,184,58,144,62,146,73]
[null,"$150,000 or more",678,174,331,116,566,162,85,45,785,172,313,104,779,185,657,173,160,53,298,78,232,86]
[null,"Renter occupied:",168,109,240,124,486,151,54,36,298,142,104,87,2870,417,741,213,154,75,287,122,543,140]
[null,"Less than $5,000",0,17,0,12,42,50,0,12,20,26,0,12,156,138,17,22,18,18,0,12,6,10]
[null,"$5,000 to $9,999",16,25,0,12,0,17,0,12,0,17,0,12,32,30,15,25,0,12,0,12,23,26]
[null,"$10,000 to $14,999",0,17,0,12,59,52,8,10,22,34,8,13,274,151,91,75,0,12,7,13,7,12]
[null,"$15,000 to $19,999",12,20,0,12,26,32,0,12,15,21,0,12,177,103,13,19,17,21,30,47,59,69]
[null,"$20,000 to $24,999",32,51,34,52,48,49,0,12,26,37,56,59,102,65,75,115,2,4,27,41,34,43]
[null,"$25,000 to $34,999",59,77,81,84,0,17,0,12,73,72,0,12,411,167,137,75,7,12,10,17,45,57]
[null,"$35,000 to $49,999",24,29,0,12,97,73,3,5,41,55,0,12,470,225,162,113,80,66,13,14,36,38]
[null,"$50,000 to $74,999",0,17,19,32,84,72,27,31,31,20,0,12,593,191,141,86,27,18,96,79,160,102]
[null,"$75,000 to $99,999",15,27,56,53,31,36,13,15,21,29,31,46,258,138,23,36,0,12,75,82,15,24]
[null,"$100,000 to $149,999",0,17,33,37,81,81,3,5,49,67,0,12,307,200,17,35,3,7,0,12,158,99]
[null,"$150,000 or more",10,17,17,18,18,29,0,12,0,17,9,14,90,69,50,59,0,12,29,32,0,12]
[]
[]
[]
[]
[]
[null,"Calculated B25118. TENURE BY HOUSEHOLD INCOME IN THE PAST 12 MONTHS (IN 2022 INFLATION-ADJUSTED DOLLARS) "]
[null,"Universe:  OCCUPIED HOUSING UNITS"]
[null,{"$f":"B3","v":"Data Set: 2018-2022 American Community Survey 5-Year Estimates"}]
[null,null,"Alton",null,"Barnstead",null,"Belmont",null,"Center Harbor",null,"Gilford",null,"Gilmanton",null,"Laconia",null,"Meredith",null,"New Hampton",null,"Sanbornton",null,"Tilton"]
[null," ","Estimate","Margin of Error","Estimate","Margin of Error","Estimate","Margin of Error","Estimate","Margin of Error","Estimate","Margin of Error","Estimate","Margin of Error","Estimate","Margin of Error","Estimate","Margin of Error","Estimate","Margin of Error","Estimate","Margin of Error","Estimate","Margin of Error"]
[null,{"$f":"B7","v":"Total:"},2240,229,1840,167,2940,252,384,88,3069,236,1575,155,6965,394,3242,243,978,123,1125,132,1598,137]
[null,"Less than $5,000",{"$f":"C9+C21","v":32},{"$f":"SQRT((D9^2)+(D21^2))","v":55.659680200302986},{"$f":"E9+E21","v":0},{"$f":"SQRT((F9^2)+(F21^2))","v":16.970562748477139},{"$f":"G9+G21","v":132},{"$f":"SQRT((H9^2)+(H21^2))","v":82.800966177937809},{"$f":"I9+I21","v":6},{"$f":"SQRT((J9^2)+(J21^2))","v":13.892443989449804},{"$f":"K9+K21","v":20},{"$f":"SQRT((L9^2)+(L21^2))","v":31.064449134018133},{"$f":"M9+M21","v":22},{"$f":"SQRT((N9^2)+(N21^2))","v":37},{"$f":"O9+O21","v":178},{"$f":"SQRT((P9^2)+(P21^2))","v":139.74262055650738},{"$f":"Q9+Q21","v":17},{"$f":"SQRT((R9^2)+(R21^2))","v":27.802877548915689},{"$f":"S9+S21","v":32},{"$f":"SQRT((T9^2)+(T21^2))","v":23.430749027719962},{"$f":"U9+U21","v":9},{"$f":"SQRT((V9^2)+(V21^2))","v":18.439088914585774},{"$f":"W9+W21","v":31},{"$f":"SQRT((X9^2)+(X21^2))","v":31.622776601683793}]
[null,"$5,000 to $9,999",{"$f":"C10+C22","v":16},{"$f":"SQRT((D10^2)+(D22^2))","v":30.232432915661949},{"$f":"E10+E22","v":16},20.808652046684813,{"$f":"G10+G22","v":61},93.557468969612472,{"$f":"I10+I22","v":0},16.970562748477139,{"$f":"K10+K22","v":49},54.708317466359723,{"$f":"M10+M22","v":10},20,{"$f":"O10+O22","v":94},99.624294225856374,{"$f":"Q10+Q22","v":114},110.85576214162258,9,15.620499351813308,33,39.849717690342551,{"$f":"W10+W22","v":31},29.068883707497267]
[null,"$10,000 to $14,999",{"$f":"C11+C23","v":15},30.232432915661949,{"$f":"E11+E23","v":22},37,{"$f":"G11+G23","v":176},137.23337786413333,{"$f":"I11+I23","v":10},10.440306508910551,{"$f":"K11+K23","v":38},38.948684188300895,{"$f":"M11+M23","v":37},36.400549446402593,{"$f":"O11+O23","v":318},155.95512174981621,{"$f":"Q11+Q23","v":175},101.23734488813898,0,16.970562748477139,12,15.264337522473747,{"$f":"W11+W23","v":7},16.970562748477139]
[null,"$15,000 to $19,999",{"$f":"C12+C24","v":12},26.248809496813376,13,25.059928172283335,121,77.878109889750149,0,16.970562748477139,77,92.417530804496181,12,23.323807579381203,277,136.78084661238211,67,44.283179650969061,29,29,99,72.346388990743691,{"$f":"W12+W24","v":67},70.035705179572517]
[null,"$20,000 to $24,999",41,52.886671288709408,61,63.820059542435402,105,65.192024052026483,0,16.970562748477139,77,63.007936008093459,86,67.601775124622279,227,91.219515455849688,181,155.72411502397438,13,11.704699910719626,27,42.720018726587654,64,54.203320931470607]
[null,"$25,000 to $34,999",172,121.51131634543344,185,112.60994627474076,189,185.77943912069495,35,27.730849247724095,150,90,30,27.730849247724095,762,225.81629702038779,350,134.79243302203577,58,39.849717690342551,34,27.802877548915689,206,90.271811768680038]
[null,"$35,000 to $49,999",225,107.00467279516349,159,109.65856099730654,337,132.01893803541975,23,13.928388277184119,211,102.08329931972223,79,65.115282384398824,722,241.59677150160761,456,160.51479682571323,181,82.200973230248309,46,37.696153649941529,208,105.1094667477673]
[null,"$50,000 to $74,999",240,112.29425630903836,356,112.64102272262978,385,145.12063946937388,64,38.600518131237564,451,180.1138528820035,204,89.805345052507874,1248,284.60850303530987,409,131.89389675038038,174,59.774576535513823,190,98.005101908012932,337,144.95861478366851]
[null,"$75,000 to $99,999",201,95.880133500115647,239,92.655275079188016,253,105.34229919647663,53,25,232,96.462427918853464,286,117.38824472663352,1082,219.73848092675985,300,124.32618388738553,135,60.207972893961475,204,110.45361017187261,111,61.846584384264908]
[null,"$100,000 to $149,999",598,187.77113729218343,441,131.32021931142211,597,210.23082552280482,108,56.222771187482387,979,241.48084810187328,487,156.46085772486356,1188,292.17973920174546,466,139.46325680981354,187,58.420886675914119,144,63.150613615387776,304,123.00406497347964]
[null,"$150,000 or more",688,174.82848738120455,{"$f":"E19+E31","v":348},117.38824472663352,584,164.57521077003062,85,46.572524088780071,785,172.83807450906181,322,104.93807697875924,869,197.44872752185566,707,182.78402556022229,160,54.341512676774101,327,84.308955633431964,232,86.833173384369644]
[]
[]
[]
[]
[]
[]
[]
[]
[]
[]
[]
[]
[]
[]
[]
[]
[null,"B25118. TENURE BY HOUSEHOLD INCOME IN THE PAST 12 MONTHS (IN 2017 INFLATION-ADJUSTED DOLLARS) "]
[null,"Universe:  OCCUPIED HOUSING UNITS"]
[null,"Data Set: 2013-2017 American Community Survey 5-Year Estimates"]
[]
[null,null,"Alton",null,"Barnstead",null,"Belmont",null,"Center Harbor",null,"Gilford",null,"Gilmanton",null,"Laconia",null,"Meredith",null,"New Hampton",null,"Sanbornton",null,"Tilton"]
[null," ","Estimate","Margin of Error","Estimate","Margin of Error","Estimate","Margin of Error","Estimate","Margin of Error","Estimate","Margin of Error","Estimate","Margin of Error","Estimate","Margin of Error","Estimate","Margin of Error","Estimate","Margin of Error","Estimate","Margin of Error","Estimate","Margin of Error"]
[null,"Total:",2159,178,1666,128,2799,234,419,56,3082,182,6904,342,6740,357,2626,159,848,88,1118,83,1515,130]
[null,"Owner occupied:",1816,203,1497,157,2378,224,363,55,2712,188,3786,297,3650,271,1971,175,728,94,1025,92,971,151]
[null,"Less than $5,000",0,16,9,15,87,80,9,14,32,36,58,54,71,55,16,20,35,34,0,11,0,11]
[null,"$5,000 to $9,999",49,75,11,16,72,51,4,6,19,31,35,37,32,27,35,46,10,10,12,14,18,20]
[null,"$10,000 to $14,999",14,22,46,46,90,83,16,16,24,31,14,17,19,19,31,22,19,14,5,8,45,43]
[null,"$15,000 to $19,999",19,32,46,37,49,43,9,14,188,107,237,120,299,151,46,30,36,28,27,23,10,16]
[null,"$20,000 to $24,999",80,64,35,31,93,89,3,4,11,12,66,45,110,55,94,57,28,20,45,34,13,21]
[null,"$25,000 to $34,999",76,53,92,50,191,100,19,20,175,87,364,126,259,109,64,31,44,21,101,42,46,30]
[null,"$35,000 to $49,999",226,98,119,68,244,118,48,23,425,142,457,124,417,125,249,99,69,36,91,42,171,79]
[null,"$50,000 to $74,999",249,115,368,122,385,127,74,32,458,119,602,138,657,139,390,99,108,45,202,56,209,66]
[null,"$75,000 to $99,999",508,208,287,88,339,148,69,31,389,124,712,143,642,135,339,108,137,54,159,55,212,92]
[null,"$100,000 to $149,999",346,113,345,105,675,218,39,20,453,113,606,145,568,117,234,83,145,48,183,56,158,59]
[null,"$150,000 or more",249,99,139,63,153,84,73,33,538,133,635,139,576,115,473,106,97,40,200,55,89,68]
[null,"Renter occupied:",343,124,169,93,421,164,56,30,370,112,3118,263,3090,253,655,154,120,46,93,37,544,147]
[null,"Less than $5,000",0,16,11,18,46,58,0,11,21,35,137,78,148,90,10,16,0,11,0,11,0,11]
[null,"$5,000 to $9,999",0,16,9,13,28,32,0,11,24,27,141,62,142,66,42,49,4,6,0,11,91,77]
[null,"$10,000 to $14,999",49,70,0,11,11,21,0,11,6,9,301,119,327,117,90,57,5,6,0,11,25,28]
[null,"$15,000 to $19,999",0,16,0,11,17,27,3,5,35,42,343,131,329,139,98,64,24,26,5,7,108,79]
[null,"$20,000 to $24,999",14,23,0,11,13,21,4,5,7,10,259,120,381,173,85,49,9,9,0,11,18,28]
[null,"$25,000 to $34,999",72,77,9,13,0,16,0,11,87,68,431,148,421,123,52,49,11,12,33,28,108,71]
[null,"$35,000 to $49,999",79,69,45,56,94,88,6,9,45,41,475,164,496,195,19,20,14,14,10,11,48,50]
[null,"$50,000 to $74,999",43,36,45,53,200,134,27,24,51,37,518,163,444,154,96,58,12,18,16,16,94,51]
[null,"$75,000 to $99,999",18,32,22,35,12,21,4,6,70,74,226,117,157,88,50,35,24,22,0,11,44,35]
[null,"$100,000 to $149,999",68,78,28,43,0,16,9,14,6,8,238,144,164,128,76,80,17,15,24,20,0,11]
[null,"$150,000 or more",0,16,0,11,0,16,3,5,18,30,49,51,81,75,37,47,0,11,5,7,8,13]
[]
[]
[]
[]
[]
[null,"Calculated B25118. TENURE BY HOUSEHOLD INCOME IN THE PAST 12 MONTHS (IN 2017 INFLATION-ADJUSTED DOLLARS) "]
[null,"Universe:  OCCUPIED HOUSING UNITS"]
[null,"Data Set: 2013-2017 American Community Survey 5-Year Estimates"]
[null,null,"Alton",null,"Barnstead",null,"Belmont",null,"Center Harbor",null,"Gilford",null,"Gilmanton",null,"Laconia",null,"Meredith",null,"New Hampton",null,"Sanbornton",null,"Tilton"]
[null," ","Estimate","Margin of Error","Estimate","Margin of Error","Estimate","Margin of Error","Estimate","Margin of Error","Estimate","Margin of Error","Estimate","Margin of Error","Estimate","Margin of Error","Estimate","Margin of Error","Estimate","Margin of Error","Estimate","Margin of Error","Estimate","Margin of Error"]
[null,"Total:",2124,148,1701,124,2839,219,435,68,3055,172,1464,98,6776,339,2627,186,863,90,1184,75,1529,135]
[null,"Less than $5,000",20,26.627053911388696,9,17.804493814764857,124,90.13878188659973,10,19.416487838947599,58,53.814496188294839,16,26.40075756488817,223,108.30050784737807,94,56.824290580701486,27,31.016124838541646,0,15.556349186104045,9,17.804493814764857]
[null,"$5,000 to $9,999",46,74.525163535546838,11,20.248456731316587,55,48.383881613611777,14,16.552945357246848,6,17.4928556845359,12,20.248456731316587,211,92.17917335276988,68,58,10,14.866068747318506,24,23.706539182259394,38,22.472205054244231]
[null,"$10,000 to $14,999",93,94.429868156214212,66,51.923019942988681,127,93.380940239430018,9,14.212670403551895,35,30.413812651491099,38,47.296934361541872,384,113.65298060323803,181,76.609398901179219,8,14.212670403551895,12,17.029386365926403,63,52]
[null,"$15,000 to $19,999",28,36.249137920783717,52,38.600518131237564,97,75.213030785895072,27,25.553864678361276,211,135.93012911051031,79,66.753277073114546,633,199.42417105255822,167,86.267027304758798,45,29.529646120466801,33,30.364452901377952,130,75.584389922787622]
[null,"$20,000 to $24,999",194,96.317184344227996,34,31.016124838541646,169,102.77159140540736,18,12.083045973594572,119,88.68483523128404,22,19.416487838947599,392,145.7737973711325,114,50.159744815937813,40,23.600847442411894,47,34.785054261852174,25,22.627416997969522]
[null,"$25,000 to $34,999",202,128.28094168659661,114,53.851648071345039,190,95.351979528481735,18,15.556349186104045,306,113.17685275708986,241,103.40696301506973,651,152.8201557386983,102,46.818799642878503,93,41.048751503547585,109,43.908996800200299,235,86.092973000123536]
[null,"$35,000 to $49,999",258,111.5212984142491,172,91.241437954473298,264,133.77593206552515,54,28.792360097775937,297,136.48809471891678,112,66.098411478642959,894,180.47991578012218,340,114.23659658795863,98,35.693136595149497,153,55.542776307995261,200,70.83078426785913]
[null,"$50,000 to $74,999",329,130,503,114.38968484964018,613,192.21342304844373,96,43.046486500061768,701,198.97738564972653,286,76.791926658991954,1177,228.03727765433439,463,131.71180660821565,122,43.416586692184822,257,68,343,97.20082304178294]
[null,"$75,000 to $99,999",374,139.56002292920419,306,98.792712281827747,527,176.02556632489498,60,25.298221281347036,426,138.65424623862049,255,86.469647854030256,791,162.33915116200404,346,86.122006479180456,216,74.793047805260613,150,45.354161881794269,222,78.549347546621931]
[null,"$100,000 to $149,999",431,141.87318280774559,332,101.07917688624102,484,161.69724796668618,63,29.154759474226502,470,130.24592124131948,313,86.700634369074834,820,186.1316738225926,296,103.23274674249446,162,51.546095875439491,253,61.98386886924694,158,65.924198895398035]
[null,"$150,000 or more",149,79.429213769242352,102,56.089214649520635,189,94.201910808645493,66,32.249030993194197,426,112.00892821556681,90,51.195702944680818,600,139.29106216839614,456,108.04628637764465,42,23.706539182259394,146,50.635955604688654,106,67.675697262754525]
[]
[]
[]
[]
[]
[]
[]
[]
[]
[]
[]
[]
[]
[]
[]
[]
[null,"B25118. TENURE BY HOUSEHOLD INCOME IN THE PAST 12 MONTHS (IN 2012 INFLATION-ADJUSTED DOLLARS) "]
[null,"Universe:  OCCUPIED HOUSING UNITS"]
[null,"Data Set: 2008-2012 American Community Survey 5-Year Estimates"]
[]
[null,null,"Alton",null,"Barnstead",null,"Belmont",null,"Center Harbor",null,"Gilford",null,"Gilmanton",null,"Laconia",null,"Meredith",null,"New Hampton",null,"Sanbornton",null,"Tilton"]
[null," ","Estimate","Margin of Error","Estimate","Margin of Error","Estimate","Margin of Error","Estimate","Margin of Error","Estimate","Margin of Error","Estimate","Margin of Error","Estimate","Margin of Error","Estimate","Margin of Error","Estimate","Margin of Error","Estimate","Margin of Error","Estimate","Margin of Error"]
[null,"Total:",2182,151,1694,91,2774,177,443,61,2996,213,1433,86,7143,283,2949,153,870,73,1190,79,1453,141]
[null,"Owner occupied:",1812,175,1585,93,2265,188,362,64,2581,211,1337,93,4244,308,2124,176,714,75,1106,82,950,121]
[null,"Less than $5,000",28,33,0,11,49,59,0,11,63,47,24,22,60,40,67,64,18,15,16,16,0,11]
[null,"$5,000 to $9,999",24,38,31,30,0,16,4,5,63,63,12,19,67,50,7,13,14,12,10,14,6,13]
[null,"$10,000 to $14,999",51,47,11,18,87,78,12,12,54,46,35,37,109,79,69,46,35,23,17,14,43,35]
[null,"$15,000 to $19,999",55,50,58,41,112,86,17,16,72,48,82,60,132,74,54,39,10,11,32,39,15,17]
[null,"$20,000 to $24,999",125,91,62,42,183,87,17,12,101,86,36,30,208,106,91,48,11,9,6,10,60,52]
[null,"$25,000 to $34,999",168,90,139,66,140,88,25,20,243,75,174,79,372,118,186,87,54,30,75,39,105,52]
[null,"$35,000 to $49,999",222,116,148,73,130,67,45,24,178,103,147,86,632,146,255,92,95,37,218,71,118,48]
[null,"$50,000 to $74,999",438,137,420,98,649,158,92,36,696,196,298,79,796,155,290,97,186,41,292,68,259,85]
[null,"$75,000 to $99,999",213,100,376,116,370,107,37,24,400,122,189,65,573,160,265,109,195,55,172,52,156,71]
[null,"$100,000 to $149,999",293,125,259,81,397,134,83,36,307,118,250,77,887,219,428,135,77,28,138,62,135,70]
[null,"$150,000 or more",195,105,81,39,148,79,30,19,404,92,90,41,408,95,412,112,19,14,130,51,53,29]
[null,"Renter occupied:",370,139,109,38,509,176,81,37,415,179,96,54,2899,306,825,171,156,43,84,47,503,107]
[null,"Less than $5,000",19,32,0,11,23,26,0,11,0,16,0,11,128,85,136,98,9,13,0,11,10,16]
[null,"$5,000 to $9,999",54,86,0,11,0,16,9,13,20,33,8,11,281,141,14,22,0,11,0,11,23,19]
[null,"$10,000 to $14,999",0,16,8,12,0,16,8,13,15,23,20,25,332,100,108,72,13,11,0,11,64,51]
[null,"$15,000 to $19,999",51,62,0,11,40,36,11,17,97,91,26,33,285,126,46,40,7,8,8,12,34,39]
[null,"$20,000 to $24,999",0,16,11,18,71,58,0,11,9,15,0,11,176,95,13,20,17,22,0,11,80,66]
[null,"$25,000 to $34,999",22,35,11,19,87,87,0,11,0,16,11,17,366,134,176,115,29,23,0,11,102,74]
[null,"$35,000 to $49,999",59,72,19,22,104,80,18,17,127,106,24,21,668,194,114,86,14,15,6,10,55,48]
[null,"$50,000 to $74,999",80,68,47,35,86,71,35,23,131,109,0,11,430,179,126,70,34,22,34,33,40,42]
[null,"$75,000 to $99,999",17,27,0,11,98,103,0,11,6,11,7,12,51,40,61,51,28,28,17,27,36,40]
[null,"$100,000 to $149,999",68,80,13,19,0,16,0,11,0,16,0,11,120,75,23,22,5,8,19,18,18,28]
[null,"$150,000 or more",0,16,0,11,0,16,0,11,10,17,0,11,62,61,8,13,0,11,0,11,41,41]
[]
[]
[]
[]
[]
[null,"Calculated B25118. TENURE BY HOUSEHOLD INCOME IN THE PAST 12 MONTHS (IN 2012 INFLATION-ADJUSTED DOLLARS) "]
[null,"Universe:  OCCUPIED HOUSING UNITS"]
[null,"Data Set: 2008-2012 American Community Survey 5-Year Estimates"]
[null,null,"Alton",null,"Barnstead",null,"Belmont",null,"Center Harbor",null,"Gilford",null,"Gilmanton",null,"Laconia",null,"Meredith",null,"New Hampton",null,"Sanbornton",null,"Tilton"]
[null," ","Estimate","Margin of Error","Estimate","Margin of Error","Estimate","Margin of Error","Estimate","Margin of Error","Estimate","Margin of Error","Estimate","Margin of Error","Estimate","Margin of Error","Estimate","Margin of Error","Estimate","Margin of Error","Estimate","Margin of Error","Estimate","Margin of Error"]
[null,{"$f":"B145","v":"Total:"},2182,151,1694,91,2774,177,443,61,2996,213,1433,86,7143,283,2949,153,870,73,1190,79,1453,141]
[null,"Less than $5,000",{"$f":"C147+C159","v":47},{"$f":"SQRT((D147^2)+(D159^2))","v":45.967379738244816},{"$f":"E147+E159","v":0},{"$f":"SQRT((F147^2)+(F159^2))","v":15.556349186104045},{"$f":"G147+G159","v":72},{"$f":"SQRT((H147^2)+(H159^2))","v":64.474801279259481},{"$f":"I147+I159","v":0},{"$f":"SQRT((J147^2)+(J159^2))","v":15.556349186104045},{"$f":"K147+K159","v":63},{"$f":"SQRT((L147^2)+(L159^2))","v":49.648766349225639},{"$f":"M147+M159","v":24},{"$f":"SQRT((N147^2)+(N159^2))","v":24.596747752497688},{"$f":"O147+O159","v":188},{"$f":"SQRT((P147^2)+(P159^2))","v":93.941471140279674},{"$f":"Q147+Q159","v":203},{"$f":"SQRT((R147^2)+(R159^2))","v":117.04699910719626},{"$f":"S147+S159","v":27},{"$f":"SQRT((T147^2)+(T159^2))","v":19.849433241279208},{"$f":"U147+U159","v":16},{"$f":"SQRT((V147^2)+(V159^2))","v":19.416487838947599},{"$f":"W147+W159","v":10},{"$f":"SQRT((X147^2)+(X159^2))","v":19.416487838947599}]
[null,"$5,000 to $9,999",{"$f":"C148+C160","v":78},{"$f":"SQRT((D148^2)+(D160^2))","v":94.021274188345274},{"$f":"E148+E160","v":31},31.953090617340916,{"$f":"G148+G160","v":0},22.627416997969522,{"$f":"I148+I160","v":13},13.928388277184119,{"$f":"K148+K160","v":83},71.119617546778187,{"$f":"M148+M160","v":20},21.95449840010015,{"$f":"O148+O160","v":348},149.60280746028798,{"$f":"Q148+Q160","v":21},25.553864678361276,14,16.278820596099706,10,17.804493814764857,{"$f":"W148+W160","v":29},23.021728866442675]
[null,"$10,000 to $14,999",{"$f":"C149+C161","v":51},49.648766349225639,{"$f":"E149+E161","v":19},21.633307652783937,{"$f":"G149+G161","v":87},79.624116949577527,{"$f":"I149+I161","v":20},17.691806012954132,{"$f":"K149+K161","v":69},51.429563482495162,{"$f":"M149+M161","v":55},44.654227123532216,{"$f":"O149+O161","v":441},127.4401820463232,{"$f":"Q149+Q161","v":177},85.440037453175307,48,25.495097567963924,17,17.804493814764857,{"$f":"W149+W161","v":107},61.854668376768458]
[null,"$15,000 to $19,999",{"$f":"C150+C162","v":106},79.649231006959511,58,42.449970553582247,152,93.23089616645332,28,23.345235059857504,169,102.88342918079665,108,68.47627326307996,417,146.12323566086263,100,55.865910893853687,17,13.601470508735444,40,40.80441152620633,{"$f":"W150+W162","v":49},42.544094772365298]
[null,"$20,000 to $24,999",125,92.395887354362259,73,45.694638635183452,254,104.5609869884557,17,16.278820596099706,110,87.298339044909667,36,31.953090617340916,384,142.3411395205195,104,52,28,23.769728648009426,6,14.866068747318506,140,84.02380615040002]
[null,"$25,000 to $34,999",190,96.566039579139826,150,68.680419334771102,227,123.7457069962429,25,22.825424421026653,243,76.687678280151374,185,80.808415403347695,738,178.54971296532514,362,144.20124826089406,83,37.802116342871599,75,40.521599178709621,207,90.443352436760108]
[null,"$35,000 to $49,999",281,136.5283853270081,167,76.243032468547582,234,104.35037134576953,63,29.410882339705484,305,147.80054127099805,171,88.526832090615329,1300,242.80032948906802,369,125.93649193144932,109,39.924929555354261,224,71.700767080973407,173,67.882250993908556]
[null,"$50,000 to $74,999",518,152.9477034806342,467,104.06248123122954,735,173.21951391226105,127,42.720018726587654,827,224.26992665089986,298,79.762146410437069,1226,236.78260071213003,416,119.6202324023825,220,46.529560496527367,326,75.584389922787622,299,94.810336989170125]
[null,"$75,000 to $99,999",230,103.58088626768937,376,116.52038448271615,468,148.51935900750448,37,26.40075756488817,406,122.494897852931,196,66.098411478642959,624,164.92422502470643,326,120.34118164618461,223,61.71709649683789,189,58.591808301161009,192,81.492330927517344]
[null,"$100,000 to $149,999",361,148.40822079655831,272,83.198557679805958,397,134.9518432626987,83,37.643060449437421,307,119.07980517283357,250,77.781745930520231,1007,231.48650068632512,451,136.78084661238211,82,29.120439557122072,157,64.560049566275893,153,75.392307299883058]
[null,"$150,000 or more",195,106.21205204683694,{"$f":"E157+E169","v":81},40.521599178709621,148,80.603970125546539,30,21.95449840010015,414,93.557468969612472,90,42.449970553582247,470,112.89818421923357,420,112.75194011634566,19,17.804493814764857,130,52.172789842982326,94,50.219518117958877]

{"sheet":"ACS_Table_B19001","index":22,"n_rows":162,"n_cols":24,"rows_kept":162,"cut":false,"hidden":true,"merged":[]}
[null,"B19101. FAMILY INCOME IN THE PAST 12 MONTHS (IN 2022 INFLATION-ADJUSTED DOLLARS)"]
[null,"Universe:  HOUSEHOLDS",null,null,null,null,null,null,null,null,null,null,null,null,{"$f":"B1","v":"B19101. FAMILY INCOME IN THE PAST 12 MONTHS (IN 2022 INFLATION-ADJUSTED DOLLARS)"}]
[null,"Data Set: 2018-2022 American Community Survey 5-Year Estimates",null,null,null,null,null,null,null,null,null,null,null,null,{"$f":"B3","v":"Data Set: 2018-2022 American Community Survey 5-Year Estimates"}]
[]
[null,null,"Alton",null,"Barnstead",null,"Belmont",null,"Center Harbor",null,"Gilford",null,"Gilmanton",null,"Laconia",null,"Meredith",null,"New Hampton",null,"Sanbornton",null,"Tilton"]
[null,null,"Households","Margin of Error","Households","Margin of Error","Households","Margin of Error","Households","Margin of Error","Households","Margin of Error","Households","Margin of Error","Households","Margin of Error","Households","Margin of Error","Households","Margin of Error","Households","Margin of Error","Households","Margin of Error"]
[null,"Total Households",2240,229,1840,167,2940,252,384,88,3069,236,1575,155,6965,394,3242,243,978,123,1125,132,1598,137]
[null,"Households With"]
[null,"Income Less than $10,000 ",48,59,16,17,193,122,6,7,69,60,32,39,272,171,131,113,41,26,42,39,62,47]
[null,"Income $10,000 to $14,999 ",15,25,22,35,176,135,10,11,38,39,37,37,318,164,175,104,0,12,12,15,7,12]
[null,"Income $15,000 to $19,999 ",12,20,13,22,121,76,0,12,77,94,12,20,277,132,67,45,29,29,99,71,67,70]
[null,"Income $20,000 to $24,999 ",41,53,61,62,105,62,0,12,77,64,86,66,227,89,181,157,13,12,27,41,64,54]
[null,"Income $25,000 to $29,999 ",89,97,84,73,0,17,10,14,113,90,8,13,399,166,148,100,30,33,16,20,89,56]
[null,"Income $30,000 to $34,999 ",83,69,101,87,189,185,25,23,37,33,22,22,363,172,202,105,28,19,18,21,117,73]
[null,"Income $35,000 to $39,999 ",80,66,114,102,54,48,9,11,67,60,21,34,286,161,209,140,32,29,21,23,38,34]
[null,"Income $40,000 to $44,999 ",71,68,17,20,172,100,11,11,84,54,36,46,221,174,91,56,99,66,0,12,31,24]
[null,"Income $45,000 to $49,999 ",74,48,28,24,111,82,3,5,60,59,22,28,215,97,156,88,50,35,25,30,139,99]
[null,"Income $50,000 to $59,999 ",76,68,167,76,271,151,38,24,209,139,128,77,611,180,147,70,83,44,73,74,68,52]
[null,"Income $60,000 to $74,999 ",164,92,189,81,114,65,26,32,242,102,76,52,637,233,262,113,91,39,117,62,269,138]
[null,"Income $75,000 to $99,999 ",201,97,239,92,253,99,53,25,232,98,286,110,1082,228,300,127,135,59,204,111,111,61]
[null,"Income $100,000 to $124,999 ",375,143,162,64,425,153,63,37,581,219,329,138,664,170,250,108,93,39,83,44,138,82]
[null,"Income $125,000 to $149,999 ",223,114,279,122,172,106,45,45,398,152,158,93,524,172,216,120,94,46,61,43,166,80]
[null,"Income $150,000 to $199,999 ",266,111,203,88,316,146,42,27,402,142,138,69,419,128,352,147,95,38,218,90,187,84]
[null,"Income $200,000 or more ",422,157,145,70,268,113,43,32,383,118,184,95,450,148,355,119,65,31,109,62,45,38]
[]
[]
[]
[]
[null,"Calculated B19001. HOUSEHOLD INCOME IN THE PAST 12 MONTHS (IN 2022 INFLATION-ADJUSTED DOLLARS)"]
[null,"Universe:  HOUSEHOLDS"]
[null,"Data Set: 2018-2022 American Community Survey 5-Year Estimates"]
[null,null,"Alton",null,"Barnstead",null,"Belmont",null,"Center Harbor",null,"Gilford",null,"Gilmanton",null,"Laconia",null,"Meredith",null,"New Hampton",null,"Sanbornton",null,"Tilton"]
[null,null,"Households","Margin of Error","Households","Margin of Error","Households","Margin of Error","Households","Margin of Error","Households","Margin of Error","Households","Margin of Error","Households","Margin of Error","Households","Margin of Error","Households","Margin of Error","Households","Margin of Error","Households","Margin of Error"]
[null,"Total Households",{"$f":"C7","v":2240},229,1840,167,2940,252,384,88,3069,236,1575,155,6965,394,3242,{"$f":"R7","v":243},978,123,1125,132,1598,137]
[null,"Households With"]
[null,"Income Less than $10,000 ",{"$f":"C9","v":48},59,16,17,193,122,6,7,69,60,32,39,272,171,131,{"$f":"R9","v":113},41,26,42,39,62,47]
[null,"Income $10,000 to $14,999 ",{"$f":"C10","v":15},25,22,35,176,135,10,11,38,39,37,37,318,164,175,104,0,12,12,15,7,12]
[null,"Income $15,000 to $24,999 ",{"$f":"C11+C12","v":53},{"$f":"SQRT((D11^2)+(D12^2))","v":56.648036153074187},{"$f":"E11+E12","v":74},{"$f":"SQRT((F11^2)+(F12^2))","v":65.787536813594102},{"$f":"G11+G12","v":226},{"$f":"SQRT((H11^2)+(H12^2))","v":98.081598681913832},{"$f":"I11+I12","v":0},{"$f":"SQRT((J11^2)+(J12^2))","v":16.970562748477139},{"$f":"K11+K12","v":154},{"$f":"SQRT((L11^2)+(L12^2))","v":113.718951806636},{"$f":"M11+M12","v":98},{"$f":"SQRT((N11^2)+(N12^2))","v":68.963758598266665},{"$f":"O11+O12","v":504},{"$f":"SQRT((P11^2)+(P12^2))","v":159.20113064925135},{"$f":"Q11+Q12","v":248},{"$f":"SQRT((R11^2)+(R12^2))","v":163.32176829804411},{"$f":"S11+S12","v":42},{"$f":"SQRT((T11^2)+(T12^2))","v":31.384709652950431},{"$f":"U11+U12","v":126},{"$f":"SQRT((V11^2)+(V12^2))","v":81.987803971078534},{"$f":"W11+W12","v":131},{"$f":"SQRT((X11^2)+(X12^2))","v":88.408144421201371}]
[null,"Income $25,000 to $34,999 ",{"$f":"C13+C14","v":172},{"$f":"SQRT((D13^2)+(D14^2))","v":119.03780911962384},{"$f":"E13+E14","v":185},{"$f":"SQRT((F13^2)+(F14^2))","v":113.56936206565572},{"$f":"G13+G14","v":189},{"$f":"SQRT((H13^2)+(H14^2))","v":185.77943912069495},{"$f":"I13+I14","v":35},{"$f":"SQRT((J13^2)+(J14^2))","v":26.92582403567252},{"$f":"K13+K14","v":150},{"$f":"SQRT((L13^2)+(L14^2))","v":95.859271852022744},{"$f":"M13+M14","v":30},{"$f":"SQRT((N13^2)+(N14^2))","v":25.553864678361276},{"$f":"O13+O14","v":762},{"$f":"SQRT((P13^2)+(P14^2))","v":239.03974564912841},{"$f":"Q13+Q14","v":350},{"$f":"SQRT((R13^2)+(R14^2))","v":145},{"$f":"S13+S14","v":58},{"$f":"SQRT((T13^2)+(T14^2))","v":38.078865529319543},{"$f":"U13+U14","v":34},{"$f":"SQRT((V13^2)+(V14^2))","v":29},{"$f":"W13+W14","v":206},{"$f":"SQRT((X13^2)+(X14^2))","v":92.005434622091755}]
[null,"Income $35,000 to $49,999 ",{"$f":"C15+C16+C17","v":225},{"$f":"SQRT((D15^2)+(D16^2)+(D17^2))","v":106.22617379911601},{"$f":"E15+E16+E17","v":159},{"$f":"SQRT((F15^2)+(F16^2)+(F17^2))","v":106.6770828247567},{"$f":"G15+G16+G17","v":337},{"$f":"SQRT((H15^2)+(H16^2)+(H17^2))","v":137.94201680416305},{"$f":"I15+I16+I17","v":23},{"$f":"SQRT((J15^2)+(J16^2)+(J17^2))","v":16.340134638368191},{"$f":"K15+K16+K17","v":211},{"$f":"SQRT((L15^2)+(L16^2)+(L17^2))","v":99.98499887483122},{"$f":"M15+M16+M17","v":79},{"$f":"SQRT((N15^2)+(N16^2)+(N17^2))","v":63.686733312362634},{"$f":"O15+O16+O17","v":722},{"$f":"SQRT((P15^2)+(P16^2)+(P17^2))","v":256.13668226163935},{"$f":"Q15+Q16+Q17","v":456},{"$f":"SQRT((R15^2)+(R16^2)+(R17^2))","v":174.58522274236157},{"$f":"S15+S16+S17","v":181},{"$f":"SQRT((T15^2)+(T16^2)+(T17^2))","v":80.137382038596698},{"$f":"U15+U16+U17","v":46},{"$f":"SQRT((V15^2)+(V16^2)+(V17^2))","v":39.66106403010388},{"$f":"W15+W16+W17","v":208},{"$f":"SQRT((X15^2)+(X16^2)+(X17^2))","v":107.39180601889512}]
[null,"Income $50,000 to $74,999 ",{"$f":"C18+C19","v":240},{"$f":"SQRT((D18^2)+(D19^2))","v":114.40279716860073},{"$f":"E18+E19","v":356},{"$f":"SQRT((F18^2)+(F19^2))","v":111.07204868912791},{"$f":"G18+G19","v":385},{"$f":"SQRT((H18^2)+(H19^2))","v":164.39586369492392},{"$f":"I18+I19","v":64},{"$f":"SQRT((J18^2)+(J19^2))","v":40},{"$f":"K18+K19","v":451},{"$f":"SQRT((L18^2)+(L19^2))","v":172.40939649566667},{"$f":"M18+M19","v":204},{"$f":"SQRT((N18^2)+(N19^2))","v":92.913938674452936},{"$f":"O18+O19","v":1248},{"$f":"SQRT((P18^2)+(P19^2))","v":294.42995771490371},{"$f":"Q18+Q19","v":409},{"$f":"SQRT((R18^2)+(R19^2))","v":132.92479076530458},{"$f":"S18+S19","v":174},{"$f":"SQRT((T18^2)+(T19^2))","v":58.796258384356399},{"$f":"U18+U19","v":190},{"$f":"SQRT((V18^2)+(V19^2))","v":96.540147089177367},{"$f":"W18+W19","v":337},{"$f":"SQRT((X18^2)+(X19^2))","v":147.47203124660621}]
[null,"Income $75,000 to $99,999 ",{"$f":"C20","v":201},97,239,92,253,99,53,25,232,98,286,110,1082,228,{"$f":"Q20","v":300},127,135,59,204,111,111,61]
[null,"Income $100,000 to $149,999 ",{"$f":"C21+C22","v":598},{"$f":"SQRT((D21^2)+(D22^2))","v":182.87974190707948},{"$f":"E21+E22","v":441},{"$f":"SQRT((F21^2)+(F22^2))","v":137.7679207943562},{"$f":"G21+G22","v":597},{"$f":"SQRT((H21^2)+(H22^2))","v":186.1316738225926},{"$f":"I21+I22","v":108},{"$f":"SQRT((J21^2)+(J22^2))","v":58.258046654518033},{"$f":"K21+K22","v":979},{"$f":"SQRT((L21^2)+(L22^2))","v":266.58019431308094},{"$f":"M21+M22","v":487},{"$f":"SQRT((N21^2)+(N22^2))","v":166.41213898030395},{"$f":"O21+O22","v":1188},{"$f":"SQRT((P21^2)+(P22^2))","v":241.83465425782137},{"$f":"Q21+Q22","v":466},{"$f":"SQRT((R21^2)+(R22^2))","v":161.44348856488452},{"$f":"S21+S22","v":187},{"$f":"SQRT((T21^2)+(T22^2))","v":60.307545133258408},{"$f":"U21+U22","v":144},{"$f":"SQRT((V21^2)+(V22^2))","v":61.522353661088097},{"$f":"W21+W22","v":304},{"$f":"SQRT((X21^2)+(X22^2))","v":114.56002793295748}]
[null,"Income $150,000 to $199,999 ",{"$f":"C23","v":266},111,203,88,316,146,42,27,402,142,138,69,419,128,{"$f":"Q23","v":352},147,95,38,218,90,187,84]
[null,"Income $200,000 or more ",{"$f":"C24","v":422},157,145,70,268,113,43,32,383,118,184,95,450,148,355,119,65,31,109,62,45,38]
[]
[]
[]
[]
[]
[]
[]
[]
[]
[]
[]
[]
[]
[]
[]
[]
[]
[]
[]
[]
[]
[]
[]
[]
[null,"B19101. FAMILY INCOME IN THE PAST 12 MONTHS (IN 2017 INFLATION-ADJUSTED DOLLARS)",null,null,null,null,null,null,null,null,null,null,null,null,{"$f":"B70","v":"B19101. FAMILY INCOME IN THE PAST 12 MONTHS (IN 2017 INFLATION-ADJUSTED DOLLARS)"}]
[null,"Universe:  HOUSEHOLDS",null,null,null,null,null,null,null,null,null,null,null,null,"Data Set: 2013-2017 American Community Survey 5-Year Estimates"]
[null,"Data Set: 2013-2017 American Community Survey 5-Year Estimates"]
[]
[null,null,"Alton",null,"Barnstead",null,"Belmont",null,"Center Harbor",null,"Gilford",null,"Gilmanton",null,"Laconia",null,"Meredith",null,"New Hampton",null,"Sanbornton",null,"Tilton"]
[null,null,"Households","Margin of Error","Households","Margin of Error","Households","Margin of Error","Households","Margin of Error","Households","Margin of Error","Households","Margin of Error","Households","Margin of Error","Households","Margin of Error","Households","Margin of Error","Households","Margin of Error","Households","Margin of Error"]
[null,"Total Households",2182,151,1694,91,2774,177,443,61,2996,213,1433,86,7143,283,2949,153,870,73,1190,79,1453,141]
[null,"Households With"]
[null,"Income Less than $10,000 ",125,93,31,30,72,65,13,14,146,93,44,34,536,177,224,116,41,23,26,20,39,30]
[null,"Income $10,000 to $14,999 ",51,47,19,20,87,78,20,18,69,51,55,45,441,120,177,84,48,25,17,14,107,67]
[null,"Income $15,000 to $19,999 ",106,82,58,41,152,94,28,23,169,93,108,67,417,125,100,58,17,13,40,40,49,43]
[null,"Income $20,000 to $24,999 ",125,91,73,44,254,109,17,12,110,88,36,30,384,141,104,53,28,24,6,10,140,81]
[null,"Income $25,000 to $29,999 ",107,103,124,64,101,56,16,17,113,61,50,34,384,138,112,71,30,25,25,24,59,36]
[null,"Income $30,000 to $34,999 ",83,60,26,24,126,99,9,9,130,55,135,73,354,127,250,131,53,25,50,32,148,79]
[null,"Income $35,000 to $39,999 ",80,78,66,36,85,67,43,24,59,42,53,49,334,116,101,56,25,20,45,30,79,53]
[null,"Income $40,000 to $44,999 ",95,80,23,25,45,30,8,8,140,107,45,30,484,160,171,90,60,33,91,56,35,29]
[null,"Income $45,000 to $49,999 ",106,89,78,59,104,97,12,14,106,99,73,61,482,169,97,57,24,14,88,50,59,38]
[null,"Income $50,000 to $59,999 ",234,119,285,106,279,108,59,27,350,127,81,45,585,157,202,95,85,31,125,47,134,61]
[null,"Income $60,000 to $74,999 ",284,116,182,68,456,139,68,37,477,179,217,73,641,174,214,87,135,38,201,62,165,75]
[null,"Income $75,000 to $99,999 ",230,100,376,116,468,145,37,24,406,122,196,65,624,165,326,111,223,60,189,58,192,73]
[null,"Income $100,000 to $124,999 ",309,136,198,78,181,88,64,34,154,70,128,64,666,164,329,109,51,22,40,26,76,47]
[null,"Income $125,000 to $149,999 ",52,49,74,43,216,106,19,17,153,98,122,51,341,126,122,75,31,22,117,55,77,55]
[null,"Income $150,000 to $199,999 ",147,100,60,41,77,51,11,12,174,73,36,22,288,95,281,100,11,10,95,55,80,47]
[null,"Income $200,000 or more ",48,43,21,19,71,65,19,16,240,81,54,36,182,74,139,61,8,8,35,29,14,17]
[]
[]
[]
[]
[null,"Calculated B19001. HOUSEHOLD INCOME IN THE PAST 12 MONTHS (IN 2017 INFLATION-ADJUSTED DOLLARS)"]
[null,"Universe:  HOUSEHOLDS"]
[null,"Data Set: 2013-2017 American Community Survey 5-Year Estimates"]
[null,null,"Alton",null,"Barnstead",null,"Belmont",null,"Center Harbor",null,"Gilford",null,"Gilmanton",null,"Laconia",null,"Meredith",null,"New Hampton",null,"Sanbornton",null,"Tilton"]
[null,null,"Households","Margin of Error","Households","Margin of Error","Households","Margin of Error","Households","Margin of Error","Households","Margin of Error","Households","Margin of Error","Households","Margin of Error","Households","Margin of Error","Households","Margin of Error","Households","Margin of Error","Households","Margin of Error"]
[null,"Total Households",{"$f":"C76","v":2182},151,1694,91,2774,177,443,61,2996,213,1433,86,7143,283,2949,{"$f":"R76","v":153},870,73,1190,79,1453,141]
[null,"Households With"]
[null,"Income Less than $10,000 ",{"$f":"C78","v":125},93,31,30,72,65,13,14,146,93,44,34,536,177,224,{"$f":"R78","v":116},41,23,26,20,39,30]
[null,"Income $10,000 to $14,999 ",{"$f":"C79","v":51},47,19,20,87,78,20,18,69,51,55,45,441,120,177,{"$f":"R79","v":84},48,25,17,14,107,67]
[null,"Income $15,000 to $24,999 ",{"$f":"C80+C81","v":231},{"$f":"SQRT((D80^2)+(D81^2))","v":122.494897852931},{"$f":"E80+E81","v":131},{"$f":"SQRT((F80^2)+(F81^2))","v":60.141499815019579},{"$f":"G80+G81","v":406},{"$f":"SQRT((H80^2)+(H81^2))","v":143.93401265857906},{"$f":"I80+I81","v":45},{"$f":"SQRT((J80^2)+(J81^2))","v":25.942243542145693},{"$f":"K80+K81","v":279},{"$f":"SQRT((L80^2)+(L81^2))","v":128.03515142334936},{"$f":"M80+M81","v":144},{"$f":"SQRT((N80^2)+(N81^2))","v":73.409808608931812},{"$f":"O80+O81","v":801},{"$f":"SQRT((P80^2)+(P81^2))","v":188.43035848822237},{"$f":"Q80+Q81","v":204},{"$f":"SQRT((R80^2)+(R81^2))","v":78.568441501661468},{"$f":"S80+S81","v":45},{"$f":"SQRT((T80^2)+(T81^2))","v":27.294688127912362},{"$f":"U80+U81","v":46},{"$f":"SQRT((V80^2)+(V81^2))","v":41.231056256176608},{"$f":"W80+W81","v":189},{"$f":"SQRT((X80^2)+(X81^2))","v":91.706052144883003}]
[null,"Income $25,000 to $34,999 ",{"$f":"C82+C83","v":190},{"$f":"SQRT((D82^2)+(D83^2))","v":119.20151005754919},{"$f":"E82+E83","v":150},{"$f":"SQRT((F82^2)+(F83^2))","v":68.352029962540243},{"$f":"G82+G83","v":227},{"$f":"SQRT((H82^2)+(H83^2))","v":113.74093370462545},{"$f":"I82+I83","v":25},{"$f":"SQRT((J82^2)+(J83^2))","v":19.235384061671343},{"$f":"K82+K83","v":243},{"$f":"SQRT((L82^2)+(L83^2))","v":82.134036793524274},{"$f":"M82+M83","v":185},{"$f":"SQRT((N82^2)+(N83^2))","v":80.529497701152962},{"$f":"O82+O83","v":738},{"$f":"SQRT((P82^2)+(P83^2))","v":187.5446613476374},{"$f":"Q82+Q83","v":362},{"$f":"SQRT((R82^2)+(R83^2))","v":149.00335566691106},{"$f":"S82+S83","v":83},{"$f":"SQRT((T82^2)+(T83^2))","v":35.355339059327378},{"$f":"U82+U83","v":75},{"$f":"SQRT((V82^2)+(V83^2))","v":40},{"$f":"W82+W83","v":207},{"$f":"SQRT((X82^2)+(X83^2))","v":86.815897161752588}]
[null,"Income $35,000 to $49,999 ",{"$f":"C84+C85+C86","v":281},{"$f":"SQRT((D84^2)+(D85^2)+(D86^2))","v":142.84607099952032},{"$f":"E84+E85+E86","v":167},{"$f":"SQRT((F84^2)+(F85^2)+(F86^2))","v":73.498299300051841},{"$f":"G84+G85+G86","v":234},{"$f":"SQRT((H84^2)+(H85^2)+(H86^2))","v":121.64703037887936},{"$f":"I84+I85+I86","v":63},{"$f":"SQRT((J84^2)+(J85^2)+(J86^2))","v":28.913664589601922},{"$f":"K84+K85+K86","v":305},{"$f":"SQRT((L84^2)+(L85^2)+(L86^2))","v":151.70365849247011},{"$f":"M84+M85+M86","v":171},{"$f":"SQRT((N84^2)+(N85^2)+(N86^2))","v":83.797374660546495},{"$f":"O84+O85+O86","v":1300},{"$f":"SQRT((P84^2)+(P85^2)+(P86^2))","v":260.03269025259112},{"$f":"Q84+Q85+Q86","v":369},{"$f":"SQRT((R84^2)+(R85^2)+(R86^2))","v":120.3536455617361},{"$f":"S84+S85+S86","v":109},{"$f":"SQRT((T84^2)+(T85^2)+(T86^2))","v":41.048751503547585},{"$f":"U84+U85+U86","v":224},{"$f":"SQRT((V84^2)+(V85^2)+(V86^2))","v":80.845531725630948},{"$f":"W84+W85+W86","v":173},{"$f":"SQRT((X84^2)+(X85^2)+(X86^2))","v":71.372263520221921}]
[null,"Income $50,000 to $74,999 ",{"$f":"C87+C88","v":518},{"$f":"SQRT((D87^2)+(D88^2))","v":166.1836333698358},{"$f":"E87+E88","v":467},{"$f":"SQRT((F87^2)+(F88^2))","v":125.93649193144932},{"$f":"G87+G88","v":735},{"$f":"SQRT((H87^2)+(H88^2))","v":176.02556632489498},{"$f":"I87+I88","v":127},{"$f":"SQRT((J87^2)+(J88^2))","v":45.803929962395145},{"$f":"K87+K88","v":827},{"$f":"SQRT((L87^2)+(L88^2))","v":219.47665023869851},{"$f":"M87+M88","v":298},{"$f":"SQRT((N87^2)+(N88^2))","v":85.755466298073387},{"$f":"O87+O88","v":1226},{"$f":"SQRT((P87^2)+(P88^2))","v":234.3608329051593},{"$f":"Q87+Q88","v":416},{"$f":"SQRT((R87^2)+(R88^2))","v":128.81770064707723},{"$f":"S87+S88","v":220},{"$f":"SQRT((T87^2)+(T88^2))","v":49.040799340956916},{"$f":"U87+U88","v":326},{"$f":"SQRT((V87^2)+(V88^2))","v":77.801028270839709},{"$f":"W87+W88","v":299},{"$f":"SQRT((X87^2)+(X88^2))","v":96.674712308855618}]
[null,"Income $75,000 to $99,999 ",{"$f":"C89","v":230},100,376,116,468,145,37,24,406,122,196,65,624,165,{"$f":"Q89","v":326},111,223,60,189,58,192,73]
[null,"Income $100,000 to $149,999 ",{"$f":"C90+C91","v":361},{"$f":"SQRT((D90^2)+(D91^2))","v":144.55794685869054},{"$f":"E90+E91","v":272},{"$f":"SQRT((F90^2)+(F91^2))","v":89.067390216621931},{"$f":"G90+G91","v":397},{"$f":"SQRT((H90^2)+(H91^2))","v":137.7679207943562},{"$f":"I90+I91","v":83},{"$f":"SQRT((J90^2)+(J91^2))","v":38.013155617496423},{"$f":"K90+K91","v":307},{"$f":"SQRT((L90^2)+(L91^2))","v":120.43255373859678},{"$f":"M90+M91","v":250},{"$f":"SQRT((N90^2)+(N91^2))","v":81.835200250259064},{"$f":"O90+O91","v":1007},{"$f":"SQRT((P90^2)+(P91^2))","v":206.81392603013947},{"$f":"Q90+Q91","v":451},{"$f":"SQRT((R90^2)+(R91^2))","v":132.31024147812596},{"$f":"S90+S91","v":82},{"$f":"SQRT((T90^2)+(T91^2))","v":31.11269837220809},{"$f":"U90+U91","v":157},{"$f":"SQRT((V90^2)+(V91^2))","v":60.835844697020519},{"$f":"W90+W91","v":153},{"$f":"SQRT((X90^2)+(X91^2))","v":72.346388990743691}]
[null,"Income $150,000 to $199,999 ",{"$f":"C92","v":147},100,60,41,77,51,11,12,174,73,36,22,288,95,{"$f":"Q92","v":281},100,11,10,95,55,80,47]
[null,"Income $200,000 or more ",{"$f":"C93","v":48},43,21,19,71,65,19,16,240,81,54,36,182,74,{"$f":"Q93","v":139},61,8,8,35,29,14,17]
[]
[]
[]
[null,"B19001. HOUSEHOLD INCOME IN THE PAST 12 MONTHS (IN 2012 INFLATION-ADJUSTED DOLLARS)"]
[null,"Universe:  HOUSEHOLDS",null,null,null,null,null,null,null,null,null,null,null,null,{"$f":"B118","v":"B19001. HOUSEHOLD INCOME IN THE PAST 12 MONTHS (IN 2012 INFLATION-ADJUSTED DOLLARS)"}]
[null,"Data Set: 2008-2012 American Community Survey 5-Year Estimates",null,null,null,null,null,null,null,null,null,null,null,null,{"$f":"B120","v":"Data Set: 2008-2012 American Community Survey 5-Year Estimates"}]
[]
[null,null,"Alton",null,"Barnstead",null,"Belmont",null,"Center Harbor",null,"Gilford",null,"Gilmanton",null,"Laconia",null,"Meredith",null,"New Hampton",null,"Sanbornton",null,"Tilton"]
[null,null,"Households","Margin of Error","Households","Margin of Error","Households","Margin of Error","Households","Margin of Error","Households","Margin of Error","Households","Margin of Error","Households","Margin of Error","Households","Margin of Error","Households","Margin of Error","Households","Margin of Error","Households","Margin of Error"]
[null,"Total Households",2182,151,1694,91,2774,177,443,61,2996,213,1433,86,7143,283,2949,153,870,73,1190,79,1453,141]
[null,"Households With"]
[null,"Income Less than $10,000 ",125,93,31,30,72,65,13,14,146,93,44,34,536,177,224,116,41,23,26,20,39,30]
[null,"Income $10,000 to $14,999 ",51,47,19,20,87,78,20,18,69,51,55,45,441,120,177,84,48,25,17,14,107,67]
[null,"Income $15,000 to $19,999 ",106,82,58,41,152,94,28,23,169,93,108,67,417,125,100,58,17,13,40,40,49,43]
[null,"Income $20,000 to $24,999 ",125,91,73,44,254,109,17,12,110,88,36,30,384,141,104,53,28,24,6,10,140,81]
[null,"Income $25,000 to $29,999 ",107,103,124,64,101,56,16,17,113,61,50,34,384,138,112,71,30,25,25,24,59,36]
[null,"Income $30,000 to $34,999 ",83,60,26,24,126,99,9,9,130,55,135,73,354,127,250,131,53,25,50,32,148,79]
[null,"Income $35,000 to $39,999 ",80,78,66,36,85,67,43,24,59,42,53,49,334,116,101,56,25,20,45,30,79,53]
[null,"Income $40,000 to $44,999 ",95,80,23,25,45,30,8,8,140,107,45,30,484,160,171,90,60,33,91,56,35,29]
[null,"Income $45,000 to $49,999 ",106,89,78,59,104,97,12,14,106,99,73,61,482,169,97,57,24,14,88,50,59,38]
[null,"Income $50,000 to $59,999 ",234,119,285,106,279,108,59,27,350,127,81,45,585,157,202,95,85,31,125,47,134,61]
[null,"Income $60,000 to $74,999 ",284,116,182,68,456,139,68,37,477,179,217,73,641,174,214,87,135,38,201,62,165,75]
[null,"Income $75,000 to $99,999 ",230,100,376,116,468,145,37,24,406,122,196,65,624,165,326,111,223,60,189,58,192,73]
[null,"Income $100,000 to $124,999 ",309,136,198,78,181,88,64,34,154,70,128,64,666,164,329,109,51,22,40,26,76,47]
[null,"Income $125,000 to $149,999 ",52,49,74,43,216,106,19,17,153,98,122,51,341,126,122,75,31,22,117,55,77,55]
[null,"Income $150,000 to $199,999 ",147,100,60,41,77,51,11,12,174,73,36,22,288,95,281,100,11,10,95,55,80,47]
[null,"Income $200,000 or more ",48,43,21,19,71,65,19,16,240,81,54,36,182,74,139,61,8,8,35,29,14,17]
[]
[]
[]
[]
[null,"Calculated B19001. HOUSEHOLD INCOME IN THE PAST 12 MONTHS (IN 2012 INFLATION-ADJUSTED DOLLARS)"]
[null,"Universe:  HOUSEHOLDS"]
[null,"Data Set: 2008-2012 American Community Survey 5-Year Estimates"]
[null,null,"Alton",null,"Barnstead",null,"Belmont",null,"Center Harbor",null,"Gilford",null,"Gilmanton",null,"Laconia",null,"Meredith",null,"New Hampton",null,"Sanbornton",null,"Tilton"]
[null,null,"Households","Margin of Error","Households","Margin of Error","Households","Margin of Error","Households","Margin of Error","Households","Margin of Error","Households","Margin of Error","Households","Margin of Error","Households","Margin of Error","Households","Margin of Error","Households","Margin of Error","Households","Margin of Error"]
[null,"Total Households",{"$f":"C124","v":2182},151,1694,91,2774,177,443,61,2996,213,1433,86,7143,283,2949,{"$f":"R124","v":153},870,73,1190,79,1453,141]
[null,"Households With"]
[null,"Income Less than $10,000 ",{"$f":"C126","v":125},93,31,30,72,65,13,14,146,93,44,34,536,177,224,{"$f":"R126","v":116},41,23,26,20,39,30]
[null,"Income $10,000 to $14,999 ",{"$f":"C127","v":51},47,19,20,87,78,20,18,69,51,55,45,441,120,177,{"$f":"R127","v":84},48,25,17,14,107,67]
[null,"Income $15,000 to $24,999 ",{"$f":"C128+C129","v":231},{"$f":"SQRT((D128^2)+(D129^2))","v":122.494897852931},{"$f":"E128+E129","v":131},{"$f":"SQRT((F128^2)+(F129^2))","v":60.141499815019579},{"$f":"G128+G129","v":406},{"$f":"SQRT((H128^2)+(H129^2))","v":143.93401265857906},{"$f":"I128+I129","v":45},{"$f":"SQRT((J128^2)+(J129^2))","v":25.942243542145693},{"$f":"K128+K129","v":279},{"$f":"SQRT((L128^2)+(L129^2))","v":128.03515142334936},{"$f":"M128+M129","v":144},{"$f":"SQRT((N128^2)+(N129^2))","v":73.409808608931812},{"$f":"O128+O129","v":801},{"$f":"SQRT((P128^2)+(P129^2))","v":188.43035848822237},{"$f":"Q128+Q129","v":204},{"$f":"SQRT((R128^2)+(R129^2))","v":78.568441501661468},{"$f":"S128+S129","v":45},{"$f":"SQRT((T128^2)+(T129^2))","v":27.294688127912362},{"$f":"U128+U129","v":46},{"$f":"SQRT((V128^2)+(V129^2))","v":41.231056256176608},{"$f":"W128+W129","v":189},{"$f":"SQRT((X128^2)+(X129^2))","v":91.706052144883003}]
[null,"Income $25,000 to $34,999 ",{"$f":"C130+C131","v":190},{"$f":"SQRT((D130^2)+(D131^2))","v":119.20151005754919},{"$f":"E130+E131","v":150},{"$f":"SQRT((F130^2)+(F131^2))","v":68.352029962540243},{"$f":"G130+G131","v":227},{"$f":"SQRT((H130^2)+(H131^2))","v":113.74093370462545},{"$f":"I130+I131","v":25},{"$f":"SQRT((J130^2)+(J131^2))","v":19.235384061671343},{"$f":"K130+K131","v":243},{"$f":"SQRT((L130^2)+(L131^2))","v":82.134036793524274},{"$f":"M130+M131","v":185},{"$f":"SQRT((N130^2)+(N131^2))","v":80.529497701152962},{"$f":"O130+O131","v":738},{"$f":"SQRT((P130^2)+(P131^2))","v":187.5446613476374},{"$f":"Q130+Q131","v":362},{"$f":"SQRT((R130^2)+(R131^2))","v":149.00335566691106},{"$f":"S130+S131","v":83},{"$f":"SQRT((T130^2)+(T131^2))","v":35.355339059327378},{"$f":"U130+U131","v":75},{"$f":"SQRT((V130^2)+(V131^2))","v":40},{"$f":"W130+W131","v":207},{"$f":"SQRT((X130^2)+(X131^2))","v":86.815897161752588}]
[null,"Income $35,000 to $49,999 ",{"$f":"C132+C133+C134","v":281},{"$f":"SQRT((D132^2)+(D133^2)+(D134^2))","v":142.84607099952032},{"$f":"E132+E133+E134","v":167},{"$f":"SQRT((F132^2)+(F133^2)+(F134^2))","v":73.498299300051841},{"$f":"G132+G133+G134","v":234},{"$f":"SQRT((H132^2)+(H133^2)+(H134^2))","v":121.64703037887936},{"$f":"I132+I133+I134","v":63},{"$f":"SQRT((J132^2)+(J133^2)+(J134^2))","v":28.913664589601922},{"$f":"K132+K133+K134","v":305},{"$f":"SQRT((L132^2)+(L133^2)+(L134^2))","v":151.70365849247011},{"$f":"M132+M133+M134","v":171},{"$f":"SQRT((N132^2)+(N133^2)+(N134^2))","v":83.797374660546495},{"$f":"O132+O133+O134","v":1300},{"$f":"SQRT((P132^2)+(P133^2)+(P134^2))","v":260.03269025259112},{"$f":"Q132+Q133+Q134","v":369},{"$f":"SQRT((R132^2)+(R133^2)+(R134^2))","v":120.3536455617361},{"$f":"S132+S133+S134","v":109},{"$f":"SQRT((T132^2)+(T133^2)+(T134^2))","v":41.048751503547585},{"$f":"U132+U133+U134","v":224},{"$f":"SQRT((V132^2)+(V133^2)+(V134^2))","v":80.845531725630948},{"$f":"W132+W133+W134","v":173},{"$f":"SQRT((X132^2)+(X133^2)+(X134^2))","v":71.372263520221921}]
[null,"Income $50,000 to $74,999 ",{"$f":"C135+C136","v":518},{"$f":"SQRT((D135^2)+(D136^2))","v":166.1836333698358},{"$f":"E135+E136","v":467},{"$f":"SQRT((F135^2)+(F136^2))","v":125.93649193144932},{"$f":"G135+G136","v":735},{"$f":"SQRT((H135^2)+(H136^2))","v":176.02556632489498},{"$f":"I135+I136","v":127},{"$f":"SQRT((J135^2)+(J136^2))","v":45.803929962395145},{"$f":"K135+K136","v":827},{"$f":"SQRT((L135^2)+(L136^2))","v":219.47665023869851},{"$f":"M135+M136","v":298},{"$f":"SQRT((N135^2)+(N136^2))","v":85.755466298073387},{"$f":"O135+O136","v":1226},{"$f":"SQRT((P135^2)+(P136^2))","v":234.3608329051593},{"$f":"Q135+Q136","v":416},{"$f":"SQRT((R135^2)+(R136^2))","v":128.81770064707723},{"$f":"S135+S136","v":220},{"$f":"SQRT((T135^2)+(T136^2))","v":49.040799340956916},{"$f":"U135+U136","v":326},{"$f":"SQRT((V135^2)+(V136^2))","v":77.801028270839709},{"$f":"W135+W136","v":299},{"$f":"SQRT((X135^2)+(X136^2))","v":96.674712308855618}]
[null,"Income $75,000 to $99,999 ",{"$f":"C137","v":230},100,376,116,468,145,37,24,406,122,196,65,624,165,{"$f":"Q137","v":326},111,223,60,189,58,192,73]
[null,"Income $100,000 to $149,999 ",{"$f":"C138+C139","v":361},{"$f":"SQRT((D138^2)+(D139^2))","v":144.55794685869054},{"$f":"E138+E139","v":272},{"$f":"SQRT((F138^2)+(F139^2))","v":89.067390216621931},{"$f":"G138+G139","v":397},{"$f":"SQRT((H138^2)+(H139^2))","v":137.7679207943562},{"$f":"I138+I139","v":83},{"$f":"SQRT((J138^2)+(J139^2))","v":38.013155617496423},{"$f":"K138+K139","v":307},{"$f":"SQRT((L138^2)+(L139^2))","v":120.43255373859678},{"$f":"M138+M139","v":250},{"$f":"SQRT((N138^2)+(N139^2))","v":81.835200250259064},{"$f":"O138+O139","v":1007},{"$f":"SQRT((P138^2)+(P139^2))","v":206.81392603013947},{"$f":"Q138+Q139","v":451},{"$f":"SQRT((R138^2)+(R139^2))","v":132.31024147812596},{"$f":"S138+S139","v":82},{"$f":"SQRT((T138^2)+(T139^2))","v":31.11269837220809},{"$f":"U138+U139","v":157},{"$f":"SQRT((V138^2)+(V139^2))","v":60.835844697020519},{"$f":"W138+W139","v":153},{"$f":"SQRT((X138^2)+(X139^2))","v":72.346388990743691}]
[null,"Income $150,000 to $199,999 ",{"$f":"C140","v":147},100,60,41,77,51,11,12,174,73,36,22,288,95,{"$f":"Q140","v":281},100,11,10,95,55,80,47]
[null,"Income $200,000 or more ",{"$f":"C141","v":48},43,21,19,71,65,19,16,240,81,54,36,182,74,{"$f":"Q141","v":139},61,8,8,35,29,14,17]

{"sheet":"ACS_Table_B19037","index":23,"n_rows":253,"n_cols":24,"rows_kept":253,"cut":false,"hidden":true,"merged":[]}
[null,"B19037. AGE OF HOUSEHOLDER BY HOUSEHOLD INCOME IN THE PAST 12 MONTHS (IN 2021 INFLATION-ADJUSTED DOLLARS)"]
[null,"Universe:  HOUSEHOLDS"]
[null,"Data Set: 2018-2022 American Community Survey 5-Year Estimates"]
[]
[null,null,"Alton",null,"Barnstead",null,"Belmont",null,"Center Harbor",null,"Gilford",null,"Gilmanton",null,"Laconia",null,"Meredith",null,"New Hampton",null,"Sanbornton",null,"Tilton"]
[null," ","Estimate","Margin of Error","Estimate","Margin of Error","Estimate","Margin of Error","Estimate","Margin of Error","Estimate","Margin of Error","Estimate","Margin of Error","Estimate","Margin of Error","Estimate","Margin of Error","Estimate","Margin of Error","Estimate","Margin of Error","Estimate","Margin of Error"]
[null,"Total:",2240,229,1840,167,2940,252,384,88,3069,236,1575,155,6965,394,3242,243,978,123,1125,132,1598,137]
[null,"Householder under 25 years:",0,17,52,67,35,40,0,12,53,61,10,16,64,71,31,37,0,12,0,12,12,19]
[null,"Less than $10,000",0,17,0,12,0,17,0,12,0,17,10,16,0,19,0,17,0,12,0,12,0,12]
[null,"$10,000 to $14,999",0,17,0,12,0,17,0,12,0,17,0,12,0,19,0,17,0,12,0,12,0,12]
[null,"$15,000 to $19,999",0,17,0,12,0,17,0,12,0,17,0,12,0,19,0,17,0,12,0,12,0,12]
[null,"$20,000 to $24,999",0,17,0,12,0,17,0,12,0,17,0,12,12,27,0,17,0,12,0,12,0,12]
[null,"$25,000 to $29,999",0,17,0,12,0,17,0,12,0,17,0,12,0,19,0,17,0,12,0,12,0,12]
[null,"$30,000 to $34,999",0,17,41,64,0,17,0,12,0,17,0,12,0,19,11,17,0,12,0,12,0,12]
[null,"$35,000 to $39,999",0,17,0,12,0,17,0,12,0,17,0,12,0,19,0,17,0,12,0,12,0,12]
[null,"$40,000 to $44,999",0,17,0,12,35,40,0,12,0,17,0,12,0,19,0,17,0,12,0,12,0,12]
[null,"$45,000 to $49,999",0,17,0,12,0,17,0,12,0,17,0,12,0,19,20,31,0,12,0,12,0,12]
[null,"$50,000 to $59,999",0,17,0,12,0,17,0,12,17,31,0,12,0,19,0,17,0,12,0,12,0,12]
[null,"$60,000 to $74,999",0,17,0,12,0,17,0,12,0,17,0,12,0,19,0,17,0,12,0,12,12,19]
[null,"$75,000 to $99,999",0,17,0,12,0,17,0,12,0,17,0,12,11,21,0,17,0,12,0,12,0,12]
[null,"$100,000 to $124,999",0,17,0,12,0,17,0,12,36,55,0,12,41,62,0,17,0,12,0,12,0,12]
[null,"$125,000 to $149,999",0,17,11,21,0,17,0,12,0,17,0,12,0,19,0,17,0,12,0,12,0,12]
[null,"$150,000 to $199,999",0,17,0,12,0,17,0,12,0,17,0,12,0,19,0,17,0,12,0,12,0,12]
[null,"$200,000 or more",0,17,0,12,0,17,0,12,0,17,0,12,0,19,0,17,0,12,0,12,0,12]
[null,"Householder 25 to 44 years:",421,116,533,123,655,163,22,16,636,145,440,130,2086,251,427,149,207,63,287,94,506,141]
[null,"Less than $10,000",16,25,0,12,0,17,0,12,0,17,0,12,4,9,11,19,23,21,0,12,11,17]
[null,"$10,000 to $14,999",0,17,0,12,24,39,0,12,22,34,0,12,115,123,28,29,0,12,0,12,0,12]
[null,"$15,000 to $19,999",0,17,0,12,0,17,0,12,0,17,12,20,105,106,13,19,0,12,12,19,0,12]
[null,"$20,000 to $24,999",0,17,34,52,0,17,0,12,0,17,56,59,52,50,0,17,0,12,0,12,15,23]
[null,"$25,000 to $29,999",0,17,0,12,0,17,0,12,3,6,0,12,99,66,12,18,0,12,0,12,33,36]
[null,"$30,000 to $34,999",0,17,4,12,0,17,1,2,0,17,0,12,21,34,40,59,5,8,0,12,37,55]
[null,"$35,000 to $39,999",0,17,0,12,21,34,3,5,32,53,0,12,160,150,86,94,0,12,0,12,0,12]
[null,"$40,000 to $44,999",14,24,0,12,0,17,0,12,0,17,8,13,41,49,0,17,23,35,0,12,0,12]
[null,"$45,000 to $49,999",0,17,0,12,60,65,0,12,4,7,0,12,67,60,0,17,18,19,0,12,0,12]
[null,"$50,000 to $59,999",9,15,63,62,104,95,6,9,28,29,10,17,160,102,20,27,23,21,42,64,12,19]
[null,"$60,000 to $74,999",20,30,83,56,28,45,2,5,22,29,0,12,244,126,92,77,30,21,70,51,217,130]
[null,"$75,000 to $99,999",79,68,69,56,126,89,0,12,1,3,115,74,480,178,33,40,0,12,0,12,22,30]
[null,"$100,000 to $124,999",172,102,72,42,96,85,0,12,203,147,90,65,277,122,0,17,17,19,34,32,33,55]
[null,"$125,000 to $149,999",50,57,136,120,84,68,0,12,150,100,53,43,155,108,28,31,21,18,0,12,92,74]
[null,"$150,000 to $199,999",0,17,56,36,39,56,4,6,100,75,44,37,62,46,22,28,28,24,91,74,20,32]
[null,"$200,000 or more",61,53,16,25,73,60,6,10,71,57,52,69,44,46,42,45,19,17,38,39,14,23]
[null,"Householder 45 to 64 years:",1100,189,750,135,1100,198,124,48,1353,250,643,136,2611,274,1445,227,376,76,432,111,636,157]
[null,"Less than $10,000",0,17,0,12,145,113,4,6,5,7,0,12,194,161,103,108,14,15,9,14,26,26]
[null,"$10,000 to $14,999",0,17,0,12,48,76,8,10,11,18,26,33,118,89,98,86,0,12,0,12,7,12]
[null,"$15,000 to $19,999",0,17,0,12,49,46,0,12,62,90,0,12,23,24,20,22,17,21,24,32,8,12]
[null,"$20,000 to $24,999",32,51,21,35,12,19,0,12,53,58,0,12,34,39,0,17,0,12,27,41,0,12]
[null,"$25,000 to $29,999",0,17,49,60,0,17,0,12,16,28,0,12,105,91,29,39,0,12,0,12,20,31]
[null,"$30,000 to $34,999",20,33,35,43,43,42,3,5,3,7,16,19,153,102,81,67,5,8,0,12,22,37]
[null,"$35,000 to $39,999",0,17,55,56,7,17,3,5,4,6,0,12,73,62,71,81,30,28,0,12,13,24]
[null,"$40,000 to $44,999",37,60,0,12,17,30,0,12,36,34,0,12,164,170,58,49,17,25,0,12,9,14]
[null,"$45,000 to $49,999",40,38,21,24,22,28,0,12,5,7,15,25,66,64,98,77,9,12,25,30,122,94]
[null,"$50,000 to $59,999",51,63,42,33,101,80,16,15,19,21,52,43,204,126,21,26,20,24,17,28,31,42]
[null,"$60,000 to $74,999",89,82,49,36,0,17,24,31,110,89,54,44,169,117,66,47,16,14,17,18,25,38]
[null,"$75,000 to $99,999",94,59,83,47,58,47,27,20,149,87,117,66,317,129,65,43,58,37,96,89,37,31]
[null,"$100,000 to $124,999",125,90,53,33,142,77,18,15,189,119,100,67,256,123,145,89,51,26,18,16,77,62]
[null,"$125,000 to $149,999",144,104,118,74,88,78,3,7,179,115,98,85,194,98,152,110,58,43,40,38,55,42]
[null,"$150,000 to $199,999",181,109,95,52,201,114,13,14,254,109,62,52,264,112,191,102,55,30,114,76,159,86]
[null,"$200,000 or more",287,141,129,65,167,94,5,7,258,106,103,62,277,107,247,106,26,20,45,35,25,28]
[null,"Householder 65 years and over:",719,161,505,134,1150,269,238,71,1027,218,482,133,2204,299,1339,259,395,90,406,133,444,122]
[null,"Less than $10,000",32,53,16,17,48,50,2,3,64,60,22,35,74,46,17,20,4,6,33,38,25,30]
[null,"$10,000 to $14,999",15,25,22,35,104,110,2,3,5,8,11,15,85,87,49,48,0,12,12,15,0,12]
[null,"$15,000 to $19,999",12,20,13,22,72,55,0,12,15,21,0,12,149,90,34,41,12,20,63,62,59,69]
[null,"$20,000 to $24,999",9,14,6,10,93,58,0,12,24,23,30,33,129,59,181,157,13,12,0,12,49,48]
[null,"$25,000 to $29,999",89,97,35,41,0,17,10,14,94,85,8,13,195,97,107,90,30,33,16,20,36,28]
[null,"$30,000 to $34,999",63,56,21,31,146,168,21,22,34,33,6,11,189,127,70,50,18,15,18,21,58,33]
[null,"$35,000 to $39,999",80,66,59,86,26,32,3,5,31,26,21,34,53,41,52,54,2,5,21,23,25,22]
[null,"$40,000 to $44,999",20,22,17,20,120,90,11,11,48,40,28,44,16,16,33,29,59,54,0,12,22,20]
[null,"$45,000 to $49,999",34,34,7,12,29,33,3,5,51,58,7,11,82,59,38,41,23,26,0,12,17,19]
[null,"$50,000 to $59,999",16,19,62,54,66,62,16,18,145,128,66,58,247,79,106,52,40,33,14,15,25,24]
[null,"$60,000 to $74,999",55,44,57,35,86,48,0,12,110,59,22,25,224,129,104,73,45,34,30,28,15,18]
[null,"$75,000 to $99,999",28,32,87,60,69,39,26,18,82,49,54,40,274,98,202,116,77,45,108,73,52,41]
[null,"$100,000 to $124,999",78,67,37,27,187,115,45,31,153,110,139,112,90,59,105,74,25,21,31,27,28,47]
[null,"$125,000 to $149,999",29,34,14,17,0,17,42,44,69,41,7,10,175,111,36,32,15,13,21,26,19,23]
[null,"$150,000 to $199,999",85,58,52,58,76,86,25,23,48,27,32,23,93,64,139,107,12,14,13,20,8,12]
[null,"$200,000 or more",74,57,0,12,28,35,32,29,54,37,29,29,129,69,66,39,20,17,26,24,6,9]
[]
[]
[]
[]
[]
[]
[]
[]
[]
[]
[]
[]
[]
[]
[null,"B19037. AGE OF HOUSEHOLDER BY HOUSEHOLD INCOME IN THE PAST 12 MONTHS (IN 2016 INFLATION-ADJUSTED DOLLARS)"]
[null,"Universe:  HOUSEHOLDS"]
[null,"Data Set: 2013-2017 American Community Survey 5-Year Estimates"]
[]
[null,null,"Alton",null,"Barnstead",null,"Belmont",null,"Center Harbor",null,"Gilford",null,"Gilmanton",null,"Laconia",null,"Meredith",null,"New Hampton",null,"Sanbornton",null,"Tilton"]
[null," ","Estimate","Margin of Error","Estimate","Margin of Error","Estimate","Margin of Error","Estimate","Margin of Error","Estimate","Margin of Error","Estimate","Margin of Error","Estimate","Margin of Error","Estimate","Margin of Error","Estimate","Margin of Error","Estimate","Margin of Error","Estimate","Margin of Error"]
[null,"Total:",2159,178,1666,128,2799,234,419,56,3082,182,6904,342,6740,357,2626,159,848,88,1118,83,1515,130]
[null,"Householder under 25 years:",21,33,12,20,78,92,0,11,8,12,284,154,256,155,0,16,7,10,0,11,32,36]
[null,"Less than $10,000",0,16,0,11,0,16,0,11,0,16,0,18,42,47,0,16,0,11,0,11,0,11]
[null,"$10,000 to $14,999",0,16,0,11,0,16,0,11,0,16,0,18,0,17,0,16,0,11,0,11,16,23]
[null,"$15,000 to $19,999",0,16,0,11,0,16,0,11,0,16,70,77,83,88,0,16,7,10,0,11,0,11]
[null,"$20,000 to $24,999",0,16,0,11,0,16,0,11,0,16,0,18,0,17,0,16,0,11,0,11,0,11]
[null,"$25,000 to $29,999",0,16,0,11,0,16,0,11,0,16,29,33,14,23,0,16,0,11,0,11,0,11]
[null,"$30,000 to $34,999",0,16,0,11,0,16,0,11,0,16,0,18,0,17,0,16,0,11,0,11,0,11]
[null,"$35,000 to $39,999",0,16,0,11,0,16,0,11,0,16,16,24,20,24,0,16,0,11,0,11,0,11]
[null,"$40,000 to $44,999",0,16,0,11,23,37,0,11,0,16,53,79,51,77,0,16,0,11,0,11,0,11]
[null,"$45,000 to $49,999",0,16,0,11,0,16,0,11,0,16,0,18,0,17,0,16,0,11,0,11,0,11]
[null,"$50,000 to $59,999",0,16,12,20,0,16,0,11,0,16,38,62,0,17,0,16,0,11,0,11,0,11]
[null,"$60,000 to $74,999",0,16,0,11,0,16,0,11,8,12,62,71,46,47,0,16,0,11,0,11,16,27]
[null,"$75,000 to $99,999",0,16,0,11,55,85,0,11,0,16,0,18,0,17,0,16,0,11,0,11,0,11]
[null,"$100,000 to $124,999",21,33,0,11,0,16,0,11,0,16,16,25,0,17,0,16,0,11,0,11,0,11]
[null,"$125,000 to $149,999",0,16,0,11,0,16,0,11,0,16,0,18,0,17,0,16,0,11,0,11,0,11]
[null,"$150,000 to $199,999",0,16,0,11,0,16,0,11,0,16,0,18,0,17,0,16,0,11,0,11,0,11]
[null,"$200,000 or more",0,16,0,11,0,16,0,11,0,16,0,18,0,17,0,16,0,11,0,11,0,11]
[null,"Householder 25 to 44 years:",472,99,523,103,777,179,70,35,571,158,1751,231,1884,224,601,93,220,49,198,35,452,105]
[null,"Less than $10,000",0,16,0,11,92,89,0,11,0,16,138,82,124,75,42,49,4,6,0,11,22,24]
[null,"$10,000 to $14,999",0,16,0,11,0,16,0,11,0,16,35,29,47,52,8,13,5,6,0,11,0,11]
[null,"$15,000 to $19,999",0,16,0,11,17,27,0,11,57,88,102,64,105,73,28,27,4,7,6,10,51,57]
[null,"$20,000 to $24,999",0,16,0,11,42,68,0,11,0,16,60,54,153,110,51,42,5,7,0,11,18,28]
[null,"$25,000 to $29,999",16,29,0,11,0,16,0,11,16,28,147,80,141,83,0,16,0,11,0,11,45,53]
[null,"$30,000 to $34,999",0,16,6,9,0,16,0,11,0,16,53,43,71,41,28,44,0,11,0,11,0,11]
[null,"$35,000 to $39,999",23,35,9,14,14,23,0,11,18,19,86,96,110,106,0,16,0,11,6,8,34,44]
[null,"$40,000 to $44,999",21,39,20,23,76,90,0,11,0,16,61,45,49,39,0,16,12,17,3,5,8,12]
[null,"$45,000 to $49,999",22,33,75,62,0,16,10,10,130,105,97,85,153,106,20,31,4,7,0,11,41,51]
[null,"$50,000 to $59,999",57,87,41,47,91,87,24,27,35,42,68,39,102,49,100,56,12,18,41,29,76,36]
[null,"$60,000 to $74,999",115,80,93,74,101,76,8,9,41,45,268,117,266,123,46,44,21,22,6,10,51,49]
[null,"$75,000 to $99,999",77,71,134,72,57,56,4,6,104,92,341,135,282,110,78,63,55,38,58,29,68,46]
[null,"$100,000 to $124,999",64,60,79,59,166,110,9,14,37,34,171,116,159,132,23,25,54,28,22,16,0,11]
[null,"$125,000 to $149,999",33,42,35,29,61,60,4,6,18,29,25,28,33,34,81,81,14,16,12,13,10,17]
[null,"$150,000 to $199,999",44,35,20,21,36,43,11,18,47,49,41,46,39,46,42,43,30,23,44,29,28,34]
[null,"$200,000 or more",0,16,11,19,24,40,0,11,68,62,58,41,50,40,54,57,0,11,0,11,0,11]
[null,"Householder 45 to 64 years:",950,175,786,101,1237,156,180,48,1299,140,2948,280,2827,249,1068,150,378,75,620,70,658,107]
[null,"Less than $10,000",49,75,40,31,112,66,9,14,21,24,160,75,141,69,7,12,21,26,12,14,61,65]
[null,"$10,000 to $14,999",0,16,9,15,11,21,9,15,6,9,138,84,185,87,23,22,5,7,5,8,25,39]
[null,"$15,000 to $19,999",19,32,23,26,16,24,0,11,42,41,212,115,219,120,44,35,38,32,13,18,10,16]
[null,"$20,000 to $24,999",35,46,25,27,22,38,0,11,7,10,133,99,161,120,48,37,13,11,24,26,13,21]
[null,"$25,000 to $29,999",15,24,7,12,18,30,0,11,51,41,106,70,106,64,10,16,13,12,15,13,10,17]
[null,"$30,000 to $34,999",75,79,34,25,44,41,0,11,36,41,130,72,100,56,7,13,0,11,33,31,36,34]
[null,"$35,000 to $39,999",0,16,11,17,115,75,2,3,69,53,150,69,126,60,68,65,0,11,29,24,11,17]
[null,"$40,000 to $44,999",82,84,22,25,25,28,12,12,0,16,196,87,115,56,33,34,20,17,25,26,31,46]
[null,"$45,000 to $49,999",20,31,11,19,25,30,11,12,64,57,38,37,29,27,31,27,15,14,15,17,9,15]
[null,"$50,000 to $59,999",20,32,101,56,107,68,22,19,65,48,152,79,143,83,92,51,10,12,42,30,28,27]
[null,"$60,000 to $74,999",50,49,69,41,101,68,22,17,102,59,187,74,242,115,108,50,55,35,56,31,79,54]
[null,"$75,000 to $99,999",237,153,113,53,195,104,25,20,230,91,390,124,374,104,177,83,81,41,69,35,143,60]
[null,"$100,000 to $124,999",124,81,182,94,301,153,16,13,137,67,326,131,239,95,42,30,38,23,94,33,84,50]
[null,"$125,000 to $149,999",70,62,62,37,72,80,5,7,134,63,157,67,177,59,49,31,18,27,56,38,49,29]
[null,"$150,000 to $199,999",121,74,24,26,73,58,27,20,133,73,289,101,306,101,180,82,31,20,71,52,59,57]
[null,"$200,000 or more",33,40,53,38,0,16,20,16,202,89,184,86,164,80,149,67,20,17,61,29,10,17]
[null,"Householder 65 years and over:",716,157,345,74,707,133,169,45,1204,182,1921,206,1773,189,957,106,243,55,300,47,373,87]
[null,"Less than $10,000",0,16,0,11,29,33,4,6,75,61,73,47,86,52,54,50,24,24,0,11,26,24]
[null,"$10,000 to $14,999",63,72,37,44,90,83,7,8,24,31,142,77,114,55,90,56,14,12,0,11,29,28]
[null,"$15,000 to $19,999",0,16,23,26,33,37,12,15,124,69,196,92,221,105,72,55,11,12,13,15,57,44]
[null,"$20,000 to $24,999",59,46,10,15,42,42,7,7,11,12,132,71,177,82,80,50,19,22,21,21,0,11]
[null,"$25,000 to $29,999",27,31,18,19,49,45,0,11,58,57,157,72,112,54,28,25,20,15,49,30,23,22]
[null,"$30,000 to $34,999",15,24,36,33,80,80,19,20,101,69,173,74,136,63,43,32,22,16,37,27,40,27]
[null,"$35,000 to $39,999",81,74,0,11,29,34,4,6,89,63,75,51,46,25,38,32,8,9,4,7,26,22]
[null,"$40,000 to $44,999",42,38,8,14,12,20,12,13,38,43,57,43,109,53,45,36,0,11,13,12,45,31]
[null,"$45,000 to $49,999",14,24,8,14,19,30,3,5,62,52,103,62,105,62,33,26,24,20,6,9,14,18]
[null,"$50,000 to $59,999",36,35,34,31,133,93,18,13,80,58,193,80,130,46,33,26,0,11,34,18,53,35]
[null,"$60,000 to $74,999",14,23,63,39,52,48,7,10,178,85,152,59,172,71,107,49,22,16,39,21,0,11]
[null,"$75,000 to $99,999",212,115,62,36,44,37,44,24,125,75,207,65,143,59,134,55,25,18,32,22,45,53]
[null,"$100,000 to $124,999",91,59,15,23,55,67,11,9,81,57,106,50,87,41,107,56,33,21,23,13,4,8]
[null,"$125,000 to $149,999",11,20,0,11,20,29,3,5,52,37,43,37,37,25,8,14,5,7,0,11,11,17]
[null,"$150,000 to $199,999",41,38,20,23,0,16,5,7,55,39,49,41,58,42,19,21,12,12,23,17,0,11]
[null,"$200,000 or more",10,17,11,17,20,30,13,17,51,40,63,50,40,38,66,36,4,6,6,9,0,11]
[]
[]
[]
[]
[]
[]
[]
[]
[]
[]
[]
[]
[]
[]
[null,"B19037. AGE OF HOUSEHOLDER BY HOUSEHOLD INCOME IN THE PAST 12 MONTHS (IN 2011 INFLATION-ADJUSTED DOLLARS)"]
[null,"Universe:  HOUSEHOLDS"]
[null,"Data Set: 2008-2012 American Community Survey 5-Year Estimates"]
[]
[null,null,"Alton",null,"Barnstead",null,"Belmont",null,"Center Harbor",null,"Gilford",null,"Gilmanton",null,"Laconia",null,"Meredith",null,"New Hampton",null,"Sanbornton",null,"Tilton"]
[null," ","Estimate","Margin of Error","Estimate","Margin of Error","Estimate","Margin of Error","Estimate","Margin of Error","Estimate","Margin of Error","Estimate","Margin of Error","Estimate","Margin of Error","Estimate","Margin of Error","Estimate","Margin of Error","Estimate","Margin of Error","Estimate","Margin of Error"]
[null,"Total:",2182,151,1694,91,2774,177,443,61,2996,213,1433,86,7143,283,2949,153,870,73,1190,79,1453,141]
[null,"Householder under 25 years:",38,35,0,11,157,102,10,15,61,59,6,10,490,176,0,16,19,21,0,11,9,14]
[null,"Less than $10,000",0,16,0,11,32,52,0,11,20,33,0,11,161,128,0,16,0,11,0,11,0,11]
[null,"$10,000 to $14,999",0,16,0,11,0,16,0,11,0,16,0,11,0,18,0,16,3,5,0,11,0,11]
[null,"$15,000 to $19,999",16,26,0,11,0,16,0,11,41,48,0,11,58,74,0,16,0,11,0,11,0,11]
[null,"$20,000 to $24,999",0,16,0,11,0,16,0,11,0,16,0,11,0,18,0,16,0,11,0,11,9,14]
[null,"$25,000 to $29,999",0,16,0,11,0,16,0,11,0,16,0,11,61,92,0,16,0,11,0,11,0,11]
[null,"$30,000 to $34,999",0,16,0,11,30,48,0,11,0,16,0,11,17,29,0,16,0,11,0,11,0,11]
[null,"$35,000 to $39,999",0,16,0,11,11,19,0,11,0,16,0,11,43,67,0,16,3,5,0,11,0,11]
[null,"$40,000 to $44,999",0,16,0,11,0,16,0,11,0,16,6,10,86,113,0,16,0,11,0,11,0,11]
[null,"$45,000 to $49,999",16,25,0,11,0,16,0,11,0,16,0,11,0,18,0,16,0,11,0,11,0,11]
[null,"$50,000 to $59,999",0,16,0,11,18,29,10,15,0,16,0,11,41,51,0,16,0,11,0,11,0,11]
[null,"$60,000 to $74,999",6,11,0,11,11,18,0,11,0,16,0,11,14,23,0,16,0,11,0,11,0,11]
[null,"$75,000 to $99,999",0,16,0,11,55,79,0,11,0,16,0,11,9,15,0,16,13,20,0,11,0,11]
[null,"$100,000 to $124,999",0,16,0,11,0,16,0,11,0,16,0,11,0,18,0,16,0,11,0,11,0,11]
[null,"$125,000 to $149,999",0,16,0,11,0,16,0,11,0,16,0,11,0,18,0,16,0,11,0,11,0,11]
[null,"$150,000 to $199,999",0,16,0,11,0,16,0,11,0,16,0,11,0,18,0,16,0,11,0,11,0,11]
[null,"$200,000 or more",0,16,0,11,0,16,0,11,0,16,0,11,0,18,0,16,0,11,0,11,0,11]
[null,"Householder 25 to 44 years:",698,164,602,100,985,171,109,46,554,154,478,72,1902,221,872,124,222,44,300,53,449,89]
[null,"Less than $10,000",19,32,0,11,28,34,9,13,0,16,20,25,86,72,53,65,5,8,0,11,0,11]
[null,"$10,000 to $14,999",0,16,0,11,34,55,0,11,30,34,12,20,63,54,25,41,0,11,0,11,0,11]
[null,"$15,000 to $19,999",35,56,19,21,15,23,21,22,0,16,31,34,86,80,13,20,3,5,0,11,10,15]
[null,"$20,000 to $24,999",0,16,0,11,95,75,4,7,0,16,13,21,126,90,0,16,14,21,0,11,36,51]
[null,"$25,000 to $29,999",0,16,37,56,18,28,0,11,0,16,13,21,117,69,25,26,0,11,0,11,10,17]
[null,"$30,000 to $34,999",23,27,10,15,43,70,0,11,11,14,52,39,35,29,178,122,6,6,7,11,33,50]
[null,"$35,000 to $39,999",0,16,19,22,50,51,10,15,0,16,0,11,54,50,7,17,5,8,14,16,36,39]
[null,"$40,000 to $44,999",12,21,0,11,22,27,0,11,93,83,0,11,129,85,60,74,15,12,18,20,15,17]
[null,"$45,000 to $49,999",62,80,12,19,88,96,9,13,42,65,34,48,171,109,54,49,11,11,0,11,16,19]
[null,"$50,000 to $59,999",40,38,98,72,131,88,8,8,25,29,20,22,191,107,25,28,14,15,31,34,50,47]
[null,"$60,000 to $74,999",146,98,88,50,162,95,34,32,119,96,70,38,220,103,80,50,52,26,79,43,93,58]
[null,"$75,000 to $99,999",125,76,234,96,92,89,3,5,54,41,98,52,236,105,136,75,85,34,73,39,110,52]
[null,"$100,000 to $124,999",161,113,65,50,106,65,11,16,77,52,31,29,194,113,127,78,12,11,25,21,25,25]
[null,"$125,000 to $149,999",20,33,20,24,59,69,0,11,54,83,46,45,123,108,30,48,0,11,27,20,7,11]
[null,"$150,000 to $199,999",55,52,0,11,27,31,0,11,26,31,0,11,32,33,59,54,0,11,26,32,8,15]
[null,"$200,000 or more",0,16,0,11,15,26,0,11,23,26,38,35,39,34,0,16,0,11,0,11,0,11]
[null,"Householder 45 to 64 years:",811,197,725,90,1047,137,193,51,1531,252,674,83,3075,257,1171,173,432,58,634,79,603,96]
[null,"Less than $10,000",54,86,21,25,0,16,4,5,29,30,24,22,220,92,114,86,26,20,19,18,33,33]
[null,"$10,000 to $14,999",32,35,0,11,22,28,7,9,21,33,23,21,170,88,42,39,21,20,0,11,24,23]
[null,"$15,000 to $19,999",28,38,19,30,53,43,0,11,56,80,0,11,152,74,34,35,3,5,19,30,0,11]
[null,"$20,000 to $24,999",15,25,50,38,0,16,6,7,30,29,11,18,120,71,32,27,0,11,0,11,43,41]
[null,"$25,000 to $29,999",37,42,19,21,32,36,6,9,52,46,37,25,91,45,45,55,27,25,8,12,34,27]
[null,"$30,000 to $34,999",28,34,16,18,12,21,5,6,39,35,36,26,117,83,9,15,24,17,34,25,60,50]
[null,"$35,000 to $39,999",52,70,15,15,16,28,8,9,36,34,32,36,101,64,68,48,17,19,24,21,28,20]
[null,"$40,000 to $44,999",43,68,23,25,19,17,0,11,47,72,33,26,145,68,69,53,20,20,64,42,12,20]
[null,"$45,000 to $49,999",14,23,66,63,8,13,3,5,44,70,32,38,200,122,23,25,9,8,62,48,29,27]
[null,"$50,000 to $59,999",104,94,140,76,101,81,28,21,235,101,37,33,243,86,110,80,44,24,36,24,38,33]
[null,"$60,000 to $74,999",59,45,59,44,214,102,28,21,314,148,137,60,336,129,64,49,63,27,93,39,56,41]
[null,"$75,000 to $99,999",80,70,83,44,271,99,31,23,251,101,81,49,290,119,117,57,112,45,91,36,82,52]
[null,"$100,000 to $124,999",134,80,89,54,50,61,33,21,66,46,80,46,414,160,167,84,31,13,15,15,51,40]
[null,"$125,000 to $149,999",32,34,54,36,157,94,13,16,60,48,63,46,160,61,55,42,16,18,74,47,60,53]
[null,"$150,000 to $199,999",80,81,50,38,36,35,4,7,106,62,32,21,205,84,140,59,11,10,60,36,45,40]
[null,"$200,000 or more",19,23,21,19,56,58,17,15,145,59,16,18,111,55,82,47,8,8,35,29,8,13]
[null,"Householder 65 years and over:",635,159,367,69,585,124,131,40,850,176,275,85,1676,199,906,131,197,48,256,50,392,104]
[null,"Less than $10,000",52,50,10,17,12,19,0,11,97,72,0,11,69,43,57,49,10,10,7,10,6,9]
[null,"$10,000 to $14,999",19,31,19,20,31,50,13,16,18,24,20,32,208,79,110,62,24,14,17,14,83,56]
[null,"$15,000 to $19,999",27,31,20,22,84,70,7,6,72,48,77,56,121,62,53,40,11,11,21,19,39,41]
[null,"$20,000 to $24,999",110,87,23,24,159,79,7,7,80,75,12,12,138,75,72,47,14,10,6,10,52,49]
[null,"$25,000 to $29,999",70,80,68,45,51,33,10,15,61,45,0,11,115,56,42,30,3,5,17,19,15,16]
[null,"$30,000 to $34,999",32,36,0,11,41,51,4,7,80,48,47,47,185,82,63,41,23,20,9,15,55,46]
[null,"$35,000 to $39,999",28,35,32,31,8,13,25,18,23,26,21,33,136,54,26,23,0,11,7,10,15,21]
[null,"$40,000 to $44,999",40,37,0,11,4,7,8,8,0,16,6,10,124,55,42,29,25,20,9,13,8,12]
[null,"$45,000 to $49,999",14,23,0,11,8,12,0,11,20,22,7,11,111,52,20,22,4,5,26,22,14,15]
[null,"$50,000 to $59,999",90,69,47,32,29,24,13,10,90,66,24,29,110,50,67,42,27,14,58,32,46,29]
[null,"$60,000 to $74,999",73,49,35,27,69,45,6,6,44,45,10,12,71,40,70,47,20,17,29,22,16,17]
[null,"$75,000 to $99,999",25,30,59,44,50,40,3,4,101,53,17,16,89,52,73,54,13,11,25,20,0,11]
[null,"$100,000 to $124,999",14,22,44,35,25,27,20,19,11,17,17,26,58,40,35,33,8,11,0,11,0,11]
[null,"$125,000 to $149,999",0,16,0,11,0,16,6,7,39,30,13,14,58,50,37,30,15,12,16,18,10,16]
[null,"$150,000 to $199,999",12,21,10,17,14,21,7,9,42,36,4,8,51,35,82,62,0,11,9,13,27,24]
[null,"$200,000 or more",29,35,0,11,0,16,2,5,72,57,0,11,32,29,57,40,0,11,0,11,6,11]

{"sheet":"DisabilityByAge","index":24,"n_rows":88,"n_cols":15,"rows_kept":88,"cut":false,"hidden":true,"merged":[[28,13,28,14],[51,3,51,4],[51,5,51,6],[51,7,51,8],[51,9,51,10],[51,11,51,12],[51,13,51,14],[28,3,28,4],[28,5,28,6],[28,7,28,8],[28,9,28,10],[28,11,28,12]]}
[]
[]
[]
[]
[null,{"$f":"CntyDataLink!A20","v":"Laconia"}]
[null,"SOCIAL CHARACTERISTICS"]
[]
[null,"Disabilities By Age"]
[null,null,"Universe: Civilian Non-institutionalized Population"]
[]
[]
[]
[]
[]
[]
[]
[]
[]
[]
[]
[]
[]
[]
[]
[]
[]
[]
[]
[null,null,null,"Under 5",null,"5 to 17 years",null,"18 to 34 years",null,"35 to 64 years",null,"65 to 74 years",null,"75 years and older"]
[null,null,null,"Estimate","Margin of Error","Estimate","Margin of Error","Estimate","Margin of Error","Estimate","Margin of Error","Estimate","Margin of Error","Estimate","Margin of Error"]
[null,"Total ",null,{"$f":"CntyDataLink!D112","v":727},{"$f":"CntyDataLink!E112","v":191.637678967368},{"$f":"CntyDataLink!J112","v":2369},{"$f":"CntyDataLink!K112","v":346.46933486240886},{"$f":"CntyDataLink!P112","v":3300},{"$f":"CntyDataLink!Q112","v":393.15391388106514},{"$f":"CntyDataLink!V112","v":6613},{"$f":"CntyDataLink!W112","v":416.55851929830942},{"$f":"CntyDataLink!AB112","v":2398},{"$f":"CntyDataLink!AC112","v":302.64170234784234},{"$f":"CntyDataLink!AH112","v":987},{"$f":"CntyDataLink!AI112","v":193.32873557751316}]
[]
[null,"With a disability:",null,{"$f":"CntyDataLink!F112","v":27},{"$f":"CntyDataLink!G112","v":41.593268686170845},{"$f":"CntyDataLink!L112","v":202},{"$f":"CntyDataLink!M112","v":124.80785231707178},{"$f":"CntyDataLink!R112","v":623},{"$f":"CntyDataLink!S112","v":205.41178155110774},{"$f":"CntyDataLink!X112","v":1068},{"$f":"CntyDataLink!Y112","v":302.29952034364857},{"$f":"CntyDataLink!AD112","v":756},{"$f":"CntyDataLink!AE112","v":234.27334462119245},{"$f":"CntyDataLink!AJ112","v":593},{"$f":"CntyDataLink!AK112","v":171.81385275931623}]
[]
[null,"With one disability:",null,{"$f":"CntyDataLink!CX112","v":195},{"$f":"CntyDataLink!CY112","v":118},{"$f":"CntyDataLink!DB112","v":925},{"$f":"CntyDataLink!DC112","v":237},{"$f":"CntyDataLink!DF112","v":842},{"$f":"CntyDataLink!DG112","v":184},{"$f":"CntyDataLink!DJ112","v":1176},{"$f":"CntyDataLink!DK112","v":134.97036711811967},{"$f":"CntyDataLink!DN112","v":752},{"$f":"CntyDataLink!DO112","v":131.36970731489052},{"$f":"CntyDataLink!DR112","v":0},{"$f":"CntyDataLink!DS112","v":0}]
[]
[null,"Type of disability"]
[null,null,"Hearing disability",{"$f":"CntyDataLink!AN112","v":27},{"$f":"CntyDataLink!AO112","v":41.593268686170845},{"$f":"CntyDataLink!AP112","v":0},{"$f":"CntyDataLink!AQ112","v":26.870057685088806},{"$f":"CntyDataLink!AR112","v":79},{"$f":"CntyDataLink!AS112","v":116.55899793666725},{"$f":"CntyDataLink!AT112","v":434},{"$f":"CntyDataLink!AU112","v":194.01030900444439},{"$f":"CntyDataLink!AV112","v":374},{"$f":"CntyDataLink!AW112","v":166.85922210054798},{"$f":"CntyDataLink!AX112","v":319},{"$f":"CntyDataLink!AY112","v":148.03377992877165}]
[null,null,"Visual disability",{"$f":"CntyDataLink!AZ112","v":0},{"$f":"CntyDataLink!BA112","v":26.870057685088806},{"$f":"CntyDataLink!BB112","v":64},{"$f":"CntyDataLink!BC112","v":94.921019800674287},{"$f":"CntyDataLink!BD112","v":30},{"$f":"CntyDataLink!BE112","v":58.189346103904619},{"$f":"CntyDataLink!BF112","v":187},{"$f":"CntyDataLink!BG112","v":133.76471881628578},{"$f":"CntyDataLink!BH112","v":168},{"$f":"CntyDataLink!BI112","v":128.68954891520912},{"$f":"CntyDataLink!BJ112","v":163},{"$f":"CntyDataLink!BK112","v":111.00450441310929}]
[null,null,"Cognitive disability","NA","NA",{"$f":"CntyDataLink!BL112","v":70},{"$f":"CntyDataLink!BM112","v":67.675697262754525},{"$f":"CntyDataLink!BN112","v":308},{"$f":"CntyDataLink!BO112","v":127.47548783981962},{"$f":"CntyDataLink!BP112","v":620},{"$f":"CntyDataLink!BQ112","v":223.14345161801185},{"$f":"CntyDataLink!BR112","v":110},{"$f":"CntyDataLink!BS112","v":140.73023839957068},{"$f":"CntyDataLink!BT112","v":167},{"$f":"CntyDataLink!BU112","v":82.540898953185632}]
[null,null,"Ambulatory disability","NA","NA",{"$f":"CntyDataLink!BV112","v":0},{"$f":"CntyDataLink!BW112","v":24.041630560342615},{"$f":"CntyDataLink!BX112","v":139},{"$f":"CntyDataLink!BY112","v":93.941471140279674},{"$f":"CntyDataLink!BZ112","v":610},{"$f":"CntyDataLink!CA112","v":182.03571078225283},{"$f":"CntyDataLink!CB112","v":238},{"$f":"CntyDataLink!CC112","v":85.586213843118443},{"$f":"CntyDataLink!CD112","v":247},{"$f":"CntyDataLink!CE112","v":78.447434629820748}]
[null,null,"Self-care disability","NA","NA",{"$f":"CntyDataLink!CF112","v":34},{"$f":"CntyDataLink!CG112","v":59.135437767890075},{"$f":"CntyDataLink!CH112","v":12},{"$f":"CntyDataLink!CI112","v":26.172504656604801},{"$f":"CntyDataLink!CJ112","v":143},{"$f":"CntyDataLink!CK112","v":106.62082348209472},{"$f":"CntyDataLink!CL112","v":44},{"$f":"CntyDataLink!CM112","v":32.280024783137947},{"$f":"CntyDataLink!CN112","v":131},{"$f":"CntyDataLink!CO112","v":121.01652779682617}]
[null,null,"Independent living disability","NA","NA","NA","NA",{"$f":"CntyDataLink!CP112","v":263},{"$f":"CntyDataLink!CQ112","v":126.82665335015349},{"$f":"CntyDataLink!CR112","v":292},{"$f":"CntyDataLink!CS112","v":138.65785228395831},{"$f":"CntyDataLink!CT112","v":168},{"$f":"CntyDataLink!CU112","v":163.44112089679268},{"$f":"CntyDataLink!CV112","v":220},{"$f":"CntyDataLink!CW112","v":122.78436382536663}]
[]
[null,"With two or more types of disability:",null,{"$f":"CntyDataLink!CZ112","v":34},{"$f":"CntyDataLink!DA112","v":56},{"$f":"CntyDataLink!DD112","v":766},{"$f":"CntyDataLink!DE112","v":264},{"$f":"CntyDataLink!DH112","v":507},{"$f":"CntyDataLink!DI112","v":241},{"$f":"CntyDataLink!DL112","v":424},{"$f":"CntyDataLink!DM112","v":99.478640923567099},{"$f":"CntyDataLink!DP112","v":0},{"$f":"CntyDataLink!DQ112","v":0},{"$f":"CntyDataLink!DT112","v":0},{"$f":"CntyDataLink!DU112","v":0}]
[]
[null,"No disability",null,{"$f":"CntyDataLink!H112","v":700},{"$f":"CntyDataLink!I112","v":192.25503894566717},{"$f":"CntyDataLink!N112","v":2167},{"$f":"CntyDataLink!O112","v":348.24416721604973},{"$f":"CntyDataLink!T112","v":2677},{"$f":"CntyDataLink!U112","v":401.88555584892572},{"$f":"CntyDataLink!Z112","v":5545},{"$f":"CntyDataLink!AA112","v":437.07436438208089},{"$f":"CntyDataLink!AF112","v":1642},{"$f":"CntyDataLink!AG112","v":264.5467822522134},{"$f":"CntyDataLink!AL112","v":394},{"$f":"CntyDataLink!AM112","v":99.859901862559425}]
[null,"Source: 2018-2022 American Community Survey Tables B18101;  B18102; B18103; B18104; B18105; B18106;  and B18107"]
[null,"NA indicates that the American Community Survey does not calculate the number for that disability."]
[null,"Percent of Population with Disabilities"]
[]
[null,null,null,"Under 5",null,"5 to 17 years",null,"18 to 34 years",null,"35 to 64 years",null,"65 to 74 years",null,"75 years and older"]
[]
[null,"With a disability:",null,{"$f":"D33/D$31","v":3.7138927097661624E-2},null,{"$f":"F33/F$31","v":8.5268045588856062E-2},null,{"$f":"H33/H$31","v":0.18878787878787878},null,{"$f":"J33/J$31","v":0.16150007560864962},null,{"$f":"L33/L$31","v":0.31526271893244373},null,{"$f":"N33/N$31","v":0.60081053698074971}]
[]
[null,"Type of disability"]
[null,null,"Hearing disability",{"$f":"D38/D$31","v":3.7138927097661624E-2},null,{"$f":"F38/F$31","v":0},null,{"$f":"H38/H$31","v":2.3939393939393941E-2},null,{"$f":"J38/J$31","v":6.5628307878421291E-2},null,{"$f":"L38/L$31","v":0.15596330275229359},null,{"$f":"N38/N$31","v":0.3232016210739615}]
[null,null,"Visual disability",{"$f":"D39/D$31","v":0},null,{"$f":"F39/F$31","v":2.7015618404390037E-2},null,9.0909090909090905E-3,null,2.8277634961439587E-2,null,7.0058381984987483E-2,null,0.1651469098277609]
[null,null,"Cognitive disability","NA",null,{"$f":"F40/F$31","v":2.9548332629801603E-2},null,9.3333333333333338E-2,null,9.3754725540601838E-2,null,4.5871559633027525E-2,null,0.16919959473150961]
[null,null,"Ambulatory disability","NA",null,{"$f":"F41/F$31","v":0},null,4.2121212121212122E-2,null,9.2242552548011489E-2,null,9.9249374478732277E-2,null,0.25025329280648428]
[null,null,"Self-care disability","NA",null,{"$f":"F42/F$31","v":1.4352047277332207E-2},null,3.6363636363636364E-3,null,2.1624073794042038E-2,null,1.834862385321101E-2,null,0.13272543059777103]
[null,null,"Independent living disability","NA",null,"NA",null,7.9696969696969697E-2,null,4.4155451383638286E-2,null,7.0058381984987483E-2,null,0.22289766970618036]
[]
[]
[]
[null,"No disability",null,{"$f":"D47/D$31","v":0.96286107290233836},null,{"$f":"F47/F$31","v":0.91473195441114397},null,{"$f":"H47/H$31","v":0.81121212121212116},null,{"$f":"J47/J$31","v":0.83849992439135035},null,{"$f":"L47/L$31","v":0.68473728106755627},null,{"$f":"N47/N$31","v":0.39918946301925023}]
[]
[]
[null,"Source: 2018-2022 American Community Survey Tables B18101;  B18102; B18103; B18104; B18105; B18106;  and B18107"]
[null,"NA indicates that the American Community Survey does not calculate the number for that disability."]
[]
[null,"Data from the American Community Survey are estimates."]
[]
[]
[]
[]
[]
[]
[]
[]
[]
[]
[]
[]
[]
[]
[null,"Source: 2018-2022 American Community Survey Tables B18101;  B18102; B18103; B18104; B18105; B18106;  and B18107"]
[null,"NA indicates that the American Community Survey does not calculate the number for that disability.",null,null,null,null,null,null,null,"Data from the American Community Survey are estimates."]

{"sheet":"DisabilityByAgePrior5YearEst","index":25,"n_rows":72,"n_cols":15,"rows_kept":72,"cut":false,"hidden":true,"merged":[[51,13,51,14],[28,3,28,4],[28,5,28,6],[28,7,28,8],[28,9,28,10],[28,11,28,12],[28,13,28,14],[51,3,51,4],[51,5,51,6],[51,7,51,8],[51,9,51,10],[51,11,51,12]]}
[]
[]
[]
[]
[null,{"$f":"CntyDataLinkPrior5YearEstimates!A112","v":"Laconia"}]
[null,"SOCIAL CHARACTERISTICS"]
[]
[null,"Disabilities By Age"]
[null,null,"Universe: Civilian Non-institutionalized Population"]
[]
[]
[]
[]
[]
[]
[]
[]
[]
[]
[]
[]
[]
[]
[]
[]
[]
[]
[]
[null,null,null,"Under 5",null,"5 to 17 years",null,"18 to 34 years",null,"35 to 64 years",null,"65 to 74 years",null,"75 years and older"]
[null,null,null,"Estimate","Margin of Error","Estimate","Margin of Error","Estimate","Margin of Error","Estimate","Margin of Error","Estimate","Margin of Error","Estimate","Margin of Error"]
[null,"Total ",null,{"$f":"CntyDataLinkPrior5YearEstimates!D112","v":914},{"$f":"CntyDataLinkPrior5YearEstimates!E112","v":214.97906874856446},{"$f":"CntyDataLinkPrior5YearEstimates!J112","v":2170},{"$f":"CntyDataLinkPrior5YearEstimates!K112","v":313.26027517066382},{"$f":"CntyDataLinkPrior5YearEstimates!P112","v":3299},{"$f":"CntyDataLinkPrior5YearEstimates!Q112","v":323.44551318576055},{"$f":"CntyDataLinkPrior5YearEstimates!V112","v":6611},{"$f":"CntyDataLinkPrior5YearEstimates!W112","v":358.81053496239485},{"$f":"CntyDataLinkPrior5YearEstimates!AB112","v":1599},{"$f":"CntyDataLinkPrior5YearEstimates!AC112","v":178.40403582878949},{"$f":"CntyDataLinkPrior5YearEstimates!AH112","v":1101},{"$f":"CntyDataLinkPrior5YearEstimates!AI112","v":161.55494421403512}]
[]
[null,"With a disability:",null,{"$f":"CntyDataLinkPrior5YearEstimates!F112","v":0},{"$f":"CntyDataLinkPrior5YearEstimates!G112","v":24.041630560342615},{"$f":"CntyDataLinkPrior5YearEstimates!L112","v":269},{"$f":"CntyDataLinkPrior5YearEstimates!M112","v":152.16109883935513},{"$f":"CntyDataLinkPrior5YearEstimates!R112","v":305},{"$f":"CntyDataLinkPrior5YearEstimates!S112","v":138.05795884337854},{"$f":"CntyDataLinkPrior5YearEstimates!X112","v":1072},{"$f":"CntyDataLinkPrior5YearEstimates!Y112","v":205.7984450864486},{"$f":"CntyDataLinkPrior5YearEstimates!AD112","v":322},{"$f":"CntyDataLinkPrior5YearEstimates!AE112","v":87.920418561333065},{"$f":"CntyDataLinkPrior5YearEstimates!AJ112","v":447},{"$f":"CntyDataLinkPrior5YearEstimates!AK112","v":122.15563842901399}]
[]
[null,"With one disability:",null,{"$f":"CntyDataLinkPrior5YearEstimates!CX112","v":227},{"$f":"CntyDataLinkPrior5YearEstimates!CY112","v":135},{"$f":"CntyDataLinkPrior5YearEstimates!DB112","v":733},{"$f":"CntyDataLinkPrior5YearEstimates!DC112","v":169},{"$f":"CntyDataLinkPrior5YearEstimates!DF112","v":288},{"$f":"CntyDataLinkPrior5YearEstimates!DG112","v":74},{"$f":"CntyDataLinkPrior5YearEstimates!DJ112","v":0},{"$f":"CntyDataLinkPrior5YearEstimates!DK112","v":0},{"$f":"CntyDataLinkPrior5YearEstimates!DN112","v":0},{"$f":"CntyDataLinkPrior5YearEstimates!DO112","v":0},{"$f":"CntyDataLinkPrior5YearEstimates!DR112","v":0},{"$f":"CntyDataLinkPrior5YearEstimates!DS112","v":0}]
[]
[null,"Type of disability"]
[null,null,"Hearing disability",{"$f":"CntyDataLinkPrior5YearEstimates!AN112","v":0},{"$f":"CntyDataLinkPrior5YearEstimates!AO112","v":24.041630560342615},{"$f":"CntyDataLinkPrior5YearEstimates!AP112","v":8},{"$f":"CntyDataLinkPrior5YearEstimates!AQ112","v":22.022715545545239},{"$f":"CntyDataLinkPrior5YearEstimates!AR112","v":62},{"$f":"CntyDataLinkPrior5YearEstimates!AS112","v":53.075418038862395},{"$f":"CntyDataLinkPrior5YearEstimates!AT112","v":181},{"$f":"CntyDataLinkPrior5YearEstimates!AU112","v":74.94664769020693},{"$f":"CntyDataLinkPrior5YearEstimates!AV112","v":124},{"$f":"CntyDataLinkPrior5YearEstimates!AW112","v":61.911226768656427},{"$f":"CntyDataLinkPrior5YearEstimates!AX112","v":224},{"$f":"CntyDataLinkPrior5YearEstimates!AY112","v":79.755877526361658}]
[null,null,"Visual disability",{"$f":"CntyDataLinkPrior5YearEstimates!AZ112","v":0},{"$f":"CntyDataLinkPrior5YearEstimates!BA112","v":24.041630560342615},{"$f":"CntyDataLinkPrior5YearEstimates!BB112","v":20},{"$f":"CntyDataLinkPrior5YearEstimates!BC112","v":22.627416997969522},{"$f":"CntyDataLinkPrior5YearEstimates!BD112","v":6},{"$f":"CntyDataLinkPrior5YearEstimates!BE112","v":20.248456731316587},{"$f":"CntyDataLinkPrior5YearEstimates!BF112","v":168},{"$f":"CntyDataLinkPrior5YearEstimates!BG112","v":73.600271738628791},{"$f":"CntyDataLinkPrior5YearEstimates!BH112","v":31},{"$f":"CntyDataLinkPrior5YearEstimates!BI112","v":36.235341863986875},{"$f":"CntyDataLinkPrior5YearEstimates!BJ112","v":175},{"$f":"CntyDataLinkPrior5YearEstimates!BK112","v":79.649231006959511}]
[null,null,"Cognitive disability","NA","NA",{"$f":"CntyDataLinkPrior5YearEstimates!BL112","v":261},{"$f":"CntyDataLinkPrior5YearEstimates!BM112","v":154.38264151127873},{"$f":"CntyDataLinkPrior5YearEstimates!BN112","v":232},{"$f":"CntyDataLinkPrior5YearEstimates!BO112","v":106.40018796975878},{"$f":"CntyDataLinkPrior5YearEstimates!BP112","v":449},{"$f":"CntyDataLinkPrior5YearEstimates!BQ112","v":137.90576492663388},{"$f":"CntyDataLinkPrior5YearEstimates!BR112","v":49},{"$f":"CntyDataLinkPrior5YearEstimates!BS112","v":41.231056256176608},{"$f":"CntyDataLinkPrior5YearEstimates!BT112","v":104},{"$f":"CntyDataLinkPrior5YearEstimates!BU112","v":63.906181234681831}]
[null,null,"Ambulatory disability","NA","NA",{"$f":"CntyDataLinkPrior5YearEstimates!BV112","v":0},{"$f":"CntyDataLinkPrior5YearEstimates!BW112","v":24.041630560342615},{"$f":"CntyDataLinkPrior5YearEstimates!BX112","v":111},{"$f":"CntyDataLinkPrior5YearEstimates!BY112","v":103.24727599312246},{"$f":"CntyDataLinkPrior5YearEstimates!BZ112","v":530},{"$f":"CntyDataLinkPrior5YearEstimates!CA112","v":146.47866738880444},{"$f":"CntyDataLinkPrior5YearEstimates!CB112","v":198},{"$f":"CntyDataLinkPrior5YearEstimates!CC112","v":73.81734213584231},{"$f":"CntyDataLinkPrior5YearEstimates!CD112","v":305},{"$f":"CntyDataLinkPrior5YearEstimates!CE112","v":106.04244433244644}]
[null,null,"Self-care disability","NA","NA",{"$f":"CntyDataLinkPrior5YearEstimates!CF112","v":22},{"$f":"CntyDataLinkPrior5YearEstimates!CG112","v":31.064449134018133},{"$f":"CntyDataLinkPrior5YearEstimates!CH112","v":35},{"$f":"CntyDataLinkPrior5YearEstimates!CI112","v":44.384682042344295},{"$f":"CntyDataLinkPrior5YearEstimates!CJ112","v":152},{"$f":"CntyDataLinkPrior5YearEstimates!CK112","v":85.440037453175307},{"$f":"CntyDataLinkPrior5YearEstimates!CL112","v":47},{"$f":"CntyDataLinkPrior5YearEstimates!CM112","v":36.796738985948195},{"$f":"CntyDataLinkPrior5YearEstimates!CN112","v":74},{"$f":"CntyDataLinkPrior5YearEstimates!CO112","v":46.572524088780071}]
[null,null,"Independent living disability","NA","NA","NA","NA",{"$f":"CntyDataLinkPrior5YearEstimates!CP112","v":115},{"$f":"CntyDataLinkPrior5YearEstimates!CQ112","v":74.846509604656916},{"$f":"CntyDataLinkPrior5YearEstimates!CR112","v":382},{"$f":"CntyDataLinkPrior5YearEstimates!CS112","v":142.80056022299073},{"$f":"CntyDataLinkPrior5YearEstimates!CT112","v":68},{"$f":"CntyDataLinkPrior5YearEstimates!CU112","v":55.542776307995261},{"$f":"CntyDataLinkPrior5YearEstimates!CV112","v":253},{"$f":"CntyDataLinkPrior5YearEstimates!CW112","v":96.767763227223554}]
[]
[null,"With two or more types of disability:",null,{"$f":"CntyDataLinkPrior5YearEstimates!CZ112","v":42},{"$f":"CntyDataLinkPrior5YearEstimates!DA112","v":39},{"$f":"CntyDataLinkPrior5YearEstimates!DD112","v":644},{"$f":"CntyDataLinkPrior5YearEstimates!DE112","v":202},{"$f":"CntyDataLinkPrior5YearEstimates!DH112","v":481},{"$f":"CntyDataLinkPrior5YearEstimates!DI112","v":126},{"$f":"CntyDataLinkPrior5YearEstimates!DL112","v":0},{"$f":"CntyDataLinkPrior5YearEstimates!DM112","v":0},{"$f":"CntyDataLinkPrior5YearEstimates!DP112","v":0},{"$f":"CntyDataLinkPrior5YearEstimates!DQ112","v":0},{"$f":"CntyDataLinkPrior5YearEstimates!DT112","v":0},{"$f":"CntyDataLinkPrior5YearEstimates!DU112","v":0}]
[]
[null,"No disability",null,{"$f":"CntyDataLinkPrior5YearEstimates!H112","v":914},{"$f":"CntyDataLinkPrior5YearEstimates!I112","v":214.97906874856446},{"$f":"CntyDataLinkPrior5YearEstimates!N112","v":1901},{"$f":"CntyDataLinkPrior5YearEstimates!O112","v":259.78837541352772},{"$f":"CntyDataLinkPrior5YearEstimates!T112","v":2994},{"$f":"CntyDataLinkPrior5YearEstimates!U112","v":356.21622646926124},{"$f":"CntyDataLinkPrior5YearEstimates!Z112","v":5539},{"$f":"CntyDataLinkPrior5YearEstimates!AA112","v":345.46345682285994},{"$f":"CntyDataLinkPrior5YearEstimates!AF112","v":1277},{"$f":"CntyDataLinkPrior5YearEstimates!AG112","v":168.80758276807353},{"$f":"CntyDataLinkPrior5YearEstimates!AL112","v":654},{"$f":"CntyDataLinkPrior5YearEstimates!AM112","v":128.96898852049665}]
[null,"Source: 2013-2017 American Community Survey Tables B18101;  B18102; B18103; B18104; B18105; B18106;  and B18107"]
[null,"NA indicates that the American Community Survey does not calculate the number for that disability."]
[null,"Percent of Population with Disabilities"]
[]
[null,null,null,"Under 5",null,"5 to 17 years",null,"18 to 34 years",null,"35 to 64 years",null,"65 to 74 years",null,"75 years and older"]
[]
[null,"With a disability:",null,{"$f":"D33/D$31","v":0},null,{"$f":"F33/F$31","v":0.12396313364055299},null,{"$f":"H33/H$31","v":9.2452258260078815E-2},null,{"$f":"J33/J$31","v":0.16215398578127363},null,{"$f":"L33/L$31","v":0.20137585991244528},null,{"$f":"N33/N$31","v":0.40599455040871935}]
[]
[null,"Type of disability"]
[null,null,"Hearing disability",{"$f":"D38/D$31","v":0},null,{"$f":"F38/F$31","v":3.6866359447004608E-3},null,{"$f":"H38/H$31","v":1.8793573810245528E-2},null,{"$f":"J38/J$31","v":2.7378611405233701E-2},null,{"$f":"L38/L$31","v":7.7548467792370235E-2},null,{"$f":"N38/N$31","v":0.20345140781108084}]
[null,null,"Visual disability",{"$f":"D39/D$31","v":0},null,{"$f":"F39/F$31","v":9.2165898617511521E-3},null,1.8187329493785996E-3,null,2.5412191801542885E-2,null,1.9387116948092559E-2,null,0.15894641235240689]
[null,null,"Cognitive disability","NA",null,{"$f":"F40/F$31","v":0.12027649769585254},null,7.0324340709305849E-2,null,6.7917107850552105E-2,null,3.0644152595372107E-2,null,9.445958219800181E-2]
[null,null,"Ambulatory disability","NA",null,{"$f":"F41/F$31","v":0},null,3.364655956350409E-2,null,8.0169414612010284E-2,null,0.12382739212007504,null,0.27702089009990916]
[null,null,"Self-care disability","NA",null,{"$f":"F42/F$31","v":1.0138248847926268E-2},null,1.0609275538041831E-2,null,2.2991983058538799E-2,null,2.9393370856785492E-2,null,6.7211625794732055E-2]
[null,null,"Independent living disability","NA",null,"NA",null,3.4859048196423159E-2,null,5.7782483739222505E-2,null,4.2526579111944969E-2,null,0.22979109900090827]
[]
[]
[]
[null,"No disability",null,{"$f":"D47/D$31","v":1},null,{"$f":"F47/F$31","v":0.876036866359447},null,{"$f":"H47/H$31","v":0.90754774173992114},null,{"$f":"J47/J$31","v":0.8378460142187264},null,{"$f":"L47/L$31","v":0.79862414008755467},null,{"$f":"N47/N$31","v":0.59400544959128065}]
[]
[]
[null,"Source: 2013-2017 American Community Survey Tables B18101;  B18102; B18103; B18104; B18105; B18106;  and B18107"]
[null,"NA indicates that the American Community Survey does not calculate the number for that disability."]
[]
[null,"Data from the American Community Survey are estimates."]

{"sheet":"DisabilityByAgePrior10YearEs","index":26,"n_rows":72,"n_cols":15,"rows_kept":72,"cut":false,"hidden":true,"merged":[[51,13,51,14],[28,3,28,4],[28,5,28,6],[28,7,28,8],[28,9,28,10],[28,11,28,12],[28,13,28,14],[51,3,51,4],[51,5,51,6],[51,7,51,8],[51,9,51,10],[51,11,51,12]]}
[]
[]
[]
[]
[null,{"$f":"CntyDataLinkPrior10YearEstimate!A112","v":"Laconia"}]
[null,"SOCIAL CHARACTERISTICS"]
[]
[null,"Disabilities By Age"]
[null,null,"Universe: Civilian Non-institutionalized Population"]
[]
[]
[]
[]
[]
[]
[]
[]
[]
[]
[]
[]
[]
[]
[]
[]
[]
[]
[]
[null,null,null,"Under 5",null,"5 to 17 years",null,"18 to 34 years",null,"35 to 64 years",null,"65 to 74 years",null,"75 years and older"]
[null,null,null,"Estimate","Margin of Error","Estimate","Margin of Error","Estimate","Margin of Error","Estimate","Margin of Error","Estimate","Margin of Error","Estimate","Margin of Error"]
[null,"Total ",null,{"$f":"CntyDataLinkPrior10YearEstimate!D112","v":833},{"$f":"CntyDataLinkPrior10YearEstimate!E112","v":177.49647883831386},{"$f":"CntyDataLinkPrior10YearEstimate!J112","v":2179},{"$f":"CntyDataLinkPrior10YearEstimate!K112","v":294.61330587738223},{"$f":"CntyDataLinkPrior10YearEstimate!P112","v":3079},{"$f":"CntyDataLinkPrior10YearEstimate!Q112","v":255.34486483969087},{"$f":"CntyDataLinkPrior10YearEstimate!V112","v":7084},{"$f":"CntyDataLinkPrior10YearEstimate!W112","v":296.29883563726673},{"$f":"CntyDataLinkPrior10YearEstimate!AB112","v":1193},{"$f":"CntyDataLinkPrior10YearEstimate!AC112","v":153.44380078712857},{"$f":"CntyDataLinkPrior10YearEstimate!AH112","v":1183},{"$f":"CntyDataLinkPrior10YearEstimate!AI112","v":156.84705926475002}]
[]
[null,"With a disability:",null,{"$f":"CntyDataLinkPrior10YearEstimate!F112","v":0},{"$f":"CntyDataLinkPrior10YearEstimate!G112","v":25.45584412271571},{"$f":"CntyDataLinkPrior10YearEstimate!L112","v":86},{"$f":"CntyDataLinkPrior10YearEstimate!M112","v":69.289248805280025},{"$f":"CntyDataLinkPrior10YearEstimate!R112","v":360},{"$f":"CntyDataLinkPrior10YearEstimate!S112","v":157.47063218263906},{"$f":"CntyDataLinkPrior10YearEstimate!X112","v":1020},{"$f":"CntyDataLinkPrior10YearEstimate!Y112","v":193.40372281835735},{"$f":"CntyDataLinkPrior10YearEstimate!AD112","v":283},{"$f":"CntyDataLinkPrior10YearEstimate!AE112","v":86.556340033529608},{"$f":"CntyDataLinkPrior10YearEstimate!AJ112","v":428},{"$f":"CntyDataLinkPrior10YearEstimate!AK112","v":103.24727599312246}]
[]
[null,"With one disability:",null,{"$f":"CntyDataLinkPrior10YearEstimate!CX112","v":86},{"$f":"CntyDataLinkPrior10YearEstimate!CY112","v":69},{"$f":"CntyDataLinkPrior10YearEstimate!DB112","v":545},{"$f":"CntyDataLinkPrior10YearEstimate!DC112","v":141},{"$f":"CntyDataLinkPrior10YearEstimate!DF112","v":316},{"$f":"CntyDataLinkPrior10YearEstimate!DG112","v":93},{"$f":"CntyDataLinkPrior10YearEstimate!DJ112","v":0},{"$f":"CntyDataLinkPrior10YearEstimate!DK112","v":0},{"$f":"CntyDataLinkPrior10YearEstimate!DN112","v":0},{"$f":"CntyDataLinkPrior10YearEstimate!DO112","v":0},{"$f":"CntyDataLinkPrior10YearEstimate!DR112","v":0},{"$f":"CntyDataLinkPrior10YearEstimate!DS112","v":0}]
[]
[null,"Type of disability"]
[null,null,"Hearing disability",{"$f":"CntyDataLinkPrior10YearEstimate!AN112","v":0},{"$f":"CntyDataLinkPrior10YearEstimate!AO112","v":25.45584412271571},{"$f":"CntyDataLinkPrior10YearEstimate!AP112","v":0},{"$f":"CntyDataLinkPrior10YearEstimate!AQ112","v":25.45584412271571},{"$f":"CntyDataLinkPrior10YearEstimate!AR112","v":12},{"$f":"CntyDataLinkPrior10YearEstimate!AS112","v":26.90724809414742},{"$f":"CntyDataLinkPrior10YearEstimate!AT112","v":162},{"$f":"CntyDataLinkPrior10YearEstimate!AU112","v":76.05918747922567},{"$f":"CntyDataLinkPrior10YearEstimate!AV112","v":118},{"$f":"CntyDataLinkPrior10YearEstimate!AW112","v":58.523499553598128},{"$f":"CntyDataLinkPrior10YearEstimate!AX112","v":228},{"$f":"CntyDataLinkPrior10YearEstimate!AY112","v":71.421285342676384}]
[null,null,"Visual disability",{"$f":"CntyDataLinkPrior10YearEstimate!AZ112","v":0},{"$f":"CntyDataLinkPrior10YearEstimate!BA112","v":25.45584412271571},{"$f":"CntyDataLinkPrior10YearEstimate!BB112","v":0},{"$f":"CntyDataLinkPrior10YearEstimate!BC112","v":25.45584412271571},{"$f":"CntyDataLinkPrior10YearEstimate!BD112","v":0},{"$f":"CntyDataLinkPrior10YearEstimate!BE112","v":25.45584412271571},{"$f":"CntyDataLinkPrior10YearEstimate!BF112","v":131},{"$f":"CntyDataLinkPrior10YearEstimate!BG112","v":77.369244535538797},{"$f":"CntyDataLinkPrior10YearEstimate!BH112","v":9},{"$f":"CntyDataLinkPrior10YearEstimate!BI112","v":22.803508501982758},{"$f":"CntyDataLinkPrior10YearEstimate!BJ112","v":118},{"$f":"CntyDataLinkPrior10YearEstimate!BK112","v":54.918120870983927}]
[null,null,"Cognitive disability","NA","NA",{"$f":"CntyDataLinkPrior10YearEstimate!BL112","v":86},{"$f":"CntyDataLinkPrior10YearEstimate!BM112","v":69.289248805280025},{"$f":"CntyDataLinkPrior10YearEstimate!BN112","v":113},{"$f":"CntyDataLinkPrior10YearEstimate!BO112","v":72.801098892805186},{"$f":"CntyDataLinkPrior10YearEstimate!BP112","v":520},{"$f":"CntyDataLinkPrior10YearEstimate!BQ112","v":147.8681845428556},{"$f":"CntyDataLinkPrior10YearEstimate!BR112","v":90},{"$f":"CntyDataLinkPrior10YearEstimate!BS112","v":54.488530903301111},{"$f":"CntyDataLinkPrior10YearEstimate!BT112","v":68},{"$f":"CntyDataLinkPrior10YearEstimate!BU112","v":42.720018726587654}]
[null,null,"Ambulatory disability","NA","NA",{"$f":"CntyDataLinkPrior10YearEstimate!BV112","v":0},{"$f":"CntyDataLinkPrior10YearEstimate!BW112","v":25.45584412271571},{"$f":"CntyDataLinkPrior10YearEstimate!BX112","v":248},{"$f":"CntyDataLinkPrior10YearEstimate!BY112","v":144.10065926289164},{"$f":"CntyDataLinkPrior10YearEstimate!BZ112","v":593},{"$f":"CntyDataLinkPrior10YearEstimate!CA112","v":149.93665329064805},{"$f":"CntyDataLinkPrior10YearEstimate!CB112","v":167},{"$f":"CntyDataLinkPrior10YearEstimate!CC112","v":66.030296076876709},{"$f":"CntyDataLinkPrior10YearEstimate!CD112","v":234},{"$f":"CntyDataLinkPrior10YearEstimate!CE112","v":81.939001702485982}]
[null,null,"Self-care disability","NA","NA",{"$f":"CntyDataLinkPrior10YearEstimate!CF112","v":0},{"$f":"CntyDataLinkPrior10YearEstimate!CG112","v":25.45584412271571},{"$f":"CntyDataLinkPrior10YearEstimate!CH112","v":204},{"$f":"CntyDataLinkPrior10YearEstimate!CI112","v":126.11502686040232},{"$f":"CntyDataLinkPrior10YearEstimate!CJ112","v":239},{"$f":"CntyDataLinkPrior10YearEstimate!CK112","v":121.21056059601408},{"$f":"CntyDataLinkPrior10YearEstimate!CL112","v":38},{"$f":"CntyDataLinkPrior10YearEstimate!CM112","v":33.286633954186478},{"$f":"CntyDataLinkPrior10YearEstimate!CN112","v":144},{"$f":"CntyDataLinkPrior10YearEstimate!CO112","v":65.863495200300449}]
[null,null,"Independent living disability","NA","NA","NA","NA",{"$f":"CntyDataLinkPrior10YearEstimate!CP112","v":224},{"$f":"CntyDataLinkPrior10YearEstimate!CQ112","v":129.4488315899375},{"$f":"CntyDataLinkPrior10YearEstimate!CR112","v":430},{"$f":"CntyDataLinkPrior10YearEstimate!CS112","v":134.46560898608982},{"$f":"CntyDataLinkPrior10YearEstimate!CT112","v":61},{"$f":"CntyDataLinkPrior10YearEstimate!CU112","v":38.418745424597091},{"$f":"CntyDataLinkPrior10YearEstimate!CV112","v":197},{"$f":"CntyDataLinkPrior10YearEstimate!CW112","v":69.318107302493488}]
[]
[null,"With two or more types of disability:",null,{"$f":"CntyDataLinkPrior10YearEstimate!CZ112","v":0},{"$f":"CntyDataLinkPrior10YearEstimate!DA112","v":18},{"$f":"CntyDataLinkPrior10YearEstimate!DD112","v":835},{"$f":"CntyDataLinkPrior10YearEstimate!DE112","v":224},{"$f":"CntyDataLinkPrior10YearEstimate!DH112","v":395},{"$f":"CntyDataLinkPrior10YearEstimate!DI112","v":111},{"$f":"CntyDataLinkPrior10YearEstimate!DL112","v":0},{"$f":"CntyDataLinkPrior10YearEstimate!DM112","v":0},{"$f":"CntyDataLinkPrior10YearEstimate!DP112","v":0},{"$f":"CntyDataLinkPrior10YearEstimate!DQ112","v":0},{"$f":"CntyDataLinkPrior10YearEstimate!DT112","v":0},{"$f":"CntyDataLinkPrior10YearEstimate!DU112","v":0}]
[]
[null,"No disability",null,{"$f":"CntyDataLinkPrior10YearEstimate!H112","v":833},{"$f":"CntyDataLinkPrior10YearEstimate!I112","v":177.49647883831386},{"$f":"CntyDataLinkPrior10YearEstimate!N112","v":2093},{"$f":"CntyDataLinkPrior10YearEstimate!O112","v":282.5261049885479},{"$f":"CntyDataLinkPrior10YearEstimate!T112","v":2719},{"$f":"CntyDataLinkPrior10YearEstimate!U112","v":270.73972741361769},{"$f":"CntyDataLinkPrior10YearEstimate!Z112","v":6064},{"$f":"CntyDataLinkPrior10YearEstimate!AA112","v":309.02588888311607},{"$f":"CntyDataLinkPrior10YearEstimate!AF112","v":910},{"$f":"CntyDataLinkPrior10YearEstimate!AG112","v":143.55835050598765},{"$f":"CntyDataLinkPrior10YearEstimate!AL112","v":755},{"$f":"CntyDataLinkPrior10YearEstimate!AM112","v":144.80676779764127}]
[null,"Source: 2008-2012 American Community Survey Tables B18101;  B18102; B18103; B18104; B18105; B18106;  and B18107"]
[null,"NA indicates that the American Community Survey does not calculate the number for that disability."]
[null,"Percent of Population with Disabilities"]
[]
[null,null,null,"Under 5",null,"5 to 17 years",null,"18 to 34 years",null,"35 to 64 years",null,"65 to 74 years",null,"75 years and older"]
[]
[null,"With a disability:",null,{"$f":"D33/D$31","v":0},null,{"$f":"F33/F$31","v":3.9467645709040843E-2},null,{"$f":"H33/H$31","v":0.11692107827216629},null,{"$f":"J33/J$31","v":0.14398644833427443},null,{"$f":"L33/L$31","v":0.23721709974853311},null,{"$f":"N33/N$31","v":0.36179205409974641}]
[]
[null,"Type of disability"]
[null,null,"Hearing disability",{"$f":"D38/D$31","v":0},null,{"$f":"F38/F$31","v":0},null,{"$f":"H38/H$31","v":3.8973692757388761E-3},null,{"$f":"J38/J$31","v":2.2868435911914172E-2},null,{"$f":"L38/L$31","v":9.8910310142497904E-2},null,{"$f":"N38/N$31","v":0.19273034657650043}]
[null,null,"Visual disability",{"$f":"D39/D$31","v":0},null,{"$f":"F39/F$31","v":0},null,0,null,1.849237718802936E-2,null,7.5440067057837385E-3,null,9.9746407438715129E-2]
[null,null,"Cognitive disability","NA",null,{"$f":"F40/F$31","v":3.9467645709040843E-2},null,3.6700227346541082E-2,null,7.3404856013551664E-2,null,7.5440067057837387E-2,null,5.7480980557903634E-2]
[null,null,"Ambulatory disability","NA",null,{"$f":"F41/F$31","v":0},null,8.0545631698603445E-2,null,8.3709768492377185E-2,null,0.13998323554065381,null,0.19780219780219779]
[null,null,"Self-care disability","NA",null,{"$f":"F42/F$31","v":0},null,6.6255277687560898E-2,null,3.373800112930548E-2,null,3.1852472757753561E-2,null,0.12172442941673711]
[null,null,"Independent living disability","NA",null,"NA",null,7.2750893147125684E-2,null,6.0700169395821568E-2,null,5.1131601005867562E-2,null,0.1665257819103973]
[]
[]
[]
[null,"No disability",null,{"$f":"D47/D$31","v":1},null,{"$f":"F47/F$31","v":0.96053235429095918},null,{"$f":"H47/H$31","v":0.88307892172783375},null,{"$f":"J47/J$31","v":0.85601355166572557},null,{"$f":"L47/L$31","v":0.76278290025146689},null,{"$f":"N47/N$31","v":0.63820794590025354}]
[]
[]
[null,"Source: 2008-2012 American Community Survey Tables B18101;  B18102; B18103; B18104; B18105; B18106;  and B18107"]
[null,"NA indicates that the American Community Survey does not calculate the number for that disability."]
[]
[null,"Data from the American Community Survey are estimates."]

{"sheet":"ACS_Table_B18101","index":27,"n_rows":156,"n_cols":24,"rows_kept":156,"cut":false,"hidden":true,"merged":[]}
["B18101. SEX BY AGE BY DISABILITY STATUS\n"]
["Universe:  Civilian non-institutionalized population"]
["Data Set: 2018-2022 American Community Survey 5-Year Estimates"]
[]
[null,null,"Alton",null,"Barnstead",null,"Belmont",null,"Center Harbor",null,"Gilford",null,"Gilmanton",null,"Laconia",null,"Meredith",null,"New Hampton",null,"Sanbornton",null,"Tilton"]
[null,null,"Estimate","Margin Of Error","Estimate","Margin Of Error","Estimate","Margin Of Error","Estimate","Margin Of Error","Estimate","Margin Of Error","Estimate","Margin Of Error","Estimate","Margin Of Error","Estimate","Margin Of Error","Estimate","Margin Of Error","Estimate","Margin Of Error","Estimate","Margin Of Error"]
[null,"Total",5897,17,4926,30,7353,20,820,181,7725,20,3960,27,16394,103,6640,36,2594,182,3047,21,3744,22]
[null,"Male:",2894,196,2219,150,3459,236,408,104,3749,264,2079,181,8098,300,3371,249,1335,129,1637,138,1861,146]
[null,"Under 5 years:",117,69,117,64,31,47,5,8,216,122,160,89,311,118,21,24,43,30,75,60,178,61]
[null,"With a disability",0,17,0,12,0,17,0,12,0,17,0,12,27,37,0,17,0,12,0,12,0,12]
[null,"No disability",117,69,117,64,31,47,5,8,216,122,160,89,284,119,21,24,43,30,75,60,178,61]
[null,"5 to 17 years:",478,154,307,101,706,202,49,31,490,179,271,119,1233,260,353,99,83,42,279,63,230,121]
[null,"With a disability",0,17,53,60,24,40,0,12,18,31,26,40,102,76,0,17,7,11,69,82,28,34]
[null,"No disability",478,154,254,96,682,196,49,31,472,180,245,105,1131,257,353,99,76,41,210,88,202,116]
[null,"18 to 34 years:",436,198,333,128,406,155,26,28,703,206,355,139,1777,277,561,197,340,116,369,127,352,134]
[null,"With a disability",0,17,16,24,0,17,0,12,132,100,0,12,333,163,64,61,23,35,116,114,34,42]
[null,"No disability",436,198,317,125,406,155,26,28,571,193,355,139,1444,294,497,195,317,115,253,103,318,118]
[null,"35 to 64 years:",1204,179,1054,120,1704,207,118,40,1656,228,927,134,3192,300,1365,210,513,63,611,140,820,161]
[null,"With a disability",238,113,110,54,167,133,19,21,214,131,100,81,585,224,167,92,151,26,207,125,133,97]
[null,"No disability",966,165,944,128,1537,207,99,34,1442,232,827,118,2607,303,1198,215,362,65,404,120,687,169]
[null,"65 to 74 years:",317,128,191,89,493,155,130,44,490,147,212,72,1245,214,602,141,235,76,235,92,192,78]
[null,"With a disability",86,51,71,43,105,90,32,26,124,90,64,57,423,200,199,99,113,73,37,34,74,59]
[null,"No disability",231,111,120,75,388,131,98,37,366,145,148,68,822,172,403,122,122,49,198,82,118,48]
[null,"75 years and over:",342,112,217,88,119,60,80,48,194,78,154,114,340,80,469,132,121,46,68,39,89,47]
[null,"With a disability",178,96,100,57,70,49,61,45,80,46,52,43,197,72,225,121,87,39,42,34,44,29]
[null,"No disability",164,72,117,67,49,41,19,15,114,53,102,110,143,54,244,104,34,24,26,18,45,31]
[null,"Female:",3003,196,2707,145,3894,234,412,101,3976,266,1881,179,8296,293,3269,250,1259,120,1410,132,1883,148]
[null,"Under 5 years:",90,99,61,42,193,99,5,9,283,114,107,59,416,151,87,40,24,21,23,28,60,39]
[null,"With a disability",0,17,0,12,0,17,0,12,0,17,0,12,0,19,0,17,0,12,0,12,0,12]
[null,"No disability",90,99,61,42,193,99,5,9,283,114,107,59,416,151,87,40,24,21,23,28,60,39]
[null,"5 to 17 years:",264,110,537,145,668,211,29,22,535,207,283,125,1136,229,376,141,182,89,162,99,194,123]
[null,"With a disability",0,17,0,12,38,57,0,12,17,36,0,12,100,99,33,36,43,65,0,12,0,12]
[null,"No disability",264,110,537,145,630,212,29,22,518,206,283,125,1036,235,343,136,139,62,162,99,194,123]
[null,"18 to 34 years:",561,184,473,126,573,188,29,22,521,189,306,100,1523,279,654,175,203,92,256,121,342,120]
[null,"With a disability",22,38,0,12,63,70,17,18,96,107,23,32,290,125,102,87,13,18,0,12,0,12]
[null,"No disability",539,183,473,126,510,182,12,14,425,159,283,101,1233,274,552,149,190,90,256,121,342,120]
[null,"35 to 64 years:",1418,228,1077,129,1481,192,171,65,1765,225,874,120,3421,289,1173,171,543,67,608,113,893,172]
[null,"With a disability",22,37,128,83,189,96,7,9,243,135,30,31,483,203,176,81,126,53,188,97,87,84]
[null,"No disability",1396,232,949,122,1292,188,164,65,1522,219,844,116,2938,315,997,153,417,68,420,149,806,152]
[null,"65 to 74 years:",384,128,266,126,544,186,146,47,594,202,232,90,1153,214,651,194,202,84,232,110,197,63]
[null,"With a disability",30,30,37,31,186,125,8,8,34,33,76,69,333,122,107,98,66,57,63,57,34,22]
[null,"No disability",354,132,229,121,358,152,138,49,560,195,156,64,820,201,544,181,136,61,169,85,163,58]
[null,"75 years and over:",286,101,293,138,435,196,32,22,278,103,79,47,647,176,328,90,105,45,129,62,197,110]
[null,"With a disability",91,77,103,97,248,108,25,22,53,29,39,41,396,156,225,75,38,30,71,48,122,83]
[null,"No disability",195,84,190,94,187,175,7,6,225,99,40,28,251,84,103,50,67,32,58,39,75,75]
[]
[]
[{"$f":"A1& \"-Calculated\"","v":"B18101. SEX BY AGE BY DISABILITY STATUS\n-Calculated"}]
[{"$f":"A2","v":"Universe:  Civilian non-institutionalized population"}]
[{"$f":"A3","v":"Data Set: 2018-2022 American Community Survey 5-Year Estimates"}]
[]
[]
[null,null,"Alton",null,"Barnstead",null,"Belmont",null,"Center Harbor",null,"Gilford",null,"Gilmanton",null,"Laconia",null,"Meredith",null,"New Hampton",null,"Sanbornton",null,"Tilton"]
[null,null,"Estimate","Margin Of Error","Estimate","Margin Of Error","Estimate","Margin Of Error","Estimate","Margin Of Error","Estimate","Margin Of Error","Estimate","Margin Of Error","Estimate","Margin Of Error","Estimate","Margin Of Error","Estimate","Margin Of Error","Estimate","Margin Of Error","Estimate","Margin Of Error"]
[null,"Total",{"$f":"C7","v":5897},17,4926,30,7353,20,820,181,7725,20,3960,27,16394,103,6640,36,2594,182,3047,21,3744,22]
[null,"Under 5 years:",{"$f":"C28+C9","v":207},{"$f":"SQRT((D28^2)+(D9^2))","v":120.6731121667126},{"$f":"E28+E9","v":178},{"$f":"SQRT((F28^2)+(F9^2))","v":76.550636836018555},{"$f":"G28+G9","v":224},{"$f":"SQRT((H28^2)+(H9^2))","v":109.59014554237986},{"$f":"I28+I9","v":10},{"$f":"SQRT((J28^2)+(J9^2))","v":12.041594578792296},{"$f":"K28+K9","v":499},{"$f":"SQRT((L28^2)+(L9^2))","v":166.97305171793442},{"$f":"M28+M9","v":267},{"$f":"SQRT((N28^2)+(N9^2))","v":106.78014796768171},{"$f":"O28+O9","v":727},{"$f":"SQRT((P28^2)+(P9^2))","v":191.637678967368},{"$f":"Q28+Q9","v":108},{"$f":"SQRT((R28^2)+(R9^2))","v":46.647615158762406},{"$f":"S28+S9","v":67},{"$f":"SQRT((T28^2)+(T9^2))","v":36.61966684720111},{"$f":"U28+U9","v":98},{"$f":"SQRT((V28^2)+(V9^2))","v":66.211781428987393},{"$f":"W28+W9","v":238},{"$f":"SQRT((X28^2)+(X9^2))","v":72.401657439591816}]
[null,"With a disability",{"$f":"C29+C10","v":0},{"$f":"SQRT((D29^2)+(D10^2))","v":24.041630560342615},{"$f":"E29+E10","v":0},{"$f":"SQRT((F29^2)+(F10^2))","v":16.970562748477139},{"$f":"G29+G10","v":0},{"$f":"SQRT((H29^2)+(H10^2))","v":24.041630560342615},{"$f":"I29+I10","v":0},{"$f":"SQRT((J29^2)+(J10^2))","v":16.970562748477139},{"$f":"K29+K10","v":0},{"$f":"SQRT((L29^2)+(L10^2))","v":24.041630560342615},{"$f":"M29+M10","v":0},{"$f":"SQRT((N29^2)+(N10^2))","v":16.970562748477139},{"$f":"O29+O10","v":27},{"$f":"SQRT((P29^2)+(P10^2))","v":41.593268686170845},{"$f":"Q29+Q10","v":0},{"$f":"SQRT((R29^2)+(R10^2))","v":24.041630560342615},{"$f":"S29+S10","v":0},{"$f":"SQRT((T29^2)+(T10^2))","v":16.970562748477139},{"$f":"U29+U10","v":0},{"$f":"SQRT((V29^2)+(V10^2))","v":16.970562748477139},{"$f":"W29+W10","v":0},{"$f":"SQRT((X29^2)+(X10^2))","v":16.970562748477139}]
[null,"No disability",207,120.6731121667126,178,76.550636836018555,224,109.59014554237986,10,12.041594578792296,499,166.97305171793442,267,106.78014796768171,700,192.25503894566717,108,46.647615158762406,67,36.61966684720111,98,66.211781428987393,238,72.401657439591816]
[null,"5 to 17 years:",742,189.25115587493778,844,176.70880000724355,1374,292.10443337957059,78,38.013155617496423,1025,273.66037345585858,554,172.58621034138272,2369,346.46933486240886,729,172.28464818433474,265,98.412397592986224,441,117.34564329364768,424,172.53985046939155]
[null,"With a disability",0,24.041630560342615,53,61.188234163113421,62,69.634761434214738,0,16.970562748477139,35,47.507894080878813,26,41.761226035642203,202,124.80785231707178,33,39.812058474788763,50,65.924198895398035,69,82.87339742040264,28,36.055512754639892]
[null,"No disability",742,189.25115587493778,791,173.89939620366712,1312,288.72131892189742,78,38.013155617496423,990,273.56169322476421,528,163.24827717314508,2167,348.24416721604973,696,168.21712160181556,215,74.330343736592525,372,132.45754036671525,396,169.07099100673656]
[null,"18 to 34 years:",997,270.29613389761977,806,179.61069010501575,979,243.65754656894993,55,35.608987629529715,1224,279.56573466717987,661,171.2337583538947,3300,393.15391388106514,1215,263.50332066218823,543,148.05404418657398,625,175.41379649275024,694,179.87773625437919]
[null,"With a disability",22,41.629316592997299,16,26.832815729997478,63,72.034713853808015,17,21.633307652783937,228,146.45477117526761,23,34.176014981270121,623,205.41178155110774,166,106.25441167311595,36,39.357337308308857,116,114.62983904725679,34,43.68065933568311]
[null,"No disability",975,269.61639416029584,790,177.48521065147935,916,239.05857022913861,38,31.304951684997057,996,250.05999280172747,638,171.81967291320282,2677,401.88555584892572,1049,245.40986125255847,507,146.03081866510234,509,158.90248582070703,660,168.2973558912914]
[null,"35 to 64 years:",2622,289.8706608127149,2131,176.18456232031227,3185,282.33490751233722,289,76.321687612368734,3421,320.32639604003913,1801,179.87773625437919,6613,416.55851929830942,2538,270.81543530604011,1056,91.967385523347346,1219,179.91386828146406,1713,235.59499145779819]
[null,"With a disability",260,118.90332207301863,238,99.02019995940222,356,164.02743672934722,26,22.847319317591726,457,188.11166896287961,130,86.729464428186105,1068,302.29952034364857,343,122.57650672131263,277,59.033888572581766,395,158.22136391777187,220,128.31601614763451]
[null,"No disability",2362,284.69106062537332,1893,176.82759965570986,2829,279.63011282764239,263,73.355299740373226,2964,319.03761533712606,1671,165.46903033498444,5545,437.07436438208089,2195,263.88254963146011,779,94.069123520951337,824,191.31387822110554,1493,227.29936207565564]
[null,"65 to 74 years:",701,181.01933598375618,457,154.26276284314372,1037,242.11773995310628,276,64.381674411279491,1084,249.8259394058191,444,115.25623627379127,2398,302.64170234784234,1253,239.82702099638396,437,113.27841806805037,467,143.40153416194681,389,100.26464980241042]
[null,"With a disability",116,59.169248769948062,108,53.009433122794285,291,154.02921800749363,40,27.202941017470888,158,95.859271852022744,140,89.498603341057787,756,234.27334462119245,306,139.30183056945089,179,92.617492948146676,100,66.370174024180471,108,62.968245965724662]
[null,"No disability",585,172.46738822165773,349,142.35870187663275,746,200.66140635408692,236,61.400325732035007,926,243.00205760445732,304,93.380940239430018,1642,264.5467822522134,947,218.27734651126764,258,78.243210568074218,367,118.10588469674151,281,75.286120898874842]
[null,"75 years and over:",628,150.81445554057476,510,163.67040050051813,554,204.97804760510331,112,52.801515129776341,472,129.20139318134306,233,123.30855606972291,987,193.32873557751316,797,159.76232346833217,226,64.350602172784676,197,73.246160308919954,286,119.6202324023825]
[null,"With a disability",269,123.06502346320826,203,112.50777750893491,318,118.59595271340417,86,50.089919145472777,133,54.378304497290095,91,59.413803110051795,593,171.81385275931623,450,142.35870187663275,125,49.203658400570177,113,58.821764679410968,166,87.920418561333065]
[null,"No disability",359,110.63453348751464,307,115.43396380615195,236,179.73869922751749,26,16.15549442140351,339,112.29425630903836,142,113.50770898930169,394,99.859901862559425,347,115.39497389401325,101,40,84,42.953463189829058,120,81.154174261093928]
[]
[]
[null,null,171,132,173,99,321,142,22,20,91,66,73,49,380,125,53,49,55,28,69,44,69,57]
[null,null,0,16,0,11,16,26,0,11,0,16,0,11,0,18,0,16,0,11,0,11,0,11]
[null,null,171,132,173,99,305,135,22,20,91,66,73,49,380,125,53,49,55,28,69,44,69,57]
[null,null,367,143,322,132,734,178,84,43,489,136,283,88,1211,239,546,153,180,52,283,89,203,90]
[null,null,0,16,9,13,45,52,0,11,0,16,0,11,87,85,6,11,3,4,5,9,0,11]
[null,null,367,143,313,129,689,165,84,43,489,136,283,88,1124,237,540,153,177,51,278,88,203,90]
[null,null,487,154,503,120,605,147,99,47,472,140,301,90,1675,213,326,122,302,71,161,39,324,100]
[null,null,34,38,47,38,20,31,12,19,31,33,16,21,247,163,30,27,17,17,11,12,13,18]
[null,null,453,153,456,115,585,147,87,43,441,134,285,86,1428,208,296,128,285,70,150,40,311,100]
[null,null,1034,196,1037,146,1770,150,243,51,1617,161,897,89,3556,232,1467,126,521,69,766,72,791,91]
[null,null,9,15,121,81,283,117,13,15,86,56,67,34,545,127,164,78,26,19,33,24,54,30]
[null,null,1025,197,916,138,1487,133,230,50,1531,167,830,89,3011,247,1303,127,495,70,733,76,737,86]
[null,null,210,76,177,60,328,104,72,25,520,102,178,72,633,119,489,106,46,16,132,43,175,55]
[null,null,32,31,58,30,64,51,16,15,44,43,13,15,157,58,95,55,7,7,18,18,16,18]
[null,null,178,70,119,59,264,96,56,22,476,95,165,71,476,107,394,87,39,14,114,40,159,55]
[null,null,222,98,111,56,129,77,34,17,277,103,110,64,807,120,310,96,132,73,145,54,141,73]
[null,null,79,59,60,39,73,60,6,6,143,63,32,24,346,113,158,79,92,73,71,41,42,25]
[null,null,143,91,51,34,56,39,28,16,134,94,78,56,461,104,152,66,40,19,74,44,99,68]
[]
[]
[]
[]
[]
[]
["B18101. SEX BY AGE BY DISABILITY STATUS\n-Calculated"]
["Universe:  Civilian non-institutionalized population"]
["Data Set: 2013-2017 American Community Survey 5-Year Estimates"]
[]
[]
[null,null,"Alton",null,"Barnstead",null,"Belmont",null,"Center Harbor",null,"Gilford",null,"Gilmanton",null,"Laconia",null,"Meredith",null,"New Hampton",null,"Sanbornton",null,"Tilton"]
[null,null,"Estimate","Margin Of Error","Estimate","Margin Of Error","Estimate","Margin Of Error","Estimate","Margin Of Error","Estimate","Margin Of Error","Estimate","Margin Of Error","Estimate","Margin Of Error","Estimate","Margin Of Error","Estimate","Margin Of Error","Estimate","Margin Of Error","Estimate"]
[null,"Total",5256,19,4615,16,7268,19,1000,178,7111,23,15762,173,15694,177,6334,33,2276,176,2973,16,3294,143]
[null,"Under 5 years:",286,135.07405376311175,185,93.493315269060815,212,134.34656675925888,76,48.166378315169183,286,176.81628884240274,676,163.3431969810803,914,214.97906874856446,499,186.23103930333417,95,55.470712993434653,122,46.61544808322666,160,91.301697684106614]
[null,"With a disability",0,22.627416997969522,0,15.556349186104045,20,37.576588456111871,0,15.556349186104045,0,22.627416997969522,0,25.45584412271571,0,24.041630560342615,47,74.732857566133518,0,15.556349186104045,0,15.556349186104045,0,15.556349186104045]
[null,"No disability",286,135.07405376311175,185,93.493315269060815,192,128.4562182223967,76,48.166378315169183,286,176.81628884240274,676,163.3431969810803,914,214.97906874856446,452,163.60012224934309,95,55.470712993434653,122,46.61544808322666,160,91.301697684106614]
[null,"5 to 17 years:",955,192.4162155328911,729,150.81445554057476,1207,191.04973174542801,40,21.931712199461309,1124,213.55093069335942,2043,282.1364917907643,2170,313.26027517066382,866,172.42969581832475,406,89.805345052507874,452,84.723078319900537,460,132.23085872821065]
[null,"With a disability",94,77.388629655783419,39,45.354161881794269,203,111.39569111954016,2,12.083045973594572,70,50.606323715519977,295,156.20819440733575,269,152.16109883935513,124,70.384657419071104,33,39.357337308308857,11,16.278820596099706,0,15.556349186104045]
[null,"No disability",861,184.71870506258969,690,159.81239000778382,1004,196.23710148695125,38,21.023796041628639,1054,205.7692882818036,1748,249.30302846134862,1901,259.78837541352772,742,184.6212338816963,373,84.219950130595535,441,85.234969349440135,460,132.23085872821065]
[null,"18 to 34 years:",410,151.74320413119,941,179.61069010501575,1294,284.86136979239569,192,86.95401083331349,1132,225.57703783851761,3518,334.81935427928892,3299,323.44551318576055,1089,192.87560758167425,270,91.285267157411553,395,83.240615086627031,682,133.60014970051492]
[null,"With a disability",56,57.384666941614292,77,46.324939287601879,220,139.58868148958209,3,12.083045973594572,84,68.095521144932874,281,112.04463396343441,305,138.05795884337854,133,64.381674411279491,30,25.96150997149434,54,36.359317925395686,76,67.468511173731997]
[null,"No disability",354,150.33296378372907,864,174,1074,264.23663636975095,189,86.452298986203942,1048,217.22108553268947,3237,344.00581390435832,2994,356.21622646926124,956,192.87560758167425,240,83.240615086627031,341,78.10249675906654,606,127.61269529321916]
[null,"35 to 64 years:",2386,215.72436116489024,2168,156.23699945915499,3410,239.8207664069148,419,77.103826104804938,2757,215.92822881689185,6575,347.36868022318879,6611,358.81053496239485,2436,199.25109786397664,1105,101.13851887386922,1474,89.643739324059879,1427,153.63918770938616]
[null,"With a disability",208,86.821656284592962,221,84.059502734670033,417,145.09651959988565,67,49.040799340956916,188,78.243210568074218,1070,215.52262062252305,1072,205.7984450864486,278,90,118,39.824615503479755,165,49.929950931279713,309,106.21675950620975]
[null,"No disability",2178,229.17242417009948,1947,173.23394586512194,2993,261.93892417890089,352,63.702433234531945,2569,219.65882636488797,5505,363.68805314444961,5539,345.46345682285994,2158,198.60010070490901,987,101.13851887386922,1309,91.049437120720299,1118,152.00328943809077]
[null,"65 to 74 years:",751,169.9941175452845,336,86.556340033529608,758,159.02201105507376,118,40.224370722237531,1150,187.1095935541521,1800,185.52627846210896,1599,178.40403582878949,873,113.27841806805037,244,59.405386961116584,344,58.051701094799967,377,94.921019800674287]
[null,"With a disability",181,104.1393297462587,114,55.317266743757322,241,115.42096863222038,25,18.601075237738275,188,81.60882305241266,362,109.63576058932597,322,87.920418561333065,167,64.815121692395209,54,32.649655434629018,117,40.224370722237531,68,34.828149534535996]
[null,"No disability",570,164.65721970202219,222,72.670489196096653,517,140.66271716414411,93,37.013511046643494,962,169.33103672983285,1438,180.54639292990598,1277,168.80758276807353,706,103.47946656221224,190,50.328918128646478,227,44.598206241955516,309,93.509357820487679]
[null,"75 years and over:",468,143.17821063276352,256,70.007142492748557,387,121.16517651536682,155,45.486261662176638,662,134.27211177307072,1150,153.44705927452634,1101,161.55494421403512,571,121.26417442921878,156,44.045431091090478,186,57.982756057296896,188,65.053823869162372]
[null,"With a disability",186,100.44899203078147,87,54.644304369257,201,94.111635837445732,58,29.698484809834994,273,85.445889310135925,527,109.60383204979651,447,122.15563842901399,283,99.403219263764285,59,24.758836806279895,89,42.544094772365298,89,38.470768123342687]
[null,"No disability",282,114.63420083029322,169,63.63961030678928,186,94.047860156411858,97,34.928498393145958,389,119.26860441876563,623,120.24142381059865,654,128.96898852049665,288,73.552702193733168,97,38.832975677895199,97,39.204591567825318,99,52.201532544552748]
[null," "]
[]
[]
[]
[]
["B18101. SEX BY AGE BY DISABILITY STATUS\n-Calculated"]
["Universe:  Civilian non-institutionalized population"]
["Data Set: 2008-2012 American Community Survey 5-Year Estimates"]
[]
[]
[null,null,"Alton",null,"Barnstead",null,"Belmont",null,"Center Harbor",null,"Gilford",null,"Gilmanton",null,"Laconia",null,"Meredith",null,"New Hampton",null,"Sanbornton",null,"Tilton"]
[null,null,"Estimate","Margin Of Error","Estimate","Margin Of Error","Estimate","Margin Of Error","Estimate","Margin Of Error","Estimate","Margin Of Error","Estimate","Margin Of Error","Estimate","Margin Of Error","Estimate","Margin Of Error","Estimate","Margin Of Error","Estimate","Margin Of Error","Estimate"]
[null,"Total",5235,20,4586,23,7342,22,1034,141,7111,40,3761,26,15551,140,6184,50,2234,144,2958,18,3471,112]
[null,"Under 5 years:",229,116.18089343777659,396,98.290386101591849,431,178.39282496782207,41,26.870057685088806,252,97,181,76.400261779656233,833,177.49647883831386,172,110.98198051936178,70,29,244,87.367041840730764,159,68.01470429252781]
[null,"With a disability",0,22.627416997969522,0,15.556349186104045,0,22.627416997969522,0,15.556349186104045,0,22.627416997969522,0,15.556349186104045,0,25.45584412271571,0,22.627416997969522,0,15.556349186104045,0,15.556349186104045,0,15.556349186104045]
[null,"No disability",229,116.18089343777659,396,98.290386101591849,431,178.39282496782207,41,26.870057685088806,252,97,181,76.400261779656233,833,177.49647883831386,172,110.98198051936178,70,29,244,87.367041840730764,159,68.01470429252781]
[null,"5 to 17 years:",802,213.82469455140114,795,152.74161188098023,1555,288.82001315698329,140,44.294469180700204,1122,180.38015411901608,766,146.10270360263701,2179,294.61330587738223,1003,231.25094594401122,372,71.700767080973407,342,90.376988221560026,462,116.67476162392619]
[null,"With a disability",0,22.627416997969522,73,54.708317466359723,67,62.769419305900861,3,12.083045973594572,69,52.630789467763066,27,32.893768406797051,86,69.289248805280025,16,24.839484696748443,34,22.360679774997898,10,14.866068747318506,11,23.706539182259394]
[null,"No disability",802,213.82469455140114,722,148.49242404917499,1488,279.86603938313061,137,44.294469180700204,1053,185.26737435393204,739,142.27438279606065,2093,282.5261049885479,987,229.10696191953662,338,66.483080554378645,332,89.470665583754325,451,120.28299963003916]
[null,"18 to 34 years:",757,183.17477992343814,869,132.94359706281458,1204,223.66492796144863,162,55.470712993434653,1194,213.66328650472454,567,114.62983904725679,3079,255.34486483969087,792,172.00290695217916,502,81.394102980498531,402,92.763139231054481,687,142.2708684165525]
[null,"With a disability",33,40,49,35.735136770411273,52,47.634021455258214,22,23.430749027719962,99,81.043198357419243,25,20.518284528683193,360,157.47063218263906,93,102.25947388873072,30,25.495097567963924,5,14.212670403551895,18,20.518284528683193]
[null,"No disability",724,181.1573901335521,820,132.23085872821065,1152,220.04772209682153,140,51.312766442669997,1095,210.10711553871752,542,114.69088891450794,2719,270.73972741361769,699,142.89856542317,472,80.65977932030313,397,91.285267157411553,669,140.75865870347016]
[null,"35 to 64 years:",2402,257.37909783041823,1956,151.32085117392117,3278,205.37283169883986,473,79.195959492893323,3201,264.5467822522134,1765,119.75391434103521,7084,296.29883563726673,2828,219.20082116634509,950,86.371291526756735,1536,109.04127658827184,1547,114.86513831445988]
[null,"With a disability",219,116.37869220780924,178,69.31089380465383,423,140.356688476182,19,16.643316977093239,174,85.440037453175307,195,66.030296076876709,1020,193.40372281835735,267,110.8873302050329,95,37.443290453698111,116,59.615434243155519,155,55.172456896534889]
[null,"No disability",2183,260.83711392361323,1778,148.55302083767936,2855,212.84031572989173,454,77.781745930520231,3027,269.74246977441277,1570,128.14444974324874,6064,309.02588888311607,2561,226.49724060129299,855,82.879430499973878,1420,106.7941945987702,1392,124.01612798341996]
[null,"65 to 74 years:",665,155.66630977832037,356,87,492,123.04470732217619,136,38.288379438153292,741,141.44963768069539,293,86.977008456258133,1193,153.44380078712857,918,140.85808461000738,173,46.400431032480725,230,56.222771187482387,296,85.702975444263316]
[null,"With a disability",40,38.483762809787713,98,49.678969393496885,104,66.528189513919585,20,14.560219778561036,91,53.823786563191554,28,31.048349392520048,283,86.556340033529608,143,67.896980787071826,19,12.806248474865697,30,23.430749027719962,47,51.195702944680818]
[null,"No disability",625,154.31137352768266,258,81.467785044151043,388,106.10372283760829,116,35.608987629529715,650,128.72451204024819,265,82.807004534640669,910,143.55835050598765,775,145.86637720873168,154,43.829214001622255,200,53.814496188294839,249,68.593002558570063]
[null,"75 years and over:",380,129.00387591076478,214,72.346388990743691,382,119.63277142990545,82,31.11269837220809,601,156.63013758533191,189,70.007142492748557,1183,156.84705926475002,471,116.8289347721702,167,62.241465278381739,204,53.851648071345039,320,127.47548783981962]
[null,"With a disability",199,95.015788161757627,119,53.823786563191554,216,109.60383204979651,32,18.867962264113206,265,93.434469014384618,80,42.201895692018383,428,103.24727599312246,189,82.800966177937809,87,54.918120870983927,100,42.941821107167776,132,79.202272694664515]
[null,"No disability",181,101.55294185792945,95,47.423622805517503,166,73.061617830431317,50,24.839484696748443,336,133.843191832831,109,62.008063991709982,755,144.80676779764127,282,83.096329642168911,80,27.202941017470888,104,48.764741360946438,188,93.407708461347028]

{"sheet":"ACS_Table_B18102","index":28,"n_rows":156,"n_cols":24,"rows_kept":156,"cut":false,"hidden":true,"merged":[]}
["B18102. SEX BY AGE BY HEARING DIFFICULTY\n\n"]
["Universe:  Civilian non-institutionalized population"]
["Data Set: 2018-2022 American Community Survey 5-Year Estimates"]
[]
[null,null,"Alton",null,"Barnstead",null,"Belmont",null,"Center Harbor",null,"Gilford",null,"Gilmanton",null,"Laconia",null,"Meredith",null,"New Hampton",null,"Sanbornton",null,"Tilton"]
[null,null,"Estimate","Margin Of Error","Estimate","Margin Of Error","Estimate","Margin Of Error","Estimate","Margin Of Error","Estimate","Margin Of Error","Estimate","Margin Of Error","Estimate","Margin Of Error","Estimate","Margin Of Error","Estimate","Margin Of Error","Estimate","Margin Of Error","Estimate","Margin Of Error"]
[null,"Total:",5897,17,4926,30,7353,20,820,181,7725,20,3960,27,16394,103,6640,36,2594,182,3047,21,3744,22]
[null,"Male:",2894,196,2219,150,3459,236,408,104,3749,264,2079,181,8098,300,3371,249,1335,129,1637,138,1861,146]
[null,"Under 5 years:",117,69,117,64,31,47,5,8,216,122,160,89,311,118,21,24,43,30,75,60,178,61]
[null,"With hearing difficulty",0,17,0,12,0,17,0,12,0,17,0,12,27,37,0,17,0,12,0,12,0,12]
[null,"With no hearing difficulty",117,69,117,64,31,47,5,8,216,122,160,89,284,119,21,24,43,30,75,60,178,61]
[null,"5 to 17  years:",478,154,307,101,706,202,49,31,490,179,271,119,1233,260,353,99,83,42,279,63,230,121]
[null,"With hearing difficulty",0,17,0,12,0,17,0,12,0,17,0,12,0,19,0,17,0,12,0,12,0,12]
[null,"With no hearing difficulty",478,154,307,101,706,202,49,31,490,179,271,119,1233,260,353,99,83,42,279,63,230,121]
[null,"18 to 34  years:",436,198,333,128,406,155,26,28,703,206,355,139,1777,277,561,197,340,116,369,127,352,134]
[null,"With hearing difficulty",0,17,0,12,0,17,0,12,0,17,0,12,79,115,6,16,0,12,0,12,0,12]
[null,"With no hearing difficulty",436,198,333,128,406,155,26,28,703,206,355,139,1698,286,555,198,340,116,369,127,352,134]
[null,"35 to 64  years:",1204,179,1054,120,1704,207,118,40,1656,228,927,134,3192,300,1365,210,513,63,611,140,820,161]
[null,"With hearing difficulty",11,18,52,31,73,93,0,12,61,57,23,24,243,154,61,70,130,21,57,58,72,77]
[null,"With no hearing difficulty",1193,175,1002,126,1631,200,118,40,1595,230,904,137,2949,300,1304,212,383,68,554,132,748,157]
[null,"65 to 74  years:",317,128,191,89,493,155,130,44,490,147,212,72,1245,214,602,141,235,76,235,92,192,78]
[null,"With hearing difficulty",46,38,61,42,38,37,23,25,104,91,42,46,265,151,155,93,60,46,25,28,55,54]
[null,"With no hearing difficulty",271,126,130,78,455,156,107,38,386,147,170,72,980,200,447,120,175,70,210,84,137,53]
[null,"75  years and Older:",342,112,217,88,119,60,80,48,194,78,154,114,340,80,469,132,121,46,68,39,89,47]
[null,"With hearing difficulty",167,92,40,35,63,49,36,25,38,27,34,38,121,65,98,59,80,37,36,32,37,27]
[null,"With no hearing difficulty",175,74,177,82,56,40,44,45,156,69,120,110,219,66,371,117,41,24,32,22,52,33]
[null,"Female:",3003,196,2707,145,3894,234,412,101,3976,266,1881,179,8296,293,3269,250,1259,120,1410,132,1883,148]
[null,"Under 5 years:",90,99,61,42,193,99,5,9,283,114,107,59,416,151,87,40,24,21,23,28,60,39]
[null,"With hearing difficulty",0,17,0,12,0,17,0,12,0,17,0,12,0,19,0,17,0,12,0,12,0,12]
[null,"With no hearing difficulty",90,99,61,42,193,99,5,9,283,114,107,59,416,151,87,40,24,21,23,28,60,39]
[null,"5 to 17  years:",264,110,537,145,668,211,29,22,535,207,283,125,1136,229,376,141,182,89,162,99,194,123]
[null,"With hearing difficulty",0,17,0,12,0,17,0,12,0,17,0,12,0,19,0,17,0,12,0,12,0,12]
[null,"With no hearing difficulty",264,110,537,145,668,211,29,22,535,207,283,125,1136,229,376,141,182,89,162,99,194,123]
[null,"18 to 34  years:",561,184,473,126,573,188,29,22,521,189,306,100,1523,279,654,175,203,92,256,121,342,120]
[null,"With hearing difficulty",22,38,0,12,0,17,2,4,0,17,0,12,0,19,45,65,0,12,0,12,0,12]
[null,"With no hearing difficulty",539,183,473,126,573,188,27,22,521,189,306,100,1523,279,609,166,203,92,256,121,342,120]
[null,"35 to 64  years:",1418,228,1077,129,1481,192,171,65,1765,225,874,120,3421,289,1173,171,543,67,608,113,893,172]
[null,"With hearing difficulty",0,17,77,56,13,20,3,5,36,34,0,12,191,118,72,54,7,12,50,57,18,32]
[null,"With no hearing difficulty",1418,228,1000,106,1468,191,168,65,1729,227,874,120,3230,304,1101,156,536,70,558,110,875,166]
[null,"65 to 74  years:",384,128,266,126,544,186,146,47,594,202,232,90,1153,214,651,194,202,84,232,110,197,63]
[null,"With hearing difficulty",18,22,5,10,69,104,2,4,9,10,0,12,109,71,8,12,25,32,50,52,10,17]
[null,"With no hearing difficulty",366,131,261,126,475,166,144,47,585,202,232,90,1044,213,643,194,177,78,182,89,187,62]
[null,"75  years and Older:",286,101,293,138,435,196,32,22,278,103,79,47,647,176,328,90,105,45,129,62,197,110]
[null,"With hearing difficulty",27,32,70,89,106,73,4,7,22,22,0,12,198,133,45,32,21,26,46,45,22,29]
[null,"With no hearing difficulty",259,94,223,96,329,188,28,21,256,104,79,47,449,116,283,90,84,35,83,43,175,113]
[]
[]
[{"$f":"A1& \"-Calculated\"","v":"B18102. SEX BY AGE BY HEARING DIFFICULTY\n\n-Calculated"}]
[{"$f":"A2","v":"Universe:  Civilian non-institutionalized population"}]
[{"$f":"A3","v":"Data Set: 2018-2022 American Community Survey 5-Year Estimates"}]
[]
[]
[null,null,"Alton",null,"Barnstead",null,"Belmont",null,"Center Harbor",null,"Gilford",null,"Gilmanton",null,"Laconia",null,"Meredith",null,"New Hampton",null,"Sanbornton",null,"Tilton"]
[null,null,"Estimate","Margin Of Error","Estimate","Margin Of Error","Estimate","Margin Of Error","Estimate","Margin Of Error","Estimate","Margin Of Error","Estimate","Margin Of Error","Estimate","Margin Of Error","Estimate","Margin Of Error","Estimate","Margin Of Error","Estimate","Margin Of Error","Estimate","Margin Of Error"]
[null,"Total",{"$f":"C7","v":5897},17,4926,30,7353,20,820,181,7725,20,3960,27,16394,103,6640,36,2594,182,3047,21,3744,22]
[null,"Under 5 years:",{"$f":"C28+C9","v":207},{"$f":"SQRT((D28^2)+(D9^2))","v":120.6731121667126},{"$f":"E28+E9","v":178},{"$f":"SQRT((F28^2)+(F9^2))","v":76.550636836018555},{"$f":"G28+G9","v":224},{"$f":"SQRT((H28^2)+(H9^2))","v":109.59014554237986},{"$f":"I28+I9","v":10},{"$f":"SQRT((J28^2)+(J9^2))","v":12.041594578792296},{"$f":"K28+K9","v":499},{"$f":"SQRT((L28^2)+(L9^2))","v":166.97305171793442},{"$f":"M28+M9","v":267},{"$f":"SQRT((N28^2)+(N9^2))","v":106.78014796768171},{"$f":"O28+O9","v":727},{"$f":"SQRT((P28^2)+(P9^2))","v":191.637678967368},{"$f":"Q28+Q9","v":108},{"$f":"SQRT((R28^2)+(R9^2))","v":46.647615158762406},{"$f":"S28+S9","v":67},{"$f":"SQRT((T28^2)+(T9^2))","v":36.61966684720111},{"$f":"U28+U9","v":98},{"$f":"SQRT((V28^2)+(V9^2))","v":66.211781428987393},{"$f":"W28+W9","v":238},{"$f":"SQRT((X28^2)+(X9^2))","v":72.401657439591816}]
[null,"With hearing difficulty",{"$f":"C29+C10","v":0},{"$f":"SQRT((D29^2)+(D10^2))","v":24.041630560342615},{"$f":"E29+E10","v":0},{"$f":"SQRT((F29^2)+(F10^2))","v":16.970562748477139},{"$f":"G29+G10","v":0},{"$f":"SQRT((H29^2)+(H10^2))","v":24.041630560342615},{"$f":"I29+I10","v":0},{"$f":"SQRT((J29^2)+(J10^2))","v":16.970562748477139},{"$f":"K29+K10","v":0},{"$f":"SQRT((L29^2)+(L10^2))","v":24.041630560342615},{"$f":"M29+M10","v":0},{"$f":"SQRT((N29^2)+(N10^2))","v":16.970562748477139},{"$f":"O29+O10","v":27},{"$f":"SQRT((P29^2)+(P10^2))","v":41.593268686170845},{"$f":"Q29+Q10","v":0},{"$f":"SQRT((R29^2)+(R10^2))","v":24.041630560342615},{"$f":"S29+S10","v":0},{"$f":"SQRT((T29^2)+(T10^2))","v":16.970562748477139},{"$f":"U29+U10","v":0},{"$f":"SQRT((V29^2)+(V10^2))","v":16.970562748477139},{"$f":"W29+W10","v":0},{"$f":"SQRT((X29^2)+(X10^2))","v":16.970562748477139}]
[null,"With no hearing difficulty",207,120.6731121667126,178,76.550636836018555,224,109.59014554237986,10,12.041594578792296,499,166.97305171793442,267,106.78014796768171,700,192.25503894566717,108,46.647615158762406,67,36.61966684720111,98,66.211781428987393,238,72.401657439591816]
[null,"5 to 17 years:",742,189.25115587493778,844,176.70880000724355,1374,292.10443337957059,78,38.013155617496423,1025,273.66037345585858,554,172.58621034138272,2369,346.46933486240886,729,172.28464818433474,265,98.412397592986224,441,117.34564329364768,424,172.53985046939155]
[null,"With hearing difficulty",0,24.041630560342615,0,16.970562748477139,0,24.041630560342615,0,16.970562748477139,0,24.041630560342615,0,16.970562748477139,0,26.870057685088806,0,24.041630560342615,0,16.970562748477139,0,16.970562748477139,0,16.970562748477139]
[null,"With no hearing difficulty",742,189.25115587493778,844,176.70880000724355,1374,292.10443337957059,78,38.013155617496423,1025,273.66037345585858,554,172.58621034138272,2369,346.46933486240886,729,172.28464818433474,265,98.412397592986224,441,117.34564329364768,424,172.53985046939155]
[null,"18 to 34 years:",997,270.29613389761977,806,179.61069010501575,979,243.65754656894993,55,35.608987629529715,1224,279.56573466717987,661,171.2337583538947,3300,393.15391388106514,1215,263.50332066218823,543,148.05404418657398,625,175.41379649275024,694,179.87773625437919]
[null,"With hearing difficulty",22,41.629316592997299,0,16.970562748477139,0,24.041630560342615,2,12.649110640673518,0,24.041630560342615,0,16.970562748477139,79,116.55899793666725,51,66.940271884718243,0,16.970562748477139,0,16.970562748477139,0,16.970562748477139]
[null,"With no hearing difficulty",975,269.61639416029584,806,179.61069010501575,979,243.65754656894993,53,35.608987629529715,1224,279.56573466717987,661,171.2337583538947,3221,399.54599234631297,1164,258.37956575549856,543,148.05404418657398,625,175.41379649275024,694,179.87773625437919]
[null,"35 to 64 years:",2622,289.8706608127149,2131,176.18456232031227,3185,282.33490751233722,289,76.321687612368734,3421,320.32639604003913,1801,179.87773625437919,6613,416.55851929830942,2538,270.81543530604011,1056,91.967385523347346,1219,179.91386828146406,1713,235.59499145779819]
[null,"With hearing difficulty",11,24.758836806279895,129,64.007812023221035,86,95.12623192369179,3,13,97,66.370174024180471,23,26.832815729997478,434,194.01030900444439,133,88.408144421201371,137,24.186773244895647,107,81.320354155647891,90,83.384650865731871]
[null,"With no hearing difficulty",2611,287.41781434003008,2002,164.65721970202219,3099,276.55198426335687,286,76.321687612368734,3324,323.15476168548099,1778,182.12358441453978,6179,427.10186138671884,2405,263.21094202179364,919,97.590983190046813,1112,171.8254928699464,1623,228.48413511664219]
[null,"65 to 74 years:",701,181.01933598375618,457,154.26276284314372,1037,242.11773995310628,276,64.381674411279491,1084,249.8259394058191,444,115.25623627379127,2398,302.64170234784234,1253,239.82702099638396,437,113.27841806805037,467,143.40153416194681,389,100.26464980241042]
[null,"With hearing difficulty",64,43.908996800200299,66,43.174066289845804,107,110.38568747804219,25,25.317977802344327,113,91.547801721286575,42,47.539457296018853,374,166.85922210054798,163,93.770997648526702,85,56.0357029044876,75,59.059292240933601,65,56.612719418872643]
[null,"With no hearing difficulty",637,181.76083186429358,391,148.18906842274163,930,227.7981562699751,251,60.440052945046304,971,249.8259394058191,402,115.25623627379127,2024,292.17973920174546,1090,228.11400658442699,352,104.80458005259122,392,122.38055401083949,324,81.565924257621205]
[null,"75 years and over:",628,150.81445554057476,510,163.67040050051813,554,204.97804760510331,112,52.801515129776341,472,129.20139318134306,233,123.30855606972291,987,193.32873557751316,797,159.76232346833217,226,64.350602172784676,197,73.246160308919954,286,119.6202324023825]
[null,"With hearing difficulty",194,97.406365295087369,110,95.634721728041853,169,87.920418561333065,40,25.96150997149434,60,34.828149534535996,34,39.849717690342551,319,148.03377992877165,143,67.119296778199342,101,45.221676218380054,82,55.21775076911409,59,39.623225512317902]
[null,"With no hearing difficulty",434,119.63277142990545,400,126.25371281669304,385,192.20822042774341,72,49.658836071740545,412,124.80785231707178,199,119.6202324023825,668,133.46160496562297,654,147.61097520171052,125,42.43819034784589,115,48.301138702933287,227,117.72000679578642]
[]
[]
[]
[]
[]
[]
[]
[]
[]
[]
[]
[]
[]
[]
[]
[]
[]
[]
[]
[]
[]
[]
[]
[]
[]
[]
["B18102. SEX BY AGE BY HEARING DIFFICULTY\n\n-Calculated"]
["Universe:  Civilian non-institutionalized population"]
["Data Set: 2013-2017 American Community Survey 5-Year Estimates"]
[]
[]
[null,null,"Alton",null,"Barnstead",null,"Belmont",null,"Center Harbor",null,"Gilford",null,"Gilmanton",null,"Laconia",null,"Meredith",null,"New Hampton",null,"Sanbornton",null,"Tilton"]
[null,null,"Estimate","Margin Of Error","Estimate","Margin Of Error","Estimate","Margin Of Error","Estimate","Margin Of Error","Estimate","Margin Of Error","Estimate","Margin Of Error","Estimate","Margin Of Error","Estimate","Margin Of Error","Estimate","Margin Of Error","Estimate","Margin Of Error","Estimate"]
[null,"Total",5256,19,4615,16,7268,19,1000,178,7111,23,15762,173,15694,177,6334,33,2276,176,2973,16,3294,143]
[null,"Under 5 years:",286,135.07405376311175,185,93.493315269060815,212,134.34656675925888,76,48.166378315169183,286,176.81628884240274,676,163.3431969810803,914,214.97906874856446,499,186.23103930333417,95,55.470712993434653,122,46.61544808322666,160,91.301697684106614]
[null,"With hearing difficulty",0,22.627416997969522,0,15.556349186104045,0,22.627416997969522,0,15.556349186104045,0,22.627416997969522,0,25.45584412271571,0,24.041630560342615,47,74.732857566133518,0,15.556349186104045,0,15.556349186104045,0,15.556349186104045]
[null,"With no hearing difficulty",286,135.07405376311175,185,93.493315269060815,212,134.34656675925888,76,48.166378315169183,286,176.81628884240274,676,163.3431969810803,914,214.97906874856446,452,163.60012224934309,95,55.470712993434653,122,46.61544808322666,160,91.301697684106614]
[null,"5 to 17 years:",955,192.4162155328911,729,150.81445554057476,1207,191.04973174542801,40,21.931712199461309,1124,213.55093069335942,2043,282.1364917907643,2170,313.26027517066382,866,172.42969581832475,406,89.805345052507874,452,84.723078319900537,460,132.23085872821065]
[null,"With hearing difficulty",0,22.627416997969522,0,15.556349186104045,0,22.627416997969522,0,15.556349186104045,23,34,13,16.278820596099706,8,22.022715545545239,0,22.627416997969522,0,15.556349186104045,0,15.556349186104045,0,15.556349186104045]
[null,"With no hearing difficulty",955,192.4162155328911,729,150.81445554057476,1207,191.04973174542801,40,21.931712199461309,1101,210.7225664232476,2030,280.7294070809113,2162,314.57908385650819,866,172.42969581832475,406,89.805345052507874,452,84.723078319900537,460,132.23085872821065]
[null,"18 to 34 years:",410,151.74320413119,941,179.61069010501575,1294,284.86136979239569,192,86.95401083331349,1132,225.57703783851761,3518,334.81935427928892,3299,323.44551318576055,1089,192.87560758167425,270,91.285267157411553,395,83.240615086627031,682,133.60014970051492]
[null,"With hearing difficulty",0,22.627416997969522,10,18.601075237738275,42,69.856996786291916,0,15.556349186104045,22,37.576588456111871,83,64.660652641308843,62,53.075418038862395,0,22.627416997969522,0,15.556349186104045,0,15.556349186104045,10,18.601075237738275]
[null,"With no hearing difficulty",410,151.74320413119,931,180.32470712578461,1252,284.86136979239569,192,86.95401083331349,1110,220.04772209682153,3435,335.03731135501909,3237,326.49655434629017,1089,192.87560758167425,270,91.285267157411553,395,83.240615086627031,672,132.00378782444085]
[null,"35 to 64 years:",2386,215.72436116489024,2168,156.23699945915499,3410,239.8207664069148,419,77.103826104804938,2757,215.92822881689185,6575,347.36868022318879,6611,358.81053496239485,2436,199.25109786397664,1105,101.13851887386922,1474,89.643739324059879,1427,153.63918770938616]
[null,"With hearing difficulty",77,59.203040462462738,86,47.507894080878813,118,66.528189513919585,33,45.354161881794269,25,26.92582403567252,171,74.94664769020693,181,74.94664769020693,55,41.109609582188931,23,23.086792761230392,35,23.259406699226016,90,52.810983706043572]
[null,"With no hearing difficulty",2309,222.74873737015884,2082,161.40012391568973,3292,239.94165957582271,386,65.192024052026483,2732,216.08563117431015,6404,361.26029397098154,6430,360.22354170709053,2381,200.66140635408692,1082,101.86265262597475,1439,87.114866699088736,1337,163.37686494727458]
[null,"65 to 74 years:",751,169.9941175452845,336,86.556340033529608,758,159.02201105507376,118,40.224370722237531,1150,187.1095935541521,1800,185.52627846210896,1599,178.40403582878949,873,113.27841806805037,244,59.405386961116584,344,58.051701094799967,377,94.921019800674287]
[null,"With hearing difficulty",45,42.154477816715982,81,47.507894080878813,120,74.464756764525859,19,17.029386365926403,87,64.031242374328485,137,68.622153857191051,124,61.911226768656427,90,46.227697325304881,15,13.416407864998739,57,27.586228448267445,13,17.804493814764857]
[null,"With no hearing difficulty",706,165.55965692160635,255,77.935871073594853,638,145.34441853748632,99,37.802116342871599,1063,181.3201588351389,1663,188.86238376129853,1475,172.40939649566667,783,113.22985472038724,229,59.405386961116584,287,53.150729063673246,364,94.175368329515976]
[null,"75 years and over:",468,143.17821063276352,256,70.007142492748557,387,121.16517651536682,155,45.486261662176638,662,134.27211177307072,1150,153.44705927452634,1101,161.55494421403512,571,121.26417442921878,156,44.045431091090478,186,57.982756057296896,188,65.053823869162372]
[null,"With hearing difficulty",75,66.940271884718243,56,47.539457296018853,172,91.934759476489631,27,20.615528128088304,140,66.528189513919585,210,67.416615162732697,224,79.755877526361658,163,72.622310621461224,30,18.357559750685819,38,17.4928556845359,44,27.784887978899608]
[null,"With no hearing difficulty",393,134.40238093129153,200,67.178865724273734,215,99.904954832080278,128,39.824615503479755,522,131.54847015454038,940,142.05632685663809,877,147.66516176810291,408,94.36630754670864,126,39.408120990476064,148,53.075418038862395,144,57.384666941614292]
[]
[]
[]
[]
[]
["B18102. SEX BY AGE BY HEARING DIFFICULTY\n\n-Calculated"]
["Universe:  Civilian non-institutionalized population"]
["Data Set: 2008-2012 American Community Survey 5-Year Estimates"]
[]
[]
[null,null,"Alton",null,"Barnstead",null,"Belmont",null,"Center Harbor",null,"Gilford",null,"Gilmanton",null,"Laconia",null,"Meredith",null,"New Hampton",null,"Sanbornton",null,"Tilton"]
[null,null,"Estimate","Margin Of Error","Estimate","Margin Of Error","Estimate","Margin Of Error","Estimate","Margin Of Error","Estimate","Margin Of Error","Estimate","Margin Of Error","Estimate","Margin Of Error","Estimate","Margin Of Error","Estimate","Margin Of Error","Estimate","Margin Of Error","Estimate"]
[null,"Total",5235,20,4586,23,7342,22,1034,141,7111,40,3761,26,15551,140,6184,50,2234,144,2958,18,3471,112]
[null,"Under 5 years:",229,116.18089343777659,396,98.290386101591849,431,178.39282496782207,41,26.870057685088806,252,97,181,76.400261779656233,833,177.49647883831386,172,110.98198051936178,70,29,244,87.367041840730764,159,68.01470429252781]
[null,"With hearing difficulty",0,22.627416997969522,0,15.556349186104045,0,22.627416997969522,0,15.556349186104045,0,22.627416997969522,0,15.556349186104045,0,25.45584412271571,0,22.627416997969522,0,15.556349186104045,0,15.556349186104045,0,15.556349186104045]
[null,"With no hearing difficulty",229,116.18089343777659,396,98.290386101591849,431,178.39282496782207,41,26.870057685088806,252,97,181,76.400261779656233,833,177.49647883831386,172,110.98198051936178,70,29,244,87.367041840730764,159,68.01470429252781]
[null,"5 to 17 years:",802,213.82469455140114,795,152.74161188098023,1555,288.82001315698329,140,44.294469180700204,1122,180.38015411901608,766,146.10270360263701,2179,294.61330587738223,1003,231.25094594401122,372,71.700767080973407,342,90.376988221560026,462,116.67476162392619]
[null,"With hearing difficulty",0,22.627416997969522,29,48.270073544588683,0,22.627416997969522,0,15.556349186104045,0,22.627416997969522,7,21.095023109728988,0,25.45584412271571,7,20.615528128088304,0,15.556349186104045,0,15.556349186104045,0,15.556349186104045]
[null,"With no hearing difficulty",802,213.82469455140114,766,153.45683432157722,1555,288.82001315698329,140,44.294469180700204,1122,180.38015411901608,759,144.81022063376605,2179,294.61330587738223,996,228.39658491317246,372,71.700767080973407,342,90.376988221560026,462,116.67476162392619]
[null,"18 to 34 years:",757,183.17477992343814,869,132.94359706281458,1204,223.66492796144863,162,55.470712993434653,1194,213.66328650472454,567,114.62983904725679,3079,255.34486483969087,792,172.00290695217916,502,81.394102980498531,402,92.763139231054481,687,142.2708684165525]
[null,"With hearing difficulty",14,28.844410203711913,10,19.416487838947599,0,22.627416997969522,10,18.601075237738275,13,27.202941017470888,0,15.556349186104045,12,26.90724809414742,0,22.627416997969522,0,15.556349186104045,0,15.556349186104045,10,18.601075237738275]
[null,"With no hearing difficulty",743,183.89671013914307,859,131.52186130069785,1204,223.66492796144863,152,53.851648071345039,1181,211.48285982556601,567,114.62983904725679,3067,251.03187048659777,792,172.00290695217916,502,81.394102980498531,402,92.763139231054481,677,142.94754282603111]
[null,"35 to 64 years:",2402,257.37909783041823,1956,151.32085117392117,3278,205.37283169883986,473,79.195959492893323,3201,264.5467822522134,1765,119.75391434103521,7084,296.29883563726673,2828,219.20082116634509,950,86.371291526756735,1536,109.04127658827184,1547,114.86513831445988]
[null,"With hearing difficulty",157,93.407708461347028,82,49.578221024962161,41,39.395431207184416,2,11.704699910719626,38,40.311288741492746,28,23.345235059857504,162,76.05918747922567,58,42.953463189829058,19,15.620499351813308,38,33.837848631377263,38,37.161808352124091]
[null,"With no hearing difficulty",2245,260.34208265280512,1874,151.38031576133008,3237,208.7414668914636,471,78.492037812761623,3163,261.52055368555642,1737,119.09659944767525,6922,296.29883563726673,2770,217.86693186438367,931,84.899941107164494,1498,106.10372283760829,1509,118.44407963254221]
[null,"65 to 74 years:",665,155.66630977832037,356,87,492,123.04470732217619,136,38.288379438153292,741,141.44963768069539,293,86.977008456258133,1193,153.44380078712857,918,140.85808461000738,173,46.400431032480725,230,56.222771187482387,296,85.702975444263316]
[null,"With hearing difficulty",14,26.40075756488817,41,32.449961479175904,29,27.658633371878661,3,11.704699910719626,59,44.944410108488462,14,17,118,58.523499553598128,39,33.015148038438355,8,13.601470508735444,15,17.029386365926403,16,21.095023109728988]
[null,"With no hearing difficulty",651,156.34896865665601,315,89.095454429504983,463,118.86967653695369,133,37.536648758246919,682,132.94359706281458,279,86.977008456258133,1075,151.32085117392117,879,140.85808461000738,165,45.607017003965517,215,57.489129407219238,280,87.367041840730764]
[null,"75 years and over:",380,129.00387591076478,214,72.346388990743691,382,119.63277142990545,82,31.11269837220809,601,156.63013758533191,189,70.007142492748557,1183,156.84705926475002,471,116.8289347721702,167,62.241465278381739,204,53.851648071345039,320,127.47548783981962]
[null,"With hearing difficulty",99,66.887966032762577,73,37.443290453698111,139,93.813645062965122,23,17.4928556845359,181,83.486525858967212,39,29.546573405388315,228,71.421285342676384,120,71.589105316381762,50,51.35172830587107,59,33.286633954186478,41,27.294688127912362]
[null,"With no hearing difficulty",281,118.10588469674151,141,59.405386961116584,243,91.706052144883003,59,25.612496949731394,420,142.20056258679148,150,67.208630398186216,955,150.86417732516887,351,95.425363504678359,117,34.655446902326915,145,51.884487084291386,279,123.10970717209915]

{"sheet":"ACS_Table_B18103","index":29,"n_rows":156,"n_cols":24,"rows_kept":156,"cut":false,"hidden":true,"merged":[]}
["B18103. SEX BY AGE BY VISION DIFFICULTY\n\n\n"]
["Universe:  Civilian non-institutionalized population"]
["Data Set: 2018-2022 American Community Survey 5-Year Estimates"]
[]
[null,null,"Alton",null,"Barnstead",null,"Belmont",null,"Center Harbor",null,"Gilford",null,"Gilmanton",null,"Laconia",null,"Meredith",null,"New Hampton",null,"Sanbornton",null,"Tilton"]
[null,null,"Estimate","Margin Of Error","Estimate","Margin Of Error","Estimate","Margin Of Error","Estimate","Margin Of Error","Estimate","Margin Of Error","Estimate","Margin Of Error","Estimate","Margin Of Error","Estimate","Margin Of Error","Estimate","Margin Of Error","Estimate","Margin Of Error","Estimate","Margin Of Error"]
[null,"Total:",5897,17,4926,30,7353,20,820,181,7725,20,3960,27,16394,103,6640,36,2594,182,3047,21,3744,22]
[null,"Male:",2894,196,2219,150,3459,236,408,104,3749,264,2079,181,8098,300,3371,249,1335,129,1637,138,1861,146]
[null,"Under 5 years:",117,69,117,64,31,47,5,8,216,122,160,89,311,118,21,24,43,30,75,60,178,61]
[null,"With vision difficulty",0,17,0,12,0,17,0,12,0,17,0,12,0,19,0,17,0,12,0,12,0,12]
[null,"With no vision difficulty",117,69,117,64,31,47,5,8,216,122,160,89,311,118,21,24,43,30,75,60,178,61]
[null,"5 to 17  years:",478,154,307,101,706,202,49,31,490,179,271,119,1233,260,353,99,83,42,279,63,230,121]
[null,"With vision difficulty",0,17,0,12,0,17,0,12,18,31,0,12,0,19,0,17,0,12,0,12,0,12]
[null,"With no vision difficulty",478,154,307,101,706,202,49,31,472,180,271,119,1233,260,353,99,83,42,279,63,230,121]
[null,"18 to 34  years:",436,198,333,128,406,155,26,28,703,206,355,139,1777,277,561,197,340,116,369,127,352,134]
[null,"With vision difficulty",0,17,0,12,0,17,0,12,46,70,0,12,30,55,0,17,23,35,56,84,0,12]
[null,"With no vision difficulty",436,198,333,128,406,155,26,28,657,197,355,139,1747,265,561,197,317,115,313,112,352,134]
[null,"35 to 64  years:",1204,179,1054,120,1704,207,118,40,1656,228,927,134,3192,300,1365,210,513,63,611,140,820,161]
[null,"With vision difficulty",44,67,30,19,61,92,0,12,4,6,33,53,124,127,48,65,6,9,43,45,67,72]
[null,"With no vision difficulty",1160,171,1024,125,1643,199,118,40,1652,227,894,121,3068,296,1317,208,507,62,568,145,753,165]
[null,"65 to 74  years:",317,128,191,89,493,155,130,44,490,147,212,72,1245,214,602,141,235,76,235,92,192,78]
[null,"With vision difficulty",8,12,16,26,23,31,0,12,28,46,0,12,98,100,13,20,6,9,0,12,0,12]
[null,"With no vision difficulty",309,128,175,84,470,150,130,44,462,149,212,72,1147,201,589,146,229,76,235,92,192,78]
[null,"75  years and Older:",342,112,217,88,119,60,80,48,194,78,154,114,340,80,469,132,121,46,68,39,89,47]
[null,"With vision difficulty",34,47,34,45,0,17,2,3,3,7,21,34,27,21,34,35,20,20,12,21,0,12]
[null,"With no vision difficulty",308,111,183,76,119,60,78,48,191,77,133,114,313,86,435,130,101,40,56,31,89,47]
[null,"Female:",3003,196,2707,145,3894,234,412,101,3976,266,1881,179,8296,293,3269,250,1259,120,1410,132,1883,148]
[null,"Under 5 years:",90,99,61,42,193,99,5,9,283,114,107,59,416,151,87,40,24,21,23,28,60,39]
[null,"With vision difficulty",0,17,0,12,0,17,0,12,0,17,0,12,0,19,0,17,0,12,0,12,0,12]
[null,"With no vision difficulty",90,99,61,42,193,99,5,9,283,114,107,59,416,151,87,40,24,21,23,28,60,39]
[null,"5 to 17  years:",264,110,537,145,668,211,29,22,535,207,283,125,1136,229,376,141,182,89,162,99,194,123]
[null,"With vision difficulty",0,17,0,12,0,17,0,12,0,17,0,12,64,93,0,17,0,12,0,12,0,12]
[null,"With no vision difficulty",264,110,537,145,668,211,29,22,535,207,283,125,1072,231,376,141,182,89,162,99,194,123]
[null,"18 to 34  years:",561,184,473,126,573,188,29,22,521,189,306,100,1523,279,654,175,203,92,256,121,342,120]
[null,"With vision difficulty",0,17,0,12,0,17,0,12,78,108,0,12,0,19,0,17,0,12,0,12,0,12]
[null,"With no vision difficulty",561,184,473,126,573,188,29,22,443,169,306,100,1523,279,654,175,203,92,256,121,342,120]
[null,"35 to 64  years:",1418,228,1077,129,1481,192,171,65,1765,225,874,120,3421,289,1173,171,543,67,608,113,893,172]
[null,"With vision difficulty",0,17,9,14,0,17,0,12,117,114,0,12,63,42,22,27,0,12,40,52,0,12]
[null,"With no vision difficulty",1418,228,1068,128,1481,192,171,65,1648,216,874,120,3358,294,1151,170,543,67,568,110,893,172]
[null,"65 to 74  years:",384,128,266,126,544,186,146,47,594,202,232,90,1153,214,651,194,202,84,232,110,197,63]
[null,"With vision difficulty",19,24,22,24,0,17,2,4,0,17,30,45,70,81,52,82,0,12,13,18,10,17]
[null,"With no vision difficulty",365,130,244,122,544,186,144,47,594,202,202,81,1083,202,599,189,202,84,219,106,187,62]
[null,"75  years and Older:",286,101,293,138,435,196,32,22,278,103,79,47,647,176,328,90,105,45,129,62,197,110]
[null,"With vision difficulty",53,72,0,12,34,42,6,12,4,7,0,12,136,109,85,61,3,5,24,37,26,46]
[null,"With no vision difficulty",233,87,293,138,401,186,26,19,274,101,79,47,511,121,243,78,102,45,105,50,171,99]
[]
[]
[{"$f":"A1& \"-Calculated\"","v":"B18103. SEX BY AGE BY VISION DIFFICULTY\n\n\n-Calculated"}]
[{"$f":"A2","v":"Universe:  Civilian non-institutionalized population"}]
[{"$f":"A3","v":"Data Set: 2018-2022 American Community Survey 5-Year Estimates"}]
[]
[]
[null,null,"Alton",null,"Barnstead",null,"Belmont",null,"Center Harbor",null,"Gilford",null,"Gilmanton",null,"Laconia",null,"Meredith",null,"New Hampton",null,"Sanbornton",null,"Tilton"]
[null,null,"Estimate","Margin Of Error","Estimate","Margin Of Error","Estimate","Margin Of Error","Estimate","Margin Of Error","Estimate","Margin Of Error","Estimate","Margin Of Error","Estimate","Margin Of Error","Estimate","Margin Of Error","Estimate","Margin Of Error","Estimate","Margin Of Error","Estimate","Margin Of Error"]
[null,"Total",{"$f":"C7","v":5897},17,4926,30,7353,20,820,181,7725,20,3960,27,16394,103,6640,36,2594,182,3047,21,3744,22]
[null,"Under 5 years:",{"$f":"C28+C9","v":207},{"$f":"SQRT((D28^2)+(D9^2))","v":120.6731121667126},{"$f":"E28+E9","v":178},{"$f":"SQRT((F28^2)+(F9^2))","v":76.550636836018555},{"$f":"G28+G9","v":224},{"$f":"SQRT((H28^2)+(H9^2))","v":109.59014554237986},{"$f":"I28+I9","v":10},{"$f":"SQRT((J28^2)+(J9^2))","v":12.041594578792296},{"$f":"K28+K9","v":499},{"$f":"SQRT((L28^2)+(L9^2))","v":166.97305171793442},{"$f":"M28+M9","v":267},{"$f":"SQRT((N28^2)+(N9^2))","v":106.78014796768171},{"$f":"O28+O9","v":727},{"$f":"SQRT((P28^2)+(P9^2))","v":191.637678967368},{"$f":"Q28+Q9","v":108},{"$f":"SQRT((R28^2)+(R9^2))","v":46.647615158762406},{"$f":"S28+S9","v":67},{"$f":"SQRT((T28^2)+(T9^2))","v":36.61966684720111},{"$f":"U28+U9","v":98},{"$f":"SQRT((V28^2)+(V9^2))","v":66.211781428987393},{"$f":"W28+W9","v":238},{"$f":"SQRT((X28^2)+(X9^2))","v":72.401657439591816}]
[null,"With vision difficulty",{"$f":"C29+C10","v":0},{"$f":"SQRT((D29^2)+(D10^2))","v":24.041630560342615},{"$f":"E29+E10","v":0},{"$f":"SQRT((F29^2)+(F10^2))","v":16.970562748477139},{"$f":"G29+G10","v":0},{"$f":"SQRT((H29^2)+(H10^2))","v":24.041630560342615},{"$f":"I29+I10","v":0},{"$f":"SQRT((J29^2)+(J10^2))","v":16.970562748477139},{"$f":"K29+K10","v":0},{"$f":"SQRT((L29^2)+(L10^2))","v":24.041630560342615},{"$f":"M29+M10","v":0},{"$f":"SQRT((N29^2)+(N10^2))","v":16.970562748477139},{"$f":"O29+O10","v":0},{"$f":"SQRT((P29^2)+(P10^2))","v":26.870057685088806},{"$f":"Q29+Q10","v":0},{"$f":"SQRT((R29^2)+(R10^2))","v":24.041630560342615},{"$f":"S29+S10","v":0},{"$f":"SQRT((T29^2)+(T10^2))","v":16.970562748477139},{"$f":"U29+U10","v":0},{"$f":"SQRT((V29^2)+(V10^2))","v":16.970562748477139},{"$f":"W29+W10","v":0},{"$f":"SQRT((X29^2)+(X10^2))","v":16.970562748477139}]
[null,"With no vision difficulty",207,120.6731121667126,178,76.550636836018555,224,109.59014554237986,10,12.041594578792296,499,166.97305171793442,267,106.78014796768171,727,191.637678967368,108,46.647615158762406,67,36.61966684720111,98,66.211781428987393,238,72.401657439591816]
[null,"5 to 17 years:",742,189.25115587493778,844,176.70880000724355,1374,292.10443337957059,78,38.013155617496423,1025,273.66037345585858,554,172.58621034138272,2369,346.46933486240886,729,172.28464818433474,265,98.412397592986224,441,117.34564329364768,424,172.53985046939155]
[null,"With vision difficulty",0,24.041630560342615,0,16.970562748477139,0,24.041630560342615,0,16.970562748477139,18,35.355339059327378,0,16.970562748477139,64,94.921019800674287,0,24.041630560342615,0,16.970562748477139,0,16.970562748477139,0,16.970562748477139]
[null,"With no vision difficulty",742,189.25115587493778,844,176.70880000724355,1374,292.10443337957059,78,38.013155617496423,1007,274.31551177430708,554,172.58621034138272,2305,347.79447954215721,729,172.28464818433474,265,98.412397592986224,441,117.34564329364768,424,172.53985046939155]
[null,"18 to 34 years:",997,270.29613389761977,806,179.61069010501575,979,243.65754656894993,55,35.608987629529715,1224,279.56573466717987,661,171.2337583538947,3300,393.15391388106514,1215,263.50332066218823,543,148.05404418657398,625,175.41379649275024,694,179.87773625437919]
[null,"With vision difficulty",0,24.041630560342615,0,16.970562748477139,0,24.041630560342615,0,16.970562748477139,124,128.70120434556935,0,16.970562748477139,30,58.189346103904619,0,24.041630560342615,23,37,56,84.852813742385706,0,16.970562748477139]
[null,"With no vision difficulty",997,270.29613389761977,806,179.61069010501575,979,243.65754656894993,55,35.608987629529715,1100,259.55731544304427,661,171.2337583538947,3270,384.79345108772316,1215,263.50332066218823,520,147.27185746095552,569,164.87874332369228,694,179.87773625437919]
[null,"35 to 64 years:",2622,289.8706608127149,2131,176.18456232031227,3185,282.33490751233722,289,76.321687612368734,3421,320.32639604003913,1801,179.87773625437919,6613,416.55851929830942,2538,270.81543530604011,1056,91.967385523347346,1219,179.91386828146406,1713,235.59499145779819]
[null,"With vision difficulty",44,69.123078635141823,39,23.600847442411894,61,93.557468969612472,0,16.970562748477139,121,114.15778554264269,33,54.341512676774101,187,133.76471881628578,70,70.384657419071104,6,15,83,68.767724987816777,67,72.993150363578636]
[null,"With no vision difficulty",2578,285,2092,178.91059219621403,3124,276.52305509667724,289,76.321687612368734,3300,313.34485794408693,1768,170.41420128616042,6426,417.19539786531681,2468,268.63357943488745,1050,91.285267157411553,1136,182.00274723201295,1646,238.3463865889307]
[null,"65 to 74 years:",701,181.01933598375618,457,154.26276284314372,1037,242.11773995310628,276,64.381674411279491,1084,249.8259394058191,444,115.25623627379127,2398,302.64170234784234,1253,239.82702099638396,437,113.27841806805037,467,143.40153416194681,389,100.26464980241042]
[null,"With vision difficulty",27,26.832815729997478,38,35.383612025908263,23,35.355339059327378,2,12.649110640673518,28,49.040799340956916,30,46.572524088780071,168,128.68954891520912,65,84.403791384036765,6,15,13,21.633307652783937,10,20.808652046684813]
[null,"With no vision difficulty",674,182.43903091169938,419,148.12157169028418,1014,238.94769302087852,274,64.381674411279491,1056,251.00796800101784,414,108.37435120913067,2230,284.96491012052695,1188,238.82420312857741,431,113.27841806805037,454,140.356688476182,379,99.639349656649202]
[null,"75 years and over:",628,150.81445554057476,510,163.67040050051813,554,204.97804760510331,112,52.801515129776341,472,129.20139318134306,233,123.30855606972291,987,193.32873557751316,797,159.76232346833217,226,64.350602172784676,197,73.246160308919954,286,119.6202324023825]
[null,"With vision difficulty",87,85.982556370463882,34,46.572524088780071,34,45.310043036836767,8,12.369316876852981,7,9.8994949366116654,21,36.055512754639892,163,111.00450441310929,119,70.327803890068964,23,20.615528128088304,36,42.544094772365298,26,47.539457296018853]
[null,"With no vision difficulty",541,141.03191128251791,476,157.54364474646383,520,195.43796969882797,104,51.623637996561229,465,127.00393694685216,212,123.30855606972291,824,148.44864431849825,678,151.6047492659778,203,60.207972893961475,161,58.830264320330912,260,109.59014554237986]
[]
[]
[]
[]
[]
[]
[]
[]
[]
[]
[]
[]
[]
[]
[]
[]
[]
[]
[]
[]
[]
[]
[]
[]
[]
[]
["B18103. SEX BY AGE BY VISION DIFFICULTY\n\n\n-Calculated"]
["Universe:  Civilian non-institutionalized population"]
["Data Set: 2013-2017 American Community Survey 5-Year Estimates"]
[]
[]
[null,null,"Alton",null,"Barnstead",null,"Belmont",null,"Center Harbor",null,"Gilford",null,"Gilmanton",null,"Laconia",null,"Meredith",null,"New Hampton",null,"Sanbornton",null,"Tilton"]
[null,null,"Estimate","Margin Of Error","Estimate","Margin Of Error","Estimate","Margin Of Error","Estimate","Margin Of Error","Estimate","Margin Of Error","Estimate","Margin Of Error","Estimate","Margin Of Error","Estimate","Margin Of Error","Estimate","Margin Of Error","Estimate","Margin Of Error","Estimate"]
[null,"Total",5256,19,4615,16,7268,19,1000,178,7111,23,15762,173,15694,177,6334,33,2276,176,2973,16,3294,143]
[null,"Under 5 years:",286,135.07405376311175,185,93.493315269060815,212,134.34656675925888,76,48.166378315169183,286,176.81628884240274,676,163.3431969810803,914,214.97906874856446,499,186.23103930333417,95,55.470712993434653,122,46.61544808322666,160,91.301697684106614]
[null,"With vision difficulty",0,22.627416997969522,0,15.556349186104045,20,37.576588456111871,0,15.556349186104045,0,22.627416997969522,0,25.45584412271571,0,24.041630560342615,0,22.627416997969522,0,15.556349186104045,0,15.556349186104045,0,15.556349186104045]
[null,"With no vision difficulty",286,135.07405376311175,185,93.493315269060815,192,128.4562182223967,76,48.166378315169183,286,176.81628884240274,676,163.3431969810803,914,214.97906874856446,499,186.23103930333417,95,55.470712993434653,122,46.61544808322666,160,91.301697684106614]
[null,"5 to 17 years:",955,192.4162155328911,729,150.81445554057476,1207,191.04973174542801,40,21.931712199461309,1124,213.55093069335942,2043,282.1364917907643,2170,313.26027517066382,866,172.42969581832475,406,89.805345052507874,452,84.723078319900537,460,132.23085872821065]
[null,"With vision difficulty",60,61.554853586049575,0,15.556349186104045,15,28.0178514522438,0,15.556349186104045,0,22.627416997969522,21,24.758836806279895,20,22.627416997969522,0,22.627416997969522,0,15.556349186104045,0,15.556349186104045,0,15.556349186104045]
[null,"With no vision difficulty",895,185.45619428857049,729,150.81445554057476,1192,191.73158320944412,40,21.931712199461309,1124,213.55093069335942,2022,281.46047679914136,2150,315.32998588779975,866,172.42969581832475,406,89.805345052507874,452,84.723078319900537,460,132.23085872821065]
[null,"18 to 34 years:",410,151.74320413119,941,179.61069010501575,1294,284.86136979239569,192,86.95401083331349,1132,225.57703783851761,3518,334.81935427928892,3299,323.44551318576055,1089,192.87560758167425,270,91.285267157411553,395,83.240615086627031,682,133.60014970051492]
[null,"With vision difficulty",0,22.627416997969522,0,15.556349186104045,31,40.311288741492746,0,15.556349186104045,0,22.627416997969522,12,19.697715603592208,6,20.248456731316587,0,22.627416997969522,5,13.038404810405298,0,15.556349186104045,0,15.556349186104045]
[null,"With no vision difficulty",410,151.74320413119,941,179.61069010501575,1263,281.11385593741193,192,86.95401083331349,1132,225.57703783851761,3506,334.81935427928892,3293,323.44551318576055,1089,192.87560758167425,265,89.827612681179502,395,83.240615086627031,682,133.60014970051492]
[null,"35 to 64 years:",2386,215.72436116489024,2168,156.23699945915499,3410,239.8207664069148,419,77.103826104804938,2757,215.92822881689185,6575,347.36868022318879,6611,358.81053496239485,2436,199.25109786397664,1105,101.13851887386922,1474,89.643739324059879,1427,153.63918770938616]
[null,"With vision difficulty",16,32.249030993194197,11,21.095023109728988,29,39.395431207184416,16,35.735136770411273,10,26.40075756488817,156,78.006409993025571,168,73.600271738628791,28,24.207436873820409,17,25.495097567963924,26,23.706539182259394,79,65.76473218982953]
[null,"With no vision difficulty",2370,217.90364843205356,2157,159.80613254815975,3381,239.05857022913861,403,66.708320320631671,2747,213.71476317746513,6419,348.28293096274473,6443,352.18461068025107,2408,201.2212712413874,1088,105.38026380684383,1448,89.643739324059879,1348,150.20652449211386]
[null,"65 to 74 years:",751,169.9941175452845,336,86.556340033529608,758,159.02201105507376,118,40.224370722237531,1150,187.1095935541521,1800,185.52627846210896,1599,178.40403582878949,873,113.27841806805037,244,59.405386961116584,344,58.051701094799967,377,94.921019800674287]
[null,"With vision difficulty",30,33.941125496954278,0,15.556349186104045,13,26.40075756488817,0,15.556349186104045,0,22.627416997969522,66,51.078371156488537,31,36.235341863986875,15,23.345235059857504,9,9.2195444572928871,13,11.401754250991379,0,15.556349186104045]
[null,"With no vision difficulty",721,167.83622970026465,336,86.556340033529608,745,157.11460785044781,118,40.224370722237531,1150,187.1095935541521,1734,192.4162155328911,1568,179.62182495454164,858,111.28791488746656,235,58.821764679410968,331,55.97320787662612,377,94.921019800674287]
[null,"75 years and over:",468,143.17821063276352,256,70.007142492748557,387,121.16517651536682,155,45.486261662176638,662,134.27211177307072,1150,153.44705927452634,1101,161.55494421403512,571,121.26417442921878,156,44.045431091090478,186,57.982756057296896,188,65.053823869162372]
[null,"With vision difficulty",42,38.418745424597091,9,17.804493814764857,0,22.627416997969522,3,11.704699910719626,19,17.691806012954132,151,76.05918747922567,175,79.649231006959511,82,66.603303221386852,14,11.661903789690601,5,13.038404810405298,14,21.95449840010015]
[null,"With no vision difficulty",426,142.42541907960108,247,68.622153857191051,387,121.16517651536682,152,45.486261662176638,643,133.45411196362591,999,134.61797799699713,926,138.95682782792647,489,103.07764064044152,142,44.204072210600685,181,56.586217403180434,174,62.289646009589745]
[]
[]
[]
[]
[]
["B18103. SEX BY AGE BY VISION DIFFICULTY\n\n\n-Calculated"]
["Universe:  Civilian non-institutionalized population"]
["Data Set: 2008-2012 American Community Survey 5-Year Estimates"]
[]
[]
[null,null,"Alton",null,"Barnstead",null,"Belmont",null,"Center Harbor",null,"Gilford",null,"Gilmanton",null,"Laconia",null,"Meredith",null,"New Hampton",null,"Sanbornton",null,"Tilton"]
[null,null,"Estimate","Margin Of Error","Estimate","Margin Of Error","Estimate","Margin Of Error","Estimate","Margin Of Error","Estimate","Margin Of Error","Estimate","Margin Of Error","Estimate","Margin Of Error","Estimate","Margin Of Error","Estimate","Margin Of Error","Estimate","Margin Of Error","Estimate"]
[null,"Total",5235,20,4586,23,7342,22,1034,141,7111,40,3761,26,15551,140,6184,50,2234,144,2958,18,3471,112]
[null,"Under 5 years:",229,116.18089343777659,396,98.290386101591849,431,178.39282496782207,41,26.870057685088806,252,97,181,76.400261779656233,833,177.49647883831386,172,110.98198051936178,70,29,244,87.367041840730764,159,68.01470429252781]
[null,"With vision difficulty",0,22.627416997969522,0,15.556349186104045,0,22.627416997969522,0,15.556349186104045,0,22.627416997969522,0,15.556349186104045,0,25.45584412271571,0,22.627416997969522,0,15.556349186104045,0,15.556349186104045,0,15.556349186104045]
[null,"With no vision difficulty",229,116.18089343777659,396,98.290386101591849,431,178.39282496782207,41,26.870057685088806,252,97,181,76.400261779656233,833,177.49647883831386,172,110.98198051936178,70,29,244,87.367041840730764,159,68.01470429252781]
[null,"5 to 17 years:",802,213.82469455140114,795,152.74161188098023,1555,288.82001315698329,140,44.294469180700204,1122,180.38015411901608,766,146.10270360263701,2179,294.61330587738223,1003,231.25094594401122,372,71.700767080973407,342,90.376988221560026,462,116.67476162392619]
[null,"With vision difficulty",0,22.627416997969522,0,15.556349186104045,0,22.627416997969522,0,15.556349186104045,0,22.627416997969522,0,15.556349186104045,0,25.45584412271571,0,22.627416997969522,0,15.556349186104045,0,15.556349186104045,0,15.556349186104045]
[null,"With no vision difficulty",802,213.82469455140114,795,152.74161188098023,1555,288.82001315698329,140,44.294469180700204,1122,180.38015411901608,766,146.10270360263701,2179,294.61330587738223,1003,231.25094594401122,372,71.700767080973407,342,90.376988221560026,462,116.67476162392619]
[null,"18 to 34 years:",757,183.17477992343814,869,132.94359706281458,1204,223.66492796144863,162,55.470712993434653,1194,213.66328650472454,567,114.62983904725679,3079,255.34486483969087,792,172.00290695217916,502,81.394102980498531,402,92.763139231054481,687,142.2708684165525]
[null,"With vision difficulty",0,22.627416997969522,0,15.556349186104045,0,22.627416997969522,0,15.556349186104045,20,35.777087639996637,0,15.556349186104045,0,25.45584412271571,0,22.627416997969522,0,15.556349186104045,0,15.556349186104045,0,15.556349186104045]
[null,"With no vision difficulty",757,183.17477992343814,869,132.94359706281458,1204,223.66492796144863,162,55.470712993434653,1174,211.62466774929618,567,114.62983904725679,3079,255.34486483969087,792,172.00290695217916,502,81.394102980498531,402,92.763139231054481,687,142.2708684165525]
[null,"35 to 64 years:",2402,257.37909783041823,1956,151.32085117392117,3278,205.37283169883986,473,79.195959492893323,3201,264.5467822522134,1765,119.75391434103521,7084,296.29883563726673,2828,219.20082116634509,950,86.371291526756735,1536,109.04127658827184,1547,114.86513831445988]
[null,"With vision difficulty",20,37.576588456111871,11,21.95449840010015,10,22.627416997969522,0,15.556349186104045,20,25.632011235952593,0,15.556349186104045,131,77.369244535538797,32,37.576588456111871,3,12.083045973594572,0,15.556349186104045,48,40.80441152620633]
[null,"With no vision difficulty",2382,256.12496949731394,1945,153.45683432157722,3268,205.37283169883986,473,79.195959492893323,3181,261.96373794859471,1765,119.75391434103521,6953,305.52250326285298,2796,217.42354978244651,947,86.371291526756735,1536,109.04127658827184,1499,116.38728452885221]
[null,"65 to 74 years:",665,155.66630977832037,356,87,492,123.04470732217619,136,38.288379438153292,741,141.44963768069539,293,86.977008456258133,1193,153.44380078712857,918,140.85808461000738,173,46.400431032480725,230,56.222771187482387,296,85.702975444263316]
[null,"With vision difficulty",12,24.839484696748443,15,20.248456731316587,24,25.45584412271571,0,15.556349186104045,0,22.627416997969522,0,15.556349186104045,9,22.803508501982758,0,22.627416997969522,8,8.0622577482985491,0,15.556349186104045,9,17.029386365926403]
[null,"With no vision difficulty",653,154.98709623707387,341,87,468,118.1397477566293,136,38.288379438153292,741,141.44963768069539,293,86.977008456258133,1184,152.02960238058901,918,140.85808461000738,165,46.61544808322666,230,56.222771187482387,287,86.53323061113575]
[null,"75 years and over:",380,129.00387591076478,214,72.346388990743691,382,119.63277142990545,82,31.11269837220809,601,156.63013758533191,189,70.007142492748557,1183,156.84705926475002,471,116.8289347721702,167,62.241465278381739,204,53.851648071345039,320,127.47548783981962]
[null,"With vision difficulty",58,58.694122363316758,0,15.556349186104045,73,66.843099868273612,2,11.704699910719626,74,50.119856344566671,11,20.248456731316587,118,54.918120870983927,86,67.94115100585212,11,8.9442719099991592,14,18.601075237738275,34,26.248809496813376]
[null,"With no vision difficulty",322,120.76837334335509,214,72.346388990743691,309,104.48444860360799,80,30.413812651491099,527,149.90663761154806,178,70.724818840347695,1065,156.48642113614844,385,100.42410069301094,156,62.241465278381739,190,52.354560450833695,286,121.69634341261039]

{"sheet":"ACS_Table_B18104","index":30,"n_rows":153,"n_cols":24,"rows_kept":153,"cut":false,"hidden":true,"merged":[]}
["B18104. SEX BY AGE BY COGNITIVE DIFFICULTY\n\n"]
["Universe:  Civilian non-institutionalized population 5 years and over"]
["Data Set: 2018-2022 American Community Survey 5-Year Estimates"]
[]
[null,null,"Alton",null,"Barnstead",null,"Belmont",null,"Center Harbor",null,"Gilford",null,"Gilmanton",null,"Laconia",null,"Meredith",null,"New Hampton",null,"Sanbornton",null,"Tilton"]
[null,null,"Estimate","Margin Of Error","Estimate","Margin Of Error","Estimate","Margin Of Error","Estimate","Margin Of Error","Estimate","Margin Of Error","Estimate","Margin Of Error","Estimate","Margin Of Error","Estimate","Margin Of Error","Estimate","Margin Of Error","Estimate","Margin Of Error","Estimate","Margin Of Error"]
[null,"Total:",5690,120,4748,80,7129,109,810,179,7226,204,3693,98,15667,226,6532,64,2527,183,2949,51,3506,86]
[null,"Male:",2777,203,2102,157,3428,235,403,102,3533,278,1919,167,7787,323,3350,252,1292,128,1562,116,1683,151]
[null,"5 to 17  years:",478,154,307,101,706,202,49,31,490,179,271,119,1233,260,353,99,83,42,279,63,230,121]
[null,"With cognitive difficulty",0,17,53,60,24,40,0,12,0,17,26,40,34,56,0,17,7,11,69,82,28,34]
[null,"With no cognitive difficulty",478,154,254,96,682,196,49,31,490,179,245,105,1199,255,353,99,76,41,210,88,202,116]
[null,"18 to 34  years:",436,198,333,128,406,155,26,28,703,206,355,139,1777,277,561,197,340,116,369,127,352,134]
[null,"With cognitive difficulty",0,17,16,24,0,17,0,12,88,85,0,12,65,59,64,61,0,12,116,114,0,12]
[null,"With no cognitive difficulty",436,198,317,125,406,155,26,28,615,192,355,139,1712,285,497,195,340,116,253,103,352,134]
[null,"35 to 64  years:",1204,179,1054,120,1704,207,118,40,1656,228,927,134,3192,300,1365,210,513,63,611,140,820,161]
[null,"With cognitive difficulty",51,59,63,31,148,130,16,19,106,98,11,19,412,193,107,81,6,9,49,56,74,75]
[null,"With no cognitive difficulty",1153,178,991,128,1556,203,102,34,1550,222,916,133,2780,296,1258,207,507,62,562,134,746,166]
[null,"65 to 74  years:",317,128,191,89,493,155,130,44,490,147,212,72,1245,214,602,141,235,76,235,92,192,78]
[null,"With cognitive difficulty",24,29,0,12,44,68,28,25,97,84,5,12,96,139,12,21,3,5,0,12,0,12]
[null,"With no cognitive difficulty",293,124,191,89,449,132,102,36,393,144,207,72,1149,207,590,142,232,76,235,92,192,78]
[null,"75  years and Older:",342,112,217,88,119,60,80,48,194,78,154,114,340,80,469,132,121,46,68,39,89,47]
[null,"With cognitive difficulty",26,38,15,17,14,16,8,7,18,20,0,12,41,27,23,24,42,26,14,17,0,12]
[null,"With no cognitive difficulty",316,117,202,92,105,60,72,50,176,73,154,114,299,83,446,131,79,36,54,34,89,47]
[null,"Female:",2913,211,2646,150,3701,227,407,100,3693,280,1774,180,7880,303,3182,255,1235,125,1387,134,1823,154]
[null,"5 to 17  years:",264,110,537,145,668,211,29,22,535,207,283,125,1136,229,376,141,182,89,162,99,194,123]
[null,"With cognitive difficulty",0,17,0,12,38,57,0,12,17,36,0,12,36,38,8,22,43,65,0,12,0,12]
[null,"With no cognitive difficulty",264,110,537,145,630,212,29,22,518,206,283,125,1100,234,368,140,139,62,162,99,194,123]
[null,"18 to 34  years:",561,184,473,126,573,188,29,22,521,189,306,100,1523,279,654,175,203,92,256,121,342,120]
[null,"With cognitive difficulty",0,17,0,12,63,70,15,18,18,34,23,32,243,113,57,63,13,18,0,12,0,12]
[null,"With no cognitive difficulty",561,184,473,126,510,182,14,15,503,184,283,101,1280,275,597,161,190,90,256,121,342,120]
[null,"35 to 64  years:",1418,228,1077,129,1481,192,171,65,1765,225,874,120,3421,289,1173,171,543,67,608,113,893,172]
[null,"With cognitive difficulty",0,17,9,14,82,91,0,12,0,17,16,28,208,112,103,67,98,53,34,33,54,63]
[null,"With no cognitive difficulty",1418,228,1068,128,1399,209,171,65,1765,225,858,115,3213,290,1070,168,445,68,574,109,839,158]
[null,"65 to 74  years:",384,128,266,126,544,186,146,47,594,202,232,90,1153,214,651,194,202,84,232,110,197,63]
[null,"With cognitive difficulty",0,17,5,10,53,50,6,7,0,17,7,14,14,22,14,17,33,50,0,12,0,12]
[null,"With no cognitive difficulty",384,128,261,126,491,182,140,49,594,202,225,88,1139,212,637,195,169,70,232,110,197,63]
[null,"75  years and Older:",286,101,293,138,435,196,32,22,278,103,79,47,647,176,328,90,105,45,129,62,197,110]
[null,"With cognitive difficulty",18,28,52,85,17,19,9,15,13,20,16,18,126,78,69,50,0,12,33,39,0,12]
[null,"With no cognitive difficulty",268,94,241,109,418,195,23,16,265,105,63,46,521,152,259,89,105,45,96,50,197,110]
[]
[]
[{"$f":"A1& \"-Calculated\"","v":"B18104. SEX BY AGE BY COGNITIVE DIFFICULTY\n\n-Calculated"}]
[{"$f":"A2","v":"Universe:  Civilian non-institutionalized population 5 years and over"}]
[{"$f":"A3","v":"Data Set: 2018-2022 American Community Survey 5-Year Estimates"}]
[]
[]
[null,null,"Alton",null,"Barnstead",null,"Belmont",null,"Center Harbor",null,"Gilford",null,"Gilmanton",null,"Laconia",null,"Meredith",null,"New Hampton",null,"Sanbornton",null,"Tilton"]
[null,null,"Estimate","Margin Of Error","Estimate","Margin Of Error","Estimate","Margin Of Error","Estimate","Margin Of Error","Estimate","Margin Of Error","Estimate","Margin Of Error","Estimate","Margin Of Error","Estimate","Margin Of Error","Estimate","Margin Of Error","Estimate","Margin Of Error","Estimate","Margin Of Error"]
[null,"Total:",{"$f":"C7","v":5690},120,4748,80,7129,109,810,179,7226,204,3693,98,15667,226,6532,64,2527,183,2949,51,3506,86]
[null,"5 to 17  years:",{"$f":"C25+C9","v":742},{"$f":"SQRT((D25^2)+(D9^2))","v":189.25115587493778},{"$f":"E25+E9","v":844},{"$f":"SQRT((F25^2)+(F9^2))","v":176.70880000724355},{"$f":"G25+G9","v":1374},{"$f":"SQRT((H25^2)+(H9^2))","v":292.10443337957059},{"$f":"I25+I9","v":78},{"$f":"SQRT((J25^2)+(J9^2))","v":38.013155617496423},{"$f":"K25+K9","v":1025},{"$f":"SQRT((L25^2)+(L9^2))","v":273.66037345585858},{"$f":"M25+M9","v":554},{"$f":"SQRT((N25^2)+(N9^2))","v":172.58621034138272},{"$f":"O25+O9","v":2369},{"$f":"SQRT((P25^2)+(P9^2))","v":346.46933486240886},{"$f":"Q25+Q9","v":729},{"$f":"SQRT((R25^2)+(R9^2))","v":172.28464818433474},{"$f":"S25+S9","v":265},{"$f":"SQRT((T25^2)+(T9^2))","v":98.412397592986224},{"$f":"U25+U9","v":441},{"$f":"SQRT((V25^2)+(V9^2))","v":117.34564329364768},{"$f":"W25+W9","v":424},{"$f":"SQRT((X25^2)+(X9^2))","v":172.53985046939155}]
[null,"With cognitive difficulty",0,24.041630560342615,53,61.188234163113421,62,69.634761434214738,0,16.970562748477139,17,39.812058474788763,26,41.761226035642203,70,67.675697262754525,8,27.802877548915689,50,65.924198895398035,69,82.87339742040264,28,36.055512754639892]
[null,"With no cognitive difficulty",742,189.25115587493778,791,173.89939620366712,1312,288.72131892189742,78,38.013155617496423,1008,272.90474528670256,528,163.24827717314508,2299,346.09391788934983,721,171.46719802924406,215,74.330343736592525,372,132.45754036671525,396,169.07099100673656]
[null,"18 to 34  years:",997,270.29613389761977,806,179.61069010501575,979,243.65754656894993,55,35.608987629529715,1224,279.56573466717987,661,171.2337583538947,3300,393.15391388106514,1215,263.50332066218823,543,148.05404418657398,625,175.41379649275024,694,179.87773625437919]
[null,"With cognitive difficulty",0,24.041630560342615,16,26.832815729997478,63,72.034713853808015,15,21.633307652783937,106,91.547801721286575,23,34.176014981270121,308,127.47548783981962,121,87.692645073575008,13,21.633307652783937,116,114.62983904725679,0,16.970562748477139]
[null,"With no cognitive difficulty",997,270.29613389761977,790,177.48521065147935,916,239.05857022913861,40,31.76476034853718,1118,265.93232221751458,638,171.81967291320282,2992,396.04292696625703,1094,252.87546342023774,530,146.81961721786362,509,158.90248582070703,694,179.87773625437919]
[null,"35 to 64  years:",2622,289.8706608127149,2131,176.18456232031227,3185,282.33490751233722,289,76.321687612368734,3421,320.32639604003913,1801,179.87773625437919,6613,416.55851929830942,2538,270.81543530604011,1056,91.967385523347346,1219,179.91386828146406,1713,235.59499145779819]
[null,"With cognitive difficulty",51,61.400325732035007,72,34.014702703389901,230,158.68522300453813,16,22.472205054244231,106,99.463561166891665,27,33.837848631377263,620,223.14345161801185,210,105.11898020814318,104,53.758720222862451,83,65,128,97.948966303887048]
[null,"With no cognitive difficulty",2571,289.25421345245775,2059,181.01933598375618,2955,291.35888522576414,273,73.355299740373226,3315,316.0838496348714,1774,175.82377541163197,5993,414.38629320960894,2328,266.59519875646674,952,92.021736562618727,1136,172.73389939441535,1585,229.17242417009948]
[null,"65 to 74  years:",701,181.01933598375618,457,154.26276284314372,1037,242.11773995310628,276,64.381674411279491,1084,249.8259394058191,444,115.25623627379127,2398,302.64170234784234,1253,239.82702099638396,437,113.27841806805037,467,143.40153416194681,389,100.26464980241042]
[null,"With cognitive difficulty",24,33.61547262794322,5,15.620499351813308,97,84.403791384036765,34,25.96150997149434,97,85.702975444263316,12,18.439088914585774,110,140.73023839957068,26,27.018512172212592,36,50.24937810560445,0,16.970562748477139,0,16.970562748477139]
[null,"With no cognitive difficulty",677,178.2133552795637,452,154.26276284314372,940,224.8288237748888,242,60.802960454241045,987,248.07257002740147,432,113.70136322841516,2288,296.29883563726673,1227,241.22396232547047,401,103.32473082471591,467,143.40153416194681,{"$f":"W36+W20","v":389},100.26464980241042]
[null,"75  years and Older:",628,150.81445554057476,510,163.67040050051813,554,204.97804760510331,112,52.801515129776341,472,129.20139318134306,233,123.30855606972291,987,193.32873557751316,797,159.76232346833217,226,64.350602172784676,197,73.246160308919954,{"$f":"W37+W21","v":286},119.6202324023825]
[null,"With cognitive difficulty",44,47.201694884823787,67,86.683331731077345,31,24.839484696748443,17,16.552945357246848,31,28.284271247461902,16,21.633307652783937,167,82.540898953185632,92,55.461698495448189,42,28.635642126552707,47,42.544094772365298,{"$f":"W38+W22","v":0},16.970562748477139]
[null,"With no cognitive difficulty",584,150.08331019803634,443,142.63590010933433,523,204.02205763103166,95,52.497618993626752,441,127.88275880665071,217,122.93087488503447,820,173.18487231857176,705,158.37297749300541,184,57.628118136895637,150,60.464865831323898,{"$f":"W39+W23","v":286},119.6202324023825]
[]
[]
[]
[]
[]
[]
[]
[]
[]
[]
[]
[]
[]
[]
[]
[]
[]
[]
[]
[]
[]
[]
[]
[]
[]
[]
[]
[]
[]
[]
[]
[]
[]
[]
[]
["B18104. SEX BY AGE BY COGNITIVE DIFFICULTY\n\n-Calculated"]
["Universe:  Civilian non-institutionalized population 5 years and over"]
["Data Set: 2013-2017 American Community Survey 5-Year Estimates"]
[]
[]
[null,null,"Alton",null,"Barnstead",null,"Belmont",null,"Center Harbor",null,"Gilford",null,"Gilmanton",null,"Laconia",null,"Meredith",null,"New Hampton",null,"Sanbornton",null,"Tilton"]
[null,null,"Estimate","Margin Of Error","Estimate","Margin Of Error","Estimate","Margin Of Error","Estimate","Margin Of Error","Estimate","Margin Of Error","Estimate","Margin Of Error","Estimate","Margin Of Error","Estimate","Margin Of Error","Estimate","Margin Of Error","Estimate","Margin Of Error","Estimate"]
[null,"Total:",4970,146,4430,101,7056,132,924,157,6825,196,15086,245,14780,290,5835,188,2181,173,2851,52,3134,166]
[null,"5 to 17  years:",955,192.4162155328911,729,150.81445554057476,1207,191.04973174542801,40,21.931712199461309,1124,213.55093069335942,2043,282.1364917907643,2170,313.26027517066382,866,172.42969581832475,406,89.805345052507874,452,84.723078319900537,460,132.23085872821065]
[null,"With cognitive difficulty",63,60.108235708594876,39,45.354161881794269,149,97,2,12.083045973594572,47,41.109609582188931,282,154.01298646542764,261,154.38264151127873,107,70.384657419071104,25,37.696153649941529,11,16.278820596099706,0,15.556349186104045]
[null,"With no cognitive difficulty",892,186.19613314996636,690,159.81239000778382,1058,202.3116407921205,38,21.023796041628639,1077,209.32271735289507,1761,250.63918289046507,1909,259.78837541352772,759,181.47451611727746,381,83.486525858967212,441,85.234969349440135,460,132.23085872821065]
[null,"18 to 34  years:",410,151.74320413119,941,179.61069010501575,1294,284.86136979239569,192,86.95401083331349,1132,225.57703783851761,3518,334.81935427928892,3299,323.44551318576055,1089,192.87560758167425,270,91.285267157411553,395,83.240615086627031,682,133.60014970051492]
[null,"With cognitive difficulty",30,39.66106403010388,67,45.354161881794269,147,127.94530081249565,0,15.556349186104045,44,52.497618993626752,223,97.637083119069061,232,106.40018796975878,133,64.381674411279491,25,27.313000567495326,54,36.359317925395686,68,66.91038783328041]
[null,"With no cognitive difficulty",380,146.49232061783991,874,173.31185764395926,1147,273.82110948573705,192,86.95401083331349,1088,224.85995641732211,3295,347.60466049810094,3067,334.70135942359121,956,192.87560758167425,245,84.811555816409836,341,78.10249675906654,614,128.84486796143648]
[null,"35 to 64  years:",2386,215.72436116489024,2168,156.23699945915499,3410,239.8207664069148,419,77.103826104804938,2757,215.92822881689185,6575,347.36868022318879,6611,358.81053496239485,2436,199.25109786397664,1105,101.13851887386922,1474,89.643739324059879,1427,153.63918770938616]
[null,"With cognitive difficulty",47,43.08131845707603,33,29.206163733020468,151,100.9554357129917,41,38.078865529319543,112,65.80273550544841,371,126.65701717630967,449,137.90576492663388,98,53.758720222862451,60,25.80697580112788,78,33.955853692699293,142,87.005746936624831]
[null,"With no cognitive difficulty",2339,220.83930809527547,2135,161.01242188104618,3259,258.86289807540982,378,65.192024052026483,2645,218.68699092538631,6204,349.05730188609436,6162,347.75278575447817,2338,197.49683541768459,1045,100.41912168506553,1396,92.417530804496181,1285,152.86922515666782]
[null,"65 to 74  years:",751,169.9941175452845,336,86.556340033529608,758,159.02201105507376,118,40.224370722237531,1150,187.1095935541521,1800,185.52627846210896,1599,178.40403582878949,873,113.27841806805037,244,59.405386961116584,344,58.051701094799967,377,94.921019800674287]
[null,"With cognitive difficulty",11,24.083189157584592,19,22.022715545545239,30,33.421549934136806,0,15.556349186104045,12,24.083189157584592,48,36.124783736376884,49,41.231056256176608,18,19.104973174542799,4,13.038404810405298,38,21.95449840010015,16,20.248456731316587]
[null,"With no cognitive difficulty",740,168.50519279832298,317,84.504437753291981,728,156.73225577397909,118,40.224370722237531,1138,187.1095935541521,1752,185.69868066305693,1550,177.88198334851114,855,112.60994627474076,240,59.405386961116584,306,54.451813560247928,361,94.921019800674287]
[null,"75  years and Older:",468,143.17821063276352,256,70.007142492748557,387,121.16517651536682,155,45.486261662176638,662,134.27211177307072,1150,153.44705927452634,1101,161.55494421403512,571,121.26417442921878,156,44.045431091090478,186,57.982756057296896,188,65.053823869162372]
[null,"With cognitive difficulty",13,26.40075756488817,20,22.203603311174518,17,31.384709652950431,15,18.601075237738275,59,39.962482405376171,124,65.436992595931542,104,63.906181234681831,99,69.426219830839131,0,15.556349186104045,9,10.63014581273465,32,22.803508501982758]
[null,"With no cognitive difficulty",455,142.52368224263643,236,67.882250993908556,370,119.85407794480753,140,43.829214001622255,603,133.80956617521784,1026,146.40013661195812,997,147.56693396557372,472,102.00490184299969,156,44.045431091090478,177,55.865910893853687,156,61.522353661088097]
[]
[]
[]
[]
[]
[]
[]
[]
["B18104. SEX BY AGE BY COGNITIVE DIFFICULTY\n\n-Calculated"]
["Universe:  Civilian non-institutionalized population 5 years and over"]
["Data Set: 2008-2012 American Community Survey 5-Year Estimates"]
[]
[]
[null,null,"Alton",null,"Barnstead",null,"Belmont",null,"Center Harbor",null,"Gilford",null,"Gilmanton",null,"Laconia",null,"Meredith",null,"New Hampton",null,"Sanbornton",null,"Tilton"]
[null,null,"Estimate","Margin Of Error","Estimate","Margin Of Error","Estimate","Margin Of Error","Estimate","Margin Of Error","Estimate","Margin Of Error","Estimate","Margin Of Error","Estimate","Margin Of Error","Estimate","Margin Of Error","Estimate","Margin Of Error","Estimate","Margin Of Error","Estimate"]
[null,"Total:",5006,112,4190,109,6911,181,993,139,6859,103,3580,79,14718,217,6012,120,2164,145,2714,98,3312,114]
[null,"5 to 17  years:",802,213.82469455140114,795,152.74161188098023,1555,288.82001315698329,140,44.294469180700204,1122,180.38015411901608,766,146.10270360263701,2179,294.61330587738223,1003,231.25094594401122,372,71.700767080973407,342,90.376988221560026,462,116.67476162392619]
[null,"With cognitive difficulty",0,22.627416997969522,44,31.906112267087632,67,62.769419305900861,3,12.083045973594572,50,42.059481689626182,20,26.40075756488817,86,69.289248805280025,9,21.931712199461309,30,21.377558326431949,0,15.556349186104045,11,23.706539182259394]
[null,"With no cognitive difficulty",802,213.82469455140114,751,147.78700890132393,1488,279.86603938313061,137,44.294469180700204,1072,184.5670609832643,746,143.53396810511441,2093,282.5261049885479,994,231.96982562393757,342,66.483080554378645,342,90.376988221560026,451,120.28299963003916]
[null,"18 to 34  years:",757,183.17477992343814,869,132.94359706281458,1204,223.66492796144863,162,55.470712993434653,1194,213.66328650472454,567,114.62983904725679,3079,255.34486483969087,792,172.00290695217916,502,81.394102980498531,402,92.763139231054481,687,142.2708684165525]
[null,"With cognitive difficulty",14,28.844410203711913,39,32.893768406797051,37,37.20215047547655,10,18.601075237738275,66,77.665951355790398,17,17.804493814764857,113,72.801098892805186,81,96.337946833010719,11,11.313708498984761,0,15.556349186104045,8,17.804493814764857]
[null,"With no cognitive difficulty",743,183.89671013914307,830,134.38005804433931,1167,220.78043391568917,152,53.851648071345039,1128,215.72436116489024,550,115.36463929644994,2966,256.16400996236769,711,144.27751037497146,491,82.134036793524274,402,92.763139231054481,679,140.07141035914503]
[null,"35 to 64  years:",2402,257.37909783041823,1956,151.32085117392117,3278,205.37283169883986,473,79.195959492893323,3201,264.5467822522134,1765,119.75391434103521,7084,296.29883563726673,2828,219.20082116634509,950,86.371291526756735,1536,109.04127658827184,1547,114.86513831445988]
[null,"With cognitive difficulty",37,39.560080889704963,27,26.92582403567252,99,68.963758598266665,3,11.704699910719626,56,42.638011210655684,35,28.319604517012593,520,147.8681845428556,80,57.008771254956898,14,13.928388277184119,18,14.142135623730951,53,38.013155617496423]
[null,"With no cognitive difficulty",2365,257.85654926722339,1929,149.21461054467824,3179,214.26385602802915,470,78.492037812761623,3145,261.61995336747538,1730,124.45079348883236,6564,311.15590947304855,2748,220.41097976280582,936,87.114866699088736,1518,106.21675950620975,1494,125.09996003196804]
[null,"65 to 74  years:",665,155.66630977832037,356,87,492,123.04470732217619,136,38.288379438153292,741,141.44963768069539,293,86.977008456258133,1193,153.44380078712857,918,140.85808461000738,173,46.400431032480725,230,56.222771187482387,296,85.702975444263316]
[null,"With cognitive difficulty",14,27.202941017470888,0,15.556349186104045,14,26.40075756488817,0,15.556349186104045,39,36.124783736376884,14,29.154759474226502,90,54.488530903301111,0,22.627416997969522,0,15.556349186104045,8,17.029386365926403,9,17.029386365926403]
[null,"With no cognitive difficulty",651,154.31137352768266,356,87,478,123.76186811776881,136,38.288379438153292,702,135.05924625881784,279,82.807004534640669,1103,146.50938536489735,918,140.85808461000738,173,46.400431032480725,222,56.222771187482387,287,86.53323061113575]
[null,"75  years and Older:",380,129.00387591076478,214,72.346388990743691,382,119.63277142990545,82,31.11269837220809,601,156.63013758533191,189,70.007142492748557,1183,156.84705926475002,471,116.8289347721702,167,62.241465278381739,204,53.851648071345039,320,127.47548783981962]
[null,"With cognitive difficulty",80,77.103826104804938,0,15.556349186104045,65,74.732857566133518,4,12.529964086141668,112,71.589105316381762,40,30.232432915661949,68,42.720018726587654,70,65.069193939989759,8,13.601470508735444,29,24.166091947189145,95,76.550636836018555]
[null,"With no cognitive difficulty",300,113.25193155085701,214,72.346388990743691,317,102.55242561733974,78,30.413812651491099,489,151.21177202850313,149,70.724818840347695,1115,155.70806016388491,401,101.04454463255303,159,62.241465278381739,175,54.708317466359723,225,95.210293561148106]

{"sheet":"ACS_Table_B18105","index":31,"n_rows":153,"n_cols":24,"rows_kept":153,"cut":false,"hidden":true,"merged":[]}
["B18105. SEX BY AGE BY AMBULATORY DIFFICULTY\n\n"]
["Universe:  Civilian non-institutionalized population 5 years and over"]
["Data Set: 2018-2022 American Community Survey 5-Year Estimates"]
[]
[null,null,"Alton",null,"Barnstead",null,"Belmont",null,"Center Harbor",null,"Gilford",null,"Gilmanton",null,"Laconia",null,"Meredith",null,"New Hampton",null,"Sanbornton",null,"Tilton"]
[null,null,"Estimate","Margin Of Error","Estimate","Margin Of Error","Estimate","Margin Of Error","Estimate","Margin Of Error","Estimate","Margin Of Error","Estimate","Margin Of Error","Estimate","Margin Of Error","Estimate","Margin Of Error","Estimate","Margin Of Error","Estimate","Margin Of Error","Estimate","Margin Of Error"]
[null,"Total:",5690,120,4748,80,7129,109,810,179,7226,204,3693,98,15667,226,6532,64,2527,183,2949,51,3506,86]
[null,"Male:",2777,203,2102,157,3428,235,403,102,3533,278,1919,167,7787,323,3350,252,1292,128,1562,116,1683,151]
[null,"5 to 17  years:",478,154,307,101,706,202,49,31,490,179,271,119,1233,260,353,99,83,42,279,63,230,121]
[null,"With ambulatory difficulty",0,17,0,12,0,17,0,12,0,17,0,12,0,19,0,17,0,12,0,12,0,12]
[null,"With no ambulatory difficulty",478,154,307,101,706,202,49,31,490,179,271,119,1233,260,353,99,83,42,279,63,230,121]
[null,"18 to 34  years:",436,198,333,128,406,155,26,28,703,206,355,139,1777,277,561,197,340,116,369,127,352,134]
[null,"With ambulatory difficulty",0,17,0,12,0,17,0,12,17,27,0,12,102,62,0,17,0,12,0,12,34,42]
[null,"With no ambulatory difficulty",436,198,333,128,406,155,26,28,686,204,355,139,1675,296,561,197,340,116,369,127,318,118]
[null,"35 to 64  years:",1204,179,1054,120,1704,207,118,40,1656,228,927,134,3192,300,1365,210,513,63,611,140,820,161]
[null,"With ambulatory difficulty",112,61,25,38,68,95,3,6,23,29,75,77,246,150,125,99,8,11,148,126,87,84]
[null,"With no ambulatory difficulty",1092,179,1029,119,1636,202,115,40,1633,230,852,117,2946,294,1240,213,505,64,463,128,733,162]
[null,"65 to 74  years:",317,128,191,89,493,155,130,44,490,147,212,72,1245,214,602,141,235,76,235,92,192,78]
[null,"With ambulatory difficulty",35,28,0,12,4,7,0,12,103,83,27,37,212,172,79,71,37,60,12,19,19,22]
[null,"With no ambulatory difficulty",282,116,191,89,489,156,130,44,387,144,185,68,1033,186,523,128,198,63,223,90,173,74]
[null,"75  years and Older:",342,112,217,88,119,60,80,48,194,78,154,114,340,80,469,132,121,46,68,39,89,47]
[null,"With ambulatory difficulty",59,55,32,24,19,23,30,39,42,37,45,42,75,39,178,116,31,27,26,28,30,27]
[null,"With no ambulatory difficulty",283,91,185,90,100,58,50,28,152,62,109,114,265,71,291,110,90,37,42,26,59,36]
[null,"Female:",2913,211,2646,150,3701,227,407,100,3693,280,1774,180,7880,303,3182,255,1235,125,1387,134,1823,154]
[null,"5 to 17  years:",264,110,537,145,668,211,29,22,535,207,283,125,1136,229,376,141,182,89,162,99,194,123]
[null,"With ambulatory difficulty",0,17,0,12,0,17,0,12,0,17,0,12,0,19,0,17,0,12,0,12,0,12]
[null,"With no ambulatory difficulty",264,110,537,145,668,211,29,22,535,207,283,125,1136,229,376,141,182,89,162,99,194,123]
[null,"18 to 34  years:",561,184,473,126,573,188,29,22,521,189,306,100,1523,279,654,175,203,92,256,121,342,120]
[null,"With ambulatory difficulty",0,17,0,12,0,17,6,9,18,34,0,12,17,21,50,61,0,12,0,12,0,12]
[null,"With no ambulatory difficulty",561,184,473,126,573,188,23,20,503,184,306,100,1506,283,604,157,203,92,256,121,342,120]
[null,"35 to 64  years:",1418,228,1077,129,1481,192,171,65,1765,225,874,120,3421,289,1173,171,543,67,608,113,893,172]
[null,"With ambulatory difficulty",22,37,46,52,142,86,4,7,55,53,14,16,188,110,59,49,67,37,122,91,69,73]
[null,"With no ambulatory difficulty",1396,232,1031,113,1339,181,167,66,1710,233,860,122,3233,280,1114,161,476,64,486,163,824,157]
[null,"65 to 74  years:",384,128,266,126,544,186,146,47,594,202,232,90,1153,214,651,194,202,84,232,110,197,63]
[null,"With ambulatory difficulty",12,20,23,25,64,61,2,4,25,31,76,69,133,63,47,53,41,48,17,29,34,22]
[null,"With no ambulatory difficulty",372,129,243,123,480,183,144,47,569,195,156,64,1020,220,604,185,161,69,215,108,163,58]
[null,"75  years and Older:",286,101,293,138,435,196,32,22,278,103,79,47,647,176,328,90,105,45,129,62,197,110]
[null,"With ambulatory difficulty",56,44,74,90,176,89,12,16,27,27,31,39,192,127,159,77,14,11,57,44,80,66]
[null,"With no ambulatory difficulty",230,94,219,107,259,185,20,15,251,102,48,30,455,124,169,77,91,42,72,41,117,85]
[]
[]
["B18105. SEX BY AGE BY AMBULATORY DIFFICULTY\n\n-Calculated"]
["Universe:  Civilian non-institutionalized population 5 years and over"]
["Data Set: 2010-2014 American Community Survey 5-Year Estimates"]
[]
[]
[null,null,"Alton",null,"Barnstead",null,"Belmont",null,"Center Harbor",null,"Gilford",null,"Gilmanton",null,"Laconia",null,"Meredith",null,"New Hampton",null,"Sanbornton",null,"Tilton"]
[null,null,"Estimate","Margin Of Error","Estimate","Margin Of Error","Estimate","Margin Of Error","Estimate","Margin Of Error","Estimate","Margin Of Error","Estimate","Margin Of Error","Estimate","Margin Of Error","Estimate","Margin Of Error","Estimate","Margin Of Error","Estimate","Margin Of Error","Estimate"]
[null,"Total:",4997,140,4468,80,6745,223,967,134,6875,127,3579,94,14739,249,5990,149,2167,145,2848,69,3206,141]
[null,"5 to 17  years:",661,184.91078930121952,729,181.63975335812367,1285,265.37709019431196,95,43.324358044868937,1078,203.76947759662141,619,113.22543883774529,2491,337.61516553614706,1068,236.78260071213003,356,80.430093870391573,380,78.230428862431779,493,135.87126259809321]
[null,"With ambulatory difficulty",0,21.213203435596427,0,15.556349186104045,54,83.360662185469707,0,15.556349186104045,26,40.853396431630991,0,15.556349186104045,0,24.041630560342615,0,21.213203435596427,4,12.529964086141668,0,15.556349186104045,0,15.556349186104045]
[null,"With no ambulatory difficulty",661,184.91078930121952,729,181.63975335812367,1231,268.1063221932672,95,43.324358044868937,1052,205.9732992404598,619,113.22543883774529,2491,337.61516553614706,1068,236.78260071213003,352,80.430093870391573,380,78.230428862431779,493,135.87126259809321]
[null,"18 to 34  years:",973,261.03831136444319,847,162.78820596099706,1400,222.60727750906977,168,57.008771254956898,1295,243.50770008359078,584,118.72657663724664,2819,239.71858501167571,854,179.44915714485816,458,94.847245611035007,343,73.552702193733168,747,142.42541907960108]
[null,"With ambulatory difficulty",0,21.213203435596427,0,15.556349186104045,0,21.213203435596427,11,20.248456731316587,0,21.213203435596427,0,15.556349186104045,139,93.941471140279674,0,21.213203435596427,14,21.95449840010015,0,15.556349186104045,0,15.556349186104045]
[null,"With no ambulatory difficulty",973,261.03831136444319,847,162.78820596099706,1400,222.60727750906977,157,57.008771254956898,1295,243.50770008359078,584,118.72657663724664,2680,251.46172671005024,854,179.44915714485816,444,93.380940239430018,343,73.552702193733168,747,142.42541907960108]
[null,"35 to 64  years:",2447,232.72515979154468,2184,189.93156662334991,3156,251.76576415390556,491,69.31089380465383,3030,227.22895942198917,1724,133.00375934536586,6912,291.41379514360676,2534,211.43556938225885,991,101.9803902718557,1569,97.836598469080073,1440,144.58907289280197]
[null,"With ambulatory difficulty",57,56.044625076808217,110,66.573267908372955,218,106.01886624558857,14,16.552945357246848,106,65.73431371817918,147,84.480767041972342,610,182.03571078225283,143,76.837490849194182,51,29.068883707497267,78,39.11521443121589,127,52.354560450833695]
[null,"With no ambulatory difficulty",2390,234.18155350069739,2074,197.08373854785685,2938,245.44856895080892,477,70.035705179572517,2924,231.36551169091732,1577,135.79396157414365,6302,319.6122650963195,2391,208.7414668914636,940,97.744565066299216,1491,100.89598604503551,1313,144.49913494550754]
[null,"65 to 74  years:",556,168.35973390332975,416,107.5174404457249,667,138.62178760930766,143,38.209946349085598,994,139.80700983856281,442,117.45637488020819,1341,169.07099100673656,954,150.57224179774968,148,33.600595232822883,327,58.051701094799967,284,69.354163537598808]
[null,"With ambulatory difficulty",22,30.886890422961002,74,42.449970553582247,58,57.77542730261716,13,10.63014581273465,67,50.537115073973112,5,14.866068747318506,238,85.586213843118443,99,60.440052945046304,9,14.212670403551895,25,19.723082923316021,39,41.629316592997299]
[null,"With no ambulatory difficulty",534,165.6804152578089,342,96.166522241370458,609,132.93607486307093,130,36.796738985948195,927,125.49501982150527,437,117.45637488020819,1103,145.09651959988565,855,139.51702405083043,139,32.015621187164243,302,55.865910893853687,245,62.369864518050704]
[null,"75  years and Older:",360,119.50313803411188,292,85.796270315206598,237,80.721744282442259,70,24.083189157584592,478,144.81022063376605,210,79.755877526361658,1176,134.97036711811967,580,116.21101496846157,214,93.861600242058515,229,60.207972893961475,242,87.418533504057365]
[null,"With ambulatory difficulty",75,50.921508225896062,46,33.421549934136806,64,43.139309220245984,14,11.180339887498949,148,89.627004859026727,62,46.61544808322666,247,78.447434629820748,177,86.729464428186105,114,97.739449558507332,77,42.201895692018383,54,33.241540277189323]
[null,"With no ambulatory difficulty",285,107.29864864013899,246,80.280757345705197,173,70.007142492748557,56,20.248456731316587,330,121.07848694132248,148,74.303431953039691,929,132.09844813622905,403,89.810912477270818,100,29.832867780352597,152,44.553338819890925,188,82.006097334283623]
[]
[]
[]
[]
[]
[]
[]
[]
[]
[]
[]
[]
[]
[]
[]
[]
[]
[]
[]
[]
[]
[]
[]
[]
[]
[]
[]
[]
[]
[]
[]
[]
[]
[]
[]
["B18105. SEX BY AGE BY AMBULATORY DIFFICULTY\n\n-Calculated"]
["Universe:  Civilian non-institutionalized population 5 years and over"]
["Data Set: 2013-2017 American Community Survey 5-Year Estimates"]
[]
[]
[null,null,"Alton",null,"Barnstead",null,"Belmont",null,"Center Harbor",null,"Gilford",null,"Gilmanton",null,"Laconia",null,"Meredith",null,"New Hampton",null,"Sanbornton",null,"Tilton"]
[null,null,"Estimate","Margin Of Error","Estimate","Margin Of Error","Estimate","Margin Of Error","Estimate","Margin Of Error","Estimate","Margin Of Error","Estimate","Margin Of Error","Estimate","Margin Of Error","Estimate","Margin Of Error","Estimate","Margin Of Error","Estimate","Margin Of Error","Estimate"]
[null,"Total:",4970,146,4430,101,7056,132,924,157,6825,196,15086,245,14780,290,5835,188,2181,173,2851,52,3134,166]
[null,"5 to 17  years:",955,192.4162155328911,729,150.81445554057476,1207,191.04973174542801,40,21.931712199461309,1124,213.55093069335942,2043,282.1364917907643,2170,313.26027517066382,866,172.42969581832475,406,89.805345052507874,452,84.723078319900537,460,132.23085872821065]
[null,"With ambulatory difficulty",0,22.627416997969522,0,15.556349186104045,54,81.584312217484552,0,15.556349186104045,17,31.384709652950431,0,25.45584412271571,0,24.041630560342615,0,22.627416997969522,0,15.556349186104045,0,15.556349186104045,0,15.556349186104045]
[null,"With no ambulatory difficulty",955,192.4162155328911,729,150.81445554057476,1153,193.79370474811611,40,21.931712199461309,1107,212.13203435596427,2043,282.1364917907643,2170,313.26027517066382,866,172.42969581832475,406,89.805345052507874,452,84.723078319900537,460,132.23085872821065]
[null,"18 to 34  years:",410,151.74320413119,941,179.61069010501575,1294,284.86136979239569,192,86.95401083331349,1132,225.57703783851761,3518,334.81935427928892,3299,323.44551318576055,1089,192.87560758167425,270,91.285267157411553,395,83.240615086627031,682,133.60014970051492]
[null,"With ambulatory difficulty",0,22.627416997969522,14,26.40075756488817,0,22.627416997969522,0,15.556349186104045,18,32.249030993194197,71,55.542776307995261,111,103.24727599312246,19,34.885527085024819,0,15.556349186104045,0,15.556349186104045,10,18.601075237738275]
[null,"With no ambulatory difficulty",410,151.74320413119,927,175.38529014715002,1294,284.86136979239569,192,86.95401083331349,1114,222.79362647975367,3447,333.80383460949037,3188,350.62515597144483,1070,198.40362899906847,270,91.285267157411553,395,83.240615086627031,672,132.00378782444085]
[null,"35 to 64  years:",2386,215.72436116489024,2168,156.23699945915499,3410,239.8207664069148,419,77.103826104804938,2757,215.92822881689185,6575,347.36868022318879,6611,358.81053496239485,2436,199.25109786397664,1105,101.13851887386922,1474,89.643739324059879,1427,153.63918770938616]
[null,"With ambulatory difficulty",119,72.47068372797375,137,68.963758598266665,121,76.843997813752509,11,15.524174696260024,107,60.745370193949761,593,155.72411502397438,530,146.47866738880444,144,71.28113354878694,43,25.80697580112788,73,34.655446902326915,180,91.934759476489631]
[null,"With no ambulatory difficulty",2267,227.29936207565564,2031,170.07351351694948,3289,244.57309745759036,408,77.103826104804938,2650,215.76144233852349,5982,349.04440978190729,6081,348.03735431703302,2292,197.0913493789111,1062,102.59142264341595,1401,88.090862182180956,1247,151.02979838429235]
[null,"65 to 74  years:",751,169.9941175452845,336,86.556340033529608,758,159.02201105507376,118,40.224370722237531,1150,187.1095935541521,1800,185.52627846210896,1599,178.40403582878949,873,113.27841806805037,244,59.405386961116584,344,58.051701094799967,377,94.921019800674287]
[null,"With ambulatory difficulty",120,99.03534722511958,47,35.777087639996637,125,91.443971917234649,6,13.601470508735444,101,60.605280298007038,247,95.268042910516428,198,73.81734213584231,85,55.036351623268054,30,26.92582403567252,50,25.632011235952593,63,34.058772731852805]
[null,"With no ambulatory difficulty",631,174.91712323268982,289,82.619610262939389,633,157.11460785044781,112,40.224370722237531,1049,178.19652072922187,1553,185.28356645962967,1401,177.53027910753704,788,106.83164325236227,214,51.739733281106119,294,51.623637996561229,314,93.509357820487679]
[null,"75  years and Older:",468,143.17821063276352,256,70.007142492748557,387,121.16517651536682,155,45.486261662176638,662,134.27211177307072,1150,153.44705927452634,1101,161.55494421403512,571,121.26417442921878,156,44.045431091090478,186,57.982756057296896,188,65.053823869162372]
[null,"With ambulatory difficulty",83,73.736015623303103,31,28.178005607210743,81,57.008771254956898,19,17.691806012954132,156,75.272837066235255,379,101.21264743103995,305,106.04244433244644,176,87.709748602991681,35,20.124611797498108,51,38.327535793473601,50,32.893768406797051]
[null,"With no ambulatory difficulty",385,129.40247292845683,225,67.178865724273734,306,113.13708498984761,136,43.56604182158393,506,131.60547101089682,771,134.53624047073711,796,133.80956617521784,395,92.655275079188016,121,42.5205832509386,135,45.793012567421243,138,58.412327466040935]
[]
[]
[]
[]
[]
[]
[]
[]
["B18105. SEX BY AGE BY AMBULATORY DIFFICULTY\n\n-Calculated"]
["Universe:  Civilian non-institutionalized population 5 years and over"]
["Data Set: 2008-2012 American Community Survey 5-Year Estimates"]
[]
[]
[null,null,"Alton",null,"Barnstead",null,"Belmont",null,"Center Harbor",null,"Gilford",null,"Gilmanton",null,"Laconia",null,"Meredith",null,"New Hampton",null,"Sanbornton",null,"Tilton"]
[null,null,"Estimate","Margin Of Error","Estimate","Margin Of Error","Estimate","Margin Of Error","Estimate","Margin Of Error","Estimate","Margin Of Error","Estimate","Margin Of Error","Estimate","Margin Of Error","Estimate","Margin Of Error","Estimate","Margin Of Error","Estimate","Margin Of Error","Estimate"]
[null,"Total:",5006,112,4190,109,6911,181,993,139,6859,103,3580,79,14718,217,6012,120,2164,145,2714,98,3312,114]
[null,"5 to 17  years:",802,213.82469455140114,795,152.74161188098023,1555,288.82001315698329,140,44.294469180700204,1122,180.38015411901608,766,146.10270360263701,2179,294.61330587738223,1003,231.25094594401122,372,71.700767080973407,342,90.376988221560026,462,116.67476162392619]
[null,"With ambulatory difficulty",0,22.627416997969522,0,15.556349186104045,0,22.627416997969522,0,15.556349186104045,19,34.885527085024819,0,15.556349186104045,0,25.45584412271571,0,22.627416997969522,13,17.804493814764857,0,15.556349186104045,0,15.556349186104045]
[null,"With no ambulatory difficulty",802,213.82469455140114,795,152.74161188098023,1555,288.82001315698329,140,44.294469180700204,1103,181.06904760339356,766,146.10270360263701,2179,294.61330587738223,1003,231.25094594401122,359,71.700767080973407,342,90.376988221560026,462,116.67476162392619]
[null,"18 to 34  years:",757,183.17477992343814,869,132.94359706281458,1204,223.66492796144863,162,55.470712993434653,1194,213.66328650472454,567,114.62983904725679,3079,255.34486483969087,792,172.00290695217916,502,81.394102980498531,402,92.763139231054481,687,142.2708684165525]
[null,"With ambulatory difficulty",0,22.627416997969522,0,15.556349186104045,0,22.627416997969522,12,21.095023109728988,19,32.249030993194197,0,15.556349186104045,248,144.10065926289164,0,22.627416997969522,16,23.706539182259394,0,15.556349186104045,0,15.556349186104045]
[null,"With no ambulatory difficulty",757,183.17477992343814,869,132.94359706281458,1204,223.66492796144863,150,53.009433122794285,1175,212.30167215544958,567,114.62983904725679,2831,274.6525077256714,792,172.00290695217916,486,79.93122043357026,402,92.763139231054481,687,142.2708684165525]
[null,"35 to 64  years:",2402,257.37909783041823,1956,151.32085117392117,3278,205.37283169883986,473,79.195959492893323,3201,264.5467822522134,1765,119.75391434103521,7084,296.29883563726673,2828,219.20082116634509,950,86.371291526756735,1536,109.04127658827184,1547,114.86513831445988]
[null,"With ambulatory difficulty",109,87.475710914516156,87,52.924474489596967,285,122.67436570041843,14,15.652475842498529,86,67.186308128963304,124,54.12947441089743,593,149.93665329064805,132,75,76,34.669871646719429,64,44.418464629025621,102,48.259714048054619]
[null,"With no ambulatory difficulty",2293,253.03161857759991,1869,150.61540425866141,2993,206.47518010647187,459,79.208585393251411,3115,274.79810770818636,1641,126.90547663517127,6491,309.76442662126328,2696,221.46105752479374,874,83.546394296821688,1472,108.97706180660222,1445,123.3288287465668]
[null,"65 to 74  years:",665,155.66630977832037,356,87,492,123.04470732217619,136,38.288379438153292,741,141.44963768069539,293,86.977008456258133,1193,153.44380078712857,918,140.85808461000738,173,46.400431032480725,230,56.222771187482387,296,85.702975444263316]
[null,"With ambulatory difficulty",26,33.120990323358392,56,39.962482405376171,56,54.561891462814962,8,13.601470508735444,49,39.824615503479755,0,15.556349186104045,167,66.030296076876709,117,63.702433234531945,6,13.601470508735444,15,16.278820596099706,40,51.195702944680818]
[null,"With no ambulatory difficulty",639,153.63918770938616,300,81.394102980498531,436,112.44998888394787,128,38.288379438153292,692,134.38005804433931,293,86.977008456258133,1026,142.84257068535277,801,145.24462124292245,167,45.221676218380054,215,52.497618993626752,256,67.882250993908556]
[null,"75  years and Older:",380,129.00387591076478,214,72.346388990743691,382,119.63277142990545,82,31.11269837220809,601,156.63013758533191,189,70.007142492748557,1183,156.84705926475002,471,116.8289347721702,167,62.241465278381739,204,53.851648071345039,320,127.47548783981962]
[null,"With ambulatory difficulty",139,84.291162051546067,64,44.944410108488462,98,77.491935064237495,19,11.401754250991379,119,69.856996786291916,66,38.587562763149478,234,81.939001702485982,125,75.166481891864535,65,53.758720222862451,71,35.777087639996637,90,82.28000972289685]
[null,"With no ambulatory difficulty",241,106.00471687618433,150,57.384666941614292,284,100.44899203078147,63,29.732137494637012,482,147.32277488562318,123,62.008063991709982,949,149.03690818049066,346,93.085981758801893,102,30.413812651491099,133,51.623637996561229,230,106.04244433244644]

{"sheet":"ACS_Table_B18106","index":32,"n_rows":153,"n_cols":24,"rows_kept":153,"cut":false,"hidden":true,"merged":[]}
["B18106. SEX BY AGE BY SELF-CARE DIFFICULTY\n\n\n\n"]
["Universe:  Civilian non-institutionalized population 5 years and over"]
["Data Set: 2018-2022 American Community Survey 5-Year Estimates"]
[]
[null,null,"Alton",null,"Barnstead",null,"Belmont",null,"Center Harbor",null,"Gilford",null,"Gilmanton",null,"Laconia",null,"Meredith",null,"New Hampton",null,"Sanbornton",null,"Tilton"]
[null,null,"Estimate","Margin Of Error","Estimate","Margin Of Error","Estimate","Margin Of Error","Estimate","Margin Of Error","Estimate","Margin Of Error","Estimate","Margin Of Error","Estimate","Margin Of Error","Estimate","Margin Of Error","Estimate","Margin Of Error","Estimate","Margin Of Error","Estimate","Margin Of Error"]
[null,"Total:",5690,120,4748,80,7129,109,810,179,7226,204,3693,98,15667,226,6532,64,2527,183,2949,51,3506,86]
[null,"Male:",2777,203,2102,157,3428,235,403,102,3533,278,1919,167,7787,323,3350,252,1292,128,1562,116,1683,151]
[null,"5 to 17  years:",478,154,307,101,706,202,49,31,490,179,271,119,1233,260,353,99,83,42,279,63,230,121]
[null,"With self care difficulty",0,17,0,12,0,17,0,12,0,17,0,12,34,56,0,17,0,12,0,12,0,12]
[null,"With no self care difficulty",478,154,307,101,706,202,49,31,490,179,271,119,1199,255,353,99,83,42,279,63,230,121]
[null,"18 to 34  years:",436,198,333,128,406,155,26,28,703,206,355,139,1777,277,561,197,340,116,369,127,352,134]
[null,"With self care difficulty",0,17,0,12,0,17,0,12,0,17,0,12,0,19,0,17,0,12,0,12,34,42]
[null,"With no self care difficulty",436,198,333,128,406,155,26,28,703,206,355,139,1777,277,561,197,340,116,369,127,318,118]
[null,"35 to 64  years:",1204,179,1054,120,1704,207,118,40,1656,228,927,134,3192,300,1365,210,513,63,611,140,820,161]
[null,"With self care difficulty",20,33,25,38,0,17,0,12,63,66,0,12,107,98,11,18,7,12,50,56,49,71]
[null,"With no self care difficulty",1184,177,1029,119,1704,207,118,40,1593,232,927,134,3085,308,1354,210,506,62,561,134,771,164]
[null,"65 to 74  years:",317,128,191,89,493,155,130,44,490,147,212,72,1245,214,602,141,235,76,235,92,192,78]
[null,"With self care difficulty",11,18,0,12,4,7,0,12,28,46,0,12,6,9,0,17,13,14,0,12,0,12]
[null,"With no self care difficulty",306,127,191,89,489,156,130,44,462,149,212,72,1239,216,602,141,222,77,235,92,192,78]
[null,"75  years and Older:",342,112,217,88,119,60,80,48,194,78,154,114,340,80,469,132,121,46,68,39,89,47]
[null,"With self care difficulty",22,28,22,21,0,17,2,3,12,20,13,17,28,22,22,29,11,17,26,28,0,12]
[null,"With no self care difficulty",320,118,195,92,119,60,78,48,182,74,141,114,312,84,447,131,110,43,42,26,89,47]
[null,"Female:",2913,211,2646,150,3701,227,407,100,3693,280,1774,180,7880,303,3182,255,1235,125,1387,134,1823,154]
[null,"5 to 17  years:",264,110,537,145,668,211,29,22,535,207,283,125,1136,229,376,141,182,89,162,99,194,123]
[null,"With self care difficulty",0,17,0,12,0,17,0,12,0,17,0,12,0,19,14,23,0,12,0,12,0,12]
[null,"With no self care difficulty",264,110,537,145,668,211,29,22,535,207,283,125,1136,229,362,135,182,89,162,99,194,123]
[null,"18 to 34  years:",561,184,473,126,573,188,29,22,521,189,306,100,1523,279,654,175,203,92,256,121,342,120]
[null,"With self care difficulty",0,17,0,12,0,17,6,9,18,34,0,12,12,18,0,17,0,12,0,12,0,12]
[null,"With no self care difficulty",561,184,473,126,573,188,23,20,503,184,306,100,1511,284,654,175,203,92,256,121,342,120]
[null,"35 to 64  years:",1418,228,1077,129,1481,192,171,65,1765,225,874,120,3421,289,1173,171,543,67,608,113,893,172]
[null,"With self care difficulty",22,37,29,46,29,33,0,12,74,77,0,12,36,42,24,27,23,35,18,28,0,12]
[null,"With no self care difficulty",1396,232,1048,110,1452,188,171,65,1691,234,874,120,3385,288,1149,167,520,66,590,113,893,172]
[null,"65 to 74  years:",384,128,266,126,544,186,146,47,594,202,232,90,1153,214,651,194,202,84,232,110,197,63]
[null,"With self care difficulty",0,17,0,12,0,17,2,4,0,17,0,12,38,31,14,17,0,12,0,12,9,13]
[null,"With no self care difficulty",384,128,266,126,544,186,144,47,594,202,232,90,1115,213,637,195,202,84,232,110,188,62]
[null,"75  years and Older:",286,101,293,138,435,196,32,22,278,103,79,47,647,176,328,90,105,45,129,62,197,110]
[null,"With self care difficulty",18,28,52,85,30,31,0,12,0,17,8,13,103,119,51,33,0,12,9,14,0,12]
[null,"With no self care difficulty",268,94,241,109,405,199,32,22,278,103,71,47,544,129,277,81,105,45,120,62,197,110]
[]
[]
[{"$f":"A1& \"-Calculated\"","v":"B18106. SEX BY AGE BY SELF-CARE DIFFICULTY\n\n\n\n-Calculated"}]
[{"$f":"A2","v":"Universe:  Civilian non-institutionalized population 5 years and over"}]
[{"$f":"A3","v":"Data Set: 2018-2022 American Community Survey 5-Year Estimates"}]
[]
[]
[null,null,"Alton",null,"Barnstead",null,"Belmont",null,"Center Harbor",null,"Gilford",null,"Gilmanton",null,"Laconia",null,"Meredith",null,"New Hampton",null,"Sanbornton",null,"Tilton"]
[null,null,"Estimate","Margin Of Error","Estimate","Margin Of Error","Estimate","Margin Of Error","Estimate","Margin Of Error","Estimate","Margin Of Error","Estimate","Margin Of Error","Estimate","Margin Of Error","Estimate","Margin Of Error","Estimate","Margin Of Error","Estimate","Margin Of Error","Estimate","Margin Of Error"]
[null,"Total:",{"$f":"C7","v":5690},120,4748,80,7129,109,810,179,7226,204,3693,98,15667,226,6532,64,2527,183,2949,51,3506,86]
[null,"5 to 17  years:",{"$f":"C25+C9","v":742},{"$f":"SQRT((D25^2)+(D9^2))","v":189.25115587493778},{"$f":"E25+E9","v":844},{"$f":"SQRT((F25^2)+(F9^2))","v":176.70880000724355},{"$f":"G25+G9","v":1374},{"$f":"SQRT((H25^2)+(H9^2))","v":292.10443337957059},{"$f":"I25+I9","v":78},{"$f":"SQRT((J25^2)+(J9^2))","v":38.013155617496423},{"$f":"K25+K9","v":1025},{"$f":"SQRT((L25^2)+(L9^2))","v":273.66037345585858},{"$f":"M25+M9","v":554},{"$f":"SQRT((N25^2)+(N9^2))","v":172.58621034138272},{"$f":"O25+O9","v":2369},{"$f":"SQRT((P25^2)+(P9^2))","v":346.46933486240886},{"$f":"Q25+Q9","v":729},{"$f":"SQRT((R25^2)+(R9^2))","v":172.28464818433474},{"$f":"S25+S9","v":265},{"$f":"SQRT((T25^2)+(T9^2))","v":98.412397592986224},{"$f":"U25+U9","v":441},{"$f":"SQRT((V25^2)+(V9^2))","v":117.34564329364768},{"$f":"W25+W9","v":424},{"$f":"SQRT((X25^2)+(X9^2))","v":172.53985046939155}]
[null,"With self care difficulty",0,24.041630560342615,0,16.970562748477139,0,24.041630560342615,0,16.970562748477139,0,24.041630560342615,0,16.970562748477139,34,59.135437767890075,14,28.600699292150182,0,16.970562748477139,0,16.970562748477139,0,16.970562748477139]
[null,"With no self care difficulty",742,189.25115587493778,844,176.70880000724355,1374,292.10443337957059,78,38.013155617496423,1025,273.66037345585858,554,172.58621034138272,2335,342.73313233476568,715,167.40967713964446,265,98.412397592986224,441,117.34564329364768,424,172.53985046939155]
[null,"18 to 34  years:",997,270.29613389761977,806,179.61069010501575,979,243.65754656894993,55,35.608987629529715,1224,279.56573466717987,661,171.2337583538947,3300,393.15391388106514,1215,263.50332066218823,543,148.05404418657398,625,175.41379649275024,694,179.87773625437919]
[null,"With self care difficulty",0,24.041630560342615,0,16.970562748477139,0,24.041630560342615,6,15,18,38.013155617496423,0,16.970562748477139,12,26.172504656604801,0,24.041630560342615,0,16.970562748477139,0,16.970562748477139,34,43.68065933568311]
[null,"With no self care difficulty",997,270.29613389761977,806,179.61069010501575,979,243.65754656894993,49,34.409301068170507,1206,276.21006498677775,661,171.2337583538947,3288,396.71778382119447,1215,263.50332066218823,543,148.05404418657398,625,175.41379649275024,660,168.2973558912914]
[null,"35 to 64  years:",2622,289.8706608127149,2131,176.18456232031227,3185,282.33490751233722,289,76.321687612368734,3421,320.32639604003913,1801,179.87773625437919,6613,416.55851929830942,2538,270.81543530604011,1056,91.967385523347346,1219,179.91386828146406,1713,235.59499145779819]
[null,"With self care difficulty",42,49.578221024962161,54,59.665735560705194,29,37.12142238654117,0,16.970562748477139,137,101.41498903022176,0,16.970562748477139,143,106.62082348209472,35,32.449961479175904,30,37,68,62.609903369994115,49,72.006944109578768]
[null,"With no self care difficulty",2580,291.80986960690689,2077,162.05246064160829,3156,279.63011282764239,289,76.321687612368734,3284,329.5147948120084,1801,179.87773625437919,6470,421.67285897956486,2503,268.30765922723862,1026,90.553851381374173,1151,175.28548142958104,1664,237.65521244020718]
[null,"65 to 74  years:",701,181.01933598375618,457,154.26276284314372,1037,242.11773995310628,276,64.381674411279491,1084,249.8259394058191,444,115.25623627379127,2398,302.64170234784234,1253,239.82702099638396,437,113.27841806805037,467,143.40153416194681,389,100.26464980241042]
[null,"With self care difficulty",11,24.758836806279895,0,16.970562748477139,4,18.384776310850235,2,12.649110640673518,28,49.040799340956916,0,16.970562748477139,44,32.280024783137947,14,24.041630560342615,13,18.439088914585774,0,16.970562748477139,9,17.691806012954132]
[null,"With no self care difficulty",690,180.31361568112376,457,154.26276284314372,1033,242.75913988972692,274,64.381674411279491,1056,251.00796800101784,444,115.25623627379127,2354,303.35622624235026,1239,240.63665556186572,424,113.95174417269794,467,143.40153416194681,380,99.639349656649202]
[null,"75  years and Older:",628,150.81445554057476,510,163.67040050051813,554,204.97804760510331,112,52.801515129776341,472,129.20139318134306,233,123.30855606972291,987,193.32873557751316,797,159.76232346833217,226,64.350602172784676,197,73.246160308919954,286,119.6202324023825]
[null,"With self care difficulty",40,39.597979746446661,74,87.555696559390128,30,35.355339059327378,2,12.369316876852981,12,26.248809496813376,21,21.400934559032695,131,121.01652779682617,73,43.931765272977593,11,20.808652046684813,35,31.304951684997057,0,16.970562748477139]
[null,"With no self care difficulty",588,150.86417732516887,436,142.63590010933433,524,207.84850252046562,110,52.801515129776341,460,126.82665335015349,212,123.30855606972291,856,153.93829932800998,724,154.01947928752389,215,62.241465278381739,162,67.230945255886439,286,119.6202324023825]
[]
[]
[]
[]
[]
[]
[]
[]
[]
[]
[]
[]
[]
[]
[]
[]
[]
[]
[]
[]
[]
[]
[]
[]
[]
[]
[]
[]
[]
[]
[]
[]
[]
[]
[]
["B18106. SEX BY AGE BY SELF-CARE DIFFICULTY\n\n\n\n-Calculated"]
["Universe:  Civilian non-institutionalized population 5 years and over"]
["Data Set: 2013-2017 American Community Survey 5-Year Estimates"]
[]
[]
[null,null,"Alton",null,"Barnstead",null,"Belmont",null,"Center Harbor",null,"Gilford",null,"Gilmanton",null,"Laconia",null,"Meredith",null,"New Hampton",null,"Sanbornton",null,"Tilton"]
[null,null,"Estimate","Margin Of Error","Estimate","Margin Of Error","Estimate","Margin Of Error","Estimate","Margin Of Error","Estimate","Margin Of Error","Estimate","Margin Of Error","Estimate","Margin Of Error","Estimate","Margin Of Error","Estimate","Margin Of Error","Estimate","Margin Of Error","Estimate"]
[null,"Total:",4970,146,4430,101,7056,132,924,157,6825,196,15086,245,14780,290,5835,188,2181,173,2851,52,3134,166]
[null,"5 to 17  years:",955,192.4162155328911,729,150.81445554057476,1207,191.04973174542801,40,21.931712199461309,1124,213.55093069335942,2043,282.1364917907643,2170,313.26027517066382,866,172.42969581832475,406,89.805345052507874,452,84.723078319900537,460,132.23085872821065]
[null,"With self care difficulty",0,22.627416997969522,0,15.556349186104045,84,89.442719099991592,0,15.556349186104045,35,36.796738985948195,22,32.449961479175904,22,31.064449134018133,44,47.75981574503821,8,17.029386365926403,11,16.278820596099706,0,15.556349186104045]
[null,"With no self care difficulty",955,192.4162155328911,729,150.81445554057476,1123,193.79370474811611,40,21.931712199461309,1089,209.32271735289507,2021,280.02856997099423,2148,311.94871373352385,822,182.8578683021324,398,90.509667991878089,441,85.234969349440135,460,132.23085872821065]
[null,"18 to 34  years:",410,151.74320413119,941,179.61069010501575,1294,284.86136979239569,192,86.95401083331349,1132,225.57703783851761,3518,334.81935427928892,3299,323.44551318576055,1089,192.87560758167425,270,91.285267157411553,395,83.240615086627031,682,133.60014970051492]
[null,"With self care difficulty",0,22.627416997969522,0,15.556349186104045,87,111.40017953306898,0,15.556349186104045,18,32.249030993194197,32,42.544094772365298,35,44.384682042344295,0,22.627416997969522,0,15.556349186104045,0,15.556349186104045,10,18.601075237738275]
[null,"With no self care difficulty",410,151.74320413119,941,179.61069010501575,1207,266.81266836490352,192,86.95401083331349,1114,222.79362647975367,3486,333.0015014981164,3264,326.49655434629017,1089,192.87560758167425,270,91.285267157411553,395,83.240615086627031,672,132.00378782444085]
[null,"35 to 64  years:",2386,215.72436116489024,2168,156.23699945915499,3410,239.8207664069148,419,77.103826104804938,2757,215.92822881689185,6575,347.36868022318879,6611,358.81053496239485,2436,199.25109786397664,1105,101.13851887386922,1474,89.643739324059879,1427,153.63918770938616]
[null,"With self care difficulty",52,44.654227123532216,45,34.985711369071801,65,79.624116949577527,2,11.704699910719626,11,24.839484696748443,142,72.422372233999624,152,85.440037453175307,23,28.844410203711913,15,11.180339887498949,13,17.804493814764857,7,14.866068747318506]
[null,"With no self care difficulty",2334,223.33159203301264,2123,163.80781422142229,3345,252.51732613822759,417,77.103826104804938,2746,217.41435095227729,6433,337.0059346658453,6459,357.97485945244813,2413,200.77101384413041,1090,101.13851887386922,1461,89.643739324059879,1420,152.16109883935513]
[null,"65 to 74  years:",751,169.9941175452845,336,86.556340033529608,758,159.02201105507376,118,40.224370722237531,1150,187.1095935541521,1800,185.52627846210896,1599,178.40403582878949,873,113.27841806805037,244,59.405386961116584,344,58.051701094799967,377,94.921019800674287]
[null,"With self care difficulty",13,27.202941017470888,17,28.231188426986208,63,76.687678280151374,0,15.556349186104045,0,22.627416997969522,61,46.097722286464439,47,36.796738985948195,36,46.818799642878503,0,15.556349186104045,15,13.601470508735444,16,17.691806012954132]
[null,"With no self care difficulty",738,168.67127793432999,319,88.090862182180956,695,162.11107303327555,118,40.224370722237531,1150,187.1095935541521,1739,190.2761151589973,1552,178.40403582878949,837,106.77546534667971,244,59.405386961116584,329,55.865910893853687,361,95.015788161757627]
[null,"75  years and Older:",468,143.17821063276352,256,70.007142492748557,387,121.16517651536682,155,45.486261662176638,662,134.27211177307072,1150,153.44705927452634,1101,161.55494421403512,571,121.26417442921878,156,44.045431091090478,186,57.982756057296896,188,65.053823869162372]
[null,"With self care difficulty",0,22.627416997969522,0,15.556349186104045,15,30.528675044947494,3,11.704699910719626,55,45.793012567421243,74,49.648766349225639,74,46.572524088780071,100,66.030296076876709,5,13.038404810405298,37,34.928498393145958,6,15.556349186104045]
[null,"With no self care difficulty",468,143.17821063276352,256,70.007142492748557,372,116.72617529928752,152,45.486261662176638,607,130.80137613954986,1076,150.33628969746459,1027,155.92626462530293,471,103.27632836231156,151,44.045431091090478,149,46.647615158762406,182,65.053823869162372]
[]
[]
[]
[]
[]
[]
[]
[]
["B18106. SEX BY AGE BY SELF-CARE DIFFICULTY\n\n\n\n-Calculated"]
["Universe:  Civilian non-institutionalized population 5 years and over"]
["Data Set: 2008-2012 American Community Survey 5-Year Estimates"]
[]
[]
[null,null,"Alton",null,"Barnstead",null,"Belmont",null,"Center Harbor",null,"Gilford",null,"Gilmanton",null,"Laconia",null,"Meredith",null,"New Hampton",null,"Sanbornton",null,"Tilton"]
[null,null,"Estimate","Margin Of Error","Estimate","Margin Of Error","Estimate","Margin Of Error","Estimate","Margin Of Error","Estimate","Margin Of Error","Estimate","Margin Of Error","Estimate","Margin Of Error","Estimate","Margin Of Error","Estimate","Margin Of Error","Estimate","Margin Of Error","Estimate"]
[null,"Total:",5006,112,4190,109,6911,181,993,139,6859,103,3580,79,14718,217,6012,120,2164,145,2714,98,3312,114]
[null,"5 to 17  years:",802,213.82469455140114,795,152.74161188098023,1555,288.82001315698329,140,44.294469180700204,1122,180.38015411901608,766,146.10270360263701,2179,294.61330587738223,1003,231.25094594401122,372,71.700767080973407,342,90.376988221560026,462,116.67476162392619]
[null,"With self care difficulty",0,22.627416997969522,0,15.556349186104045,0,22.627416997969522,0,15.556349186104045,32,42.154477816715982,0,15.556349186104045,0,25.45584412271571,0,22.627416997969522,12,13.601470508735444,6,14.212670403551895,0,15.556349186104045]
[null,"With no self care difficulty",802,213.82469455140114,795,152.74161188098023,1555,288.82001315698329,140,44.294469180700204,1090,179.6941846582688,766,146.10270360263701,2179,294.61330587738223,1003,231.25094594401122,360,71.700767080973407,336,89.470665583754325,462,116.67476162392619]
[null,"18 to 34  years:",757,183.17477992343814,869,132.94359706281458,1204,223.66492796144863,162,55.470712993434653,1194,213.66328650472454,567,114.62983904725679,3079,255.34486483969087,792,172.00290695217916,502,81.394102980498531,402,92.763139231054481,687,142.2708684165525]
[null,"With self care difficulty",19,35.777087639996637,0,15.556349186104045,23,34.885527085024819,0,15.556349186104045,0,22.627416997969522,0,15.556349186104045,204,126.11502686040232,0,22.627416997969522,14,22.825424421026653,0,15.556349186104045,0,15.556349186104045]
[null,"With no self care difficulty",738,180.42449944505873,869,132.94359706281458,1181,222.19360926903366,162,55.470712993434653,1194,213.66328650472454,567,114.62983904725679,2875,267.46962444359923,792,172.00290695217916,488,79.93122043357026,402,92.763139231054481,687,142.2708684165525]
[null,"35 to 64  years:",2402,257.37909783041823,1956,151.32085117392117,3278,205.37283169883986,473,79.195959492893323,3201,264.5467822522134,1765,119.75391434103521,7084,296.29883563726673,2828,219.20082116634509,950,86.371291526756735,1536,109.04127658827184,1547,114.86513831445988]
[null,"With self care difficulty",96,75.709972922990801,32,38.600518131237564,150,95.131487952202235,4,13.038404810405298,25,32.249030993194197,35,30.083217912982647,239,121.21056059601408,44,42.059481689626182,29,23.345235059857504,19,31.953090617340916,71,46.872166581031863]
[null,"With no self care difficulty",2306,251.20509548972132,1924,151.32085117392117,3128,203.64675298172568,469,79.906195003891909,3176,268.48649872945197,1730,122.0245876862528,6845,308.37963616296065,2784,223.00224214119461,921,86.556340033529608,1517,112.04463396343441,1476,123.90722335683259]
[null,"65 to 74  years:",665,155.66630977832037,356,87,492,123.04470732217619,136,38.288379438153292,741,141.44963768069539,293,86.977008456258133,1193,153.44380078712857,918,140.85808461000738,173,46.400431032480725,230,56.222771187482387,296,85.702975444263316]
[null,"With self care difficulty",26,33.120990323358392,9,17.029386365926403,0,22.627416997969522,0,15.556349186104045,15,28.844410203711913,0,15.556349186104045,38,33.286633954186478,13,25.612496949731394,2,11.704699910719626,0,15.556349186104045,40,51.195702944680818]
[null,"With no self care difficulty",639,153.63918770938616,347,86.278618440491968,492,123.04470732217619,136,38.288379438153292,726,139.38794782907166,293,86.977008456258133,1155,148.55302083767936,905,140.18559127100045,171,45.803929962395145,230,56.222771187482387,256,67.882250993908556]
[null,"75  years and Older:",380,129.00387591076478,214,72.346388990743691,382,119.63277142990545,82,31.11269837220809,601,156.63013758533191,189,70.007142492748557,1183,156.84705926475002,471,116.8289347721702,167,62.241465278381739,204,53.851648071345039,320,127.47548783981962]
[null,"With self care difficulty",47,56.320511361314892,23,25.942243542145693,65,74.732857566133518,7,7.810249675906654,31,28.42534080710379,45,31.384709652950431,144,65.863495200300449,77,65.79513659838392,17,17.464249196572979,7,15.556349186104045,75,73.006848993775918]
[null,"With no self care difficulty",333,119.85407794480753,191,66.708320320631671,317,102.55242561733974,75,30.413812651491099,570,156.46405337968207,144,60.876925020897694,1039,157.11460785044781,394,98.716766559688324,150,60.415229867972862,197,54.708317466359723,245,100.12492197250393]

{"sheet":"ACS_Table_B18107","index":33,"n_rows":150,"n_cols":24,"rows_kept":150,"cut":false,"hidden":true,"merged":[]}
["B18107. SEX BY AGE BY INDEPENDENT LIVING DIFFICULTY\n\n\n"]
["Universe:  Civilian non-institutionalized population 18 years and over"]
["Data Set: 2018-2022 American Community Survey 5-Year Estimates"]
[]
[null,null,"Alton",null,"Barnstead",null,"Belmont",null,"Center Harbor",null,"Gilford",null,"Gilmanton",null,"Laconia",null,"Meredith",null,"New Hampton",null,"Sanbornton",null,"Tilton"]
[null,null,"Estimate","Margin Of Error","Estimate","Margin Of Error","Estimate","Margin Of Error","Estimate","Margin Of Error","Estimate","Margin Of Error","Estimate","Margin Of Error","Estimate","Margin Of Error","Estimate","Margin Of Error","Estimate","Margin Of Error","Estimate","Margin Of Error","Estimate","Margin Of Error"]
[null,"Total:",4948,165,3904,197,5755,281,732,162,6201,287,3139,168,13298,390,5803,172,2262,162,2508,104,3082,157]
[null,"Male:",2299,205,1795,168,2722,204,354,92,3043,275,1648,159,6554,382,2997,237,1209,120,1283,113,1453,175]
[null,"18 to 34  years:",436,198,333,128,406,155,26,28,703,206,355,139,1777,277,561,197,340,116,369,127,352,134]
[null,"With independent living difficulty",0,17,0,12,0,17,0,12,69,64,0,12,71,74,58,58,0,12,0,12,34,42]
[null,"With no independent living difficulty",436,198,333,128,406,155,26,28,634,205,355,139,1706,271,503,193,340,116,369,127,318,118]
[null,"35 to 64  years:",1204,179,1054,120,1704,207,118,40,1656,228,927,134,3192,300,1365,210,513,63,611,140,820,161]
[null,"With independent living difficulty",76,67,56,42,63,92,3,6,42,43,44,56,112,101,57,56,6,9,15,23,64,66]
[null,"With no independent living difficulty",1128,174,998,124,1641,199,115,40,1614,228,883,129,3080,303,1308,210,507,62,596,141,756,163]
[null,"65 to 74  years:",317,128,191,89,493,155,130,44,490,147,212,72,1245,214,602,141,235,76,235,92,192,78]
[null,"With independent living difficulty",11,18,10,15,4,7,0,12,42,49,0,12,161,163,31,33,0,12,0,12,13,20]
[null,"With no independent living difficulty",306,127,181,87,489,156,130,44,448,148,212,72,1084,193,571,138,235,76,235,92,179,76]
[null,"75  years and Older:",342,112,217,88,119,60,80,48,194,78,154,114,340,80,469,132,121,46,68,39,89,47]
[null,"With independent living difficulty",64,60,50,43,19,23,0,12,18,20,13,17,44,26,113,107,37,28,26,28,14,22]
[null,"With no independent living difficulty",278,115,167,76,100,58,80,48,176,73,141,114,296,84,356,116,84,37,42,26,75,40]
[null,"Female:",2649,184,2109,128,3033,248,378,94,3158,226,1491,185,6744,349,2806,233,1053,100,1225,113,1629,158]
[null,"18 to 34  years:",561,184,473,126,573,188,29,22,521,189,306,100,1523,279,654,175,203,92,256,121,342,120]
[null,"With independent living difficulty",0,17,0,12,33,54,6,9,18,34,23,32,192,103,35,55,0,12,0,12,0,12]
[null,"With no independent living difficulty",561,184,473,126,540,189,23,20,503,184,283,101,1331,271,619,159,203,92,256,121,342,120]
[null,"35 to 64  years:",1418,228,1077,129,1481,192,171,65,1765,225,874,120,3421,289,1173,171,543,67,608,113,893,172]
[null,"With independent living difficulty",22,37,34,52,99,94,0,12,33,41,0,12,180,95,59,49,7,10,24,29,40,58]
[null,"With no independent living difficulty",1396,232,1043,139,1382,196,171,65,1732,229,874,120,3241,284,1114,161,536,67,584,113,853,164]
[null,"65 to 74  years:",384,128,266,126,544,186,146,47,594,202,232,90,1153,214,651,194,202,84,232,110,197,63]
[null,"With independent living difficulty",0,17,23,25,75,64,2,4,0,17,7,14,7,12,47,53,0,12,0,12,16,17]
[null,"With no independent living difficulty",384,128,243,123,469,177,144,47,594,202,225,88,1146,214,604,185,202,84,232,110,181,61]
[null,"75  years and Older:",286,101,293,138,435,196,32,22,278,103,79,47,647,176,328,90,105,45,129,62,197,110]
[null,"With independent living difficulty",29,34,59,86,85,67,6,9,13,20,16,18,176,120,123,68,20,25,38,40,42,51]
[null,"With no independent living difficulty",257,97,234,109,350,198,26,21,265,105,63,46,471,114,205,79,85,35,91,50,155,103]
[]
[]
[{"$f":"A1& \"-Calculated\"","v":"B18107. SEX BY AGE BY INDEPENDENT LIVING DIFFICULTY\n\n\n-Calculated"}]
[{"$f":"A2","v":"Universe:  Civilian non-institutionalized population 18 years and over"}]
[{"$f":"A3","v":"Data Set: 2018-2022 American Community Survey 5-Year Estimates"}]
[]
[]
[null,null,"Alton",null,"Barnstead",null,"Belmont",null,"Center Harbor",null,"Gilford",null,"Gilmanton",null,"Laconia",null,"Meredith",null,"New Hampton",null,"Sanbornton",null,"Tilton"]
[null,null,"Estimate","Margin Of Error","Estimate","Margin Of Error","Estimate","Margin Of Error","Estimate","Margin Of Error","Estimate","Margin Of Error","Estimate","Margin Of Error","Estimate","Margin Of Error","Estimate","Margin Of Error","Estimate","Margin Of Error","Estimate","Margin Of Error","Estimate","Margin Of Error"]
[null,"Total:",{"$f":"C7","v":4948},165,3904,197,5755,281,732,162,6201,287,3139,168,13298,390,5803,172,2262,162,2508,104,3082,157]
[null,"18 to 34  years:",{"$f":"C22+C9","v":997},{"$f":"SQRT((D22^2)+(D9^2))","v":270.29613389761977},{"$f":"E22+E9","v":806},{"$f":"SQRT((F22^2)+(F9^2))","v":179.61069010501575},{"$f":"G22+G9","v":979},{"$f":"SQRT((H22^2)+(H9^2))","v":243.65754656894993},{"$f":"I22+I9","v":55},{"$f":"SQRT((J22^2)+(J9^2))","v":35.608987629529715},{"$f":"K22+K9","v":1224},{"$f":"SQRT((L22^2)+(L9^2))","v":279.56573466717987},{"$f":"M22+M9","v":661},{"$f":"SQRT((N22^2)+(N9^2))","v":171.2337583538947},{"$f":"O22+O9","v":3300},{"$f":"SQRT((P22^2)+(P9^2))","v":393.15391388106514},{"$f":"Q22+Q9","v":1215},{"$f":"SQRT((R22^2)+(R9^2))","v":263.50332066218823},{"$f":"S22+S9","v":543},{"$f":"SQRT((T22^2)+(T9^2))","v":148.05404418657398},{"$f":"U22+U9","v":625},{"$f":"SQRT((V22^2)+(V9^2))","v":175.41379649275024},{"$f":"W22+W9","v":694},{"$f":"SQRT((X22^2)+(X9^2))","v":179.87773625437919}]
[null,"With independent living difficulty",{"$f":"C23+C10","v":0},{"$f":"SQRT((D23^2)+(D10^2))","v":24.041630560342615},0,16.970562748477139,33,56.612719418872643,6,15,87,72.47068372797375,23,34.176014981270121,263,126.82665335015349,93,79.93122043357026,0,16.970562748477139,0,16.970562748477139,34,43.68065933568311]
[null,"With no independent living difficulty",997,270.29613389761977,806,179.61069010501575,946,244.42994906516674,49,34.409301068170507,1137,275.46506130542218,638,171.81967291320282,3037,383.25187540310878,1122,250.05999280172747,543,148.05404418657398,625,175.41379649275024,660,168.2973558912914]
[null,"35 to 64  years:",2622,289.8706608127149,2131,176.18456232031227,3185,282.33490751233722,289,76.321687612368734,3421,320.32639604003913,1801,179.87773625437919,6613,416.55851929830942,2538,270.81543530604011,1056,91.967385523347346,1219,179.91386828146406,1713,235.59499145779819]
[null,"With independent living difficulty",98,76.53757247260981,90,66.843099868273612,162,131.52946437965906,3,13.416407864998739,75,59.413803110051795,44,57.271284253105414,292,138.65785228395831,116,74.411020689142546,13,13.45362404707371,39,37.013511046643494,104,87.863530545955186]
[null,"With no independent living difficulty",2524,290,2041,186.27130750601393,3023,279.3152340993953,286,76.321687612368734,3346,323.1485726411305,1757,176.18456232031227,6321,415.28905595982178,2422,264.61481440010118,1043,91.285267157411553,1180,180.69310999592651,1609,231.22499864850255]
[null,"65 to 74  years:",701,181.01933598375618,457,154.26276284314372,1037,242.11773995310628,276,64.381674411279491,1084,249.8259394058191,444,115.25623627379127,2398,302.64170234784234,1253,239.82702099638396,437,113.27841806805037,467,143.40153416194681,389,100.26464980241042]
[null,"With independent living difficulty",11,24.758836806279895,33,29.154759474226502,79,64.381674411279491,2,12.649110640673518,42,51.86520991955976,7,18.439088914585774,168,163.44112089679268,78,62.433965115151864,0,16.970562748477139,0,16.970562748477139,29,26.248809496813376]
[null,"With no independent living difficulty",690,180.31361568112376,424,150.65855435387664,958,235.93431289238112,274,64.381674411279491,1042,250.4156544627352,437,113.70136322841516,2230,288.17529387509956,1175,230.80077989469621,437,113.27841806805037,467,143.40153416194681,360,97.452552557642122]
[null,"75  years and Older:",628,150.81445554057476,510,163.67040050051813,554,204.97804760510331,112,52.801515129776341,472,129.20139318134306,233,123.30855606972291,987,193.32873557751316,797,159.76232346833217,226,64.350602172784676,197,73.246160308919954,286,119.6202324023825]
[null,"With independent living difficulty",93,68.963758598266665,109,96.150923032490951,104,70.837842993699354,6,15,31,28.284271247461902,29,24.758836806279895,220,122.78436382536663,236,126.77933585565118,57,37.536648758246919,64,48.826222462934808,56,55.542776307995261]
[null,"With no independent living difficulty",{"$f":"C33+C20","v":535},150.44600360262149,401,132.87964479181903,450,206.32013958894075,106,52.392747589718944,441,127.88275880665071,204,122.93087488503447,767,141.60508465447137,561,140.34600101178515,169,50.931326312987373,133,56.356011214421486,230,110.4943437466371]
[]
[]
[]
[]
[]
[]
[]
[]
[]
[]
[]
[]
[]
[]
[]
[]
[]
[]
[]
[]
[]
[]
[]
[]
[]
[]
[]
[]
[]
[]
[]
[]
[]
[]
[]
[]
[]
[]
[]
[]
[]
[]
[]
[]
["B18107. SEX BY AGE BY INDEPENDENT LIVING DIFFICULTY\n\n\n-Calculated"]
["Universe:  Civilian non-institutionalized population 18 years and over"]
["Data Set: 2013-2017 American Community Survey 5-Year Estimates"]
[]
[]
[null,null,"Alton",null,"Barnstead",null,"Belmont",null,"Center Harbor",null,"Gilford",null,"Gilmanton",null,"Laconia",null,"Meredith",null,"New Hampton",null,"Sanbornton",null,"Tilton"]
[null,null,"Estimate","Margin Of Error","Estimate","Margin Of Error","Estimate","Margin Of Error","Estimate","Margin Of Error","Estimate","Margin Of Error","Estimate","Margin Of Error","Estimate","Margin Of Error","Estimate","Margin Of Error","Estimate","Margin Of Error","Estimate","Margin Of Error","Estimate"]
[null,"Total:",4015,181,3701,135,5849,164,884,152,5701,271,13043,277,12610,393,4969,140,1775,154,2399,83,2674,161]
[null,"18 to 34  years:",410,151.74320413119,941,179.61069010501575,1294,284.86136979239569,192,86.95401083331349,1132,225.57703783851761,3518,334.81935427928892,3299,323.44551318576055,1089,192.87560758167425,270,91.285267157411553,395,83.240615086627031,682,133.60014970051492]
[null,"With independent living difficulty",39,50.089919145472777,14,26.40075756488817,87,111.40017953306898,3,12.083045973594572,38,44.045431091090478,97,65.741919655574407,115,74.846509604656916,98,63.031738037277698,0,15.556349186104045,25,23.345235059857504,28,25.238858928247925]
[null,"With no independent living difficulty",371,155.66630977832037,927,175.38529014715002,1207,266.81266836490352,189,86.452298986203942,1094,221.35265979879256,3421,342.00146198517922,3184,334.83428737212682,991,195.38935487891862,270,91.285267157411553,370,79.649231006959511,654,130.80137613954986]
[null,"35 to 64  years:",2386,215.72436116489024,2168,156.23699945915499,3410,239.8207664069148,419,77.103826104804938,2757,215.92822881689185,6575,347.36868022318879,6611,358.81053496239485,2436,199.25109786397664,1105,101.13851887386922,1474,89.643739324059879,1427,153.63918770938616]
[null,"With independent living difficulty",52,44.654227123532216,34,31.953090617340916,121,96.046863561492728,11,15.524174696260024,60,48.754486972995622,355,129.32130528261769,382,142.80056022299073,90,53.037722424704477,51,24.515301344262525,35,22.472205054244231,78,60.901559914340453]
[null,"With no independent living difficulty",2334,223.33159203301264,2134,160.3277892319357,3289,254.01771591761076,408,77.103826104804938,2697,214.76731594914529,6220,355.22528063188298,6229,357.45908856818846,2346,200.89051744669283,1054,96.426137535421375,1439,86.833173384369644,1349,146.40013661195812]
[null,"65 to 74  years:",751,169.9941175452845,336,86.556340033529608,758,159.02201105507376,118,40.224370722237531,1150,187.1095935541521,1800,185.52627846210896,1599,178.40403582878949,873,113.27841806805037,244,59.405386961116584,344,58.051701094799967,377,94.921019800674287]
[null,"With independent living difficulty",13,27.202941017470888,25,31.953090617340916,63,76.687678280151374,0,15.556349186104045,49,45.607017003965517,107,69.462219947249025,68,55.542776307995261,53,52.497618993626752,21,24.166091947189145,35,20.615528128088304,23,20.808652046684813]
[null,"With no independent living difficulty",738,168.67127793432999,311,86.556340033529608,695,162.11107303327555,118,40.224370722237531,1101,184.78365728602733,1693,187.39530410338463,1531,177.42885898297379,820,108.18964830333815,223,53.263495942343098,309,53.758720222862451,354,93.509357820487679]
[null,"75  years and Older:",468,143.17821063276352,256,70.007142492748557,387,121.16517651536682,155,45.486261662176638,662,134.27211177307072,1150,153.44705927452634,1101,161.55494421403512,571,121.26417442921878,156,44.045431091090478,186,57.982756057296896,188,65.053823869162372]
[null,"With independent living difficulty",71,72.124891681027847,11,21.095023109728988,34,43.08131845707603,19,15.652475842498529,127,63.56886030125127,242,85,253,96.767763227223554,140,68.01470429252781,10,9.8994949366116654,55,39.560080889704963,49,31.953090617340916]
[null,"With no independent living difficulty",397,130.81666560496029,245,68.593002558570063,353,114.56002793295748,136,43.266615305567875,535,133.22161986704711,908,137.7679207943562,848,138.67948658687772,431,97,146,44.045431091090478,131,44.10215414239989,139,59.033888572581766]
[]
[]
[]
[]
[]
[]
[]
[]
[]
[]
[]
["B18107. SEX BY AGE BY INDEPENDENT LIVING DIFFICULTY\n\n\n-Calculated"]
["Universe:  Civilian non-institutionalized population 18 years and over"]
["Data Set: 2008-2012 American Community Survey 5-Year Estimates"]
[]
[]
[null,null,"Alton",null,"Barnstead",null,"Belmont",null,"Center Harbor",null,"Gilford",null,"Gilmanton",null,"Laconia",null,"Meredith",null,"New Hampton",null,"Sanbornton",null,"Tilton"]
[null,null,"Estimate","Margin Of Error","Estimate","Margin Of Error","Estimate","Margin Of Error","Estimate","Margin Of Error","Estimate","Margin Of Error","Estimate","Margin Of Error","Estimate","Margin Of Error","Estimate","Margin Of Error","Estimate","Margin Of Error","Estimate","Margin Of Error","Estimate"]
[null,"Total:",4204,214,3395,130,5356,234,853,121,5737,208,2814,131,12539,259,5009,184,1792,126,2372,86,2850,152]
[null,"18 to 34  years:",757,183.17477992343814,869,132.94359706281458,1204,223.66492796144863,162,55.470712993434653,1194,213.66328650472454,567,114.62983904725679,3079,255.34486483969087,792,172.00290695217916,502,81.394102980498531,402,92.763139231054481,687,142.2708684165525]
[null,"With independent living difficulty",0,22.627416997969522,11,21.095023109728988,8,20.615528128088304,0,15.556349186104045,0,22.627416997969522,25,20.518284528683193,224,129.4488315899375,34,42.154477816715982,28,24.596747752497688,5,14.212670403551895,8,17.804493814764857]
[null,"With no independent living difficulty",757,183.17477992343814,858,134.38005804433931,1196,223.66492796144863,162,55.470712993434653,1194,213.66328650472454,542,114.69088891450794,2855,270.1481075262235,758,161.07451691686057,474,80.65977932030313,397,91.285267157411553,679,140.07141035914503]
[null,"35 to 64  years:",2402,257.37909783041823,1956,151.32085117392117,3278,205.37283169883986,473,79.195959492893323,3201,264.5467822522134,1765,119.75391434103521,7084,296.29883563726673,2828,219.20082116634509,950,86.371291526756735,1536,109.04127658827184,1547,114.86513831445988]
[null,"With independent living difficulty",55,62.096698785040097,70,48.764741360946438,207,108.16653826391968,0,15.556349186104045,48,45.188494110780013,103,45,430,134.46560898608982,130,83.006023877788536,23,20.808652046684813,23,30.805843601498726,50,33.941125496954278]
[null,"With no independent living difficulty",2347,252.42028444639706,1886,149.93331851193051,3071,205.8275977608445,473,79.195959492893323,3153,268.01865606707304,1662,120.41594578792295,6654,288.10588331375669,2698,226.92069099136816,927,87.114866699088736,1513,110.75197515168747,1497,123.43419299367578]
[null,"65 to 74  years:",665,155.66630977832037,356,87,492,123.04470732217619,136,38.288379438153292,741,141.44963768069539,293,86.977008456258133,1193,153.44380078712857,918,140.85808461000738,173,46.400431032480725,230,56.222771187482387,296,85.702975444263316]
[null,"With independent living difficulty",26,33.120990323358392,18,19.416487838947599,9,22.627416997969522,9,16.278820596099706,39,36.124783736376884,0,15.556349186104045,61,38.418745424597091,57,46.518813398452032,6,13.601470508735444,0,15.556349186104045,40,51.195702944680818]
[null,"With no independent living difficulty",639,153.63918770938616,338,87,483,121.62236636408618,127,36.400549446402593,702,135.05924625881784,293,86.977008456258133,1132,149.93331851193051,861,142.90206436577463,167,45.221676218380054,230,56.222771187482387,256,67.882250993908556]
[null,"75  years and Older:",380,129.00387591076478,214,72.346388990743691,382,119.63277142990545,82,31.11269837220809,601,156.63013758533191,189,70.007142492748557,1183,156.84705926475002,471,116.8289347721702,167,62.241465278381739,204,53.851648071345039,320,127.47548783981962]
[null,"With independent living difficulty",113,83.438600180012614,64,43.68065933568311,79,74.732857566133518,11,9.4339811320566032,139,77.388629655783419,60,36.796738985948195,197,69.318107302493488,88,68.767724987816777,20,20.248456731316587,31,24.166091947189145,102,77.472575792986262]
[null,"With no independent living difficulty",267,106.89246933250256,150,54.203320931470607,303,101.83319694480774,71,29.732137494637012,462,145.91093173576817,129,63.890531379853151,986,152.75143207184672,383,94.921019800674287,147,59.506302187247357,173,57.30619512757761,218,93.60021367496978]

{"sheet":"ACS_Table_C18108","index":34,"n_rows":149,"n_cols":54,"rows_kept":149,"cut":false,"hidden":true,"merged":[]}
["C18108. AGE BY NUMBER OF DISABILITIES\n\n"]
["Universe:  Civilian non-institutionalized population"]
["Data Set: 2018-2022 American Community Survey 5-Year Estimates"]
[]
[null,null,"Alton",null,"Barnstead",null,"Belmont",null,"Center Harbor",null,"Gilford",null,"Gilmanton",null,"Laconia",null,"Meredith",null,"New Hampton",null,"Sanbornton",null,"Tilton"]
[null,null,"Estimate","Margin Of Error","Estimate","Margin Of Error","Estimate","Margin Of Error","Estimate","Margin Of Error","Estimate","Margin Of Error","Estimate","Margin Of Error","Estimate","Margin Of Error","Estimate","Margin Of Error","Estimate","Margin Of Error","Estimate","Margin Of Error","Estimate","Margin Of Error"]
[null,"Total:",5897,17,4926,30,7353,20,820,181,7725,20,3960,27,16394,103,6640,36,2594,182,3047,21,3744,22]
[null,"Under 18 years:",949,163,1022,193,1598,286,88,50,1524,285,821,165,3096,370,837,163,332,89,539,102,662,157]
[null,"With one type of disability",0,17,53,60,62,71,0,12,35,48,26,40,195,118,33,36,50,67,69,82,28,34]
[null,"With two or more types of disability",0,17,0,12,0,17,0,12,0,17,0,12,34,56,0,17,0,12,0,12,0,12]
[null,"No disability",949,163,969,190,1536,282,88,50,1489,286,795,160,2867,388,804,155,282,68,470,118,634,157]
[null,"18 to 64  years:",3619,257,2937,256,4164,276,344,98,4645,305,2462,206,9913,399,3753,302,1599,168,1844,223,2407,200]
[null,"With one type of disability",184,103,150,83,195,115,34,29,497,244,44,37,925,237,231,112,254,65,334,269,66,63]
[null,"With two or more types of disability",98,76,104,69,224,136,9,14,188,133,109,87,766,264,278,114,59,36,177,152,188,150]
[null,"No disability",3337,290,2683,268,3745,283,301,90,3960,341,2309,199,8222,460,3244,318,1286,159,1333,207,2153,214]
[null,"65 years and over:",1329,232,967,209,1591,354,388,109,1556,345,677,161,3385,407,2050,335,663,158,664,211,675,167]
[null,"With one type of disability",174,82,158,77,399,239,85,49,163,76,133,86,842,184,339,129,191,92,124,71,164,85]
[null,"With two or more types of disability",211,104,153,98,210,95,41,29,128,88,98,66,507,241,417,178,113,69,89,59,110,66]
[null,"No disability",944,189,656,204,982,271,262,73,1265,337,446,146,2036,333,1294,268,359,103,451,157,401,116]
[]
[]
[]
[]
[]
[]
[]
[]
[]
[]
[]
[]
[]
[]
[]
[]
[]
[]
[]
[]
[]
[]
[]
[]
[]
[]
[]
[]
[]
[]
[]
[]
[]
[]
[]
[]
[]
[]
[]
[]
[]
[]
[]
[]
[]
[]
[]
[]
[]
[]
[]
[]
[]
[]
[]
[]
[]
[]
[]
[]
[]
[]
[]
[]
[]
[]
[]
[]
[]
[]
[]
[]
[]
[]
[]
[]
[]
[]
[]
[]
["C18108. AGE BY NUMBER OF DISABILITIES\n\n"]
["Universe:  Civilian non-institutionalized population"]
["Data Set: 2013-2017 American Community Survey 5-Year Estimates"]
[]
[null,null,"Alton",null,"Barnstead",null,"Belmont",null,"Center Harbor",null,"Gilford",null,"Gilmanton",null,"Laconia",null,"Meredith",null,"New Hampton",null,"Sanbornton",null,"Tilton"]
[null,null,"Estimate","Margin Of Error","Estimate","Margin Of Error","Estimate","Margin Of Error","Estimate","Margin Of Error","Estimate","Margin Of Error","Estimate","Margin Of Error","Estimate","Margin Of Error","Estimate","Margin Of Error","Estimate","Margin Of Error","Estimate","Margin Of Error","Estimate"]
[null,"Total:",5256,19,4615,16,7268,19,1000,178,7111,23,15762,173,15694,177,6334,33,2276,176,2973,16,3294,143]
[null,"Under 18 years:",1241,179,914,136,1419,165,116,65,1410,274,2719,231,3084,355,1365,135,501,97,574,82,620,122]
[null,"With one type of disability",65,65,39,44,124,80,2,5,35,35,218,131,227,135,135,101,33,40,0,11,0,11]
[null,"With two or more types of disability",29,42,0,11,99,91,0,11,35,36,77,70,42,39,36,45,0,11,11,12,0,11]
[null,"No disability",1147,188,875,139,1196,178,114,64,1340,280,2424,195,2815,301,1194,145,468,88,563,83,620,122]
[null,"18 to 64  years:",2796,202,3109,156,4704,234,611,154,3889,244,10093,289,9910,369,3525,179,1375,136,1869,94,2109,157]
[null,"With one type of disability",184,77,228,86,442,137,43,27,144,105,755,187,733,169,228,83,100,44,148,55,241,105]
[null,"With two or more types of disability",80,57,70,51,195,190,27,37,128,74,596,149,644,202,183,83,48,27,71,33,144,84]
[null,"No disability",2532,223,2811,180,4067,323,541,122,3617,250,8742,322,8533,455,3114,216,1227,135,1650,110,1724,183]
[null,"65 years and over:",1219,223,592,109,1145,196,273,73,1812,230,2950,263,2700,269,1444,155,400,79,530,83,565,136]
[null,"With one type of disability",231,126,125,61,266,124,72,30,229,78,391,92,288,74,191,77,63,27,103,40,72,42]
[null,"With two or more types of disability",136,88,76,41,176,98,11,13,232,88,498,146,481,126,259,102,50,29,103,46,85,37]
[null,"No disability",852,216,391,89,703,135,190,55,1351,224,2061,235,1931,228,994,129,287,69,324,56,408,121]
[]
[]
[]
[]
[]
[]
[]
[]
[]
[]
[]
[]
["B18108. AGE BY NUMBER OF DISABILITIES\n\n"]
["Universe:  Civilian non-institutionalized population"]
["Data Set: 2008-2012 American Community Survey 5-Year Estimates"]
[]
[null,null,"Alton",null,"Barnstead",null,"Belmont",null,"Center Harbor",null,"Gilford",null,"Gilmanton",null,"Laconia",null,"Meredith",null,"New Hampton",null,"Sanbornton",null,"Tilton"]
[null,null,"Estimate","Margin Of Error","Estimate","Margin Of Error","Estimate","Margin Of Error","Estimate","Margin Of Error","Estimate","Margin Of Error","Estimate","Margin Of Error","Estimate","Margin Of Error","Estimate","Margin Of Error","Estimate","Margin Of Error","Estimate","Margin Of Error","Estimate","Margin Of Error"]
[null,"Total:",5235,20,4586,23,7342,22,1034,141,7111,40,3761,26,15551,140,6184,50,2234,144,2958,18,3471,112,746,184,5070,20,13226,55,1665,226,615,113,767,114,2936,33,776,133,1212,178,6425,61,2570,212,1354,195,3349,23,1349,139,1071,171]
[null,"Under 18 years:",1031,213,1191,132,1986,232,181,56,1374,208,947,131,3012,242,1175,178,442,74,586,85,621,119,158,98,964,168,2925,222,375,111,102,40,74,36,584,101,161,61,309,80,1436,248,606,96,369,112,634,136,173,62,181,68]
[null,"With one type of disability",0,16,73,58,67,63,3,5,37,36,27,31,86,69,7,13,22,19,10,10,11,21,2,3,56,57,137,104,0,11,0,11,9,11,11,12,4,5,39,31,68,77,6,9,3,5,22,16,3,5,17,19]
[null,"With two or more types of disability",0,16,0,11,0,16,0,11,32,39,0,11,0,18,9,15,12,14,0,11,0,11,0,11,19,31,60,49,0,11,0,11,0,11,0,11,7,8,7,8,0,16,2,6,0,11,5,11,0,11,7,9]
[null,"No disability",1031,213,1118,119,1919,235,178,56,1305,223,920,134,2926,237,1159,178,408,73,576,85,610,122,156,98,889,148,2728,205,375,111,102,40,65,29,573,104,150,60,263,63,1368,247,598,98,366,112,607,135,170,63,157,63]
[null,"18 to 64  years:",3159,233,2825,119,4482,226,635,117,4395,267,2332,116,10163,264,3620,194,1452,142,1938,78,2234,154,456,103,3318,214,8239,217,1080,145,411,76,536,82,1750,119,503,92,763,116,4061,249,1633,162,784,114,1987,151,989,109,601,100]
[null,"With one type of disability",129,80,127,66,258,125,27,23,202,99,123,51,545,141,227,114,59,33,98,45,85,52,17,13,126,65,850,193,68,26,25,15,60,26,11,12,24,19,66,30,356,142,84,45,52,28,61,44,122,42,80,37]
[null,"With two or more types of disability",123,89,100,62,217,116,14,16,71,52,97,40,835,224,133,89,66,38,23,32,88,63,10,10,256,114,519,172,47,27,8,7,34,20,41,43,36,25,26,17,246,109,69,43,13,13,59,70,29,18,46,26]
[null,"No disability",2907,263,2598,149,4007,270,594,116,4122,290,2112,140,8783,323,3260,217,1327,137,1817,82,2061,166,429,97,2936,197,6870,305,965,138,378,75,442,79,1698,133,443,82,671,110,3459,278,1480,151,719,114,1867,187,838,99,475,86]
[null,"65 years and over:",1045,238,570,97,874,175,218,54,1342,255,482,129,2376,225,1389,201,340,92,434,70,616,115,132,57,788,177,2062,203,210,51,102,38,157,46,602,115,112,46,140,49,928,168,331,77,201,58,728,147,187,44,289,57]
[null,"With one type of disability",79,47,116,48,188,94,39,20,165,72,34,32,316,93,179,71,41,20,63,34,21,19,39,23,247,95,358,95,35,22,7,8,11,10,49,31,5,6,24,17,215,102,45,26,33,19,144,71,29,20,53,27]
[null,"With two or more types of disability",160,91,101,57,132,89,13,9,191,94,74,40,395,111,153,91,65,53,67,39,158,86,9,9,180,106,550,126,23,15,25,18,32,23,55,36,9,8,50,34,148,84,31,23,40,24,57,42,12,10,33,15]
[null,"No disability",806,216,353,81,554,141,166,47,986,204,374,107,1665,218,1057,199,234,63,304,65,437,119,84,43,361,120,1154,188,152,45,70,29,114,40,498,109,98,44,66,27,565,144,255,71,128,46,527,127,146,41,203,46]

{"sheet":"ACS_Table_B19049","index":35,"n_rows":56,"n_cols":24,"rows_kept":56,"cut":false,"hidden":true,"merged":[]}
[null,"B19049. MEDIAN HOUSEHOLD INCOME IN THE PAST 12 MONTHS (IN 2022 INFLATION-ADJUSTED DOLLARS) BY AGE OF HOUSEHOLDER "]
[null,"Universe:  HOUSEHOLDS"]
[null,"Data Set: 2017-2022 American Community Survey 5-Year Estimates"]
[]
[null,null,"Alton",null,"Barnstead",null,"Belmont",null,"Center Harbor",null,"Gilford",null,"Gilmanton",null,"Laconia",null,"Meredith",null,"New Hampton",null,"Sanbornton",null,"Tilton"]
[null," ","Estimate","Margin of Error","Estimate","Margin of Error","Estimate","Margin of Error","Estimate","Margin of Error","Estimate","Margin of Error","Estimate","Margin of Error","Estimate","Margin of Error","Estimate","Margin of Error","Estimate","Margin of Error","Estimate","Margin of Error","Estimate","Margin of Error"]
[null,"Median household income in the past 12 months"]
[null,"Total:",111875,11586,89303,14683,73302,24757,100192,14948,112522,6217,104875,15144,67856,7883,65372,10829,73971,16445,81645,18091,64577,4522]
[null,"Householder under 25 years","-","**","-","**","-","**","-","**","-","**","-","**",108049,73409,"-","**","-","**","-","**","-","**"]
[null,"Householder 25 to 44 years",112677,18597,106406,27073,92557,28038,"-","**",130163,19185,108182,20469,72685,14893,60313,30417,64750,43510,119875,104686,66906,6945]
[null,"Householder 45 to 64 years",139345,28834,105192,34620,106750,28069,78125,22886,127583,18082,120625,26201,75139,23396,101420,42252,110357,32890,107750,79755,97000,54713]
[null,"Householder 65 years and over",53359,29591,59450,16300,43023,12911,116154,28067,60625,15255,86111,41531,54730,8196,58098,17429,56528,12540,66731,27806,34760,6894]
[]
[]
[]
[]
[]
[]
[]
[]
[]
[]
[]
[]
[]
[]
[]
[]
[]
[null,"B19049. MEDIAN HOUSEHOLD INCOME IN THE PAST 12 MONTHS (IN 2017 INFLATION-ADJUSTED DOLLARS) BY AGE OF HOUSEHOLDER "]
[null,"Universe:  HOUSEHOLDS"]
[null,"Data Set: 2013-2017 American Community Survey 5-Year Estimates"]
[]
[null,null,"Alton",null,"Barnstead",null,"Belmont",null,"Center Harbor",null,"Gilford",null,"Gilmanton",null,"Laconia",null,"Meredith",null,"New Hampton",null,"Sanbornton",null,"Tilton"]
[null," ","Estimate","Margin of Error","Estimate","Margin of Error","Estimate","Margin of Error","Estimate","Margin of Error","Estimate","Margin of Error","Estimate","Margin of Error","Estimate","Margin of Error","Estimate","Margin of Error","Estimate","Margin of Error","Estimate","Margin of Error","Estimate","Margin of Error"]
[null,"Median household income in the past 12 months"]
[null,"Total:",79861,8701,73000,11444,63309,10927,66250,16264,73660,4101,52702,5962,48893,4719,68929,8419,72296,7813,77000,12635,53418,7838]
[null,"Householder under 25 years","-","**","-","**","-","**","-","**","-","**",43774,13189,"-","**","-","**","-","**","-","**","-","**"]
[null,"Householder 25 to 44 years",73200,7206,80625,18510,68918,27398,65313,48173,73203,24837,60783,9338,49704,13702,70486,23047,86250,22917,91071,10224,50972,6424]
[null,"Householder 45 to 64 years",83567,10919,83958,25163,81339,23284,80625,33762,97825,15076,63750,13057,65920,10082,82024,24491,72422,7683,90000,21057,76176,15094]
[null,"Householder 65 years and over",75307,39361,59732,16028,42813,21033,57159,29139,51852,15221,40893,8963,39450,7532,49408,15037,45365,19112,51250,15216,36917,10107]
[]
[]
[]
[null,"B19049. MEDIAN HOUSEHOLD INCOME IN THE PAST 12 MONTHS (IN 2012 INFLATION-ADJUSTED DOLLARS) BY AGE OF HOUSEHOLDER "]
[null,"Universe:  HOUSEHOLDS"]
[null,"Data Set: 2008-2012 American Community Survey 5-Year Estimates"]
[]
[null,null,"Alton",null,"Barnstead",null,"Belmont",null,"Center Harbor",null,"Gilford",null,"Gilmanton",null,"Laconia",null,"Meredith",null,"New Hampton",null,"Sanbornton",null,"Tilton"]
[null," ","Estimate","Margin of Error","Estimate","Margin of Error","Estimate","Margin of Error","Estimate","Margin of Error","Estimate","Margin of Error","Estimate","Margin of Error","Estimate","Margin of Error","Estimate","Margin of Error","Estimate","Margin of Error","Estimate","Margin of Error","Estimate","Margin of Error"]
[null,"Median household income in the past 12 months"]
[null,"Total:",58883,13109,66458,11098,62767,6127,59417,9710,63061,4518,63977,11672,47817,2617,56007,8653,61463,5591,64494,2768,51198,8756]
[null,"Householder under 25 years",45469,41169,"-","**",53264,46943,"-","**",18140,8409,"-","**",28566,18446,"-","**",75673,49599,"-","**","-","**"]
[null,"Householder 25 to 44 years",77853,15462,77368,8741,57244,9393,51250,28669,64049,13819,72083,19496,54682,7384,58889,23351,72045,8775,75156,14972,63209,9706]
[null,"Householder 45 to 64 years",59856,31170,59742,8085,77236,11930,78438,22155,71250,5103,66912,7318,59264,8950,73299,27625,66500,10828,65893,9584,62578,19101]
[null,"Householder 65 years and over",35670,13861,52917,25095,25492,5314,39904,14847,36848,28826,32457,5617,35192,5581,43889,15526,41776,6091,51875,8114,30052,10185]

{"sheet":"ACS_TableB19101_ACS_Tbl_B19113","index":36,"n_rows":130,"n_cols":24,"rows_kept":130,"cut":false,"hidden":true,"merged":[]}
[null,"B19101. FAMILY INCOME IN THE PAST 12 MONTHS (IN 2022 INFLATION-ADJUSTED DOLLARS)"]
[null,"Universe:  FAMILIES"]
[null,"Data Set: 2014-2018 American Community Survey 5-Year Estimates"]
[]
[null,null,"Alton",null,"Barnstead",null,"Belmont",null,"Center Harbor",null,"Gilford",null,"Gilmanton",null,"Laconia",null,"Meredith",null,"New Hampton",null,"Sanbornton",null,"Tilton"]
[null," ","Estimate","Margin of Error","Estimate","Margin of Error","Estimate","Margin of Error","Estimate","Margin of Error","Estimate","Margin of Error","Estimate","Margin of Error","Estimate","Margin of Error","Estimate","Margin of Error","Estimate","Margin of Error","Estimate","Margin of Error","Estimate","Margin of Error"]
[null,"Total:",1852,184,1408,116,1988,170,283,77,2187,146,1093,121,4057,295,1801,201,666,78,768,96,997,113]
[null,"Less than $10,000",32,53,9,14,49,58,0,12,49,54,0,12,5,8,66,46,13,15,12,20,26,26]
[null,"$10,000 to $14,999",15,25,33,31,150,121,5,7,27,38,29,34,138,114,74,50,0,12,0,12,0,12]
[null,"$15,000 to $19,999",0,17,0,12,29,35,0,12,57,89,12,20,92,89,28,25,12,20,21,31,0,12]
[null,"$20,000 to $24,999",9,14,34,52,49,45,0,12,9,11,56,59,35,35,0,17,5,7,23,33,28,29]
[null,"$25,000 to $29,999",0,17,25,30,0,17,1,3,36,36,8,13,175,89,76,73,15,22,6,9,64,73]
[null,"$30,000 to $34,999",52,55,39,46,63,51,9,10,8,14,0,12,102,87,42,41,13,11,0,12,100,82]
[null,"$35,000 to $39,999",70,57,69,88,24,33,3,5,5,8,21,34,196,157,37,28,33,30,0,12,15,17]
[null,"$40,000 to $44,999",10,16,17,20,146,89,13,12,34,29,8,13,68,73,48,46,26,24,0,12,7,10]
[null,"$45,000 to $49,999",63,44,46,42,14,22,3,5,19,25,21,26,126,85,46,44,31,25,31,31,37,34]
[null,"$50,000 to $59,999",82,71,125,75,168,105,28,20,88,78,55,52,342,147,54,37,59,37,30,30,45,46]
[null,"$60,000 to $74,999",147,86,162,75,80,58,7,9,201,96,39,31,447,197,144,81,41,21,84,54,127,96]
[null,"$75,000 to $99,999",265,117,149,74,205,98,42,25,198,92,206,102,806,190,273,122,127,59,157,93,89,53]
[null,"$100,000 to $124,999",274,121,140,62,411,154,47,31,419,211,203,77,415,117,221,106,77,34,50,32,77,62]
[null,"$125,000 to $149,999",234,120,221,114,98,58,42,45,335,141,158,93,432,136,133,82,85,45,54,41,166,80]
[null,"$150,000 to $199,999",222,108,194,86,290,144,40,28,334,129,136,70,340,124,266,134,76,33,200,89,179,83]
[null,"$200,000 or more",377,147,145,70,212,103,43,32,368,115,141,92,338,118,293,119,53,27,100,58,37,35]
[]
[]
[null,"B19113. MEDIAN FAMILY INCOME IN THE PAST 12 MONTHS (IN 2022 INFLATION-ADJUSTED DOLLARS)"]
[null,"Universe:  FAMILIES"]
[null,"Data Set: 2014-2018 American Community Survey 5-Year Estimates"]
[]
[null,null,"Alton",null,"Barnstead",null,"Belmont",null,"Center Harbor",null,"Gilford",null,"Gilmanton",null,"Laconia",null,"Meredith",null,"New Hampton",null,"Sanbornton",null,"Tilton"]
[null," ","Estimate","Margin of Error","Estimate","Margin of Error","Estimate","Margin of Error","Estimate","Margin of Error","Estimate","Margin of Error","Estimate","Margin of Error","Estimate","Margin of Error","Estimate","Margin of Error","Estimate","Margin of Error","Estimate","Margin of Error","Estimate","Margin of Error"]
[null,"Median family income in the past 12 months",114946,14573,99091,18154,100452,17534,122574,28655,122827,13207,112396,16260,88464,4774,100919,29608,96014,11576,113750,34419,89509,32791]
[]
[]
[]
[]
[]
[]
[]
[]
[]
[]
[]
[]
[]
[]
[]
[]
[]
[null,"B19101. FAMILY INCOME IN THE PAST 12 MONTHS (IN 2017 INFLATION-ADJUSTED DOLLARS)"]
[null,"Universe:  FAMILIES"]
[null,"Data Set: 2013-2017 American Community Survey 5-Year Estimates"]
[]
[null,null,"Alton",null,"Barnstead",null,"Belmont",null,"Center Harbor",null,"Gilford",null,"Gilmanton",null,"Laconia",null,"Meredith",null,"New Hampton",null,"Sanbornton",null,"Tilton"]
[null," ","Estimate","Margin of Error","Estimate","Margin of Error","Estimate","Margin of Error","Estimate","Margin of Error","Estimate","Margin of Error","Estimate","Margin of Error","Estimate","Margin of Error","Estimate","Margin of Error","Estimate","Margin of Error","Estimate","Margin of Error","Estimate","Margin of Error"]
[null,"Total:",579,186,335,110,807,214,96,39,1066,221,2923,343,2634,309,891,191,226,71,276,77,644,131]
[null,"Less than $10,000",0,16,40,31,157,85,13,15,96,66,210,81,209,82,52,47,45,36,12,14,100,80]
[null,"$10,000 to $14,999",63,72,37,44,90,83,7,8,24,31,238,109,269,100,113,59,14,12,5,8,70,50]
[null,"$15,000 to $19,999",0,16,12,19,30,32,3,5,151,77,429,163,492,177,117,63,13,13,14,16,89,67]
[null,"$20,000 to $24,999",94,68,23,25,70,78,4,5,13,14,198,104,265,125,94,57,26,20,22,24,13,21]
[null,"$25,000 to $29,999",46,45,18,19,15,26,0,11,80,66,208,88,148,66,13,16,25,15,32,20,58,55]
[null,"$30,000 to $34,999",41,67,19,22,29,33,11,17,89,70,225,94,153,77,43,32,11,11,34,31,58,41]
[null,"$35,000 to $39,999",26,31,9,14,46,45,2,3,97,60,157,101,185,116,58,63,4,7,9,11,0,11]
[null,"$40,000 to $44,999",117,95,8,14,0,16,6,8,0,16,117,59,94,55,12,17,10,13,15,23,14,17]
[null,"$45,000 to $49,999",20,31,38,46,13,21,0,11,93,73,118,97,133,91,35,40,9,11,0,11,41,51]
[null,"$50,000 to $59,999",14,22,48,35,35,36,21,19,64,54,184,89,121,54,68,60,0,11,15,13,42,36]
[null,"$60,000 to $74,999",31,35,47,41,92,69,12,15,139,82,211,98,174,91,83,48,11,11,37,23,43,37]
[null,"$75,000 to $99,999",94,106,22,18,56,52,0,11,109,89,239,106,142,81,67,38,33,29,29,19,66,46]
[null,"$100,000 to $124,999",21,33,5,8,161,132,17,16,41,30,167,102,67,41,28,23,8,14,25,21,16,19]
[null,"$125,000 to $149,999",0,16,9,14,13,21,0,11,70,54,58,37,60,39,20,22,10,14,23,30,0,11]
[null,"$150,000 to $199,999",12,19,0,11,0,16,0,11,0,16,91,62,66,53,58,59,0,11,4,6,34,52]
[null,"$200,000 or more",0,16,0,11,0,16,0,11,0,16,73,50,56,47,30,27,7,11,0,11,0,11]
[]
[]
[null,"B19113. MEDIAN FAMILY INCOME IN THE PAST 12 MONTHS (IN 2017 INFLATION-ADJUSTED DOLLARS)"]
[null,"Universe:  FAMILIES"]
[null,"Data Set: 2013-2017 American Community Survey 5-Year Estimates"]
[]
[null,null,"Alton",null,"Barnstead",null,"Belmont",null,"Center Harbor",null,"Gilford",null,"Gilmanton",null,"Laconia",null,"Meredith",null,"New Hampton",null,"Sanbornton",null,"Tilton"]
[null," ","Estimate","Margin of Error","Estimate","Margin of Error","Estimate","Margin of Error","Estimate","Margin of Error","Estimate","Margin of Error","Estimate","Margin of Error","Estimate","Margin of Error","Estimate","Margin of Error","Estimate","Margin of Error","Estimate","Margin of Error","Estimate","Margin of Error"]
[null,"Median family income in the past 12 months",40473,10297,45099,14437,35679,21155,50625,20963,39241,12841,33063,6000,26737,5942,35703,10383,28750,6716,41667,20931,28000,10774]
[]
[]
[]
[]
[]
[]
[]
[]
[]
[]
[]
[]
[]
[]
[]
[]
[]
[null,"B19101. FAMILY INCOME IN THE PAST 12 MONTHS (IN 2012 INFLATION-ADJUSTED DOLLARS)"]
[null,"Universe:  FAMILIES"]
[null,"Data Set: 2008-2012 American Community Survey 5-Year Estimates"]
[]
[null,null,"Alton",null,"Barnstead",null,"Belmont",null,"Center Harbor",null,"Gilford",null,"Gilmanton",null,"Laconia",null,"Meredith",null,"New Hampton",null,"Sanbornton",null,"Tilton"]
[null," ","Estimate","Margin of Error","Estimate","Margin of Error","Estimate","Margin of Error","Estimate","Margin of Error","Estimate","Margin of Error","Estimate","Margin of Error","Estimate","Margin of Error","Estimate","Margin of Error","Estimate","Margin of Error","Estimate","Margin of Error","Estimate","Margin of Error"]
[null,"Total:",607,183,301,92,684,171,104,35,949,194,341,107,2758,310,1080,217,235,52,354,90,524,131]
[null,"Less than $10,000",113,90,10,17,44,55,4,5,113,82,26,24,329,146,164,92,27,20,26,20,33,27]
[null,"$10,000 to $14,999",51,47,11,18,53,56,11,14,33,33,15,17,352,102,169,82,23,14,17,14,100,66]
[null,"$15,000 to $19,999",48,60,20,23,84,70,5,7,128,85,50,47,307,106,62,42,7,8,15,16,49,43]
[null,"$20,000 to $24,999",45,41,50,38,89,70,11,11,38,32,0,11,244,111,46,40,11,9,0,11,52,41]
[null,"$25,000 to $29,999",58,77,54,38,36,34,10,15,67,47,15,17,210,119,75,60,12,14,17,19,36,29]
[null,"$30,000 to $34,999",18,28,5,8,43,70,5,6,47,33,55,49,187,86,115,83,22,17,38,28,63,53]
[null,"$35,000 to $39,999",43,69,18,16,59,53,6,7,13,21,32,36,204,99,51,41,13,11,0,11,45,29]
[null,"$40,000 to $44,999",10,16,10,16,11,20,3,4,110,104,16,18,165,64,58,72,5,7,39,26,15,17]
[null,"$45,000 to $49,999",14,23,20,34,34,55,3,5,0,16,7,11,126,81,36,42,15,12,9,13,30,27]
[null,"$50,000 to $59,999",78,65,33,24,49,47,10,10,49,46,14,27,219,97,85,72,14,11,36,29,18,20]
[null,"$60,000 to $74,999",87,65,13,16,116,89,18,22,126,104,34,27,84,56,71,45,18,18,59,35,25,22]
[null,"$75,000 to $99,999",15,26,30,26,47,37,10,9,105,70,23,24,104,59,66,52,45,34,22,19,41,42]
[null,"$100,000 to $124,999",0,16,27,39,0,16,8,12,23,32,20,22,108,81,63,55,7,7,18,18,0,11]
[null,"$125,000 to $149,999",0,16,0,11,14,20,0,11,42,40,11,18,10,17,0,16,11,16,25,38,9,14]
[null,"$150,000 to $199,999",27,33,0,11,5,8,0,11,23,26,10,16,63,46,9,15,0,11,24,34,0,11]
[null,"$200,000 or more",0,16,0,11,0,16,0,11,32,32,13,21,46,35,10,15,5,7,9,14,8,13]
[]
[]
[null,"B19113. MEDIAN FAMILY INCOME IN THE PAST 12 MONTHS (IN 2012 INFLATION-ADJUSTED DOLLARS)"]
[null,"Universe:  FAMILIES"]
[null,"Data Set: 2008-2012 American Community Survey 5-Year Estimates"]
[]
[null,null,"Alton",null,"Barnstead",null,"Belmont",null,"Center Harbor",null,"Gilford",null,"Gilmanton",null,"Laconia",null,"Meredith",null,"New Hampton",null,"Sanbornton",null,"Tilton"]
[null," ","Estimate","Margin of Error","Estimate","Margin of Error","Estimate","Margin of Error","Estimate","Margin of Error","Estimate","Margin of Error","Estimate","Margin of Error","Estimate","Margin of Error","Estimate","Margin of Error","Estimate","Margin of Error","Estimate","Margin of Error","Estimate","Margin of Error"]
[null,"Median family income in the past 12 months",29413,11845,35125,15323,34593,12055,40000,22970,41929,10865,35742,8549,28698,3547,30625,5592,41250,18048,53750,13550,28947,7203]

{"sheet":"ACS_TableB19201_ACS_Tbl_B19202","index":37,"n_rows":115,"n_cols":24,"rows_kept":115,"cut":false,"hidden":true,"merged":[]}
[null,"B19201. NON-FAMILY INCOME IN THE PAST 12 MONTHS (IN 2019 INFLATION-ADJUSTED DOLLARS)"]
[null,"Universe:  FAMILIES"]
[null,"Data Set: 2014-2018 American Community Survey 5-Year Estimates"]
[]
[null,null,"Alton",null,"Barnstead",null,"Belmont",null,"Center Harbor",null,"Gilford",null,"Gilmanton",null,"Laconia",null,"Meredith",null,"New Hampton",null,"Sanbornton",null,"Tilton"]
[null," ","Estimate","Margin of Error","Estimate","Margin of Error","Estimate","Margin of Error","Estimate","Margin of Error","Estimate","Margin of Error","Estimate","Margin of Error","Estimate","Margin of Error","Estimate","Margin of Error","Estimate","Margin of Error","Estimate","Margin of Error","Estimate","Margin of Error"]
[null,"Total:",388,178,432,153,952,257,101,41,882,273,482,162,2908,393,1441,328,312,97,357,130,601,171]
[null,"Less than $10,000",16,25,7,11,144,112,6,7,26,25,32,39,267,171,97,106,28,19,30,35,36,36]
[null,"$10,000 to $14,999",0,17,0,12,57,76,5,7,33,39,8,13,205,151,101,85,0,12,12,15,7,12]
[null,"$15,000 to $19,999",12,20,13,22,92,69,0,12,20,23,0,12,185,103,39,44,17,21,78,65,67,70]
[null,"$20,000 to $24,999",32,51,27,37,56,50,0,12,46,50,30,33,192,79,181,157,8,10,27,41,44,46]
[null,"$25,000 to $29,999",89,97,59,67,0,17,9,13,77,82,0,12,268,132,112,91,15,23,10,17,65,47]
[null,"$30,000 to $34,999",31,38,62,70,130,167,16,19,29,30,22,22,261,143,120,74,15,15,18,21,63,47]
[null,"$35,000 to $39,999",10,16,45,53,30,37,6,9,63,59,0,12,103,48,160,138,7,10,21,23,23,29]
[null,"$40,000 to $44,999",61,67,0,12,51,66,0,12,51,43,28,44,202,175,43,34,73,64,0,12,16,18]
[null,"$45,000 to $49,999",11,18,7,12,37,39,0,12,41,54,7,11,93,73,110,69,19,26,0,12,102,90]
[null,"$50,000 to $59,999",9,15,74,52,103,89,10,13,132,119,73,53,251,145,73,44,24,20,48,66,23,28]
[null,"$60,000 to $74,999",17,27,27,23,34,38,17,30,40,33,37,43,236,120,118,79,42,36,10,14,56,52]
[null,"$75,000 to $99,999",18,28,46,35,48,47,11,9,33,27,74,44,197,96,27,26,8,10,41,64,22,30]
[null,"$100,000 to $124,999",44,67,22,24,14,22,16,16,189,108,147,123,209,121,63,56,16,17,33,31,61,76]
[null,"$125,000 to $149,999",24,37,34,32,74,81,3,5,54,40,0,12,92,76,83,81,9,12,7,11,0,12]
[null,"$150,000 to $199,999",0,17,9,15,26,29,2,4,33,37,17,28,80,65,52,45,19,21,13,20,8,12]
[null,"$200,000 or more",14,23,0,12,56,53,0,12,15,18,7,12,67,57,62,44,12,13,9,15,8,12]
[]
[]
[null,"B19202. MEDIAN NON-FAMILY INCOME IN THE PAST 12 MONTHS (IN 2019 INFLATION-ADJUSTED DOLLARS)"]
[null,"Universe:  FAMILIES"]
[null,"Data Set: 2014-2018 American Community Survey 5-Year Estimates"]
[]
[null,null,"Alton",null,"Barnstead",null,"Belmont",null,"Center Harbor",null,"Gilford",null,"Gilmanton",null,"Laconia",null,"Meredith",null,"New Hampton",null,"Sanbornton",null,"Tilton"]
[null," ","Estimate","Margin of Error","Estimate","Margin of Error","Estimate","Margin of Error","Estimate","Margin of Error","Estimate","Margin of Error","Estimate","Margin of Error","Estimate","Margin of Error","Estimate","Margin of Error","Estimate","Margin of Error","Estimate","Margin of Error","Estimate","Margin of Error"]
[null,"Median family income in the past 12 months",40270,14175,48571,29331,32442,17129,59625,29569,55455,8143,78611,35749,38500,10087,37350,5479,44688,7159,37917,30133,39135,14627]
[]
[]
[]
[]
[]
[]
[]
[]
[]
[]
[]
[]
[]
[]
[]
[]
[]
[null,"B19201. NON-FAMILY INCOME IN THE PAST 12 MONTHS (IN 2015 INFLATION-ADJUSTED DOLLARS)"]
[null,"Universe:  FAMILIES"]
[null,"Data Set: 2013-2017 American Community Survey 5-Year Estimates"]
[]
[null,null,"Alton",null,"Barnstead",null,"Belmont",null,"Center Harbor",null,"Gilford",null,"Gilmanton",null,"Laconia",null,"Meredith",null,"New Hampton",null,"Sanbornton",null,"Tilton"]
[null," ","Estimate","Margin of Error","Estimate","Margin of Error","Estimate","Margin of Error","Estimate","Margin of Error","Estimate","Margin of Error","Estimate","Margin of Error","Estimate","Margin of Error","Estimate","Margin of Error","Estimate","Margin of Error","Estimate","Margin of Error","Estimate","Margin of Error"]
[null,"Total:",575,188,340,115,697,222,96,40,1068,210,395,140,2634,309,964,182,262,79,347,72,621,161]
[null,"Less than $10,000",0,15,33,29,157,111,12,15,65,57,5,10,209,82,74,55,50,41,14,15,65,51]
[null,"$10,000 to $14,999",76,84,37,46,86,89,7,7,31,34,0,11,269,100,148,66,16,14,12,14,64,55]
[null,"$15,000 to $19,999",0,15,19,24,18,28,2,6,152,91,0,11,492,177,118,63,8,11,13,14,73,59]
[null,"$20,000 to $24,999",112,83,21,23,106,91,4,6,54,42,14,17,265,125,80,44,28,25,23,27,11,19]
[null,"$25,000 to $29,999",31,35,26,24,0,15,0,11,59,44,41,37,148,66,23,23,24,18,30,17,86,68]
[null,"$30,000 to $34,999",40,68,5,10,11,19,4,5,108,75,95,73,153,77,31,25,10,11,29,20,76,57]
[null,"$35,000 to $39,999",25,28,20,22,13,20,2,4,78,56,64,57,185,116,91,68,5,7,5,8,14,16]
[null,"$40,000 to $44,999",100,92,8,13,0,15,5,7,20,33,6,10,94,55,24,29,6,8,27,33,25,23]
[null,"$45,000 to $49,999",17,28,29,46,15,24,0,11,78,63,3,9,133,91,0,15,5,7,3,6,17,20]
[null,"$50,000 to $59,999",48,46,51,34,27,22,9,10,79,52,26,26,121,54,72,57,11,11,25,19,26,24]
[null,"$60,000 to $74,999",14,23,44,37,71,63,17,19,127,69,71,69,174,91,92,49,6,9,51,34,68,43]
[null,"$75,000 to $99,999",95,91,22,28,67,48,6,8,80,75,12,17,142,81,73,43,64,49,26,17,43,37]
[null,"$100,000 to $124,999",0,15,25,26,126,100,28,25,96,61,45,38,67,41,46,47,13,19,66,40,0,11]
[null,"$125,000 to $149,999",0,15,0,11,0,15,0,11,38,31,13,20,60,39,21,25,12,15,5,7,10,17]
[null,"$150,000 to $199,999",17,21,0,11,0,15,0,11,0,15,0,11,66,53,42,54,0,11,18,22,35,57]
[null,"$200,000 or more",0,15,0,11,0,15,0,11,3,6,0,11,56,47,29,26,4,6,0,11,8,14]
[]
[]
[null,"B19202. MEDIAN NON-FAMILY INCOME IN THE PAST 12 MONTHS (IN 2016 INFLATION-ADJUSTED DOLLARS)"]
[null,"Universe:  FAMILIES"]
[null,"Data Set: 2013-2017 American Community Survey 5-Year Estimates"]
[]
[null,null,"Alton",null,"Barnstead",null,"Belmont",null,"Center Harbor",null,"Gilford",null,"Gilmanton",null,"Laconia",null,"Meredith",null,"New Hampton",null,"Sanbornton",null,"Tilton"]
[null," ","Estimate","Margin of Error","Estimate","Margin of Error","Estimate","Margin of Error","Estimate","Margin of Error","Estimate","Margin of Error","Estimate","Margin of Error","Estimate","Margin of Error","Estimate","Margin of Error","Estimate","Margin of Error","Estimate","Margin of Error","Estimate","Margin of Error"]
[null,"Median family income in the past 12 months",40088,13830,45086,13713,"-","**",60577,15347,38839,12301,37043,13314,26737,5942,35308,11514,31250,24460,58750,18843,30777,5718]
[]
[]
[null,"B19102. NON-FAMILY INCOME IN THE PAST 12 MONTHS (IN 2010 INFLATION-ADJUSTED DOLLARS)"]
[null,"Universe:  FAMILIES"]
[null,"Data Set: 2008-2012 American Community Survey 5-Year Estimates"]
[]
[null,null,"Alton",null,"Barnstead",null,"Belmont",null,"Center Harbor",null,"Gilford",null,"Gilmanton",null,"Laconia",null,"Meredith",null,"New Hampton",null,"Sanbornton",null,"Tilton"]
[null," ","Estimate","Margin of Error","Estimate","Margin of Error","Estimate","Margin of Error","Estimate","Margin of Error","Estimate","Margin of Error","Estimate","Margin of Error","Estimate","Margin of Error","Estimate","Margin of Error","Estimate","Margin of Error","Estimate","Margin of Error","Estimate","Margin of Error"]
[null,"Total:",557,173,317,98,798,231,99,37,1062,230,297,114,2739,279,1049,199,197,48,307,98,468,107]
[null,"Less than $10,000",112,97,10,16,38,51,3,4,113,83,32,35,295,119,143,93,23,20,24,20,32,24]
[null,"$10,000 to $14,999",34,36,11,17,120,90,10,14,46,43,13,16,419,138,121,72,33,19,18,21,107,63]
[null,"$15,000 to $19,999",50,64,12,18,40,27,5,8,152,103,54,48,232,90,64,43,4,6,4,8,60,49]
[null,"$20,000 to $24,999",42,45,69,50,88,77,25,20,39,37,38,38,227,99,53,44,7,7,7,11,53,39]
[null,"$25,000 to $29,999",54,69,52,39,57,53,0,85,83,46,0,85,233,131,55,55,15,15,20,21,19,22]
[null,"$30,000 to $34,999",0,85,12,18,61,72,8,9,38,38,43,38,173,72,143,92,20,15,49,37,43,29]
[null,"$35,000 to $39,999",42,66,9,14,119,72,10,10,60,49,0,85,200,98,51,42,14,12,8,12,25,20]
[null,"$40,000 to $44,999",11,17,8,13,16,27,2,5,114,126,14,16,103,65,67,71,0,85,33,35,16,18]
[null,"$45,000 to $49,999",12,19,35,40,35,56,3,5,0,85,0,85,132,80,49,56,10,11,24,27,22,26]
[null,"$50,000 to $59,999",63,64,39,33,34,31,9,9,60,47,13,20,244,106,94,66,31,20,31,27,10,16]
[null,"$60,000 to $74,999",99,61,23,21,124,100,18,22,134,94,27,22,108,67,68,42,8,10,22,21,28,27]
[null,"$75,000 to $99,999",16,27,30,24,39,34,6,6,93,85,14,19,154,64,106,76,15,16,14,16,53,51]
[null,"$100,000 to $124,999",0,85,7,13,0,85,0,85,11,21,16,19,121,89,15,18,6,6,15,16,0,85]
[null,"$125,000 to $149,999",0,85,0,85,12,20,0,85,43,42,11,16,23,29,0,85,11,17,21,33,0,85]
[null,"$150,000 to $199,999",11,17,0,85,15,17,0,85,29,33,9,14,35,33,10,16,0,85,10,12,0,85]
[null,"$200,000 or more",11,17,0,85,0,85,0,85,47,41,13,21,40,34,10,16,0,85,7,11,0,85]
[]
[]
[null,"B19112. MEDIAN NON-FAMILY INCOME IN THE PAST 12 MONTHS (IN 2011 INFLATION-ADJUSTED DOLLARS)"]
[null,"Universe:  FAMILIES"]
[null,"Data Set: 2008-2012 American Community Survey 5-Year Estimates"]
[]
[null,null,"Alton",null,"Barnstead",null,"Belmont",null,"Center Harbor",null,"Gilford",null,"Gilmanton",null,"Laconia",null,"Meredith",null,"New Hampton",null,"Sanbornton",null,"Tilton"]
[null," ","Estimate","Margin of Error","Estimate","Margin of Error","Estimate","Margin of Error","Estimate","Margin of Error","Estimate","Margin of Error","Estimate","Margin of Error","Estimate","Margin of Error","Estimate","Margin of Error","Estimate","Margin of Error","Estimate","Margin of Error","Estimate","Margin of Error"]
[null,"Median family income in the past 12 months",29215,17530,33438,14135,34795,6008,34250,14355,40000,6550,30927,11088,29422,2840,32258,5448,32813,8741,42260,9476,23816,7663]

{"sheet":"ACS_Table_B25119","index":38,"n_rows":68,"n_cols":24,"rows_kept":68,"cut":false,"hidden":true,"merged":[[17,12,17,13],[17,14,17,15],[17,16,17,17],[17,18,17,19],[17,20,17,21],[17,22,17,23],[11,14,11,15],[11,16,11,17],[11,18,11,19],[11,20,11,21],[11,22,11,23],[17,2,17,3],[17,4,17,5],[17,6,17,7],[17,8,17,9],[17,10,17,11],[11,2,11,3],[11,4,11,5],[11,6,11,7],[11,8,11,9],[11,10,11,11],[11,12,11,13],[77,12,77,13],[77,14,77,15],[77,16,77,17],[77,18,77,19],[77,20,77,21],[77,22,77,23],[71,14,71,15],[71,16,71,17],[71,18,71,19],[71,20,71,21],[71,22,71,23],[77,2,77,3],[77,4,77,5],[77,6,77,7],[77,8,77,9],[77,10,77,11],[71,2,71,3],[71,4,71,5],[71,6,71,7],[71,8,71,9],[71,10,71,11],[71,12,71,13],[23,14,23,15],[23,16,23,17],[23,18,23,19],[23,20,23,21],[23,22,23,23],[23,2,23,3],[23,4,23,5],[23,6,23,7],[23,8,23,9],[23,10,23,11],[23,12,23,13],[40,2,40,3],[40,4,40,5],[40,6,40,7],[40,8,40,9],[40,10,40,11],[40,12,40,13],[40,14,40,15],[40,16,40,17],[40,18,40,19],[101,12,101,13],[101,14,101,15],[101,16,101,17],[101,18,101,19],[101,20,101,21],[101,22,101,23],[95,14,95,15],[95,16,95,17],[95,18,95,19],[95,20,95,21],[95,22,95,23],[101,2,101,3],[101,4,101,5],[101,6,101,7],[101,8,101,9],[101,10,101,11],[95,2,95,3],[95,4,95,5],[95,6,95,7],[95,8,95,9],[95,10,95,11],[95,12,95,13],[89,12,89,13],[89,14,89,15],[89,16,89,17],[89,18,89,19],[89,20,89,21],[89,22,89,23],[83,14,83,15],[83,16,83,17],[83,18,83,19],[83,20,83,21],[83,22,83,23],[89,2,89,3],[89,4,89,5],[89,6,89,7],[89,8,89,9],[89,10,89,11],[83,2,83,3],[83,4,83,5],[83,6,83,7],[83,8,83,9],[83,10,83,11],[83,12,83,13],[125,12,125,13],[125,14,125,15],[125,16,125,17],[125,18,125,19],[125,20,125,21],[125,22,125,23],[119,14,119,15],[119,16,119,17],[119,18,119,19],[119,20,119,21],[119,22,119,23],[125,2,125,3],[125,4,125,5],[125,6,125,7],[125,8,125,9],[125,10,125,11],[119,2,119,3],[119,4,119,5],[119,6,119,7],[119,8,119,9],[119,10,119,11],[119,12,119,13],[113,12,113,13],[113,14,113,15],[113,16,113,17],[113,18,113,19],[113,20,113,21],[113,22,113,23],[107,14,107,15],[107,16,107,17],[107,18,107,19],[107,20,107,21],[107,22,107,23],[113,2,113,3],[113,4,113,5],[113,6,113,7],[113,8,113,9],[113,10,113,11],[107,2,107,3],[107,4,107,5],[107,6,107,7],[107,8,107,9],[107,10,107,11],[107,12,107,13],[149,12,149,13],[149,14,149,15],[149,16,149,17],[149,18,149,19],[149,20,149,21],[149,22,149,23],[143,14,143,15],[143,16,143,17],[143,18,143,19],[143,20,143,21],[143,22,143,23],[149,2,149,3],[149,4,149,5],[149,6,149,7],[149,8,149,9],[149,10,149,11],[143,2,143,3],[143,4,143,5],[143,6,143,7],[143,8,143,9],[143,10,143,11],[143,12,143,13],[137,12,137,13],[137,14,137,15],[137,16,137,17],[137,18,137,19],[137,20,137,21],[137,22,137,23],[131,14,131,15],[131,16,131,17],[131,18,131,19],[131,20,131,21],[131,22,131,23],[137,2,137,3],[137,4,137,5],[137,6,137,7],[137,8,137,9],[137,10,137,11],[131,2,131,3],[131,4,131,5],[131,6,131,7],[131,8,131,9],[131,10,131,11],[131,12,131,13],[173,12,173,13],[173,14,173,15],[173,16,173,17],[173,18,173,19],[173,20,173,21],[173,22,173,23],[167,14,167,15],[167,16,167,17],[167,18,167,19],[167,20,167,21],[167,22,167,23],[173,2,173,3],[173,4,173,5],[173,6,173,7],[173,8,173,9],[173,10,173,11],[167,2,167,3],[167,4,167,5],[167,6,167,7],[167,8,167,9],[167,10,167,11],[167,12,167,13],[161,12,161,13],[161,14,161,15],[161,16,161,17],[161,18,161,19],[161,20,161,21],[161,22,161,23],[155,14,155,15],[155,16,155,17],[155,18,155,19],[155,20,155,21],[155,22,155,23],[161,2,161,3],[161,4,161,5],[161,6,161,7],[161,8,161,9],[161,10,161,11],[155,2,155,3],[155,4,155,5],[155,6,155,7],[155,8,155,9],[155,10,155,11],[155,12,155,13],[197,12,197,13],[197,14,197,15],[197,16,197,17],[197,18,197,19],[197,20,197,21],[197,22,197,23],[191,14,191,15],[191,16,191,17],[191,18,191,19],[191,20,191,21],[191,22,191,23],[197,2,197,3],[197,4,197,5],[197,6,197,7],[197,8,197,9],[197,10,197,11],[191,2,191,3],[191,4,191,5],[191,6,191,7],[191,8,191,9],[191,10,191,11],[191,12,191,13],[185,12,185,13],[185,14,185,15],[185,16,185,17],[185,18,185,19],[185,20,185,21],[185,22,185,23],[179,14,179,15],[179,16,179,17],[179,18,179,19],[179,20,179,21],[179,22,179,23],[185,2,185,3],[185,4,185,5],[185,6,185,7],[185,8,185,9],[185,10,185,11],[179,2,179,3],[179,4,179,5],[179,6,179,7],[179,8,179,9],[179,10,179,11],[179,12,179,13],[221,12,221,13],[221,14,221,15],[221,16,221,17],[221,18,221,19],[221,20,221,21],[221,22,221,23],[215,14,215,15],[215,16,215,17],[215,18,215,19],[215,20,215,21],[215,22,215,23],[221,2,221,3],[221,4,221,5],[221,6,221,7],[221,8,221,9],[221,10,221,11],[215,2,215,3],[215,4,215,5],[215,6,215,7],[215,8,215,9],[215,10,215,11],[215,12,215,13],[209,12,209,13],[209,14,209,15],[209,16,209,17],[209,18,209,19],[209,20,209,21],[209,22,209,23],[203,14,203,15],[203,16,203,17],[203,18,203,19],[203,20,203,21],[203,22,203,23],[209,2,209,3],[209,4,209,5],[209,6,209,7],[209,8,209,9],[209,10,209,11],[203,2,203,3],[203,4,203,5],[203,6,203,7],[203,8,203,9],[203,10,203,11],[203,12,203,13],[245,12,245,13],[245,14,245,15],[245,16,245,17],[245,18,245,19],[245,20,245,21],[245,22,245,23],[239,14,239,15],[239,16,239,17],[239,18,239,19],[239,20,239,21],[239,22,239,23],[245,2,245,3],[245,4,245,5],[245,6,245,7],[245,8,245,9],[245,10,245,11],[239,2,239,3],[239,4,239,5],[239,6,239,7],[239,8,239,9],[239,10,239,11],[239,12,239,13],[233,12,233,13],[233,14,233,15],[233,16,233,17],[233,18,233,19],[233,20,233,21],[233,22,233,23],[227,14,227,15],[227,16,227,17],[227,18,227,19],[227,20,227,21],[227,22,227,23],[233,2,233,3],[233,4,233,5],[233,6,233,7],[233,8,233,9],[233,10,233,11],[227,2,227,3],[227,4,227,5],[227,6,227,7],[227,8,227,9],[227,10,227,11],[227,12,227,13],[269,12,269,13],[269,14,269,15],[269,16,269,17],[269,18,269,19],[269,20,269,21],[269,22,269,23],[263,14,263,15],[263,16,263,17],[263,18,263,19],[263,20,263,21],[263,22,263,23],[269,2,269,3],[269,4,269,5],[269,6,269,7],[269,8,269,9],[269,10,269,11],[263,2,263,3],[263,4,263,5],[263,6,263,7],[263,8,263,9],[263,10,263,11],[263,12,263,13],[257,12,257,13],[257,14,257,15],[257,16,257,17],[257,18,257,19],[257,20,257,21],[257,22,257,23],[251,14,251,15],[251,16,251,17],[251,18,251,19],[251,20,251,21],[251,22,251,23],[257,2,257,3],[257,4,257,5],[257,6,257,7],[257,8,257,9],[257,10,257,11],[251,2,251,3],[251,4,251,5],[251,6,251,7],[251,8,251,9],[251,10,251,11],[251,12,251,13],[293,12,293,13],[293,14,293,15],[293,16,293,17],[293,18,293,19],[293,20,293,21],[293,22,293,23],[287,14,287,15],[287,16,287,17],[287,18,287,19],[287,20,287,21],[287,22,287,23],[293,2,293,3],[293,4,293,5],[293,6,293,7],[293,8,293,9],[293,10,293,11],[287,2,287,3],[287,4,287,5],[287,6,287,7],[287,8,287,9],[287,10,287,11],[287,12,287,13],[281,12,281,13],[281,14,281,15],[281,16,281,17],[281,18,281,19],[281,20,281,21],[281,22,281,23],[275,14,275,15],[275,16,275,17],[275,18,275,19],[275,20,275,21],[275,22,275,23],[281,2,281,3],[281,4,281,5],[281,6,281,7],[281,8,281,9],[281,10,281,11],[275,2,275,3],[275,4,275,5],[275,6,275,7],[275,8,275,9],[275,10,275,11],[275,12,275,13],[317,12,317,13],[317,14,317,15],[317,16,317,17],[317,18,317,19],[317,20,317,21],[317,22,317,23],[311,14,311,15],[311,16,311,17],[311,18,311,19],[311,20,311,21],[311,22,311,23],[317,2,317,3],[317,4,317,5],[317,6,317,7],[317,8,317,9],[317,10,317,11],[311,2,311,3],[311,4,311,5],[311,6,311,7],[311,8,311,9],[311,10,311,11],[311,12,311,13],[305,12,305,13],[305,14,305,15],[305,16,305,17],[305,18,305,19],[305,20,305,21],[305,22,305,23],[299,14,299,15],[299,16,299,17],[299,18,299,19],[299,20,299,21],[299,22,299,23],[305,2,305,3],[305,4,305,5],[305,6,305,7],[305,8,305,9],[305,10,305,11],[299,2,299,3],[299,4,299,5],[299,6,299,7],[299,8,299,9],[299,10,299,11],[299,12,299,13],[341,12,341,13],[341,14,341,15],[341,16,341,17],[341,18,341,19],[341,20,341,21],[341,22,341,23],[335,14,335,15],[335,16,335,17],[335,18,335,19],[335,20,335,21],[335,22,335,23],[341,2,341,3],[341,4,341,5],[341,6,341,7],[341,8,341,9],[341,10,341,11],[335,2,335,3],[335,4,335,5],[335,6,335,7],[335,8,335,9],[335,10,335,11],[335,12,335,13],[329,12,329,13],[329,14,329,15],[329,16,329,17],[329,18,329,19],[329,20,329,21],[329,22,329,23],[323,14,323,15],[323,16,323,17],[323,18,323,19],[323,20,323,21],[323,22,323,23],[329,2,329,3],[329,4,329,5],[329,6,329,7],[329,8,329,9],[329,10,329,11],[323,2,323,3],[323,4,323,5],[323,6,323,7],[323,8,323,9],[323,10,323,11],[323,12,323,13],[365,12,365,13],[365,14,365,15],[365,16,365,17],[365,18,365,19],[365,20,365,21],[365,22,365,23],[359,14,359,15],[359,16,359,17],[359,18,359,19],[359,20,359,21],[359,22,359,23],[365,2,365,3],[365,4,365,5],[365,6,365,7],[365,8,365,9],[365,10,365,11],[359,2,359,3],[359,4,359,5],[359,6,359,7],[359,8,359,9],[359,10,359,11],[359,12,359,13],[353,12,353,13],[353,14,353,15],[353,16,353,17],[353,18,353,19],[353,20,353,21],[353,22,353,23],[347,14,347,15],[347,16,347,17],[347,18,347,19],[347,20,347,21],[347,22,347,23],[353,2,353,3],[353,4,353,5],[353,6,353,7],[353,8,353,9],[353,10,353,11],[347,2,347,3],[347,4,347,5],[347,6,347,7],[347,8,347,9],[347,10,347,11],[347,12,347,13],[389,12,389,13],[389,14,389,15],[389,16,389,17],[389,18,389,19],[389,20,389,21],[389,22,389,23],[383,14,383,15],[383,16,383,17],[383,18,383,19],[383,20,383,21],[383,22,383,23],[389,2,389,3],[389,4,389,5],[389,6,389,7],[389,8,389,9],[389,10,389,11],[383,2,383,3],[383,4,383,5],[383,6,383,7],[383,8,383,9],[383,10,383,11],[383,12,383,13],[377,12,377,13],[377,14,377,15],[377,16,377,17],[377,18,377,19],[377,20,377,21],[377,22,377,23],[371,14,371,15],[371,16,371,17],[371,18,371,19],[371,20,371,21],[371,22,371,23],[377,2,377,3],[377,4,377,5],[377,6,377,7],[377,8,377,9],[377,10,377,11],[371,2,371,3],[371,4,371,5],[371,6,371,7],[371,8,371,9],[371,10,371,11],[371,12,371,13],[413,12,413,13],[413,14,413,15],[413,16,413,17],[413,18,413,19],[413,20,413,21],[413,22,413,23],[407,14,407,15],[407,16,407,17],[407,18,407,19],[407,20,407,21],[407,22,407,23],[413,2,413,3],[413,4,413,5],[413,6,413,7],[413,8,413,9],[413,10,413,11],[407,2,407,3],[407,4,407,5],[407,6,407,7],[407,8,407,9],[407,10,407,11],[407,12,407,13],[401,12,401,13],[401,14,401,15],[401,16,401,17],[401,18,401,19],[401,20,401,21],[401,22,401,23],[395,14,395,15],[395,16,395,17],[395,18,395,19],[395,20,395,21],[395,22,395,23],[401,2,401,3],[401,4,401,5],[401,6,401,7],[401,8,401,9],[401,10,401,11],[395,2,395,3],[395,4,395,5],[395,6,395,7],[395,8,395,9],[395,10,395,11],[395,12,395,13],[437,12,437,13],[437,14,437,15],[437,16,437,17],[437,18,437,19],[437,20,437,21],[437,22,437,23],[431,14,431,15],[431,16,431,17],[431,18,431,19],[431,20,431,21],[431,22,431,23],[437,2,437,3],[437,4,437,5],[437,6,437,7],[437,8,437,9],[437,10,437,11],[431,2,431,3],[431,4,431,5],[431,6,431,7],[431,8,431,9],[431,10,431,11],[431,12,431,13],[425,12,425,13],[425,14,425,15],[425,16,425,17],[425,18,425,19],[425,20,425,21],[425,22,425,23],[419,14,419,15],[419,16,419,17],[419,18,419,19],[419,20,419,21],[419,22,419,23],[425,2,425,3],[425,4,425,5],[425,6,425,7],[425,8,425,9],[425,10,425,11],[419,2,419,3],[419,4,419,5],[419,6,419,7],[419,8,419,9],[419,10,419,11],[419,12,419,13],[461,12,461,13],[461,14,461,15],[461,16,461,17],[461,18,461,19],[461,20,461,21],[461,22,461,23],[455,14,455,15],[455,16,455,17],[455,18,455,19],[455,20,455,21],[455,22,455,23],[461,2,461,3],[461,4,461,5],[461,6,461,7],[461,8,461,9],[461,10,461,11],[455,2,455,3],[455,4,455,5],[455,6,455,7],[455,8,455,9],[455,10,455,11],[455,12,455,13],[449,12,449,13],[449,14,449,15],[449,16,449,17],[449,18,449,19],[449,20,449,21],[449,22,449,23],[443,14,443,15],[443,16,443,17],[443,18,443,19],[443,20,443,21],[443,22,443,23],[449,2,449,3],[449,4,449,5],[449,6,449,7],[449,8,449,9],[449,10,449,11],[443,2,443,3],[443,4,443,5],[443,6,443,7],[443,8,443,9],[443,10,443,11],[443,12,443,13],[485,12,485,13],[485,14,485,15],[485,16,485,17],[485,18,485,19],[485,20,485,21],[485,22,485,23],[479,14,479,15],[479,16,479,17],[479,18,479,19],[479,20,479,21],[479,22,479,23],[485,2,485,3],[485,4,485,5],[485,6,485,7],[485,8,485,9],[485,10,485,11],[479,2,479,3],[479,4,479,5],[479,6,479,7],[479,8,479,9],[479,10,479,11],[479,12,479,13],[473,12,473,13],[473,14,473,15],[473,16,473,17],[473,18,473,19],[473,20,473,21],[473,22,473,23],[467,14,467,15],[467,16,467,17],[467,18,467,19],[467,20,467,21],[467,22,467,23],[473,2,473,3],[473,4,473,5],[473,6,473,7],[473,8,473,9],[473,10,473,11],[467,2,467,3],[467,4,467,5],[467,6,467,7],[467,8,467,9],[467,10,467,11],[467,12,467,13],[509,12,509,13],[509,14,509,15],[509,16,509,17],[509,18,509,19],[509,20,509,21],[509,22,509,23],[503,14,503,15],[503,16,503,17],[503,18,503,19],[503,20,503,21],[503,22,503,23],[509,2,509,3],[509,4,509,5],[509,6,509,7],[509,8,509,9],[509,10,509,11],[503,2,503,3],[503,4,503,5],[503,6,503,7],[503,8,503,9],[503,10,503,11],[503,12,503,13],[497,12,497,13],[497,14,497,15],[497,16,497,17],[497,18,497,19],[497,20,497,21],[497,22,497,23],[491,14,491,15],[491,16,491,17],[491,18,491,19],[491,20,491,21],[491,22,491,23],[497,2,497,3],[497,4,497,5],[497,6,497,7],[497,8,497,9],[497,10,497,11],[491,2,491,3],[491,4,491,5],[491,6,491,7],[491,8,491,9],[491,10,491,11],[491,12,491,13],[533,12,533,13],[533,14,533,15],[533,16,533,17],[533,18,533,19],[533,20,533,21],[533,22,533,23],[527,14,527,15],[527,16,527,17],[527,18,527,19],[527,20,527,21],[527,22,527,23],[533,2,533,3],[533,4,533,5],[533,6,533,7],[533,8,533,9],[533,10,533,11],[527,2,527,3],[527,4,527,5],[527,6,527,7],[527,8,527,9],[527,10,527,11],[527,12,527,13],[521,12,521,13],[521,14,521,15],[521,16,521,17],[521,18,521,19],[521,20,521,21],[521,22,521,23],[515,14,515,15],[515,16,515,17],[515,18,515,19],[515,20,515,21],[515,22,515,23],[521,2,521,3],[521,4,521,5],[521,6,521,7],[521,8,521,9],[521,10,521,11],[515,2,515,3],[515,4,515,5],[515,6,515,7],[515,8,515,9],[515,10,515,11],[515,12,515,13],[557,12,557,13],[557,14,557,15],[557,16,557,17],[557,18,557,19],[557,20,557,21],[557,22,557,23],[551,14,551,15],[551,16,551,17],[551,18,551,19],[551,20,551,21],[551,22,551,23],[557,2,557,3],[557,4,557,5],[557,6,557,7],[557,8,557,9],[557,10,557,11],[551,2,551,3],[551,4,551,5],[551,6,551,7],[551,8,551,9],[551,10,551,11],[551,12,551,13],[545,12,545,13],[545,14,545,15],[545,16,545,17],[545,18,545,19],[545,20,545,21],[545,22,545,23],[539,14,539,15],[539,16,539,17],[539,18,539,19],[539,20,539,21],[539,22,539,23],[545,2,545,3],[545,4,545,5],[545,6,545,7],[545,8,545,9],[545,10,545,11],[539,2,539,3],[539,4,539,5],[539,6,539,7],[539,8,539,9],[539,10,539,11],[539,12,539,13],[581,12,581,13],[581,14,581,15],[581,16,581,17],[581,18,581,19],[581,20,581,21],[581,22,581,23],[575,14,575,15],[575,16,575,17],[575,18,575,19],[575,20,575,21],[575,22,575,23],[581,2,581,3],[581,4,581,5],[581,6,581,7],[581,8,581,9],[581,10,581,11],[575,2,575,3],[575,4,575,5],[575,6,575,7],[575,8,575,9],[575,10,575,11],[575,12,575,13],[569,12,569,13],[569,14,569,15],[569,16,569,17],[569,18,569,19],[569,20,569,21],[569,22,569,23],[563,14,563,15],[563,16,563,17],[563,18,563,19],[563,20,563,21],[563,22,563,23],[569,2,569,3],[569,4,569,5],[569,6,569,7],[569,8,569,9],[569,10,569,11],[563,2,563,3],[563,4,563,5],[563,6,563,7],[563,8,563,9],[563,10,563,11],[563,12,563,13],[605,12,605,13],[605,14,605,15],[605,16,605,17],[605,18,605,19],[605,20,605,21],[605,22,605,23],[599,14,599,15],[599,16,599,17],[599,18,599,19],[599,20,599,21],[599,22,599,23],[605,2,605,3]],"merged_total":89628,"flags":["merged_cut"]}
[null,"B25119. MEDIAN HOUSEHOLD INCOME THE PAST 12 MONTHS (IN 2022 INFLATION-ADJUSTED DOLLARS) BY TENURE"]
[null," Universe:  OCCUPIED HOUSING UNITS"]
[null,"Data Set: 2018-2022 American Community Survey 5-Year Estimates"]
[]
[null,null,"Alton",null,"Barnstead",null,"Belmont",null,"Center Harbor",null,"Gilford",null,"Gilmanton",null,"Laconia",null,"Meredith",null,"New Hampton",null,"Sanbornton",null,"Tilton"]
[null," ","Estimate","Margin of Error","Estimate","Margin of Error","Estimate","Margin of Error","Estimate","Margin of Error","Estimate","Margin of Error","Estimate","Margin of Error","Estimate","Margin of Error","Estimate","Margin of Error","Estimate","Margin of Error","Estimate","Margin of Error","Estimate","Margin of Error"]
[null,"Median household income in the past 12 months"]
[null,"Total:",111875,11586,89303,14683,73302,24757,100192,14948,112522,6217,104875,15144,67856,7883,65372,10829,73971,16445,81645,18091,64577,4522]
[null,"Owner occupied (dollars)",113940,8259,92037,18216,80577,26272,105000,26745,114581,7758,108826,12542,91128,6160,85513,10473,90769,15325,109375,25805,66078,16607]
[null,"Renter occupied (dollars)",26538,10479,"-","**",46292,12659,65882,7388,33409,11703,"-","**",43891,7667,35865,6574,43616,2145,70601,28066,63250,10767]
[]
[]
[]
[]
[]
[]
[]
[]
[]
[]
[]
[]
[]
[]
[]
[]
[]
[]
[]
[null,"B25119. MEDIAN HOUSEHOLD INCOME THE PAST 12 MONTHS (IN 2017 INFLATION-ADJUSTED DOLLARS) BY TENURE"]
[null," Universe:  OCCUPIED HOUSING UNITS"]
[null,"Data Set: 2013-2017 American Community Survey 5-Year Estimates"]
[]
[null,null,"Alton",null,"Barnstead",null,"Belmont",null,"Center Harbor",null,"Gilford",null,"Gilmanton",null,"Laconia",null,"Meredith",null,"New Hampton",null,"Sanbornton",null,"Tilton"]
[null," ","Estimate","Margin of Error","Estimate","Margin of Error","Estimate","Margin of Error","Estimate","Margin of Error","Estimate","Margin of Error","Estimate","Margin of Error","Estimate","Margin of Error","Estimate","Margin of Error","Estimate","Margin of Error","Estimate","Margin of Error","Estimate","Margin of Error"]
[null,"Median household income in the past 12 months"]
[null,"Total:",79861,8701,73000,11444,63309,10927,66250,16264,73660,4101,52702,5962,48893,4719,68929,8419,72296,7813,77000,12635,53418,7838]
[null,"Owner occupied (dollars)",82670,6234,77537,12517,73333,18808,72083,23381,75566,4527,77055,7300,73566,8041,79519,7179,76293,11099,81583,10950,65927,17977]
[null,"Renter occupied (dollars)",42122,16437,50938,12965,50074,13733,51786,16314,35543,21579,31875,6777,29549,6400,28125,16565,43250,25773,42125,34154,26875,6193]
[]
[]
[]
[]
[]
[]
[]
[]
[]
[]
[]
[]
[]
[]
[]
[]
[]
[]
[]
[null,"B25119. MEDIAN HOUSEHOLD INCOME THE PAST 12 MONTHS (IN 2012 INFLATION-ADJUSTED DOLLARS) BY TENURE"]
[null," Universe:  OCCUPIED HOUSING UNITS"]
[null,"Data Set: 2008-2012 American Community Survey 5-Year Estimates"]
[]
[null,null,"Alton",null,"Barnstead",null,"Belmont",null,"Center Harbor",null,"Gilford",null,"Gilmanton",null,"Laconia",null,"Meredith",null,"New Hampton",null,"Sanbornton",null,"Tilton"]
[null," ","Estimate","Margin of Error","Estimate","Margin of Error","Estimate","Margin of Error","Estimate","Margin of Error","Estimate","Margin of Error","Estimate","Margin of Error","Estimate","Margin of Error","Estimate","Margin of Error","Estimate","Margin of Error","Estimate","Margin of Error","Estimate","Margin of Error"]
[null,"Median household income in the past 12 months"]
[null,"Total:",58883,13109,66458,11098,62767,6127,59417,9710,63061,4518,63977,11672,47817,2617,56007,8653,61463,5591,64494,2768,51198,8756]
[null,"Owner occupied (dollars)",63134,6977,69141,8893,69864,5501,67222,12915,66144,10917,66011,8016,67056,4673,76762,6573,65652,8647,64528,3829,63074,7247]
[null,"Renter occupied (dollars)",37267,26147,54028,23988,36745,15476,38750,18461,43133,8503,19211,19387,30798,5789,31570,3209,38125,24026,64423,31604,30450,5787]

{"sheet":"ACS_Table_B25001","index":39,"n_rows":29,"n_cols":24,"rows_kept":29,"cut":false,"hidden":true,"merged":[]}
[null,"B25001. HOUSING UNITS"]
[null,"Universe:  HOUSING UNITS"]
[null,"Data Set: 2018-2022 American Community Survey 5-Year Estimates"]
[]
[null,null,"Alton",null,"Barnstead",null,"Belmont",null,"Center Harbor",null,"Gilford",null,"Gilmanton",null,"Laconia",null,"Meredith",null,"New Hampton",null,"Sanbornton",null,"Tilton"]
[null," ","Estimate","Margin of Error","Estimate","Margin of Error","Estimate","Margin of Error","Estimate","Margin of Error","Estimate","Margin of Error","Estimate","Margin of Error","Estimate","Margin of Error","Estimate","Margin of Error","Estimate","Margin of Error","Estimate","Margin of Error","Estimate","Margin of Error"]
[null,"Total",4237,294,2475,201,3612,256,749,119,5168,343,2271,204,10073,360,5237,240,1082,130,1627,200,1947,173]
[]
[]
[]
[]
[null,"B25001. HOUSING UNITS"]
[null,"Universe:  HOUSING UNITS"]
[null,"Data Set: 2013-2017 American Community Survey 5-Year Estimates"]
[]
[null,null,"Alton",null,"Barnstead",null,"Belmont",null,"Center Harbor",null,"Gilford",null,"Gilmanton",null,"Laconia",null,"Meredith",null,"New Hampton",null,"Sanbornton",null,"Tilton"]
[null," ","Estimate","Margin of Error","Estimate","Margin of Error","Estimate","Margin of Error","Estimate","Margin of Error","Estimate","Margin of Error","Estimate","Margin of Error","Estimate","Margin of Error","Estimate","Margin of Error","Estimate","Margin of Error","Estimate","Margin of Error","Estimate","Margin of Error"]
[null,"Total",4560,205,2447,158,3621,266,771,76,5212,278,10038,298,9945,324,4727,176,1113,111,1613,81,1775,155]
[]
[]
[]
[]
[null,"B25001. HOUSING UNITS"]
[null,"Universe:  HOUSING UNITS"]
[null,"Data Set: 2008-2012 American Community Survey 5-Year Estimates"]
[]
[null,null,"Alton",null,"Barnstead",null,"Belmont",null,"Center Harbor",null,"Gilford",null,"Gilmanton",null,"Laconia",null,"Meredith",null,"New Hampton",null,"Sanbornton",null,"Tilton"]
[null," ","Estimate","Margin of Error","Estimate","Margin of Error","Estimate","Margin of Error","Estimate","Margin of Error","Estimate","Margin of Error","Estimate","Margin of Error","Estimate","Margin of Error","Estimate","Margin of Error","Estimate","Margin of Error","Estimate","Margin of Error","Estimate","Margin of Error"]
[null,"Total",4215,241,2343,118,3531,205,714,71,4791,245,2137,147,9927,258,5014,190,1183,87,1643,96,1814,172]

{"sheet":"ACS_Table_B25003","index":40,"n_rows":42,"n_cols":24,"rows_kept":42,"cut":false,"hidden":true,"merged":[]}
[null,"B25003. TENURE"]
[null,"Universe:  OCCUPIED HOUSING UNITS"]
[null,"Data Set: 2018-2022 American Community Survey 5-Year Estimates"]
[]
[null,null,"Alton",null,"Barnstead",null,"Belmont",null,"Center Harbor",null,"Gilford",null,"Gilmanton",null,"Laconia",null,"Meredith",null,"New Hampton",null,"Sanbornton",null,"Tilton"]
[null," ","Estimate","Margin of Error","Estimate","Margin of Error","Estimate","Margin of Error","Estimate","Margin of Error","Estimate","Margin of Error","Estimate","Margin of Error","Estimate","Margin of Error","Estimate","Margin of Error","Estimate","Margin of Error","Estimate","Margin of Error","Estimate","Margin of Error"]
[null,"Total:",2240,229,1840,167,2940,252,384,88,3069,236,1575,155,6965,394,3242,243,978,123,1125,132,1598,137]
[null,"Owner occupied",2072,207,1600,176,2454,265,330,84,2771,206,1471,174,4095,367,2501,231,824,109,838,126,1055,163]
[null,"Renter occupied",168,109,240,124,486,151,54,36,298,142,104,87,2870,417,741,213,154,75,287,122,543,140]
[]
[]
[]
[]
[]
[]
[]
[]
[]
[]
[]
[]
[null,"B25003. TENURE"]
[null,"Universe:  OCCUPIED HOUSING UNITS"]
[null,"Data Set: 2013-2017 American Community Survey 5-Year Estimates"]
[]
[null,null,"Alton",null,"Barnstead",null,"Belmont",null,"Center Harbor",null,"Gilford",null,"Gilmanton",null,"Laconia",null,"Meredith",null,"New Hampton",null,"Sanbornton",null,"Tilton"]
[null," ","Estimate","Margin of Error","Estimate","Margin of Error","Estimate","Margin of Error","Estimate","Margin of Error","Estimate","Margin of Error","Estimate","Margin of Error","Estimate","Margin of Error","Estimate","Margin of Error","Estimate","Margin of Error","Estimate","Margin of Error","Estimate","Margin of Error"]
[null,"Total:",2159,178,1666,128,2799,234,419,56,3082,182,6904,342,6740,357,2626,159,848,88,1118,83,1515,130]
[null,"Owner occupied",1816,203,1497,157,2378,224,363,55,2712,188,3786,297,3650,271,1971,175,728,94,1025,92,971,151]
[null,"Renter occupied",343,124,169,93,421,164,56,30,370,112,3118,263,3090,253,655,154,120,46,93,37,544,147]
[]
[]
[]
[null,"B25003. TENURE"]
[null,"Universe:  OCCUPIED HOUSING UNITS"]
[null,"Data Set: 2008-2012 American Community Survey 5-Year Estimates"]
[]
[null,null,"Alton",null,"Barnstead",null,"Belmont",null,"Center Harbor",null,"Gilford",null,"Gilmanton",null,"Laconia",null,"Meredith",null,"New Hampton",null,"Sanbornton",null,"Tilton"]
[null," ","Estimate","Margin of Error","Estimate","Margin of Error","Estimate","Margin of Error","Estimate","Margin of Error","Estimate","Margin of Error","Estimate","Margin of Error","Estimate","Margin of Error","Estimate","Margin of Error","Estimate","Margin of Error","Estimate","Margin of Error","Estimate","Margin of Error"]
[null,"Total:",2182,151,1694,91,2774,177,443,61,2996,213,1433,86,7143,283,2949,153,870,73,1190,79,1453,141]
[null,"Owner occupied",1812,175,1585,93,2265,188,362,64,2581,211,1337,93,4244,308,2124,176,714,75,1106,82,950,121]
[null,"Renter occupied",370,139,109,38,509,176,81,37,415,179,96,54,2899,306,825,171,156,43,84,47,503,107]

{"sheet":"ACS_Table_B25004","index":41,"n_rows":56,"n_cols":24,"rows_kept":56,"cut":false,"hidden":true,"merged":[]}
[null,"B25004. VACANCY STATUS"]
[null,"Universe:  VACANT HOUSING UNITS"]
[null,"Data Set: 2018-2022 American Community Survey 5-Year Estimates"]
[]
[null,null,"Alton",null,"Barnstead",null,"Belmont",null,"Center Harbor",null,"Gilford",null,"Gilmanton",null,"Laconia",null,"Meredith",null,"New Hampton",null,"Sanbornton",null,"Tilton"]
[null," ","Estimate","Margin of Error","Estimate","Margin of Error","Estimate","Margin of Error","Estimate","Margin of Error","Estimate","Margin of Error","Estimate","Margin of Error","Estimate","Margin of Error","Estimate","Margin of Error","Estimate","Margin of Error","Estimate","Margin of Error","Estimate","Margin of Error"]
[null,"Total:",1997,293,635,152,672,227,365,72,2099,234,696,171,3108,326,1995,211,104,64,502,156,349,124]
[null,"For rent",0,17,0,12,0,17,10,15,6,9,0,12,115,95,40,47,0,12,0,12,0,12]
[null,"Rented, not occupied",0,17,0,12,0,17,0,12,0,17,0,12,38,46,0,17,0,12,0,12,0,12]
[null,"For sale only",0,17,52,51,40,64,3,5,24,41,0,12,83,75,37,49,0,12,24,36,0,12]
[null,"Sold, not occupied",0,17,0,12,0,17,0,12,0,17,0,12,0,19,0,17,0,12,0,12,30,49]
[null,"For seasonal, recreational, or occasional use",1939,295,583,150,528,210,338,73,1897,196,606,163,2529,326,1806,221,83,62,415,134,246,126]
[null,"For migrant workers",44,69,0,12,0,17,0,12,0,17,0,12,0,19,0,17,0,12,0,12,0,12]
[null,"Other vacant",14,21,0,12,104,84,14,18,172,109,90,71,343,161,112,77,21,25,63,69,73,78]
[]
[]
[]
[]
[]
[]
[]
[null,"B25004. VACANCY STATUS"]
[null,"Universe:  VACANT HOUSING UNITS"]
[null,"Data Set: 2013-2017 American Community Survey 5-Year Estimates"]
[]
[null,null,"Alton",null,"Barnstead",null,"Belmont",null,"Center Harbor",null,"Gilford",null,"Gilmanton",null,"Laconia",null,"Meredith",null,"New Hampton",null,"Sanbornton",null,"Tilton"]
[null," ","Estimate","Margin of Error","Estimate","Margin of Error","Estimate","Margin of Error","Estimate","Margin of Error","Estimate","Margin of Error","Estimate","Margin of Error","Estimate","Margin of Error","Estimate","Margin of Error","Estimate","Margin of Error","Estimate","Margin of Error","Estimate","Margin of Error"]
[null,"Total:",2401,193,781,130,822,216,352,66,2130,242,3134,256,3205,294,2101,168,265,93,495,74,260,101]
[null,"For rent",0,16,0,11,77,85,0,11,0,16,109,103,120,99,51,53,0,11,0,11,53,62]
[null,"Rented, not occupied",0,16,0,11,30,44,0,11,0,16,28,45,0,17,0,16,0,11,0,11,0,11]
[null,"For sale only",94,96,0,11,97,87,4,6,133,110,101,78,142,103,32,40,0,11,0,11,26,42]
[null,"Sold, not occupied",0,16,0,11,38,62,8,13,0,16,0,18,9,15,0,16,0,11,0,11,0,11]
[null,"For seasonal, recreational, or occasional use",2200,220,645,136,535,177,321,66,1774,207,2689,237,2748,302,1893,198,199,82,495,74,103,75]
[null,"For migrant workers",0,16,0,11,0,16,0,11,0,16,0,18,0,17,0,16,0,11,0,11,0,11]
[null,"Other vacant",107,97,136,96,45,72,19,15,223,174,207,114,186,119,125,94,66,47,0,11,78,73]
[]
[]
[]
[]
[]
[]
[]
[null,"B25004. VACANCY STATUS"]
[null,"Universe:  VACANT HOUSING UNITS"]
[null,"Data Set: 2008-2012 American Community Survey 5-Year Estimates"]
[]
[null,null,"Alton",null,"Barnstead",null,"Belmont",null,"Center Harbor",null,"Gilford",null,"Gilmanton",null,"Laconia",null,"Meredith",null,"New Hampton",null,"Sanbornton",null,"Tilton"]
[null," ","Estimate","Margin of Error","Estimate","Margin of Error","Estimate","Margin of Error","Estimate","Margin of Error","Estimate","Margin of Error","Estimate","Margin of Error","Estimate","Margin of Error","Estimate","Margin of Error","Estimate","Margin of Error","Estimate","Margin of Error","Estimate","Margin of Error"]
[null,"Total:",2033,254,649,126,757,193,271,52,1795,241,704,146,2784,290,2065,192,313,69,453,75,361,104]
[null,"For rent",82,93,0,11,33,54,0,11,10,17,22,33,270,150,24,39,0,11,0,11,0,11]
[null,"Rented, not occupied",0,16,0,11,0,16,0,11,0,16,0,11,0,18,0,16,0,11,0,11,0,11]
[null,"For sale only",0,16,11,17,252,119,2,4,1,8,0,11,66,75,44,54,32,24,0,11,48,56]
[null,"Sold, not occupied",0,16,31,51,0,16,0,11,0,16,15,23,10,15,0,16,5,7,0,11,0,11]
[null,"For seasonal, recreational, or occasional use",1907,255,595,120,367,159,261,52,1763,239,635,135,2185,258,1921,192,254,64,429,82,242,95]
[null,"For migrant workers",16,26,0,11,0,16,0,11,0,16,0,11,0,18,0,16,0,11,0,11,0,11]
[null,"Other vacant",28,45,12,19,105,86,8,12,21,28,32,37,253,158,76,59,22,19,24,37,71,55]

{"sheet":"ACS_Table_B25008","index":42,"n_rows":51,"n_cols":24,"rows_kept":51,"cut":false,"hidden":true,"merged":[]}
[null,"B25008. TOTAL POPULATION IN OCCUPIED HOUSING UNITS BY TENURE"]
[null,"Universe:  TOTAL POPULATION IN OCCUPIED HOUSING UNITS"]
[null,"Data Set: 2018-2022 American Community Survey 5-Year Estimates"]
[]
[null,null,"Alton",null,"Barnstead",null,"Belmont",null,"Center Harbor",null,"Gilford",null,"Gilmanton",null,"Laconia",null,"Meredith",null,"New Hampton",null,"Sanbornton",null,"Tilton"]
[null," ","Estimate","Margin of Error","Estimate","Margin of Error","Estimate","Margin of Error","Estimate","Margin of Error","Estimate","Margin of Error","Estimate","Margin of Error","Estimate","Margin of Error","Estimate","Margin of Error","Estimate","Margin of Error","Estimate","Margin of Error","Estimate","Margin of Error"]
[null,"Total:",5896,17,4941,20,7350,21,819,181,7724,20,3959,28,16373,21,6639,37,2496,180,3034,21,3684,29]
[null,"Owner occupied",5646,160,4200,321,6072,495,716,170,7260,221,3631,309,10231,911,5490,325,2241,194,2469,278,2366,375]
[null,"Renter occupied",250,160,741,324,1278,495,103,83,464,225,328,305,6142,909,1149,325,255,114,565,276,1318,371]
[]
[]
[]
[]
[]
[]
[]
[]
[]
[]
[]
[]
[null,"B25008. TOTAL POPULATION IN OCCUPIED HOUSING UNITS BY TENURE"]
[null,"Universe:  TOTAL POPULATION IN OCCUPIED HOUSING UNITS"]
[null,"Data Set: 2013-2017 American Community Survey 5-Year Estimates"]
[]
[null,null,"Alton",null,"Barnstead",null,"Belmont",null,"Center Harbor",null,"Gilford",null,"Gilmanton",null,"Laconia",null,"Meredith",null,"New Hampton",null,"Sanbornton",null,"Tilton"]
[null," ","Estimate","Margin of Error","Estimate","Margin of Error","Estimate","Margin of Error","Estimate","Margin of Error","Estimate","Margin of Error","Estimate","Margin of Error","Estimate","Margin of Error","Estimate","Margin of Error","Estimate","Margin of Error","Estimate","Margin of Error","Estimate","Margin of Error"]
[null,"Total:",5256,19,4615,16,7268,19,952,145,7111,23,15704,175,15635,181,6334,33,2236,167,2963,17,3274,150]
[null,"Owner occupied",4512,343,4152,292,6065,520,779,120,6467,218,9067,652,8790,668,4814,437,1810,196,2619,157,2098,314]
[null,"Renter occupied",744,343,463,289,1203,521,173,110,644,215,6637,626,6845,630,1520,435,426,167,344,156,1176,311]
[]
[]
[]
[]
[]
[]
[]
[]
[]
[]
[]
[]
[null,"B25008. TOTAL POPULATION IN OCCUPIED HOUSING UNITS BY TENURE"]
[null,"Universe:  TOTAL POPULATION IN OCCUPIED HOUSING UNITS"]
[null,"Data Set: 2008-2012 American Community Survey 5-Year Estimates"]
[]
[null,null,"Alton",null,"Barnstead",null,"Belmont",null,"Center Harbor",null,"Gilford",null,"Gilmanton",null,"Laconia",null,"Meredith",null,"New Hampton",null,"Sanbornton",null,"Tilton"]
[null," ","Estimate","Margin of Error","Estimate","Margin of Error","Estimate","Margin of Error","Estimate","Margin of Error","Estimate","Margin of Error","Estimate","Margin of Error","Estimate","Margin of Error","Estimate","Margin of Error","Estimate","Margin of Error","Estimate","Margin of Error","Estimate","Margin of Error"]
[null,"Total:",5235,20,4586,23,7337,23,1007,143,7137,23,3761,26,15488,140,6184,50,2204,155,2954,19,3267,118]
[null,"Owner occupied",4489,335,4327,92,6056,485,831,155,6360,345,3501,147,9681,761,4689,374,1801,189,2763,114,2245,280]
[null,"Renter occupied",746,333,259,89,1281,483,176,86,777,345,260,144,5807,764,1495,370,403,130,191,111,1022,241]

{"sheet":"ACS_Table_B25024","index":43,"n_rows":78,"n_cols":24,"rows_kept":78,"cut":false,"hidden":true,"merged":[]}
[null,"B25024. UNITS IN STRUCTURE "]
[null,"Universe:  HOUSING UNITS"]
[null,"Data Set: 2018-2022 American Community Survey 5-Year Estimates"]
[]
[null,null,"Alton",null,"Barnstead",null,"Belmont",null,"Center Harbor",null,"Gilford",null,"Gilmanton",null,"Laconia",null,"Meredith",null,"New Hampton",null,"Sanbornton",null,"Tilton"]
[null," ","Estimate","Margin of Error","Estimate","Margin of Error","Estimate","Margin of Error","Estimate","Margin of Error","Estimate","Margin of Error","Estimate","Margin of Error",null,null,"Estimate","Margin of Error","Estimate","Margin of Error","Estimate","Margin of Error","Estimate","Margin of Error"]
[null,"Total:",4237,294,2475,201,3612,256,749,119,5168,343,2271,204,10073,360,5237,240,1082,130,1627,200,1947,173]
[null,"1, detached",3747,310,2247,205,2295,277,696,120,4054,311,2160,218,4901,380,4115,311,918,115,1415,210,1184,212]
[null,"1, attached",25,22,40,41,38,46,23,20,189,101,39,47,946,250,101,72,13,11,72,69,34,58]
[null,2,52,54,13,23,9,15,10,15,43,41,39,53,873,254,144,87,32,38,10,17,117,76]
[null,"3 or 4",16,25,34,52,116,72,0,12,58,48,0,12,866,232,221,116,36,50,0,12,99,58]
[null,"5 to 9",133,127,0,12,88,58,9,13,150,92,0,12,955,259,83,48,0,12,23,35,144,91]
[null,"10 to 19",0,17,0,12,0,17,0,12,85,77,0,12,399,149,89,118,0,12,0,12,59,48]
[null,"20 to 49",10,16,0,12,38,37,0,12,116,82,0,12,430,212,134,71,0,12,0,12,0,12]
[null,"50 or more",0,17,0,12,0,17,0,12,0,17,0,12,140,92,78,59,0,12,0,12,33,43]
[null,"Mobile home",254,102,141,91,1028,263,11,14,467,177,33,36,563,181,272,116,83,53,107,85,277,126]
[null,"Boat, RV, van, etc.",0,17,0,12,0,17,0,12,6,9,0,12,0,19,0,17,0,12,0,12,0,12]
[]
[]
[null,"Calculated B25024. UNITS IN STRUCTURE "]
[null,"Universe:  HOUSING UNITS"]
[null,"Data Set: 2018-2022 American Community Survey 5-Year Estimates"]
[]
[null,null,"Alton",null,"Barnstead",null,"Belmont",null,"Center Harbor",null,"Gilford",null,"Gilmanton",null,"Laconia",null,"Meredith",null,"New Hampton",null,"Sanbornton",null,"Tilton"]
[null," ","Estimate","Margin of Error","Estimate","Margin of Error","Estimate","Margin of Error","Estimate","Margin of Error","Estimate","Margin of Error","Estimate","Margin of Error","Estimate","Margin of Error","Estimate","Margin of Error","Estimate","Margin of Error","Estimate","Margin of Error","Estimate","Margin of Error"]
[null,"Total:",{"$f":"C7","v":4237},294,2475,201,3612,256,749,119,5168,343,2271,204,10073,360,5237,240,1082,130,1627,200,1947,173]
[null,"Single Family",{"$f":"C8","v":3747},310,2247,205,2295,277,696,120,4054,311,2160,218,4901,380,4115,311,918,115,1415,210,1184,212]
[null,"Multi-Family",{"$f":"C9+C10+C11+C12+C13+C14+C15","v":236},{"$f":"SQRT((D9^2)+(D10^2)+(D11^2)+(D12^2)+(D13^2)+(D14^2)+(D15^2))","v":144.87235761179562},{"$f":"E9+E10+E11+E12+E13+E14+E15","v":87},{"$f":"SQRT((F9^2)+(F10^2)+(F11^2)+(F12^2)+(F13^2)+(F14^2)+(F15^2))","v":74.094534211370814},{"$f":"G9+G10+G11+G12+G13+G14+G15","v":289},{"$f":"SQRT((H9^2)+(H10^2)+(H11^2)+(H12^2)+(H13^2)+(H14^2)+(H15^2))","v":113.29607230614837},{"$f":"I9+I10+I11+I12+I13+I14+I15","v":42},{"$f":"SQRT((J9^2)+(J10^2)+(J11^2)+(J12^2)+(J13^2)+(J14^2)+(J15^2))","v":37.013511046643494},{"$f":"K9+K10+K11+K12+K13+K14+K15","v":641},{"$f":"SQRT((L9^2)+(L10^2)+(L11^2)+(L12^2)+(L13^2)+(L14^2)+(L15^2))","v":188.65842149238927},{"$f":"M9+M10+M11+M12+M13+M14+M15","v":78},{"$f":"SQRT((N9^2)+(N10^2)+(N11^2)+(N12^2)+(N13^2)+(N14^2)+(N15^2))","v":75.749587457622496},{"$f":"O9+O10+O11+O12+O13+O14+O15","v":4609},{"$f":"SQRT((P9^2)+(P10^2)+(P11^2)+(P12^2)+(P13^2)+(P14^2)+(P15^2))","v":568.79697608197603},{"$f":"Q9+Q10+Q11+Q12+Q13+Q14+Q15","v":850},{"$f":"SQRT((R9^2)+(R10^2)+(R11^2)+(R12^2)+(R13^2)+(R14^2)+(R15^2))","v":225.74100203551856},{"$f":"S9+S10+S11+S12+S13+S14+S15","v":81},{"$f":"SQRT((T9^2)+(T10^2)+(T11^2)+(T12^2)+(T13^2)+(T14^2)+(T15^2))","v":68.124885321004399},{"$f":"U9+U10+U11+U12+U13+U14+U15","v":105},{"$f":"SQRT((V9^2)+(V10^2)+(V11^2)+(V12^2)+(V13^2)+(V14^2)+(V15^2))","v":82.770767786701114},{"$f":"W9+W10+W11+W12+W13+W14+W15","v":486},{"$f":"SQRT((X9^2)+(X10^2)+(X11^2)+(X12^2)+(X13^2)+(X14^2)+(X15^2))","v":158.37297749300541}]
[null,"Mobile Home & Other",{"$f":"C16+C17","v":254},{"$f":"SQRT((D16^2)+(D17^2))","v":103.40696301506973},{"$f":"E16+E17","v":141},{"$f":"SQRT((F16^2)+(F17^2))","v":91.787798753429101},{"$f":"G16+G17","v":1028},{"$f":"SQRT((H16^2)+(H17^2))","v":263.54885695066105},{"$f":"I16+I17","v":11},{"$f":"SQRT((J16^2)+(J17^2))","v":18.439088914585774},{"$f":"K16+K17","v":473},{"$f":"SQRT((L16^2)+(L17^2))","v":177.22866585290316},{"$f":"M16+M17","v":33},{"$f":"SQRT((N16^2)+(N17^2))","v":37.947331922020552},{"$f":"O16+O17","v":563},{"$f":"SQRT((P16^2)+(P17^2))","v":181.99450541156455},{"$f":"Q16+Q17","v":272},{"$f":"SQRT((R16^2)+(R17^2))","v":117.23907198540937},{"$f":"S16+S17","v":83},{"$f":"SQRT((T16^2)+(T17^2))","v":54.341512676774101},{"$f":"U16+U17","v":107},{"$f":"SQRT((V16^2)+(V17^2))","v":85.84287972802403},{"$f":"W16+W17","v":277},{"$f":"SQRT((X16^2)+(X17^2))","v":126.57013865837392}]
[]
[]
[]
[]
[]
[]
[]
[]
[]
[]
[]
[]
[]
[]
[]
[]
[]
[]
[]
[]
[]
[]
[]
[]
[]
[]
[]
[null,"Calculated B25024. UNITS IN STRUCTURE "]
[null,"Universe:  HOUSING UNITS"]
[null,"Data Set: 2013-2017 American Community Survey 5-Year Estimates"]
[]
[null,null,"Alton",null,"Barnstead",null,"Belmont",null,"Center Harbor",null,"Gilford",null,"Gilmanton",null,"Laconia",null,"Meredith",null,"New Hampton",null,"Sanbornton",null,"Tilton"]
[null," ","Estimate","Margin of Error","Estimate","Margin of Error","Estimate","Margin of Error","Estimate","Margin of Error","Estimate","Margin of Error","Estimate","Margin of Error","Estimate","Margin of Error","Estimate","Margin of Error","Estimate","Margin of Error","Estimate","Margin of Error","Estimate","Margin of Error"]
[null,"Total:",4560,205,2447,158,3621,266,771,76,5212,278,10038,298,9945,324,4727,176,1113,111,1613,81,1775,155]
[null,"Single Family",4025,254,2208,167,2065,291,700,72,3913,307,5227,327,5197,338,3752,211,981,99,1461,92,1005,140]
[null,"Multi-Family",258,138.4449349019313,79,60.083275543199207,517,172.71363582531635,47,33.585711247493329,778,185.53975315279473,4443,473.32018761088142,4381,463.30335634441502,748,164.90906585145646,53,37.735924528226413,65,43.104524124504614,557,159.29846201391902]
[null,"Mobile Home & Other",277,132.96616110875729,160,92.655275079188016,1039,216.59178193089414,24,24.596747752497688,521,131.97348218486925,368,120.3536455617361,367,131.10682667199293,227,107.20074626605917,79,49.244289008980523,87,60.016664352494629,213,77.781745930520231]
[]
[]
[null,"Calculated B25024. UNITS IN STRUCTURE "]
[null,"Universe:  HOUSING UNITS"]
[null,"Data Set: 2008-2012 American Community Survey 5-Year Estimates"]
[]
[null,null,"Alton",null,"Barnstead",null,"Belmont",null,"Center Harbor",null,"Gilford",null,"Gilmanton",null,"Laconia",null,"Meredith",null,"New Hampton",null,"Sanbornton",null,"Tilton"]
[null," ","Estimate","Margin of Error","Estimate","Margin of Error","Estimate","Margin of Error","Estimate","Margin of Error","Estimate","Margin of Error","Estimate","Margin of Error","Estimate","Margin of Error","Estimate","Margin of Error","Estimate","Margin of Error","Estimate","Margin of Error","Estimate","Margin of Error"]
[null,"Total:",4215,241,2343,118,3531,205,714,71,4791,245,2137,147,9927,258,5014,190,1183,87,1643,96,1814,172]
[null,"Single Family",3673,259,2264,123,2369,210,668,73,3469,305,2106,143,5003,370,3951,247,1072,90,1578,111,972,139]
[null,"Multi-Family",264,161.18002357612434,8,29.49576240750525,448,164.48708155961671,32,30.033314835362415,794,253.31600817950689,8,29.916550603303182,4447,520.13171408788367,641,170.0676336049867,43,37.282703764614496,59,51.478150704935004,579,164.56609614376833]
[null,"Mobile Home & Other",278,110.16805344563369,71,44.384682042344295,714,186.68690366493306,14,18.601075237738275,528,189.67603960437387,23,22.360679774997898,477,168.96153408394468,422,153.83432646844463,68,30.083217912982647,6,14.866068747318506,263,89.677198885781436]

{"sheet":"ACS_Table_B25032","index":44,"n_rows":119,"n_cols":24,"rows_kept":119,"cut":false,"hidden":true,"merged":[]}
[null,"B25032. TENURE BY UNITS IN STRUCTURE "]
[null,"Universe:  OCCUPIED HOUSING UNITS"]
[null,"Data Set: 2018-2022 American Community Survey 5-Year Estimates"]
[]
[null,null,"Alton",null,"Barnstead",null,"Belmont",null,"Center Harbor",null,"Gilford",null,"Gilmanton",null,"Laconia",null,"Meredith",null,"New Hampton",null,"Sanbornton",null,"Tilton"]
[null," ","Estimate","Margin of Error","Estimate","Margin of Error","Estimate","Margin of Error","Estimate","Margin of Error","Estimate","Margin of Error","Estimate","Margin of Error","Estimate","Margin of Error","Estimate","Margin of Error","Estimate","Margin of Error","Estimate","Margin of Error","Estimate","Margin of Error"]
[null,"Total:",2240,229,1840,167,2940,252,384,88,3069,236,1575,155,6965,394,3242,243,978,123,1125,132,1598,137]
[null,"Owner-occupied housing units:",2072,207,1600,176,2454,265,330,84,2771,206,1471,174,4095,367,2501,231,824,109,838,126,1055,163]
[null,"1, detached",1823,212,1502,171,1848,259,307,82,2371,185,1422,186,3142,298,2196,243,754,98,817,123,684,154]
[null,"1, attached",25,22,18,21,14,23,20,19,58,36,30,45,326,155,37,35,13,11,8,13,0,12]
[null,2,0,17,0,12,0,17,0,12,4,8,7,13,164,116,42,35,7,12,0,12,27,32]
[null,"3 or 4",0,17,0,12,4,7,0,12,4,6,0,12,91,68,33,43,0,12,0,12,13,20]
[null,"5 to 9",0,17,0,12,0,17,0,12,35,37,0,12,56,65,0,17,0,12,0,12,54,60]
[null,"10 to 19",0,17,0,12,0,17,0,12,34,39,0,12,83,64,0,17,0,12,0,12,0,12]
[null,"20 to 49",0,17,0,12,0,17,0,12,0,17,0,12,42,43,29,29,0,12,0,12,0,12]
[null,"50 or more",0,17,0,12,0,17,0,12,0,17,0,12,0,19,19,21,0,12,0,12,0,12]
[null,"Mobile home",224,97,80,60,588,201,3,6,265,160,12,17,191,94,145,83,50,37,13,19,277,126]
[null,"Boat, RV, van, etc.",0,17,0,12,0,17,0,12,0,17,0,12,0,19,0,17,0,12,0,12,0,12]
[null,"Renter-occupied housing units:",168,109,240,124,486,151,54,36,298,142,104,87,2870,417,741,213,154,75,287,122,543,140]
[null,"1, detached",74,67,168,103,86,56,42,37,97,70,72,56,419,150,118,78,60,31,155,88,205,108]
[null,"1, attached",0,17,0,12,24,39,3,5,9,10,0,12,156,89,31,43,0,12,34,51,34,58]
[null,2,29,37,13,23,9,15,0,12,5,7,32,51,477,185,102,77,25,36,10,17,90,70]
[null,"3 or 4",16,25,34,52,101,74,0,12,9,15,0,12,601,207,182,108,36,50,0,12,86,53]
[null,"5 to 9",39,68,0,12,88,58,9,13,62,72,0,12,529,183,83,48,0,12,23,35,60,58]
[null,"10 to 19",0,17,0,12,0,17,0,12,0,17,0,12,192,112,89,118,0,12,0,12,35,23]
[null,"20 to 49",10,16,0,12,38,37,0,12,99,81,0,12,331,198,70,59,0,12,0,12,0,12]
[null,"50 or more",0,17,0,12,0,17,0,12,0,17,0,12,140,92,59,58,0,12,0,12,33,43]
[null,"Mobile home",0,17,25,36,140,90,0,12,11,18,0,12,25,41,7,19,33,33,65,70,0,12]
[null,"Boat, RV, van, etc.",0,17,0,12,0,17,0,12,6,9,0,12,0,19,0,17,0,12,0,12,0,12]
[]
[]
[null,"Calculated B25032. TENURE BY UNITS IN STRUCTURE "]
[null,"Universe:  OCCUPIED HOUSING UNITS"]
[null,"Data Set: 2018-2022 American Community Survey 5-Year Estimates"]
[]
[null,null,"Alton",null,"Barnstead",null,"Belmont",null,"Center Harbor",null,"Gilford",null,"Gilmanton",null,"Laconia",null,"Meredith",null,"New Hampton",null,"Sanbornton",null,"Tilton"]
[null," ","Estimate","Margin of Error","Estimate","Margin of Error","Estimate","Margin of Error","Estimate","Margin of Error","Estimate","Margin of Error","Estimate","Margin of Error","Estimate","Margin of Error","Estimate","Margin of Error","Estimate","Margin of Error","Estimate","Margin of Error","Estimate","Margin of Error"]
[null,"Total:",{"$f":"C7","v":2240},229,{"$f":"E7","v":1840},167,2940,252,384,88,3069,236,1575,155,6965,394,3242,243,978,123,1125,132,1598,137]
[null,"Owner-occupied housing units:",2072,207,{"$f":"E8","v":1600},176,2454,265,330,84,2771,206,1471,174,4095,367,2501,231,824,109,838,126,1055,163]
[null,"Single Family",{"$f":"C9","v":1823},212,1502,{"$f":"F9","v":171},1848,259,307,82,2371,185,1422,186,3142,298,2196,243,754,98,817,123,684,154]
[null,"Multi-Family",{"$f":"C10+C11+C12+C13+C14+C15+C16","v":25},{"$f":"SQRT((D10^2)+(D11^2)+(D12^2)+(D13^2)+(D14^2)+(D15^2)+(D16^2))","v":47.095647357266465},{"$f":"E10+E11+E12+E13+E14+E15+E16","v":18},{"$f":"SQRT((F10^2)+(F11^2)+(F12^2)+(F13^2)+(F14^2)+(F15^2)+(F16^2))","v":36.124783736376884},{"$f":"G10+G11+G12+G13+G14+G15+G16","v":18},{"$f":"SQRT((H10^2)+(H11^2)+(H12^2)+(H13^2)+(H14^2)+(H15^2)+(H16^2))","v":44.977772288098038},{"$f":"I10+I11+I12+I13+I14+I15+I16","v":20},{"$f":"SQRT((J10^2)+(J11^2)+(J12^2)+(J13^2)+(J14^2)+(J15^2)+(J16^2))","v":35},{"$f":"K10+K11+K12+K13+K14+K15+K16","v":135},{"$f":"SQRT((L10^2)+(L11^2)+(L12^2)+(L13^2)+(L14^2)+(L15^2)+(L16^2))","v":69.742383096650784},{"$f":"M10+M11+M12+M13+M14+M15+M16","v":37},{"$f":"SQRT((N10^2)+(N11^2)+(N12^2)+(N13^2)+(N14^2)+(N15^2)+(N16^2))","v":53.981478305063121},{"$f":"O10+O11+O12+O13+O14+O15+O16","v":762},{"$f":"SQRT((P10^2)+(P11^2)+(P12^2)+(P13^2)+(P14^2)+(P15^2)+(P16^2))","v":229.42536912904816},{"$f":"Q10+Q11+Q12+Q13+Q14+Q15+Q16","v":160},{"$f":"SQRT((R10^2)+(R11^2)+(R12^2)+(R13^2)+(R14^2)+(R15^2)+(R16^2))","v":78.47929663293371},{"$f":"S10+S11+S12+S13+S14+S15+S16","v":20},{"$f":"SQRT((T10^2)+(T11^2)+(T12^2)+(T13^2)+(T14^2)+(T15^2)+(T16^2))","v":31.384709652950431},{"$f":"U10+U11+U12+U13+U14+U15+U16","v":8},{"$f":"SQRT((V10^2)+(V11^2)+(V12^2)+(V13^2)+(V14^2)+(V15^2)+(V16^2))","v":32.140317359976393},{"$f":"W10+W11+W12+W13+W14+W15+W16","v":94},{"$f":"SQRT((X10^2)+(X11^2)+(X12^2)+(X13^2)+(X14^2)+(X15^2)+(X16^2))","v":74.833147735478832}]
[null,"Mobile Home & Other",{"$f":"C17+C18","v":224},{"$f":"SQRT((D17^2)+(D18^2))","v":98.478424032881435},{"$f":"E17+E18","v":80},{"$f":"SQRT((F17^2)+(F18^2))","v":61.188234163113421},{"$f":"G17+G18","v":588},{"$f":"SQRT((H17^2)+(H18^2))","v":201.71762441591463},{"$f":"I17+I18","v":3},{"$f":"SQRT((J17^2)+(J18^2))","v":13.416407864998739},{"$f":"K17+K18","v":265},{"$f":"SQRT((L17^2)+(L18^2))","v":160.90059042775448},{"$f":"M17+M18","v":12},{"$f":"SQRT((N17^2)+(N18^2))","v":20.808652046684813},{"$f":"O17+O18","v":191},{"$f":"SQRT((P17^2)+(P18^2))","v":95.900990610107883},{"$f":"Q17+Q18","v":145},{"$f":"SQRT((R17^2)+(R18^2))","v":84.723078319900537},{"$f":"S17+S18","v":50},{"$f":"SQRT((T17^2)+(T18^2))","v":38.897300677553446},{"$f":"U17+U18","v":13},{"$f":"SQRT((V17^2)+(V18^2))","v":22.472205054244231},{"$f":"W17+W18","v":277},{"$f":"SQRT((X17^2)+(X18^2))","v":126.57013865837392}]
[null,"Renter-occupied housing units:",{"$f":"C19","v":168},{"$f":"D19","v":109},{"$f":"E19","v":240},124,486,151,54,36,298,142,104,87,2870,417,741,213,154,75,287,122,543,140]
[null,"Single Family",{"$f":"C20","v":74},{"$f":"D20","v":67},{"$f":"E20","v":168},103,86,56,42,37,97,70,72,56,419,150,118,78,60,31,155,88,205,108]
[null,"Multi-Family",{"$f":"C21+C22+C23+C24+C25+C26+C27","v":94},{"$f":"SQRT((D21^2)+(D22^2)+(D23^2)+(D24^2)+(D25^2)+(D26^2)+(D27^2))","v":87.982952894296517},{"$f":"E21+E22+E23+E24+E25+E26+E27","v":47},{"$f":"SQRT((F21^2)+(F22^2)+(F23^2)+(F24^2)+(F25^2)+(F26^2)+(F27^2))","v":62.872887638472598},{"$f":"G21+G22+G23+G24+G25+G26+G27","v":260},{"$f":"SQRT((H21^2)+(H22^2)+(H23^2)+(H24^2)+(H25^2)+(H26^2)+(H27^2))","v":111.95088208674373},{"$f":"I21+I22+I23+I24+I25+I26+I27","v":12},{"$f":"SQRT((J21^2)+(J22^2)+(J23^2)+(J24^2)+(J25^2)+(J26^2)+(J27^2))","v":30.232432915661949},{"$f":"K21+K22+K23+K24+K25+K26+K27","v":184},{"$f":"SQRT((L21^2)+(L22^2)+(L23^2)+(L24^2)+(L25^2)+(L26^2)+(L27^2))","v":112.6809655620682},{"$f":"M21+M22+M23+M24+M25+M26+M27","v":32},{"$f":"SQRT((N21^2)+(N22^2)+(N23^2)+(N24^2)+(N25^2)+(N26^2)+(N27^2))","v":58.864250611045748},{"$f":"O21+O22+O23+O24+O25+O26+O27","v":2426},{"$f":"SQRT((P21^2)+(P22^2)+(P23^2)+(P24^2)+(P25^2)+(P26^2)+(P27^2))","v":422.72449656957428},{"$f":"Q21+Q22+Q23+Q24+Q25+Q26+Q27","v":616},{"$f":"SQRT((R21^2)+(R22^2)+(R23^2)+(R24^2)+(R25^2)+(R26^2)+(R27^2))","v":206.19165841517449},{"$f":"S21+S22+S23+S24+S25+S26+S27","v":61},{"$f":"SQRT((T21^2)+(T22^2)+(T23^2)+(T24^2)+(T25^2)+(T26^2)+(T27^2))","v":67.201190465645766},{"$f":"U21+U22+U23+U24+U25+U26+U27","v":67},{"$f":"SQRT((V21^2)+(V22^2)+(V23^2)+(V24^2)+(V25^2)+(V26^2)+(V27^2))","v":68.490875304671064},{"$f":"W21+W22+W23+W24+W25+W26+W27","v":338},{"$f":"SQRT((X21^2)+(X22^2)+(X23^2)+(X24^2)+(X25^2)+(X26^2)+(X27^2))","v":130.22672536772166}]
[null,"Mobile Home & Other",{"$f":"C28+C29","v":0},{"$f":"SQRT((D28^2)+(D29^2))","v":24.041630560342615},{"$f":"E28+E29","v":25},{"$f":"SQRT((F28^2)+(F29^2))","v":37.947331922020552},{"$f":"G28+G29","v":140},{"$f":"SQRT((H28^2)+(H29^2))","v":91.591484320323147},{"$f":"I28+I29","v":0},{"$f":"SQRT((J28^2)+(J29^2))","v":16.970562748477139},{"$f":"K28+K29","v":17},{"$f":"SQRT((L28^2)+(L29^2))","v":20.124611797498108},{"$f":"M28+M29","v":0},{"$f":"SQRT((N28^2)+(N29^2))","v":16.970562748477139},{"$f":"O28+O29","v":25},{"$f":"SQRT((P28^2)+(P29^2))","v":45.188494110780013},{"$f":"Q28+Q29","v":7},{"$f":"SQRT((R28^2)+(R29^2))","v":25.495097567963924},{"$f":"S28+S29","v":33},{"$f":"SQRT((T28^2)+(T29^2))","v":35.114099732158877},{"$f":"U28+U29","v":65},{"$f":"SQRT((V28^2)+(V29^2))","v":71.021123618258812},{"$f":"W28+W29","v":0},{"$f":"SQRT((X28^2)+(X29^2))","v":16.970562748477139}]
[]
[]
[]
[]
[]
[]
[]
[]
[]
[]
[]
[]
[]
[]
[]
[]
[]
[]
[]
[]
[]
[]
[]
[]
[]
[]
[]
[]
[]
[]
[]
[]
[]
[]
[]
[]
[]
[]
[]
[]
[null,"Calculated B25032. TENURE BY UNITS IN STRUCTURE "]
[null,"Universe:  OCCUPIED HOUSING UNITS"]
[null,"Data Set: 2013-2017 American Community Survey 5-Year Estimates"]
[]
[null,null,"Alton",null,"Barnstead",null,"Belmont",null,"Center Harbor",null,"Gilford",null,"Gilmanton",null,"Laconia",null,"Meredith",null,"New Hampton",null,"Sanbornton",null,"Tilton"]
[null," ","Estimate","Margin of Error","Estimate","Margin of Error","Estimate","Margin of Error","Estimate","Margin of Error","Estimate","Margin of Error","Estimate","Margin of Error","Estimate","Margin of Error","Estimate","Margin of Error","Estimate","Margin of Error","Estimate","Margin of Error","Estimate","Margin of Error"]
[null,"Total:",2159,178,1666,128,2799,234,419,56,3082,182,6904,342,6740,357,2626,159,848,88,1118,83,1515,130]
[null,"Owner-occupied housing units:",1816,203,1497,157,2378,224,363,55,2712,188,3786,297,3650,271,1971,175,728,94,1025,92,971,151]
[null,"Single Family",1688,212,1411,150,1509,201,356,55,2295,193,3083,237,2997,256,1697,150,677,87,958,92,755,128]
[null,"Multi-Family",27,52.545218621678607,43,40.779897008207364,249,130.77843858985318,7,25.632011235952593,114,55.839054433254866,561,139.43457247038842,505,129.86916493148019,160,70.092795635500224,9,26.019223662515376,34,33.911649915626342,67,47.592016137163178]
[null,"Mobile Home & Other",101,75.709972922990801,43,53.150729063673246,620,152.83978539634239,0,15.556349186104045,303,94.36630754670864,142,72.277243998370608,148,62.361847310675458,114,69.856996786291916,42,37.643060449437421,33,25.495097567963924,149,63.953107821277925]
[null,"Renter-occupied housing units:",343,124,169,93,421,164,56,30,370,112,3118,263,3090,253,655,154,120,46,93,37,544,147]
[null,"Single Family",221,106,104,74,122,101,56,30,135,87,507,136,507,168,232,107,101,43,76,34,99,69]
[null,"Multi-Family",122,95.781000203589443,36,52.316345438113316,191,100.60318086422517,0,29.103264421710495,212,100.637965003273,2611,349.43525866746762,2565,342.98250684255021,392,116.64475984801032,19,26.514147167125703,17,27.221315177632398,381,128.20296408429877]
[null,"Mobile Home & Other",0,22.627416997969522,29,29.154759474226502,108,109.17875251164945,0,15.556349186104045,23,21.2602916254693,0,25.45584412271571,18,31.064449134018133,31,33.120990323358392,0,15.556349186104045,0,15.556349186104045,64,52.172789842982326]
[]
[]
[]
[null,"Calculated B25032. TENURE BY UNITS IN STRUCTURE "]
[null,"Universe:  OCCUPIED HOUSING UNITS"]
[null,"Data Set: 2008-2012 American Community Survey 5-Year Estimates"]
[]
[null,null,"Alton",null,"Barnstead",null,"Belmont",null,"Center Harbor",null,"Gilford",null,"Gilmanton",null,"Laconia",null,"Meredith",null,"New Hampton",null,"Sanbornton",null,"Tilton"]
[null," ","Estimate","Margin of Error","Estimate","Margin of Error","Estimate","Margin of Error","Estimate","Margin of Error","Estimate","Margin of Error","Estimate","Margin of Error","Estimate","Margin of Error","Estimate","Margin of Error","Estimate","Margin of Error","Estimate","Margin of Error","Estimate","Margin of Error"]
[null,"Total:",2182,151,1694,91,2774,177,443,61,2996,213,1433,86,7143,283,2949,153,870,73,1190,79,1453,141]
[null,"Owner-occupied housing units:",1812,175,1585,93,2265,188,362,64,2581,211,1337,93,4244,308,2124,176,714,75,1106,82,950,121]
[null,"Single Family",1647,183,1534,93,1737,181,354,63,2045,206,1306,90,3388,283,1844,214,687,75,1062,94,677,110]
[null,"Multi-Family",51,69.173694422085049,0,29.103264421710495,45,49.416596402423345,3,27.404379212089442,177,101.49876846543509,8,29.916550603303182,675,198.33305322109072,97,53.469617541179403,0,29.103264421710495,38,38.078865529319543,72,59.413803110051795]
[null,"Mobile Home & Other",114,57.280013966478741,51,36.687872655688281,483,152.83978539634239,5,13.038404810405298,359,138.92443989449805,23,22.360679774997898,181,74.215901261117892,183,95.351979528481735,27,19.416487838947599,6,14.866068747318506,201,62.968245965724662]
[null,"Renter-occupied housing units:",370,139,109,38,509,176,81,37,415,179,96,54,2899,306,825,171,156,43,84,47,503,107]
[null,"Single Family",134,95,81,40,185,125,52,30,234,140,96,54,414,139,265,124,85,34,84,47,96,71]
[null,"Multi-Family",163,130.98854911785227,8,29.49576240750525,316,140.67693485429658,20,29.899832775452108,137,119.00420160649792,0,29.103264421710495,2474,378.80865882395034,412,130.20752666416791,35,36.674241641784498,0,29.103264421710495,389,136.02573285963211]
[null,"Mobile Home & Other",73,69.856996786291916,20,29.154759474226502,8,20.615528128088304,9,17.029386365926403,44,46.818799642878503,0,15.556349186104045,11,24.758836806279895,148,100.2845950283492,36,24.596747752497688,0,15.556349186104045,18,21.95449840010015]

{"sheet":"ACS_Table_B25034","index":45,"n_rows":58,"n_cols":24,"rows_kept":58,"cut":false,"hidden":true,"merged":[]}
[null,"B25034. YEAR STRUCTURE BUILT"]
[null,"Universe:  HOUSING UNITS"]
[null,"Data Set: 2018-2022 American Community Survey 5-Year Estimates"]
[]
[null,null,"Alton",null,"Barnstead",null,"Belmont",null,"Center Harbor",null,"Gilford",null,"Gilmanton",null,"Laconia",null,"Meredith",null,"New Hampton",null,"Sanbornton",null,"Tilton"]
[null," ","Estimate","Margin of Error","Estimate","Margin of Error","Estimate","Margin of Error","Estimate","Margin of Error","Estimate","Margin of Error","Estimate","Margin of Error","Estimate","Margin of Error","Estimate","Margin of Error","Estimate","Margin of Error","Estimate","Margin of Error","Estimate","Margin of Error"]
[null,"Total:",4237,294,2475,201,3612,256,749,119,5168,343,2271,204,10073,360,5237,240,1082,130,1627,200,1947,173]
[null,"Built 2014 or later",14,24,8,13,26,42,0,12,45,75,16,19,31,50,0,17,0,12,0,12,30,30]
[null,"Built 2010 or 2013",375,161,87,71,175,116,20,21,316,122,114,66,560,169,326,97,73,43,91,65,103,75]
[null,"Built 2000 to 2009",660,204,302,111,319,132,98,41,869,263,362,119,1238,216,784,240,235,87,347,131,253,108]
[null,"Built 1990 to 1999",527,207,275,141,524,187,103,38,569,232,289,117,617,197,567,175,171,63,162,76,56,46]
[null,"Built 1980 to 1989",419,148,658,199,996,213,135,67,910,234,391,148,1746,374,768,176,180,64,274,123,147,88]
[null,"Built 1970 to 1979",612,235,484,169,649,219,69,37,878,234,254,116,1102,262,1087,275,121,57,111,76,439,152]
[null,"Built 1960 to 1969",653,251,176,93,371,159,78,38,499,194,194,93,643,218,375,166,95,51,119,81,216,97]
[null,"Built 1950 to 1959",323,167,141,111,165,99,83,42,505,166,280,117,817,228,283,131,43,25,122,86,88,70]
[null,"Built 1940 to 1949",122,109,28,45,150,107,29,31,209,91,38,49,583,213,230,109,19,22,138,99,94,57]
[null,"Built 1939 or earlier",532,205,316,127,237,105,134,50,368,136,333,152,2736,327,817,208,145,54,263,110,521,138]
[]
[]
[]
[]
[null,"B25034. YEAR STRUCTURE BUILT"]
[null,"Universe:  HOUSING UNITS"]
[null,"Data Set: 2013-2017 American Community Survey 5-Year Estimates"]
[]
[null,null,"Alton",null,"Barnstead",null,"Belmont",null,"Center Harbor",null,"Gilford",null,"Gilmanton",null,"Laconia",null,"Meredith",null,"New Hampton",null,"Sanbornton",null,"Tilton"]
[null," ","Estimate","Margin of Error","Estimate","Margin of Error","Estimate","Margin of Error","Estimate","Margin of Error","Estimate","Margin of Error","Estimate","Margin of Error","Estimate","Margin of Error","Estimate","Margin of Error","Estimate","Margin of Error","Estimate","Margin of Error","Estimate","Margin of Error"]
[null,"Total:",4560,205,2447,158,3621,266,771,76,5212,278,10038,298,9945,324,4727,176,1113,111,1613,81,1775,155]
[null,"Built 2014 or later",0,16,122,81,31,35,8,13,0,16,35,33,9,14,26,29,29,25,0,11,14,22]
[null,"Built 2010 or 2013",15,24,19,22,24,27,15,14,69,47,158,86,103,53,75,62,4,7,4,7,42,29]
[null,"Built 2000 to 2009",1273,275,408,115,658,193,106,44,735,190,940,175,952,181,893,172,222,66,229,69,216,84]
[null,"Built 1990 to 1999",446,184,205,84,367,128,92,32,565,161,640,163,703,204,471,147,135,48,171,53,83,62]
[null,"Built 1980 to 1989",720,218,459,127,1176,250,135,48,1266,240,1797,282,1895,245,635,154,253,60,372,84,223,94]
[null,"Built 1970 to 1979",481,168,555,148,400,153,84,30,880,225,1161,228,1171,220,781,172,100,47,178,71,301,92]
[null,"Built 1960 to 1969",651,151,182,90,318,132,58,34,530,139,959,216,874,174,364,133,93,48,196,83,174,86]
[null,"Built 1950 to 1959",220,121,194,93,117,78,56,28,330,129,761,198,677,154,450,126,115,54,158,57,182,86]
[null,"Built 1940 to 1949",198,142,58,44,72,55,14,16,223,89,657,185,696,169,184,87,45,36,85,40,34,25]
[null,"Built 1939 or earlier",556,199,245,87,458,155,203,57,614,151,2930,321,2865,326,848,181,117,41,220,62,506,131]
[]
[]
[]
[]
[null,"B25034. YEAR STRUCTURE BUILT"]
[null,"Universe:  HOUSING UNITS"]
[null,"Data Set: 2008-2012 American Community Survey 5-Year Estimates"]
[]
[null,null,"Alton",null,"Barnstead",null,"Belmont",null,"Center Harbor",null,"Gilford",null,"Gilmanton",null,"Laconia",null,"Meredith",null,"New Hampton",null,"Sanbornton",null,"Tilton"]
[null," ","Estimate","Margin of Error","Estimate","Margin of Error","Estimate","Margin of Error","Estimate","Margin of Error","Estimate","Margin of Error","Estimate","Margin of Error","Estimate","Margin of Error","Estimate","Margin of Error","Estimate","Margin of Error","Estimate","Margin of Error","Estimate","Margin of Error"]
[null,"Total:",4215,241,2343,118,3531,205,714,71,4791,245,2137,147,9927,258,5014,190,1183,87,1643,96,1814,172]
[null,"Built 2005 or later",0,16,12,18,9,15,0,11,0,16,0,11,8,15,0,16,0,11,0,11,0,11]
[null,"Built 2000 to 2004",580,178,448,139,350,124,80,34,651,191,420,109,951,189,787,153,197,67,174,56,173,79]
[null,"Built 1990 to 1999",332,133,197,86,704,202,82,34,351,138,133,63,1061,247,793,175,177,53,290,90,139,78]
[null,"Built 1980 to 1989",656,217,419,119,897,233,169,51,1225,272,467,110,1798,315,947,190,252,60,385,90,196,97]
[null,"Built 1970 to 1979",622,202,461,125,367,152,79,29,818,217,296,99,767,182,600,164,181,59,205,87,411,107]
[null,"Built 1960 to 1969",569,219,164,86,327,135,76,37,331,148,334,111,746,183,571,150,67,30,160,70,153,81]
[null,"Built 1950 to 1959",513,205,111,68,274,133,41,24,407,147,177,83,1004,223,402,143,82,31,111,60,89,39]
[null,"Built 1940 to 1949",393,200,58,59,153,96,16,15,226,114,95,52,568,174,152,90,3,4,96,60,91,66]
[null,"Built 1939 or earlier",550,200,473,134,450,126,171,54,782,237,215,76,3024,320,762,184,224,41,222,64,562,110]

{"sheet":"ACS_Table_B25041","index":46,"n_rows":73,"n_cols":24,"rows_kept":73,"cut":false,"hidden":true,"merged":[]}
[null,"B25041. BEDROOMS "]
[null,"Universe:  HOUSING UNITS"]
[null,"Data Set: 2018-2022 American Community Survey 5-Year Estimates"]
[]
[null,null,"Alton",null,"Barnstead",null,"Belmont",null,"Center Harbor",null,"Gilford",null,"Gilmanton",null,"Laconia",null,"Meredith",null,"New Hampton",null,"Sanbornton",null,"Tilton"]
[null," ","Estimate","Margin of Error","Estimate","Margin of Error","Estimate","Margin of Error","Estimate","Margin of Error","Estimate","Margin of Error","Estimate","Margin of Error","Estimate","Margin of Error","Estimate","Margin of Error","Estimate","Margin of Error","Estimate","Margin of Error","Estimate","Margin of Error"]
[null,"Total:",4237,294,2475,201,3612,256,749,119,5168,343,2271,204,10073,360,5237,240,1082,130,1627,200,1947,173]
[null,"No bedroom",149,131,0,12,0,17,52,38,16,25,32,42,421,207,204,154,0,12,0,12,46,40]
[null,"1 bedroom",209,136,180,102,286,134,81,44,467,174,141,79,1202,285,387,141,121,70,212,122,298,141]
[null,"2 bedrooms",1321,333,652,187,1181,284,156,48,1526,288,641,172,3712,463,1547,271,315,89,469,135,738,172]
[null,"3 bedrooms",1807,316,1318,189,1654,270,286,69,1910,285,1256,198,3279,372,2096,289,460,84,725,160,667,154]
[null,"4 bedrooms",418,185,200,84,414,150,131,61,988,220,120,71,1244,267,813,191,136,57,181,83,114,84]
[null,"5 or more bedrooms",333,160,125,82,77,82,43,33,261,96,81,68,215,109,190,97,50,33,40,48,84,82]
[]
[]
[null,"Calculated B25041. BEDROOMS "]
[null,"Universe:  HOUSING UNITS"]
[null,"Data Set: 2018-2022 American Community Survey 5-Year Estimates"]
[]
[null," ","Alton",null,"Barnstead",null,"Belmont",null,"Center Harbor",null,"Gilford",null,"Gilmanton",null,"Laconia",null,"Meredith",null,"New Hampton",null,"Sanbornton",null,"Tilton"]
[null," ","Estimate","Margin of Error","Estimate","Margin of Error","Estimate","Margin of Error","Estimate","Margin of Error","Estimate","Margin of Error","Estimate","Margin of Error","Estimate","Margin of Error","Estimate","Margin of Error","Estimate","Margin of Error","Estimate","Margin of Error","Estimate","Margin of Error"]
[null,"Total:",4353,288,2467,129,3592,247,739,83,4700,200,2102,110,9974,345,4822,225,1211,106,1635,91,1786,163]
[null,"No bedroom",201,143,0,11,73,67,26,19,200,123,60,57,295,136,59,56,4,6,0,11,57,67]
[null,"1 bedroom",358,191,198,107,455,158,67,36,354,178,268,102,1510,291,377,133,45,24,171,73,232,78]
[null,"2 bedrooms",1222,226,902,195,1262,239,173,43,1299,224,630,144,3767,398,1349,222,288,67,482,116,621,125]
[null,"3 bedrooms",1882,305,1055,169,1491,203,346,60,1845,263,920,161,3104,311,2282,306,631,92,685,95,658,123]
[null,"4 + bedrooms",690,239.87079855622275,312,112.0044641967453,311,114.49017425089369,127,45.188494110780013,1002,240.50363822611914,224,80.777472107017559,1298,248.65437860612872,755,182.91254740995763,243,67.779052811322174,297,76.661594035083823,218,85.603738236130781]
[]
[]
[]
[]
[]
[]
[]
[]
[]
[]
[]
[]
[]
[]
[]
[]
[]
[]
[]
[null,"Calculated B25041. BEDROOMS "]
[null,"Universe:  HOUSING UNITS"]
[null,"Data Set: 2013-2017 American Community Survey 5-Year Estimates"]
[]
[null," ","Alton",null,"Barnstead",null,"Belmont",null,"Center Harbor",null,"Gilford",null,"Gilmanton",null,"Laconia",null,"Meredith",null,"New Hampton",null,"Sanbornton",null,"Tilton"]
[null," ","Estimate","Margin of Error","Estimate","Margin of Error","Estimate","Margin of Error","Estimate","Margin of Error","Estimate","Margin of Error","Estimate","Margin of Error","Estimate","Margin of Error","Estimate","Margin of Error","Estimate","Margin of Error","Estimate","Margin of Error","Estimate","Margin of Error"]
[null,"Total:",4215,241,2343,118,3531,205,714,71,4791,245,2137,147,9927,258,5014,190,1183,87,1643,96,1814,172]
[null,"No bedroom",217,126,0,11,75,75,28,21,168,109,33,41,172,88,64,58,5,6,0,11,28,45]
[null,"1 bedroom",305,168,144,92,438,169,60,28,384,181,217,86,1539,276,368,130,55,30,224,84,297,105]
[null,"2 bedrooms",1296,262,782,146,1158,207,153,45,1310,247,644,151,3715,343,1620,249,341,67,498,118,694,155]
[null,"3 bedrooms",1720,317,1021,170,1532,236,328,63,1883,312,997,154,3221,336,2211,223,522,84,628,103,600,131]
[null,"4 + bedrooms",677,174.55371666051687,396,114.54693361238441,328,136.40014662748717,145,44.294469180700204,1046,258.54400012377005,246,86.648716089737874,1280,242.03305559365234,751,169.57889019568444,260,64.884512790033341,293,81.055536516637773,195,79.981247802219244]
[]
[]
[]
[null,"Calculated B25041. BEDROOMS "]
[null,"Universe:  HOUSING UNITS"]
[null,"Data Set: 2008-2012 American Community Survey 5-Year Estimates"]
[]
[null," ","Alton",null,"Barnstead",null,"Belmont",null,"Center Harbor",null,"Gilford",null,"Gilmanton",null,"Laconia",null,"Meredith",null,"New Hampton",null,"Sanbornton",null,"Tilton"]
[null," ","Estimate","Margin of Error","Estimate","Margin of Error","Estimate","Margin of Error","Estimate","Margin of Error","Estimate","Margin of Error","Estimate","Margin of Error","Estimate","Margin of Error","Estimate","Margin of Error","Estimate","Margin of Error","Estimate","Margin of Error","Estimate","Margin of Error"]
[null,"Total:",4237,288,2242,140,3675,207,712,70,4889,296,1999,144,9796,406,4857,215,1216,70,1629,100,1544,198]
[null,"No bedroom",85,86,26,43,42,55,18,18,124,138,7,11,178,98,17,26,4,5,30,38,41,49]
[null,"1 bedroom",282,158,98,60,337,124,51,27,341,164,109,76,1341,217,452,123,63,25,190,78,251,93]
[null,"2 bedrooms",1211,225,584,145,1346,230,192,58,1649,304,612,149,3646,409,1661,279,330,63,407,92,567,141]
[null,"3 bedrooms",1995,315,1129,179,1544,205,259,56,1725,298,1006,139,3227,313,1980,254,550,67,700,122,456,130]
[null,"4 + bedrooms",664,183.91846019364124,405,126.56223765404908,406,150.37619492459569,192,53.712196007983138,1050,231.76712450216058,265,81.123362849428275,1404,237.87601812709073,747,161.75598906995685,269,63.953107821277925,302,93.744333162063725,229,89.805345052507874]

{"sheet":"PovertyCharacteristics","index":47,"n_rows":82,"n_cols":17,"rows_kept":82,"cut":false,"hidden":true,"merged":[[21,15,21,16],[64,15,64,16],[49,15,49,16],[77,6,78,9],[77,2,78,3],[77,11,78,13],[21,11,21,13],[21,3,21,5],[64,11,64,14],[64,3,64,5],[64,7,64,9],[49,11,49,14],[21,7,21,9],[30,2,31,4],[30,7,31,9],[30,11,31,13]]}
[]
[null,null,{"$f":"CntyDataLink!A86","v":"Laconia"}]
[null,null,"POVERTY CHARACTERISTICS"]
[]
[]
[]
[]
[]
[]
[]
[]
[]
[]
[]
[]
[]
[]
[null,null,null,null,null,null,null,null,null,null,null,null,"2012 Income (2008-2012 ACS)"]
[null,null,null,null,null,null,null,null,null,null,null,null,"2017 Income (2013-2017 ACS)"]
[null,null,null,null,null,null,null,null,null,null,null,null,"2022 Income (2018-2022 ACS)"]
[]
[null,null,null,"2012 Inc below Poverty Level",null,null,null,"2017 Inc below Poverty Level",null,null,null,"2022 Inc below Poverty Level",null,null,null,"Statistically Significant Change"]
[null,null,"Population","Estimate","Margin of Error","% of Population in Poverty",null,"Estimate","Margin of Error","% of Population in Poverty",null,"Estimate","Margin of Error","% of Population in Poverty",null,"2011-2021","2016-2021"]
[null,null," Total Individuals living Poverty",{"$f":"CntyDataLinkPrior10YearEstimate!$D$124","v":1817},{"$f":"CntyDataLinkPrior10YearEstimate!$E$124","v":454},{"$f":"D24/CntyDataLinkPrior10YearEstimate!$B$124","v":0.11791809981179829},null,{"$f":"CntyDataLinkPrior5YearEstimates!$D$124","v":2557},{"$f":"CntyDataLinkPrior5YearEstimates!$E$124","v":733},{"$f":"H24/CntyDataLinkPrior5YearEstimates!$B$124","v":0.164215528867767},null,{"$f":"CntyDataLink!$D$124","v":1674},{"$f":"CntyDataLink!$E$124","v":536},{"$f":"L24/CntyDataLink!$B$124","v":0.10198610941878884},null,{"$f":"StatisticallySignificantCalcs!$A112","v":"Y"},{"$f":"StatisticallySignificantCalcs!$J$112","v":"N"}]
[null,null,"Under 5 yrs.",{"$f":"CntyDataLinkPrior10YearEstimate!$F$124","v":63},{"$f":"CntyDataLinkPrior10YearEstimate!$G$124","v":61.684682053164543},{"$f":"D25/(CntyDataLinkPrior10YearEstimate!$F$124+CntyDataLinkPrior10YearEstimate!$R$124)","v":0.10144927536231885},null,{"$f":"CntyDataLinkPrior5YearEstimates!$F$124","v":325},{"$f":"CntyDataLinkPrior5YearEstimates!$G$124","v":149.56603892595405},{"$f":"H25/(CntyDataLinkPrior5YearEstimates!$F$124+CntyDataLinkPrior5YearEstimates!$R$124)","v":0.3607103218645949},null,{"$f":"CntyDataLink!$F$124","v":188},{"$f":"CntyDataLink!$G$124","v":86.977008456258133},{"$f":"L25/(CntyDataLink!$F$124+CntyDataLink!$R$124)","v":0.26895565092989987},null,{"$f":"StatisticallySignificantCalcs!$A113","v":"Y"},{"$f":"StatisticallySignificantCalcs!$J$113","v":"N"}]
[null,null,"5 to 17 yrs.",{"$f":"CntyDataLinkPrior10YearEstimate!$H$124","v":357},{"$f":"CntyDataLinkPrior10YearEstimate!$I$124","v":237.16028335284136},{"$f":"D26/(CntyDataLinkPrior10YearEstimate!$H$124+CntyDataLinkPrior10YearEstimate!$T$124)","v":0.15210907541542396},null,{"$f":"CntyDataLinkPrior5YearEstimates!$H$124","v":558},{"$f":"CntyDataLinkPrior5YearEstimates!$I$124","v":216.99308744750374},{"$f":"H26/(CntyDataLinkPrior5YearEstimates!$H$124+CntyDataLinkPrior5YearEstimates!$T$124)","v":0.27113702623906705},null,{"$f":"CntyDataLink!$H$124","v":298},{"$f":"CntyDataLink!$I$124","v":213.36353952819587},{"$f":"L26/(CntyDataLink!$H$124+CntyDataLink!$T$124)","v":0.12670068027210885},null,{"$f":"StatisticallySignificantCalcs!$A114","v":"N"},{"$f":"StatisticallySignificantCalcs!$J$114","v":"N"}]
[null,null,"18 to 64 yrs.",{"$f":"CntyDataLinkPrior10YearEstimate!$J$124","v":1204},{"$f":"CntyDataLinkPrior10YearEstimate!$K$124","v":260.64151626323849},{"$f":"D27/(CntyDataLinkPrior10YearEstimate!$J$124+CntyDataLinkPrior10YearEstimate!$V$124)","v":0.12041204120412041},null,{"$f":"CntyDataLinkPrior5YearEstimates!$J$124","v":1503},{"$f":"CntyDataLinkPrior5YearEstimates!$K$124","v":286.00349648212347},{"$f":"H27/(CntyDataLinkPrior5YearEstimates!$J$124+CntyDataLinkPrior5YearEstimates!$V$124)","v":0.15163438256658596},null,{"$f":"CntyDataLink!$J$124","v":923},{"$f":"CntyDataLink!$K$124","v":286.54668031579081},{"$f":"L27/(CntyDataLink!$J$124+CntyDataLink!$V$124)","v":9.2503507716977351E-2},null,{"$f":"StatisticallySignificantCalcs!$A115","v":"Y"},{"$f":"StatisticallySignificantCalcs!$J$115","v":"Y"}]
[null,null,"65 to 74 yrs.",{"$f":"CntyDataLinkPrior10YearEstimate!$L$124","v":89},{"$f":"CntyDataLinkPrior10YearEstimate!$M$124","v":56.222771187482387},{"$f":"D28/(CntyDataLinkPrior10YearEstimate!$L$124+CntyDataLinkPrior10YearEstimate!$X$124)","v":7.3251028806584365E-2},null,{"$f":"CntyDataLinkPrior5YearEstimates!$L$124","v":71},{"$f":"CntyDataLinkPrior5YearEstimates!$M$124","v":48.020828814171878},{"$f":"H28/(CntyDataLinkPrior5YearEstimates!$L$124+CntyDataLinkPrior5YearEstimates!$X$124)","v":4.4402751719824891E-2},null,{"$f":"CntyDataLink!$L$124","v":213},{"$f":"CntyDataLink!$M$124","v":137.64446955835166},{"$f":"L28/(CntyDataLink!$L$124+CntyDataLink!$X$124)","v":8.8824020016680563E-2},null,{"$f":"StatisticallySignificantCalcs!$A116","v":"N"},{"$f":"StatisticallySignificantCalcs!$J$116","v":"N"}]
[null,null,"75 yrs. & Over",{"$f":"CntyDataLinkPrior10YearEstimate!$N$124","v":104},{"$f":"CntyDataLinkPrior10YearEstimate!$O$124","v":61.846584384264908},{"$f":"D29/(CntyDataLinkPrior10YearEstimate!$N$124+CntyDataLinkPrior10YearEstimate!$Z$124)","v":0.40466926070038911},null,{"$f":"CntyDataLinkPrior5YearEstimates!$N$124","v":100},{"$f":"CntyDataLinkPrior5YearEstimates!$O$124","v":52.839379254491625},{"$f":"H29/(CntyDataLinkPrior5YearEstimates!$N$124+CntyDataLinkPrior5YearEstimates!$Z$124)","v":0.29239766081871343},null,{"$f":"CntyDataLink!$N$124","v":52},{"$f":"CntyDataLink!$O$124","v":32.202484376209235},{"$f":"L29/(CntyDataLink!$N$124+CntyDataLink!$Z$124)","v":5.2684903748733539E-2},null,{"$f":"StatisticallySignificantCalcs!$A117","v":"N"},{"$f":"StatisticallySignificantCalcs!$J$117","v":"N"}]
[]
[null,null,"Source: 2005-2009 American Community Survey  Table B1701",null,null,null,null,"Source: 2018-2022 American Community Survey  Table B1701",null,null,null,"Source: 2018-2022 American Community Survey  Table B1701"]
[]
[]
[]
[]
[]
[]
[]
[]
[]
[]
[]
[]
[]
[]
[]
[]
[]
[]
[null,null,null,{"$f":"D22","v":"2012 Inc below Poverty Level"},null,null,null,{"$f":"H22","v":"2017 Inc below Poverty Level"},null,null,null,{"$f":"L22","v":"2022 Inc below Poverty Level"},null,null,null,"Statistically Significant Change"]
[null,null,null,"Estimate","Margin of Error","% of Family Type in Poverty",null,"Estimate","Margin of Error ","% of Family Type in Poverty",null,"Estimate","Margin of Error ","% of Family Type in Poverty",null,{"$f":"P23","v":"2011-2021"},{"$f":"Q23","v":"2016-2021"}]
[]
[]
[null,null,"Total Households",{"$f":"CntyDataLinkPrior10YearEstimate!$AD$124","v":828},{"$f":"CntyDataLinkPrior10YearEstimate!$AE$124","v":193},{"$f":"$D54/($D54+$D68)","v":0.12038383250945042},null,{"$f":"CntyDataLinkPrior5YearEstimates!$AD$124","v":961},{"$f":"CntyDataLinkPrior5YearEstimates!$AE$124","v":228},{"$f":"$H54/($H54+$H68)","v":0.14258160237388723},null,{"$f":"CntyDataLink!$AD$124","v":709},{"$f":"CntyDataLink!$AE$124","v":260},{"$f":"$L54/($L54+$L68)","v":0.10179468772433596},null,{"$f":"StatisticallySignificantCalcs!$A$94","v":"N"},{"$f":"StatisticallySignificantCalcs!$J$94","v":"N"}]
[null,null,"Family Households",{"$f":"CntyDataLinkPrior10YearEstimate!$AF$124","v":343},{"$f":"CntyDataLinkPrior10YearEstimate!$AG$124","v":137},{"$f":"$D55/($D55+$D69)","v":8.2870258516549888E-2},null,{"$f":"CntyDataLinkPrior5YearEstimates!$AF$124","v":516},{"$f":"CntyDataLinkPrior5YearEstimates!$AG$124","v":166},{"$f":"$H55/($H55+$H69)","v":0.12566975158304919},null,{"$f":"CntyDataLink!$AF$124","v":249},{"$f":"CntyDataLink!$AG$124","v":153},{"$f":"$L55/($L55+$L69)","v":6.1375400542272612E-2},null,{"$f":"StatisticallySignificantCalcs!$A$95","v":"N"},{"$f":"StatisticallySignificantCalcs!$J$95","v":"Y"}]
[null,null,"Married Couple Fam HH",{"$f":"CntyDataLinkPrior10YearEstimate!$AH$124","v":82},{"$f":"CntyDataLinkPrior10YearEstimate!$AI$124","v":56},{"$f":"$D56/($D56+$D70)","v":2.6710097719869708E-2},null,{"$f":"CntyDataLinkPrior5YearEstimates!$AH$124","v":217},{"$f":"CntyDataLinkPrior5YearEstimates!$AI$124","v":109},7.3484591940399593E-2,null,{"$f":"CntyDataLink!$AH$124","v":64},{"$f":"CntyDataLink!$AI$124","v":58},2.2980251346499104E-2,null,{"$f":"StatisticallySignificantCalcs!$A$96","v":"N"},{"$f":"StatisticallySignificantCalcs!$J$96","v":"Y"}]
[null,null,"M C Fam HH w/Children",{"$f":"CntyDataLinkPrior10YearEstimate!$BN$124","v":0},{"$f":"CntyDataLinkPrior10YearEstimate!$BO$124","v":85},0,null,{"$f":"CntyDataLinkPrior5YearEstimates!$BN$124","v":120},{"$f":"CntyDataLinkPrior5YearEstimates!$BO$124","v":110},0.13590033975084936,null,{"$f":"CntyDataLink!$BN$124","v":14},{"$f":"CntyDataLink!$BO$124","v":24},1.8276762402088774E-2,null,{"$f":"StatisticallySignificantCalcs!$A$97","v":"N"},{"$f":"StatisticallySignificantCalcs!$J$97","v":"N"}]
[null,null,"Male Head of Family HH ",{"$f":"CntyDataLinkPrior10YearEstimate!$AL$124","v":105},{"$f":"CntyDataLinkPrior10YearEstimate!$AM$124","v":87},0.58659217877094971,null,{"$f":"CntyDataLinkPrior5YearEstimates!$AL$124","v":40},{"$f":"CntyDataLinkPrior5YearEstimates!$AM$124","v":33},0.16597510373443983,null,{"$f":"CntyDataLink!$AL$124","v":0},{"$f":"CntyDataLink!$AM$124","v":19},0,null,{"$f":"StatisticallySignificantCalcs!$A$98","v":"Y"},{"$f":"StatisticallySignificantCalcs!$J$98","v":"Y"}]
[null,null,"Male Head of HH w/Children",{"$f":"CntyDataLinkPrior10YearEstimate!$BP$124","v":55},{"$f":"CntyDataLinkPrior10YearEstimate!$BQ$124","v":55},0.52380952380952384,null,{"$f":"CntyDataLinkPrior5YearEstimates!$BP$124","v":9},{"$f":"CntyDataLinkPrior5YearEstimates!$BQ$124","v":14},8.3333333333333329E-2,null,{"$f":"CntyDataLink!$BP$124","v":0},{"$f":"CntyDataLink!$BQ$124","v":19},0,null,{"$f":"StatisticallySignificantCalcs!$A$99","v":"N"},{"$f":"StatisticallySignificantCalcs!$J$99","v":"N"}]
[null,null,"Female Head of Family HH ",{"$f":"CntyDataLinkPrior10YearEstimate!$AN$124","v":156},{"$f":"CntyDataLinkPrior10YearEstimate!$AO$124","v":91},0.1752808988764045,null,{"$f":"CntyDataLinkPrior5YearEstimates!$AN$124","v":259},{"$f":"CntyDataLinkPrior5YearEstimates!$AO$124","v":124},0.28399122807017546,null,{"$f":"CntyDataLink!$AN$124","v":185},{"$f":"CntyDataLink!$AO$124","v":130},0.19978401727861772,null,{"$f":"StatisticallySignificantCalcs!$A$100","v":"N"},{"$f":"StatisticallySignificantCalcs!$J$100","v":"N"}]
[null,null,"Female Head of HH w/Children",{"$f":"CntyDataLinkPrior10YearEstimate!$BR$124","v":141},{"$f":"CntyDataLinkPrior10YearEstimate!$BS$124","v":87},0.26355140186915887,null,{"$f":"CntyDataLinkPrior5YearEstimates!$BR$124","v":247},{"$f":"CntyDataLinkPrior5YearEstimates!$BS$124","v":122},0.42586206896551726,null,{"$f":"CntyDataLink!$BR$124","v":185},{"$f":"CntyDataLink!$BS$124","v":130},0.3432282003710575,null,{"$f":"StatisticallySignificantCalcs!$A$101","v":"N"},{"$f":"StatisticallySignificantCalcs!$J$101","v":"N"}]
[null,null,"Non-Family HH ",{"$f":"CntyDataLinkPrior10YearEstimate!$AP$124","v":485},{"$f":"CntyDataLinkPrior10YearEstimate!$AQ$124","v":150},0.17707192405987587,null,{"$f":"CntyDataLinkPrior5YearEstimates!$AP$124","v":445},{"$f":"CntyDataLinkPrior5YearEstimates!$AQ$124","v":135},0.16894457099468488,null,{"$f":"CntyDataLink!$AP$124","v":460},{"$f":"CntyDataLink!$AQ$124","v":225},0.15818431911966988,null,{"$f":"StatisticallySignificantCalcs!$A$102","v":"N"},{"$f":"StatisticallySignificantCalcs!$J$102","v":"N"}]
[]
[null,"Data from the American Community Survey are estimates."]
[null,null,null,"2011  Inc at or Above Poverty Level",null,null,null,"2016 Inc at or Above Poverty Level",null,null,null,"2021 Inc at or above Poverty Level",null,null,null,"Statistically Significant Change"]
[null,null,"Households","Estimate","Margin of Error",null,null,"Estimate","Margin of Error",null,null,"Estimate","Margin of Error",null,null,{"$f":"P23","v":"2011-2021"},{"$f":"Q23","v":"2016-2021"}]
[]
[null,null,"Total Households",{"$f":"CntyDataLinkPrior10YearEstimate!$AV$124","v":6050},{"$f":"CntyDataLinkPrior10YearEstimate!$AW$124","v":301},{"$f":"$D68/($D68+$D54)","v":0.87961616749054961},null,{"$f":"CntyDataLinkPrior5YearEstimates!$AV$124","v":5779},{"$f":"CntyDataLinkPrior5YearEstimates!$AW$124","v":429},{"$f":"$H68/($H68+$H54)","v":0.85741839762611272},null,{"$f":"CntyDataLink!$AV$124","v":6256},{"$f":"CntyDataLink!$AW$124","v":427},{"$f":"$L68/($L68+$L54)","v":0.89820531227566403},null,{"$f":"StatisticallySignificantCalcs!$A$103","v":"N"},{"$f":"StatisticallySignificantCalcs!$J$103","v":"N"}]
[null,null,"Family Households",{"$f":"CntyDataLinkPrior10YearEstimate!$AX$124","v":3796},{"$f":"CntyDataLinkPrior10YearEstimate!$AY$124","v":254},{"$f":"$D69/($D69+$D55)","v":0.91712974148345006},null,{"$f":"CntyDataLinkPrior5YearEstimates!$AX$124","v":3590},{"$f":"CntyDataLinkPrior5YearEstimates!$AY$124","v":282},{"$f":"$H69/($H69+$H55)","v":0.87433024841695084},null,{"$f":"CntyDataLink!$AX$124","v":3808},{"$f":"CntyDataLink!$AY$124","v":321},{"$f":"$L69/($L69+$L55)","v":0.93862459945772736},null,{"$f":"StatisticallySignificantCalcs!$A$104","v":"N"},{"$f":"StatisticallySignificantCalcs!$J$104","v":"N"}]
[null,null,"Married Couple Fam HH",{"$f":"CntyDataLinkPrior10YearEstimate!$AZ$124","v":2988},{"$f":"CntyDataLinkPrior10YearEstimate!$BA$124","v":231},{"$f":"$D70/($D70+$D56)","v":0.97328990228013035},null,{"$f":"CntyDataLinkPrior5YearEstimates!$AZ$124","v":2736},{"$f":"CntyDataLinkPrior5YearEstimates!$BA$124","v":283},{"$f":"$H70/($H70+$H56)","v":0.92651540805960042},null,{"$f":"CntyDataLink!$AZ$124","v":2721},{"$f":"CntyDataLink!$BA$124","v":314},0.97701974865350094,null,{"$f":"StatisticallySignificantCalcs!$A$105","v":"N"},{"$f":"StatisticallySignificantCalcs!$J$105","v":"N"}]
[null,null,"M C Fam HH w/Children",{"$f":"CntyDataLinkPrior10YearEstimate!$BT$124","v":1043},{"$f":"CntyDataLinkPrior10YearEstimate!$BU$124","v":188},1,null,{"$f":"CntyDataLinkPrior5YearEstimates!$BT$124","v":763},{"$f":"CntyDataLinkPrior5YearEstimates!$BU$124","v":201},0.86409966024915064,null,{"$f":"CntyDataLink!$BT$124","v":752},{"$f":"CntyDataLink!$BU$124","v":184},0.98172323759791125,null,{"$f":"StatisticallySignificantCalcs!$A$106","v":"Y"},{"$f":"StatisticallySignificantCalcs!$J$106","v":"N"}]
[null,null,"Male Head of Family HH ",{"$f":"CntyDataLinkPrior10YearEstimate!$BD$124","v":74},{"$f":"CntyDataLinkPrior10YearEstimate!$BE$124","v":46},0.41340782122905029,null,{"$f":"CntyDataLinkPrior5YearEstimates!$BD$124","v":201},{"$f":"CntyDataLinkPrior5YearEstimates!$BE$124","v":86},0.8340248962655602,null,{"$f":"CntyDataLink!$BD$124","v":346},{"$f":"CntyDataLink!$BE$124","v":144},1,null,{"$f":"StatisticallySignificantCalcs!$A$107","v":"Y"},{"$f":"StatisticallySignificantCalcs!$J$107","v":"N"}]
[null,null,"Male Head of HH w/Children",{"$f":"CntyDataLinkPrior10YearEstimate!$BV$124","v":50},{"$f":"CntyDataLinkPrior10YearEstimate!$BW$124","v":38},0.47619047619047616,null,{"$f":"CntyDataLinkPrior5YearEstimates!$BV$124","v":99},{"$f":"CntyDataLinkPrior5YearEstimates!$BW$124","v":86},0.91666666666666663,null,{"$f":"CntyDataLink!$BV$124","v":213},{"$f":"CntyDataLink!$BW$124","v":115},1,null,{"$f":"StatisticallySignificantCalcs!$A$108","v":"Y"},{"$f":"StatisticallySignificantCalcs!$J$108","v":"N"}]
[null,null,"Female Head of Family HH ",{"$f":"CntyDataLinkPrior10YearEstimate!$BF$124","v":734},{"$f":"CntyDataLinkPrior10YearEstimate!$BG$124","v":207},0.82471910112359548,null,{"$f":"CntyDataLinkPrior5YearEstimates!$BF$124","v":653},{"$f":"CntyDataLinkPrior5YearEstimates!$BG$124","v":192},0.71600877192982459,null,{"$f":"CntyDataLink!$BF$124","v":741},{"$f":"CntyDataLink!$BG$124","v":216},0.80021598272138228,null,{"$f":"StatisticallySignificantCalcs!$A$109","v":"N"},{"$f":"StatisticallySignificantCalcs!$J$109","v":"N"}]
[null,null,"Female Head of HH w/Children",{"$f":"CntyDataLinkPrior10YearEstimate!$BX$124","v":394},{"$f":"CntyDataLinkPrior10YearEstimate!$BY$124","v":173},0.73644859813084107,null,{"$f":"CntyDataLinkPrior5YearEstimates!$BX$124","v":333},{"$f":"CntyDataLinkPrior5YearEstimates!$BY$124","v":124},0.57413793103448274,null,{"$f":"CntyDataLink!$BX$124","v":354},{"$f":"CntyDataLink!$BY$124","v":167},0.6567717996289425,null,{"$f":"StatisticallySignificantCalcs!$A$110","v":"N"},{"$f":"StatisticallySignificantCalcs!$J$110","v":"N"}]
[null,null,"Non-Family HH ",{"$f":"CntyDataLinkPrior10YearEstimate!$BH$124","v":2254},{"$f":"CntyDataLinkPrior10YearEstimate!$BI$124","v":267},0.82292807594012418,null,{"$f":"CntyDataLinkPrior5YearEstimates!$BH$124","v":2189},{"$f":"CntyDataLinkPrior5YearEstimates!$BI$124","v":308},0.83105542900531515,null,{"$f":"CntyDataLink!$BH$124","v":2448},{"$f":"CntyDataLink!$BI$124","v":369},0.8418156808803301,null,{"$f":"StatisticallySignificantCalcs!$A$111","v":"N"},{"$f":"StatisticallySignificantCalcs!$J$111","v":"N"}]
[]
[null,null,"Source: 2008-2012 American Community Survey ",null,null,null,"Source: 2013-2017 American Community Survey",null,null,null,null,"Source: 2018-2022 American Community Survey"]
[]
[null,null,"Tables B17010; and B17017",null,null,null,"Tables B17010; and B17017",null,null,null,null,"Tables B17010; and B17017"]
[]
[null,null,"Data from the American Community Survey are estimates."]

{"sheet":"ACS_Table_ B17001","index":48,"n_rows":210,"n_cols":24,"rows_kept":210,"cut":false,"hidden":true,"merged":[[149,0,188,16383]]}
[null,"B17001. POVERTY STATUS IN THE PAST 12 MONTHS BY SEX BY AGE"]
[null,"Universe:  POPULATION FOR WHOM POVERTY STATUS IS DETERMINED"]
[null,"Data Set: 2018-2022 American Community Survey 5-Year Estimates"]
[]
[null,null,"Alton",null,"Barnstead",null,"Belmont",null,"Center Harbor",null,"Gilford",null,"Gilmanton",null,"Laconia",null,"Meredith",null,"New Hampton",null,"Sanbornton",null,"Tilton"]
[null," ","Estimate","Margin of Error","Estimate","Margin of Error","Estimate","Margin of Error","Estimate","Margin of Error","Estimate","Margin of Error","Estimate","Margin of Error","Estimate","Margin of Error","Estimate","Margin of Error","Estimate","Margin of Error","Estimate","Margin of Error","Estimate","Margin of Error"]
[null,"Total:",5896,17,4941,20,7352,20,819,181,7724,20,3959,28,16414,59,6625,41,2604,181,3047,21,3723,40]
[null,"Income in the past 12 months below poverty level:",236,161,167,92,969,434,28,28,510,287,338,193,1674,536,729,241,261,93,232,126,264,154]
[null,"Male:",144,114,57,43,405,204,24,23,269,178,196,125,655,280,406,156,200,74,91,66,96,60]
[null,"Under 5 years",0,17,0,12,0,17,0,12,0,17,57,74,51,62,0,17,4,7,0,12,0,12]
[null,"5 years",0,17,0,12,0,17,0,12,0,17,0,12,20,33,0,17,0,12,0,12,0,12]
[null,"6 to 11 years",0,17,0,12,0,17,0,12,0,17,12,21,59,83,56,54,0,12,0,12,13,20]
[null,"12 to 14 years",0,17,0,12,29,36,0,12,0,17,58,61,0,19,17,27,0,12,0,12,13,22]
[null,"15 years",0,17,0,12,71,74,0,12,0,17,0,12,0,19,0,17,0,12,0,12,0,12]
[null,"16 and 17 years",0,17,0,12,0,17,0,12,0,17,0,12,0,19,0,17,0,12,0,12,0,12]
[null,"18 to 24 years",0,17,21,38,0,17,0,12,61,64,10,16,84,83,21,28,0,12,0,12,0,12]
[null,"25 to 34 years",70,95,0,12,22,37,0,12,68,78,0,12,9,18,47,54,25,23,19,32,0,12]
[null,"35 to 44 years",16,25,0,12,33,39,0,12,22,37,11,19,1,5,27,31,0,12,39,40,26,29]
[null,"45 to 54 years",0,17,0,12,51,52,5,7,4,7,26,33,125,104,96,100,0,12,0,12,4,20]
[null,"55 to 64 years",0,17,0,12,142,120,7,9,68,90,0,12,170,152,88,82,122,18,21,31,32,47]
[null,"65 to 74 years",15,24,10,15,57,71,5,7,28,46,22,35,124,105,46,62,37,59,12,20,8,12]
[null,"75 years and over",43,54,26,32,0,17,7,7,18,25,0,12,12,14,8,12,12,20,0,12,0,12]
[null,"Female:",92,85,110,68,564,288,4,6,241,127,142,85,1019,398,323,160,61,42,141,83,168,107]
[null,"Under 5 years",0,17,0,12,111,97,0,12,11,12,0,12,137,124,27,33,3,6,21,29,0,12]
[null,"5 years",0,17,0,12,0,17,0,12,0,17,0,12,0,19,0,17,0,12,0,12,0,12]
[null,"6 to 11 years",0,17,0,12,29,36,0,12,17,19,0,12,154,161,27,41,0,12,0,12,20,32]
[null,"12 to 14 years",0,17,0,12,0,17,0,12,0,17,0,12,0,19,17,29,0,12,31,45,0,12]
[null,"15 years",0,17,0,12,0,17,0,12,12,18,22,31,0,19,0,17,0,12,0,12,0,12]
[null,"16 and 17 years",0,17,0,12,0,17,0,12,0,17,0,12,65,99,42,52,0,12,0,12,0,12]
[null,"18 to 24 years",0,17,51,57,67,79,0,12,0,17,0,12,52,77,0,17,0,12,13,2,12,20]
[null,"25 to 34 years",0,17,0,12,0,17,0,12,9,11,0,12,99,80,31,36,20,25,16,25,0,12]
[null,"35 to 44 years",0,17,8,16,24,39,4,6,0,17,103,62,259,150,12,19,9,12,0,12,56,70]
[null,"45 to 54 years",0,17,0,12,48,76,0,12,41,46,6,11,58,49,52,46,0,12,0,12,33,32]
[null,"55 to 64 years",0,17,13,20,113,78,0,12,95,98,0,12,66,61,77,61,25,24,27,32,22,31]
[null,"65 to 74 years",0,17,9,14,129,119,0,12,30,36,0,12,89,89,13,19,4,6,0,12,9,14]
[null,"75 years and over",92,85,29,36,43,36,0,12,26,26,11,15,40,29,25,24,0,12,33,35,16,26]
[null,"Income in the past 12 months at or above poverty level:",5660,161,4774,91,6383,435,791,174,7214,284,3621,198,14740,537,5896,248,2343,190,2815,127,3459,155]
[null,"Male:",2750,238,2177,143,3054,314,384,101,3479,304,1882,220,7501,392,2951,243,1145,122,1546,130,1744,149]
[null,"Under 5 years",117,69,117,64,31,47,5,8,216,122,103,75,260,113,7,17,39,29,75,60,157,68]
[null,"5 years",0,17,9,10,87,64,3,7,0,17,4,11,0,19,23,32,8,12,30,39,0,12]
[null,"6 to 11 years",331,130,110,69,207,134,14,12,331,178,136,70,449,145,86,75,42,27,84,57,61,73]
[null,"12 to 14 years",70,65,74,61,125,82,8,11,41,45,9,15,384,216,45,43,16,12,134,96,110,78]
[null,"15 years",22,30,73,70,26,47,14,23,0,17,26,40,107,64,78,71,0,12,0,12,0,12]
[null,"16 and 17 years",55,64,41,59,161,130,10,10,118,76,26,41,205,117,48,39,17,18,31,42,33,41]
[null,"18 to 24 years",296,197,160,98,105,75,6,10,318,173,82,73,672,212,237,143,35,30,63,47,80,59]
[null,"25 to 34 years",70,70,152,87,279,125,20,27,255,118,262,127,1079,214,256,153,290,117,287,122,272,113]
[null,"35 to 44 years",209,73,350,100,487,148,33,22,408,147,220,74,1014,204,180,82,71,31,113,90,218,96]
[null,"45 to 54 years",379,127,321,119,451,168,24,16,553,171,170,62,801,197,438,142,175,56,183,123,269,127]
[null,"55 to 64 years",600,155,398,98,540,151,49,25,601,171,500,143,1081,222,536,152,145,40,255,122,271,112]
[null,"65 to 74 years",302,129,181,87,436,131,125,44,462,149,190,68,1121,208,556,150,198,62,223,91,184,78]
[null,"75 years and over",299,119,191,80,119,60,73,48,176,75,154,114,328,80,461,134,109,42,68,39,89,47]
[null,"Female:",2910,201,2597,170,3329,312,407,99,3735,276,1739,181,7239,418,2945,279,1198,128,1269,148,1715,164]
[null,"Under 5 years",90,99,61,42,82,58,5,9,272,115,107,59,251,84,60,44,21,18,2,4,60,39]
[null,"5 years",54,68,44,43,48,78,0,12,51,72,28,40,121,85,0,17,9,13,13,20,0,12]
[null,"6 to 11 years",86,90,357,126,231,130,14,14,178,131,38,46,384,138,78,66,67,42,72,77,72,80]
[null,"12 to 14 years",0,17,110,77,210,124,5,7,220,158,83,87,140,118,96,104,93,71,23,35,69,100]
[null,"15 years",9,20,17,22,66,67,0,12,0,17,85,70,28,38,0,17,8,12,0,12,14,24]
[null,"16 and 17 years",115,86,9,10,84,67,10,15,57,70,27,26,236,162,116,79,5,8,23,34,19,22]
[null,"18 to 24 years",284,155,193,89,179,101,9,14,156,112,95,79,565,184,349,132,36,34,69,89,49,39]
[null,"25 to 34 years",276,117,229,95,326,159,19,17,356,146,211,86,805,193,273,126,147,85,158,75,281,111]
[null,"35 to 44 years",252,103,406,113,354,112,16,13,435,162,166,63,939,228,99,68,169,50,139,87,220,107]
[null,"45 to 54 years",494,187,212,85,422,168,37,35,615,178,200,87,829,194,369,116,176,65,160,81,307,123]
[null,"55 to 64 years",672,160,438,115,520,181,114,55,579,149,399,104,1270,219,564,128,164,57,282,99,255,119]
[null,"65 to 74 years",384,128,257,126,415,152,146,47,564,192,232,90,1064,202,638,192,198,83,232,110,188,62]
[null,"75 years and over",194,102,264,128,392,190,32,22,252,99,68,47,607,175,303,85,105,45,96,52,181,114]
[]
[]
[]
[null,"Calculated Table B17001. POVERTY STATUS IN THE PAST 12 MONTHS BY SEX BY AGE"]
[null,"Universe:  POPULATION FOR WHOM POVERTY STATUS IS DETERMINED"]
[null,"Data Set: 2018-2022 American Community Survey 5-Year Estimates"]
[]
[null,null,"Alton",null,"Barnstead",null,"Belmont",null,"Center Harbor",null,"Gilford",null,"Gilmanton",null,"Laconia",null,"Meredith",null,"New Hampton",null,"Sanbornton",null,"Tilton"]
[null," ","Estimate","Margin of Error","Estimate","Margin of Error","Estimate","Margin of Error","Estimate","Margin of Error","Estimate","Margin of Error","Estimate","Margin of Error","Estimate","Margin of Error","Estimate","Margin of Error","Estimate","Margin of Error","Estimate","Margin of Error","Estimate","Margin of Error"]
[null,"Total:",{"$f":"C7","v":5896},{"$f":"D7","v":17},4941,20,7352,20,819,181,7724,20,3959,28,16414,59,6625,41,2604,181,3047,21,3723,40]
[null,"Income in the past 12 months below poverty level:",{"$f":"C8","v":236},{"$f":"D8","v":161},167,92,969,434,28,28,510,287,338,193,1674,536,729,241,261,93,232,126,264,154]
[null,"Under 5 years",{"$f":"C10+C24","v":0},{"$f":"SQRT(((D10^2))+((D34^2)))","v":24.041630560342615},{"$f":"E10+E24","v":0},{"$f":"SQRT(((F10^2))+((F34^2)))","v":23.323807579381203},{"$f":"G10+G24","v":111},{"$f":"SQRT(((H10^2))+((H34^2)))","v":79.831071645068121},{"$f":"I10+I24","v":0},{"$f":"SQRT(((J10^2))+((J34^2)))","v":16.970562748477139},{"$f":"K10+K24","v":11},{"$f":"SQRT(((L10^2))+((L34^2)))","v":99.463561166891665},{"$f":"M10+M24","v":57},{"$f":"SQRT(((N10^2))+((N34^2)))","v":74.966659255965254},{"$f":"O10+O24","v":188},{"$f":"SQRT(((P10^2))+((P34^2)))","v":86.977008456258133},{"$f":"Q10+Q24","v":27},{"$f":"SQRT(((R10^2))+((R34^2)))","v":63.324560795950255},{"$f":"S10+S24","v":7},{"$f":"SQRT(((T10^2))+((T34^2)))","v":25},{"$f":"U10+U24","v":21},{"$f":"SQRT(((V10^2))+((V34^2)))","v":34.176014981270121},{"$f":"W10+W24","v":0},{"$f":"SQRT(((X10^2))+((X34^2)))","v":33.241540277189323}]
[null,"5 to 17 years",{"$f":"C11+C12+C13+C14+C15+C25+C26+C27+C28+C29","v":0},{"$f":"SQRT((D11^2)+(D12^2)+(D13^2)+(D14^2)+(D15^2)+(D25^2)+(D26^2)+(D27^2)+(D28)+(D29^2))","v":51.166395221864128},{"$f":"E11+E12+E13+E14+E15+E25+E26+E27+E28+E29","v":0},{"$f":"SQRT((F11^2)+(F12^2)+(F13^2)+(F14^2)+(F15^2)+(F25^2)+(F26^2)+(F27^2)+(F28)+(F29^2))","v":36.166282640050248},{"$f":"G11+G12+G13+G14+G15+G25+G26+G27+G28+G29","v":129},{"$f":"SQRT((H11^2)+(H12^2)+(H13^2)+(H14^2)+(H15^2)+(H25^2)+(H26^2)+(H27^2)+(H28)+(H29^2))","v":99.090867389482469},{"$f":"I11+I12+I13+I14+I15+I25+I26+I27+I28+I29","v":0},{"$f":"SQRT((J11^2)+(J12^2)+(J13^2)+(J14^2)+(J15^2)+(J25^2)+(J26^2)+(J27^2)+(J28)+(J29^2))","v":36.166282640050248},{"$f":"K11+K12+K13+K14+K15+K25+K26+K27+K28+K29","v":29},{"$f":"SQRT((L11^2)+(L12^2)+(L13^2)+(L14^2)+(L15^2)+(L25^2)+(L26^2)+(L27^2)+(L28)+(L29^2))","v":51.874849397371747},{"$f":"M11+M12+M13+M14+M15+M25+M26+M27+M28+M29","v":92},{"$f":"SQRT((N11^2)+(N12^2)+(N13^2)+(N14^2)+(N15^2)+(N25^2)+(N26^2)+(N27^2)+(N28)+(N29^2))","v":72.11795892841117},{"$f":"O11+O12+O13+O14+O15+O25+O26+O27+O28+O29","v":298},{"$f":"SQRT((P11^2)+(P12^2)+(P13^2)+(P14^2)+(P15^2)+(P25^2)+(P26^2)+(P27^2)+(P28)+(P29^2))","v":213.36353952819587},{"$f":"Q11+Q12+Q13+Q14+Q15+Q25+Q26+Q27+Q28+Q29","v":159},{"$f":"SQRT((R11^2)+(R12^2)+(R13^2)+(R14^2)+(R15^2)+(R25^2)+(R26^2)+(R27^2)+(R28)+(R29^2))","v":100.2197585309404},{"$f":"S11+S12+S13+S14+S15+S25+S26+S27+S28+S29","v":0},{"$f":"SQRT((T11^2)+(T12^2)+(T13^2)+(T14^2)+(T15^2)+(T25^2)+(T26^2)+(T27^2)+(T28)+(T29^2))","v":36.166282640050248},{"$f":"U11+U12+U13+U14+U15+U25+U26+U27+U28+U29","v":31},{"$f":"SQRT((V11^2)+(V12^2)+(V13^2)+(V14^2)+(V15^2)+(V25^2)+(V26^2)+(V27^2)+(V28)+(V29^2))","v":56.471231613981999},{"$f":"W11+W12+W13+W14+W15+W25+W26+W27+W28+W29","v":46},{"$f":"SQRT((X11^2)+(X12^2)+(X13^2)+(X14^2)+(X15^2)+(X25^2)+(X26^2)+(X27^2)+(X28)+(X29^2))","v":52.763623833091678}]
[null,"18 to 64 years",{"$f":"C16+C17+C18+C19+C20+C30+C31+C32+C33+C34","v":86},{"$f":"SQRT((D16^2)+(D17^2)+(D18^2)+(D19^2)+(D20^2)+(D30^2)+(D31^2)+(D32^2)+(D33^2)+(D34^2))","v":109.37092849564732},{"$f":"E16+E17+E18+E19+E20+E30+E31+E32+E33+E34","v":93},{"$f":"SQRT((F16^2)+(F17^2)+(F18^2)+(F19^2)+(F20^2)+(F30^2)+(F31^2)+(F32^2)+(F33^2)+(F34^2))","v":78.822585595754219},{"$f":"G16+G17+G18+G19+G20+G30+G31+G32+G33+G34","v":500},{"$f":"SQRT((H16^2)+(H17^2)+(H18^2)+(H19^2)+(H20^2)+(H30^2)+(H31^2)+(H32^2)+(H33^2)+(H34^2))","v":200.48441335924346},{"$f":"I16+I17+I18+I19+I20+I30+I31+I32+I33+I34","v":16},{"$f":"SQRT((J16^2)+(J17^2)+(J18^2)+(J19^2)+(J20^2)+(J30^2)+(J31^2)+(J32^2)+(J33^2)+(J34^2))","v":34.26368339802363},{"$f":"K16+K17+K18+K19+K20+K30+K31+K32+K33+K34","v":368},{"$f":"SQRT((L16^2)+(L17^2)+(L18^2)+(L19^2)+(L20^2)+(L30^2)+(L31^2)+(L32^2)+(L33^2)+(L34^2))","v":179.21216476567656},{"$f":"M16+M17+M18+M19+M20+M30+M31+M32+M33+M34","v":156},{"$f":"SQRT((N16^2)+(N17^2)+(N18^2)+(N19^2)+(N20^2)+(N30^2)+(N31^2)+(N32^2)+(N33^2)+(N34^2))","v":79.943730210692564},{"$f":"O16+O17+O18+O19+O20+O30+O31+O32+O33+O34","v":923},{"$f":"SQRT((P16^2)+(P17^2)+(P18^2)+(P19^2)+(P20^2)+(P30^2)+(P31^2)+(P32^2)+(P33^2)+(P34^2))","v":286.54668031579081},{"$f":"Q16+Q17+Q18+Q19+Q20+Q30+Q31+Q32+Q33+Q34","v":451},{"$f":"SQRT((R16^2)+(R17^2)+(R18^2)+(R19^2)+(R20^2)+(R30^2)+(R31^2)+(R32^2)+(R33^2)+(R34^2))","v":170.78641632167356},{"$f":"S16+S17+S18+S19+S20+S30+S31+S32+S33+S34","v":201},{"$f":"SQRT((T16^2)+(T17^2)+(T18^2)+(T19^2)+(T20^2)+(T30^2)+(T31^2)+(T32^2)+(T33^2)+(T34^2))","v":54.018515344278022},{"$f":"U16+U17+U18+U19+U20+U30+U31+U32+U33+U34","v":135},{"$f":"SQRT((V16^2)+(V17^2)+(V18^2)+(V19^2)+(V20^2)+(V30^2)+(V31^2)+(V32^2)+(V33^2)+(V34^2))","v":76.249590162833002},{"$f":"W16+W17+W18+W19+W20+W30+W31+W32+W33+W34","v":185},{"$f":"SQRT((X16^2)+(X17^2)+(X18^2)+(X19^2)+(X20^2)+(X30^2)+(X31^2)+(X32^2)+(X33^2)+(X34^2))","v":105.67402708329044}]
[null,"65 to 74 years",{"$f":"C21+C35","v":15},{"$f":"SQRT((D21^2)+(D35^2))","v":29.410882339705484},{"$f":"E21+E35","v":19},{"$f":"SQRT((F21^2)+(F35^2))","v":20.518284528683193},{"$f":"G21+G35","v":186},{"$f":"SQRT((H21^2)+(H35^2))","v":138.57128129594531},{"$f":"I21+I35","v":5},{"$f":"SQRT((J21^2)+(J35^2))","v":13.892443989449804},{"$f":"K21+K35","v":58},{"$f":"SQRT((L21^2)+(L35^2))","v":58.412327466040935},{"$f":"M21+M35","v":22},{"$f":"SQRT((N21^2)+(N35^2))","v":37},{"$f":"O21+O35","v":213},{"$f":"SQRT((P21^2)+(P35^2))","v":137.64446955835166},{"$f":"Q21+Q35","v":59},{"$f":"SQRT((R21^2)+(R35^2))","v":64.845971347493901},{"$f":"S21+S35","v":41},{"$f":"SQRT((T21^2)+(T35^2))","v":59.304300012730948},{"$f":"U21+U35","v":12},{"$f":"SQRT((V21^2)+(V35^2))","v":23.323807579381203},{"$f":"W21+W35","v":17},{"$f":"SQRT((X21^2)+(X35^2))","v":18.439088914585774}]
[null,"75 years and over",{"$f":"C22+C36","v":135},{"$f":"SQRT((D22^2)+(D36^2))","v":100.70253224224304},{"$f":"E22+E36","v":55},{"$f":"SQRT((F22^2)+(F36^2))","v":48.166378315169183},{"$f":"G22+G36","v":43},{"$f":"SQRT((H22^2)+(H36^2))","v":39.812058474788763},{"$f":"I22+I36","v":7},{"$f":"SQRT((J22^2)+(J36^2))","v":13.892443989449804},{"$f":"K22+K36","v":44},{"$f":"SQRT((L22^2)+(L36^2))","v":36.069377593742864},{"$f":"M22+M36","v":11},{"$f":"SQRT((N22^2)+(N36^2))","v":19.209372712298546},{"$f":"O22+O36","v":52},{"$f":"SQRT((P22^2)+(P36^2))","v":32.202484376209235},{"$f":"Q22+Q36","v":33},{"$f":"SQRT((R22^2)+(R36^2))","v":26.832815729997478},{"$f":"S22+S36","v":12},{"$f":"SQRT((T22^2)+(T36^2))","v":23.323807579381203},{"$f":"U22+U36","v":33},{"$f":"SQRT((V22^2)+(V36^2))","v":37},{"$f":"W22+W36","v":16},{"$f":"SQRT((X22^2)+(X36^2))","v":28.635642126552707}]
[null," Income in the past 12 months at or above poverty level ",{"$f":"C37","v":5660},161,4774,91,6383,435,791,174,7214,284,3621,198,14740,537,5896,248,2343,190,2815,127,3459,155]
[null,"Under 5 years",{"$f":"C39+C53","v":207},{"$f":"SQRT(((D39))^2+((D53))^2)","v":120.6731121667126},{"$f":"E39+E53","v":178},{"$f":"SQRT(((F39))^2+((F53))^2)","v":76.550636836018555},{"$f":"G39+G53","v":113},{"$f":"SQRT(((H39))^2+((H53))^2)","v":74.652528423356159},{"$f":"I39+I53","v":10},{"$f":"SQRT(((J39))^2+((J53))^2)","v":12.041594578792296},{"$f":"K39+K53","v":488},{"$f":"SQRT(((L39))^2+((L53))^2)","v":167.65738874263789},{"$f":"M39+M53","v":210},{"$f":"SQRT(((N39))^2+((N53))^2)","v":95.425363504678359},{"$f":"O39+O53","v":511},{"$f":"SQRT(((P39))^2+((P53))^2)","v":140.80127840328723},{"$f":"Q39+Q53","v":67},{"$f":"SQRT(((R39))^2+((R53))^2)","v":47.169905660283021},{"$f":"S39+S53","v":60},{"$f":"SQRT(((T39))^2+((T53))^2)","v":34.132096331752024},{"$f":"U39+U53","v":77},{"$f":"SQRT(((V39))^2+((V53))^2)","v":60.133185513491632},{"$f":"W39+W53","v":217},{"$f":"SQRT(((X39))^2+((X53))^2)","v":78.390050389064044}]
[null,"5 to 17 years",{"$f":"((C40)+(C41)+(C42)+(C43)+(C44)+(C54)+(C55)+(C56)+(C57)+(C58))","v":742},{"$f":"SQRT((D40^2)+(D41^2)+(D42^2)+(D43^2)+(D44^2)+(D54^2)+(D55^2)+(D56^2)+(D57^2)+(D58^2))","v":217.29933271871775},{"$f":"((E40)+(E41)+(E42)+(E43)+(E44)+(E54)+(E55)+(E56)+(E57)+(E58))","v":844},{"$f":"SQRT((F40^2)+(F41^2)+(F42^2)+(F43^2)+(F44^2)+(F54^2)+(F55^2)+(F56^2)+(F57^2)+(F58^2))","v":202.98029461009264},{"$f":"((G40)+(G41)+(G42)+(G43)+(G44)+(G54)+(G55)+(G56)+(G57)+(G58))","v":1245},{"$f":"SQRT((H40^2)+(H41^2)+(H42^2)+(H43^2)+(H44^2)+(H54^2)+(H55^2)+(H56^2)+(H57^2)+(H58^2))","v":308.58224187402618},{"$f":"((I40)+(I41)+(I42)+(I43)+(I44)+(I54)+(I55)+(I56)+(I57)+(I58))","v":78},{"$f":"SQRT((J40^2)+(J41^2)+(J42^2)+(J43^2)+(J44^2)+(J54^2)+(J55^2)+(J56^2)+(J57^2)+(J58^2))","v":41.243181254602561},{"$f":"((K40)+(K41)+(K42)+(K43)+(K44)+(K54)+(K55)+(K56)+(K57)+(K58))","v":996},{"$f":"SQRT((L40^2)+(L41^2)+(L42^2)+(L43^2)+(L44^2)+(L54^2)+(L55^2)+(L56^2)+(L57^2)+(L58^2))","v":304.23839336941023},{"$f":"((M40)+(M41)+(M42)+(M43)+(M44)+(M54)+(M55)+(M56)+(M57)+(M58))","v":462},{"$f":"SQRT((N40^2)+(N41^2)+(N42^2)+(N43^2)+(N44^2)+(N54^2)+(N55^2)+(N56^2)+(N57^2)+(N58^2))","v":159.3361227091961},{"$f":"((O40)+(O41)+(O42)+(O43)+(O44)+(O54)+(O55)+(O56)+(O57)+(O58))","v":2054},{"$f":"SQRT((P40^2)+(P41^2)+(P42^2)+(P43^2)+(P44^2)+(P54^2)+(P55^2)+(P56^2)+(P57^2)+(P58^2))","v":392.05611843204287},{"$f":"((Q40)+(Q41)+(Q42)+(Q43)+(Q44)+(Q54)+(Q55)+(Q56)+(Q57)+(Q58))","v":570},{"$f":"SQRT((R40^2)+(R41^2)+(R42^2)+(R43^2)+(R44^2)+(R54^2)+(R55^2)+(R56^2)+(R57^2)+(R58^2))","v":192.48636315334133},{"$f":"((S40)+(S41)+(S42)+(S43)+(S44)+(S54)+(S55)+(S56)+(S57)+(S58))","v":265},{"$f":"SQRT((T40^2)+(T41^2)+(T42^2)+(T43^2)+(T44^2)+(T54^2)+(T55^2)+(T56^2)+(T57^2)+(T58^2))","v":93.096723895097398},{"$f":"((U40)+(U41)+(U42)+(U43)+(U44)+(U54)+(U55)+(U56)+(U57)+(U58))","v":410},{"$f":"SQRT((V40^2)+(V41^2)+(V42^2)+(V43^2)+(V44^2)+(V54^2)+(V55^2)+(V56^2)+(V57^2)+(V58^2))","v":157.31497067984344},{"$f":"((W40)+(W41)+(W42)+(W43)+(W44)+(W54)+(W55)+(W56)+(W57)+(W58))","v":378},{"$f":"SQRT((X40^2)+(X41^2)+(X42^2)+(X43^2)+(X44^2)+(X54^2)+(X55^2)+(X56^2)+(X57^2)+(X58^2))","v":176.02840679844829}]
[null,"18 to 64 years",{"$f":"((C45)+(C46)+(C47)+(C48)+(C49)+(C59)+(C60)+(C61)+(C62)+(C63))","v":3532},{"$f":"SQRT((D45^2)+(D46^2)+(D47^2)+(D48^2)+(D49^2)+(D59^2)+(D60^2)+(D61^2)+(D62^2)+(D63^2))","v":445.06628719776114},{"$f":"((E45)+(E46)+(E47)+(E48)+(E49)+(E59)+(E60)+(E61)+(E62)+(E63))","v":2859},{"$f":"SQRT((F45^2)+(F46^2)+(F47^2)+(F48^2)+(F49^2)+(F59^2)+(F60^2)+(F61^2)+(F62^2)+(F63^2))","v":317.96697941767474},{"$f":"((G45)+(G46)+(G47)+(G48)+(G49)+(G59)+(G60)+(G61)+(G62)+(G63))","v":3663},{"$f":"SQRT((H45^2)+(H46^2)+(H47^2)+(H48^2)+(H49^2)+(H59^2)+(H60^2)+(H61^2)+(H62^2)+(H63^2))","v":450.76601469054873},{"$f":"((I45)+(I46)+(I47)+(I48)+(I49)+(I59)+(I60)+(I61)+(I62)+(I63))","v":327},{"$f":"SQRT((J45^2)+(J46^2)+(J47^2)+(J48^2)+(J49^2)+(J59^2)+(J60^2)+(J61^2)+(J62^2)+(J63^2))","v":84.249629079302181},{"$f":"((K45)+(K46)+(K47)+(K48)+(K49)+(K59)+(K60)+(K61)+(K62)+(K63))","v":4276},{"$f":"SQRT((L45^2)+(L46^2)+(L47^2)+(L48^2)+(L49^2)+(L59^2)+(L60^2)+(L61^2)+(L62^2)+(L63^2))","v":487.78376356742336},{"$f":"((M45)+(M46)+(M47)+(M48)+(M49)+(M59)+(M60)+(M61)+(M62)+(M63))","v":2305},{"$f":"SQRT((N45^2)+(N46^2)+(N47^2)+(N48^2)+(N49^2)+(N59^2)+(N60^2)+(N61^2)+(N62^2)+(N63^2))","v":295.32693747777228},{"$f":"((O45)+(O46)+(O47)+(O48)+(O49)+(O59)+(O60)+(O61)+(O62)+(O63))","v":9055},{"$f":"SQRT((P45^2)+(P46^2)+(P47^2)+(P48^2)+(P49^2)+(P59^2)+(P60^2)+(P61^2)+(P62^2)+(P63^2))","v":655.08396408399437},{"$f":"((Q45)+(Q46)+(Q47)+(Q48)+(Q49)+(Q59)+(Q60)+(Q61)+(Q62)+(Q63))","v":3301},{"$f":"SQRT((R45^2)+(R46^2)+(R47^2)+(R48^2)+(R49^2)+(R59^2)+(R60^2)+(R61^2)+(R62^2)+(R63^2))","v":402.01243761853937},{"$f":"((S45)+(S46)+(S47)+(S48)+(S49)+(S59)+(S60)+(S61)+(S62)+(S63))","v":1408},{"$f":"SQRT((T45^2)+(T46^2)+(T47^2)+(T48^2)+(T49^2)+(T59^2)+(T60^2)+(T61^2)+(T62^2)+(T63^2))","v":196.57314160383152},{"$f":"((U45)+(U46)+(U47)+(U48)+(U49)+(U59)+(U60)+(U61)+(U62)+(U63))","v":1709},{"$f":"SQRT((V45^2)+(V46^2)+(V47^2)+(V48^2)+(V49^2)+(V59^2)+(V60^2)+(V61^2)+(V62^2)+(V63^2))","v":304.43882800983187},{"$f":"((W45)+(W46)+(W47)+(W48)+(W49)+(W59)+(W60)+(W61)+(W62)+(W63))","v":2222},{"$f":"SQRT((X45^2)+(X46^2)+(X47^2)+(X48^2)+(X49^2)+(X59^2)+(X60^2)+(X61^2)+(X62^2)+(X63^2))","v":329.72715993681805}]
[null,"65 to 74 years",{"$f":"((C50)+(C64))","v":686},{"$f":"SQRT((D50^2)+(D64^2))","v":181.72781845386248},{"$f":"((E50)+(E64))","v":438},{"$f":"SQRT((F50^2)+(F64^2))","v":153.11760186209813},{"$f":"((G50)+(G64))","v":851},{"$f":"SQRT((H50^2)+(H64^2))","v":200.66140635408692},{"$f":"((I50)+(I64))","v":271},{"$f":"SQRT((J50^2)+(J64^2))","v":64.381674411279491},{"$f":"((K50)+(K64))","v":1026},{"$f":"SQRT((L50^2)+(L64^2))","v":243.03291958086666},{"$f":"((M50)+(M64))","v":422},{"$f":"SQRT((N50^2)+(N64^2))","v":112.80070921762859},{"$f":"((O50)+(O64))","v":2185},{"$f":"SQRT((P50^2)+(P64^2))","v":289.94482233694049},{"$f":"((Q50)+(Q64))","v":1194},{"$f":"SQRT((R50^2)+(R64^2))","v":243.64728605096343},{"$f":"((S50)+(S64))","v":396},{"$f":"SQRT((T50^2)+(T64^2))","v":103.60019305001319},{"$f":"((U50)+(U64))","v":455},{"$f":"SQRT((V50^2)+(V64^2))","v":142.76203977248295},{"$f":"((W50)+(W64))","v":372},{"$f":"SQRT((X50^2)+(X64^2))","v":99.639349656649202}]
[null,"75 years and over",{"$f":"((C51)+(C65))","v":493},{"$f":"SQRT((D51^2)+(D65^2))","v":156.73225577397909},{"$f":"((E51)+(E65))","v":455},{"$f":"SQRT((F51^2)+(F65^2))","v":150.94369811290565},{"$f":"((G51)+(G65))","v":511},{"$f":"SQRT((H51^2)+(H65^2))","v":199.24858845171275},{"$f":"((I51)+(I65))","v":105},{"$f":"SQRT((J51^2)+(J65^2))","v":52.801515129776341},{"$f":"((K51)+(K65))","v":428},{"$f":"SQRT((L51^2)+(L65^2))","v":124.20144926690671},{"$f":"((M51)+(M65))","v":222},{"$f":"SQRT((N51^2)+(N65^2))","v":123.30855606972291},{"$f":"((O51)+(O65))","v":935},{"$f":"SQRT((P51^2)+(P65^2))","v":192.41881404893857},{"$f":"((Q51)+(Q65))","v":764},{"$f":"SQRT((R51^2)+(R65^2))","v":158.68522300453813},{"$f":"((S51)+(S65))","v":214},{"$f":"SQRT((T51^2)+(T65^2))","v":61.554853586049575},{"$f":"((U51)+(U65))","v":164},{"$f":"SQRT((V51^2)+(V65^2))","v":65},{"$f":"((W51)+(W65))","v":270},{"$f":"SQRT((X51^2)+(X65^2))","v":123.30855606972291}]
[]
[]
[]
[]
[]
[]
[]
[]
[]
[]
[]
[]
[]
[]
[]
[]
[]
[]
[]
[]
[]
[]
[]
[]
[]
[]
[]
[]
[]
[]
[]
[]
[]
[]
[]
[]
[]
[]
[]
[]
[]
[]
[]
[null,"Calculated Table B17001. POVERTY STATUS IN THE PAST 12 MONTHS BY SEX BY AGE"]
[null,"Universe:  POPULATION FOR WHOM POVERTY STATUS IS DETERMINED"]
[null,"Data Set: 2013-2017 American Community Survey 5-Year Estimates"]
[]
[null,null,"Alton",null,"Barnstead",null,"Belmont",null,"Center Harbor",null,"Gilford",null,"Gilmanton",null,"Laconia",null,"Meredith",null,"New Hampton",null,"Sanbornton",null,"Tilton"]
[null," ","Estimate","Margin of Error","Estimate","Margin of Error","Estimate","Margin of Error","Estimate","Margin of Error","Estimate","Margin of Error","Estimate","Margin of Error","Estimate","Margin of Error","Estimate","Margin of Error","Estimate","Margin of Error","Estimate","Margin of Error","Estimate","Margin of Error"]
[null,"Total:",5275,23,4631,18,7184,99,1008,185,7103,36,3691,53,15571,209,6354,29,2260,184,2969,30,3321,110]
[null,"Income in the past 12 months below poverty level:",305,194,234,113,620,274,79,80,547,428,353,207,2557,733,756,356,197,71,85,40,391,184]
[null,"Under 5 years",0,21.213203435596427,0,22.825424421026653,0,37.161808352124091,0,18.601075237738275,90,33.541019662496844,55,35.735136770411273,325,149.56603892595405,211,127.88275880665071,4,15.556349186104045,0,20.248456731316587,53,32.202484376209235]
[null,"5 to 17 years",14,47.947888378947411,33,38.013155617496423,190,118.43141475132347,0,33.166247903554002,201,158.25928092848142,70,54.543560573178574,558,216.99308744750374,161,84.409715080670665,29,31.11269837220809,7,33.166247903554002,60,55.578772926361012]
[null,"18 to 64 years",210,117.2006825918689,154,67.705243519243027,366,170.58429001522973,76,63.08724118235002,213,133.39040445249427,151,73.736015623303103,1503,286.00349648212347,295,128.61181905252721,95,66.189122973491649,58,36.701498607005135,241,106.00943354249186]
[null,"65 to 74 years",49,79.429213769242352,0,15.556349186104045,0,21.213203435596427,0,15.556349186104045,0,21.213203435596427,77,61.1310068623117,71,48.020828814171878,27,22.472205054244231,25,25,20,17.464249196572979,30,20.615528128088304]
[null,"75 years and over",32,30.413812651491099,47,48.104053883222775,64,47.434164902525687,3,12.083045973594572,43,50.289163842720633,0,15.556349186104045,100,52.839379254491625,62,51.61395160225576,44,55.226805085936306,0,15.556349186104045,7,15.556349186104045]
[null," Income in the past 12 months at or above poverty level ",4970,195,4397,115,6564,283,929,156,6556,433,3338,208,13014,797,5598,354,2063,184,2884,51,2930,205]
[null,"Under 5 years",239,133.12400234367956,181,80.919713296575637,177,128.86038956948718,49,32.202484376209235,107,60.876925020897694,80,44.77722635447622,576,202.37094653136353,218,130.11533345459327,74,51.662365412357957,134,47.201694884823787,94,75.927597090912869]
[null,"5 to 17 years",972,240.51195396487051,690,150.2231673211559,1009,251.00796800101784,47,29.32575659723036,836,189.75510533316356,402,114.61239025515522,1500,320.71794461800857,804,177.34993656610087,284,75.723180070570194,348,64.853681468363845,437,121.12803143781376]
[null,"18 to 64 years",2781,356.71837631386472,2926,271.74436516697085,4308,427.21657271224859,601,104.35516278555652,3912,378.81921809749832,2117,256.23817045865746,8409,551.3383716013243,3236,318.42738575694148,1377,168.19334112859522,1902,161.83015788165073,1877,235.27218280111231]
[null,"65 to 74 years",641,136.82105101189657,378,87.692645073575008,768,153.32318807016765,134,37.536648758246919,1074,164.93938280471406,576,126.15070352558483,1528,180.23595645708434,826,135.76450198781711,202,41.231056256176608,292,60.440052945046304,338,79.202272694664515]
[null,"75 years and over",337,111.75866856758807,222,67.801179930735714,302,104.63746938836012,98,31.400636936215164,627,154.48624534242524,163,76.321687612368734,1001,151.47607071745688,514,95.671312314611839,126,44.418464629025621,208,58.830264320330912,184,64.350602172784676]
[]
[]
[]
[]
[]
[]
[]
[]
[]
[]
[]
[]
[]
[]
[]
[]
[]
[]
[]
[]
[]
[]
[]
[]
[]
[]
[]
[]
[]
[]
[]
[]
[]
[]
[]
[]
[]
[]
[]
[]
[]
[]
[null,"Calculated Table B17001. POVERTY STATUS IN THE PAST 12 MONTHS BY SEX BY AGE"]
[null,"Universe:  POPULATION FOR WHOM POVERTY STATUS IS DETERMINED"]
[null,"Data Set: 2008-2012 American Community Survey 5-Year Estimates"]
[]
[null,null,"Alton",null,"Barnstead",null,"Belmont",null,"Center Harbor",null,"Gilford",null,"Gilmanton",null,"Laconia",null,"Meredith",null,"New Hampton",null,"Sanbornton",null,"Tilton"]
[null," ","Estimate","Margin of Error","Estimate","Margin of Error","Estimate","Margin of Error","Estimate","Margin of Error","Estimate","Margin of Error","Estimate","Margin of Error","Estimate","Margin of Error","Estimate","Margin of Error","Estimate","Margin of Error","Estimate","Margin of Error","Estimate","Margin of Error"]
[null,"Total:",5212,16,4564,36,7315,45,934,136,7157,26,3683,78,15409,237,6162,45,2278,145,2939,36,3416,95]
[null,"Income in the past 12 months below poverty level:",288,200,134,97,502,223,95,54,643,303,293,149,1817,454,620,223,241,100,34,24,326,166]
[null,"Under 5 years",17,85.07055894961546,0,86.683331731077345,34,56.797887284651708,6,12.806248474865697,73,55.946402922797461,0,88.887569434651553,63,61.684682053164543,0,86.313382508160345,15,20.396078054371138,0,120.20815280171308,8,25.942243542145693]
[null,"5 to 17 years",46,232.18527085067217,18,241.68988394221219,34,228.41409763847764,28,208.83246873989685,195,210.19752615099921,90,175.86926962946086,357,237.16028335284136,183,200.47693134123935,51,151.25805763660989,0,255.16661223600551,33,192.12756179163884]
[null,"18 to 64 years",182,206.63010429267078,106,156.3649577111189,419,158.8741640418605,46,192.24983745116666,274,167.40071684434329,164,162.40073891457513,1204,260.64151626323849,373,138.40158958624716,172,105.26157893552613,25,225.86721763018201,152,186.93581786270923]
[null,"65 to 74 years",26,94.810336989170125,10,86.49277426467485,15,88.056799851005266,7,8.9442719099991592,87,77.620873481300123,0,120.20815280171308,89,56.222771187482387,0,120.20815280171308,0,120.20815280171308,9,86.145226217127089,12,15.556349186104045]
[null,"75 years and over",17,89.493016487321512,0,120.20815280171308,0,120.20815280171308,8,85.475142585432408,14,88.056799851005266,39,45.276925690687087,104,61.846584384264908,64,100.16985574512923,3,85.094065598019228,0,120.20815280171308,121,92.655275079188016]
[null," Income in the past 12 months at or above poverty level ",4924,204,4430,107,6813,228,839,137,6514,306,3390,146,13592,493,5542,230,2037,149,2905,41,3090,140]
[null,"Under 5 years",216,121.01652779682617,420,113.13708498984761,352,134.40238093129153,12,85.988371306822643,304,93.744333162063725,165,78.243210568074218,558,154.98709623707387,267,119.26860441876563,54,22.627416997969522,244,84.876380695691779,152,74.966659255965254]
[null,"5 to 17 years",800,235.58862451315429,761,178.20493820318222,1441,299.7949299104306,122,95.807097858144104,965,210.38773728523248,736,146.28738838327794,1990,334.7626024513491,747,241.43114960584518,364,66.65583245298194,370,93.171884171138231,328,184.65914545453739]
[null,"18 to 64 years",3011,364.52160429801688,2729,248.56588663772831,4202,374.81061884637154,494,88.017043804026954,3980,357.08962460424414,2143,228.86895813980541,8795,505.11582830079675,3297,319.78273874616809,1329,115.57681428383462,1852,177.91571037994368,2109,244.98163196452097]
[null,"65 to 74 years",492,143.75326083258076,319,75.822160349069449,456,122.88612614937456,117,35.383612025908263,726,133.64505228402584,231,95.462034338264544,1126,145.69145479402695,857,132.28000604777731,154,43.863424398922618,253,50.606323715519977,270,97.349884437527706]
[null,"75 years and over",405,135.41787178950938,201,71.505244562899023,362,130.80137613954986,94,33.241540277189323,539,118.80235687897779,115,59.093146810776631,1123,157.00318468107582,374,94.403389769647575,136,37.536648758246919,186,66.128662469461759,231,88.600225733346747]

{"sheet":"ACS_Table_B17010","index":49,"n_rows":156,"n_cols":24,"rows_kept":156,"cut":false,"hidden":true,"merged":[]}
[null,"B17010. POVERTY STATUS IN THE PAST 12 MONTHS OF FAMILIES BY FAMILY TYPE BY PRESENCE OF RELATED CHILDREN UNDER 18 YEARS"]
[null,"Universe: FAMILIES"]
[null,"Data Set: 2018-2022 American Community Survey 5-Year Estimates"]
[]
[null,null,"Alton",null,"Barnstead",null,"Belmont",null,"Center Harbor",null,"Gilford",null,"Gilmanton",null,"Laconia",null,"Meredith",null,"New Hampton",null,"Sanbornton",null,"Tilton"]
[null,null,"Estimates","Margin of Error","Estimates","Margin of Error","Estimates","Margin of Error","Estimates","Margin of Error","Estimates","Margin of Error","Estimates","Margin of Error","Estimates","Margin of Error","Estimates","Margin of Error","Estimates","Margin of Error","Estimates","Margin of Error","Estimates","Margin of Error"]
[null,"Total:",1852,184,1408,116,1988,170,283,77,2187,146,1093,121,4057,295,1801,201,666,78,768,96,997,113]
[null,"Income in the past 12 months below poverty level:",47,59,42,35,228,150,5,7,148,111,97,60,249,153,160,77,25,24,56,45,41,36]
[null,"Married-couple family:",47,59,31,37,135,122,5,7,100,105,12,20,64,58,39,30,13,15,21,31,21,25]
[null,"With related children under 18 years:",0,17,0,12,49,58,0,12,0,17,12,20,14,24,0,17,5,8,0,12,15,23]
[null,"Under 5 years only",0,17,0,12,49,58,0,12,0,17,0,12,0,19,0,17,5,8,0,12,0,12]
[null,"Under 5 years and 5 to 17 years",0,17,0,12,0,17,0,12,0,17,0,12,14,24,0,17,0,12,0,12,0,12]
[null,"5 to 17 years only",0,17,0,12,0,17,0,12,0,17,12,20,0,19,0,17,0,12,0,12,15,23]
[null,"No related children under 18 years",47,59,31,37,86,108,5,7,100,105,0,12,50,52,39,30,8,12,21,31,6,10]
[null,"Other family:",0,17,11,21,93,73,0,12,48,43,85,57,185,130,121,65,12,20,35,37,20,25]
[null,"Male householder, no spouse present:",0,17,0,12,31,38,0,12,0,17,26,33,0,19,16,24,12,20,35,37,0,12]
[null,"With related children under 18 years:",0,17,0,12,0,17,0,12,0,17,26,33,0,19,16,24,0,12,23,33,0,12]
[null,"Under 5 years only",0,17,0,12,0,17,0,12,0,17,26,33,0,19,0,17,0,12,0,12,0,12]
[null,"Under 5 years and 5 to 17 years",0,17,0,12,0,17,0,12,0,17,0,12,0,19,0,17,0,12,23,33,0,12]
[null,"5 to 17 years only",0,17,0,12,0,17,0,12,0,17,0,12,0,19,16,24,0,12,0,12,0,12]
[null,"No related children under 18 years",0,17,0,12,31,38,0,12,0,17,0,12,0,19,0,17,12,20,12,20,0,12]
[null,"Female householder, no spouse present:",0,17,11,21,62,55,0,12,48,43,59,60,185,130,105,65,0,12,0,12,20,25]
[null,"With related children under 18 years:",0,17,0,12,36,44,0,12,11,12,56,59,185,130,97,62,0,12,0,12,20,25]
[null,"Under 5 years only",0,17,0,12,12,21,0,12,0,17,0,12,26,45,12,19,0,12,0,12,0,12]
[null,"Under 5 years and 5 to 17 years",0,17,0,12,24,39,0,12,11,12,0,12,88,84,20,27,0,12,0,12,0,12]
[null,"5 to 17 years only",0,17,0,12,0,17,0,12,0,17,56,59,71,83,65,58,0,12,0,12,20,25]
[null,"No related children under 18 years",0,17,11,21,26,32,0,12,37,42,3,7,0,19,8,13,0,12,0,12,0,12]
[null,"Income in the past 12 months at or above poverty level:",1805,179,1366,114,1760,187,278,76,2039,177,996,125,3808,321,1641,197,641,76,712,110,956,120]
[null,"Married-couple family:",1540,186,1118,126,1642,193,257,73,1733,209,900,137,2721,314,1403,195,608,80,599,113,666,120]
[null,"With related children under 18 years:",425,112,304,76,631,137,40,24,703,179,339,91,752,184,267,90,166,46,217,73,162,78]
[null,"Under 5 years only",81,94,39,35,9,16,0,12,271,157,127,69,73,66,0,17,51,29,3,5,58,55]
[null,"Under 5 years and 5 to 17 years",94,65,58,39,84,75,9,10,7,9,33,33,211,104,49,44,0,12,38,39,0,12]
[null,"5 to 17 years only",250,124,207,74,538,158,31,21,425,145,179,79,468,131,218,89,115,42,176,89,104,64]
[null,"No related children under 18 years",1115,192,814,147,1011,188,217,72,1030,185,561,144,1969,299,1136,199,442,91,382,107,504,112]
[null,"Other family:",265,143,248,102,118,72,21,19,306,152,96,66,1087,253,238,85,33,21,113,78,290,112]
[null,"Male householder, no spouse present:",116,78,114,63,39,41,2,5,93,70,23,36,346,144,102,59,17,16,0,12,17,22]
[null,"With related children under 18 years:",0,17,75,59,22,37,2,5,71,63,23,36,213,115,85,54,8,13,0,12,9,17]
[null,"Under 5 years only",0,17,37,50,0,17,0,12,4,7,0,12,87,67,19,27,0,12,0,12,0,12]
[null,"Under 5 years and 5 to 17 years",0,17,23,36,0,17,2,5,52,59,0,12,0,19,11,16,8,13,0,12,0,12]
[null,"5 to 17 years only",0,17,15,21,22,37,0,12,15,22,23,36,126,90,55,46,0,12,0,12,9,17]
[null,"No related children under 18 years",116,78,39,31,17,22,0,12,22,28,0,12,133,92,17,22,9,10,0,12,8,14]
[null,"Female householder, no spouse present:",149,127,134,84,79,58,19,19,213,129,73,60,741,216,136,77,16,15,113,78,273,110]
[null,"With related children under 18 years:",125,117,118,78,51,46,0,12,94,102,0,12,354,167,83,72,4,7,47,48,185,104]
[null,"Under 5 years only",0,17,0,12,0,17,0,12,3,6,0,12,12,20,0,17,0,12,16,28,67,65]
[null,"Under 5 years and 5 to 17 years",0,17,0,12,35,40,0,12,0,17,0,12,77,56,0,17,0,12,0,12,0,12]
[null,"5 to 17 years only",125,117,118,78,16,26,0,12,91,102,0,12,265,168,83,72,4,7,31,37,118,92]
[null,"No related children under 18 years",24,26,16,18,28,33,19,19,119,93,73,60,387,155,53,39,12,12,66,51,88,78]
[]
[]
[]
[]
[]
[]
[]
[]
[]
[]
[]
[]
[null,"B17010. POVERTY STATUS IN THE PAST 12 MONTHS OF FAMILIES BY FAMILY TYPE BY PRESENCE OF RELATED CHILDREN UNDER 18 YEARS"]
[null,"Universe: FAMILIES"]
[null,"Data Set: 2013-2017 American Community Survey 5-Year Estimates"]
[]
[null,null,"Alton",null,"Barnstead",null,"Belmont",null,"Center Harbor",null,"Gilford",null,"Gilmanton",null,"Laconia",null,"Meredith",null,"New Hampton",null,"Sanbornton",null,"Tilton"]
[null,null,"Estimates","Margin of Error","Estimates","Margin of Error","Estimates","Margin of Error","Estimates","Margin of Error","Estimates","Margin of Error","Estimates","Margin of Error","Estimates","Margin of Error","Estimates","Margin of Error","Estimates","Margin of Error","Estimates","Margin of Error","Estimates","Margin of Error"]
[null,"Total:",1498,119,1341,99,2026,179,316,59,2095,171,1011,114,4106,245,1738,124,605,65,847,63,882,90]
[null,"Income in the past 12 months below poverty level:",66,71,33,26,106,92,10,15,146,124,60,45,516,166,187,95,15,14,7,11,54,31]
[null,"Married-couple family:",66,71,28,24,0,15,10,15,12,13,49,42,217,109,34,42,8,9,7,11,28,25]
[null,"With related children under 18 years:",16,27,9,14,0,15,0,11,5,7,33,33,120,110,0,15,0,11,0,11,10,16]
[null,"Under 5 years only",0,15,0,11,0,15,0,11,0,15,0,11,0,17,0,15,0,11,0,11,0,11]
[null,"Under 5 years and 5 to 17 years",0,15,0,11,0,15,0,11,0,15,27,31,90,98,0,15,0,11,0,11,0,11]
[null,"5 to 17 years only",16,27,9,14,0,15,0,11,5,7,6,13,30,47,0,15,0,11,0,11,10,16]
[null,"No related children under 18 years",50,67,19,20,0,15,10,15,7,11,16,26,97,67,34,42,8,9,7,11,18,19]
[null,"Other family:",0,15,5,10,106,92,0,11,134,123,11,16,299,129,153,91,7,10,0,11,26,28]
[null,"Male householder, no wife present:",0,15,5,10,12,19,0,11,0,15,0,11,40,33,11,17,4,7,0,11,0,11]
[null,"With related children under 18 years:",0,15,5,10,0,15,0,11,0,15,0,11,9,14,11,17,4,7,0,11,0,11]
[null,"Under 5 years only",0,15,0,11,0,15,0,11,0,15,0,11,0,17,0,15,0,11,0,11,0,11]
[null,"Under 5 years and 5 to 17 years",0,15,0,11,0,15,0,11,0,15,0,11,0,17,0,15,0,11,0,11,0,11]
[null,"5 to 17 years only",0,15,5,10,0,15,0,11,0,15,0,11,9,14,11,17,4,7,0,11,0,11]
[null,"No related children under 18 years",0,15,0,11,12,19,0,11,0,15,0,11,31,30,0,15,0,11,0,11,0,11]
[null,"Female householder, no husband present:",0,15,0,11,94,91,0,11,134,123,11,16,259,124,142,89,3,5,0,11,26,28]
[null,"With related children under 18 years:",0,15,0,11,94,91,0,11,134,123,0,11,247,122,142,89,3,5,0,11,26,28]
[null,"Under 5 years only",0,15,0,11,0,15,0,11,0,15,0,11,34,46,26,44,0,11,0,11,26,28]
[null,"Under 5 years and 5 to 17 years",0,15,0,11,0,15,0,11,70,106,0,11,74,53,74,72,3,5,0,11,0,11]
[null,"5 to 17 years only",0,15,0,11,94,91,0,11,64,88,0,11,139,99,42,35,0,11,0,11,0,11]
[null,"No related children under 18 years",0,15,0,11,0,15,0,11,0,15,11,16,12,20,0,15,0,11,0,11,0,11]
[null,"Income in the past 12 months at or above poverty level:",1432,129,1308,102,1920,187,306,58,1949,206,951,118,3590,282,1551,154,590,70,840,66,828,97]
[null,"Married-couple family:",1243,145,1082,126,1562,235,273,54,1663,210,831,122,2736,283,1365,156,501,66,751,65,653,103]
[null,"With related children under 18 years:",531,101,325,83,566,166,44,22,365,89,217,62,763,201,480,98,181,39,210,32,231,64]
[null,"Under 5 years only",27,31,66,47,25,27,17,16,23,27,21,26,118,75,119,82,34,24,28,17,53,43]
[null,"Under 5 years and 5 to 17 years",70,55,34,31,19,31,3,5,31,32,30,26,117,70,33,42,9,12,50,20,0,11]
[null,"5 to 17 years only",434,120,225,80,522,163,24,16,311,89,166,59,528,178,328,78,138,41,132,43,178,60]
[null,"No related children under 18 years",712,155,757,129,996,202,229,48,1298,200,614,109,1973,242,885,146,320,66,541,62,422,91]
[null,"Other family:",189,99,226,77,358,175,33,22,286,105,120,80,854,191,186,80,89,47,89,42,175,69]
[null,"Male householder, no wife present:",103,83,88,52,90,106,16,17,82,67,62,55,201,86,30,21,33,25,33,30,43,34]
[null,"With related children under 18 years:",59,71,61,46,76,93,4,6,76,69,51,56,99,86,23,18,10,16,0,11,25,29]
[null,"Under 5 years only",37,60,4,9,76,93,4,6,0,15,0,11,17,20,0,15,0,11,0,11,0,11]
[null,"Under 5 years and 5 to 17 years",0,15,19,28,0,15,0,11,0,15,0,11,8,13,0,15,0,11,0,11,0,11]
[null,"5 to 17 years only",22,37,38,40,0,15,0,11,76,69,51,56,74,85,23,18,10,16,0,11,25,29]
[null,"No related children under 18 years",44,67,27,20,14,24,12,16,6,9,11,12,102,56,7,11,23,19,33,30,18,20]
[null,"Female householder, no husband present:",86,58,138,76,268,153,17,15,204,81,58,50,653,192,156,78,56,43,56,30,132,56]
[null,"With related children under 18 years:",45,38,105,67,51,62,13,15,82,54,38,46,333,124,115,74,17,22,20,17,63,43]
[null,"Under 5 years only",0,15,0,11,0,15,0,11,9,14,0,11,69,57,0,15,0,11,5,7,0,11]
[null,"Under 5 years and 5 to 17 years",21,32,11,18,0,15,0,11,0,15,0,11,48,47,12,17,0,11,0,11,0,11]
[null,"5 to 17 years only",24,26,94,67,51,62,13,15,73,51,38,46,216,112,103,73,17,22,15,15,63,43]
[null,"No related children under 18 years",41,40,33,31,217,138,4,6,122,78,20,19,320,136,41,30,39,38,36,26,69,39]
[]
[]
[]
[null,"B17010. POVERTY STATUS IN THE PAST 12 MONTHS OF FAMILIES BY FAMILY TYPE BY PRESENCE OF RELATED CHILDREN UNDER 18 YEARS"]
[null,"Universe: FAMILIES"]
[null,"Data Set: 2008-2012 American Community Survey 5-Year Estimates"]
[]
[null,null,"Alton",null,"Barnstead",null,"Belmont",null,"Center Harbor",null,"Gilford",null,"Gilmanton",null,"Laconia",null,"Meredith",null,"New Hampton",null,"Sanbornton",null,"Tilton"]
[null,null,"Estimates","Margin of Error","Estimates","Margin of Error","Estimates","Margin of Error","Estimates","Margin of Error","Estimates","Margin of Error","Estimates","Margin of Error","Estimates","Margin of Error","Estimates","Margin of Error","Estimates","Margin of Error","Estimates","Margin of Error","Estimates","Margin of Error"]
[null,"Total:",1558,113,1360,90,2090,179,315,46,1941,145,1057,80,4139,265,1811,135,684,57,846,63,954,83]
[null,"Income in the past 12 months below poverty level:",56,65,33,28,90,70,27,21,107,64,94,53,343,137,119,61,39,25,0,85,18,20]
[null,"Married-couple family:",20,33,21,20,90,70,6,8,12,18,55,46,82,56,13,19,25,17,0,85,9,15]
[null,"With related children under 18 years:",20,33,7,12,30,35,0,85,0,85,13,20,0,85,13,19,21,16,0,85,9,15]
[null,"Under 5 years only",20,33,0,85,0,85,0,85,0,85,0,85,0,85,0,85,3,5,0,85,0,85]
[null,"Under 5 years and 5 to 17 years",0,85,0,85,30,35,0,85,0,85,0,85,0,85,0,85,4,7,0,85,0,85]
[null,"5 to 17 years only",0,85,7,12,0,85,0,85,0,85,13,20,0,85,13,19,14,14,0,85,9,15]
[null,"No related children under 18 years",0,85,14,16,60,61,6,8,12,18,42,41,82,56,0,85,4,6,0,85,0,85]
[null,"Other family:",36,57,12,20,0,85,21,19,95,63,39,29,261,127,106,58,14,19,0,85,9,14]
[null,"Male householder, no wife present:",0,85,12,20,0,85,0,85,0,85,9,14,105,87,22,32,0,85,0,85,0,85]
[null,"With related children under 18 years:",0,85,12,20,0,85,0,85,0,85,9,14,55,55,22,32,0,85,0,85,0,85]
[null,"Under 5 years only",0,85,0,85,0,85,0,85,0,85,0,85,0,85,0,85,0,85,0,85,0,85]
[null,"Under 5 years and 5 to 17 years",0,85,0,85,0,85,0,85,0,85,0,85,9,21,0,85,0,85,0,85,0,85]
[null,"5 to 17 years only",0,85,12,20,0,85,0,85,0,85,9,14,46,52,22,32,0,85,0,85,0,85]
[null,"No related children under 18 years",0,85,0,85,0,85,0,85,0,85,0,85,50,55,0,85,0,85,0,85,0,85]
[null,"Female householder, no husband present:",36,57,0,85,0,85,21,19,95,63,30,27,156,91,84,64,14,19,0,85,9,14]
[null,"With related children under 18 years:",36,57,0,85,0,85,17,18,95,63,30,27,141,87,65,67,14,19,0,85,9,14]
[null,"Under 5 years only",0,85,0,85,0,85,0,85,0,85,0,85,19,31,0,85,2,4,0,85,0,85]
[null,"Under 5 years and 5 to 17 years",0,85,0,85,0,85,7,10,63,55,0,85,35,57,0,85,0,85,0,85,9,14]
[null,"5 to 17 years only",36,57,0,85,0,85,10,15,32,35,30,27,87,61,65,67,12,19,0,85,0,85]
[null,"No related children under 18 years",0,85,0,85,0,85,4,7,0,85,0,85,15,25,19,23,0,85,0,85,0,85]
[null,"Income in the past 12 months at or above poverty level:",1502,131,1327,89,2000,178,288,47,1834,160,963,82,3796,254,1692,138,645,57,846,63,936,87]
[null,"Married-couple family:",1268,169,1146,99,1533,187,221,43,1492,164,767,99,2988,231,1420,144,548,57,718,71,715,102]
[null,"With related children under 18 years:",479,135,644,97,582,137,46,24,482,95,368,79,1043,188,492,119,168,43,308,55,208,57]
[null,"Under 5 years only",62,49,223,92,55,46,0,85,82,50,48,44,167,98,131,95,5,8,86,38,85,54]
[null,"Under 5 years and 5 to 17 years",87,84,118,72,66,59,14,15,119,55,83,52,95,55,22,20,28,14,74,39,15,19]
[null,"5 to 17 years only",330,132,303,83,461,141,32,20,281,93,237,76,781,162,339,85,135,39,148,56,108,64]
[null,"No related children under 18 years",789,178,502,128,951,200,175,37,1010,169,399,100,1945,207,928,140,380,47,410,73,507,93]
[null,"Other family:",234,124,181,82,467,163,67,31,342,129,196,87,808,201,272,121,97,35,128,46,221,83]
[null,"Male householder, no wife present:",139,106,84,58,189,106,9,10,97,76,67,53,74,46,103,78,28,23,49,27,49,42]
[null,"With related children under 18 years:",61,95,45,43,171,98,9,10,97,76,46,48,50,38,84,77,12,15,31,20,36,38]
[null,"Under 5 years only",0,85,0,85,114,79,0,85,0,85,0,85,0,85,35,53,3,4,0,85,0,85]
[null,"Under 5 years and 5 to 17 years",61,95,0,85,0,85,0,85,44,45,24,38,0,85,33,54,9,14,0,85,10,17]
[null,"5 to 17 years only",0,85,45,43,57,53,9,10,53,69,22,31,50,38,16,19,0,85,31,20,26,42]
[null,"No related children under 18 years",78,66,39,43,18,28,0,85,0,85,21,24,24,24,19,20,16,17,18,17,13,20]
[null,"Female householder, no husband present:",95,86,97,62,278,122,58,30,245,105,129,72,734,207,169,95,69,31,79,35,172,78]
[null,"With related children under 18 years:",71,77,55,56,221,117,36,25,163,90,84,60,394,173,115,84,54,29,42,25,44,40]
[null,"Under 5 years only",12,19,0,85,46,60,0,85,14,23,0,85,116,95,0,85,0,85,0,85,0,85]
[null,"Under 5 years and 5 to 17 years",0,85,0,85,0,85,0,85,0,85,0,85,67,57,0,85,1,3,0,85,0,85]
[null,"5 to 17 years only",59,73,55,56,175,100,36,25,149,87,84,60,211,131,115,84,53,29,42,25,44,40]
[null,"No related children under 18 years",24,35,42,31,57,40,22,20,82,53,45,41,340,139,54,52,15,10,37,25,128,72]

{"sheet":"ACS_Table_B17017","index":50,"n_rows":213,"n_cols":24,"rows_kept":213,"cut":false,"hidden":true,"merged":[]}
[null,"B17017. POVERTY STATUS IN THE PAST 12 MONTHS BY HOUSEHOLD TYPE BY AGE OF HOUSEHOLDER"]
[null,"Data Set: 2018-2022 American Community Survey 5-Year Estimates"]
[null,"Universe: HOUSEHOLDS"]
[]
[null,null,"Alton",null,"Barnstead",null,"Belmont",null,"Center Harbor",null,"Gilford",null,"Gilmanton",null,"Laconia",null,"Meredith",null,"New Hampton",null,"Sanbornton",null,"Tilton"]
[null,null,"Households","Margin of Error","Households","Margin of Error","Households","Margin of Error","Households","Margin of Error","Households","Margin of Error","Households","Margin of Error","Households","Margin of Error","Households","Margin of Error","Households","Margin of Error","Households","Margin of Error","Households","Margin of Error"]
[null,"Total:",2240,229,1840,167,2940,252,384,88,3069,236,1575,155,6965,394,3242,243,978,123,1125,132,1598,137]
[null,"Income in the past 12 months below poverty level:",63,64,55,36,429,197,16,13,218,125,137,78,709,260,369,152,70,37,98,53,84,56]
[null,"Family households:",47,59,42,35,228,150,5,7,148,111,97,60,249,153,160,77,25,24,56,45,41,36]
[null,"Married-couple family:",47,59,31,37,135,122,5,7,100,105,12,20,64,58,39,30,13,15,21,31,21,25]
[null,"Householder under 25 years",0,17,0,12,0,17,0,12,0,17,0,12,0,19,0,17,0,12,0,12,0,12]
[null,"Householder 25 to 44 years",0,17,0,12,0,17,0,12,0,17,12,20,14,24,11,19,5,8,0,12,15,23]
[null,"Householder 45 to 64 years",0,17,0,12,66,64,5,7,57,89,0,12,0,19,20,22,8,12,21,31,6,10]
[null,"Householder 65 years and over",47,59,31,37,69,104,0,12,43,54,0,12,50,52,8,12,0,12,0,12,0,12]
[null,"Other family:",0,17,11,21,93,73,0,12,48,43,85,57,185,130,121,65,12,20,35,37,20,25]
[null,"Male householder, no spouse present:",0,17,0,12,31,38,0,12,0,17,26,33,0,19,16,24,12,20,35,37,0,12]
[null,"Householder under 25 years",0,17,0,12,0,17,0,12,0,17,0,12,0,19,0,17,0,12,0,12,0,12]
[null,"Householder 25 to 44 years",0,17,0,12,0,17,0,12,0,17,0,12,0,19,16,24,0,12,23,33,0,12]
[null,"Householder 45 to 64 years",0,17,0,12,31,38,0,12,0,17,26,33,0,19,0,17,0,12,0,12,0,12]
[null,"Householder 65 years and over",0,17,0,12,0,17,0,12,0,17,0,12,0,19,0,17,12,20,12,20,0,12]
[null,"Female householder, no spouse present:",0,17,11,21,62,55,0,12,48,43,59,60,185,130,105,65,0,12,0,12,20,25]
[null,"Householder under 25 years",0,17,11,21,0,17,0,12,0,17,0,12,0,19,0,17,0,12,0,12,0,12]
[null,"Householder 25 to 44 years",0,17,0,12,24,39,0,12,6,9,56,59,109,77,32,34,0,12,0,12,0,12]
[null,"Householder 45 to 64 years",0,17,0,12,12,21,0,12,22,37,0,12,26,45,65,58,0,12,0,12,20,25]
[null,"Householder 65 years and over",0,17,0,12,26,32,0,12,20,24,3,7,50,75,8,13,0,12,0,12,0,12]
[null,"Nonfamily households:",16,25,13,15,201,132,11,11,70,49,40,42,460,225,209,139,45,30,42,38,43,39]
[null,"Male householder:",16,25,6,10,61,92,11,11,33,37,32,39,236,163,173,137,15,16,0,12,11,17]
[null,"Householder under 25 years",0,17,0,12,0,17,0,12,0,17,10,16,0,19,11,17,0,12,0,12,0,12]
[null,"Householder 25 to 44 years",16,25,0,12,0,17,0,12,22,34,0,12,0,19,12,19,9,14,0,12,11,17]
[null,"Householder 45 to 64 years",0,17,0,12,61,92,7,9,11,17,0,12,213,162,122,127,6,8,0,12,0,12]
[null,"Householder 65 years and over",0,17,6,10,0,17,4,5,0,17,22,35,23,23,28,43,0,12,0,12,0,12]
[null,"Female householder:",0,17,7,11,140,105,0,12,37,31,8,13,224,141,36,30,30,26,42,38,32,34]
[null,"Householder under 25 years",0,17,0,12,0,17,0,12,0,17,0,12,0,19,0,17,0,12,0,12,0,12]
[null,"Householder 25 to 44 years",0,17,0,12,0,17,0,12,0,17,0,12,98,122,0,17,9,12,0,12,0,12]
[null,"Householder 45 to 64 years",0,17,0,12,83,89,0,12,16,20,0,12,73,57,14,15,17,21,9,14,7,12]
[null,"Householder 65 years and over",0,17,7,11,57,53,0,12,21,25,8,13,53,38,22,24,4,6,33,35,25,30]
[null,"Income in the past 12 months at or above poverty level:",2177,227,1785,167,2511,243,368,87,2851,240,1438,170,6256,427,2873,250,908,117,1027,151,1514,133]
[null,"Family households:",1805,179,1366,114,1760,187,278,76,2039,177,996,125,3808,321,1641,197,641,76,712,110,956,120]
[null,"Married-couple family:",1540,186,1118,126,1642,193,257,73,1733,209,900,137,2721,314,1403,195,608,80,599,113,666,120]
[null,"Householder under 25 years",0,17,0,12,0,17,0,12,0,17,0,12,11,21,0,17,0,12,0,12,0,12]
[null,"Householder 25 to 44 years",252,118,294,116,479,147,16,13,451,150,296,126,805,157,124,84,123,43,172,87,179,87]
[null,"Householder 45 to 64 years",883,181,499,117,615,155,66,29,816,197,450,110,1036,171,771,170,271,62,230,80,332,98]
[null,"Householder 65 years and over",405,114,325,122,548,164,175,67,466,146,154,72,869,202,508,186,214,61,197,89,155,62]
[null,"Other family:",265,143,248,102,118,72,21,19,306,152,96,66,1087,253,238,85,33,21,113,78,290,112]
[null,"Male householder, no spouse present:",116,78,114,63,39,41,2,5,93,70,23,36,346,144,102,59,17,16,0,12,17,22]
[null,"Householder under 25 years",0,17,0,12,0,17,0,12,0,17,0,12,41,62,0,17,0,12,0,12,0,12]
[null,"Householder 25 to 44 years",14,24,75,59,22,37,2,5,35,50,23,36,136,92,63,56,8,13,0,12,0,12]
[null,"Householder 45 to 64 years",25,31,20,21,0,17,0,12,36,39,0,12,142,88,25,27,0,12,0,12,0,12]
[null,"Householder 65 years and over",77,65,19,23,17,22,0,12,22,28,0,12,27,32,14,17,9,10,0,12,17,22]
[null,"Female householder, no spouse present:",149,127,134,84,79,58,19,19,213,129,73,60,741,216,136,77,16,15,113,78,273,110]
[null,"Householder under 25 years",0,17,0,12,35,40,0,12,0,17,0,12,0,19,0,17,0,12,0,12,0,12]
[null,"Householder 25 to 44 years",92,103,110,80,0,17,0,12,65,98,0,12,434,188,40,59,0,12,16,26,157,99]
[null,"Householder 45 to 64 years",48,44,9,15,27,32,4,7,133,92,27,34,219,119,76,39,11,12,84,67,110,65]
[null,"Householder 65 years and over",9,14,15,17,17,27,15,17,15,21,46,48,88,55,20,23,5,7,13,19,6,10]
[null,"Nonfamily households:",372,174,419,150,751,213,90,40,812,255,442,155,2448,369,1232,310,267,91,315,123,558,162]
[null,"Male householder:",183,122,138,69,299,143,37,24,272,127,271,137,993,219,701,238,119,53,155,83,311,117]
[null,"Householder under 25 years",0,17,0,12,0,17,0,12,0,17,0,12,12,27,0,17,0,12,0,12,12,19]
[null,"Householder 25 to 44 years",33,41,37,47,104,95,1,2,54,61,8,13,296,149,108,109,33,38,76,70,98,63]
[null,"Householder 45 to 64 years",64,74,85,51,98,66,16,15,113,96,90,69,387,161,213,134,25,21,43,45,109,86]
[null,"Householder 65 years and over",86,77,16,20,97,80,20,20,105,64,173,122,298,104,380,161,61,31,36,34,92,60]
[null,"Female householder:",189,115,281,136,452,181,53,37,540,215,171,88,1455,337,531,156,148,70,160,95,247,109]
[null,"Householder under 25 years",0,17,41,64,0,17,0,12,53,61,0,12,0,19,20,31,0,12,0,12,0,12]
[null,"Householder 25 to 44 years",14,24,17,25,26,42,3,5,3,6,45,43,194,121,21,31,20,22,0,12,46,59]
[null,"Householder 45 to 64 years",80,79,137,94,107,78,26,30,149,96,50,42,515,213,139,77,38,29,45,63,52,46]
[null,"Householder 65 years and over",95,81,86,65,319,175,24,20,335,154,76,54,746,210,351,126,90,62,115,73,149,79]
[]
[]
[]
[]
[]
[]
[]
[]
[]
[null,"B17017. POVERTY STATUS IN THE PAST 12 MONTHS BY HOUSEHOLD TYPE BY AGE OF HOUSEHOLDER"]
[null,"Data Set: 2013-2017 American Community Survey 5-Year Estimates"]
[null,"Universe: HOUSEHOLDS"]
[]
[null,null,"Alton",null,"Barnstead",null,"Belmont",null,"Center Harbor",null,"Gilford",null,"Gilmanton",null,"Laconia",null,"Meredith",null,"New Hampton",null,"Sanbornton",null,"Tilton"]
[null,null,"Households","Margin of Error","Households","Margin of Error","Households","Margin of Error","Households","Margin of Error","Households","Margin of Error","Households","Margin of Error","Households","Margin of Error","Households","Margin of Error","Households","Margin of Error","Households","Margin of Error","Households","Margin of Error"]
[null,"Total:",2073,172,1681,107,2723,218,412,63,3163,154,1406,103,6740,357,2702,162,867,78,1194,60,1503,130]
[null,"Income in the past 12 months below poverty level:",142,113,104,50,301,124,22,21,217,129,99,65,961,228,270,115,70,44,39,24,159,76]
[null,"Family households:",66,71,33,26,106,92,10,15,146,124,60,45,516,166,187,95,15,14,7,11,54,31]
[null,"Married-couple family:",66,71,28,24,0,15,10,15,12,13,49,42,217,109,34,42,8,9,7,11,28,25]
[null,"Householder under 25 years",0,15,0,11,0,15,0,11,0,15,0,11,0,17,0,15,0,11,0,11,0,11]
[null,"Householder 25 to 44 years",0,15,0,11,0,15,0,11,5,7,27,31,120,110,0,15,0,11,0,11,10,16]
[null,"Householder 45 to 64 years",58,68,19,21,0,15,10,15,7,11,22,27,79,62,0,15,0,11,0,11,9,13]
[null,"Householder 65 years and over",8,14,9,14,0,15,0,11,0,15,0,11,18,22,34,42,8,9,7,11,9,13]
[null,"Other family:",0,15,5,10,106,92,0,11,134,123,11,16,299,129,153,91,7,10,0,11,26,28]
[null,"Male householder, no wife present:",0,15,5,10,12,19,0,11,0,15,0,11,40,33,11,17,4,7,0,11,0,11]
[null,"Householder under 25 years",0,15,0,11,0,15,0,11,0,15,0,11,0,17,0,15,0,11,0,11,0,11]
[null,"Householder 25 to 44 years",0,15,0,11,0,15,0,11,0,15,0,11,9,14,0,15,4,7,0,11,0,11]
[null,"Householder 45 to 64 years",0,15,5,10,12,19,0,11,0,15,0,11,13,22,11,17,0,11,0,11,0,11]
[null,"Householder 65 years and over",0,15,0,11,0,15,0,11,0,15,0,11,18,20,0,15,0,11,0,11,0,11]
[null,"Female householder, no husband present:",0,15,0,11,94,91,0,11,134,123,11,16,259,124,142,89,3,5,0,11,26,28]
[null,"Householder under 25 years",0,15,0,11,0,15,0,11,0,15,0,11,13,20,0,15,0,11,0,11,0,11]
[null,"Householder 25 to 44 years",0,15,0,11,80,84,0,11,134,123,0,11,209,121,128,89,3,5,0,11,17,25]
[null,"Householder 45 to 64 years",0,15,0,11,14,24,0,11,0,15,0,11,25,25,14,23,0,11,0,11,9,13]
[null,"Householder 65 years and over",0,15,0,11,0,15,0,11,0,15,11,16,12,20,0,15,0,11,0,11,0,11]
[null,"Nonfamily households:",76,84,71,40,195,110,12,15,71,57,39,51,445,135,83,56,55,41,32,21,105,70]
[null,"Male householder:",49,78,54,45,97,93,9,14,0,15,39,51,184,110,48,51,35,39,18,16,84,65]
[null,"Householder under 25 years",0,15,0,11,0,15,0,11,0,15,0,11,61,67,0,15,0,11,0,11,10,16]
[null,"Householder 25 to 44 years",0,15,0,11,49,77,0,11,0,15,8,14,16,26,27,44,0,11,0,11,11,17]
[null,"Householder 45 to 64 years",0,15,27,24,48,46,9,14,0,15,0,11,85,84,21,24,20,32,10,11,63,58]
[null,"Householder 65 years and over",49,78,27,43,0,15,0,11,0,15,31,49,22,19,0,15,15,23,8,12,0,11]
[null,"Female householder:",27,29,17,23,98,60,3,5,71,57,0,11,261,85,35,25,20,15,14,15,21,19]
[null,"Householder under 25 years",0,15,0,11,0,15,0,11,0,15,0,11,0,17,0,15,0,11,0,11,0,11]
[null,"Householder 25 to 44 years",0,15,3,5,0,15,0,11,6,8,0,11,30,30,0,15,5,7,0,11,7,11]
[null,"Householder 45 to 64 years",14,21,14,21,34,40,0,11,22,28,0,11,152,63,8,14,4,6,9,13,0,11]
[null,"Householder 65 years and over",13,21,0,11,64,45,3,5,43,48,0,11,79,49,27,21,11,11,5,7,14,15]
[null,"Income in the past 12 months at or above poverty level:",1931,158,1577,103,2422,202,390,63,2946,214,1307,114,5779,429,2432,189,797,71,1155,61,1344,134]
[null,"Family households:",1432,129,1308,102,1920,187,306,58,1949,206,951,118,3590,282,1551,154,590,70,840,66,828,97]
[null,"Married-couple family:",1243,145,1082,126,1562,235,273,54,1663,210,831,122,2736,283,1365,156,501,66,751,65,653,103]
[null,"Householder under 25 years",0,15,10,16,0,15,11,19,0,15,0,11,14,22,0,15,0,11,0,11,0,11]
[null,"Householder 25 to 44 years",388,80,349,89,463,156,39,27,224,84,177,65,659,207,353,100,173,39,180,36,206,71]
[null,"Householder 45 to 64 years",530,111,509,101,749,137,125,36,878,157,363,108,1404,176,581,108,219,60,404,59,281,81]
[null,"Householder 65 years and over",325,90,214,60,350,110,98,28,561,135,291,102,659,125,431,84,109,25,167,37,166,58]
[null,"Other family:",189,99,226,77,358,175,33,22,286,105,120,80,854,191,186,80,89,47,89,42,175,69]
[null,"Male householder, no wife present:",103,83,88,52,90,106,16,17,82,67,62,55,201,86,30,21,33,25,33,30,43,34]
[null,"Householder under 25 years",0,15,0,11,18,31,0,11,28,43,11,12,6,11,0,15,0,11,0,11,0,11]
[null,"Householder 25 to 44 years",44,67,61,47,58,88,4,6,6,9,51,56,76,82,11,18,10,16,0,11,10,16]
[null,"Householder 45 to 64 years",22,37,20,24,14,24,4,8,42,55,0,11,85,47,12,18,18,16,15,14,27,29]
[null,"Householder 65 years and over",37,60,7,11,0,15,8,14,6,9,0,11,34,33,7,11,5,8,18,24,6,9]
[null,"Female householder, no husband present:",86,58,138,76,268,153,17,15,204,81,58,50,653,192,156,78,56,43,56,30,132,56]
[null,"Householder under 25 years",0,15,0,11,51,84,0,11,9,14,0,11,65,79,0,15,0,11,0,11,0,11]
[null,"Householder 25 to 44 years",59,47,73,57,21,34,9,14,28,32,0,11,211,113,10,15,4,7,14,20,48,31]
[null,"Householder 45 to 64 years",12,22,40,42,65,56,4,6,78,44,44,46,279,111,109,67,52,43,26,19,58,43]
[null,"Householder 65 years and over",15,23,25,28,131,103,4,6,89,67,14,19,98,63,37,33,0,11,16,14,26,24]
[null,"Nonfamily households:",499,157,269,104,502,177,84,38,997,211,356,123,2189,308,881,177,207,71,315,70,516,149]
[null,"Male householder:",307,154,119,68,195,94,36,26,411,141,211,104,939,186,360,110,106,55,166,53,262,121]
[null,"Householder under 25 years",16,26,0,11,0,15,0,11,0,15,0,11,0,17,0,15,18,30,0,11,0,11]
[null,"Householder 25 to 44 years",23,30,50,51,107,87,11,17,100,66,18,19,286,109,13,22,18,17,27,28,76,67]
[null,"Householder 45 to 64 years",214,139,47,32,64,46,25,20,192,100,151,93,351,132,173,74,37,36,94,44,133,85]
[null,"Householder 65 years and over",54,42,22,22,24,28,0,11,119,68,42,33,302,82,174,66,33,21,45,21,53,45]
[null,"Female householder:",192,113,150,65,307,135,48,24,586,152,145,60,1250,254,521,142,101,45,149,57,254,81]
[null,"Householder under 25 years",0,15,0,11,0,15,0,11,0,15,0,11,97,92,0,15,8,11,0,11,23,28]
[null,"Householder 25 to 44 years",0,15,5,10,21,34,0,11,38,32,30,30,268,156,49,41,13,19,21,15,48,33]
[null,"Householder 45 to 64 years",66,86,100,51,152,86,12,10,154,78,31,28,354,112,234,116,29,22,104,50,110,50]
[null,"Householder 65 years and over",126,70,45,33,134,98,36,23,394,127,84,48,531,118,238,91,51,30,24,15,73,38]
[]
[]
[]
[]
[]
[]
[]
[]
[]
[null,"B17017. POVERTY STATUS IN THE PAST 12 MONTHS BY HOUSEHOLD TYPE BY AGE OF HOUSEHOLDER"]
[null,"Universe: HOUSEHOLDS"]
[null,"Data Set: 2008-2012 American Community Survey 5-Year Estimates"]
[]
[null,null,"Alton",null,"Barnstead",null,"Belmont",null,"Center Harbor",null,"Gilford",null,"Gilmanton",null,"Laconia",null,"Meredith",null,"New Hampton",null,"Sanbornton",null,"Tilton"]
[null,null,"Households","Margin of Error","Households","Margin of Error","Households","Margin of Error","Households","Margin of Error","Households","Margin of Error","Households","Margin of Error","Households","Margin of Error","Households","Margin of Error","Households","Margin of Error","Households","Margin of Error","Households","Margin of Error"]
[null,"Total:",2115,155,1677,103,2888,184,414,52,3003,199,1354,120,6878,265,2860,144,881,66,1153,102,1422,95]
[null,"Income in the past 12 months below poverty level:",168,127,43,33,145,100,30,21,237,105,134,66,828,193,305,124,70,34,24,20,64,37]
[null,"Family households:",56,65,33,28,90,70,27,21,107,64,94,53,343,137,119,61,39,25,0,85,18,20]
[null,"Married-couple family:",20,33,21,20,90,70,6,8,12,18,55,46,82,56,13,19,25,17,0,85,9,15]
[null,"Householder under 25 years",0,85,0,85,0,85,0,85,0,85,0,85,0,85,0,85,0,85,0,85,0,85]
[null,"Householder 25 to 44 years",0,85,0,85,29,36,0,85,0,85,13,20,0,85,13,19,7,10,0,85,0,85]
[null,"Householder 45 to 64 years",20,33,21,20,61,61,0,85,12,18,23,26,43,39,0,85,18,15,0,85,9,15]
[null,"Householder 65 years and over",0,85,0,85,0,85,6,8,0,85,19,31,39,35,0,85,0,85,0,85,0,85]
[null,"Other family:",36,57,12,20,0,85,21,19,95,63,39,29,261,127,106,58,14,19,0,85,9,14]
[null,"Male householder, no wife present:",0,85,12,20,0,85,0,85,0,85,9,14,105,87,22,32,0,85,0,85,0,85]
[null,"Householder under 25 years",0,85,0,85,0,85,0,85,0,85,0,85,0,85,0,85,0,85,0,85,0,85]
[null,"Householder 25 to 44 years",0,85,0,85,0,85,0,85,0,85,0,85,32,46,22,32,0,85,0,85,0,85]
[null,"Householder 45 to 64 years",0,85,12,20,0,85,0,85,0,85,9,14,73,71,0,85,0,85,0,85,0,85]
[null,"Householder 65 years and over",0,85,0,85,0,85,0,85,0,85,0,85,0,85,0,85,0,85,0,85,0,85]
[null,"Female householder, no husband present:",36,57,0,85,0,85,21,19,95,63,30,27,156,91,84,64,14,19,0,85,9,14]
[null,"Householder under 25 years",0,85,0,85,0,85,0,85,16,24,0,85,19,31,0,85,2,4,0,85,0,85]
[null,"Householder 25 to 44 years",36,57,0,85,0,85,17,18,64,55,22,24,88,76,65,67,0,85,0,85,9,14]
[null,"Householder 45 to 64 years",0,85,0,85,0,85,4,7,15,23,8,13,49,60,19,23,12,19,0,85,0,85]
[null,"Householder 65 years and over",0,85,0,85,0,85,0,85,0,85,0,85,0,85,0,85,0,85,0,85,0,85]
[null,"Nonfamily households:",112,97,10,16,55,59,3,4,130,88,40,37,485,150,186,107,31,22,24,20,46,29]
[null,"Male householder:",63,58,10,16,47,58,0,85,24,27,32,35,173,87,79,72,26,21,15,16,9,15]
[null,"Householder under 25 years",0,85,0,85,30,50,0,85,0,85,0,85,31,48,0,85,0,85,0,85,0,85]
[null,"Householder 25 to 44 years",20,32,0,85,0,85,0,85,0,85,18,29,0,85,27,45,0,85,0,85,0,85]
[null,"Householder 45 to 64 years",0,85,0,85,17,30,0,85,12,19,14,17,112,65,52,57,23,20,15,16,9,15]
[null,"Householder 65 years and over",43,49,10,16,0,85,0,85,12,20,0,85,30,33,0,85,3,4,0,85,0,85]
[null,"Female householder:",49,76,0,85,8,13,3,4,106,84,8,13,312,135,107,79,5,8,9,14,37,25]
[null,"Householder under 25 years",0,85,0,85,0,85,0,85,0,85,0,85,117,108,0,85,0,85,0,85,0,85]
[null,"Householder 25 to 44 years",0,85,0,85,0,85,0,85,17,27,0,85,28,37,0,85,0,85,0,85,0,85]
[null,"Householder 45 to 64 years",49,76,0,85,8,13,3,4,0,85,8,13,118,68,43,57,5,8,0,85,30,23]
[null,"Householder 65 years and over",0,85,0,85,0,85,0,85,89,79,0,85,49,44,64,53,0,85,9,14,7,11]
[null,"Income in the past 12 months at or above poverty level:",1947,171,1634,105,2743,176,384,52,2766,222,1220,115,6050,301,2555,172,811,64,1129,99,1358,94]
[null,"Family households:",1502,131,1327,89,2000,178,288,47,1834,160,963,82,3796,254,1692,138,645,57,846,63,936,87]
[null,"Married-couple family:",1268,169,1146,99,1533,187,221,43,1492,164,767,99,2988,231,1420,144,548,57,718,71,715,102]
[null,"Householder under 25 years",0,85,13,20,0,85,0,85,14,22,7,13,43,40,0,85,0,85,0,85,0,85]
[null,"Householder 25 to 44 years",414,120,448,89,418,105,29,19,283,84,287,75,912,206,450,119,145,38,251,45,231,68]
[null,"Householder 45 to 64 years",572,152,463,91,807,141,121,42,745,137,381,78,1461,176,576,109,290,45,320,74,342,78]
[null,"Householder 65 years and over",282,111,222,72,308,112,71,24,450,98,92,63,572,110,394,101,113,35,147,34,142,79]
[null,"Other family:",234,124,181,82,467,163,67,31,342,129,196,87,808,201,272,121,97,35,128,46,221,83]
[null,"Male householder, no wife present:",139,106,84,58,189,106,9,10,97,76,67,53,74,46,103,78,28,23,49,27,49,42]
[null,"Householder under 25 years",31,47,0,85,38,49,0,85,0,85,0,85,0,85,35,53,0,85,0,85,0,85]
[null,"Householder 25 to 44 years",74,106,39,46,115,81,6,8,0,85,46,48,31,31,39,55,9,14,7,10,36,38]
[null,"Householder 45 to 64 years",20,34,45,45,36,47,3,4,97,76,21,24,19,21,29,25,19,17,33,23,13,20]
[null,"Householder 65 years and over",14,22,0,85,0,85,0,85,0,85,0,85,24,24,0,85,0,85,9,13,0,85]
[null,"Female householder, no husband present:",95,86,97,62,278,122,58,30,245,105,129,72,734,207,169,95,69,31,79,35,172,78]
[null,"Householder under 25 years",12,19,0,85,46,60,0,85,0,85,0,85,79,87,0,85,0,85,0,85,0,85]
[null,"Householder 25 to 44 years",59,73,38,50,150,95,31,24,49,48,46,50,378,151,78,78,28,19,10,15,42,36]
[null,"Householder 45 to 64 years",24,35,40,35,47,37,19,18,157,82,51,43,173,97,72,55,30,20,55,30,97,63]
[null,"Householder 65 years and over",0,85,19,22,35,31,8,9,39,40,32,37,104,70,19,23,11,9,14,15,33,28]
[null,"Nonfamily households:",445,145,307,96,743,225,96,36,932,227,257,109,2254,267,863,191,166,42,283,95,422,111]
[null,"Male householder:",246,121,117,62,459,163,40,26,444,186,130,64,943,182,555,168,94,37,108,53,182,80]
[null,"Householder under 25 years",0,85,0,85,9,15,0,85,0,85,0,85,78,90,0,85,4,5,0,85,0,85]
[null,"Householder 25 to 44 years",52,63,10,16,234,120,12,14,98,102,36,33,213,106,225,114,37,23,21,20,50,43]
[null,"Householder 45 to 64 years",112,87,32,26,133,87,13,10,222,116,81,47,389,120,172,84,39,27,64,36,56,40]
[null,"Householder 65 years and over",82,67,75,47,83,52,15,16,124,87,13,20,263,96,158,76,14,11,23,25,76,66]
[null,"Female householder:",199,86,190,71,284,125,56,27,488,155,127,67,1311,205,308,99,72,29,175,72,240,91]
[null,"Householder under 25 years",8,14,0,85,10,18,0,85,0,85,0,85,93,75,7,12,0,85,0,85,0,85]
[null,"Householder 25 to 44 years",18,28,9,14,37,49,15,21,99,65,27,26,152,80,8,12,0,85,15,17,38,30]
[null,"Householder 45 to 64 years",11,17,123,60,83,56,17,12,201,112,42,29,490,115,105,69,38,22,103,56,76,44]
[null,"Householder 65 years and over",162,82,58,35,154,91,24,17,188,78,58,49,576,133,188,69,34,16,57,37,126,62]

{"sheet":"ACS_Table_B03002","index":51,"n_rows":108,"n_cols":24,"rows_kept":108,"cut":false,"hidden":true,"merged":[]}
[null,"B03002. HISPANIC OR LATINO ORIGIN BY RACE"]
[null,"Universe:  TOTAL POPULATION"]
[null,"Data Set: 2018-2022 American Community Survey 5-Year Estimates"]
[]
[null,null,"Alton",null,"Barnstead",null,"Belmont",null,"Center Harbor",null,"Gilford",null,"Gilmanton",null,"Laconia",null,"Meredith",null,"New Hampton",null,"Sanbornton",null,"Tilton"]
[null," ","Estimate","Margin of Error","Estimate","Margin of Error","Estimate","Margin of Error","Estimate","Margin of Error","Estimate","Margin of Error","Estimate","Margin of Error","Estimate","Margin of Error","Estimate","Margin of Error","Estimate","Margin of Error","Estimate","Margin of Error","Estimate","Margin of Error"]
[null,"Total:",5903,16,4941,20,7358,20,820,181,7725,20,3960,27,16898,21,6688,33,2604,181,3047,21,3970,17]
[null,"Not Hispanic or Latino:",5814,87,4858,119,7115,156,811,182,7561,141,3866,82,16415,176,6624,62,2591,181,3034,21,3947,29]
[null,"White alone",5639,137,4538,167,6913,224,801,182,7003,243,3814,94,15652,349,6339,237,2551,183,2889,98,3824,111]
[null,"Black or African American alone",0,17,0,12,0,17,0,12,0,17,34,61,198,200,28,45,11,19,29,41,26,46]
[null,"American Indian and Alaska Native alone",0,17,131,88,0,17,0,12,0,17,0,12,13,20,22,32,0,12,0,12,0,12]
[null,"Asian alone",12,22,26,31,80,104,0,12,328,198,5,9,187,126,111,111,0,12,29,33,4,20]
[null,"Native Hawaiian and Other Pacific Islander alone",12,21,0,12,0,17,0,12,0,17,0,12,0,19,0,17,0,12,0,12,0,12]
[null,"Some other race alone",0,17,34,40,0,17,0,12,3,7,0,12,65,110,0,17,0,12,0,12,0,12]
[null,"Two or more races:",151,90,129,96,122,113,10,12,227,135,13,16,300,184,124,143,29,29,87,75,93,96]
[null,"Two races including Some other race",52,52,48,64,0,17,0,12,80,108,0,12,153,166,70,113,14,23,45,64,22,35]
[null,"Two races excluding Some other race, and three or more races",99,76,81,70,122,113,10,12,147,102,13,16,147,91,54,83,15,18,42,39,71,90]
[null,"Hispanic or Latino:",89,86,83,118,243,156,9,17,164,137,94,82,483,174,64,49,13,15,13,2,23,26]
[null,"White alone",37,54,83,118,60,80,0,12,60,69,81,81,102,108,44,44,0,12,0,12,0,12]
[null,"Black or African American alone",26,37,0,12,111,145,0,12,0,17,0,12,0,19,0,17,0,12,13,2,0,12]
[null,"American Indian and Alaska Native alone",0,17,0,12,0,17,0,12,0,17,0,12,0,19,0,17,0,12,0,12,0,12]
[null,"Asian alone",0,17,0,12,0,17,0,12,0,17,0,12,0,19,0,17,0,12,0,12,0,12]
[null,"Native Hawaiian and Other Pacific Islander alone",0,17,0,12,0,17,0,12,0,17,0,12,0,19,0,17,0,12,0,12,0,12]
[null,"Some other race alone",1,3,0,12,0,17,0,12,16,32,0,12,368,216,20,28,0,12,0,12,0,12]
[null,"Two or more races:",25,38,0,12,72,101,9,17,88,92,13,21,13,19,0,17,13,15,0,12,23,26]
[null,"Two races including Some other race",0,17,0,12,72,101,9,17,88,92,0,12,13,19,0,17,13,15,0,12,23,26]
[null,"Two races excluding Some other race, and three or more races",25,38,0,12,0,17,0,12,0,17,13,21,0,19,0,17,0,12,0,12,0,12]
[]
[]
[]
[null,null,"Alton",null,"Barnstead",null,"Belmont",null,"Center Harbor",null,"Gilford",null,"Gilmanton",null,"Laconia",null,"Meredith",null,"New Hampton",null,"Sanbornton",null,"Tilton"]
[null," ","Estimate","Margin of Error","Estimate","Margin of Error","Estimate","Margin of Error","Estimate","Margin of Error","Estimate","Margin of Error","Estimate","Margin of Error","Estimate","Margin of Error","Estimate","Margin of Error","Estimate","Margin of Error","Estimate","Margin of Error","Estimate","Margin of Error"]
[null,"Total:",{"$f":"C7","v":5903},16,4941,20,7358,20,820,181,7725,20,3960,27,16898,21,6688,33,2604,181,3047,21,3970,17]
[null,"Not Hispanic or Latino:",{"$f":"C8","v":5814},87,4858,119,7115,156,811,182,7561,141,3866,82,16415,176,6624,62,{"$f":"S8","v":2591},181,3034,21,3947,29]
[null,"White",5639,137,4538,167,6913,224,801,182,7003,243,3814,94,15652,349,6339,237,2551,183,2889,98,3824,111]
[null,"Black",0,17,0,12,0,17,0,12,0,17,34,61,198,200,28,45,11,19,29,41,26,46]
[null,"American Indian",{"$f":"$C$11","v":0},{"$f":"D11","v":17},{"$f":"E11","v":131},88,0,17,0,12,0,17,0,12,13,20,22,32,0,12,0,12,0,12]
[null,"Asian &Pacific Is.",{"$f":"C12+C13","v":24},{"$f":"SQRT((D12^2)+(D13^2))","v":30.413812651491099},{"$f":"E12+E13","v":26},{"$f":"SQRT((F12^2)+(F13^2))","v":33.241540277189323},{"$f":"G12+G13","v":80},{"$f":"SQRT((H12^2)+(H13^2))","v":105.38026380684383},{"$f":"I12+I13","v":0},{"$f":"SQRT((J12^2)+(J13^2))","v":16.970562748477139},{"$f":"K12+K13","v":328},{"$f":"SQRT((L12^2)+(L13^2))","v":198.72845795205075},{"$f":"M12+M13","v":5},{"$f":"SQRT((N12^2)+(N13^2))","v":15},{"$f":"O12+O13","v":187},{"$f":"SQRT((P12^2)+(P13^2))","v":127.4244874425634},{"$f":"Q12+Q13","v":111},{"$f":"SQRT((R12^2)+(R13^2))","v":112.29425630903836},{"$f":"S12+S13","v":0},{"$f":"SQRT((T12^2)+(T13^2))","v":16.970562748477139},{"$f":"U12+U13","v":29},{"$f":"SQRT((V12^2)+(V13^2))","v":35.114099732158877},{"$f":"W12+W13","v":4},{"$f":"SQRT((X12^2)+(X13^2))","v":23.323807579381203}]
[null,"Other*",{"$f":"C14+C15","v":151},{"$f":"SQRT((D14^2)+(D15^2))","v":91.591484320323147},{"$f":"E14+E15","v":163},{"$f":"SQRT((F14^2)+(F15^2))","v":104},{"$f":"G14+G15","v":122},{"$f":"SQRT((H14^2)+(H15^2))","v":114.27160627207444},{"$f":"I14+I15","v":10},{"$f":"SQRT((J14^2)+(J15^2))","v":16.970562748477139},{"$f":"K14+K15","v":230},{"$f":"SQRT((L14^2)+(L15^2))","v":135.18135966175217},{"$f":"M14+M15","v":13},{"$f":"SQRT((N14^2)+(N15^2))","v":20},{"$f":"O14+O15","v":365},{"$f":"SQRT((P14^2)+(P15^2))","v":214.37350582569667},{"$f":"Q14+Q15","v":124},{"$f":"SQRT((R14^2)+(R15^2))","v":144.00694427700353},{"$f":"S14+S15","v":29},{"$f":"SQRT((T14^2)+(T15^2))","v":31.384709652950431},{"$f":"U14+U15","v":87},{"$f":"SQRT((V14^2)+(V15^2))","v":75.953933407032977},{"$f":"W14+W15","v":93},{"$f":"SQRT((X14^2)+(X15^2))","v":96.74709297958259}]
[null,"Hispanic or Latino:",{"$f":"C18","v":89},{"$f":"D18","v":86},{"$f":"E18","v":83},118,243,156,9,17,164,137,94,82,483,174,64,49,13,15,13,2,23,26]
[]
[]
[]
[]
[]
[]
[]
[]
[]
[]
[]
[]
[]
[]
[]
[]
[]
[]
[]
[]
[]
[]
[]
[]
[]
[]
[]
[]
[]
[]
[]
[]
[]
[]
[]
[]
[]
["Calculated B03002. HISPANIC OR LATINO ORIGIN BY RACE"]
["Universe:  TOTAL POPULATION"]
["Data Set: 2013-2017 American Community Survey 5-Year Estimates"]
[]
[null,null,"Alton",null,"Barnstead",null,"Belmont",null,"Center Harbor",null,"Gilford",null,"Gilmanton",null,"Laconia",null,"Meredith",null,"New Hampton",null,"Sanbornton",null,"Tilton"]
[null," ","Estimate","Margin of Error","Estimate","Margin of Error","Estimate","Margin of Error","Estimate","Margin of Error","Estimate","Margin of Error","Estimate","Margin of Error","Estimate","Margin of Error","Estimate","Margin of Error","Estimate","Margin of Error","Estimate","Margin of Error","Estimate","Margin of Error"]
[null,"Total:",5267,14,4615,16,7275,17,1000,178,7111,23,16237,20,16171,27,6334,33,2276,176,2973,16,3555,21]
[null,"Not Hispanic or Latino:",5233,47,4587,45,7135,81,996,178,7046,66,15887,166,16013,127,6201,94,2254,176,2926,46,3506,81]
[null,"White",5107,108,4460,123,7066,105,964,150,6834,156,15394,233,15451,239,6042,139,1971,176,2804,122,3402,96]
[null,"Black",26,40,0,11,0,16,32,68,0,16,82,91,96,129,28,47,49,46,16,20,31,43]
[null,"American Indian",35,46,0,11,0,16,0,11,46,40,10,15,19,23,0,16,7,10,0,11,22,31]
[null,"Asian &Pacific Is.",19,33.120990323358392,69,75.802374632988901,0,22.627416997969522,0,15.556349186104045,157,130.98091464026353,115,75.186434946737563,147,114.27160627207444,29,35.777087639996637,66,82.734515167492219,47,48.332183894378289,18,21.095023109728988]
[null,"Other*",46,54.203320931470607,58,53.150729063673246,69,75.709972922990801,0,15.556349186104045,9,24.083189157584592,286,142.35167719419397,300,173.08090593707902,102,70.83078426785913,161,91.662424144247893,59,61,33,29.154759474226502]
[null,"Hispanic or Latino:",34,45,28,41,140,80,4,7,65,61,350,165,158,123,133,84,22,23,47,43,49,78]
[]
[]
[]
["Calculated B03002. HISPANIC OR LATINO ORIGIN BY RACE"]
["Universe:  TOTAL POPULATION"]
["Data Set: 2008-2012 American Community Survey 5-Year Estimates"]
[]
[null,null,"Alton",null,"Barnstead",null,"Belmont",null,"Center Harbor",null,"Gilford",null,"Gilmanton",null,"Laconia",null,"Meredith",null,"New Hampton",null,"Sanbornton",null,"Tilton"]
[null," ","Estimate","Margin of Error","Estimate","Margin of Error","Estimate","Margin of Error","Estimate","Margin of Error","Estimate","Margin of Error","Estimate","Margin of Error","Estimate","Margin of Error","Estimate","Margin of Error","Estimate","Margin of Error","Estimate","Margin of Error","Estimate","Margin of Error"]
[null,"Total:",5240,16,4586,23,7345,19,1034,141,7140,20,3761,26,16062,22,6260,30,2234,144,2958,18,3586,22]
[null,"Not Hispanic or Latino:",5231,22,4555,38,7113,110,1011,142,7082,58,3752,29,15844,110,6229,50,2229,143,2871,72,3519,67]
[null,"White",5025,130,4441,123,6674,258,976,143,6952,139,3636,81,15223,225,6130,101,2128,145,2855,79,3466,76]
[null,"Black",70,107,0,11,180,143,0,11,30,56,0,11,44,60,25,49,0,11,0,11,0,11]
[null,"American Indian",0,16,0,11,15,25,0,11,0,16,0,11,50,81,0,16,0,11,16,24,0,11]
[null,"Asian &Pacific Is.",69,52.497618993626752,0,15.556349186104045,131,128.99612397277679,27,31.953090617340916,49,79.624116949577527,29,48.270073544588683,259,141.15239990875111,64,66.940271884718243,34,53.150729063673246,0,15.556349186104045,18,21.95449840010015]
[null,"Other*",67,67.911707385398586,114,111.54371340420759,113,135.94484175576505,8,17.804493814764857,51,67.911707385398586,87,76.694197955256044,268,148.03040228277433,10,23.345235059857504,67,35.735136770411273,0,15.556349186104045,35,43.416586692184822]
[null,"Hispanic or Latino:",9,16,31,30,232,107,23,29,58,53,9,16,218,109,31,38,5,8,87,72,67,59]

{"sheet":"RentalHousingCost","index":52,"n_rows":124,"n_cols":21,"rows_kept":124,"cut":false,"hidden":true,"merged":[]}
[]
[null,null,"HIDE THIS COLUMN",{"$f":"CntyDataLink!A70","v":"Laconia"}]
[]
[null,null,null,"RENTAL HOUSING COST CHARACTERISTICS"]
[]
[]
[]
[]
[]
[]
[]
[]
[]
[]
[]
[]
[]
[]
[]
[]
[]
[]
[]
[]
[]
[]
[]
[]
[]
[]
[]
[]
[]
[]
[]
[]
[]
[]
[null,null,null,"Source:  2018-2022 American Community Survey Table B25074"]
[]
[null,null,null,"Income in 2022 Inflation Adjusted Dollars"]
[null,null,null,"Data from the American Community Survey are estimates"]
[null,null,null,{"$f":"CntyDataLink!A70","v":"Laconia"}]
[]
[null,null,null,{"$f":"D4","v":"RENTAL HOUSING COST CHARACTERISTICS"}]
[]
[null,null,null,"Renter Households by "]
[null,null,null,"Gross Rent as a Percent of 2022 Household Income"]
[null,null,null,null,null,null,"By Household Income"]
[null,null,{"$f":"CntyDataLink!AO$69","v":"H73RenterOccHU"},null,"Specified Renter Occ Housing Units",{"$f":"\"Margin of Error Renter Occupied Units\"","v":"Margin of Error Renter Occupied Units"},null,"Less than $10,000",{"$f":"\"Margin of Error \"&H50","v":"Margin of Error Less than $10,000"},"$10,000 to $19,999",{"$f":"\"Margin of Error \"&J50","v":"Margin of Error $10,000 to $19,999"},"$20,000 to $34,999",{"$f":"\"Margin of Error \"&L50","v":"Margin of Error $20,000 to $34,999"},"$35,000 to $49,999",{"$f":"\"Margin of Error \"&N50","v":"Margin of Error $35,000 to $49,999"},"$50,000 to $74,999",{"$f":"\"Margin of Error \"&P50","v":"Margin of Error $50,000 to $74,999"},"$75,000 to $99,999",{"$f":"\"Margin of Error \"&R50","v":"Margin of Error $75,000 to $99,999"},"$100,000 or More",{"$f":"\"Margin of Error \"&T50","v":"Margin of Error $100,000 or More"}]
[]
[null,null,null,"All Renter Households",{"$f":"CntyDataLink!$B$156","v":2870},{"$f":"CntyDataLink!$C$156","v":417},null,{"$f":"CntyDataLink!$BH$148","v":188},{"$f":"CntyDataLink!$BI$148","v":143},{"$f":"CntyDataLink!$BZ$148","v":451},{"$f":"CntyDataLink!$CA$148","v":185},{"$f":"CntyDataLink!$CR$148","v":513},{"$f":"CntyDataLink!$CS$148","v":185},{"$f":"CntyDataLink!$DJ$148","v":470},{"$f":"CntyDataLink!$DK$148","v":0},{"$f":"CntyDataLink!$EB$148","v":0},{"$f":"CntyDataLink!$EC$148","v":0},{"$f":"CntyDataLink!$ET$148","v":0},{"$f":"CntyDataLink!$EU$148","v":0},{"$f":"CntyDataLink!$FL$148","v":0},{"$f":"CntyDataLink!$FM$148","v":0}]
[null,null,null,"Rent Less than 20% of HH Income",{"$f":"CntyDataLink!$D$156","v":632},{"$f":"CntyDataLink!$E$156","v":234.02777612924496},null,{"$f":"CntyDataLink!$BJ$148","v":0},{"$f":"CntyDataLink!$BK$148","v":19},{"$f":"CntyDataLink!$CB$148","v":0},{"$f":"CntyDataLink!$CC$148","v":19},{"$f":"CntyDataLink!$CT$148","v":21},{"$f":"CntyDataLink!$CU$148","v":34},{"$f":"CntyDataLink!$DL$148","v":0},{"$f":"CntyDataLink!$DM$148","v":0},{"$f":"CntyDataLink!$ED$148","v":0},{"$f":"CntyDataLink!$EE$148","v":0},{"$f":"CntyDataLink!$EV$148","v":0},{"$f":"CntyDataLink!$EW$148","v":0},{"$f":"CntyDataLink!$FN$148","v":0},{"$f":"CntyDataLink!$FO$148","v":0}]
[null,null,null,"Rent 20% to 24.9% of HH Income",{"$f":"CntyDataLink!$F$156","v":407},{"$f":"CntyDataLink!$G$156","v":169},null,{"$f":"CntyDataLink!$BL$148","v":0},{"$f":"CntyDataLink!$BM$148","v":19},{"$f":"CntyDataLink!$CD$148","v":34},{"$f":"CntyDataLink!$CE$148","v":51},{"$f":"CntyDataLink!$CV$148","v":17},{"$f":"CntyDataLink!$CW$148","v":26},{"$f":"CntyDataLink!$DN$148","v":0},{"$f":"CntyDataLink!$DO$148","v":0},{"$f":"CntyDataLink!$EF$148","v":0},{"$f":"CntyDataLink!$EG$148","v":0},{"$f":"CntyDataLink!$EX$148","v":0},{"$f":"CntyDataLink!$EY$148","v":0},{"$f":"CntyDataLink!$FP$148","v":0},{"$f":"CntyDataLink!$FQ$148","v":0}]
[null,null,null,"Rent 25% to 29.9% of HH Income",{"$f":"CntyDataLink!$H$156","v":308},{"$f":"CntyDataLink!$I$156","v":166},null,{"$f":"CntyDataLink!$BN$148","v":0},{"$f":"CntyDataLink!$BO$148","v":19},{"$f":"CntyDataLink!$CF$148","v":35},{"$f":"CntyDataLink!$CG$148","v":47},{"$f":"CntyDataLink!$CX$148","v":0},{"$f":"CntyDataLink!$CY$148","v":19},{"$f":"CntyDataLink!$DP$148","v":0},{"$f":"CntyDataLink!$DQ$148","v":0},{"$f":"CntyDataLink!$EH$148","v":0},{"$f":"CntyDataLink!$EI$148","v":0},{"$f":"CntyDataLink!$EZ$148","v":0},{"$f":"CntyDataLink!$FA$148","v":0},{"$f":"CntyDataLink!$FR$148","v":0},{"$f":"CntyDataLink!$FS$148","v":0}]
[null,null,null,"Rent Less Than 30% of HH Income",{"$f":"CntyDataLink!$J$156","v":1347},{"$f":"CntyDataLink!$K$156","v":332.9954954650288},null,{"$f":"SUM(H53:H55)","v":0},{"$f":"SQRT((I53^2)+(I54^2)+(I55^2))","v":32.908965343808667},{"$f":"SUM(J53:J55)","v":69},{"$f":"SQRT((K53^2)+(K54^2)+(K55^2))","v":71.909665553387185},{"$f":"SUM(L53:L55)","v":38},{"$f":"SQRT((M53^2)+(M54^2)+(M55^2))","v":46.82947789587238},{"$f":"SUM(N53:N55)","v":0},{"$f":"SQRT((O53^2)+(O54^2)+(O55^2))","v":0},{"$f":"SUM(P53:P55)","v":0},{"$f":"SQRT((Q53^2)+(Q54^2)+(Q55^2))","v":0},{"$f":"SUM(R53:R55)","v":0},{"$f":"SQRT((S53^2)+(S54^2)+(S55^2))","v":0},{"$f":"SUM(T53:T55)","v":0},{"$f":"SQRT((U53^2)+(U54^2)+(U55^2))","v":0}]
[null,null,null,"Rent 30% or More of HH Income",{"$f":"CntyDataLink!$L$156","v":1428},{"$f":"CntyDataLink!$M$156","v":326.44141894067303},null,{"$f":"H60+H58","v":175},{"$f":"SQRT((I58^2)+(I60^2))","v":137.98188286873028},{"$f":"J60+J58","v":350},{"$f":"SQRT((K58^2)+(K60^2))","v":153.47964034359737},{"$f":"L60+L58","v":467},{"$f":"SQRT((M58^2)+(M60^2))","v":169.74981590564391},{"$f":"N60+N58","v":{"$error":"#VALUE!"}},{"$f":"SQRT((O58^2)+(O60^2))","v":{"$error":"#VALUE!"}},0,{"$f":"SQRT((Q58^2)+(Q60^2))","v":0},{"$f":"R60+R58","v":0},{"$f":"SQRT((S58^2)+(S60^2))","v":0},0,{"$f":"SQRT((U58^2)+(U60^2))","v":0}]
[null,null,null,"Rent 30% to 34.9% of HH Income",{"$f":"CntyDataLink!$N$156","v":188},{"$f":"CntyDataLink!$O$156","v":115},null,{"$f":"CntyDataLink!$BP$148","v":0},{"$f":"CntyDataLink!$BQ$148","v":19},{"$f":"CntyDataLink!$CH$148","v":0},{"$f":"CntyDataLink!$CI$148","v":19},{"$f":"CntyDataLink!$CZ$148","v":0},{"$f":"CntyDataLink!$DA$148","v":19},{"$f":"CntyDataLink!$DR$148","v":0},{"$f":"CntyDataLink!$DS$148","v":0},{"$f":"CntyDataLink!$EJ$148","v":0},{"$f":"CntyDataLink!$EK$148","v":0},{"$f":"CntyDataLink!$FB$148","v":0},{"$f":"CntyDataLink!$FC$148","v":0},{"$f":"CntyDataLink!$FT$148","v":0},{"$f":"CntyDataLink!$FU$148","v":0}]
[null,null,null,"Rent Less Than 35% of HH Income",{"$f":"CntyDataLink!$P$156","v":1535},{"$f":"CntyDataLink!$Q$156","v":352.29391138650124},null,{"$f":"SUM(H56,H58)","v":0},{"$f":"SQRT((I56^2)+(I58^2))","v":38},{"$f":"SUM(J56,J58)","v":69},{"$f":"SQRT((K56^2)+(K58^2))","v":74.377415927148206},{"$f":"SUM(L56,L58)","v":38},{"$f":"SQRT((M56^2)+(M58^2))","v":50.537115073973112},0,0,0,{"$f":"SQRT((Q58^2)+(Q56^2))","v":0},{"$f":"SUM(R56,R58)","v":0},{"$f":"SQRT((S58^2)+(S56^2))","v":0},0,{"$f":"SQRT((U58^2)+(U56^2))","v":0}]
[null,null,null,"Rent 35% or More of HH Income",{"$f":"CntyDataLink!$R$156","v":1240},{"$f":"CntyDataLink!$S$156","v":305.51432044995863},null,{"$f":"CntyDataLink!$BR$148+CntyDataLink!$BT$148+CntyDataLink!$BV$148","v":175},{"$f":"SQRT((CntyDataLink!$BS$148^2)+(CntyDataLink!$BU$148^2)+(CntyDataLink!$BW$148^2))","v":136.66747967237853},{"$f":"CntyDataLink!$CJ$148+CntyDataLink!$CL$148+CntyDataLink!$CN$148","v":350},{"$f":"SQRT((CntyDataLink!$CK$148^2)+(CntyDataLink!$CM$148^2)+(CntyDataLink!$CO$148^2))","v":152.29904792873788},{"$f":"CntyDataLink!$DB$148+CntyDataLink!$DD$148+CntyDataLink!$DF$148","v":467},{"$f":"SQRT((CntyDataLink!$DC$148^2)+(CntyDataLink!$DE$148^2)+(CntyDataLink!$DG$148^2))","v":168.68313490091415},{"$f":"CntyDataLink!$DT$148+CntyDataLink!$DV$148+CntyDataLink!$DX$148","v":{"$error":"#VALUE!"}},{"$f":"SQRT((CntyDataLink!$DU$148^2)+(CntyDataLink!$DW$148^2)+(CntyDataLink!$DY$148^2))","v":{"$error":"#VALUE!"}},{"$f":"CntyDataLink!$EL$148+CntyDataLink!$EN$148+CntyDataLink!$EP$148","v":0},{"$f":"SQRT((CntyDataLink!$EM$148^2)+(CntyDataLink!$EO$148^2)+(CntyDataLink!$EQ$148^2))","v":0},{"$f":"CntyDataLink!$FD$148+CntyDataLink!$FF$148+CntyDataLink!$FH$148","v":0},{"$f":"SQRT((CntyDataLink!$FE$148^2)+(CntyDataLink!$FG$148^2)+(CntyDataLink!$FI$148^2))","v":0},{"$f":"CntyDataLink!$FV$148+CntyDataLink!$FX$148+CntyDataLink!$FZ$148","v":0},{"$f":"SQRT((CntyDataLink!$FW$148^2)+(CntyDataLink!$FY$148^2)+(CntyDataLink!$GA$148^2))","v":0}]
[null,null,null,"Rent 50% or More of HH Income",{"$f":"CntyDataLink!$T$156","v":724},{"$f":"CntyDataLink!$U$156","v":205},null,{"$f":"CntyDataLink!$BV$148","v":175},{"$f":"CntyDataLink!$BW$148","v":134},{"$f":"CntyDataLink!$CN$148","v":329},{"$f":"CntyDataLink!$CO$148","v":147},{"$f":"CntyDataLink!$DF$148","v":191},{"$f":"CntyDataLink!$DG$148","v":111},{"$f":"CntyDataLink!$DX$148","v":"Estimate"},{"$f":"CntyDataLink!$DY$148","v":"Margin of Error"},{"$f":"CntyDataLink!$EP$148","v":0},{"$f":"CntyDataLink!$EQ$148","v":0},{"$f":"CntyDataLink!$FH$148","v":0},{"$f":"CntyDataLink!$FI$148","v":0},{"$f":"CntyDataLink!$FZ$148","v":0},{"$f":"CntyDataLink!$GA$148","v":0}]
[null,null,null,"Percent not computed",{"$f":"CntyDataLink!$V$156","v":95},{"$f":"CntyDataLink!$W$156","v":57},null,{"$f":"CntyDataLink!$BX$148","v":13},{"$f":"CntyDataLink!$BY$148","v":20},{"$f":"CntyDataLink!$CP$148","v":32},{"$f":"CntyDataLink!$CQ$148","v":29},{"$f":"CntyDataLink!$DH$148","v":8},{"$f":"CntyDataLink!$DI$148","v":12},{"$f":"CntyDataLink!$DZ$148","v":834},{"$f":"CntyDataLink!$EA$148","v":41},{"$f":"CntyDataLink!$ER$148","v":0},{"$f":"CntyDataLink!$ES$148","v":0},{"$f":"CntyDataLink!$FJ$148","v":0},{"$f":"CntyDataLink!$FK$148","v":0},{"$f":"CntyDataLink!$GB$148","v":0},{"$f":"CntyDataLink!$GC148","v":0}]
[]
[]
[]
[null,null,null,"Percent of Households Paying ",null,null,null,"By Household Income"]
[null,null,null,{"$f":"D56","v":"Rent Less Than 30% of HH Income"},{"$f":"E56/E$52","v":0.46933797909407665},null,null,{"$f":"H56/H$52","v":0},null,{"$f":"J56/J$52","v":0.15299334811529933},null,{"$f":"L56/L$52","v":7.407407407407407E-2},null,{"$f":"N56/N$52","v":0},null,{"$f":"P56/P$52","v":{"$error":"#DIV/0!"}},null,{"$f":"R56/R$52","v":{"$error":"#DIV/0!"}},null,{"$f":"T56/T$52","v":{"$error":"#DIV/0!"}}]
[null,null,null,{"$f":"D57","v":"Rent 30% or More of HH Income"},{"$f":"E57/E$52","v":0.4975609756097561},null,null,{"$f":"H57/H$52","v":0.93085106382978722},null,{"$f":"J57/J$52","v":0.77605321507760527},null,{"$f":"L57/L$52","v":0.91033138401559455},null,{"$f":"N57/N$52","v":{"$error":"#VALUE!"}},null,{"$f":"P57/P$52","v":{"$error":"#DIV/0!"}},null,{"$f":"R57/R$52","v":{"$error":"#DIV/0!"}},null,{"$f":"T57/T$52","v":{"$error":"#DIV/0!"}}]
[null,null,null,{"$f":"D59","v":"Rent Less Than 35% of HH Income"},{"$f":"E59/E$52","v":0.53484320557491294},null,null,{"$f":"H59/H$52","v":0},null,{"$f":"J59/J$52","v":0.15299334811529933},null,{"$f":"L59/L$52","v":7.407407407407407E-2},null,{"$f":"N59/N$52","v":0},null,{"$f":"P59/P$52","v":{"$error":"#DIV/0!"}},null,{"$f":"R59/R$52","v":{"$error":"#DIV/0!"}},null,{"$f":"T59/T$52","v":{"$error":"#DIV/0!"}}]
[null,null,null,{"$f":"D60","v":"Rent 35% or More of HH Income"},{"$f":"E60/E$52","v":0.43205574912891986},null,null,{"$f":"H60/H$52","v":0.93085106382978722},null,{"$f":"J60/J$52","v":0.77605321507760527},null,{"$f":"L60/L$52","v":0.91033138401559455},null,{"$f":"N60/N$52","v":{"$error":"#VALUE!"}},null,{"$f":"P60/P$52","v":{"$error":"#DIV/0!"}},null,{"$f":"R60/R$52","v":{"$error":"#DIV/0!"}},null,{"$f":"T60/T$52","v":{"$error":"#DIV/0!"}}]
[null,null,null,"Rent 50% or More of HH Income",{"$f":"E61/E$52","v":0.25226480836236936},null,null,{"$f":"H61/H$52","v":0.93085106382978722},null,{"$f":"J61/J$52","v":0.729490022172949},null,{"$f":"L61/L$52","v":0.37231968810916177},null,{"$f":"N61/N$52","v":{"$error":"#VALUE!"}},null,{"$f":"P61/P$52","v":{"$error":"#DIV/0!"}},null,{"$f":"R61/R$52","v":{"$error":"#DIV/0!"}},null,{"$f":"T61/T$52","v":{"$error":"#DIV/0!"}}]
[null,null,null,"Percent not computed",{"$f":"E62/E$52","v":3.3101045296167246E-2},null,null,{"$f":"H62/H$52","v":6.9148936170212769E-2},null,{"$f":"J62/J$52","v":7.0953436807095344E-2},null,{"$f":"L62/L$52","v":1.5594541910331383E-2},null,{"$f":"N62/N$52","v":1.774468085106383},null,{"$f":"P62/P$52","v":{"$error":"#DIV/0!"}},null,{"$f":"R62/R$52","v":{"$error":"#DIV/0!"}},null,{"$f":"T62/T$52","v":{"$error":"#DIV/0!"}}]
[]
[]
[null,null,null,"Source:  2018-2022 American Community Survey Table B25070; B25074"]
[]
[null,null,null,{"$f":"D41","v":"Income in 2022 Inflation Adjusted Dollars"}]
[null,null,null,"Data from the American Community Survey are estimates"]
[]
[null,null,null,{"$f":"CntyDataLink!A70","v":"Laconia"}]
[null,null,null,{"$f":"D4","v":"RENTAL HOUSING COST CHARACTERISTICS"}]
[]
[null,null,null,"Rental Housing Costs"]
[]
[null,null,null,"Renter Occupied Housing Units By Gross Rent "]
[]
[null,null,null,null,"Units","Margin of Error"]
[null,null,{"$f":"CntyDataLink!E$69","v":"H62RntrOccHU"},"Specified Renter Occ Housing Units",{"$f":"CntyDataLink!$B$148","v":2870},{"$f":"CntyDataLink!$C$148","v":417}]
[null,null,{"$f":"CntyDataLink!F$69","v":"H62RntrOccHUwRent"},"Renter Occ. Housing Units w/ Cash Rent",{"$f":"CntyDataLink!$D$148","v":2788},{"$f":"CntyDataLink!$E$148","v":412}]
[]
[null,null,{"$f":"CntyDataLink!G$69","v":"H62ROHUGRent<100"},"Gross Rent","Units","Margin of Error 2018-2022"]
[null,null,{"$f":"CntyDataLink!H$69","v":"H62ROHUGRent100to149"},"Less than $100",{"$f":"CntyDataLink!$F$148","v":0},{"$f":"CntyDataLink!$G$148","v":19}]
[null,null,{"$f":"CntyDataLink!I$69","v":"H62ROHUGRent150to199"},"$100 to $149",{"$f":"CntyDataLink!$H$148","v":13},{"$f":"CntyDataLink!$I$148","v":20}]
[null,null,{"$f":"CntyDataLink!J$69","v":"H62ROHUGRent200to249"},"$150 to $199",{"$f":"CntyDataLink!J$148","v":0},{"$f":"CntyDataLink!$K$148","v":19}]
[null,null,{"$f":"CntyDataLink!K$69","v":"H62ROHUGRent250to299"},"$200 to $249",{"$f":"CntyDataLink!$L$148","v":28},{"$f":"CntyDataLink!$M$148","v":48}]
[null,null,{"$f":"CntyDataLink!L$69","v":"H62ROHUGRent300to349"},"$250 to $299",{"$f":"CntyDataLink!$N$148","v":8},{"$f":"CntyDataLink!$O$148","v":13}]
[null,null,{"$f":"CntyDataLink!M$69","v":"H62ROHUGRent350to399"},"$300 to $349",{"$f":"CntyDataLink!$P$148","v":6},{"$f":"CntyDataLink!$Q$148","v":11}]
[null,null,{"$f":"CntyDataLink!N$69","v":"H62ROHUGRent400to449"},"$350 to $399",{"$f":"CntyDataLink!$R$148","v":33},{"$f":"CntyDataLink!$S$148","v":47}]
[null,null,{"$f":"CntyDataLink!O$69","v":"H62ROHUGRent450to499"},"$400 to $449",{"$f":"CntyDataLink!$T$148","v":21},{"$f":"CntyDataLink!$U$148","v":35}]
[null,null,{"$f":"CntyDataLink!P$69","v":"H62ROHUGRent500to549"},"$450 to $499",{"$f":"CntyDataLink!$V$148","v":21},{"$f":"CntyDataLink!$W$148","v":27}]
[null,null,{"$f":"CntyDataLink!Q$69","v":"H62ROHUGRent550to599"},"$500 to $549",{"$f":"CntyDataLink!$X$148","v":21},{"$f":"CntyDataLink!$Y$148","v":34}]
[null,null,{"$f":"CntyDataLink!R$69","v":"H62ROHUGRent600to649"},"$550 to $599",{"$f":"CntyDataLink!$Z$148","v":14},{"$f":"CntyDataLink!$AA$148","v":19}]
[null,null,{"$f":"CntyDataLink!S$69","v":"H62ROHUGRent650to699"},"$600 to $649",{"$f":"CntyDataLink!$AB$148","v":1},{"$f":"CntyDataLink!$AC$148","v":2}]
[null,null,{"$f":"CntyDataLink!T$69","v":"H62ROHUGRent700to749"},"$650 to $699",{"$f":"CntyDataLink!$AD$148","v":0},{"$f":"CntyDataLink!$AE$148","v":19}]
[null,null,{"$f":"CntyDataLink!U$69","v":"H62ROHUGRent750to799"},"$700 to $749",{"$f":"CntyDataLink!$AF$148","v":19},{"$f":"CntyDataLink!$AG$148","v":25}]
[null,null,{"$f":"CntyDataLink!V$69","v":"H62ROHUGRent800to899"},"$750 to $799",{"$f":"CntyDataLink!$AH$148","v":170},{"$f":"CntyDataLink!$AI$148","v":129}]
[null,null,{"$f":"CntyDataLink!W$69","v":"H62ROHUGRent900to999"},"$800 to $899",{"$f":"CntyDataLink!$AJ$148","v":314},{"$f":"CntyDataLink!$AK$148","v":188}]
[null,null,{"$f":"CntyDataLink!X$69","v":"H62ROHUGRent1000to1249"},"$900 to $999",{"$f":"CntyDataLink!$AL$148","v":285},{"$f":"CntyDataLink!$AM$148","v":175}]
[null,null,{"$f":"CntyDataLink!Y$69","v":"H62ROHUGRent1250to1499"},"$1000 to $1249",{"$f":"CntyDataLink!$AN$148","v":676},{"$f":"CntyDataLink!$AO$148","v":178}]
[null,null,{"$f":"CntyDataLink!Z$69","v":"H62ROHUGRent1500to1999"},"$1250 to $1499",{"$f":"CntyDataLink!$AP$148","v":375},{"$f":"CntyDataLink!$AQ$148","v":186}]
[null,null,{"$f":"CntyDataLink!AA$69","v":"H62ROHUGRent2000>"},"$1500 to $1999",{"$f":"CntyDataLink!$AR$148","v":703},{"$f":"CntyDataLink!$AS$148","v":267}]
[null,null,{"$f":"CntyDataLink!AB$69","v":"H62ROHUNoGRent"},"$2,000 to $2,499",{"$f":"CntyDataLink!$AT$148","v":51},{"$f":"CntyDataLink!$AU$148","v":45}]
[null,null,{"$f":"CntyDataLink!AC$69","v":"H63MedianGrossRnt"},"$2,500 to $2,999",{"$f":"CntyDataLink!$AV$148","v":29},{"$f":"CntyDataLink!$AW$148","v":38}]
[null,null,null,"$3,000 to $3,499",{"$f":"CntyDataLink!$AX$148","v":0},{"$f":"CntyDataLink!$AY$148","v":19}]
[null,null,null,"$3,500 or more",{"$f":"CntyDataLink!$AZ$148","v":0},{"$f":"CntyDataLink!$BA$148","v":19}]
[null,null,null,"Renter Occ. Housing Units w/ No Cash Rent",{"$f":"CntyDataLink!$BB$148","v":82},{"$f":"CntyDataLink!$BC$148","v":56}]
[]
[null,null,null,"Median Gross Rent",{"$f":"CntyDataLink!$BD$148","v":1163},{"$f":"CntyDataLink!$BE$148","v":99}]
[]
[]
[]
[]
[null,null,null,"Source: 2018-2022 American Community Survey Table B25063; B25064"]
[null,null,null,"Data from the American Community Survey are estimates"]

{"sheet":"RentalHousingCost-Prior5Yr","index":53,"n_rows":125,"n_cols":21,"rows_kept":125,"cut":false,"hidden":true,"merged":[]}
[]
[null,null,"HIDE THIS COLUMN",{"$f":"CntyDataLinkPrior5YearEstimates!A120","v":"Laconia"}]
[]
[null,null,null,"RENTAL HOUSING COST CHARACTERISTICS"]
[]
[]
[]
[]
[]
[]
[]
[]
[]
[]
[]
[]
[]
[]
[]
[]
[]
[]
[]
[]
[]
[]
[]
[]
[]
[]
[]
[]
[]
[]
[]
[]
[]
[]
[null,null,null,"Source:  2013-2017 American Community Survey Table B25074"]
[]
[null,null,null,"Income in 2017 Inflation Adjusted Dollars"]
[null,null,null,"Data from the American Community Survey are estimates"]
[null,null,null,{"$f":"CntyDataLinkPrior5YearEstimates!A120","v":"Laconia"}]
[]
[null,null,null,{"$f":"D4","v":"RENTAL HOUSING COST CHARACTERISTICS"}]
[]
[null,null,null,"Renter Households by "]
[null,null,null,"Gross Rent as a Percent of 2017 Household Income"]
[null,null,null,null,null,null,"By Household Income"]
[null,null,{"$f":"CntyDataLinkPrior5YearEstimates!AO$69","v":0},null,"Specified Renter Occ Housing Units",{"$f":"\"Margin of Error Renter Occupied Units\"","v":"Margin of Error Renter Occupied Units"},null,"Less than $10,000",{"$f":"\"Margin of Error \"&H50","v":"Margin of Error Less than $10,000"},"$10,000 to $19,999",{"$f":"\"Margin of Error \"&J50","v":"Margin of Error $10,000 to $19,999"},"$20,000 to $34,999",{"$f":"\"Margin of Error \"&L50","v":"Margin of Error $20,000 to $34,999"},"$35,000 to $49,999",{"$f":"\"Margin of Error \"&N50","v":"Margin of Error $35,000 to $49,999"},"$50,000 to $74,999",{"$f":"\"Margin of Error \"&P50","v":"Margin of Error $50,000 to $74,999"},"$75,000 to $99,999",{"$f":"\"Margin of Error \"&R50","v":"Margin of Error $75,000 to $99,999"},"$100,000 or More",{"$f":"\"Margin of Error \"&T50","v":"Margin of Error $100,000 or More"}]
[]
[null,null,null,"All Renter Households",{"$f":"CntyDataLinkPrior5YearEstimates!$B$156","v":3090},{"$f":"CntyDataLinkPrior5YearEstimates!$C$156","v":253},null,{"$f":"CntyDataLinkPrior5YearEstimates!$BH$148","v":290},{"$f":"CntyDataLinkPrior5YearEstimates!$BI$148","v":110},{"$f":"CntyDataLinkPrior5YearEstimates!$BZ$148","v":656},{"$f":"CntyDataLinkPrior5YearEstimates!$CA$148","v":173},{"$f":"CntyDataLinkPrior5YearEstimates!$CR$148","v":802},{"$f":"CntyDataLinkPrior5YearEstimates!$CS$148","v":197},{"$f":"CntyDataLinkPrior5YearEstimates!$DJ$148","v":496},{"$f":"CntyDataLinkPrior5YearEstimates!$DK$148","v":195},{"$f":"CntyDataLinkPrior5YearEstimates!$EB$148","v":444},{"$f":"CntyDataLinkPrior5YearEstimates!$EC$148","v":154},{"$f":"CntyDataLinkPrior5YearEstimates!$ET$148","v":157},{"$f":"CntyDataLinkPrior5YearEstimates!$EU$148","v":88},{"$f":"CntyDataLinkPrior5YearEstimates!$FL$148","v":245},{"$f":"CntyDataLinkPrior5YearEstimates!$FM$148","v":133}]
[null,null,null,"Rent Less than 20% of HH Income",{"$f":"CntyDataLinkPrior5YearEstimates!$D$156","v":740},{"$f":"CntyDataLinkPrior5YearEstimates!$E$156","v":222.40953216982405},null,{"$f":"CntyDataLinkPrior5YearEstimates!$BJ$148","v":0},{"$f":"CntyDataLinkPrior5YearEstimates!$BK$148","v":17},{"$f":"CntyDataLinkPrior5YearEstimates!$CB$148","v":35},{"$f":"CntyDataLinkPrior5YearEstimates!$CC$148","v":42},{"$f":"CntyDataLinkPrior5YearEstimates!$CT$148","v":42},{"$f":"CntyDataLinkPrior5YearEstimates!$CU$148","v":45},{"$f":"CntyDataLinkPrior5YearEstimates!$DL$148","v":17},{"$f":"CntyDataLinkPrior5YearEstimates!$DM$148","v":20},{"$f":"CntyDataLinkPrior5YearEstimates!$ED$148","v":293},{"$f":"CntyDataLinkPrior5YearEstimates!$EE$148","v":145},{"$f":"CntyDataLinkPrior5YearEstimates!$EV$148","v":131},{"$f":"CntyDataLinkPrior5YearEstimates!$EW$148","v":83},{"$f":"CntyDataLinkPrior5YearEstimates!$FN$148","v":222},{"$f":"CntyDataLinkPrior5YearEstimates!$FO$148","v":131}]
[null,null,null,"Rent 20% to 24.9% of HH Income",{"$f":"CntyDataLinkPrior5YearEstimates!$F$156","v":339},{"$f":"CntyDataLinkPrior5YearEstimates!$G$156","v":150},null,{"$f":"CntyDataLinkPrior5YearEstimates!$BL$148","v":16},{"$f":"CntyDataLinkPrior5YearEstimates!$BM$148","v":25},{"$f":"CntyDataLinkPrior5YearEstimates!$CD$148","v":12},{"$f":"CntyDataLinkPrior5YearEstimates!$CE$148","v":19},{"$f":"CntyDataLinkPrior5YearEstimates!$CV$148","v":32},{"$f":"CntyDataLinkPrior5YearEstimates!$CW$148","v":31},{"$f":"CntyDataLinkPrior5YearEstimates!$DN$148","v":182},{"$f":"CntyDataLinkPrior5YearEstimates!$DO$148","v":138},{"$f":"CntyDataLinkPrior5YearEstimates!$EF$148","v":78},{"$f":"CntyDataLinkPrior5YearEstimates!$EG$148","v":58},{"$f":"CntyDataLinkPrior5YearEstimates!$EX$148","v":12},{"$f":"CntyDataLinkPrior5YearEstimates!$EY$148","v":19},{"$f":"CntyDataLinkPrior5YearEstimates!$FP$148","v":7},{"$f":"CntyDataLinkPrior5YearEstimates!$FQ$148","v":12}]
[null,null,null,"Rent 25% to 29.9% of HH Income",{"$f":"CntyDataLinkPrior5YearEstimates!$H$156","v":380},{"$f":"CntyDataLinkPrior5YearEstimates!$I$156","v":165},null,{"$f":"CntyDataLinkPrior5YearEstimates!$BN$148","v":30},{"$f":"CntyDataLinkPrior5YearEstimates!$BO$148","v":27},{"$f":"CntyDataLinkPrior5YearEstimates!$CF$148","v":57},{"$f":"CntyDataLinkPrior5YearEstimates!$CG$148","v":55},{"$f":"CntyDataLinkPrior5YearEstimates!$CX$148","v":44},{"$f":"CntyDataLinkPrior5YearEstimates!$CY$148","v":32},{"$f":"CntyDataLinkPrior5YearEstimates!$DP$148","v":189},{"$f":"CntyDataLinkPrior5YearEstimates!$DQ$148","v":132},{"$f":"CntyDataLinkPrior5YearEstimates!$EH$148","v":44},{"$f":"CntyDataLinkPrior5YearEstimates!$EI$148","v":34},{"$f":"CntyDataLinkPrior5YearEstimates!$EZ$148","v":0},{"$f":"CntyDataLinkPrior5YearEstimates!$FA$148","v":17},{"$f":"CntyDataLinkPrior5YearEstimates!$FR$148","v":16},{"$f":"CntyDataLinkPrior5YearEstimates!$FS$148","v":17}]
[null,null,null,"Rent Less Than 30% of HH Income",{"$f":"CntyDataLinkPrior5YearEstimates!$J$156","v":1459},{"$f":"CntyDataLinkPrior5YearEstimates!$K$156","v":314.94602712210866},null,{"$f":"SUM(H53:H55)","v":46},{"$f":"SQRT((I53^2)+(I54^2)+(I55^2))","v":40.533936399022487},{"$f":"SUM(J53:J55)","v":104},{"$f":"SQRT((K53^2)+(K54^2)+(K55^2))","v":71.763500472036625},{"$f":"SUM(L53:L55)","v":118},{"$f":"SQRT((M53^2)+(M54^2)+(M55^2))","v":63.324560795950255},{"$f":"SUM(N53:N55)","v":388},{"$f":"SQRT((O53^2)+(O54^2)+(O55^2))","v":192.01041638411183},{"$f":"SUM(P53:P55)","v":415},{"$f":"SQRT((Q53^2)+(Q54^2)+(Q55^2))","v":159.8280325850256},{"$f":"SUM(R53:R55)","v":143},{"$f":"SQRT((S53^2)+(S54^2)+(S55^2))","v":86.827415025439976},{"$f":"SUM(T53:T55)","v":245},{"$f":"SQRT((U53^2)+(U54^2)+(U55^2))","v":132.64237633576985}]
[null,null,null,"Rent 30% or More of HH Income",{"$f":"CntyDataLinkPrior5YearEstimates!$L$156","v":1467},{"$f":"CntyDataLinkPrior5YearEstimates!$M$156","v":256.5891657884253},null,{"$f":"H60+H58","v":144},{"$f":"SQRT((I58^2)+(I60^2))","v":78.714674616617714},{"$f":"J60+J58","v":545},{"$f":"SQRT((K58^2)+(K60^2))","v":156.40652160316077},{"$f":"L60+L58","v":661},{"$f":"SQRT((M58^2)+(M60^2))","v":195.55817548750039},{"$f":"N60+N58","v":108},{"$f":"SQRT((O58^2)+(O60^2))","v":50.616202939375057},9,{"$f":"SQRT((Q58^2)+(Q60^2))","v":33.045423283716609},{"$f":"R60+R58","v":0},{"$f":"SQRT((S58^2)+(S60^2))","v":34},0,{"$f":"SQRT((U58^2)+(U60^2))","v":34}]
[null,null,null,"Rent 30% to 34.9% of HH Income",{"$f":"CntyDataLinkPrior5YearEstimates!$N$156","v":86},{"$f":"CntyDataLinkPrior5YearEstimates!$O$156","v":56},null,{"$f":"CntyDataLinkPrior5YearEstimates!$BP$148","v":0},{"$f":"CntyDataLinkPrior5YearEstimates!$BQ$148","v":17},{"$f":"CntyDataLinkPrior5YearEstimates!$CH$148","v":0},{"$f":"CntyDataLinkPrior5YearEstimates!$CI$148","v":17},{"$f":"CntyDataLinkPrior5YearEstimates!$CZ$148","v":52},{"$f":"CntyDataLinkPrior5YearEstimates!$DA$148","v":48},{"$f":"CntyDataLinkPrior5YearEstimates!$DR$148","v":25},{"$f":"CntyDataLinkPrior5YearEstimates!$DS$148","v":21},{"$f":"CntyDataLinkPrior5YearEstimates!$EJ$148","v":9},{"$f":"CntyDataLinkPrior5YearEstimates!$EK$148","v":15},{"$f":"CntyDataLinkPrior5YearEstimates!$FB$148","v":0},{"$f":"CntyDataLinkPrior5YearEstimates!$FC$148","v":17},{"$f":"CntyDataLinkPrior5YearEstimates!$FT$148","v":0},{"$f":"CntyDataLinkPrior5YearEstimates!$FU$148","v":17}]
[null,null,null,"Rent Less Than 35% of HH Income",{"$f":"CntyDataLinkPrior5YearEstimates!$P$156","v":1545},{"$f":"CntyDataLinkPrior5YearEstimates!$Q$156","v":319.88591716422906},null,{"$f":"SUM(H56,H58)","v":46},{"$f":"SQRT((I56^2)+(I58^2))","v":43.954521951671822},{"$f":"SUM(J56,J58)","v":104},{"$f":"SQRT((K56^2)+(K58^2))","v":73.749576269969182},{"$f":"SUM(L56,L58)","v":170},{"$f":"SQRT((M56^2)+(M58^2))","v":79.460682101275722},413,213.01041638411183,424,{"$f":"SQRT((Q58^2)+(Q56^2))","v":160.53037095827071},{"$f":"SUM(R56,R58)","v":143},{"$f":"SQRT((S58^2)+(S56^2))","v":88.475985442378658},245,{"$f":"SQRT((U58^2)+(U56^2))","v":133.72733452813603}]
[null,null,null,"Rent 35% or More of HH Income",{"$f":"CntyDataLinkPrior5YearEstimates!$R$156","v":1381},{"$f":"CntyDataLinkPrior5YearEstimates!$S$156","v":250.40367409445093},null,{"$f":"CntyDataLinkPrior5YearEstimates!$BR$148+CntyDataLinkPrior5YearEstimates!$BT$148+CntyDataLinkPrior5YearEstimates!$BV$148","v":144},{"$f":"SQRT((CntyDataLinkPrior5YearEstimates!$BS$148^2)+(CntyDataLinkPrior5YearEstimates!$BU$148^2)+(CntyDataLinkPrior5YearEstimates!$BW$148^2))","v":76.857010090166796},{"$f":"CntyDataLinkPrior5YearEstimates!$CJ$148+CntyDataLinkPrior5YearEstimates!$CL$148+CntyDataLinkPrior5YearEstimates!$CN$148","v":545},{"$f":"SQRT((CntyDataLinkPrior5YearEstimates!$CK$148^2)+(CntyDataLinkPrior5YearEstimates!$CM$148^2)+(CntyDataLinkPrior5YearEstimates!$CO$148^2))","v":155.47990223819926},{"$f":"CntyDataLinkPrior5YearEstimates!$DB$148+CntyDataLinkPrior5YearEstimates!$DD$148+CntyDataLinkPrior5YearEstimates!$DF$148","v":609},{"$f":"SQRT((CntyDataLinkPrior5YearEstimates!$DC$148^2)+(CntyDataLinkPrior5YearEstimates!$DE$148^2)+(CntyDataLinkPrior5YearEstimates!$DG$148^2))","v":189.57584234284704},{"$f":"CntyDataLinkPrior5YearEstimates!$DT$148+CntyDataLinkPrior5YearEstimates!$DV$148+CntyDataLinkPrior5YearEstimates!$DX$148","v":83},{"$f":"SQRT((CntyDataLinkPrior5YearEstimates!$DU$148^2)+(CntyDataLinkPrior5YearEstimates!$DW$148^2)+(CntyDataLinkPrior5YearEstimates!$DY$148^2))","v":46.054315758677816},{"$f":"CntyDataLinkPrior5YearEstimates!$EL$148+CntyDataLinkPrior5YearEstimates!$EN$148+CntyDataLinkPrior5YearEstimates!$EP$148","v":0},{"$f":"SQRT((CntyDataLinkPrior5YearEstimates!$EM$148^2)+(CntyDataLinkPrior5YearEstimates!$EO$148^2)+(CntyDataLinkPrior5YearEstimates!$EQ$148^2))","v":29.444863728670914},{"$f":"CntyDataLinkPrior5YearEstimates!$FD$148+CntyDataLinkPrior5YearEstimates!$FF$148+CntyDataLinkPrior5YearEstimates!$FH$148","v":0},{"$f":"SQRT((CntyDataLinkPrior5YearEstimates!$FE$148^2)+(CntyDataLinkPrior5YearEstimates!$FG$148^2)+(CntyDataLinkPrior5YearEstimates!$FI$148^2))","v":29.444863728670914},{"$f":"CntyDataLinkPrior5YearEstimates!$FV$148+CntyDataLinkPrior5YearEstimates!$FX$148+CntyDataLinkPrior5YearEstimates!$FZ$148","v":0},{"$f":"SQRT((CntyDataLinkPrior5YearEstimates!$FW$148^2)+(CntyDataLinkPrior5YearEstimates!$FY$148^2)+(CntyDataLinkPrior5YearEstimates!$GA$148^2))","v":29.444863728670914}]
[null,null,null,"Rent 50% or More of HH Income",{"$f":"CntyDataLinkPrior5YearEstimates!$T$156","v":938},{"$f":"CntyDataLinkPrior5YearEstimates!$U$156","v":203},null,{"$f":"CntyDataLinkPrior5YearEstimates!$BV$148","v":144},{"$f":"CntyDataLinkPrior5YearEstimates!$BW$148","v":73},{"$f":"CntyDataLinkPrior5YearEstimates!$CN$148","v":445},{"$f":"CntyDataLinkPrior5YearEstimates!$CO$148","v":141},{"$f":"CntyDataLinkPrior5YearEstimates!$DF$148","v":317},{"$f":"CntyDataLinkPrior5YearEstimates!$DG$148","v":137},{"$f":"CntyDataLinkPrior5YearEstimates!$DX$148","v":32},{"$f":"CntyDataLinkPrior5YearEstimates!$DY$148","v":32},{"$f":"CntyDataLinkPrior5YearEstimates!$EP$148","v":0},{"$f":"CntyDataLinkPrior5YearEstimates!$EQ$148","v":17},{"$f":"CntyDataLinkPrior5YearEstimates!$FH$148","v":0},{"$f":"CntyDataLinkPrior5YearEstimates!$FI$148","v":17},{"$f":"CntyDataLinkPrior5YearEstimates!$FZ$148","v":0},{"$f":"CntyDataLinkPrior5YearEstimates!$GA$148","v":17}]
[null,null,null,"Percent not computed",{"$f":"CntyDataLinkPrior5YearEstimates!$V$156","v":164},{"$f":"CntyDataLinkPrior5YearEstimates!$W$156","v":91},null,{"$f":"CntyDataLinkPrior5YearEstimates!$BX$148","v":100},{"$f":"CntyDataLinkPrior5YearEstimates!$BY$148","v":82},{"$f":"CntyDataLinkPrior5YearEstimates!$CP$148","v":7},{"$f":"CntyDataLinkPrior5YearEstimates!$CQ$148","v":11},{"$f":"CntyDataLinkPrior5YearEstimates!$DH$148","v":23},{"$f":"CntyDataLinkPrior5YearEstimates!$DI$148","v":21},{"$f":"CntyDataLinkPrior5YearEstimates!$DZ$148","v":0},{"$f":"CntyDataLinkPrior5YearEstimates!$EA$148","v":17},{"$f":"CntyDataLinkPrior5YearEstimates!$ER$148","v":20},{"$f":"CntyDataLinkPrior5YearEstimates!$ES$148","v":24},{"$f":"CntyDataLinkPrior5YearEstimates!$FJ$148","v":14},{"$f":"CntyDataLinkPrior5YearEstimates!$FK$148","v":22},{"$f":"CntyDataLinkPrior5YearEstimates!$GB$148","v":0},{"$f":"CntyDataLinkPrior5YearEstimates!$GC148","v":17}]
[]
[]
[null,null,null,"Percent of Households Paying ",null,null,null,"By Household Income"]
[null,null,null,{"$f":"D56","v":"Rent Less Than 30% of HH Income"},{"$f":"E56/E$52","v":0.47216828478964401},null,null,{"$f":"H56/H$52","v":0.15862068965517243},null,{"$f":"J56/J$52","v":0.15853658536585366},null,{"$f":"L56/L$52","v":0.14713216957605985},null,{"$f":"N56/N$52","v":0.782258064516129},null,{"$f":"P56/P$52","v":0.93468468468468469},null,{"$f":"R56/R$52","v":0.91082802547770703},null,{"$f":"T56/T$52","v":1}]
[null,null,null,{"$f":"D57","v":"Rent 30% or More of HH Income"},{"$f":"E57/E$52","v":0.47475728155339808},null,null,{"$f":"H57/H$52","v":0.49655172413793103},null,{"$f":"J57/J$52","v":0.83079268292682928},null,{"$f":"L57/L$52","v":0.82418952618453867},null,{"$f":"N57/N$52","v":0.21774193548387097},null,{"$f":"P57/P$52","v":2.0270270270270271E-2},null,{"$f":"R57/R$52","v":0},null,{"$f":"T57/T$52","v":0}]
[null,null,null,{"$f":"D59","v":"Rent Less Than 35% of HH Income"},{"$f":"E59/E$52","v":0.5},null,null,{"$f":"H59/H$52","v":0.15862068965517243},null,{"$f":"J59/J$52","v":0.15853658536585366},null,{"$f":"L59/L$52","v":0.21197007481296759},null,{"$f":"N59/N$52","v":0.83266129032258063},null,{"$f":"P59/P$52","v":0.95495495495495497},null,{"$f":"R59/R$52","v":0.91082802547770703},null,{"$f":"T59/T$52","v":1}]
[null,null,null,{"$f":"D60","v":"Rent 35% or More of HH Income"},{"$f":"E60/E$52","v":0.44692556634304209},null,null,{"$f":"H60/H$52","v":0.49655172413793103},null,{"$f":"J60/J$52","v":0.83079268292682928},null,{"$f":"L60/L$52","v":0.75935162094763087},null,{"$f":"N60/N$52","v":0.16733870967741934},null,{"$f":"P60/P$52","v":0},null,{"$f":"R60/R$52","v":0},null,{"$f":"T60/T$52","v":0}]
[null,null,null,"Rent 50% or More of HH Income",{"$f":"E61/E$52","v":0.30355987055016181},null,null,{"$f":"H61/H$52","v":0.49655172413793103},null,{"$f":"J61/J$52","v":0.67835365853658536},null,{"$f":"L61/L$52","v":0.39526184538653364},null,{"$f":"N61/N$52","v":6.4516129032258063E-2},null,{"$f":"P61/P$52","v":0},null,{"$f":"R61/R$52","v":0},null,{"$f":"T61/T$52","v":0}]
[null,null,null,"Percent not computed",{"$f":"E62/E$52","v":5.307443365695793E-2},null,null,{"$f":"H62/H$52","v":0.34482758620689657},null,{"$f":"J62/J$52","v":1.0670731707317074E-2},null,{"$f":"L62/L$52","v":2.8678304239401497E-2},null,{"$f":"N62/N$52","v":0},null,{"$f":"P62/P$52","v":4.5045045045045043E-2},null,{"$f":"R62/R$52","v":8.9171974522292988E-2},null,{"$f":"T62/T$52","v":0}]
[]
[]
[null,null,null,"Source:  2013-2017 American Community Survey Table B25070; B25074"]
[]
[null,null,null,{"$f":"D41","v":"Income in 2017 Inflation Adjusted Dollars"}]
[null,null,null,"Data from the American Community Survey are estimates"]
[]
[]
[]
[null,null,null,{"$f":"D2","v":"Laconia"}]
[null,null,null,{"$f":"D4","v":"RENTAL HOUSING COST CHARACTERISTICS"}]
[]
[null,null,null,"Rental Housing Costs"]
[]
[null,null,null,"Renter Occupied Housing Units By Gross Rent "]
[]
[null,null,null,null,"Units","Margin of Error"]
[null,null,{"$f":"CntyDataLinkPrior5YearEstimates!E$69","v":0},"Specified Renter Occ Housing Units",{"$f":"CntyDataLinkPrior5YearEstimates!$B$148","v":3090},{"$f":"CntyDataLinkPrior5YearEstimates!$C$148","v":253}]
[null,null,{"$f":"CntyDataLinkPrior5YearEstimates!F$69","v":0},"Renter Occ. Housing Units w/ Cash Rent",{"$f":"CntyDataLinkPrior5YearEstimates!$D$148","v":3026},{"$f":"CntyDataLinkPrior5YearEstimates!$E$148","v":238}]
[]
[null,null,{"$f":"CntyDataLinkPrior5YearEstimates!G$69","v":0},"Gross Rent","Units","Margin of Error 2013-2017"]
[null,null,{"$f":"CntyDataLinkPrior5YearEstimates!H$69","v":0},"Less than $100",{"$f":"CntyDataLinkPrior5YearEstimates!$F$148","v":0},{"$f":"CntyDataLinkPrior5YearEstimates!$G$148","v":17}]
[null,null,{"$f":"CntyDataLinkPrior5YearEstimates!I$69","v":0},"$100 to $149",{"$f":"CntyDataLinkPrior5YearEstimates!$H$148","v":28},{"$f":"CntyDataLinkPrior5YearEstimates!$I$148","v":43}]
[null,null,{"$f":"CntyDataLinkPrior5YearEstimates!J$69","v":0},"$150 to $199",{"$f":"CntyDataLinkPrior5YearEstimates!J$148","v":27},{"$f":"CntyDataLinkPrior5YearEstimates!$K$148","v":29}]
[null,null,{"$f":"CntyDataLinkPrior5YearEstimates!K$69","v":0},"$200 to $249",{"$f":"CntyDataLinkPrior5YearEstimates!$L$148","v":61},{"$f":"CntyDataLinkPrior5YearEstimates!$M$148","v":48}]
[null,null,{"$f":"CntyDataLinkPrior5YearEstimates!L$69","v":0},"$250 to $299",{"$f":"CntyDataLinkPrior5YearEstimates!$N$148","v":63},{"$f":"CntyDataLinkPrior5YearEstimates!$O$148","v":48}]
[null,null,{"$f":"CntyDataLinkPrior5YearEstimates!M$69","v":0},"$300 to $349",{"$f":"CntyDataLinkPrior5YearEstimates!$P$148","v":0},{"$f":"CntyDataLinkPrior5YearEstimates!$Q$148","v":17}]
[null,null,{"$f":"CntyDataLinkPrior5YearEstimates!N$69","v":0},"$350 to $399",{"$f":"CntyDataLinkPrior5YearEstimates!$R$148","v":58},{"$f":"CntyDataLinkPrior5YearEstimates!$S$148","v":63}]
[null,null,{"$f":"CntyDataLinkPrior5YearEstimates!O$69","v":0},"$400 to $449",{"$f":"CntyDataLinkPrior5YearEstimates!$T$148","v":15},{"$f":"CntyDataLinkPrior5YearEstimates!$U$148","v":17}]
[null,null,{"$f":"CntyDataLinkPrior5YearEstimates!P$69","v":0},"$450 to $499",{"$f":"CntyDataLinkPrior5YearEstimates!$V$148","v":42},{"$f":"CntyDataLinkPrior5YearEstimates!$W$148","v":32}]
[null,null,{"$f":"CntyDataLinkPrior5YearEstimates!Q$69","v":0},"$500 to $549",{"$f":"CntyDataLinkPrior5YearEstimates!$X$148","v":64},{"$f":"CntyDataLinkPrior5YearEstimates!$Y$148","v":43}]
[null,null,{"$f":"CntyDataLinkPrior5YearEstimates!R$69","v":0},"$550 to $599",{"$f":"CntyDataLinkPrior5YearEstimates!$Z$148","v":22},{"$f":"CntyDataLinkPrior5YearEstimates!$AA$148","v":25}]
[null,null,{"$f":"CntyDataLinkPrior5YearEstimates!S$69","v":0},"$600 to $649",{"$f":"CntyDataLinkPrior5YearEstimates!$AB$148","v":86},{"$f":"CntyDataLinkPrior5YearEstimates!$AC$148","v":93}]
[null,null,{"$f":"CntyDataLinkPrior5YearEstimates!T$69","v":0},"$650 to $699",{"$f":"CntyDataLinkPrior5YearEstimates!$AD$148","v":112},{"$f":"CntyDataLinkPrior5YearEstimates!$AE$148","v":66}]
[null,null,{"$f":"CntyDataLinkPrior5YearEstimates!U$69","v":0},"$700 to $749",{"$f":"CntyDataLinkPrior5YearEstimates!$AF$148","v":194},{"$f":"CntyDataLinkPrior5YearEstimates!$AG$148","v":82}]
[null,null,{"$f":"CntyDataLinkPrior5YearEstimates!V$69","v":0},"$750 to $799",{"$f":"CntyDataLinkPrior5YearEstimates!$AH$148","v":258},{"$f":"CntyDataLinkPrior5YearEstimates!$AI$148","v":106}]
[null,null,{"$f":"CntyDataLinkPrior5YearEstimates!W$69","v":0},"$800 to $899",{"$f":"CntyDataLinkPrior5YearEstimates!$AJ$148","v":552},{"$f":"CntyDataLinkPrior5YearEstimates!$AK$148","v":222}]
[null,null,{"$f":"CntyDataLinkPrior5YearEstimates!X$69","v":0},"$900 to $999",{"$f":"CntyDataLinkPrior5YearEstimates!$AL$148","v":337},{"$f":"CntyDataLinkPrior5YearEstimates!$AM$148","v":128}]
[null,null,{"$f":"CntyDataLinkPrior5YearEstimates!Y$69","v":0},"$1000 to $1249",{"$f":"CntyDataLinkPrior5YearEstimates!$AN$148","v":514},{"$f":"CntyDataLinkPrior5YearEstimates!$AO$148","v":159}]
[null,null,{"$f":"CntyDataLinkPrior5YearEstimates!Z$69","v":0},"$1250 to $1499",{"$f":"CntyDataLinkPrior5YearEstimates!$AP$148","v":372},{"$f":"CntyDataLinkPrior5YearEstimates!$AQ$148","v":127}]
[null,null,{"$f":"CntyDataLinkPrior5YearEstimates!AA$69","v":0},"$1500 to $1999",{"$f":"CntyDataLinkPrior5YearEstimates!$AR$148","v":168},{"$f":"CntyDataLinkPrior5YearEstimates!$AS$148","v":76}]
[null,null,{"$f":"CntyDataLinkPrior5YearEstimates!AB$69","v":0},"$2,000 to $2,499",{"$f":"CntyDataLinkPrior5YearEstimates!$AT$148","v":36},{"$f":"CntyDataLinkPrior5YearEstimates!$AU$148","v":30}]
[null,null,{"$f":"CntyDataLinkPrior5YearEstimates!AC$69","v":0},"$2,500 to $2,999",{"$f":"CntyDataLinkPrior5YearEstimates!$AV$148","v":17},{"$f":"CntyDataLinkPrior5YearEstimates!$AW$148","v":26}]
[null,null,null,"$3,000 to $3,499",{"$f":"CntyDataLinkPrior5YearEstimates!$AX$148","v":0},{"$f":"CntyDataLinkPrior5YearEstimates!$AY$148","v":17}]
[null,null,null,"$3,500 or more",{"$f":"CntyDataLinkPrior5YearEstimates!$AZ$148","v":0},{"$f":"CntyDataLinkPrior5YearEstimates!$BA$148","v":17}]
[null,null,null,"Renter Occ. Housing Units w/ No Cash Rent",{"$f":"CntyDataLinkPrior5YearEstimates!$BB$148","v":64},{"$f":"CntyDataLinkPrior5YearEstimates!$BC$148","v":48}]
[]
[null,null,null,"Median Gross Rent",{"$f":"CntyDataLinkPrior5YearEstimates!$BD$148","v":888},{"$f":"CntyDataLinkPrior5YearEstimates!$BE$148","v":34}]
[]
[]
[]
[]
[null,null,null,"Source: 2013-2017 American Community Survey Table B25063; B25064"]
[null,null,null,"Data from the American Community Survey are estimates"]

{"sheet":"RentalHousingCost-Prior10Yr","index":54,"n_rows":125,"n_cols":21,"rows_kept":125,"cut":false,"hidden":true,"merged":[]}
[]
[null,null,"HIDE THIS COLUMN",{"$f":"CntyDataLinkPrior10YearEstimate!A120","v":"Laconia"}]
[]
[null,null,null,"RENTAL HOUSING COST CHARACTERISTICS"]
[]
[]
[]
[]
[]
[]
[]
[]
[]
[]
[]
[]
[]
[]
[]
[]
[]
[]
[]
[]
[]
[]
[]
[]
[]
[]
[]
[]
[]
[]
[]
[]
[]
[]
[null,null,null,"Source:  2008-2012 American Community Survey Table B25074"]
[]
[null,null,null,"Income in 2012 Inflation Adjusted Dollars"]
[null,null,null,"Data from the American Community Survey are estimates"]
[null,null,null,{"$f":"CntyDataLinkPrior10YearEstimate!A120","v":"Laconia"}]
[]
[null,null,null,{"$f":"D4","v":"RENTAL HOUSING COST CHARACTERISTICS"}]
[]
[null,null,null,"Renter Households by "]
[null,null,null,"Gross Rent as a Percent of 2012 Household Income"]
[null,null,null,null,null,null,"By Household Income"]
[null,null,{"$f":"CntyDataLinkPrior10YearEstimate!AO$69","v":0},null,"Specified Renter Occ Housing Units",{"$f":"\"Margin of Error Renter Occupied Units\"","v":"Margin of Error Renter Occupied Units"},null,"Less than $10,000",{"$f":"\"Margin of Error \"&H50","v":"Margin of Error Less than $10,000"},"$10,000 to $19,999",{"$f":"\"Margin of Error \"&J50","v":"Margin of Error $10,000 to $19,999"},"$20,000 to $34,999",{"$f":"\"Margin of Error \"&L50","v":"Margin of Error $20,000 to $34,999"},"$35,000 to $49,999",{"$f":"\"Margin of Error \"&N50","v":"Margin of Error $35,000 to $49,999"},"$50,000 to $74,999",{"$f":"\"Margin of Error \"&P50","v":"Margin of Error $50,000 to $74,999"},"$75,000 to $99,999",{"$f":"\"Margin of Error \"&R50","v":"Margin of Error $75,000 to $99,999"},"$100,000 or More",{"$f":"\"Margin of Error \"&T50","v":"Margin of Error $100,000 or More"}]
[]
[null,null,null,"All Renter Households",{"$f":"CntyDataLinkPrior10YearEstimate!$B$156","v":2899},{"$f":"CntyDataLinkPrior10YearEstimate!$C$156","v":306},null,{"$f":"CntyDataLinkPrior10YearEstimate!$BH$148","v":409},{"$f":"CntyDataLinkPrior10YearEstimate!$BI$148","v":164},{"$f":"CntyDataLinkPrior10YearEstimate!$BZ$148","v":617},{"$f":"CntyDataLinkPrior10YearEstimate!$CA$148","v":165},{"$f":"CntyDataLinkPrior10YearEstimate!$CR$148","v":542},{"$f":"CntyDataLinkPrior10YearEstimate!$CS$148","v":159},{"$f":"CntyDataLinkPrior10YearEstimate!$DJ$148","v":668},{"$f":"CntyDataLinkPrior10YearEstimate!$DK$148","v":194},{"$f":"CntyDataLinkPrior10YearEstimate!$EB$148","v":430},{"$f":"CntyDataLinkPrior10YearEstimate!$EC$148","v":179},{"$f":"CntyDataLinkPrior10YearEstimate!$ET$148","v":51},{"$f":"CntyDataLinkPrior10YearEstimate!$EU$148","v":40},{"$f":"CntyDataLinkPrior10YearEstimate!$FL$148","v":182},{"$f":"CntyDataLinkPrior10YearEstimate!$FM$148","v":92}]
[null,null,null,"Rent Less than 20% of HH Income",{"$f":"CntyDataLinkPrior10YearEstimate!$D$156","v":745},{"$f":"CntyDataLinkPrior10YearEstimate!$E$156","v":218.38269162184076},null,{"$f":"CntyDataLinkPrior10YearEstimate!$BJ$148","v":14},{"$f":"CntyDataLinkPrior10YearEstimate!$BK$148","v":24},{"$f":"CntyDataLinkPrior10YearEstimate!$CB$148","v":22},{"$f":"CntyDataLinkPrior10YearEstimate!$CC$148","v":25},{"$f":"CntyDataLinkPrior10YearEstimate!$CT$148","v":44},{"$f":"CntyDataLinkPrior10YearEstimate!$CU$148","v":35},{"$f":"CntyDataLinkPrior10YearEstimate!$DL$148","v":189},{"$f":"CntyDataLinkPrior10YearEstimate!$DM$148","v":142},{"$f":"CntyDataLinkPrior10YearEstimate!$ED$148","v":271},{"$f":"CntyDataLinkPrior10YearEstimate!$EE$148","v":158},{"$f":"CntyDataLinkPrior10YearEstimate!$EV$148","v":23},{"$f":"CntyDataLinkPrior10YearEstimate!$EW$148","v":25},{"$f":"CntyDataLinkPrior10YearEstimate!$FN$148","v":182},{"$f":"CntyDataLinkPrior10YearEstimate!$FO$148","v":92}]
[null,null,null,"Rent 20% to 24.9% of HH Income",{"$f":"CntyDataLinkPrior10YearEstimate!$F$156","v":308},{"$f":"CntyDataLinkPrior10YearEstimate!$G$156","v":113},null,{"$f":"CntyDataLinkPrior10YearEstimate!$BL$148","v":0},{"$f":"CntyDataLinkPrior10YearEstimate!$BM$148","v":18},{"$f":"CntyDataLinkPrior10YearEstimate!$CD$148","v":33},{"$f":"CntyDataLinkPrior10YearEstimate!$CE$148","v":33},{"$f":"CntyDataLinkPrior10YearEstimate!$CV$148","v":18},{"$f":"CntyDataLinkPrior10YearEstimate!$CW$148","v":17},{"$f":"CntyDataLinkPrior10YearEstimate!$DN$148","v":196},{"$f":"CntyDataLinkPrior10YearEstimate!$DO$148","v":95},{"$f":"CntyDataLinkPrior10YearEstimate!$EF$148","v":48},{"$f":"CntyDataLinkPrior10YearEstimate!$EG$148","v":50},{"$f":"CntyDataLinkPrior10YearEstimate!$EX$148","v":13},{"$f":"CntyDataLinkPrior10YearEstimate!$EY$148","v":25},{"$f":"CntyDataLinkPrior10YearEstimate!$FP$148","v":0},{"$f":"CntyDataLinkPrior10YearEstimate!$FQ$148","v":18}]
[null,null,null,"Rent 25% to 29.9% of HH Income",{"$f":"CntyDataLinkPrior10YearEstimate!$H$156","v":463},{"$f":"CntyDataLinkPrior10YearEstimate!$I$156","v":173},null,{"$f":"CntyDataLinkPrior10YearEstimate!$BN$148","v":10},{"$f":"CntyDataLinkPrior10YearEstimate!$BO$148","v":16},{"$f":"CntyDataLinkPrior10YearEstimate!$CF$148","v":29},{"$f":"CntyDataLinkPrior10YearEstimate!$CG$148","v":29},{"$f":"CntyDataLinkPrior10YearEstimate!$CX$148","v":134},{"$f":"CntyDataLinkPrior10YearEstimate!$CY$148","v":103},{"$f":"CntyDataLinkPrior10YearEstimate!$DP$148","v":175},{"$f":"CntyDataLinkPrior10YearEstimate!$DQ$148","v":102},{"$f":"CntyDataLinkPrior10YearEstimate!$EH$148","v":100},{"$f":"CntyDataLinkPrior10YearEstimate!$EI$148","v":70},{"$f":"CntyDataLinkPrior10YearEstimate!$EZ$148","v":15},{"$f":"CntyDataLinkPrior10YearEstimate!$FA$148","v":16},{"$f":"CntyDataLinkPrior10YearEstimate!$FR$148","v":0},{"$f":"CntyDataLinkPrior10YearEstimate!$FS$148","v":18}]
[null,null,null,"Rent Less Than 30% of HH Income",{"$f":"CntyDataLinkPrior10YearEstimate!$J$156","v":1516},{"$f":"CntyDataLinkPrior10YearEstimate!$K$156","v":300.64763428305901},null,{"$f":"SUM(H53:H55)","v":24},{"$f":"SQRT((I53^2)+(I54^2)+(I55^2))","v":34},{"$f":"SUM(J53:J55)","v":84},{"$f":"SQRT((K53^2)+(K54^2)+(K55^2))","v":50.547007824400445},{"$f":"SUM(L53:L55)","v":196},{"$f":"SQRT((M53^2)+(M54^2)+(M55^2))","v":110.1044958210154},{"$f":"SUM(N53:N55)","v":560},{"$f":"SQRT((O53^2)+(O54^2)+(O55^2))","v":198.97989848223364},{"$f":"SUM(P53:P55)","v":419},{"$f":"SQRT((Q53^2)+(Q54^2)+(Q55^2))","v":179.89997220677941},{"$f":"SUM(R53:R55)","v":51},{"$f":"SQRT((S53^2)+(S54^2)+(S55^2))","v":38.80721582386451},{"$f":"SUM(T53:T55)","v":182},{"$f":"SQRT((U53^2)+(U54^2)+(U55^2))","v":95.456796510253795}]
[null,null,null,"Rent 30% or More of HH Income",{"$f":"CntyDataLinkPrior10YearEstimate!$L$156","v":1253},{"$f":"CntyDataLinkPrior10YearEstimate!$M$156","v":252.02976014748734},null,{"$f":"H60+H58","v":306},{"$f":"SQRT((I58^2)+(I60^2))","v":148.48568954616468},{"$f":"J60+J58","v":503},{"$f":"SQRT((K58^2)+(K60^2))","v":164.55090397806995},{"$f":"L60+L58","v":325},{"$f":"SQRT((M58^2)+(M60^2))","v":121.80311982868091},{"$f":"N60+N58","v":108},{"$f":"SQRT((O58^2)+(O60^2))","v":64.845971347493901},11,{"$f":"SQRT((Q58^2)+(Q60^2))","v":24.758836806279895},{"$f":"R60+R58","v":0},{"$f":"SQRT((S58^2)+(S60^2))","v":25.45584412271571},0,{"$f":"SQRT((U58^2)+(U60^2))","v":25.45584412271571}]
[null,null,null,"Rent 30% to 34.9% of HH Income",{"$f":"CntyDataLinkPrior10YearEstimate!$N$156","v":149},{"$f":"CntyDataLinkPrior10YearEstimate!$O$156","v":73},null,{"$f":"CntyDataLinkPrior10YearEstimate!$BP$148","v":7},{"$f":"CntyDataLinkPrior10YearEstimate!$BQ$148","v":12},{"$f":"CntyDataLinkPrior10YearEstimate!$CH$148","v":49},{"$f":"CntyDataLinkPrior10YearEstimate!$CI$148","v":34},{"$f":"CntyDataLinkPrior10YearEstimate!$CZ$148","v":70},{"$f":"CntyDataLinkPrior10YearEstimate!$DA$148","v":60},{"$f":"CntyDataLinkPrior10YearEstimate!$DR$148","v":23},{"$f":"CntyDataLinkPrior10YearEstimate!$DS$148","v":29},{"$f":"CntyDataLinkPrior10YearEstimate!$EJ$148","v":0},{"$f":"CntyDataLinkPrior10YearEstimate!$EK$148","v":18},{"$f":"CntyDataLinkPrior10YearEstimate!$FB$148","v":0},{"$f":"CntyDataLinkPrior10YearEstimate!$FC$148","v":18},{"$f":"CntyDataLinkPrior10YearEstimate!$FT$148","v":0},{"$f":"CntyDataLinkPrior10YearEstimate!$FU$148","v":18}]
[null,null,null,"Rent Less Than 35% of HH Income",{"$f":"CntyDataLinkPrior10YearEstimate!$P$156","v":1665},{"$f":"CntyDataLinkPrior10YearEstimate!$Q$156","v":309.38325746555842},null,{"$f":"SUM(H56,H58)","v":31},{"$f":"SQRT((I56^2)+(I58^2))","v":36.055512754639892},{"$f":"SUM(J56,J58)","v":133},{"$f":"SQRT((K56^2)+(K58^2))","v":60.917977642072131},{"$f":"SUM(L56,L58)","v":266},{"$f":"SQRT((M56^2)+(M58^2))","v":125.39138726403819},583,227.97989848223364,419,{"$f":"SQRT((Q58^2)+(Q56^2))","v":180.79823007983236},{"$f":"SUM(R56,R58)","v":51},{"$f":"SQRT((S58^2)+(S56^2))","v":42.778499272414876},182,{"$f":"SQRT((U58^2)+(U56^2))","v":97.139075556647143}]
[null,null,null,"Rent 35% or More of HH Income",{"$f":"CntyDataLinkPrior10YearEstimate!$R$156","v":1104},{"$f":"CntyDataLinkPrior10YearEstimate!$S$156","v":241.22603507913485},null,{"$f":"CntyDataLinkPrior10YearEstimate!$BR$148+CntyDataLinkPrior10YearEstimate!$BT$148+CntyDataLinkPrior10YearEstimate!$BV$148","v":299},{"$f":"SQRT((CntyDataLinkPrior10YearEstimate!$BS$148^2)+(CntyDataLinkPrior10YearEstimate!$BU$148^2)+(CntyDataLinkPrior10YearEstimate!$BW$148^2))","v":148},{"$f":"CntyDataLinkPrior10YearEstimate!$CJ$148+CntyDataLinkPrior10YearEstimate!$CL$148+CntyDataLinkPrior10YearEstimate!$CN$148","v":454},{"$f":"SQRT((CntyDataLinkPrior10YearEstimate!$CK$148^2)+(CntyDataLinkPrior10YearEstimate!$CM$148^2)+(CntyDataLinkPrior10YearEstimate!$CO$148^2))","v":161},{"$f":"CntyDataLinkPrior10YearEstimate!$DB$148+CntyDataLinkPrior10YearEstimate!$DD$148+CntyDataLinkPrior10YearEstimate!$DF$148","v":255},{"$f":"SQRT((CntyDataLinkPrior10YearEstimate!$DC$148^2)+(CntyDataLinkPrior10YearEstimate!$DE$148^2)+(CntyDataLinkPrior10YearEstimate!$DG$148^2))","v":106},{"$f":"CntyDataLinkPrior10YearEstimate!$DT$148+CntyDataLinkPrior10YearEstimate!$DV$148+CntyDataLinkPrior10YearEstimate!$DX$148","v":85},{"$f":"SQRT((CntyDataLinkPrior10YearEstimate!$DU$148^2)+(CntyDataLinkPrior10YearEstimate!$DW$148^2)+(CntyDataLinkPrior10YearEstimate!$DY$148^2))","v":58},{"$f":"CntyDataLinkPrior10YearEstimate!$EL$148+CntyDataLinkPrior10YearEstimate!$EN$148+CntyDataLinkPrior10YearEstimate!$EP$148","v":11},{"$f":"SQRT((CntyDataLinkPrior10YearEstimate!$EM$148^2)+(CntyDataLinkPrior10YearEstimate!$EO$148^2)+(CntyDataLinkPrior10YearEstimate!$EQ$148^2))","v":17},{"$f":"CntyDataLinkPrior10YearEstimate!$FD$148+CntyDataLinkPrior10YearEstimate!$FF$148+CntyDataLinkPrior10YearEstimate!$FH$148","v":0},{"$f":"SQRT((CntyDataLinkPrior10YearEstimate!$FE$148^2)+(CntyDataLinkPrior10YearEstimate!$FG$148^2)+(CntyDataLinkPrior10YearEstimate!$FI$148^2))","v":18},{"$f":"CntyDataLinkPrior10YearEstimate!$FV$148+CntyDataLinkPrior10YearEstimate!$FX$148+CntyDataLinkPrior10YearEstimate!$FZ$148","v":0},{"$f":"SQRT((CntyDataLinkPrior10YearEstimate!$FW$148^2)+(CntyDataLinkPrior10YearEstimate!$FY$148^2)+(CntyDataLinkPrior10YearEstimate!$GA$148^2))","v":18}]
[null,null,null,"Rent 50% or More of HH Income",{"$f":"CntyDataLinkPrior10YearEstimate!$T$156","v":716},{"$f":"CntyDataLinkPrior10YearEstimate!$U$156","v":195},null,{"$f":"CntyDataLinkPrior10YearEstimate!$BV$148","v":0},{"$f":"CntyDataLinkPrior10YearEstimate!$BW$148","v":0},{"$f":"CntyDataLinkPrior10YearEstimate!$CN$148","v":0},{"$f":"CntyDataLinkPrior10YearEstimate!$CO$148","v":0},{"$f":"CntyDataLinkPrior10YearEstimate!$DF$148","v":0},{"$f":"CntyDataLinkPrior10YearEstimate!$DG$148","v":0},{"$f":"CntyDataLinkPrior10YearEstimate!$DX$148","v":0},{"$f":"CntyDataLinkPrior10YearEstimate!$DY$148","v":0},{"$f":"CntyDataLinkPrior10YearEstimate!$EP$148","v":0},{"$f":"CntyDataLinkPrior10YearEstimate!$EQ$148","v":0},{"$f":"CntyDataLinkPrior10YearEstimate!$FH$148","v":0},{"$f":"CntyDataLinkPrior10YearEstimate!$FI$148","v":0},{"$f":"CntyDataLinkPrior10YearEstimate!$FZ$148","v":0},{"$f":"CntyDataLinkPrior10YearEstimate!$GA$148","v":0}]
[null,null,null,"Percent not computed",{"$f":"CntyDataLinkPrior10YearEstimate!$V$156","v":130},{"$f":"CntyDataLinkPrior10YearEstimate!$W$156","v":74},null,{"$f":"CntyDataLinkPrior10YearEstimate!$BX$148","v":79},{"$f":"CntyDataLinkPrior10YearEstimate!$BY$148","v":65},{"$f":"CntyDataLinkPrior10YearEstimate!$CP$148","v":30},{"$f":"CntyDataLinkPrior10YearEstimate!$CQ$148","v":28},{"$f":"CntyDataLinkPrior10YearEstimate!$DH$148","v":21},{"$f":"CntyDataLinkPrior10YearEstimate!$DI$148","v":24},{"$f":"CntyDataLinkPrior10YearEstimate!$DZ$148","v":0},{"$f":"CntyDataLinkPrior10YearEstimate!$EA$148","v":18},{"$f":"CntyDataLinkPrior10YearEstimate!$ER$148","v":0},{"$f":"CntyDataLinkPrior10YearEstimate!$ES$148","v":18},{"$f":"CntyDataLinkPrior10YearEstimate!$FJ$148","v":0},{"$f":"CntyDataLinkPrior10YearEstimate!$FK$148","v":18},{"$f":"CntyDataLinkPrior10YearEstimate!$GB$148","v":0},{"$f":"CntyDataLinkPrior10YearEstimate!$GC148","v":0}]
[]
[]
[null,null,null,"Percent of Households Paying ",null,null,null,"By Household Income"]
[null,null,null,{"$f":"D56","v":"Rent Less Than 30% of HH Income"},{"$f":"E56/E$52","v":0.52293894446360811},null,null,{"$f":"H56/H$52","v":5.8679706601466992E-2},null,{"$f":"J56/J$52","v":0.13614262560777957},null,{"$f":"L56/L$52","v":0.36162361623616235},null,{"$f":"N56/N$52","v":0.83832335329341312},null,{"$f":"P56/P$52","v":0.97441860465116281},null,{"$f":"R56/R$52","v":1},null,{"$f":"T56/T$52","v":1}]
[null,null,null,{"$f":"D57","v":"Rent 30% or More of HH Income"},{"$f":"E57/E$52","v":0.43221800620903761},null,null,{"$f":"H57/H$52","v":0.74816625916870416},null,{"$f":"J57/J$52","v":0.81523500810372773},null,{"$f":"L57/L$52","v":0.59963099630996308},null,{"$f":"N57/N$52","v":0.16167664670658682},null,{"$f":"P57/P$52","v":2.5581395348837209E-2},null,{"$f":"R57/R$52","v":0},null,{"$f":"T57/T$52","v":0}]
[null,null,null,{"$f":"D59","v":"Rent Less Than 35% of HH Income"},{"$f":"E59/E$52","v":0.57433597792342184},null,null,{"$f":"H59/H$52","v":7.5794621026894868E-2},null,{"$f":"J59/J$52","v":0.21555915721231766},null,{"$f":"L59/L$52","v":0.4907749077490775},null,{"$f":"N59/N$52","v":0.8727544910179641},null,{"$f":"P59/P$52","v":0.97441860465116281},null,{"$f":"R59/R$52","v":1},null,{"$f":"T59/T$52","v":1}]
[null,null,null,{"$f":"D60","v":"Rent 35% or More of HH Income"},{"$f":"E60/E$52","v":0.38082097274922388},null,null,{"$f":"H60/H$52","v":0.73105134474327627},null,{"$f":"J60/J$52","v":0.73581847649918963},null,{"$f":"L60/L$52","v":0.47047970479704798},null,{"$f":"N60/N$52","v":0.12724550898203593},null,{"$f":"P60/P$52","v":2.5581395348837209E-2},null,{"$f":"R60/R$52","v":0},null,{"$f":"T60/T$52","v":0}]
[null,null,null,"Rent 50% or More of HH Income",{"$f":"E61/E$52","v":0.24698171783373576},null,null,{"$f":"H61/H$52","v":0},null,{"$f":"J61/J$52","v":0},null,{"$f":"L61/L$52","v":0},null,{"$f":"N61/N$52","v":0},null,{"$f":"P61/P$52","v":0},null,{"$f":"R61/R$52","v":0},null,{"$f":"T61/T$52","v":0}]
[null,null,null,"Percent not computed",{"$f":"E62/E$52","v":4.4843049327354258E-2},null,null,{"$f":"H62/H$52","v":0.19315403422982885},null,{"$f":"J62/J$52","v":4.8622366288492709E-2},null,{"$f":"L62/L$52","v":3.8745387453874541E-2},null,{"$f":"N62/N$52","v":0},null,{"$f":"P62/P$52","v":0},null,{"$f":"R62/R$52","v":0},null,{"$f":"T62/T$52","v":0}]
[]
[]
[null,null,null,"Source:  2008-2012 American Community Survey Table B25070; B25074"]
[]
[null,null,null,{"$f":"D41","v":"Income in 2012 Inflation Adjusted Dollars"}]
[null,null,null,"Data from the American Community Survey are estimates"]
[]
[]
[]
[null,null,null,{"$f":"D2","v":"Laconia"}]
[null,null,null,{"$f":"D4","v":"RENTAL HOUSING COST CHARACTERISTICS"}]
[]
[null,null,null,"Rental Housing Costs"]
[]
[null,null,null,"Renter Occupied Housing Units By Gross Rent "]
[]
[null,null,null,null,"Units","Margin of Error"]
[null,null,{"$f":"CntyDataLinkPrior10YearEstimate!E$69","v":0},"Specified Renter Occ Housing Units",{"$f":"CntyDataLinkPrior10YearEstimate!$B$148","v":2899},{"$f":"CntyDataLinkPrior10YearEstimate!$C$148","v":306}]
[null,null,{"$f":"CntyDataLinkPrior10YearEstimate!F$69","v":0},"Renter Occ. Housing Units w/ Cash Rent",{"$f":"CntyDataLinkPrior10YearEstimate!$D$148","v":2815},{"$f":"CntyDataLinkPrior10YearEstimate!$E$148","v":306}]
[]
[null,null,{"$f":"CntyDataLinkPrior10YearEstimate!G$69","v":0},"Gross Rent","Units","Margin of Error 2011-2015"]
[null,null,{"$f":"CntyDataLinkPrior10YearEstimate!H$69","v":0},"Less than $100",{"$f":"CntyDataLinkPrior10YearEstimate!$F$148","v":14},{"$f":"CntyDataLinkPrior10YearEstimate!$G$148","v":24}]
[null,null,{"$f":"CntyDataLinkPrior10YearEstimate!I$69","v":0},"$100 to $149",{"$f":"CntyDataLinkPrior10YearEstimate!$H$148","v":0},{"$f":"CntyDataLinkPrior10YearEstimate!$I$148","v":18}]
[null,null,{"$f":"CntyDataLinkPrior10YearEstimate!J$69","v":0},"$150 to $199",{"$f":"CntyDataLinkPrior10YearEstimate!J$148","v":34},{"$f":"CntyDataLinkPrior10YearEstimate!$K$148","v":31}]
[null,null,{"$f":"CntyDataLinkPrior10YearEstimate!K$69","v":0},"$200 to $249",{"$f":"CntyDataLinkPrior10YearEstimate!$L$148","v":53},{"$f":"CntyDataLinkPrior10YearEstimate!$M$148","v":40}]
[null,null,{"$f":"CntyDataLinkPrior10YearEstimate!L$69","v":0},"$250 to $299",{"$f":"CntyDataLinkPrior10YearEstimate!$N$148","v":44},{"$f":"CntyDataLinkPrior10YearEstimate!$O$148","v":37}]
[null,null,{"$f":"CntyDataLinkPrior10YearEstimate!M$69","v":0},"$300 to $349",{"$f":"CntyDataLinkPrior10YearEstimate!$P$148","v":111},{"$f":"CntyDataLinkPrior10YearEstimate!$Q$148","v":117}]
[null,null,{"$f":"CntyDataLinkPrior10YearEstimate!N$69","v":0},"$350 to $399",{"$f":"CntyDataLinkPrior10YearEstimate!$R$148","v":50},{"$f":"CntyDataLinkPrior10YearEstimate!$S$148","v":43}]
[null,null,{"$f":"CntyDataLinkPrior10YearEstimate!O$69","v":0},"$400 to $449",{"$f":"CntyDataLinkPrior10YearEstimate!$T$148","v":56},{"$f":"CntyDataLinkPrior10YearEstimate!$U$148","v":42}]
[null,null,{"$f":"CntyDataLinkPrior10YearEstimate!P$69","v":0},"$450 to $499",{"$f":"CntyDataLinkPrior10YearEstimate!$V$148","v":73},{"$f":"CntyDataLinkPrior10YearEstimate!$W$148","v":73}]
[null,null,{"$f":"CntyDataLinkPrior10YearEstimate!Q$69","v":0},"$500 to $549",{"$f":"CntyDataLinkPrior10YearEstimate!$X$148","v":30},{"$f":"CntyDataLinkPrior10YearEstimate!$Y$148","v":36}]
[null,null,{"$f":"CntyDataLinkPrior10YearEstimate!R$69","v":0},"$550 to $599",{"$f":"CntyDataLinkPrior10YearEstimate!$Z$148","v":120},{"$f":"CntyDataLinkPrior10YearEstimate!$AA$148","v":80}]
[null,null,{"$f":"CntyDataLinkPrior10YearEstimate!S$69","v":0},"$600 to $649",{"$f":"CntyDataLinkPrior10YearEstimate!$AB$148","v":165},{"$f":"CntyDataLinkPrior10YearEstimate!$AC$148","v":112}]
[null,null,{"$f":"CntyDataLinkPrior10YearEstimate!T$69","v":0},"$650 to $699",{"$f":"CntyDataLinkPrior10YearEstimate!$AD$148","v":146},{"$f":"CntyDataLinkPrior10YearEstimate!$AE$148","v":122}]
[null,null,{"$f":"CntyDataLinkPrior10YearEstimate!U$69","v":0},"$700 to $749",{"$f":"CntyDataLinkPrior10YearEstimate!$AF$148","v":157},{"$f":"CntyDataLinkPrior10YearEstimate!$AG$148","v":78}]
[null,null,{"$f":"CntyDataLinkPrior10YearEstimate!V$69","v":0},"$750 to $799",{"$f":"CntyDataLinkPrior10YearEstimate!$AH$148","v":194},{"$f":"CntyDataLinkPrior10YearEstimate!$AI$148","v":99}]
[null,null,{"$f":"CntyDataLinkPrior10YearEstimate!W$69","v":0},"$800 to $899",{"$f":"CntyDataLinkPrior10YearEstimate!$AJ$148","v":477},{"$f":"CntyDataLinkPrior10YearEstimate!$AK$148","v":176}]
[null,null,{"$f":"CntyDataLinkPrior10YearEstimate!X$69","v":0},"$900 to $999",{"$f":"CntyDataLinkPrior10YearEstimate!$AL$148","v":317},{"$f":"CntyDataLinkPrior10YearEstimate!$AM$148","v":174}]
[null,null,{"$f":"CntyDataLinkPrior10YearEstimate!Y$69","v":0},"$1000 to $1249",{"$f":"CntyDataLinkPrior10YearEstimate!$AN$148","v":498},{"$f":"CntyDataLinkPrior10YearEstimate!$AO$148","v":153}]
[null,null,{"$f":"CntyDataLinkPrior10YearEstimate!Z$69","v":0},"$1250 to $1499",{"$f":"CntyDataLinkPrior10YearEstimate!$AP$148","v":200},{"$f":"CntyDataLinkPrior10YearEstimate!$AQ$148","v":90}]
[null,null,{"$f":"CntyDataLinkPrior10YearEstimate!AA$69","v":0},"$1500 to $1999",{"$f":"CntyDataLinkPrior10YearEstimate!$AR$148","v":61},{"$f":"CntyDataLinkPrior10YearEstimate!$AS$148","v":43}]
[null,null,{"$f":"CntyDataLinkPrior10YearEstimate!AB$69","v":0},"$2,000 to $2,499",{"$f":"CntyDataLinkPrior10YearEstimate!$AT$148","v":15},{"$f":"CntyDataLinkPrior10YearEstimate!$AU$148","v":16}]
[null,null,{"$f":"CntyDataLinkPrior10YearEstimate!AC$69","v":0},"$2,500 to $2,999",{"$f":"CntyDataLinkPrior10YearEstimate!$AV$148","v":0},{"$f":"CntyDataLinkPrior10YearEstimate!$AW$148","v":0}]
[null,null,null,"$3,000 to $3,499",{"$f":"CntyDataLinkPrior10YearEstimate!$AX$148","v":0},{"$f":"CntyDataLinkPrior10YearEstimate!$AY$148","v":0}]
[null,null,null,"$3,500 or more",{"$f":"CntyDataLinkPrior10YearEstimate!$AZ$148","v":0},{"$f":"CntyDataLinkPrior10YearEstimate!$BA$148","v":0}]
[null,null,null,"Renter Occ. Housing Units w/ No Cash Rent",{"$f":"CntyDataLinkPrior10YearEstimate!$BB$148","v":84},{"$f":"CntyDataLinkPrior10YearEstimate!$BC$148","v":62}]
[]
[null,null,null,"Median Gross Rent",{"$f":"CntyDataLinkPrior10YearEstimate!$BD$148","v":834},{"$f":"CntyDataLinkPrior10YearEstimate!$BE$148","v":41}]
[]
[]
[]
[]
[null,null,null,"Source: 2008-2012 American Community Survey Table B25063; B25064"]
[null,null,null,"Data from the American Community Survey are estimates"]

{"sheet":"ACS_Table_B25063_&_B25064","index":55,"n_rows":159,"n_cols":24,"rows_kept":159,"cut":false,"hidden":true,"merged":[]}
[null,"B25063. GROSS RENT"]
[null,"Universe:  RENTER-OCCUPIED HOUSING UNITS"]
[null,"Data Set: 2018-2022 American Community Survey 5-Year Estimates"]
[]
[null,null,"Alton",null,"Barnstead",null,"Belmont",null,"Center Harbor",null,"Gilford",null,"Gilmanton",null,"Laconia",null,"Meredith",null,"New Hampton",null,"Sanbornton",null,"Tilton"]
[null," ","Estimate","Margin of Error","Estimate","Margin of Error","Estimate","Margin of Error","Estimate","Margin of Error","Estimate","Margin of Error","Estimate","Margin of Error","Estimate","Margin of Error","Estimate","Margin of Error","Estimate","Margin of Error","Estimate","Margin of Error","Estimate","Margin of Error"]
[null,"Total:",168,109,240,124,486,151,54,36,298,142,104,87,2870,417,741,213,154,75,287,122,543,140]
[null,"With cash rent:",104,83,220,120,444,142,45,33,258,124,72,84,2788,412,620,172,127,72,240,115,457,119]
[null,"Less than $100",0,17,0,12,22,38,0,12,0,17,0,12,0,19,0,17,0,12,0,12,0,12]
[null,"$100 to $149",0,17,0,12,0,17,0,12,0,17,0,12,13,20,0,17,0,12,0,12,0,12]
[null,"$150 to $199",0,17,0,12,0,17,0,12,0,17,0,12,0,19,0,17,0,12,0,12,37,55]
[null,"$200 to $249",0,17,0,12,0,17,0,12,0,17,0,12,28,48,15,25,0,12,0,12,0,12]
[null,"$250 to $299",0,17,0,12,41,44,0,12,0,17,0,12,8,13,0,17,0,12,0,12,0,12]
[null,"$300 to $349",0,17,0,12,0,17,0,12,22,34,0,12,6,11,70,72,0,12,0,12,22,19]
[null,"$350 to $399",15,27,0,12,0,17,0,12,0,17,0,12,33,47,0,17,0,12,0,12,0,12]
[null,"$400 to $449",16,25,0,12,16,27,0,12,11,18,0,12,21,35,0,17,0,12,0,12,12,19]
[null,"$450 to $499",0,17,0,12,32,40,0,12,4,6,0,12,21,27,0,17,2,4,0,12,34,43]
[null,"$500 to $549",0,17,0,12,0,17,0,12,15,20,0,12,21,34,0,17,0,12,0,12,0,12]
[null,"$550 to $599",39,68,0,12,0,17,0,12,0,17,0,12,14,19,0,17,0,12,0,12,0,12]
[null,"$600 to $649",0,17,0,12,32,37,0,12,0,17,0,12,1,2,0,17,0,12,7,13,0,12]
[null,"$650 to $699",0,17,0,12,18,31,0,12,0,17,0,12,0,19,0,17,33,50,27,41,0,12]
[null,"$700 to $749",0,17,40,59,0,17,0,12,0,17,0,12,19,25,0,17,0,12,0,12,0,12]
[null,"$750 to $799",0,17,0,12,0,17,0,12,51,78,0,12,170,129,0,17,23,35,0,12,0,12]
[null,"$800 to $899",14,24,0,12,60,65,0,12,0,17,0,12,314,188,113,112,0,12,42,64,31,30]
[null,"$900 to $999",0,17,0,12,43,57,26,31,21,21,0,12,285,175,13,19,3,5,0,12,37,48]
[null,"$1,000 to $1,249",10,16,0,12,70,55,0,12,44,40,0,12,676,178,141,72,49,37,49,65,61,66]
[null,"$1,250 to $1,499",0,17,110,85,48,47,3,5,9,15,32,51,375,186,149,100,2,3,63,61,84,68]
[null,"$1,500 to $1,999",0,17,57,59,62,69,16,16,40,54,40,48,703,267,119,88,8,13,18,26,120,63]
[null,"$2,000 to $2,499",10,17,13,23,0,17,0,12,41,37,0,12,51,45,0,17,0,12,21,31,19,32]
[null," $2,500 to $2,999",0,17,0,12,0,17,0,12,0,17,0,12,29,38,0,17,0,12,0,12,0,12]
[null,"$3,000 to $3,499",0,17,0,12,0,17,0,12,0,17,0,12,0,19,0,17,0,12,13,20,0,12]
[null,"$3,500 or more",0,17,0,12,0,17,0,12,0,17,0,12,0,19,0,17,7,10,0,12,0,12]
[null,"No cash rent",64,64,20,26,42,44,9,11,40,65,32,37,82,56,121,123,27,21,47,52,86,85]
[]
[]
[]
[null,"B25064. MEDIAN GROSS RENT (DOLLARS)"]
[null,"Universe:  RENTER-OCCUPIED HOUSING UNITS PAYING CASH RENT"]
[null,"Data Set: 2018-2022 American Community Survey 5-Year Estimates"]
[null,{"$f":"RentalHousingCost!$D$77","v":"Income in 2022 Inflation Adjusted Dollars"}]
[null,null,"Alton",null,"Barnstead",null,"Belmont",null,"Center Harbor",null,"Gilford",null,"Gilmanton",null,"Laconia",null,"Meredith",null,"New Hampton",null,"Sanbornton",null,"Tilton"]
[null," ","Estimate","Margin of Error","Estimate","Margin of Error","Estimate","Margin of Error","Estimate","Margin of Error","Estimate","Margin of Error","Estimate","Margin of Error","Estimate","Margin of Error","Estimate","Margin of Error","Estimate","Margin of Error","Estimate","Margin of Error","Estimate","Margin of Error"]
[null,"Median gross rent",577,227,1409,109,902,167,987,804,1028,338,1550,246,1163,99,1176,163,1013,447,1224,333,1227,240]
[]
[]
[null,null,null,296,1094,92,964,378,960,275,1024,177,1162,258,891,47,906,124,939,623,917,201,761,95]
[]
[]
[]
[]
[]
[]
[]
[]
[]
[]
[]
[]
[]
[]
[]
[]
[]
[]
[]
[]
[]
[]
[]
[null,"B25063. GROSS RENT"]
[null,"Universe:  RENTER-OCCUPIED HOUSING UNITS"]
[null,"Data Set: 2013-2017 American Community Survey 5-Year Estimates"]
[]
[null,null,"Alton",null,"Barnstead",null,"Belmont",null,"Center Harbor",null,"Gilford",null,"Gilmanton",null,"Laconia",null,"Meredith",null,"New Hampton",null,"Sanbornton",null,"Tilton"]
[null," ","Estimate","Margin of Error","Estimate","Margin of Error","Estimate","Margin of Error","Estimate","Margin of Error","Estimate","Margin of Error","Estimate","Margin of Error","Estimate","Margin of Error","Estimate","Margin of Error","Estimate","Margin of Error","Estimate","Margin of Error","Estimate","Margin of Error"]
[null,"Total:",343,124,169,93,421,164,56,30,370,112,3118,263,3090,253,655,154,120,46,93,37,544,147]
[null,"With cash rent:",343,124,149,91,421,164,47,29,358,113,3041,266,3026,238,584,143,90,40,57,32,484,131]
[null,"Less than $100",0,16,0,11,0,16,0,11,0,16,0,18,0,17,0,16,0,11,0,11,0,11]
[null,"$100 to $149",0,16,0,11,0,16,0,11,0,16,43,48,28,43,0,16,0,11,0,11,0,11]
[null,"$150 to $199",0,16,0,11,0,16,0,11,0,16,25,30,27,29,0,16,0,11,0,11,17,19]
[null,"$200 to $249",0,16,0,11,30,35,0,11,0,16,69,54,61,48,0,16,4,6,0,11,0,11]
[null,"$250 to $299",0,16,0,11,0,16,0,11,0,16,20,23,63,48,10,16,0,11,0,11,39,48]
[null,"$300 to $349",0,16,0,11,13,22,0,11,23,37,16,26,0,17,21,23,0,11,0,11,0,11]
[null,"$350 to $399",0,16,0,11,0,16,0,11,45,54,7,13,58,63,40,48,0,11,0,11,16,18]
[null,"$400 to $449",0,16,0,11,0,16,0,11,0,16,54,47,15,17,64,48,0,11,0,11,8,13]
[null,"$450 to $499",0,16,0,11,0,16,0,11,0,16,18,28,42,32,0,16,6,9,0,11,8,13]
[null,"$500 to $549",14,23,0,11,13,21,0,11,5,8,98,56,64,43,27,27,0,11,0,11,13,19]
[null,"$550 to $599",0,16,9,14,0,16,0,11,6,9,16,25,22,25,0,16,0,11,0,11,0,11]
[null,"$600 to $649",64,74,0,11,0,16,0,11,25,41,95,96,86,93,9,14,0,11,0,11,0,11]
[null,"$650 to $699",0,16,0,11,51,78,0,11,0,16,36,34,112,66,0,16,0,11,0,11,66,60]
[null,"$700 to $749",16,29,27,44,93,92,0,11,0,16,240,88,194,82,17,20,0,11,0,11,45,54]
[null,"$750 to $799",55,70,0,11,8,15,0,11,0,16,190,100,258,106,37,40,0,11,0,11,10,17]
[null,"$800 to $899",22,36,0,11,10,22,0,11,31,32,501,168,552,222,47,49,17,24,20,23,52,47]
[null,"$900 to $999",21,39,37,45,23,37,13,15,18,19,447,129,337,128,73,80,19,15,5,7,28,31]
[null,"$1,000 to $1,249",61,49,59,58,28,31,17,25,114,81,515,165,514,159,88,62,23,21,0,11,106,67]
[null,"$1,250 to $1,499",0,16,0,11,105,100,4,7,64,56,443,127,372,127,102,66,0,11,0,11,70,56]
[null,"$1,500 to $1,999",43,36,17,20,35,45,13,10,27,33,169,77,168,76,34,24,0,11,14,13,6,11]
[null,"$2,000 to $2,499",47,69,0,11,12,21,0,11,0,16,18,21,36,30,8,12,17,17,18,18,0,11]
[null," $2,500 to $2,999",0,16,0,11,0,16,0,11,0,16,21,33,17,26,0,16,0,11,0,11,0,11]
[null,"$3,000 to $3,499",0,16,0,11,0,16,0,11,0,16,0,18,0,17,7,12,4,6,0,11,0,11]
[null,"$3,500 or more",0,16,0,11,0,16,0,11,0,16,0,18,0,17,0,16,0,11,0,11,0,11]
[null,"No cash rent",0,16,20,23,0,16,9,9,12,14,77,47,64,48,71,54,30,25,36,23,60,55]
[]
[]
[]
[null,"B25064. MEDIAN GROSS RENT (DOLLARS)"]
[null,"Universe:  RENTER-OCCUPIED HOUSING UNITS PAYING CASH RENT"]
[null,"Data Set: 2013-2017 American Community Survey 5-Year Estimates"]
[null,{"$f":"'RentalHousingCost-Prior5Yr'!$D$41","v":"Income in 2017 Inflation Adjusted Dollars"}]
[null,null,"Alton",null,"Barnstead",null,"Belmont",null,"Center Harbor",null,"Gilford",null,"Gilmanton",null,"Laconia",null,"Meredith",null,"New Hampton",null,"Sanbornton",null,"Tilton"]
[null," ","Estimate","Margin of Error","Estimate","Margin of Error","Estimate","Margin of Error","Estimate","Margin of Error","Estimate","Margin of Error","Estimate","Margin of Error","Estimate","Margin of Error","Estimate","Margin of Error","Estimate","Margin of Error","Estimate","Margin of Error","Estimate","Margin of Error"]
[null,"Median gross rent",902,282,1006,139,825,402,1154,306,1057,138,921,41,888,34,927,111,995,137,1625,1280,838,163]
[]
[]
[]
[]
[null,"B25063. GROSS RENT"]
[null,"Universe:  RENTER-OCCUPIED HOUSING UNITS"]
[null,"Data Set: 2008-2012 American Community Survey 5-Year Estimates"]
[]
[null,null,"Alton",null,"Barnstead",null,"Belmont",null,"Center Harbor",null,"Gilford",null,"Gilmanton",null,"Laconia",null,"Meredith",null,"New Hampton",null,"Sanbornton",null,"Tilton"]
[null," ","Estimate","Margin of Error","Estimate","Margin of Error","Estimate","Margin of Error","Estimate","Margin of Error","Estimate","Margin of Error","Estimate","Margin of Error","Estimate","Margin of Error","Estimate","Margin of Error","Estimate","Margin of Error","Estimate","Margin of Error","Estimate","Margin of Error"]
[null,"Total:",370,139,109,38,509,176,81,37,415,179,96,54,2899,306,825,171,156,43,84,47,503,107]
[null,"With cash rent:",335,128,79,33,509,176,71,37,358,163,80,48,2815,306,741,163,106,39,37,31,425,97]
[null,"Less than $100",0,16,0,11,0,16,0,11,0,16,0,11,14,24,0,16,0,11,0,11,0,11]
[null,"$100 to $149",0,16,0,11,0,16,0,11,0,16,0,11,0,18,0,16,0,11,0,11,0,11]
[null,"$150 to $199",0,16,0,11,0,16,0,11,0,16,0,11,34,31,14,22,0,11,0,11,0,11]
[null,"$200 to $249",54,86,0,11,10,15,0,11,0,16,0,11,53,40,12,19,0,11,0,11,42,48]
[null,"$250 to $299",0,16,0,11,9,14,0,11,0,16,0,11,44,37,28,45,0,11,0,11,0,11]
[null,"$300 to $349",0,16,0,11,0,16,0,11,0,16,0,11,111,117,27,32,0,11,0,11,0,11]
[null,"$350 to $399",43,69,0,11,0,16,0,11,0,16,19,31,50,43,0,16,0,11,0,11,31,50]
[null,"$400 to $449",0,16,0,11,23,39,0,11,71,83,0,11,56,42,32,31,0,11,0,11,9,15]
[null,"$450 to $499",14,24,0,11,0,16,0,11,0,16,0,11,73,73,57,55,0,11,0,11,0,11]
[null,"$500 to $549",0,16,0,11,0,16,11,17,0,16,0,11,30,36,40,40,0,11,0,11,16,19]
[null,"$550 to $599",0,16,0,11,18,22,0,11,9,15,0,11,120,80,0,16,0,11,8,12,7,11]
[null,"$600 to $649",0,16,8,12,18,22,0,11,0,16,8,14,165,112,10,17,20,15,0,11,0,11]
[null,"$650 to $699",0,16,0,11,34,55,17,19,0,16,0,11,146,122,42,48,5,8,0,11,39,50]
[null,"$700 to $749",16,26,0,11,15,26,0,11,0,16,0,11,157,78,0,16,0,11,0,11,76,53]
[null,"$750 to $799",22,35,0,11,43,70,9,15,46,72,0,11,194,99,13,20,3,5,0,11,19,19]
[null,"$800 to $899",87,88,0,11,46,37,0,11,85,83,9,13,477,176,88,87,30,29,0,11,107,69]
[null,"$900 to $999",0,16,25,25,47,55,10,15,17,28,6,10,317,174,38,46,17,16,0,11,10,17]
[null,"$1,000 to $1,249",33,34,15,16,161,112,14,13,47,46,20,23,498,153,172,116,29,21,0,11,8,13]
[null,"$1,250 to $1,499",49,76,31,27,74,74,10,15,0,16,0,11,200,90,102,71,0,11,22,27,35,28]
[null,"$1,500 to $1,999",0,16,0,11,0,16,0,11,83,74,7,11,61,43,66,54,2,4,7,11,26,36]
[null,"$2,000 or more",17,27,0,11,11,18,0,11,0,16,11,17,15,16,0,16,0,11,0,11,0,11]
[]
[]
[]
[null,"No cash rent",35,40,30,29,0,16,10,9,57,82,16,19,84,62,84,71,50,30,47,36,78,52]
[]
[]
[]
[null,"B25064. MEDIAN GROSS RENT (DOLLARS)"]
[null,"Universe:  RENTER-OCCUPIED HOUSING UNITS PAYING CASH RENT"]
[null,"Data Set: 2008-2012 American Community Survey 5-Year Estimates"]
[null,{"$f":"'RentalHousingCost-Prior10Yr'!$D$41","v":"Income in 2012 Inflation Adjusted Dollars"}]
[null,null,"Alton",null,"Barnstead",null,"Belmont",null,"Center Harbor",null,"Gilford",null,"Gilmanton",null,"Laconia",null,"Meredith",null,"New Hampton",null,"Sanbornton",null,"Tilton"]
[null," ","Estimate","Margin of Error","Estimate","Margin of Error","Estimate","Margin of Error","Estimate","Margin of Error","Estimate","Margin of Error","Estimate","Margin of Error","Estimate","Margin of Error","Estimate","Margin of Error","Estimate","Margin of Error","Estimate","Margin of Error","Estimate","Margin of Error"]
[null,"Median gross rent",821,233,1108,335,982,167,792,298,862,173,967,333,834,41,920,186,883,77,1369,106,745,66]

{"sheet":"ACS_Table_B25070","index":56,"n_rows":141,"n_cols":24,"rows_kept":141,"cut":false,"hidden":true,"merged":[]}
[null,"B25070. GROSS RENT AS A PERCENTAGE OF HOUSEHOLD INCOME IN THE PAST 12 MONTHS"]
[null,"Universe:  RENTER-OCCUPIED HOUSING UNITS"]
[null,"Data Set: 2018-2022 American Community Survey 5-Year Estimates"]
[]
[null,null,"Alton",null,"Barnstead",null,"Belmont",null,"Center Harbor",null,"Gilford",null,"Gilmanton",null,"Laconia",null,"Meredith",null,"New Hampton",null,"Sanbornton",null,"Tilton"]
[null," ","Estimate","Margin of Error","Estimate","Margin of Error","Estimate","Margin of Error","Estimate","Margin of Error","Estimate","Margin of Error","Estimate","Margin of Error","Estimate","Margin of Error","Estimate","Margin of Error","Estimate","Margin of Error","Estimate","Margin of Error","Estimate","Margin of Error"]
[null,"Total:",168,109,240,124,486,151,54,36,298,142,104,87,2870,417,741,213,154,75,287,122,543,140]
[null,"Less than 10.0 percent",15,27,17,18,36,42,0,12,4,6,0,12,26,39,0,17,0,12,0,12,37,55]
[null,"10.0 to 14.9 percent",0,17,0,12,44,41,0,12,0,17,0,12,198,128,67,70,0,12,16,26,55,53]
[null,"15.0 to 19.9 percent",10,17,46,45,37,57,26,31,9,14,9,14,408,192,23,36,36,50,49,65,90,85]
[null,"20.0 to 24.9 percent",0,17,23,36,131,91,12,14,34,30,0,12,407,169,13,21,23,35,112,81,116,88]
[null,"25.0 to 29.9 percent",53,72,19,32,82,64,0,12,28,27,31,46,308,166,213,114,2,4,0,12,30,21]
[null,"30.0 to 34.9 percent",0,17,40,59,0,17,4,6,4,7,0,12,188,115,142,89,26,29,1,2,15,24]
[null,"35.0 to 39.9 percent",10,16,0,12,0,17,0,12,97,87,0,12,66,65,0,17,7,12,49,51,77,68]
[null,"40.0 to 49.9 percent",0,17,41,64,14,23,3,5,0,17,0,12,450,217,35,32,0,12,6,9,8,14]
[null,"50.0 percent or more",16,25,34,52,58,52,0,12,62,65,32,51,724,205,116,74,24,24,7,13,29,28]
[null,"Not computed",64,64,20,26,84,59,9,11,60,69,32,37,95,57,132,124,36,24,47,52,86,85]
[]
[]
[]
[]
[]
[]
[]
[]
[]
[]
[]
[]
[]
[]
[]
[]
[]
[null,"Calculated B25070. GROSS RENT AS A PERCENTAGE OF HOUSEHOLD INCOME IN THE PAST 12 MONTHS"]
[null,"Universe:  RENTER-OCCUPIED HOUSING UNITS"]
[null,"Data Set: 2018-2022 American Community Survey 5-Year Estimates"]
[]
[null,null,"Alton",null,"Barnstead",null,"Belmont",null,"Center Harbor",null,"Gilford",null,"Gilmanton",null,"Laconia",null,"Meredith",null,"New Hampton",null,"Sanbornton",null,"Tilton"]
[null," ","Estimate","Margin of Error","Estimate","Margin of Error","Estimate","Margin of Error","Estimate","Margin of Error","Estimate","Margin of Error","Estimate","Margin of Error","Estimate","Margin of Error","Estimate","Margin of Error","Estimate","Margin of Error","Estimate","Margin of Error","Estimate","Margin of Error"]
[null,{"$f":"B7","v":"Total:"},{"$f":"C7","v":168},{"$f":"D7","v":109},{"$f":"E7","v":240},124,486,151,54,36,298,142,104,87,2870,417,741,213,154,75,287,122,543,140]
[null,"Less than 20% of HH Income",{"$f":"C8+C9+C10","v":25},{"$f":"SQRT((D8^2)+(D9^2)+(D10^2))","v":36.152454965050438},{"$f":"E8+E9+E10","v":63},{"$f":"SQRT((F8^2)+(F9^2)+(F10^2))","v":49.929950931279713},{"$f":"G8+G9+G10","v":117},{"$f":"SQRT((H8^2)+(H9^2)+(H10^2))","v":81.81686867633104},{"$f":"I8+I9+I10","v":26},{"$f":"SQRT((J8^2)+(J9^2)+(J10^2))","v":35.341194094144583},{"$f":"K8+K9+K10","v":13},{"$f":"SQRT((L8^2)+(L9^2)+(L10^2))","v":22.825424421026653},{"$f":"M8+M9+M10","v":9},{"$f":"SQRT((N8^2)+(N9^2)+(N10^2))","v":22},{"$f":"O8+O9+O10","v":632},{"$f":"SQRT((P8^2)+(P9^2)+(P10^2))","v":234.02777612924496},{"$f":"Q8+Q9+Q10","v":90},{"$f":"SQRT((R8^2)+(R9^2)+(R10^2))","v":80.529497701152962},{"$f":"S8+S9+S10","v":36},{"$f":"SQRT((T8^2)+(T9^2)+(T10^2))","v":52.801515129776341},{"$f":"U8+U9+U10","v":65},{"$f":"SQRT((V8^2)+(V9^2)+(V10^2))","v":71.028163428319047},{"$f":"W8+W9+W10","v":182},{"$f":"SQRT((X8^2)+(X9^2)+(X10^2))","v":114.27598172844546}]
[null," 20% to 24.9% of HH Income",{"$f":"C11","v":0},{"$f":"D11","v":17},{"$f":"E11","v":23},36,131,91,12,14,34,30,0,12,407,169,13,21,23,35,112,81,116,88]
[null," 25% to 29.9% of HH Income",{"$f":"C12","v":53},{"$f":"D12","v":72},19,32,82,64,0,12,28,27,31,46,308,166,213,114,2,4,0,12,30,21]
[null," Less Than 30% of HH Income",{"$f":"C12+C11+C10+C9+C8","v":78},{"$f":"SQRT((D12^2)+(D11^2)+(D10^2)+(D9^2)+(D8^2))","v":82.340755400955601},{"$f":"E12+E11+E10+E9+E8","v":105},{"$f":"SQRT((F12^2)+(F11^2)+(F10^2)+(F9^2)+(F8^2))","v":69.375788283809797},{"$f":"G12+G11+G10+G9+G8","v":330},{"$f":"SQRT((H12^2)+(H11^2)+(H10^2)+(H9^2)+(H8^2))","v":138.09779143780685},{"$f":"I12+I11+I10+I9+I8","v":38},{"$f":"SQRT((J12^2)+(J11^2)+(J10^2)+(J9^2)+(J8^2))","v":39.862262855989499},{"$f":"K12+K11+K10+K9+K8","v":75},{"$f":"SQRT((L12^2)+(L11^2)+(L10^2)+(L9^2)+(L8^2))","v":46.36809247747852},{"$f":"M12+M11+M10+M9+M8","v":40},{"$f":"SQRT((N12^2)+(N11^2)+(N10^2)+(N9^2)+(N8^2))","v":52.38320341483518},{"$f":"O12+O11+O10+O9+O8","v":1347},{"$f":"SQRT((P12^2)+(P11^2)+(P10^2)+(P9^2)+(P8^2))","v":332.9954954650288},{"$f":"Q12+Q11+Q10+Q9+Q8","v":316},{"$f":"SQRT((R12^2)+(R11^2)+(R10^2)+(R9^2)+(R8^2))","v":141.14531518970085},{"$f":"S12+S11+S10+S9+S8","v":61},{"$f":"SQRT((T12^2)+(T11^2)+(T10^2)+(T9^2)+(T8^2))","v":63.474404290233394},{"$f":"U12+U11+U10+U9+U8","v":177},{"$f":"SQRT((V12^2)+(V11^2)+(V10^2)+(V9^2)+(V8^2))","v":108.39741694339399},{"$f":"W12+W11+W10+W9+W8","v":328},{"$f":"SQRT((X12^2)+(X11^2)+(X10^2)+(X9^2)+(X8^2))","v":145.75321608801639}]
[null," 30% or More of HH Income",{"$f":"C13+C14+C15+C16","v":26},{"$f":"SQRT((D13^2)+(D14^2)+(D15^2)+(D16^2))","v":38.196858509568557},{"$f":"E13+E14+E15+E16","v":115},{"$f":"SQRT((F13^2)+(F14^2)+(F15^2)+(F16^2))","v":102.10288928331069},{"$f":"G13+G14+G15+G16","v":72},{"$f":"SQRT((H13^2)+(H14^2)+(H15^2)+(H16^2))","v":61.733297336202611},{"$f":"I13+I14+I15+I16","v":7},{"$f":"SQRT((J13^2)+(J14^2)+(J15^2)+(J16^2))","v":18.681541692269406},{"$f":"K13+K14+K15+K16","v":163},{"$f":"SQRT((L13^2)+(L14^2)+(L15^2)+(L16^2))","v":110.14535850411491},{"$f":"M13+M14+M15+M16","v":32},{"$f":"SQRT((N13^2)+(N14^2)+(N15^2)+(N16^2))","v":55.072679252057455},{"$f":"O13+O14+O15+O16","v":1428},{"$f":"SQRT((P13^2)+(P14^2)+(P15^2)+(P16^2))","v":326.44141894067303},{"$f":"Q13+Q14+Q15+Q16","v":293},{"$f":"SQRT((R13^2)+(R14^2)+(R15^2)+(R16^2))","v":121.28478882366082},{"$f":"S13+S14+S15+S16","v":57},{"$f":"SQRT((T13^2)+(T14^2)+(T15^2)+(T16^2))","v":41.291645644125154},{"$f":"U13+U14+U15+U16","v":63},{"$f":"SQRT((V13^2)+(V14^2)+(V15^2)+(V16^2))","v":53.432200029570183},{"$f":"W13+W14+W15+W16","v":129},{"$f":"SQRT((X13^2)+(X14^2)+(X15^2)+(X16^2))","v":78.612976028134185}]
[null," 30% to 34.9% of HH Income",{"$f":"C13","v":0},{"$f":"D13","v":17},{"$f":"E13","v":40},59,0,17,4,6,4,7,0,12,188,115,142,89,26,29,1,2,15,24]
[null," Less Than 35% of HH Income",{"$f":"C13+C12+C11+C10+C9+C8","v":78},{"$f":"SQRT((D13^2)+(D12^2)+(D11^2)+(D10^2)+(D9^2)+(D8^2))","v":84.077345343439575},{"$f":"E13+E12+E11+E10+E9+E8","v":145},{"$f":"SQRT((F13^2)+(F12^2)+(F11^2)+(F10^2)+(F9^2)+(F8^2))","v":91.071400560219786},{"$f":"G13+G12+G11+G10+G9+G8","v":330},{"$f":"SQRT((H13^2)+(H12^2)+(H11^2)+(H10^2)+(H9^2)+(H8^2))","v":139.1402170474087},{"$f":"I13+I12+I11+I10+I9+I8","v":42},{"$f":"SQRT((J13^2)+(J12^2)+(J11^2)+(J10^2)+(J9^2)+(J8^2))","v":40.311288741492746},{"$f":"K13+K12+K11+K10+K9+K8","v":79},{"$f":"SQRT((L13^2)+(L12^2)+(L11^2)+(L10^2)+(L9^2)+(L8^2))","v":46.893496350773418},{"$f":"M13+M12+M11+M10+M9+M8","v":40},{"$f":"SQRT((N13^2)+(N12^2)+(N11^2)+(N10^2)+(N9^2)+(N8^2))","v":53.740115370177612},{"$f":"O13+O12+O11+O10+O9+O8","v":1535},{"$f":"SQRT((P13^2)+(P12^2)+(P11^2)+(P10^2)+(P9^2)+(P8^2))","v":352.29391138650124},{"$f":"Q13+Q12+Q11+Q10+Q9+Q8","v":458},{"$f":"SQRT((R13^2)+(R12^2)+(R11^2)+(R10^2)+(R9^2)+(R8^2))","v":166.86221861164378},{"$f":"S13+S12+S11+S10+S9+S8","v":87},{"$f":"SQRT((T13^2)+(T12^2)+(T11^2)+(T10^2)+(T9^2)+(T8^2))","v":69.785385289471606},{"$f":"U13+U12+U11+U10+U9+U8","v":178},{"$f":"SQRT((V13^2)+(V12^2)+(V11^2)+(V10^2)+(V9^2)+(V8^2))","v":108.41586599755591},{"$f":"W13+W12+W11+W10+W9+W8","v":343},{"$f":"SQRT((X13^2)+(X12^2)+(X11^2)+(X10^2)+(X9^2)+(X8^2))","v":147.71594362153328}]
[null," 35% or More of HH Income",{"$f":"C14+C15+C16","v":26},{"$f":"SQRT((D14^2)+(D15^2)+(D16^2))","v":34.205262752974143},{"$f":"E14+E15+E16","v":75},{"$f":"SQRT((F14^2)+(F15^2)+(F16^2))","v":83.330666623998638},{"$f":"G14+G15+G16","v":72},{"$f":"SQRT((H14^2)+(H15^2)+(H16^2))","v":59.346440499831161},{"$f":"I14+I15+I16","v":3},{"$f":"SQRT((J14^2)+(J15^2)+(J16^2))","v":17.691806012954132},{"$f":"K14+K15+K16","v":159},{"$f":"SQRT((L14^2)+(L15^2)+(L16^2))","v":109.92270011239717},{"$f":"M14+M15+M16","v":32},{"$f":"SQRT((N14^2)+(N15^2)+(N16^2))","v":53.749418601506754},{"$f":"O14+O15+O16","v":1240},{"$f":"SQRT((P14^2)+(P15^2)+(P16^2))","v":305.51432044995863},{"$f":"Q14+Q15+Q16","v":151},{"$f":"SQRT((R14^2)+(R15^2)+(R16^2))","v":82.395388220458074},{"$f":"S14+S15+S16","v":31},{"$f":"SQRT((T14^2)+(T15^2)+(T16^2))","v":29.393876913398138},{"$f":"U14+U15+U16","v":62},{"$f":"SQRT((V14^2)+(V15^2)+(V16^2))","v":53.394756296849977},{"$f":"W14+W15+W16","v":114},{"$f":"SQRT((X14^2)+(X15^2)+(X16^2))","v":74.85986908885161}]
[null," 50% or More of HH Income",{"$f":"C16","v":16},{"$f":"D16","v":25},{"$f":"E16","v":34},52,58,52,0,12,62,65,32,51,724,205,116,74,24,24,7,13,29,28]
[null,"Not computed",{"$f":"C17","v":64},{"$f":"D17","v":64},20,26,84,59,9,11,60,69,32,37,95,57,132,124,36,24,47,52,86,85]
[]
[]
[]
[]
[]
[]
[]
[]
[]
[]
[]
[]
[]
[]
[]
[]
[]
[]
[]
[]
[]
[]
[]
[]
[]
[]
[]
[]
[]
[]
[]
[]
[]
[]
[]
[]
[]
[]
[]
[]
[]
[]
[]
[]
[]
[]
[]
[]
[]
[]
[]
[]
[null,"Calculated B25070. GROSS RENT AS A PERCENTAGE OF HOUSEHOLD INCOME IN THE PAST 12 MONTHS"]
[null,"Universe:  RENTER-OCCUPIED HOUSING UNITS"]
[null,"Data Set: 2013-2017 American Community Survey 3-Year Estimates"]
[]
[null,null,"Alton",null,"Barnstead",null,"Belmont",null,"Center Harbor",null,"Gilford",null,"Gilmanton",null,"Laconia",null,"Meredith",null,"New Hampton",null,"Sanbornton",null,"Tilton"]
[null," ","Estimate","Margin of Error","Estimate","Margin of Error","Estimate","Margin of Error","Estimate","Margin of Error","Estimate","Margin of Error","Estimate","Margin of Error","Estimate","Margin of Error","Estimate","Margin of Error","Estimate","Margin of Error","Estimate","Margin of Error","Estimate","Margin of Error"]
[null,"Total:",343,124,169,93,421,164,56,30,370,112,3118,263,3090,253,655,154,120,46,93,37,544,147]
[null,"Less than 20% of HH Income",53,54.267854204860541,86,77.884529914483011,99,91.831367190083796,9,20.928449536456348,112,87.235313950257549,830,224.08480537510792,740,222.40953216982405,131,90.09994450608724,12,16.822603841260722,7,19.646882704388499,77,56.098128311022997]
[null," 20% to 24.9% of HH Income",47,69,9,14,46,73,8,10,47,37,431,140,339,150,80,54,0,11,7,10,54,42]
[null," 25% to 29.9% of HH Income",80,71,28,44,143,108,17,25,52,60,293,123,380,165,71,45,14,15,16,17,59,29]
[null," Less Than 30% of HH Income",180,112.90261290156221,123,90.542807555321588,288,159.45532289641508,34,34.102785809959869,211,112.15614116043757,1554,291.44982415503358,1459,314.94602712210866,282,114.27598172844546,26,25.079872407968907,30,27.838821814150108,190,75.841940903434164]
[null," 30% or More of HH Income",163,107.69865365917997,26,26.664583251946766,120,87.618491199061395,13,19.672315572906001,126,68.27151675479314,1438,255.88278566562465,1467,256.5891657884253,302,109.22453936730518,64,37.616485747608053,27,23.430749027719962,294,126.94486992391619]
[null," 30% to 34.9% of HH Income",84,73,8,14,50,53,0,11,40,40,105,65,86,56,65,53,24,23,13,20,55,57]
[null," Less Than 35% of HH Income",264,134.44701558606647,131,91.618775368370862,338,168.03273490602953,34,35.832945734337834,251,119.07560623402259,1659,298.61011369342464,1545,319.88591716422906,347,125.96824996799789,50,34.02939905434711,43,34.278273002005221,245,94.873600121424715]
[null," 35% or More of HH Income",79,79.183331579316615,18,22.693611435820433,70,69.771054170049638,13,16.30950643030009,86,55.326304774492215,1333,247.48939371213467,1381,250.40367409445093,237,95.503926620846329,40,29.765752132274432,14,12.206555615733702,239,113.4283915075939]
[null," 50% or More of HH Income",49,70,9,13,70,66,7,8,76,54,876,191,938,203,130,66,36,27,5,7,63,60]
[null,"Not computed",0,16,20,23,13,22,9,9,33,38,126,63,164,91,71,54,30,25,36,23,60,55]
[]
[]
[]
[]
[null,"Calculated B25070. GROSS RENT AS A PERCENTAGE OF HOUSEHOLD INCOME IN THE PAST 12 MONTHS"]
[null,"Universe:  RENTER-OCCUPIED HOUSING UNITS"]
[null,"Data Set: 2008-2012 American Community Survey 5-Year Estimates"]
[]
[null,null,"Alton",null,"Barnstead",null,"Belmont",null,"Center Harbor",null,"Gilford",null,"Gilmanton",null,"Laconia",null,"Meredith",null,"New Hampton",null,"Sanbornton",null,"Tilton"]
[null," ","Estimate","Margin of Error","Estimate","Margin of Error","Estimate","Margin of Error","Estimate","Margin of Error","Estimate","Margin of Error","Estimate","Margin of Error","Estimate","Margin of Error","Estimate","Margin of Error","Estimate","Margin of Error","Estimate","Margin of Error","Estimate","Margin of Error"]
[null,"Total:",370,139,109,38,509,176,81,37,415,179,96,54,2899,306,825,171,156,43,84,47,503,107]
[null,"Less than 20% of HH Income",139,116.69618674146983,21,27.766886753829642,174,109.30233300346337,9,21.61018278497431,24,32.771939216347882,0,19.05255888325765,745,218.38269162184076,190,95.462034338264544,41,29.832867780352597,12,17.972200755611428,126,81.203448202647152]
[null," 20% to 24.9% of HH Income",17,25,6,9,41,54,19,18,46,72,28,33,308,113,102,68,0,11,17,27,16,16]
[null," 25% to 29.9% of HH Income",71,90,33,31,94,83,5,7,155,121,6,10,463,173,64,55,6,8,0,11,138,64]
[null," Less Than 30% of HH Income",227,149.47575054168485,60,42.579337712087536,309,147.48559251669298,33,28.982753492378876,225,144.5648643343188,34,39.395431207184416,1516,300.64763428305901,356,129.46814279968643,47,32.787192621510002,29,34.249087579087416,280,104.62313319720452]
[null," 30% or More of HH Income",89,75.246262365648434,19,29.103264421710495,188,94.503968170654076,38,33.645207682521445,133,80.932070281193234,46,37.242448899072144,1253,252.02976014748734,334,138.20636743652588,59,35.707142142714247,8,22.516660498395403,145,74.276510418839678]
[null," 30% to 34.9% of HH Income",16,25,19,22,44,44,0,11,40,38,0,11,149,73,21,26,0,11,0,11,39,51]
[null," Less Than 35% of HH Income",243,151.55197128378106,79,47.927027865287037,353,153.90906406056791,33,31,265,149.47575054168485,34,40.902322672435119,1665,309.38325746555842,377,132.05301965498555,47,34.583232931581165,29,35.972211497209898,319,116.3915804515086]
[null," 35% or More of HH Income",73,70.97182539571601,0,19.05255888325765,144,83.63611660042568,38,31.796226191169293,93,71.456280339799378,46,35.580893749314392,1104,241.22603507913485,313,135.73871960498226,59,33.97057550292606,8,19.646882704388499,106,54]
[null," 50% or More of HH Income",35,56,0,11,95,65,17,19,61,59,46,32,716,195,137,101,29,24,0,11,34,24]
[null,"Not computed",54,52,30,29,12,19,10,9,57,82,16,19,130,74,135,89,50,30,47,36,78,52]

{"sheet":"ACS_Table_B25074","index":57,"n_rows":485,"n_cols":24,"rows_kept":485,"cut":false,"hidden":true,"merged":[]}
[null,"B25074. HOUSEHOLD INCOME BY GROSS RENT AS A PERCENTAGE OF HOUSEHOLD INCOME IN THE PAST 12 MONTHS"]
[null,"Universe:  RENTER OCCUPIED HOUSING UNITS"]
[null,"Data Set: 2018-2022 American Community Survey 5-Year Estimates",null,null,null,null,{"$f":"RentalHousingCost!D41","v":"Income in 2022 Inflation Adjusted Dollars"}]
[]
[null,null,"Alton",null,"Barnstead",null,"Belmont",null,"Center Harbor",null,"Gilford",null,"Gilmanton",null,"Laconia",null,"Meredith",null,"New Hampton",null,"Sanbornton",null,"Tilton"]
[null," ","Estimate","Margin of Error","Estimate","Margin of Error","Estimate","Margin of Error","Estimate","Margin of Error","Estimate","Margin of Error","Estimate","Margin of Error","Estimate","Margin of Error","Estimate","Margin of Error","Estimate","Margin of Error","Estimate","Margin of Error","Estimate","Margin of Error"]
[null,"Total:",168,109,240,124,486,151,54,36,298,142,104,87,2870,417,741,213,154,75,287,122,543,140]
[null,"Less than $10,000:",16,25,0,12,42,50,0,12,20,26,0,12,188,143,32,33,18,18,0,12,29,28]
[null,"Less than 20.0 percent",0,17,0,12,0,17,0,12,0,17,0,12,0,19,0,17,0,12,0,12,0,12]
[null,"20.0 to 24.9 percent",0,17,0,12,0,17,0,12,0,17,0,12,0,19,0,17,0,12,0,12,0,12]
[null,"25.0 to 29.9 percent",0,17,0,12,0,17,0,12,0,17,0,12,0,19,0,17,0,12,0,12,0,12]
[null,"30.0 to 34.9 percent",0,17,0,12,0,17,0,12,0,17,0,12,0,19,0,17,0,12,0,12,0,12]
[null,"35.0 to 39.9 percent",0,17,0,12,0,17,0,12,0,17,0,12,0,19,0,17,0,12,0,12,0,12]
[null,"40.0 to 49.9 percent",0,17,0,12,0,17,0,12,0,17,0,12,0,19,0,17,0,12,0,12,0,12]
[null,"50.0 percent or more",16,25,0,12,0,17,0,12,0,17,0,12,175,134,21,27,0,12,0,12,29,28]
[null,"Not computed",0,17,0,12,42,50,0,12,20,26,0,12,13,20,11,19,18,18,0,12,0,12]
[null,"$10,000 to $19,999:",12,20,0,12,85,66,8,10,37,40,8,13,451,185,104,69,17,21,37,48,66,70]
[null,"Less than 20.0 percent",0,17,0,12,0,17,0,12,0,17,0,12,0,19,0,17,0,12,0,12,0,12]
[null,"20.0 to 24.9 percent",0,17,0,12,12,21,0,12,0,17,0,12,34,51,0,17,0,12,0,12,14,18]
[null,"25.0 to 29.9 percent",0,17,0,12,9,16,0,12,11,18,0,12,35,47,79,74,0,12,0,12,8,11]
[null,"30.0 to 34.9 percent",0,17,0,12,0,17,0,12,4,7,0,12,0,19,0,17,0,12,0,12,0,12]
[null,"35.0 to 39.9 percent",0,17,0,12,0,17,0,12,22,34,0,12,0,19,0,17,0,12,0,12,0,12]
[null,"40.0 to 49.9 percent",0,17,0,12,14,23,0,12,0,17,0,12,21,35,0,17,0,12,0,12,0,12]
[null,"50.0 percent or more",0,17,0,12,42,48,0,12,0,17,0,12,329,147,13,19,17,21,7,13,0,12]
[null,"Not computed",12,20,0,12,8,13,8,10,0,17,8,13,32,29,12,19,0,12,30,47,44,68]
[null,"$20,000 to $34,999:",91,91,115,95,48,49,0,12,99,80,56,59,513,185,212,143,9,12,37,44,79,80]
[null,"Less than 20.0 percent",0,17,0,12,0,17,0,12,0,17,0,12,21,34,0,17,0,12,0,12,37,55]
[null,"20.0 to 24.9 percent",0,17,0,12,16,27,0,12,11,18,0,12,17,26,0,17,0,12,0,12,25,41]
[null,"25.0 to 29.9 percent",39,68,0,12,32,40,0,12,0,17,0,12,0,19,0,17,2,4,0,12,9,16]
[null,"30.0 to 34.9 percent",0,17,40,59,0,17,0,12,0,17,0,12,0,19,11,17,0,12,0,12,0,12]
[null,"35.0 to 39.9 percent",0,17,0,12,0,17,0,12,62,69,0,12,52,58,0,17,7,12,27,41,8,13]
[null,"40.0 to 49.9 percent",0,17,41,64,0,17,0,12,0,17,0,12,224,113,35,32,0,12,0,12,0,12]
[null,"50.0 percent or more",0,17,34,52,0,17,0,12,26,37,32,51,191,111,82,66,0,12,0,12,0,12]
[null,"Not computed",52,60,0,12,0,17,0,12,0,17,24,35,8,12,84,117,0,12,10,17,0,12]
[null,"$35,000 to $49,999:",24,29,0,12,97,73,3,5,41,55,0,12,470,225,162,113,80,66,13,14,36,38]
[null,"Less than 20.0 percent",0,17,0,12,0,17,0,12,0,17,0,12,0,19,0,17,33,50,0,12,0,12]
[null,"20.0 to 24.9 percent",0,17,0,12,60,65,0,12,0,17,0,12,5,10,0,17,23,35,0,12,9,15]
[null,"25.0 to 29.9 percent",14,24,0,12,0,17,0,12,5,7,0,12,138,148,102,110,0,12,0,12,0,12]
[null,"30.0 to 34.9 percent",0,17,0,12,0,17,0,12,0,17,0,12,104,88,60,55,16,25,0,12,0,12]
[null,"35.0 to 39.9 percent",10,16,0,12,0,17,0,12,0,17,0,12,0,19,0,17,0,12,0,12,19,32]
[null,"40.0 to 49.9 percent",0,17,0,12,0,17,3,5,0,17,0,12,191,177,0,17,0,12,6,9,8,14]
[null,"50.0 percent or more",0,17,0,12,16,20,0,12,36,54,0,12,22,35,0,17,0,12,0,12,0,12]
[null,"Not computed",0,17,0,12,21,34,0,12,0,17,0,12,10,15,0,17,8,11,7,11,0,12]
[null,"$50,000 to $74,999:",0,17,19,32,84,72,27,31,31,20,0,12,593,191,141,86,27,18,96,79,160,102]
[null,"Less than 20.0 percent",0,17,0,12,0,17,26,31,4,6,0,12,140,115,0,17,3,5,8,12,57,65]
[null,"20.0 to 24.9 percent",0,17,0,12,43,57,0,12,15,18,0,12,243,137,13,21,0,12,65,75,40,65]
[null,"25.0 to 29.9 percent",0,17,19,32,41,46,0,12,12,12,0,12,91,75,32,36,0,12,0,12,13,21]
[null,"30.0 to 34.9 percent",0,17,0,12,0,17,0,12,0,17,0,12,84,76,71,73,10,13,1,2,0,12]
[null,"35.0 to 39.9 percent",0,17,0,12,0,17,0,12,0,17,0,12,14,23,0,17,0,12,22,31,50,58]
[null,"40.0 to 49.9 percent",0,17,0,12,0,17,0,12,0,17,0,12,14,17,0,17,0,12,0,12,0,12]
[null,"50.0 percent or more",0,17,0,12,0,17,0,12,0,17,0,12,7,12,0,17,7,10,0,12,0,12]
[null,"Not computed",0,17,0,12,0,17,1,3,0,17,0,12,0,19,25,29,7,10,0,12,0,12]
[null,"$75,000 to $99,999:",15,27,56,53,31,36,13,15,21,29,31,46,258,138,23,36,0,12,75,82,15,24]
[null,"Less than 20.0 percent",15,27,33,38,18,31,0,12,0,17,0,12,139,111,23,36,0,12,41,64,0,12]
[null,"20.0 to 24.9 percent",0,17,23,36,0,17,9,14,8,14,0,12,75,76,0,17,0,12,34,51,0,12]
[null,"25.0 to 29.9 percent",0,17,0,12,0,17,0,12,0,17,31,46,44,44,0,17,0,12,0,12,0,12]
[null,"30.0 to 34.9 percent",0,17,0,12,0,17,4,6,0,17,0,12,0,19,0,17,0,12,0,12,15,24]
[null,"35.0 to 39.9 percent",0,17,0,12,0,17,0,12,13,23,0,12,0,19,0,17,0,12,0,12,0,12]
[null,"40.0 to 49.9 percent",0,17,0,12,0,17,0,12,0,17,0,12,0,19,0,17,0,12,0,12,0,12]
[null,"50.0 percent or more",0,17,0,12,0,17,0,12,0,17,0,12,0,19,0,17,0,12,0,12,0,12]
[null,"Not computed",0,17,0,12,13,21,0,12,0,17,0,12,0,19,0,17,0,12,0,12,0,12]
[null,"$100,000 or more:",10,17,50,39,99,87,3,5,49,67,9,14,397,214,67,70,3,7,29,32,158,99]
[null,"Less than 20.0 percent",10,17,30,26,99,87,0,12,9,14,9,14,332,208,67,70,0,12,16,26,88,79]
[null,"20.0 to 24.9 percent",0,17,0,12,0,17,3,5,0,17,0,12,33,42,0,17,0,12,13,20,28,42]
[null,"25.0 to 29.9 percent",0,17,0,12,0,17,0,12,0,17,0,12,0,19,0,17,0,12,0,12,0,12]
[null,"30.0 to 34.9 percent",0,17,0,12,0,17,0,12,0,17,0,12,0,19,0,17,0,12,0,12,0,12]
[null,"35.0 to 39.9 percent",0,17,0,12,0,17,0,12,0,17,0,12,0,19,0,17,0,12,0,12,0,12]
[null,"40.0 to 49.9 percent",0,17,0,12,0,17,0,12,0,17,0,12,0,19,0,17,0,12,0,12,0,12]
[null,"50.0 percent or more",0,17,0,12,0,17,0,12,0,17,0,12,0,19,0,17,0,12,0,12,0,12]
[null,"Not computed",0,17,20,26,0,17,0,12,40,65,0,12,32,48,0,17,3,7,0,12,42,59]
[]
[]
[]
[]
[]
[]
[]
[]
[]
[]
[]
[]
[]
[]
[]
[null,"Calculated B25074. HOUSEHOLD INCOME BY GROSS RENT AS A PERCENTAGE OF HOUSEHOLD INCOME IN THE PAST 12 MONTHS"]
[null,"Universe:  RENTER OCCUPIED HOUSING UNITS"]
[null,{"$f":"B3","v":"Data Set: 2018-2022 American Community Survey 5-Year Estimates"},null,null,null,null,null,114,null,null,0,114]
[]
[null,null,"Alton",null,"Barnstead",null,"Belmont",null,"Center Harbor",null,"Gilford",null,"Gilmanton",null,"Laconia",null,"Meredith",null,"New Hampton",null,"Sanbornton",null,"Tilton"]
[null," ","Estimate","Margin of Error","Estimate","Margin of Error","Estimate","Margin of Error","Estimate","Margin of Error","Estimate","Margin of Error","Estimate","Margin of Error","Estimate","Margin of Error","Estimate","Margin of Error","Estimate","Margin of Error","Estimate","Margin of Error","Estimate","Margin of Error"]
[null,"Total:",{"$f":"C7","v":168},109,240,124,486,151,54,36,298,142,104,87,2870,417,741,213,154,75,287,122,543,140]
[null,"Less than $10,000:",16,25,0,12,42,50,0,12,20,26,0,12,188,143,32,33,18,18,0,12,29,28]
[null,"Less than 30.0 percent",{"$f":"C9+C10+C11","v":0},{"$f":"SQRT((D9^2)+(D10^2)+(D11^2))","v":29.444863728670914},{"$f":"E9+E10+E11","v":0},{"$f":"SQRT((F9^2)+(F10^2)+(F11^2))","v":20.784609690826528},{"$f":"G9+G10+G11","v":0},{"$f":"SQRT((H9^2)+(H10^2)+(H11^2))","v":29.444863728670914},{"$f":"I9+I10+I11","v":0},{"$f":"SQRT((J9^2)+(J10^2)+(J11^2))","v":20.784609690826528},{"$f":"K9+K10+K11","v":0},{"$f":"SQRT((L9^2)+(L10^2)+(L11^2))","v":29.444863728670914},{"$f":"M9+M10+M11","v":0},{"$f":"SQRT((N9^2)+(N10^2)+(N11^2))","v":20.784609690826528},{"$f":"O9+O10+O11","v":0},{"$f":"SQRT((P9^2)+(P10^2)+(P11^2))","v":32.908965343808667},{"$f":"Q9+Q10+Q11","v":0},{"$f":"SQRT((R9^2)+(R10^2)+(R11^2))","v":29.444863728670914},{"$f":"S9+S10+S11","v":0},{"$f":"SQRT((T9^2)+(T10^2)+(T11^2))","v":20.784609690826528},{"$f":"U9+U10+U11","v":0},{"$f":"SQRT((V9^2)+(V10^2)+(V11^2))","v":20.784609690826528},{"$f":"W9+W10+W11","v":0},{"$f":"SQRT((X9^2)+(X10^2)+(X11^2))","v":20.784609690826528}]
[null,"More than 30.0 percent",{"$f":"C12+C13+C14+C15","v":16},{"$f":"SQRT((D12^2)+(D13^2)+(D14^2)+(D15^2))","v":38.626415831655933},{"$f":"E12+E13+E14+E15","v":0},{"$f":"SQRT((F12^2)+(F13^2)+(F14^2)+(F15^2))","v":24},{"$f":"G12+G13+G14+G15","v":0},{"$f":"SQRT((H12^2)+(H13^2)+(H14^2)+(H15^2))","v":34},{"$f":"I12+I13+I14+I15","v":0},{"$f":"SQRT((J12^2)+(J13^2)+(J14^2)+(J15^2))","v":24},{"$f":"K12+K13+K14+K15","v":0},{"$f":"SQRT((L12^2)+(L13^2)+(L14^2)+(L15^2))","v":34},{"$f":"M12+M13+M14+M15","v":0},{"$f":"SQRT((N12^2)+(N13^2)+(N14^2)+(N15^2))","v":24},{"$f":"O12+O13+O14+O15","v":175},{"$f":"SQRT((P12^2)+(P13^2)+(P14^2)+(P15^2))","v":137.98188286873028},{"$f":"Q12+Q13+Q14+Q15","v":21},{"$f":"SQRT((R12^2)+(R13^2)+(R14^2)+(R15^2))","v":39.949968710876355},{"$f":"S12+S13+S14+S15","v":0},{"$f":"SQRT((T12^2)+(T13^2)+(T14^2)+(T15^2))","v":24},{"$f":"U12+U13+U14+U15","v":0},{"$f":"SQRT((V12^2)+(V13^2)+(V14^2)+(V15^2))","v":24},{"$f":"W12+W13+W14+W15","v":29},{"$f":"SQRT((X12^2)+(X13^2)+(X14^2)+(X15^2))","v":34.871191548325392}]
[null,"Less Than 35% of HH Income",{"$f":"C9+C10+C11+C12","v":0},{"$f":"SQRT((D9^2)+(D10^2)+(D11^2)+(D12^2))","v":34},{"$f":"E9+E10+E11+E12","v":0},{"$f":"SQRT((F9^2)+(F10^2)+(F11^2)+(F12^2))","v":24},{"$f":"G9+G10+G11+G12","v":0},{"$f":"SQRT((H9^2)+(H10^2)+(H11^2)+(H12^2))","v":34},{"$f":"I9+I10+I11+I12","v":0},{"$f":"SQRT((J9^2)+(J10^2)+(J11^2)+(J12^2))","v":24},{"$f":"K9+K10+K11+K12","v":0},{"$f":"SQRT((L9^2)+(L10^2)+(L11^2)+(L12^2))","v":34},{"$f":"M9+M10+M11+M12","v":0},{"$f":"SQRT((N9^2)+(N10^2)+(N11^2)+(N12^2))","v":24},{"$f":"O9+O10+O11+O12","v":0},{"$f":"SQRT((P9^2)+(P10^2)+(P11^2)+(P12^2))","v":38},{"$f":"Q9+Q10+Q11+Q12","v":0},{"$f":"SQRT((R9^2)+(R10^2)+(R11^2)+(R12^2))","v":34},{"$f":"S9+S10+S11+S12","v":0},{"$f":"SQRT((T9^2)+(T10^2)+(T11^2)+(T12^2))","v":24},{"$f":"U9+U10+U11+U12","v":0},{"$f":"SQRT((V9^2)+(V10^2)+(V11^2)+(V12^2))","v":24},{"$f":"W9+W10+W11+W12","v":0},{"$f":"SQRT((X9^2)+(X10^2)+(X11^2)+(X12^2))","v":24}]
[null,"35.0 percent or more",{"$f":"C13+C14+C15","v":16},{"$f":"SQRT((D13^2)+(D14^2)+(D15^2))","v":34.684290392049249},{"$f":"E13+E14+E15","v":0},{"$f":"SQRT((F13^2)+(F14^2)+(F15^2))","v":20.784609690826528},{"$f":"G13+G14+G15","v":0},{"$f":"SQRT((H13^2)+(H14^2)+(H15^2))","v":29.444863728670914},{"$f":"I13+I14+I15","v":0},{"$f":"SQRT((J13^2)+(J14^2)+(J15^2))","v":20.784609690826528},{"$f":"K13+K14+K15","v":0},{"$f":"SQRT((L13^2)+(L14^2)+(L15^2))","v":29.444863728670914},{"$f":"M13+M14+M15","v":0},{"$f":"SQRT((N13^2)+(N14^2)+(N15^2))","v":20.784609690826528},{"$f":"O13+O14+O15","v":175},{"$f":"SQRT((P13^2)+(P14^2)+(P15^2))","v":136.66747967237853},{"$f":"Q13+Q14+Q15","v":21},{"$f":"SQRT((R13^2)+(R14^2)+(R15^2))","v":36.152454965050438},{"$f":"S13+S14+S15","v":0},{"$f":"SQRT((T13^2)+(T14^2)+(T15^2))","v":20.784609690826528},{"$f":"U13+U14+U15","v":0},{"$f":"SQRT((V13^2)+(V14^2)+(V15^2))","v":20.784609690826528},{"$f":"W13+W14+W15","v":29},{"$f":"SQRT((X13^2)+(X14^2)+(X15^2))","v":32.741411087489801}]
[null,"50.0 percent or more",{"$f":"C15","v":16},25,0,12,0,17,0,12,0,17,0,12,175,134,21,27,0,12,0,12,29,28]
[null,"Not Computed",{"$f":"C16","v":0},17,0,12,42,50,0,12,20,26,0,12,13,20,11,19,18,18,0,12,0,12]
[null,"$10,000 to $19,999:",{"$f":"C17","v":12},20,0,12,85,66,8,10,37,40,8,13,451,185,104,69,17,21,37,48,66,70]
[null,"Less than 30.0 percent",{"$f":"C18+C19+C20","v":0},{"$f":"SQRT((D18^2)+(D19^2)+(D20^2))","v":29.444863728670914},{"$f":"E18+E19+E20","v":0},{"$f":"SQRT((F18^2)+(F19^2)+(F20^2))","v":20.784609690826528},{"$f":"G18+G19+G20","v":21},{"$f":"SQRT((H18^2)+(H19^2)+(H20^2))","v":31.400636936215164},{"$f":"I18+I19+I20","v":0},{"$f":"SQRT((J18^2)+(J19^2)+(J20^2))","v":20.784609690826528},{"$f":"K18+K19+K20","v":11},{"$f":"SQRT((L18^2)+(L19^2)+(L20^2))","v":30.033314835362415},{"$f":"M18+M19+M20","v":0},{"$f":"SQRT((N18^2)+(N19^2)+(N20^2))","v":20.784609690826528},{"$f":"O18+O19+O20","v":69},{"$f":"SQRT((P18^2)+(P19^2)+(P20^2))","v":71.909665553387185},{"$f":"Q18+Q19+Q20","v":79},{"$f":"SQRT((R18^2)+(R19^2)+(R20^2))","v":77.80745465570763},{"$f":"S18+S19+S20","v":0},{"$f":"SQRT((T18^2)+(T19^2)+(T20^2))","v":20.784609690826528},{"$f":"U18+U19+U20","v":0},{"$f":"SQRT((V18^2)+(V19^2)+(V20^2))","v":20.784609690826528},{"$f":"W18+W19+W20","v":22},{"$f":"SQRT((X18^2)+(X19^2)+(X20^2))","v":24.269322199023193}]
[null,"More than 30.0 percent",{"$f":"C21+C22+C23+C24","v":0},{"$f":"SQRT((D21^2)+(D22^2)+(D23^2)+(D24^2))","v":34},{"$f":"E21+E22+E23+E24","v":0},{"$f":"SQRT((F21^2)+(F22^2)+(F23^2)+(F24^2))","v":24},{"$f":"G21+G22+G23+G24","v":56},{"$f":"SQRT((H21^2)+(H22^2)+(H23^2)+(H24^2))","v":58.403767001795352},{"$f":"I21+I22+I23+I24","v":0},{"$f":"SQRT((J21^2)+(J22^2)+(J23^2)+(J24^2))","v":24},{"$f":"K21+K22+K23+K24","v":26},{"$f":"SQRT((L21^2)+(L22^2)+(L23^2)+(L24^2))","v":42.225584661434823},{"$f":"M21+M22+M23+M24","v":0},{"$f":"SQRT((N21^2)+(N22^2)+(N23^2)+(N24^2))","v":24},{"$f":"O21+O22+O23+O24","v":350},{"$f":"SQRT((P21^2)+(P22^2)+(P23^2)+(P24^2))","v":153.47964034359737},{"$f":"Q21+Q22+Q23+Q24","v":13},{"$f":"SQRT((R21^2)+(R22^2)+(R23^2)+(R24^2))","v":35.042830935870462},{"$f":"S21+S22+S23+S24","v":17},{"$f":"SQRT((T21^2)+(T22^2)+(T23^2)+(T24^2))","v":29.546573405388315},{"$f":"U21+U22+U23+U24","v":7},{"$f":"SQRT((V21^2)+(V22^2)+(V23^2)+(V24^2))","v":24.515301344262525},{"$f":"W21+W22+W23+W24","v":0},{"$f":"SQRT((X21^2)+(X22^2)+(X23^2)+(X24^2))","v":24}]
[null,"Less Than 35% of HH Income",{"$f":"C18+C19+C20+C21","v":0},{"$f":"SQRT((D18^2)+(D19^2)+(D20^2)+(D21^2))","v":34},{"$f":"E18+E19+E20+E21","v":0},{"$f":"SQRT((F18^2)+(F19^2)+(F20^2)+(F21^2))","v":24},{"$f":"G18+G19+G20+G21","v":21},{"$f":"SQRT((H18^2)+(H19^2)+(H20^2)+(H21^2))","v":35.707142142714247},{"$f":"I18+I19+I20+I21","v":0},{"$f":"SQRT((J18^2)+(J19^2)+(J20^2)+(J21^2))","v":24},{"$f":"K18+K19+K20+K21","v":15},{"$f":"SQRT((L18^2)+(L19^2)+(L20^2)+(L21^2))","v":30.838287890218549},{"$f":"M18+M19+M20+M21","v":0},{"$f":"SQRT((N18^2)+(N19^2)+(N20^2)+(N21^2))","v":24},{"$f":"O18+O19+O20+O21","v":69},{"$f":"SQRT((P18^2)+(P19^2)+(P20^2)+(P21^2))","v":74.377415927148206},{"$f":"Q18+Q19+Q20+Q21","v":79},{"$f":"SQRT((R18^2)+(R19^2)+(R20^2)+(R21^2))","v":79.642953235047727},{"$f":"S18+S19+S20+S21","v":0},{"$f":"SQRT((T18^2)+(T19^2)+(T20^2)+(T21^2))","v":24},{"$f":"U18+U19+U20+U21","v":0},{"$f":"SQRT((V18^2)+(V19^2)+(V20^2)+(V21^2))","v":24},{"$f":"W18+W19+W20+W21","v":22},{"$f":"SQRT((X18^2)+(X19^2)+(X20^2)+(X21^2))","v":27.073972741361768}]
[null,"35.0 percent or more",{"$f":"C22+C23++C24","v":0},{"$f":"SQRT((D22^2)+(D23^2)+(D24^2))","v":29.444863728670914},{"$f":"E22+E23++E24","v":0},{"$f":"SQRT((F22^2)+(F23^2)+(F24^2))","v":20.784609690826528},{"$f":"G22+G23++G24","v":56},{"$f":"SQRT((H22^2)+(H23^2)+(H24^2))","v":55.87486017879597},{"$f":"I22+I23++I24","v":0},{"$f":"SQRT((J22^2)+(J23^2)+(J24^2))","v":20.784609690826528},{"$f":"K22+K23++K24","v":22},{"$f":"SQRT((L22^2)+(L23^2)+(L24^2))","v":41.641325627314025},{"$f":"M22+M23++M24","v":0},{"$f":"SQRT((N22^2)+(N23^2)+(N24^2))","v":20.784609690826528},{"$f":"O22+O23++O24","v":350},{"$f":"SQRT((P22^2)+(P23^2)+(P24^2))","v":152.29904792873788},{"$f":"Q22+Q23++Q24","v":13},{"$f":"SQRT((R22^2)+(R23^2)+(R24^2))","v":30.643106892089126},{"$f":"S22+S23++S24","v":17},{"$f":"SQRT((T22^2)+(T23^2)+(T24^2))","v":27},{"$f":"U22+U23++U24","v":7},{"$f":"SQRT((V22^2)+(V23^2)+(V24^2))","v":21.377558326431949},{"$f":"W22+W23++W24","v":0},{"$f":"SQRT((X22^2)+(X23^2)+(X24^2))","v":20.784609690826528}]
[null,"50.0 percent or more",{"$f":"C24","v":0},{"$f":"D24","v":17},{"$f":"E24","v":0},12,{"$f":"G24","v":42},48,{"$f":"I24","v":0},12,{"$f":"K24","v":0},17,{"$f":"M24","v":0},12,{"$f":"O24","v":329},147,{"$f":"Q24","v":13},19,{"$f":"S24","v":17},21,{"$f":"U24","v":7},13,{"$f":"W24","v":0},12]
[null,"Not Computed",{"$f":"C25","v":12},20,0,12,8,13,8,10,0,17,8,13,32,29,12,19,0,12,30,47,44,68]
[null,"$20,000 to $34,999:",91,91,115,95,48,49,0,12,99,80,56,59,513,185,212,143,9,12,37,44,79,80]
[null,"Less than 30.0 percent",{"$f":"C27+C28+C29","v":39},{"$f":"SQRT((D27^2)+(D28^2)+(D29^2))","v":72.124891681027847},{"$f":"E27+E28+E29","v":0},{"$f":"SQRT((F27^2)+(F28^2)+(F29^2))","v":20.784609690826528},{"$f":"G27+G28+G29","v":48},{"$f":"SQRT((H27^2)+(H28^2)+(H29^2))","v":51.166395221864128},{"$f":"I27+I28+I29","v":0},{"$f":"SQRT((J27^2)+(J28^2)+(J29^2))","v":20.784609690826528},{"$f":"K27+K28+K29","v":11},{"$f":"SQRT((L27^2)+(L28^2)+(L29^2))","v":30.033314835362415},{"$f":"M27+M28+M29","v":0},{"$f":"SQRT((N27^2)+(N28^2)+(N29^2))","v":20.784609690826528},{"$f":"O27+O28+O29","v":38},{"$f":"SQRT((P27^2)+(P28^2)+(P29^2))","v":46.82947789587238},{"$f":"Q27+Q28+Q29","v":0},{"$f":"SQRT((R27^2)+(R28^2)+(R29^2))","v":29.444863728670914},{"$f":"S27+S28+S29","v":2},{"$f":"SQRT((T27^2)+(T28^2)+(T29^2))","v":17.435595774162696},{"$f":"U27+U28+U29","v":0},{"$f":"SQRT((V27^2)+(V28^2)+(V29^2))","v":20.784609690826528},{"$f":"W27+W28+W29","v":71},{"$f":"SQRT((X27^2)+(X28^2)+(X29^2))","v":70.441465061425291}]
[null,"More than 30.0 percent",{"$f":"C30+C31+C32+C33","v":0},{"$f":"SQRT((D30^2)+(D31^2)+(D32^2)+(D33^2))","v":34},{"$f":"E30+E31+E32+E33","v":115},{"$f":"SQRT((F30^2)+(F31^2)+(F32^2)+(F33^2))","v":102.10288928331069},{"$f":"G30+G31+G32+G33","v":0},{"$f":"SQRT((H30^2)+(H31^2)+(H32^2)+(H33^2))","v":34},{"$f":"I30+I31+I32+I33","v":0},{"$f":"SQRT((J30^2)+(J31^2)+(J32^2)+(J33^2))","v":24},{"$f":"K30+K31+K32+K33","v":88},{"$f":"SQRT((L30^2)+(L31^2)+(L32^2)+(L33^2))","v":81.902380917773087},{"$f":"M30+M31+M32+M33","v":32},{"$f":"SQRT((N30^2)+(N31^2)+(N32^2)+(N33^2))","v":55.072679252057455},{"$f":"O30+O31+O32+O33","v":467},{"$f":"SQRT((P30^2)+(P31^2)+(P32^2)+(P33^2))","v":169.74981590564391},{"$f":"Q30+Q31+Q32+Q33","v":128},{"$f":"SQRT((R30^2)+(R31^2)+(R32^2)+(R33^2))","v":77.188081981611646},{"$f":"S30+S31+S32+S33","v":7},{"$f":"SQRT((T30^2)+(T31^2)+(T32^2)+(T33^2))","v":24},{"$f":"U30+U31+U32+U33","v":27},{"$f":"SQRT((V30^2)+(V31^2)+(V32^2)+(V33^2))","v":45.967379738244816},{"$f":"W30+W31+W32+W33","v":8},{"$f":"SQRT((X30^2)+(X31^2)+(X32^2)+(X33^2))","v":24.515301344262525}]
[null,"Less Than 35% of HH Income",{"$f":"C27+C28+C29+C30","v":39},{"$f":"SQRT((D27^2)+(D28^2)+(D29^2)+(D30^2))","v":74.10128204019145},{"$f":"E27+E28+E29+E30","v":40},{"$f":"SQRT((F27^2)+(F28^2)+(F29^2)+(F30^2))","v":62.553976692133652},{"$f":"G27+G28+G29+G30","v":48},{"$f":"SQRT((H27^2)+(H28^2)+(H29^2)+(H30^2))","v":53.916602266834282},{"$f":"I27+I28+I29+I30","v":0},{"$f":"SQRT((J27^2)+(J28^2)+(J29^2)+(J30^2))","v":24},{"$f":"K27+K28+K29+K30","v":11},{"$f":"SQRT((L27^2)+(L28^2)+(L29^2)+(L30^2))","v":34.510867853474792},{"$f":"M27+M28+M29+M30","v":0},{"$f":"SQRT((N27^2)+(N28^2)+(N29^2)+(N30^2))","v":24},{"$f":"O27+O28+O29+O30","v":38},{"$f":"SQRT((P27^2)+(P28^2)+(P29^2)+(P30^2))","v":50.537115073973112},{"$f":"Q27+Q28+Q29+Q30","v":11},{"$f":"SQRT((R27^2)+(R28^2)+(R29^2)+(R30^2))","v":34},{"$f":"S27+S28+S29+S30","v":2},{"$f":"SQRT((T27^2)+(T28^2)+(T29^2)+(T30^2))","v":21.166010488516726},{"$f":"U27+U28+U29+U30","v":0},{"$f":"SQRT((V27^2)+(V28^2)+(V29^2)+(V30^2))","v":24},{"$f":"W27+W28+W29+W30","v":71},{"$f":"SQRT((X27^2)+(X28^2)+(X29^2)+(X30^2))","v":71.456280339799378}]
[null,"35.0 percent or more",{"$f":"C31+C32+C33","v":0},{"$f":"SQRT((D31^2)+(D32^2)+(D33^2))","v":29.444863728670914},{"$f":"E31+E32+E33","v":75},{"$f":"SQRT((F31^2)+(F32^2)+(F33^2))","v":83.330666623998638},{"$f":"G31+G32+G33","v":0},{"$f":"SQRT((H31^2)+(H32^2)+(H33^2))","v":29.444863728670914},{"$f":"I31+I32+I33","v":0},{"$f":"SQRT((J31^2)+(J32^2)+(J33^2))","v":20.784609690826528},{"$f":"K31+K32+K33","v":88},{"$f":"SQRT((L31^2)+(L32^2)+(L33^2))","v":80.118661995817178},{"$f":"M31+M32+M33","v":32},{"$f":"SQRT((N31^2)+(N32^2)+(N33^2))","v":53.749418601506754},{"$f":"O31+O32+O33","v":467},{"$f":"SQRT((P31^2)+(P32^2)+(P33^2))","v":168.68313490091415},{"$f":"Q31+Q32+Q33","v":117},{"$f":"SQRT((R31^2)+(R32^2)+(R33^2))","v":75.292761936324268},{"$f":"S31+S32+S33","v":7},{"$f":"SQRT((T31^2)+(T32^2)+(T33^2))","v":20.784609690826528},{"$f":"U31+U32+U33","v":27},{"$f":"SQRT((V31^2)+(V32^2)+(V33^2))","v":44.37341546466758},{"$f":"W31+W32+W33","v":8},{"$f":"SQRT((X31^2)+(X32^2)+(X33^2))","v":21.377558326431949}]
[null,"50.0 percent or more",{"$f":"C33","v":0},17,34,52,0,17,0,12,26,37,32,51,191,111,82,66,0,12,0,12,0,12]
[null,"Not Computed",52,60,0,12,0,17,0,12,0,17,24,35,8,12,84,117,0,12,10,17,0,12]
[null,"$35,000 to $49,999:",24,29,0,12,97,73,3,5,41,55,0,12,470,225,162,113,80,66,13,14,36,38]
[null,"Less than 30.0 percent",{"$f":"C36+C37+C38","v":14},{"$f":"SQRT((D36^2)+(D37^2)+(D38^2))","v":33.97057550292606},{"$f":"E36+E37+E38","v":0},{"$f":"SQRT((F36^2)+(F37^2)+(F38^2))","v":20.784609690826528},{"$f":"G36+G37+G38","v":60},{"$f":"SQRT((H36^2)+(H37^2)+(H38^2))","v":69.303679555994719},{"$f":"I36+I37+I38","v":0},{"$f":"SQRT((J36^2)+(J37^2)+(J38^2))","v":20.784609690826528},{"$f":"K36+K37+K38","v":5},{"$f":"SQRT((L36^2)+(L37^2)+(L38^2))","v":25.03996805109783},{"$f":"M36+M37+M38","v":0},{"$f":"SQRT((N36^2)+(N37^2)+(N38^2))","v":20.784609690826528},{"$f":"O36+O37+O38","v":143},{"$f":"SQRT((P36^2)+(P37^2)+(P38^2))","v":149.54932296737422},{"$f":"Q36+Q37+Q38","v":102},{"$f":"SQRT((R36^2)+(R37^2)+(R38^2))","v":112.59662517144997},{"$f":"S36+S37+S38","v":56},{"$f":"SQRT((T36^2)+(T37^2)+(T38^2))","v":62.201286160335947},{"$f":"U36+U37+U38","v":0},{"$f":"SQRT((V36^2)+(V37^2)+(V38^2))","v":20.784609690826528},{"$f":"W36+W37+W38","v":9},{"$f":"SQRT((X36^2)+(X37^2)+(X38^2))","v":22.649503305812249}]
[null,"More than 30.0 percent",{"$f":"C39+C40+C41+C42","v":10},{"$f":"SQRT((D39^2)+(D40^2)+(D41^2)+(D42^2))","v":33.511192160232078},{"$f":"E39+E40+E41+E42","v":0},{"$f":"SQRT((F39^2)+(F40^2)+(F41^2)+(F42^2))","v":24},{"$f":"G39+G40+G41+G42","v":16},{"$f":"SQRT((H39^2)+(H40^2)+(H41^2)+(H42^2))","v":35.594943461115371},{"$f":"I39+I40+I41+I42","v":3},{"$f":"SQRT((J39^2)+(J40^2)+(J41^2)+(J42^2))","v":21.377558326431949},{"$f":"K39+K40+K41+K42","v":36},{"$f":"SQRT((L39^2)+(L40^2)+(L41^2)+(L42^2))","v":61.506097258727124},{"$f":"M39+M40+M41+M42","v":0},{"$f":"SQRT((N39^2)+(N40^2)+(N41^2)+(N42^2))","v":24},{"$f":"O39+O40+O41+O42","v":317},{"$f":"SQRT((P39^2)+(P40^2)+(P41^2)+(P42^2))","v":201.64076968708486},{"$f":"Q39+Q40+Q41+Q42","v":60},{"$f":"SQRT((R39^2)+(R40^2)+(R41^2)+(R42^2))","v":62.385895841928885},{"$f":"S39+S40+S41+S42","v":16},{"$f":"SQRT((T39^2)+(T40^2)+(T41^2)+(T42^2))","v":32.511536414017719},{"$f":"U39+U40+U41+U42","v":6},{"$f":"SQRT((V39^2)+(V40^2)+(V41^2)+(V42^2))","v":22.649503305812249},{"$f":"W39+W40+W41+W42","v":27},{"$f":"SQRT((X39^2)+(X40^2)+(X41^2)+(X42^2))","v":38.832975677895199}]
[null,"Less Than 35% of HH Income",{"$f":"C36+C37+C38+C39","v":14},{"$f":"SQRT((D36^2)+(D37^2)+(D38^2)+(D39^2))","v":37.986839826445156},{"$f":"E36+E37+E38+E39","v":0},{"$f":"SQRT((F36^2)+(F37^2)+(F38^2)+(F39^2))","v":24},{"$f":"G36+G37+G38+G39","v":60},{"$f":"SQRT((H36^2)+(H37^2)+(H38^2)+(H39^2))","v":71.358251099645088},{"$f":"I36+I37+I38+I39","v":0},{"$f":"SQRT((J36^2)+(J37^2)+(J38^2)+(J39^2))","v":24},{"$f":"K36+K37+K38+K39","v":5},{"$f":"SQRT((L36^2)+(L37^2)+(L38^2)+(L39^2))","v":30.265491900843113},{"$f":"M36+M37+M38+M39","v":0},{"$f":"SQRT((N36^2)+(N37^2)+(N38^2)+(N39^2))","v":24},{"$f":"O36+O37+O38+O39","v":247},{"$f":"SQRT((P36^2)+(P37^2)+(P38^2)+(P39^2))","v":173.51945135920641},{"$f":"Q36+Q37+Q38+Q39","v":162},{"$f":"SQRT((R36^2)+(R37^2)+(R38^2)+(R39^2))","v":125.31161159286079},{"$f":"S36+S37+S38+S39","v":72},{"$f":"SQRT((T36^2)+(T37^2)+(T38^2)+(T39^2))","v":67.037303048377481},{"$f":"U36+U37+U38+U39","v":0},{"$f":"SQRT((V36^2)+(V37^2)+(V38^2)+(V39^2))","v":24},{"$f":"W36+W37+W38+W39","v":9},{"$f":"SQRT((X36^2)+(X37^2)+(X38^2)+(X39^2))","v":25.632011235952593}]
[null,"35.0 percent or more",{"$f":"C40+C41+C42","v":10},{"$f":"SQRT((D40^2)+(D41^2)+(D42^2))","v":28.879058156387302},{"$f":"E40+E41+E42","v":0},{"$f":"SQRT((F40^2)+(F41^2)+(F42^2))","v":20.784609690826528},{"$f":"G40+G41+G42","v":16},{"$f":"SQRT((H40^2)+(H41^2)+(H42^2))","v":31.272991542223778},{"$f":"I40+I41+I42","v":3},{"$f":"SQRT((J40^2)+(J41^2)+(J42^2))","v":17.691806012954132},{"$f":"K40+K41+K42","v":36},{"$f":"SQRT((L40^2)+(L41^2)+(L42^2))","v":59.110066824526598},{"$f":"M40+M41+M42","v":0},{"$f":"SQRT((N40^2)+(N41^2)+(N42^2))","v":20.784609690826528},{"$f":"O40+O41+O42","v":213},{"$f":"SQRT((P40^2)+(P41^2)+(P42^2))","v":181.42491559871263},{"$f":"Q40+Q41+Q42","v":0},{"$f":"SQRT((R40^2)+(R41^2)+(R42^2))","v":29.444863728670914},{"$f":"S40+S41+S42","v":0},{"$f":"SQRT((T40^2)+(T41^2)+(T42^2))","v":20.784609690826528},{"$f":"U40+U41+U42","v":6},{"$f":"SQRT((V40^2)+(V41^2)+(V42^2))","v":19.209372712298546},{"$f":"W40+W41+W42","v":27},{"$f":"SQRT((X40^2)+(X41^2)+(X42^2))","v":36.932370625238775}]
[null,"50.0 percent or more",{"$f":"C42","v":0},{"$f":"D42","v":17},{"$f":"E42","v":0},12,{"$f":"G42","v":16},20,{"$f":"I42","v":0},12,{"$f":"K42","v":36},54,{"$f":"M42","v":0},12,{"$f":"O42","v":22},35,{"$f":"Q42","v":0},17,{"$f":"S42","v":0},12,{"$f":"U42","v":0},12,{"$f":"W42","v":0},12]
[null,"Not Computed",{"$f":"C43","v":0},17,{"$f":"E43","v":0},12,{"$f":"G43","v":21},34,{"$f":"I43","v":0},12,{"$f":"K43","v":0},17,{"$f":"M43","v":0},12,{"$f":"O43","v":10},15,{"$f":"Q43","v":0},17,{"$f":"S43","v":8},11,{"$f":"U43","v":7},11,{"$f":"W43","v":0},12]
[null,"$50,000 to $74,999:",{"$f":"C44","v":0},17,19,32,84,72,27,31,31,20,0,12,593,191,141,86,27,18,96,79,160,102]
[null,"Less than 30.0 percent",{"$f":"C45+C46+C47","v":0},{"$f":"SQRT((D45^2)+(D46^2)+(D47^2))","v":29.444863728670914},{"$f":"E45+E46+E47","v":19},{"$f":"SQRT((F45^2)+(F46^2)+(F47^2))","v":36.221540552549669},{"$f":"G45+G46+G47","v":84},{"$f":"SQRT((H45^2)+(H46^2)+(H47^2))","v":75.193084788429843},{"$f":"I45+I46+I47","v":26},{"$f":"SQRT((J45^2)+(J46^2)+(J47^2))","v":35.341194094144583},{"$f":"K45+K46+K47","v":31},{"$f":"SQRT((L45^2)+(L46^2)+(L47^2))","v":22.449944320643649},{"$f":"M45+M46+M47","v":0},{"$f":"SQRT((N45^2)+(N46^2)+(N47^2))","v":20.784609690826528},{"$f":"O45+O46+O47","v":474},{"$f":"SQRT((P45^2)+(P46^2)+(P47^2))","v":193.95618061820045},{"$f":"Q45+Q46+Q47","v":45},{"$f":"SQRT((R45^2)+(R46^2)+(R47^2))","v":45.011109739707599},{"$f":"S45+S46+S47","v":3},{"$f":"SQRT((T45^2)+(T46^2)+(T47^2))","v":17.691806012954132},{"$f":"U45+U46+U47","v":73},{"$f":"SQRT((V45^2)+(V46^2)+(V47^2))","v":76.896033707857782},{"$f":"W45+W46+W47","v":110},{"$f":"SQRT((X45^2)+(X46^2)+(X47^2))","v":94.292099350900017}]
[null,"More than 30.0 percent",{"$f":"C48+C49+C50+C51","v":0},{"$f":"SQRT((D48^2)+(D49^2)+(D50^2)+(D51^2))","v":34},{"$f":"E48+E49+E50+E51","v":0},{"$f":"SQRT((F48^2)+(F49^2)+(F50^2)+(F51^2))","v":24},{"$f":"G48+G49+G50+G51","v":0},{"$f":"SQRT((H48^2)+(H49^2)+(H50^2)+(H51^2))","v":34},{"$f":"I48+I49+I50+I51","v":0},{"$f":"SQRT((J48^2)+(J49^2)+(J50^2)+(J51^2))","v":24},{"$f":"K48+K49+K50+K51","v":0},{"$f":"SQRT((L48^2)+(L49^2)+(L50^2)+(L51^2))","v":34},{"$f":"M48+M49+M50+M51","v":0},{"$f":"SQRT((N48^2)+(N49^2)+(N50^2)+(N51^2))","v":24},{"$f":"O48+O49+O50+O51","v":119},{"$f":"SQRT((P48^2)+(P49^2)+(P50^2)+(P51^2))","v":82.085321464924533},{"$f":"Q48+Q49+Q50+Q51","v":71},{"$f":"SQRT((R48^2)+(R49^2)+(R50^2)+(R51^2))","v":78.714674616617714},{"$f":"S48+S49+S50+S51","v":17},{"$f":"SQRT((T48^2)+(T49^2)+(T50^2)+(T51^2))","v":23.600847442411894},{"$f":"U48+U49+U50+U51","v":23},{"$f":"SQRT((V48^2)+(V49^2)+(V50^2)+(V51^2))","v":35.397740040855716},{"$f":"W48+W49+W50+W51","v":50},{"$f":"SQRT((X48^2)+(X49^2)+(X50^2)+(X51^2))","v":61.611687202997452}]
[null,"Less Than 35% of HH Income",{"$f":"C48+C47+C46+C45","v":0},{"$f":"SQRT((D48^2)+(D47^2)+(D46^2)+(D45^2))","v":34},{"$f":"E48+E47+E46+E45","v":19},{"$f":"SQRT((F48^2)+(F47^2)+(F46^2)+(F45^2))","v":38.157568056677825},{"$f":"G48+G47+G46+G45","v":84},{"$f":"SQRT((H48^2)+(H47^2)+(H46^2)+(H45^2))","v":77.090855488832133},{"$f":"I48+I47+I46+I45","v":26},{"$f":"SQRT((J48^2)+(J47^2)+(J46^2)+(J45^2))","v":37.322915213043046},{"$f":"K48+K47+K46+K45","v":31},{"$f":"SQRT((L48^2)+(L47^2)+(L46^2)+(L45^2))","v":28.160255680657446},{"$f":"M48+M47+M46+M45","v":0},{"$f":"SQRT((N48^2)+(N47^2)+(N46^2)+(N45^2))","v":24},{"$f":"O48+O47+O46+O45","v":558},{"$f":"SQRT((P48^2)+(P47^2)+(P46^2)+(P45^2))","v":208.31466583032505},{"$f":"Q48+Q47+Q46+Q45","v":116},{"$f":"SQRT((R48^2)+(R47^2)+(R46^2)+(R45^2))","v":85.761296631988955},{"$f":"S48+S47+S46+S45","v":13},{"$f":"SQRT((T48^2)+(T47^2)+(T46^2)+(T45^2))","v":21.95449840010015},{"$f":"U48+U47+U46+U45","v":74},{"$f":"SQRT((V48^2)+(V47^2)+(V46^2)+(V45^2))","v":76.922038454528746},{"$f":"W48+W47+W46+W45","v":110},{"$f":"SQRT((X48^2)+(X47^2)+(X46^2)+(X45^2))","v":95.052617007634254}]
[null,"35.0 percent or more",{"$f":"C49+C50+C51","v":0},{"$f":"SQRT((D49^2)+(D50^2)+(D51^2))","v":29.444863728670914},{"$f":"E49+E50+E51","v":0},{"$f":"SQRT((F49^2)+(F50^2)+(F51^2))","v":20.784609690826528},{"$f":"G49+G50+G51","v":0},{"$f":"SQRT((H49^2)+(H50^2)+(H51^2))","v":29.444863728670914},{"$f":"I49+I50+I51","v":0},{"$f":"SQRT((J49^2)+(J50^2)+(J51^2))","v":20.784609690826528},{"$f":"K49+K50+K51","v":0},{"$f":"SQRT((L49^2)+(L50^2)+(L51^2))","v":29.444863728670914},{"$f":"M49+M50+M51","v":0},{"$f":"SQRT((N49^2)+(N50^2)+(N51^2))","v":20.784609690826528},{"$f":"O49+O50+O51","v":35},{"$f":"SQRT((P49^2)+(P50^2)+(P51^2))","v":31.016124838541646},{"$f":"Q49+Q50+Q51","v":0},{"$f":"SQRT((R49^2)+(R50^2)+(R51^2))","v":29.444863728670914},{"$f":"S49+S50+S51","v":7},{"$f":"SQRT((T49^2)+(T50^2)+(T51^2))","v":19.697715603592208},{"$f":"U49+U50+U51","v":22},{"$f":"SQRT((V49^2)+(V50^2)+(V51^2))","v":35.341194094144583},{"$f":"W49+W50+W51","v":50},{"$f":"SQRT((X49^2)+(X50^2)+(X51^2))","v":60.431779718952512}]
[null,"50.0 percent or more",{"$f":"C51","v":0},{"$f":"D51","v":17},{"$f":"E51","v":0},12,{"$f":"G51","v":0},17,{"$f":"I51","v":0},12,{"$f":"K51","v":0},17,{"$f":"M51","v":0},12,{"$f":"O51","v":7},12,{"$f":"Q51","v":0},17,{"$f":"S51","v":7},10,{"$f":"U51","v":0},12,{"$f":"W51","v":0},12]
[null,"Not Computed",{"$f":"C52","v":0},17,{"$f":"E52","v":0},12,{"$f":"G52","v":0},17,{"$f":"I52","v":1},3,{"$f":"K52","v":0},17,{"$f":"M52","v":0},12,{"$f":"O52","v":0},19,{"$f":"Q52","v":25},29,{"$f":"S52","v":7},10,{"$f":"U52","v":0},12,{"$f":"W52","v":0},12]
[null,"$75,000 to $99,999:",{"$f":"C53","v":15},27,{"$f":"E53","v":56},53,{"$f":"G53","v":31},36,{"$f":"I53","v":13},15,{"$f":"K53","v":21},29,{"$f":"M53","v":31},46,{"$f":"O53","v":258},138,{"$f":"Q53","v":23},36,{"$f":"S53","v":0},12,{"$f":"U53","v":75},82,{"$f":"W53","v":15},24]
[null,"Less than 30.0 percent",{"$f":"C54+C55+C56","v":15},{"$f":"SQRT((D54^2)+(D55^2)+(D56^2))","v":36.152454965050438},{"$f":"E54+E55+E56","v":56},{"$f":"SQRT((F54^2)+(F55^2)+(F56^2))","v":53.702886328390207},{"$f":"G54+G55+G56","v":18},{"$f":"SQRT((H54^2)+(H55^2)+(H56^2))","v":39.230090491866065},{"$f":"I54+I55+I56","v":9},{"$f":"SQRT((J54^2)+(J55^2)+(J56^2))","v":22},{"$f":"K54+K55+K56","v":8},{"$f":"SQRT((L54^2)+(L55^2)+(L56^2))","v":27.820855486487112},{"$f":"M54+M55+M56","v":31},{"$f":"SQRT((N54^2)+(N55^2)+(N56^2))","v":49.03060268852505},{"$f":"O54+O55+O56","v":258},{"$f":"SQRT((P54^2)+(P55^2)+(P56^2))","v":141.53798076841423},{"$f":"Q54+Q55+Q56","v":23},{"$f":"SQRT((R54^2)+(R55^2)+(R56^2))","v":43.289721643826724},{"$f":"S54+S55+S56","v":0},{"$f":"SQRT((T54^2)+(T55^2)+(T56^2))","v":20.784609690826528},{"$f":"U54+U55+U56","v":75},{"$f":"SQRT((V54^2)+(V55^2)+(V56^2))","v":82.710337927008865},{"$f":"W54+W55+W56","v":0},{"$f":"SQRT((X54^2)+(X55^2)+(X56^2))","v":20.784609690826528}]
[null,"More than 30.0 percent",{"$f":"C57+C58+C59+C60","v":0},{"$f":"SQRT((D57^2)+(D58^2)+(D59^2)+(D60^2))","v":34},{"$f":"E57+E58+E59+E60","v":0},{"$f":"SQRT((F57^2)+(F58^2)+(F59^2)+(F60^2))","v":24},{"$f":"G57+G58+G59+G60","v":0},{"$f":"SQRT((H57^2)+(H58^2)+(H59^2)+(H60^2))","v":34},{"$f":"I57+I58+I59+I60","v":4},{"$f":"SQRT((J57^2)+(J58^2)+(J59^2)+(J60^2))","v":21.633307652783937},{"$f":"K57+K58+K59+K60","v":13},{"$f":"SQRT((L57^2)+(L58^2)+(L59^2)+(L60^2))","v":37.363083384538811},{"$f":"M57+M58+M59+M60","v":0},{"$f":"SQRT((N57^2)+(N58^2)+(N59^2)+(N60^2))","v":24},{"$f":"O57+O58+O59+O60","v":0},{"$f":"SQRT((P57^2)+(P58^2)+(P59^2)+(P60^2))","v":38},{"$f":"Q57+Q58+Q59+Q60","v":0},{"$f":"SQRT((R57^2)+(R58^2)+(R59^2)+(R60^2))","v":34},{"$f":"S57+S58+S59+S60","v":0},{"$f":"SQRT((T57^2)+(T58^2)+(T59^2)+(T60^2))","v":24},{"$f":"U57+U58+U59+U60","v":0},{"$f":"SQRT((V57^2)+(V58^2)+(V59^2)+(V60^2))","v":24},{"$f":"W57+W58+W59+W60","v":15},{"$f":"SQRT((X57^2)+(X58^2)+(X59^2)+(X60^2))","v":31.749015732775089}]
[null,"Less Than 35% of HH Income",{"$f":"C54+C55+C56+C57","v":15},{"$f":"SQRT((D54^2)+(D55^2)+(D56^2)+(D57^2))","v":39.949968710876355},{"$f":"E54+E55+E56+E57","v":56},{"$f":"SQRT((F54^2)+(F55^2)+(F56^2)+(F57^2))","v":55.027265968790417},{"$f":"G54+G55+G56+G57","v":18},{"$f":"SQRT((H54^2)+(H55^2)+(H56^2)+(H57^2))","v":42.755116652863897},{"$f":"I54+I55+I56+I57","v":13},{"$f":"SQRT((J54^2)+(J55^2)+(J56^2)+(J57^2))","v":22.803508501982758},{"$f":"K54+K55+K56+K57","v":8},{"$f":"SQRT((L54^2)+(L55^2)+(L56^2)+(L57^2))","v":32.603680773802211},{"$f":"M54+M55+M56+M57","v":31},{"$f":"SQRT((N54^2)+(N55^2)+(N56^2)+(N57^2))","v":50.47771785649585},{"$f":"O54+O55+O56+O57","v":258},{"$f":"SQRT((P54^2)+(P55^2)+(P56^2)+(P57^2))","v":142.80756282494286},{"$f":"Q54+Q55+Q56+Q57","v":23},{"$f":"SQRT((R54^2)+(R55^2)+(R56^2)+(R57^2))","v":46.508063816933941},{"$f":"S54+S55+S56+S57","v":0},{"$f":"SQRT((T54^2)+(T55^2)+(T56^2)+(T57^2))","v":24},{"$f":"U54+U55+U56+U57","v":75},{"$f":"SQRT((V54^2)+(V55^2)+(V56^2)+(V57^2))","v":83.57631243360764},{"$f":"W54+W55+W56+W57","v":15},{"$f":"SQRT((X54^2)+(X55^2)+(X56^2)+(X57^2))","v":31.749015732775089}]
[null,"35.0 percent or more",{"$f":"C58+C59+C60","v":0},{"$f":"SQRT((D58^2)+(D59^2)+(D60^2))","v":29.444863728670914},{"$f":"E58+E59+E60","v":0},{"$f":"SQRT((F58^2)+(F59^2)+(F60^2))","v":20.784609690826528},{"$f":"G58+G59+G60","v":0},{"$f":"SQRT((H58^2)+(H59^2)+(H60^2))","v":29.444863728670914},{"$f":"I58+I59+I60","v":0},{"$f":"SQRT((J58^2)+(J59^2)+(J60^2))","v":20.784609690826528},{"$f":"K58+K59+K60","v":13},{"$f":"SQRT((L58^2)+(L59^2)+(L60^2))","v":33.271609519228249},{"$f":"M58+M59+M60","v":0},{"$f":"SQRT((N58^2)+(N59^2)+(N60^2))","v":20.784609690826528},{"$f":"O58+O59+O60","v":0},{"$f":"SQRT((P58^2)+(P59^2)+(P60^2))","v":32.908965343808667},{"$f":"Q58+Q59+Q60","v":0},{"$f":"SQRT((R58^2)+(R59^2)+(R60^2))","v":29.444863728670914},{"$f":"S58+S59+S60","v":0},{"$f":"SQRT((T58^2)+(T59^2)+(T60^2))","v":20.784609690826528},{"$f":"U58+U59+U60","v":0},{"$f":"SQRT((V58^2)+(V59^2)+(V60^2))","v":20.784609690826528},{"$f":"W58+W59+W60","v":0},{"$f":"SQRT((X58^2)+(X59^2)+(X60^2))","v":20.784609690826528}]
[null,"50.0 percent or more",{"$f":"C60","v":0},17,0,12,0,17,0,12,0,17,0,12,0,19,0,17,0,12,0,12,0,12]
[null,"Not Computed",0,17,0,12,13,21,0,12,0,17,0,12,0,19,0,17,0,12,0,12,0,12]
[null,"$100,000 or more:",10,17,50,39,99,87,3,5,49,67,9,14,397,214,67,70,3,7,29,32,158,99]
[null,"Less than 30.0 percent",{"$f":"C63+C64+C65","v":10},{"$f":"SQRT((D63^2)+(D64^2)+(D65^2))","v":29.444863728670914},{"$f":"E63+E64+E65","v":30},{"$f":"SQRT((F63^2)+(F64^2)+(F65^2))","v":31.048349392520048},{"$f":"G63+G64+G65","v":99},{"$f":"SQRT((H63^2)+(H64^2)+(H65^2))","v":90.260733433758446},{"$f":"I63+I64+I65","v":3},{"$f":"SQRT((J63^2)+(J64^2)+(J65^2))","v":17.691806012954132},{"$f":"K63+K64+K65","v":9},{"$f":"SQRT((L63^2)+(L64^2)+(L65^2))","v":27.820855486487112},{"$f":"M63+M64+M65","v":9},{"$f":"SQRT((N63^2)+(N64^2)+(N65^2))","v":22},{"$f":"O63+O64+O65","v":365},{"$f":"SQRT((P63^2)+(P64^2)+(P65^2))","v":213.04694318389082},{"$f":"Q63+Q64+Q65","v":67},{"$f":"SQRT((R63^2)+(R64^2)+(R65^2))","v":74.01351227985333},{"$f":"S63+S64+S65","v":0},{"$f":"SQRT((T63^2)+(T64^2)+(T65^2))","v":20.784609690826528},{"$f":"U63+U64+U65","v":29},{"$f":"SQRT((V63^2)+(V64^2)+(V65^2))","v":34.928498393145958},{"$f":"W63+W64+W65","v":116},{"$f":"SQRT((X63^2)+(X64^2)+(X65^2))","v":90.271811768680038}]
[null,"More than 30.0 percent",{"$f":"C66+C67+C68+C69","v":0},{"$f":"SQRT((D66^2)+(D67^2)+(D68^2)+(D69^2))","v":34},{"$f":"E66+E67+E68+E69","v":0},{"$f":"SQRT((F66^2)+(F67^2)+(F68^2)+(F69^2))","v":24},{"$f":"G66+G67+G68+G69","v":0},{"$f":"SQRT((H66^2)+(H67^2)+(H68^2)+(H69^2))","v":34},{"$f":"I66+I67+I68+I69","v":0},{"$f":"SQRT((J66^2)+(J67^2)+(J68^2)+(J69^2))","v":24},{"$f":"K66+K67+K68+K69","v":0},{"$f":"SQRT((L66^2)+(L67^2)+(L68^2)+(L69^2))","v":34},{"$f":"M66+M67+M68+M69","v":0},{"$f":"SQRT((N66^2)+(N67^2)+(N68^2)+(N69^2))","v":24},{"$f":"O66+O67+O68+O69","v":0},{"$f":"SQRT((P66^2)+(P67^2)+(P68^2)+(P69^2))","v":38},{"$f":"Q66+Q67+Q68+Q69","v":0},{"$f":"SQRT((R66^2)+(R67^2)+(R68^2)+(R69^2))","v":34},{"$f":"S66+S67+S68+S69","v":0},{"$f":"SQRT((T66^2)+(T67^2)+(T68^2)+(T69^2))","v":24},{"$f":"U66+U67+U68+U69","v":0},{"$f":"SQRT((V66^2)+(V67^2)+(V68^2)+(V69^2))","v":24},{"$f":"W66+W67+W68+W69","v":0},{"$f":"SQRT((X66^2)+(X67^2)+(X68^2)+(X69^2))","v":24}]
[null,"Less Than 35% of HH Income",{"$f":"C63+C64+C65+C66","v":10},{"$f":"SQRT(((D63^2)+(D64^2)+(D65^2)+(D66^2)))","v":34},{"$f":"E63+E64+E65+E66","v":30},{"$f":"SQRT(((F63^2)+(F64^2)+(F65^2)+(F66^2)))","v":33.286633954186478},{"$f":"G63+G64+G65+G66","v":99},{"$f":"SQRT(((H63^2)+(H64^2)+(H65^2)+(H66^2)))","v":91.847700025640279},{"$f":"I63+I64+I65+I66","v":3},{"$f":"SQRT(((J63^2)+(J64^2)+(J65^2)+(J66^2)))","v":21.377558326431949},{"$f":"K63+K64+K65+K66","v":9},{"$f":"SQRT(((L63^2)+(L64^2)+(L65^2)+(L66^2)))","v":32.603680773802211},{"$f":"M63+M64+M65+M66","v":9},{"$f":"SQRT(((N63^2)+(N64^2)+(N65^2)+(N66^2)))","v":25.059928172283335},{"$f":"O63+O64+O65+O66","v":365},{"$f":"SQRT(((P63^2)+(P64^2)+(P65^2)+(P66^2)))","v":213.89249636207438},{"$f":"Q63+Q64+Q65+Q66","v":67},{"$f":"SQRT(((R63^2)+(R64^2)+(R65^2)+(R66^2)))","v":75.940766390654758},{"$f":"S63+S64+S65+S66","v":0},{"$f":"SQRT(((T63^2)+(T64^2)+(T65^2)+(T66^2)))","v":24},{"$f":"U63+U64+U65+U66","v":29},{"$f":"SQRT(((V63^2)+(V64^2)+(V65^2)+(V66^2)))","v":36.932370625238775},{"$f":"W63+W64+W65+W66","v":116},{"$f":"SQRT(((X63^2)+(X64^2)+(X65^2)+(X66^2)))","v":91.065910196955699}]
[null,"35.0 percent or more",{"$f":"C67+C68+C69","v":0},{"$f":"SQRT((D67^2)+(D68^2)+(D69^2))","v":29.444863728670914},{"$f":"E67+E68+E69","v":0},{"$f":"SQRT((F67^2)+(F68^2)+(F69^2))","v":20.784609690826528},{"$f":"G67+G68+G69","v":0},{"$f":"SQRT((H67^2)+(H68^2)+(H69^2))","v":29.444863728670914},{"$f":"I67+I68+I69","v":0},{"$f":"SQRT((J67^2)+(J68^2)+(J69^2))","v":20.784609690826528},{"$f":"K67+K68+K69","v":0},{"$f":"SQRT((L67^2)+(L68^2)+(L69^2))","v":29.444863728670914},{"$f":"M67+M68+M69","v":0},{"$f":"SQRT((N67^2)+(N68^2)+(N69^2))","v":20.784609690826528},{"$f":"O67+O68+O69","v":0},{"$f":"SQRT((P67^2)+(P68^2)+(P69^2))","v":32.908965343808667},{"$f":"Q67+Q68+Q69","v":0},{"$f":"SQRT((R67^2)+(R68^2)+(R69^2))","v":29.444863728670914},{"$f":"S67+S68+S69","v":0},{"$f":"SQRT((T67^2)+(T68^2)+(T69^2))","v":20.784609690826528},{"$f":"U67+U68+U69","v":0},{"$f":"SQRT((V67^2)+(V68^2)+(V69^2))","v":20.784609690826528},{"$f":"W67+W68+W69","v":0},{"$f":"SQRT((X67^2)+(X68^2)+(X69^2))","v":20.784609690826528}]
[null,"50.0 percent or more",{"$f":"C69","v":0},{"$f":"D69","v":17},{"$f":"E69","v":0},12,{"$f":"G69","v":0},17,{"$f":"I69","v":0},12,{"$f":"K69","v":0},17,{"$f":"M69","v":0},12,{"$f":"O69","v":0},19,{"$f":"Q69","v":0},17,{"$f":"S69","v":0},12,{"$f":"U69","v":0},12,{"$f":"W69","v":0},12]
[null,"Not Computed",{"$f":"C70","v":0},17,{"$f":"E70","v":20},26,{"$f":"G70","v":0},17,{"$f":"I70","v":0},12,{"$f":"K70","v":40},65,{"$f":"M70","v":0},12,{"$f":"O70","v":32},48,{"$f":"Q70","v":0},17,{"$f":"S70","v":3},7,{"$f":"U70","v":0},12,{"$f":"W70","v":42},59]
[]
[]
[null,"Calculated GROSS RENT AS A PERCENTAGE OF HOUSEHOLD INCOME IN THE PAST 12 MONTHS"]
[null,"Universe:  RENTER OCCUPIED HOUSING UNITS"]
[null,{"$f":"B3","v":"Data Set: 2018-2022 American Community Survey 5-Year Estimates"}]
[]
[null,null,"Alton",null,"Barnstead",null,"Belmont",null,"Center Harbor",null,"Gilford",null,"Gilmanton",null,"Laconia",null,"Meredith",null,"New Hampton",null,"Sanbornton",null,"Tilton"]
[null," ","Estimate","Margin of Error","Estimate","Margin of Error","Estimate","Margin of Error","Estimate","Margin of Error","Estimate","Margin of Error","Estimate","Margin of Error","Estimate","Margin of Error","Estimate","Margin of Error","Estimate","Margin of Error","Estimate","Margin of Error","Estimate","Margin of Error"]
[null,{"$f":"B92","v":"Total:"},168,109,240,124,486,151,54,36,298,142,104,87,2870,417,741,213,154,75,287,122,543,140]
[null,"Less than 30.0 percent",{"$f":"C136+C129+C122+C115+C108+C101+C94","v":78},{"$f":"SQRT((D136^2)+(D129^2)+(D122^2)+(D115^2)+(D108^2)+(D101^2)+(D94^2))","v":105.5035544424926},{"$f":"E136+E129+E122+E115+E108+E101+E94","v":105},{"$f":"SQRT((F136^2)+(F129^2)+(F122^2)+(F115^2)+(F108^2)+(F101^2)+(F94^2))","v":82.993975684985713},{"$f":"G136+G129+G122+G115+G108+G101+G94","v":330},{"$f":"SQRT((H136^2)+(H129^2)+(H122^2)+(H115^2)+(H108^2)+(H101^2)+(H94^2))","v":156.88849543545251},{"$f":"I136+I129+I122+I115+I108+I101+I94","v":38},{"$f":"SQRT((J136^2)+(J129^2)+(J122^2)+(J115^2)+(J108^2)+(J101^2)+(J94^2))","v":61.432890213630678},{"$f":"K136+K129+K122+K115+K108+K101+K94","v":75},{"$f":"SQRT((L136^2)+(L129^2)+(L122^2)+(L115^2)+(L108^2)+(L101^2)+(L94^2))","v":73.143694191638971},{"$f":"M136+M129+M122+M115+M108+M101+M94","v":40},{"$f":"SQRT((N136^2)+(N129^2)+(N122^2)+(N115^2)+(N108^2)+(N101^2)+(N94^2))","v":71.049278673326441},{"$f":"O136+O129+O122+O115+O108+O101+O94","v":1347},{"$f":"SQRT((P136^2)+(P129^2)+(P122^2)+(P115^2)+(P108^2)+(P101^2)+(P94^2))","v":365.85926255870578},{"$f":"Q136+Q129+Q122+Q115+Q108+Q101+Q94","v":316},{"$f":"SQRT((R136^2)+(R129^2)+(R122^2)+(R115^2)+(R108^2)+(R101^2)+(R94^2))","v":172.75416058665562},{"$f":"S136+S129+S122+S115+S108+S101+S94","v":61},{"$f":"SQRT((T136^2)+(T129^2)+(T122^2)+(T115^2)+(T108^2)+(T101^2)+(T94^2))","v":78.828928700065433},{"$f":"U136+U129+U122+U115+U108+U101+U94","v":177},{"$f":"SQRT((V136^2)+(V129^2)+(V122^2)+(V115^2)+(V108^2)+(V101^2)+(V94^2))","v":125.30762147610974},{"$f":"W136+W129+W122+W115+W108+W101+W94","v":328},{"$f":"SQRT((X136^2)+(X129^2)+(X122^2)+(X115^2)+(X108^2)+(X101^2)+(X94^2))","v":154.81601984290901}]
[null,"More than 30.0 percent",{"$f":"C137+C130+C123+C116+C109+C102+C95","v":26},{"$f":"SQRT((D137^2)+(D130^2)+(D123^2)+(D116^2)+(D109^2)+(D102^2)+(D95^2))","v":91.624232602516244},{"$f":"E137+E130+E123+E116+E109+E102+E95","v":115},{"$f":"SQRT((F137^2)+(F130^2)+(F123^2)+(F116^2)+(F109^2)+(F102^2)+(F95^2))","v":117.81765572273113},{"$f":"G137+G130+G123+G116+G109+G102+G95","v":72},{"$f":"SQRT((H137^2)+(H130^2)+(H123^2)+(H116^2)+(H109^2)+(H102^2)+(H95^2))","v":102.26436329435587},{"$f":"I137+I130+I123+I116+I109+I102+I95","v":7},{"$f":"SQRT((J137^2)+(J130^2)+(J123^2)+(J116^2)+(J109^2)+(J102^2)+(J95^2))","v":61.684682053164543},{"$f":"K137+K130+K123+K116+K109+K102+K95","v":163},{"$f":"SQRT((L137^2)+(L130^2)+(L123^2)+(L116^2)+(L109^2)+(L102^2)+(L95^2))","v":130.91218430688565},{"$f":"M137+M130+M123+M116+M109+M102+M95","v":32},{"$f":"SQRT((N137^2)+(N130^2)+(N123^2)+(N116^2)+(N109^2)+(N102^2)+(N95^2))","v":80.55432949258531},{"$f":"O137+O130+O123+O116+O109+O102+O95","v":1428},{"$f":"SQRT((P137^2)+(P130^2)+(P123^2)+(P116^2)+(P109^2)+(P102^2)+(P95^2))","v":348.84810448101905},{"$f":"Q137+Q130+Q123+Q116+Q109+Q102+Q95","v":293},{"$f":"SQRT((R137^2)+(R130^2)+(R123^2)+(R116^2)+(R109^2)+(R102^2)+(R95^2))","v":145.5403724057349},{"$f":"S137+S130+S123+S116+S109+S102+S95","v":57},{"$f":"SQRT((T137^2)+(T130^2)+(T123^2)+(T116^2)+(T109^2)+(T102^2)+(T95^2))","v":69.217049922688844},{"$f":"U137+U130+U123+U116+U109+U102+U95","v":63},{"$f":"SQRT((V137^2)+(V130^2)+(V123^2)+(V116^2)+(V109^2)+(V102^2)+(V95^2))","v":78.790862414368831},{"$f":"W137+W130+W123+W116+W109+W102+W95","v":129},{"$f":"SQRT((X137^2)+(X130^2)+(X123^2)+(X116^2)+(X109^2)+(X102^2)+(X95^2))","v":96.337946833010719}]
[null,"Less Than 35% of HH Income",{"$f":"C138+C131+C124+C117+C110+C103+C96","v":78},{"$f":"SQRT((D138^2)+(D131^2)+(D124^2)+(D117^2)+(D110^2)+(D103^2)+(D96^2))","v":114.69088891450794},{"$f":"E138+E131+E124+E117+E110+E103+E96","v":145},{"$f":"SQRT((F138^2)+(F131^2)+(F124^2)+(F117^2)+(F110^2)+(F103^2)+(F96^2))","v":105.98584811190597},{"$f":"G138+G131+G124+G117+G110+G103+G96","v":330},{"$f":"SQRT((H138^2)+(H131^2)+(H124^2)+(H117^2)+(H110^2)+(H103^2)+(H96^2))","v":163.20845566330195},{"$f":"I138+I131+I124+I117+I110+I103+I96","v":42},{"$f":"SQRT((J138^2)+(J131^2)+(J124^2)+(J117^2)+(J110^2)+(J103^2)+(J96^2))","v":68.366658540548841},{"$f":"K138+K131+K124+K117+K110+K103+K96","v":79},{"$f":"SQRT((L138^2)+(L131^2)+(L124^2)+(L117^2)+(L110^2)+(L103^2)+(L96^2))","v":84.457089696484331},{"$f":"M138+M131+M124+M117+M110+M103+M96","v":40},{"$f":"SQRT((N138^2)+(N131^2)+(N124^2)+(N117^2)+(N110^2)+(N103^2)+(N96^2))","v":77.820305833374874},{"$f":"O138+O131+O124+O117+O110+O103+O96","v":1535},{"$f":"SQRT((P138^2)+(P131^2)+(P124^2)+(P117^2)+(P110^2)+(P103^2)+(P96^2))","v":386.2356793461733},{"$f":"Q138+Q131+Q124+Q117+Q110+Q103+Q96","v":458},{"$f":"SQRT((R138^2)+(R131^2)+(R124^2)+(R117^2)+(R110^2)+(R103^2)+(R96^2))","v":199.10549967291209},{"$f":"S138+S131+S124+S117+S110+S103+S96","v":87},{"$f":"SQRT((T138^2)+(T131^2)+(T124^2)+(T117^2)+(T110^2)+(T103^2)+(T96^2))","v":87.909043903343644},{"$f":"U138+U131+U124+U117+U110+U103+U96","v":178},{"$f":"SQRT((V138^2)+(V131^2)+(V124^2)+(V117^2)+(V110^2)+(V103^2)+(V96^2))","v":128.72451204024819},{"$f":"W138+W131+W124+W117+W110+W103+W96","v":343},{"$f":"SQRT((X138^2)+(X131^2)+(X124^2)+(X117^2)+(X110^2)+(X103^2)+(X96^2))","v":159.3988707613702}]
[null,"35.0 percent or more",{"$f":"C139+C132+C125+C118+C111+C104+C97","v":26},{"$f":"SQRT((D139^2)+(D132^2)+(D125^2)+(D118^2)+(D111^2)+(D104^2)+(D97^2))","v":79.824808173900422},{"$f":"E139+E132+E125+E118+E111+E104+E97","v":75},{"$f":"SQRT((F139^2)+(F132^2)+(F125^2)+(F118^2)+(F111^2)+(F104^2)+(F97^2))","v":97.652444925869617},{"$f":"G139+G132+G125+G118+G111+G104+G97","v":72},{"$f":"SQRT((H139^2)+(H132^2)+(H125^2)+(H118^2)+(H111^2)+(H104^2)+(H97^2))","v":91.842256069850549},{"$f":"I139+I132+I125+I118+I111+I104+I97","v":3},{"$f":"SQRT((J139^2)+(J132^2)+(J125^2)+(J118^2)+(J111^2)+(J104^2)+(J97^2))","v":53.898051912847464},{"$f":"K139+K132+K125+K118+K111+K104+K97","v":159},{"$f":"SQRT((L139^2)+(L132^2)+(L125^2)+(L118^2)+(L111^2)+(L104^2)+(L97^2))","v":123.91529364852427},{"$f":"M139+M132+M125+M118+M111+M104+M97","v":32},{"$f":"SQRT((N139^2)+(N132^2)+(N125^2)+(N118^2)+(N111^2)+(N104^2)+(N97^2))","v":74.033776075518389},{"$f":"O139+O132+O125+O118+O111+O104+O97","v":1240},{"$f":"SQRT((P139^2)+(P132^2)+(P125^2)+(P118^2)+(P111^2)+(P104^2)+(P97^2))","v":326.14413991362778},{"$f":"Q139+Q132+Q125+Q118+Q111+Q104+Q97","v":151},{"$f":"SQRT((R139^2)+(R132^2)+(R125^2)+(R118^2)+(R111^2)+(R104^2)+(R97^2))","v":106.69114302508902},{"$f":"S139+S132+S125+S118+S111+S104+S97","v":31},{"$f":"SQRT((T139^2)+(T132^2)+(T125^2)+(T118^2)+(T111^2)+(T104^2)+(T97^2))","v":57.245087125446844},{"$f":"U139+U132+U125+U118+U111+U104+U97","v":62},{"$f":"SQRT((V139^2)+(V132^2)+(V125^2)+(V118^2)+(V111^2)+(V104^2)+(V97^2))","v":73.075303625780435},{"$f":"W139+W132+W125+W118+W111+W104+W97","v":114},{"$f":"SQRT((X139^2)+(X132^2)+(X125^2)+(X118^2)+(X111^2)+(X104^2)+(X97^2))","v":88.549421229051518}]
[null,"50.0 percent or more",{"$f":"C140+C133+C126+C119+C112+C105+C98","v":16},{"$f":"SQRT((D140^2)+(D133^2)+(D126^2)+(D119^2)+(D112^2)+(D105^2)+(D98^2))","v":48.569537778323564},{"$f":"E140+E133+E126+E119+E112+E105+E98","v":34},{"$f":"SQRT((F140^2)+(F133^2)+(F126^2)+(F119^2)+(F112^2)+(F105^2)+(F98^2))","v":59.732738092272314},{"$f":"G140+G133+G126+G119+G112+G105+G98","v":58},{"$f":"SQRT((H140^2)+(H133^2)+(H126^2)+(H119^2)+(H112^2)+(H105^2)+(H98^2))","v":64.41273166075166},{"$f":"I140+I133+I126+I119+I112+I105+I98","v":0},{"$f":"SQRT((J140^2)+(J133^2)+(J126^2)+(J119^2)+(J112^2)+(J105^2)+(J98^2))","v":31.749015732775089},{"$f":"K140+K133+K126+K119+K112+K105+K98","v":62},{"$f":"SQRT((L140^2)+(L133^2)+(L126^2)+(L119^2)+(L112^2)+(L105^2)+(L98^2))","v":75.696763471102244},{"$f":"M140+M133+M126+M119+M112+M105+M98","v":32},{"$f":"SQRT((N140^2)+(N133^2)+(N126^2)+(N119^2)+(N112^2)+(N105^2)+(N98^2))","v":58.864250611045748},{"$f":"O140+O133+O126+O119+O112+O105+O98","v":724},{"$f":"SQRT((P140^2)+(P133^2)+(P126^2)+(P119^2)+(P112^2)+(P105^2)+(P98^2))","v":232.32950738121923},{"$f":"Q140+Q133+Q126+Q119+Q112+Q105+Q98","v":116},{"$f":"SQRT((R140^2)+(R133^2)+(R126^2)+(R119^2)+(R112^2)+(R105^2)+(R98^2))","v":81.252692263087511},{"$f":"S140+S133+S126+S119+S112+S105+S98","v":24},{"$f":"SQRT((T140^2)+(T133^2)+(T126^2)+(T119^2)+(T112^2)+(T105^2)+(T98^2))","v":35.510561809129406},{"$f":"U140+U133+U126+U119+U112+U105+U98","v":7},{"$f":"SQRT((V140^2)+(V133^2)+(V126^2)+(V119^2)+(V112^2)+(V105^2)+(V98^2))","v":32.140317359976393},{"$f":"W140+W133+W126+W119+W112+W105+W98","v":29},{"$f":"SQRT((X140^2)+(X133^2)+(X126^2)+(X119^2)+(X112^2)+(X105^2)+(X98^2))","v":40.595566260368876}]
[null,"Not Computed",{"$f":"C140+C134+C127+C120+C113+C106+C99","v":64},{"$f":"SQRT((D140^2)+(D134^2)+(D127^2)+(D120^2)+(D113^2)+(D106^2)+(D99^2))","v":73.79024325749306},{"$f":"E140+E134+E127+E120+E113+E106+E99","v":0},{"$f":"SQRT((F140^2)+(F134^2)+(F127^2)+(F120^2)+(F113^2)+(F106^2)+(F99^2))","v":31.749015732775089},{"$f":"G140+G134+G127+G120+G113+G106+G99","v":84},{"$f":"SQRT((H140^2)+(H134^2)+(H127^2)+(H120^2)+(H113^2)+(H106^2)+(H99^2))","v":71.644957952391877},{"$f":"I140+I134+I127+I120+I113+I106+I99","v":9},{"$f":"SQRT((J140^2)+(J134^2)+(J127^2)+(J120^2)+(J113^2)+(J106^2)+(J99^2))","v":28.792360097775937},{"$f":"K140+K134+K127+K120+K113+K106+K99","v":20},{"$f":"SQRT((L140^2)+(L134^2)+(L127^2)+(L120^2)+(L113^2)+(L106^2)+(L99^2))","v":49.091750834534309},{"$f":"M140+M134+M127+M120+M113+M106+M99","v":32},{"$f":"SQRT((N140^2)+(N134^2)+(N127^2)+(N120^2)+(N113^2)+(N106^2)+(N99^2))","v":45.978255730290599},{"$f":"O140+O134+O127+O120+O113+O106+O99","v":63},{"$f":"SQRT((P140^2)+(P134^2)+(P127^2)+(P120^2)+(P113^2)+(P106^2)+(P99^2))","v":51.894122981316485},{"$f":"Q140+Q134+Q127+Q120+Q113+Q106+Q99","v":132},{"$f":"SQRT((R140^2)+(R134^2)+(R127^2)+(R120^2)+(R113^2)+(R106^2)+(R99^2))","v":126.96062381699296},{"$f":"S140+S134+S127+S120+S113+S106+S99","v":33},{"$f":"SQRT((T140^2)+(T134^2)+(T127^2)+(T120^2)+(T113^2)+(T106^2)+(T99^2))","v":33.481338085566414},{"$f":"U140+U134+U127+U120+U113+U106+U99","v":47},{"$f":"SQRT((V140^2)+(V134^2)+(V127^2)+(V120^2)+(V113^2)+(V106^2)+(V99^2))","v":56.524331044250317},{"$f":"W140+W134+W127+W120+W113+W106+W99","v":44},{"$f":"SQRT((X140^2)+(X134^2)+(X127^2)+(X120^2)+(X113^2)+(X106^2)+(X99^2))","v":74.081036709808544}]
[]
[]
[]
[]
[]
[]
[]
[]
[]
[]
[]
[null,"B25074. HOUSEHOLD INCOME BY GROSS RENT AS A PERCENTAGE OF HOUSEHOLD INCOME IN THE PAST 12 MONTHS"]
[null,"Universe:  RENTER OCCUPIED HOUSING UNITS"]
[null,"Data Set: 2013-2017 American Community Survey 5-Year Estimates",null,null,null,null,{"$f":"'RentalHousingCost-Prior5Yr'!D41","v":"Income in 2017 Inflation Adjusted Dollars"}]
[]
[null,null,"Alton",null,"Barnstead",null,"Belmont",null,"Center Harbor",null,"Gilford",null,"Gilmanton",null,"Laconia",null,"Meredith",null,"New Hampton",null,"Sanbornton",null,"Tilton"]
[null," ","Estimate","Margin of Error","Estimate","Margin of Error","Estimate","Margin of Error","Estimate","Margin of Error","Estimate","Margin of Error","Estimate","Margin of Error","Estimate","Margin of Error","Estimate","Margin of Error","Estimate","Margin of Error","Estimate","Margin of Error","Estimate","Margin of Error"]
[null,"Total:",343,124,169,93,421,164,56,30,370,112,3118,263,3090,253,655,154,120,46,93,37,544,147]
[null,"Less than $10,000:",0,16,20,21,74,61,0,11,45,45,278,102,290,110,52,52,4,6,0,11,91,77]
[null,"Less than 20.0 percent",0,16,0,11,0,16,0,11,0,16,0,18,0,17,0,16,0,11,0,11,0,11]
[null,"20.0 to 24.9 percent",0,16,0,11,0,16,0,11,0,16,13,21,16,25,0,16,0,11,0,11,0,11]
[null,"25.0 to 29.9 percent",0,16,0,11,0,16,0,11,0,16,13,20,30,27,0,16,4,6,0,11,17,19]
[null,"30.0 to 34.9 percent",0,16,0,11,13,22,0,11,0,16,0,18,0,17,0,16,0,11,0,11,0,11]
[null,"35.0 to 39.9 percent",0,16,0,11,0,16,0,11,0,16,0,18,0,17,0,16,0,11,0,11,30,47]
[null,"40.0 to 49.9 percent",0,16,0,11,0,16,0,11,0,16,0,18,0,17,0,16,0,11,0,11,0,11]
[null,"50.0 percent or more",0,16,9,13,48,58,0,11,24,27,203,86,144,73,52,52,0,11,0,11,44,51]
[null,"Not computed",0,16,11,18,13,22,0,11,21,35,49,46,100,82,0,16,0,11,0,11,0,11]
[null,"$10,000 to $19,999:",49,70,0,11,28,34,3,5,41,42,644,177,656,173,188,86,29,27,5,7,133,84]
[null,"Less than 20.0 percent",0,16,0,11,17,27,0,11,0,16,50,50,35,42,0,16,0,11,0,11,0,11]
[null,"20.0 to 24.9 percent",0,16,0,11,0,16,0,11,0,16,16,26,12,19,21,23,0,11,0,11,9,14]
[null,"25.0 to 29.9 percent",0,16,0,11,0,16,0,11,24,39,64,49,57,55,23,26,0,11,0,11,24,18]
[null,"30.0 to 34.9 percent",0,16,0,11,0,16,0,11,0,16,0,18,0,17,10,16,0,11,0,11,0,11]
[null,"35.0 to 39.9 percent",0,16,0,11,0,16,0,11,0,16,0,18,11,18,27,42,0,11,0,11,0,11]
[null,"40.0 to 49.9 percent",0,16,0,11,0,16,0,11,5,8,83,64,89,63,24,25,0,11,0,11,40,52]
[null,"50.0 percent or more",49,70,0,11,11,21,3,5,6,10,412,145,445,141,42,31,22,25,5,7,19,27]
[null,"Not computed",0,16,0,11,0,16,0,11,6,9,19,21,7,11,41,51,7,10,0,11,41,45]
[null,"$20,000 to $34,999:",86,79,9,13,13,21,4,5,94,69,690,200,802,197,137,66,20,15,33,28,126,71]
[null,"Less than 20.0 percent",0,16,0,11,0,16,0,11,23,37,43,43,42,45,0,16,6,9,0,11,0,11]
[null,"20.0 to 24.9 percent",0,16,0,11,0,16,0,11,0,16,22,25,32,31,9,14,0,11,0,11,0,11]
[null,"25.0 to 29.9 percent",15,24,0,11,0,16,0,11,25,41,51,43,44,32,7,13,0,11,0,11,0,11]
[null,"30.0 to 34.9 percent",41,67,0,11,13,21,0,11,0,16,50,52,52,48,48,50,0,11,13,20,55,57]
[null,"35.0 to 39.9 percent",16,29,0,11,0,16,0,11,0,16,142,107,158,117,7,11,0,11,0,11,28,32]
[null,"40.0 to 49.9 percent",14,23,0,11,0,16,0,11,0,16,132,76,134,59,30,38,0,11,0,11,35,38]
[null,"50.0 percent or more",0,16,0,11,0,16,4,5,46,44,228,93,317,137,36,32,14,12,0,11,0,11]
[null,"Not computed",0,16,9,13,0,16,0,11,0,16,22,26,23,21,0,16,0,11,20,23,8,13]
[null,"$35,000 to $49,999:",79,69,45,56,94,88,6,9,45,41,475,164,496,195,19,20,14,14,10,11,48,50]
[null,"Less than 20.0 percent",14,23,36,52,0,16,0,11,0,16,13,21,17,20,0,16,0,11,0,11,5,10]
[null,"20.0 to 24.9 percent",0,16,0,11,46,73,0,11,0,16,166,104,182,138,0,16,0,11,0,11,0,11]
[null,"25.0 to 29.9 percent",65,66,0,11,37,44,0,11,0,16,116,92,189,132,0,16,10,13,0,11,6,11]
[null,"30.0 to 34.9 percent",0,16,0,11,0,16,0,11,40,40,47,42,25,21,0,16,0,11,0,11,0,11]
[null,"35.0 to 39.9 percent",0,16,9,15,0,16,0,11,5,9,66,52,10,16,0,16,0,11,0,11,37,47]
[null,"40.0 to 49.9 percent",0,16,0,11,0,16,6,9,0,16,34,29,41,29,19,20,0,11,5,8,0,11]
[null,"50.0 percent or more",0,16,0,11,11,19,0,11,0,16,33,39,32,32,0,16,0,11,0,11,0,11]
[null,"Not computed",0,16,0,11,0,16,0,11,0,16,0,18,0,17,0,16,4,7,5,8,0,11]
[null,"$50,000 to $74,999:",43,36,45,53,200,134,27,24,51,37,518,163,444,154,96,58,12,18,16,16,94,51]
[null,"Less than 20.0 percent",0,16,0,11,82,88,0,11,22,28,274,130,293,145,8,15,0,11,7,12,31,42]
[null,"20.0 to 24.9 percent",0,16,9,14,0,16,4,7,20,17,176,106,78,58,41,45,0,11,0,11,45,39]
[null,"25.0 to 29.9 percent",0,16,28,44,94,100,17,25,3,13,38,36,44,34,33,31,0,11,5,7,12,17]
[null,"30.0 to 34.9 percent",43,36,8,14,24,39,0,11,0,16,8,13,9,15,0,16,12,18,0,11,0,11]
[null,"35.0 to 39.9 percent",0,16,0,11,0,16,0,11,0,16,0,18,0,17,0,16,0,11,4,6,0,11]
[null,"40.0 to 49.9 percent",0,16,0,11,0,16,0,11,0,16,0,18,0,17,0,16,0,11,0,11,6,11]
[null,"50.0 percent or more",0,16,0,11,0,16,0,11,0,16,0,18,0,17,0,16,0,11,0,11,0,11]
[null,"Not computed",0,16,0,11,0,16,6,6,6,10,22,26,20,24,14,16,0,11,0,11,0,11]
[null,"$75,000 to $99,999:",18,32,22,35,12,21,4,6,70,74,226,117,157,88,50,35,24,22,0,11,44,35]
[null,"Less than 20.0 percent",18,32,22,35,0,16,0,11,49,67,184,109,131,83,17,19,0,11,0,11,33,31]
[null,"20.0 to 24.9 percent",0,16,0,11,0,16,4,6,21,32,31,33,12,19,9,16,0,11,0,11,0,11]
[null,"25.0 to 29.9 percent",0,16,0,11,12,21,0,11,0,16,11,17,0,17,8,13,0,11,0,11,0,11]
[null,"30.0 to 34.9 percent",0,16,0,11,0,16,0,11,0,16,0,18,0,17,0,16,12,16,0,11,0,11]
[null,"35.0 to 39.9 percent",0,16,0,11,0,16,0,11,0,16,0,18,0,17,0,16,0,11,0,11,0,11]
[null,"40.0 to 49.9 percent",0,16,0,11,0,16,0,11,0,16,0,18,0,17,0,16,0,11,0,11,0,11]
[null,"50.0 percent or more",0,16,0,11,0,16,0,11,0,16,0,18,0,17,0,16,0,11,0,11,0,11]
[null,"Not computed",0,16,0,11,0,16,0,11,0,16,0,18,14,22,16,18,12,16,0,11,11,17]
[null,"$100,000 or more:",68,78,28,43,0,16,12,15,24,31,287,143,245,133,113,89,17,15,29,21,8,13]
[null,"Less than 20.0 percent",21,33,28,43,0,16,9,14,18,30,266,140,222,131,106,87,6,9,0,11,8,13]
[null,"20.0 to 24.9 percent",47,69,0,11,0,16,0,11,6,8,7,12,7,12,0,16,0,11,7,10,0,11]
[null,"25.0 to 29.9 percent",0,16,0,11,0,16,0,11,0,16,0,18,16,17,0,16,0,11,11,16,0,11]
[null,"30.0 to 34.9 percent",0,16,0,11,0,16,0,11,0,16,0,18,0,17,7,12,0,11,0,11,0,11]
[null,"35.0 to 39.9 percent",0,16,0,11,0,16,0,11,0,16,0,18,0,17,0,16,4,6,0,11,0,11]
[null,"40.0 to 49.9 percent",0,16,0,11,0,16,0,11,0,16,0,18,0,17,0,16,0,11,0,11,0,11]
[null,"50.0 percent or more",0,16,0,11,0,16,0,11,0,16,0,18,0,17,0,16,0,11,0,11,0,11]
[null,"Not computed",0,16,0,11,0,16,3,5,0,16,14,21,0,17,0,16,7,11,11,11,0,11]
[]
[]
[]
[]
[]
[]
[]
[]
[]
[]
[]
[]
[]
[]
[]
[null,"Calculated B25074. HOUSEHOLD INCOME BY GROSS RENT AS A PERCENTAGE OF HOUSEHOLD INCOME IN THE PAST 12 MONTHS"]
[null,"Universe:  RENTER OCCUPIED HOUSING UNITS"]
[null,{"$f":"B170","v":"Data Set: 2013-2017 American Community Survey 5-Year Estimates"}]
[]
[null,null,"Alton",null,"Barnstead",null,"Belmont",null,"Center Harbor",null,"Gilford",null,"Gilmanton",null,"Laconia",null,"Meredith",null,"New Hampton",null,"Sanbornton",null,"Tilton"]
[null," ","Estimate","Margin of Error","Estimate","Margin of Error","Estimate","Margin of Error","Estimate","Margin of Error","Estimate","Margin of Error","Estimate","Margin of Error","Estimate","Margin of Error","Estimate","Margin of Error","Estimate","Margin of Error","Estimate","Margin of Error","Estimate","Margin of Error"]
[null,"Total:",{"$f":"C174","v":343},124,{"$f":"E174","v":169},93,421,164,56,30,370,112,3118,263,3090,253,655,154,120,46,93,37,544,147]
[null,"Less than $10,000:",{"$f":"C175","v":0},16,{"$f":"E175","v":20},21,74,61,0,11,45,45,278,102,290,110,52,52,4,6,0,11,91,77]
[null,"Less than 30.0 percent",{"$f":"C176+C177+C178","v":0},{"$f":"SQRT((D176^2)+(D177^2)+(D178^2))","v":27.712812921102035},{"$f":"E176+E177+E178","v":0},{"$f":"SQRT((F176^2)+(F177^2)+(F178^2))","v":19.05255888325765},{"$f":"G176+G177+G178","v":0},{"$f":"SQRT((H176^2)+(H177^2)+(H178^2))","v":27.712812921102035},{"$f":"I176+I177+I178","v":0},{"$f":"SQRT((J176^2)+(J177^2)+(J178^2))","v":19.05255888325765},{"$f":"K176+K177+K178","v":0},{"$f":"SQRT((L176^2)+(L177^2)+(L178^2))","v":27.712812921102035},{"$f":"M176+M177+M178","v":26},{"$f":"SQRT((N176^2)+(N177^2)+(N178^2))","v":34.132096331752024},{"$f":"O176+O177+O178","v":46},{"$f":"SQRT((P176^2)+(P177^2)+(P178^2))","v":40.533936399022487},{"$f":"Q176+Q177+Q178","v":0},{"$f":"SQRT((R176^2)+(R177^2)+(R178^2))","v":27.712812921102035},{"$f":"S176+S177+S178","v":4},{"$f":"SQRT((T176^2)+(T177^2)+(T178^2))","v":16.673332000533065},{"$f":"U176+U177+U178","v":0},{"$f":"SQRT((V176^2)+(V177^2)+(V178^2))","v":19.05255888325765},{"$f":"W176+W177+W178","v":17},{"$f":"SQRT((X176^2)+(X177^2)+(X178^2))","v":24.556058315617349}]
[null,"More than 30.0 percent",{"$f":"C179+C180+C181+C182","v":0},{"$f":"SQRT((D179^2)+(D180^2)+(D181^2)+(D182^2))","v":32},{"$f":"E179+E180+E181+E182","v":9},{"$f":"SQRT((F179^2)+(F180^2)+(F181^2)+(F182^2))","v":23.065125189341593},{"$f":"G179+G180+G181+G182","v":61},{"$f":"SQRT((H179^2)+(H180^2)+(H181^2)+(H182^2))","v":66.030296076876709},{"$f":"I179+I180+I181+I182","v":0},{"$f":"SQRT((J179^2)+(J180^2)+(J181^2)+(J182^2))","v":22},{"$f":"K179+K180+K181+K182","v":24},{"$f":"SQRT((L179^2)+(L180^2)+(L181^2)+(L182^2))","v":38.691084244306204},{"$f":"M179+M180+M181+M182","v":203},{"$f":"SQRT((N179^2)+(N180^2)+(N181^2)+(N182^2))","v":91.476773008234176},{"$f":"O179+O180+O181+O182","v":144},{"$f":"SQRT((P179^2)+(P180^2)+(P181^2)+(P182^2))","v":78.714674616617714},{"$f":"Q179+Q180+Q181+Q182","v":52},{"$f":"SQRT((R179^2)+(R180^2)+(R181^2)+(R182^2))","v":58.923679450624938},{"$f":"S179+S180+S181+S182","v":0},{"$f":"SQRT((T179^2)+(T180^2)+(T181^2)+(T182^2))","v":22},{"$f":"U179+U180+U181+U182","v":0},{"$f":"SQRT((V179^2)+(V180^2)+(V181^2)+(V182^2))","v":22},{"$f":"W179+W180+W181+W182","v":74},{"$f":"SQRT((X179^2)+(X180^2)+(X181^2)+(X182^2))","v":71.077422575667441}]
[null,"Less Than 35% of HH Income",{"$f":"C176+C177+C178+C179","v":0},{"$f":"SQRT((D176^2)+(D177^2)+(D178^2)+(D179^2))","v":32},{"$f":"E176+E177+E178+E179","v":0},{"$f":"SQRT((F176^2)+(F177^2)+(F178^2)+(F179^2))","v":22},{"$f":"G176+G177+G178+G179","v":13},{"$f":"SQRT((H176^2)+(H177^2)+(H178^2)+(H179^2))","v":35.383612025908263},{"$f":"I176+I177+I178+I179","v":0},{"$f":"SQRT((J176^2)+(J177^2)+(J178^2)+(J179^2))","v":22},{"$f":"K176+K177+K178+K179","v":0},{"$f":"SQRT((L176^2)+(L177^2)+(L178^2)+(L179^2))","v":32},{"$f":"M176+M177+M178+M179","v":26},{"$f":"SQRT((N176^2)+(N177^2)+(N178^2)+(N179^2))","v":38.587562763149478},{"$f":"O176+O177+O178+O179","v":46},{"$f":"SQRT((P176^2)+(P177^2)+(P178^2)+(P179^2))","v":43.954521951671822},{"$f":"Q176+Q177+Q178+Q179","v":0},{"$f":"SQRT((R176^2)+(R177^2)+(R178^2)+(R179^2))","v":32},{"$f":"S176+S177+S178+S179","v":4},{"$f":"SQRT((T176^2)+(T177^2)+(T178^2)+(T179^2))","v":19.974984355438178},{"$f":"U176+U177+U178+U179","v":0},{"$f":"SQRT((V176^2)+(V177^2)+(V178^2)+(V179^2))","v":22},{"$f":"W176+W177+W178+W179","v":17},{"$f":"SQRT((X176^2)+(X177^2)+(X178^2)+(X179^2))","v":26.90724809414742}]
[null,"35.0 percent or more",{"$f":"C180+C181+C182","v":0},{"$f":"SQRT((D180^2)+(D181^2)+(D182^2))","v":27.712812921102035},{"$f":"E180+E181+E182","v":9},{"$f":"SQRT((F180^2)+(F181^2)+(F182^2))","v":20.273134932713294},{"$f":"G180+G181+G182","v":48},{"$f":"SQRT((H180^2)+(H181^2)+(H182^2))","v":62.257529665093521},{"$f":"I180+I181+I182","v":0},{"$f":"SQRT((J180^2)+(J181^2)+(J182^2))","v":19.05255888325765},{"$f":"K180+K181+K182","v":24},{"$f":"SQRT((L180^2)+(L181^2)+(L182^2))","v":35.227829907617071},{"$f":"M180+M181+M182","v":203},{"$f":"SQRT((N180^2)+(N181^2)+(N182^2))","v":89.688349299114648},{"$f":"O180+O181+O182","v":144},{"$f":"SQRT((P180^2)+(P181^2)+(P182^2))","v":76.857010090166796},{"$f":"Q180+Q181+Q182","v":52},{"$f":"SQRT((R180^2)+(R181^2)+(R182^2))","v":56.709787515031302},{"$f":"S180+S181+S182","v":0},{"$f":"SQRT((T180^2)+(T181^2)+(T182^2))","v":19.05255888325765},{"$f":"U180+U181+U182","v":0},{"$f":"SQRT((V180^2)+(V181^2)+(V182^2))","v":19.05255888325765},{"$f":"W180+W181+W182","v":74},{"$f":"SQRT((X180^2)+(X181^2)+(X182^2))","v":70.221079456243046}]
[null,"50.0 percent or more",{"$f":"C182","v":0},16,{"$f":"E182","v":9},13,48,58,0,11,24,27,203,86,144,73,52,52,0,11,0,11,44,51]
[null,"Not Computed",{"$f":"C183","v":0},16,{"$f":"E183","v":11},18,13,22,0,11,21,35,49,46,100,82,0,16,0,11,0,11,0,11]
[null,"$10,000 to $19,999:",{"$f":"C184","v":49},70,{"$f":"E184","v":0},11,28,34,3,5,41,42,644,177,656,173,188,86,29,27,5,7,133,84]
[null,"Less than 30.0 percent",{"$f":"C185+C186+C187","v":0},{"$f":"SQRT((D185^2)+(D186^2)+(D187^2))","v":27.712812921102035},{"$f":"E185+E186+E187","v":0},{"$f":"SQRT((F185^2)+(F186^2)+(F187^2))","v":19.05255888325765},{"$f":"G185+G186+G187","v":17},{"$f":"SQRT((H185^2)+(H186^2)+(H187^2))","v":35.227829907617071},{"$f":"I185+I186+I187","v":0},{"$f":"SQRT((J185^2)+(J186^2)+(J187^2))","v":19.05255888325765},{"$f":"K185+K186+K187","v":24},{"$f":"SQRT((L185^2)+(L186^2)+(L187^2))","v":45.088801270381985},{"$f":"M185+M186+M187","v":130},{"$f":"SQRT((N185^2)+(N186^2)+(N187^2))","v":74.679314404994372},{"$f":"O185+O186+O187","v":104},{"$f":"SQRT((P185^2)+(P186^2)+(P187^2))","v":71.763500472036625},{"$f":"Q185+Q186+Q187","v":44},{"$f":"SQRT((R185^2)+(R186^2)+(R187^2))","v":38.223029707232783},{"$f":"S185+S186+S187","v":0},{"$f":"SQRT((T185^2)+(T186^2)+(T187^2))","v":19.05255888325765},{"$f":"U185+U186+U187","v":0},{"$f":"SQRT((V185^2)+(V186^2)+(V187^2))","v":19.05255888325765},{"$f":"W185+W186+W187","v":33},{"$f":"SQRT((X185^2)+(X186^2)+(X187^2))","v":25.317977802344327}]
[null,"More than 30.0 percent",{"$f":"C188+C189+C190+C191","v":49},{"$f":"SQRT((D188^2)+(D189^2)+(D190^2)+(D191^2))","v":75.286120898874842},{"$f":"E188+E189+E190+E191","v":0},{"$f":"SQRT((F188^2)+(F189^2)+(F190^2)+(F191^2))","v":22},{"$f":"G188+G189+G190+G191","v":11},{"$f":"SQRT((H188^2)+(H189^2)+(H190^2)+(H191^2))","v":34.770677301427419},{"$f":"I188+I189+I190+I191","v":3},{"$f":"SQRT((J188^2)+(J189^2)+(J190^2)+(J191^2))","v":19.697715603592208},{"$f":"K188+K189+K190+K191","v":11},{"$f":"SQRT((L188^2)+(L189^2)+(L190^2)+(L191^2))","v":26},{"$f":"M188+M189+M190+M191","v":495},{"$f":"SQRT((N188^2)+(N189^2)+(N190^2)+(N191^2))","v":160.52725625263767},{"$f":"O188+O189+O190+O191","v":545},{"$f":"SQRT((P188^2)+(P189^2)+(P190^2)+(P191^2))","v":156.40652160316077},{"$f":"Q188+Q189+Q190+Q191","v":103},{"$f":"SQRT((R188^2)+(R189^2)+(R190^2)+(R191^2))","v":60.049979184009715},{"$f":"S188+S189+S190+S191","v":22},{"$f":"SQRT((T188^2)+(T189^2)+(T190^2)+(T191^2))","v":31.432467291003423},{"$f":"U188+U189+U190+U191","v":5},{"$f":"SQRT((V188^2)+(V189^2)+(V190^2)+(V191^2))","v":20.297783130184438},{"$f":"W188+W189+W190+W191","v":59},{"$f":"SQRT((X188^2)+(X189^2)+(X190^2)+(X191^2))","v":60.621778264910702}]
[null,"Less Than 35% of HH Income",{"$f":"C185+C186+C187+C188","v":0},{"$f":"SQRT((D185^2)+(D186^2)+(D187^2)+(D188^2))","v":32},{"$f":"E185+E186+E187+E188","v":0},{"$f":"SQRT((F185^2)+(F186^2)+(F187^2)+(F188^2))","v":22},{"$f":"G185+G186+G187+G188","v":17},{"$f":"SQRT((H185^2)+(H186^2)+(H187^2)+(H188^2))","v":38.691084244306204},{"$f":"I185+I186+I187+I188","v":0},{"$f":"SQRT((J185^2)+(J186^2)+(J187^2)+(J188^2))","v":22},{"$f":"K185+K186+K187+K188","v":24},{"$f":"SQRT((L185^2)+(L186^2)+(L187^2)+(L188^2))","v":47.843494855622744},{"$f":"M185+M186+M187+M188","v":130},{"$f":"SQRT((N185^2)+(N186^2)+(N187^2)+(N188^2))","v":76.817966648434535},{"$f":"O185+O186+O187+O188","v":104},{"$f":"SQRT((P185^2)+(P186^2)+(P187^2)+(P188^2))","v":73.749576269969168},{"$f":"Q185+Q186+Q187+Q188","v":54},{"$f":"SQRT((R185^2)+(R186^2)+(R187^2)+(R188^2))","v":41.43669871020132},{"$f":"S185+S186+S187+S188","v":0},{"$f":"SQRT((T185^2)+(T186^2)+(T187^2)+(T188^2))","v":22},{"$f":"U185+U186+U187+U188","v":0},{"$f":"SQRT((V185^2)+(V186^2)+(V187^2)+(V188^2))","v":22},{"$f":"W185+W186+W187+W188","v":33},{"$f":"SQRT((X185^2)+(X186^2)+(X187^2)+(X188^2))","v":27.604347483684521}]
[null,"35.0 percent or more",{"$f":"C189+C190++C191","v":49},{"$f":"SQRT((D189^2)+(D190^2)+(D191^2))","v":73.566296630998082},{"$f":"E189+E190++E191","v":0},{"$f":"SQRT((F189^2)+(F190^2)+(F191^2))","v":19.05255888325765},{"$f":"G189+G190++G191","v":11},{"$f":"SQRT((H189^2)+(H190^2)+(H191^2))","v":30.870698080866262},{"$f":"I189+I190++I191","v":3},{"$f":"SQRT((J189^2)+(J190^2)+(J191^2))","v":16.340134638368191},{"$f":"K189+K190++K191","v":11},{"$f":"SQRT((L189^2)+(L190^2)+(L191^2))","v":20.493901531919196},{"$f":"M189+M190++M191","v":495},{"$f":"SQRT((N189^2)+(N190^2)+(N191^2))","v":159.51488958714793},{"$f":"O189+O190++O191","v":545},{"$f":"SQRT((P189^2)+(P190^2)+(P191^2))","v":155.47990223819926},{"$f":"Q189+Q190++Q191","v":93},{"$f":"SQRT((R189^2)+(R190^2)+(R191^2))","v":57.879184513951124},{"$f":"S189+S190++S191","v":22},{"$f":"SQRT((T189^2)+(T190^2)+(T191^2))","v":29.444863728670914},{"$f":"U189+U190++U191","v":5},{"$f":"SQRT((V189^2)+(V190^2)+(V191^2))","v":17.058722109231979},{"$f":"W189+W190++W191","v":59},{"$f":"SQRT((X189^2)+(X190^2)+(X191^2))","v":59.615434243155519}]
[null,"50.0 percent or more",{"$f":"C191","v":49},{"$f":"D191","v":70},0,{"$f":"F191","v":11},11,21,3,5,6,10,412,145,445,141,42,31,22,25,5,7,19,27]
[null,"Not Computed",{"$f":"C192","v":0},16,{"$f":"E192","v":0},11,0,16,0,11,6,9,19,21,7,11,41,51,7,10,0,11,41,45]
[null,"$20,000 to $34,999:",{"$f":"C193","v":86},79,{"$f":"E193","v":9},13,13,21,4,5,94,69,690,200,802,197,137,66,20,15,33,28,126,71]
[null,"Less than 30.0 percent",{"$f":"C194+C195+C196","v":15},{"$f":"SQRT((D194^2)+(D195^2)+(D196^2))","v":32.984845004941285},{"$f":"E194+E195+E196","v":0},{"$f":"SQRT((F194^2)+(F195^2)+(F196^2))","v":19.05255888325765},{"$f":"G194+G195+G196","v":0},{"$f":"SQRT((H194^2)+(H195^2)+(H196^2))","v":27.712812921102035},{"$f":"I194+I195+I196","v":0},{"$f":"SQRT((J194^2)+(J195^2)+(J196^2))","v":19.05255888325765},{"$f":"K194+K195+K196","v":48},{"$f":"SQRT((L194^2)+(L195^2)+(L196^2))","v":57.497826045860201},{"$f":"M194+M195+M196","v":116},{"$f":"SQRT((N194^2)+(N195^2)+(N196^2))","v":65.749524713111043},{"$f":"O194+O195+O196","v":118},{"$f":"SQRT((P194^2)+(P195^2)+(P196^2))","v":63.324560795950255},{"$f":"Q194+Q195+Q196","v":16},{"$f":"SQRT((R194^2)+(R195^2)+(R196^2))","v":24.919871588754223},{"$f":"S194+S195+S196","v":6},{"$f":"SQRT((T194^2)+(T195^2)+(T196^2))","v":17.972200755611428},{"$f":"U194+U195+U196","v":0},{"$f":"SQRT((V194^2)+(V195^2)+(V196^2))","v":19.05255888325765},{"$f":"W194+W195+W196","v":0},{"$f":"SQRT((X194^2)+(X195^2)+(X196^2))","v":19.05255888325765}]
[null,"More than 30.0 percent",{"$f":"C197+C198+C199+C200","v":71},{"$f":"SQRT((D197^2)+(D198^2)+(D199^2)+(D200^2))","v":78.198465458089387},{"$f":"E197+E198+E199+E200","v":0},{"$f":"SQRT((F197^2)+(F198^2)+(F199^2)+(F200^2))","v":22},{"$f":"G197+G198+G199+G200","v":13},{"$f":"SQRT((H197^2)+(H198^2)+(H199^2)+(H200^2))","v":34.770677301427419},{"$f":"I197+I198+I199+I200","v":4},{"$f":"SQRT((J197^2)+(J198^2)+(J199^2)+(J200^2))","v":19.697715603592208},{"$f":"K197+K198+K199+K200","v":46},{"$f":"SQRT((L197^2)+(L198^2)+(L199^2)+(L200^2))","v":52},{"$f":"M197+M198+M199+M200","v":552},{"$f":"SQRT((N197^2)+(N198^2)+(N199^2)+(N200^2))","v":169.05028837597408},{"$f":"O197+O198+O199+O200","v":661},{"$f":"SQRT((P197^2)+(P198^2)+(P199^2)+(P200^2))","v":195.55817548750039},{"$f":"Q197+Q198+Q199+Q200","v":121},{"$f":"SQRT((R197^2)+(R198^2)+(R199^2)+(R200^2))","v":71.337227308047233},{"$f":"S197+S198+S199+S200","v":14},{"$f":"SQRT((T197^2)+(T198^2)+(T199^2)+(T200^2))","v":22.516660498395403},{"$f":"U197+U198+U199+U200","v":13},{"$f":"SQRT((V197^2)+(V198^2)+(V199^2)+(V200^2))","v":27.622454633866266},{"$f":"W197+W198+W199+W200","v":118},{"$f":"SQRT((X197^2)+(X198^2)+(X199^2)+(X200^2))","v":76.406805979572269}]
[null,"Less Than 35% of HH Income",{"$f":"C194+C195+C196+C197","v":56},{"$f":"SQRT((D194^2)+(D195^2)+(D196^2)+(D197^2))","v":74.679314404994372},{"$f":"E194+E195+E196+E197","v":0},{"$f":"SQRT((F194^2)+(F195^2)+(F196^2)+(F197^2))","v":22},{"$f":"G194+G195+G196+G197","v":13},{"$f":"SQRT((H194^2)+(H195^2)+(H196^2)+(H197^2))","v":34.770677301427419},{"$f":"I194+I195+I196+I197","v":0},{"$f":"SQRT((J194^2)+(J195^2)+(J196^2)+(J197^2))","v":22},{"$f":"K194+K195+K196+K197","v":48},{"$f":"SQRT((L194^2)+(L195^2)+(L196^2)+(L197^2))","v":59.682493245507096},{"$f":"M194+M195+M196+M197","v":166},{"$f":"SQRT((N194^2)+(N195^2)+(N196^2)+(N197^2))","v":83.827203221865872},{"$f":"O194+O195+O196+O197","v":170},{"$f":"SQRT((P194^2)+(P195^2)+(P196^2)+(P197^2))","v":79.460682101275722},{"$f":"Q194+Q195+Q196+Q197","v":64},{"$f":"SQRT((R194^2)+(R195^2)+(R196^2)+(R197^2))","v":55.865910893853687},{"$f":"S194+S195+S196+S197","v":6},{"$f":"SQRT((T194^2)+(T195^2)+(T196^2)+(T197^2))","v":21.071307505705477},{"$f":"U194+U195+U196+U197","v":13},{"$f":"SQRT((V194^2)+(V195^2)+(V196^2)+(V197^2))","v":27.622454633866266},{"$f":"W194+W195+W196+W197","v":55},{"$f":"SQRT((X194^2)+(X195^2)+(X196^2)+(X197^2))","v":60.099916805266879}]
[null,"35.0 percent or more",{"$f":"C198+C199+C200","v":30},{"$f":"SQRT((D198^2)+(D199^2)+(D200^2))","v":40.323690307311907},{"$f":"E198+E199+E200","v":0},{"$f":"SQRT((F198^2)+(F199^2)+(F200^2))","v":19.05255888325765},{"$f":"G198+G199+G200","v":0},{"$f":"SQRT((H198^2)+(H199^2)+(H200^2))","v":27.712812921102035},{"$f":"I198+I199+I200","v":4},{"$f":"SQRT((J198^2)+(J199^2)+(J200^2))","v":16.340134638368191},{"$f":"K198+K199+K200","v":46},{"$f":"SQRT((L198^2)+(L199^2)+(L200^2))","v":49.477267507411923},{"$f":"M198+M199+M200","v":502},{"$f":"SQRT((N198^2)+(N199^2)+(N200^2))","v":160.85397104206038},{"$f":"O198+O199+O200","v":609},{"$f":"SQRT((P198^2)+(P199^2)+(P200^2))","v":189.57584234284704},{"$f":"Q198+Q199+Q200","v":73},{"$f":"SQRT((R198^2)+(R199^2)+(R200^2))","v":50.882216932834204},{"$f":"S198+S199+S200","v":14},{"$f":"SQRT((T198^2)+(T199^2)+(T200^2))","v":19.646882704388499},{"$f":"U198+U199+U200","v":0},{"$f":"SQRT((V198^2)+(V199^2)+(V200^2))","v":19.05255888325765},{"$f":"W198+W199+W200","v":63},{"$f":"SQRT((X198^2)+(X199^2)+(X200^2))","v":50.882216932834204}]
[null,"50.0 percent or more",{"$f":"C200","v":0},16,{"$f":"E200","v":0},11,0,16,4,5,46,44,228,93,317,137,36,32,14,12,0,11,0,11]
[null,"Not Computed",{"$f":"C201","v":0},16,{"$f":"E201","v":9},13,0,16,0,11,0,16,22,26,23,21,0,16,0,11,20,23,8,13]
[null,"$35,000 to $49,999:",{"$f":"C202","v":79},69,{"$f":"E202","v":45},56,94,88,6,9,45,41,475,164,496,195,19,20,14,14,10,11,48,50]
[null,"Less than 30.0 percent",{"$f":"C203+C204+C205","v":79},{"$f":"SQRT((D203^2)+(D204^2)+(D205^2))","v":71.700767080973407},{"$f":"E203+E204+E205","v":36},{"$f":"SQRT((F203^2)+(F204^2)+(F205^2))","v":54.277066980447643},{"$f":"G203+G204+G205","v":83},{"$f":"SQRT((H203^2)+(H204^2)+(H205^2))","v":86.723699183095277},{"$f":"I203+I204+I205","v":0},{"$f":"SQRT((J203^2)+(J204^2)+(J205^2))","v":19.05255888325765},{"$f":"K203+K204+K205","v":0},{"$f":"SQRT((L203^2)+(L204^2)+(L205^2))","v":27.712812921102035},{"$f":"M203+M204+M205","v":295},{"$f":"SQRT((N203^2)+(N204^2)+(N205^2))","v":140.43147795277241},{"$f":"O203+O204+O205","v":388},{"$f":"SQRT((P203^2)+(P204^2)+(P205^2))","v":192.01041638411183},{"$f":"Q203+Q204+Q205","v":0},{"$f":"SQRT((R203^2)+(R204^2)+(R205^2))","v":27.712812921102035},{"$f":"S203+S204+S205","v":10},{"$f":"SQRT((T203^2)+(T204^2)+(T205^2))","v":20.273134932713294},{"$f":"U203+U204+U205","v":0},{"$f":"SQRT((V203^2)+(V204^2)+(V205^2))","v":19.05255888325765},{"$f":"W203+W204+W205","v":11},{"$f":"SQRT((X203^2)+(X204^2)+(X205^2))","v":18.493242008906929}]
[null,"More than 30.0 percent",{"$f":"C206+C207+C208+C209","v":0},{"$f":"SQRT((D206^2)+(D207^2)+(D208^2)+(D209^2))","v":32},{"$f":"E206+E207+E208+E209","v":9},{"$f":"SQRT((F206^2)+(F207^2)+(F208^2)+(F209^2))","v":24.248711305964282},{"$f":"G206+G207+G208+G209","v":11},{"$f":"SQRT((H206^2)+(H207^2)+(H208^2)+(H209^2))","v":33.600595232822883},{"$f":"I206+I207+I208+I209","v":6},{"$f":"SQRT((J206^2)+(J207^2)+(J208^2)+(J209^2))","v":21.071307505705477},{"$f":"K206+K207+K208+K209","v":45},{"$f":"SQRT((L206^2)+(L207^2)+(L208^2)+(L209^2))","v":46.82947789587238},{"$f":"M206+M207+M208+M209","v":180},{"$f":"SQRT((N206^2)+(N207^2)+(N208^2)+(N209^2))","v":82.643814045577543},{"$f":"O206+O207+O208+O209","v":108},{"$f":"SQRT((P206^2)+(P207^2)+(P208^2)+(P209^2))","v":50.616202939375057},{"$f":"Q206+Q207+Q208+Q209","v":19},{"$f":"SQRT((R206^2)+(R207^2)+(R208^2)+(R209^2))","v":34.176014981270121},{"$f":"S206+S207+S208+S209","v":0},{"$f":"SQRT((T206^2)+(T207^2)+(T208^2)+(T209^2))","v":22},{"$f":"U206+U207+U208+U209","v":5},{"$f":"SQRT((V206^2)+(V207^2)+(V208^2)+(V209^2))","v":20.663978319771825},{"$f":"W206+W207+W208+W209","v":37},{"$f":"SQRT((X206^2)+(X207^2)+(X208^2)+(X209^2))","v":50.714889332423866}]
[null,"Less Than 35% of HH Income",{"$f":"C203+C204+C205+C206","v":79},{"$f":"SQRT((D203^2)+(D204^2)+(D205^2)+(D206^2))","v":73.464277033126791},{"$f":"E203+E204+E205+E206","v":36},{"$f":"SQRT((F203^2)+(F204^2)+(F205^2)+(F206^2))","v":55.380501984001555},{"$f":"G203+G204+G205+G206","v":83},{"$f":"SQRT((H203^2)+(H204^2)+(H205^2)+(H206^2))","v":88.1873006730561},{"$f":"I203+I204+I205+I206","v":0},{"$f":"SQRT((J203^2)+(J204^2)+(J205^2)+(J206^2))","v":22},{"$f":"K203+K204+K205+K206","v":40},{"$f":"SQRT((L203^2)+(L204^2)+(L205^2)+(L206^2))","v":48.662100242385755},{"$f":"M203+M204+M205+M206","v":342},{"$f":"SQRT((N203^2)+(N204^2)+(N205^2)+(N206^2))","v":146.57762448614045},{"$f":"O203+O204+O205+O206","v":413},{"$f":"SQRT((P203^2)+(P204^2)+(P205^2)+(P206^2))","v":193.15537786973471},{"$f":"Q203+Q204+Q205+Q206","v":0},{"$f":"SQRT((R203^2)+(R204^2)+(R205^2)+(R206^2))","v":32},{"$f":"S203+S204+S205+S206","v":10},{"$f":"SQRT((T203^2)+(T204^2)+(T205^2)+(T206^2))","v":23.065125189341593},{"$f":"U203+U204+U205+U206","v":0},{"$f":"SQRT((V203^2)+(V204^2)+(V205^2)+(V206^2))","v":22},{"$f":"W203+W204+W205+W206","v":11},{"$f":"SQRT((X203^2)+(X204^2)+(X205^2)+(X206^2))","v":21.517434791350013}]
[null,"35.0 percent or more",{"$f":"C207+C208+C209","v":0},{"$f":"SQRT((D207^2)+(D208^2)+(D209^2))","v":27.712812921102035},{"$f":"E207+E208+E209","v":9},{"$f":"SQRT((F207^2)+(F208^2)+(F209^2))","v":21.61018278497431},{"$f":"G207+G208+G209","v":11},{"$f":"SQRT((H207^2)+(H208^2)+(H209^2))","v":29.546573405388315},{"$f":"I207+I208+I209","v":6},{"$f":"SQRT((J207^2)+(J208^2)+(J209^2))","v":17.972200755611428},{"$f":"K207+K208+K209","v":5},{"$f":"SQRT((L207^2)+(L208^2)+(L209^2))","v":24.351591323771842},{"$f":"M207+M208+M209","v":133},{"$f":"SQRT((N207^2)+(N208^2)+(N209^2))","v":71.175838597096984},{"$f":"O207+O208+O209","v":83},{"$f":"SQRT((P207^2)+(P208^2)+(P209^2))","v":46.054315758677816},{"$f":"Q207+Q208+Q209","v":19},{"$f":"SQRT((R207^2)+(R208^2)+(R209^2))","v":30.199337741082999},{"$f":"S207+S208+S209","v":0},{"$f":"SQRT((T207^2)+(T208^2)+(T209^2))","v":19.05255888325765},{"$f":"U207+U208+U209","v":5},{"$f":"SQRT((V207^2)+(V208^2)+(V209^2))","v":17.4928556845359},{"$f":"W207+W208+W209","v":37},{"$f":"SQRT((X207^2)+(X208^2)+(X209^2))","v":49.507575177946251}]
[null,"50.0 percent or more",{"$f":"C209","v":0},{"$f":"D209","v":16},0,{"$f":"F209","v":11},11,19,0,11,0,16,33,39,32,32,0,16,0,11,0,11,0,11]
[null,"Not Computed",{"$f":"C210","v":0},{"$f":"D210","v":16},0,{"$f":"F210","v":11},0,16,0,11,0,16,0,18,0,17,0,16,4,7,5,8,0,11]
[null,"$50,000 to $74,999:",{"$f":"C211","v":43},36,{"$f":"E211","v":45},53,200,134,27,24,51,37,518,163,444,154,96,58,12,18,16,16,94,51]
[null,"Less than 30.0 percent",{"$f":"C212+C213+C214","v":0},{"$f":"SQRT((D212^2)+(D213^2)+(D214^2))","v":27.712812921102035},{"$f":"E212+E213+E214","v":37},{"$f":"SQRT((F212^2)+(F213^2)+(F214^2))","v":47.465777145223271},{"$f":"G212+G213+G214","v":176},{"$f":"SQRT((H212^2)+(H213^2)+(H214^2))","v":134.16407864998737},{"$f":"I212+I213+I214","v":21},{"$f":"SQRT((J212^2)+(J213^2)+(J214^2))","v":28.195744359743369},{"$f":"K212+K213+K214","v":45},{"$f":"SQRT((L212^2)+(L213^2)+(L214^2))","v":35.242020373412188},{"$f":"M212+M213+M214","v":488},{"$f":"SQRT((N212^2)+(N213^2)+(N214^2))","v":171.55757051205873},{"$f":"O212+O213+O214","v":415},{"$f":"SQRT((P212^2)+(P213^2)+(P214^2))","v":159.8280325850256},{"$f":"Q212+Q213+Q214","v":82},{"$f":"SQRT((R212^2)+(R213^2)+(R214^2))","v":56.665686266028757},{"$f":"S212+S213+S214","v":0},{"$f":"SQRT((T212^2)+(T213^2)+(T214^2))","v":19.05255888325765},{"$f":"U212+U213+U214","v":12},{"$f":"SQRT((V212^2)+(V213^2)+(V214^2))","v":17.720045146669349},{"$f":"W212+W213+W214","v":88},{"$f":"SQRT((X212^2)+(X213^2)+(X214^2))","v":59.782940710540494}]
[null,"More than 30.0 percent",{"$f":"C215+C216+C217+C218","v":43},{"$f":"SQRT((D215^2)+(D216^2)+(D217^2)+(D218^2))","v":45.431266766402189},{"$f":"E215+E216+E217+E218","v":8},{"$f":"SQRT((F215^2)+(F216^2)+(F217^2)+(F218^2))","v":23.643180835073778},{"$f":"G215+G216+G217+G218","v":24},{"$f":"SQRT((H215^2)+(H216^2)+(H217^2)+(H218^2))","v":47.843494855622744},{"$f":"I215+I216+I217+I218","v":0},{"$f":"SQRT((J215^2)+(J216^2)+(J217^2)+(J218^2))","v":22},{"$f":"K215+K216+K217+K218","v":0},{"$f":"SQRT((L215^2)+(L216^2)+(L217^2)+(L218^2))","v":32},{"$f":"M215+M216+M217+M218","v":8},{"$f":"SQRT((N215^2)+(N216^2)+(N217^2)+(N218^2))","v":33.77869150810907},{"$f":"O215+O216+O217+O218","v":9},{"$f":"SQRT((P215^2)+(P216^2)+(P217^2)+(P218^2))","v":33.045423283716609},{"$f":"Q215+Q216+Q217+Q218","v":0},{"$f":"SQRT((R215^2)+(R216^2)+(R217^2)+(R218^2))","v":32},{"$f":"S215+S216+S217+S218","v":12},{"$f":"SQRT((T215^2)+(T216^2)+(T217^2)+(T218^2))","v":26.210684844162312},{"$f":"U215+U216+U217+U218","v":4},{"$f":"SQRT((V215^2)+(V216^2)+(V217^2)+(V218^2))","v":19.974984355438178},{"$f":"W215+W216+W217+W218","v":6},{"$f":"SQRT((X215^2)+(X216^2)+(X217^2)+(X218^2))","v":22}]
[null,"Less Than 35% of HH Income",{"$f":"C215+C214+C213+C212","v":43},{"$f":"SQRT((D215^2)+(D214^2)+(D213^2)+(D212^2))","v":45.431266766402189},{"$f":"E215+E214+E213+E212","v":45},{"$f":"SQRT((F215^2)+(F214^2)+(F213^2)+(F212^2))","v":49.48737212663449},{"$f":"G215+G214+G213+G212","v":200},{"$f":"SQRT((H215^2)+(H214^2)+(H213^2)+(H212^2))","v":139.71757226634023},{"$f":"I215+I214+I213+I212","v":21},{"$f":"SQRT((J215^2)+(J214^2)+(J213^2)+(J212^2))","v":30.265491900843113},{"$f":"K215+K214+K213+K212","v":45},{"$f":"SQRT((L215^2)+(L214^2)+(L213^2)+(L212^2))","v":38.704004960727254},{"$f":"M215+M214+M213+M212","v":496},{"$f":"SQRT((N215^2)+(N214^2)+(N213^2)+(N212^2))","v":172.04941150727601},{"$f":"O215+O214+O213+O212","v":424},{"$f":"SQRT((P215^2)+(P214^2)+(P213^2)+(P212^2))","v":160.53037095827071},{"$f":"Q215+Q214+Q213+Q212","v":82},{"$f":"SQRT((R215^2)+(R214^2)+(R213^2)+(R212^2))","v":58.881236400062114},{"$f":"S215+S214+S213+S212","v":12},{"$f":"SQRT((T215^2)+(T214^2)+(T213^2)+(T212^2))","v":26.210684844162312},{"$f":"U215+U214+U213+U212","v":12},{"$f":"SQRT((V215^2)+(V214^2)+(V213^2)+(V212^2))","v":20.85665361461421},{"$f":"W215+W214+W213+W212","v":88},{"$f":"SQRT((X215^2)+(X214^2)+(X213^2)+(X212^2))","v":60.786511661716531}]
[null,"35.0 percent or more",{"$f":"C216+C217+C218","v":0},{"$f":"SQRT((D216^2)+(D217^2)+(D218^2))","v":27.712812921102035},{"$f":"E216+E217+E218","v":0},{"$f":"SQRT((F216^2)+(F217^2)+(F218^2))","v":19.05255888325765},{"$f":"G216+G217+G218","v":0},{"$f":"SQRT((H216^2)+(H217^2)+(H218^2))","v":27.712812921102035},{"$f":"I216+I217+I218","v":0},{"$f":"SQRT((J216^2)+(J217^2)+(J218^2))","v":19.05255888325765},{"$f":"K216+K217+K218","v":0},{"$f":"SQRT((L216^2)+(L217^2)+(L218^2))","v":27.712812921102035},{"$f":"M216+M217+M218","v":0},{"$f":"SQRT((N216^2)+(N217^2)+(N218^2))","v":31.176914536239792},{"$f":"O216+O217+O218","v":0},{"$f":"SQRT((P216^2)+(P217^2)+(P218^2))","v":29.444863728670914},{"$f":"Q216+Q217+Q218","v":0},{"$f":"SQRT((R216^2)+(R217^2)+(R218^2))","v":27.712812921102035},{"$f":"S216+S217+S218","v":0},{"$f":"SQRT((T216^2)+(T217^2)+(T218^2))","v":19.05255888325765},{"$f":"U216+U217+U218","v":4},{"$f":"SQRT((V216^2)+(V217^2)+(V218^2))","v":16.673332000533065},{"$f":"W216+W217+W218","v":6},{"$f":"SQRT((X216^2)+(X217^2)+(X218^2))","v":19.05255888325765}]
[null,"50.0 percent or more",{"$f":"C218","v":0},{"$f":"D218","v":16},0,{"$f":"F218","v":11},0,16,0,11,0,16,0,18,0,17,0,16,0,11,0,11,0,11]
[null,"Not Computed",{"$f":"C219","v":0},{"$f":"D219","v":16},0,{"$f":"F219","v":11},0,16,6,6,6,10,22,26,20,24,14,16,0,11,0,11,0,11]
[null,"$75,000 to $99,999:",{"$f":"C220","v":18},{"$f":"D220","v":32},22,{"$f":"F220","v":35},12,21,4,6,70,74,226,117,157,88,50,35,24,22,0,11,44,35]
[null,"Less than 30.0 percent",{"$f":"C221+C222+C223","v":18},{"$f":"SQRT((D221^2)+(D222^2)+(D223^2))","v":39.191835884530846},{"$f":"E221+E222+E223","v":22},{"$f":"SQRT((F221^2)+(F222^2)+(F223^2))","v":38.301436004411116},{"$f":"G221+G222+G223","v":12},{"$f":"SQRT((H221^2)+(H222^2)+(H223^2))","v":30.870698080866262},{"$f":"I221+I222+I223","v":4},{"$f":"SQRT((J221^2)+(J222^2)+(J223^2))","v":16.673332000533065},{"$f":"K221+K222+K223","v":70},{"$f":"SQRT((L221^2)+(L222^2)+(L223^2))","v":75.953933407032977},{"$f":"M221+M222+M223","v":226},{"$f":"SQRT((N221^2)+(N222^2)+(N223^2))","v":115.14773119779652},{"$f":"O221+O222+O223","v":143},{"$f":"SQRT((P221^2)+(P222^2)+(P223^2))","v":86.827415025439976},{"$f":"Q221+Q222+Q223","v":34},{"$f":"SQRT((R221^2)+(R222^2)+(R223^2))","v":28.035691537752374},{"$f":"S221+S222+S223","v":0},{"$f":"SQRT((T221^2)+(T222^2)+(T223^2))","v":19.05255888325765},{"$f":"U221+U222+U223","v":0},{"$f":"SQRT((V221^2)+(V222^2)+(V223^2))","v":19.05255888325765},{"$f":"W221+W222+W223","v":33},{"$f":"SQRT((X221^2)+(X222^2)+(X223^2))","v":34.684290392049249}]
[null,"More than 30.0 percent",{"$f":"C224+C225+C226+C227","v":0},{"$f":"SQRT((D224^2)+(D225^2)+(D226^2)+(D227^2))","v":32},{"$f":"E224+E225+E226+E227","v":0},{"$f":"SQRT((F224^2)+(F225^2)+(F226^2)+(F227^2))","v":22},{"$f":"G224+G225+G226+G227","v":0},{"$f":"SQRT((H224^2)+(H225^2)+(H226^2)+(H227^2))","v":32},{"$f":"I224+I225+I226+I227","v":0},{"$f":"SQRT((J224^2)+(J225^2)+(J226^2)+(J227^2))","v":22},{"$f":"K224+K225+K226+K227","v":0},{"$f":"SQRT((L224^2)+(L225^2)+(L226^2)+(L227^2))","v":32},{"$f":"M224+M225+M226+M227","v":0},{"$f":"SQRT((N224^2)+(N225^2)+(N226^2)+(N227^2))","v":36},{"$f":"O224+O225+O226+O227","v":0},{"$f":"SQRT((P224^2)+(P225^2)+(P226^2)+(P227^2))","v":34},{"$f":"Q224+Q225+Q226+Q227","v":0},{"$f":"SQRT((R224^2)+(R225^2)+(R226^2)+(R227^2))","v":32},{"$f":"S224+S225+S226+S227","v":12},{"$f":"SQRT((T224^2)+(T225^2)+(T226^2)+(T227^2))","v":24.879710609249457},{"$f":"U224+U225+U226+U227","v":0},{"$f":"SQRT((V224^2)+(V225^2)+(V226^2)+(V227^2))","v":22},{"$f":"W224+W225+W226+W227","v":0},{"$f":"SQRT((X224^2)+(X225^2)+(X226^2)+(X227^2))","v":22}]
[null,"Less Than 35% of HH Income",{"$f":"C221+C222+C223+C224","v":18},{"$f":"SQRT((D221^2)+(D222^2)+(D223^2)+(D224^2))","v":42.332020977033451},{"$f":"E221+E222+E223+E224","v":22},{"$f":"SQRT((F221^2)+(F222^2)+(F223^2)+(F224^2))","v":39.849717690342551},{"$f":"G221+G222+G223+G224","v":12},{"$f":"SQRT((H221^2)+(H222^2)+(H223^2)+(H224^2))","v":34.770677301427419},{"$f":"I221+I222+I223+I224","v":4},{"$f":"SQRT((J221^2)+(J222^2)+(J223^2)+(J224^2))","v":19.974984355438178},{"$f":"K221+K222+K223+K224","v":70},{"$f":"SQRT((L221^2)+(L222^2)+(L223^2)+(L224^2))","v":77.620873481300123},{"$f":"M221+M222+M223+M224","v":226},{"$f":"SQRT((N221^2)+(N222^2)+(N223^2)+(N224^2))","v":116.54612820681776},{"$f":"O221+O222+O223+O224","v":143},{"$f":"SQRT((P221^2)+(P222^2)+(P223^2)+(P224^2))","v":88.475985442378658},{"$f":"Q221+Q222+Q223+Q224","v":34},{"$f":"SQRT((R221^2)+(R222^2)+(R223^2)+(R224^2))","v":32.280024783137947},{"$f":"S221+S222+S223+S224","v":12},{"$f":"SQRT((T221^2)+(T222^2)+(T223^2)+(T224^2))","v":24.879710609249457},{"$f":"U221+U222+U223+U224","v":0},{"$f":"SQRT((V221^2)+(V222^2)+(V223^2)+(V224^2))","v":22},{"$f":"W221+W222+W223+W224","v":33},{"$f":"SQRT((X221^2)+(X222^2)+(X223^2)+(X224^2))","v":36.386810797320507}]
[null,"35.0 percent or more",{"$f":"C225+C226+C227","v":0},{"$f":"SQRT((D225^2)+(D226^2)+(D227^2))","v":27.712812921102035},{"$f":"E225+E226+E227","v":0},{"$f":"SQRT((F225^2)+(F226^2)+(F227^2))","v":19.05255888325765},{"$f":"G225+G226+G227","v":0},{"$f":"SQRT((H225^2)+(H226^2)+(H227^2))","v":27.712812921102035},{"$f":"I225+I226+I227","v":0},{"$f":"SQRT((J225^2)+(J226^2)+(J227^2))","v":19.05255888325765},{"$f":"K225+K226+K227","v":0},{"$f":"SQRT((L225^2)+(L226^2)+(L227^2))","v":27.712812921102035},{"$f":"M225+M226+M227","v":0},{"$f":"SQRT((N225^2)+(N226^2)+(N227^2))","v":31.176914536239792},{"$f":"O225+O226+O227","v":0},{"$f":"SQRT((P225^2)+(P226^2)+(P227^2))","v":29.444863728670914},{"$f":"Q225+Q226+Q227","v":0},{"$f":"SQRT((R225^2)+(R226^2)+(R227^2))","v":27.712812921102035},{"$f":"S225+S226+S227","v":0},{"$f":"SQRT((T225^2)+(T226^2)+(T227^2))","v":19.05255888325765},{"$f":"U225+U226+U227","v":0},{"$f":"SQRT((V225^2)+(V226^2)+(V227^2))","v":19.05255888325765},{"$f":"W225+W226+W227","v":0},{"$f":"SQRT((X225^2)+(X226^2)+(X227^2))","v":19.05255888325765}]
[null,"50.0 percent or more",{"$f":"C227","v":0},16,{"$f":"E227","v":0},11,0,16,0,11,0,16,0,18,0,17,0,16,0,11,0,11,0,11]
[null,"Not Computed",{"$f":"C228","v":0},16,{"$f":"E228","v":0},11,0,16,0,11,0,16,0,18,14,22,16,18,12,16,0,11,11,17]
[null,"$100,000 or more:",{"$f":"C229","v":68},78,{"$f":"E229","v":28},43,0,16,12,15,24,31,287,143,245,133,113,89,17,15,29,21,8,13]
[null,"Less than 30.0 percent",{"$f":"C230+C231+C232","v":68},{"$f":"SQRT((D230^2)+(D231^2)+(D232^2))","v":78.140898382345213},{"$f":"E230+E231+E232","v":28},{"$f":"SQRT((F230^2)+(F231^2)+(F232^2))","v":45.727453460694704},{"$f":"G230+G231+G232","v":0},{"$f":"SQRT((H230^2)+(H231^2)+(H232^2))","v":27.712812921102035},{"$f":"I230+I231+I232","v":9},{"$f":"SQRT((J230^2)+(J231^2)+(J232^2))","v":20.928449536456348},{"$f":"K230+K231+K232","v":24},{"$f":"SQRT((L230^2)+(L231^2)+(L232^2))","v":34.928498393145958},{"$f":"M230+M231+M232","v":273},{"$f":"SQRT((N230^2)+(N231^2)+(N232^2))","v":141.66156853571826},{"$f":"O230+O231+O232","v":245},{"$f":"SQRT((P230^2)+(P231^2)+(P232^2))","v":132.64237633576985},{"$f":"Q230+Q231+Q232","v":106},{"$f":"SQRT((R230^2)+(R231^2)+(R232^2))","v":89.894382471876412},{"$f":"S230+S231+S232","v":6},{"$f":"SQRT((T230^2)+(T231^2)+(T232^2))","v":17.972200755611428},{"$f":"U230+U231+U232","v":18},{"$f":"SQRT((V230^2)+(V231^2)+(V232^2))","v":21.840329667841555},{"$f":"W230+W231+W232","v":8},{"$f":"SQRT((X230^2)+(X231^2)+(X232^2))","v":20.273134932713294}]
[null,"More than 30.0 percent",{"$f":"C233+C234+C235+C236","v":0},{"$f":"SQRT((D233^2)+(D234^2)+(D235^2)+(D236^2))","v":32},{"$f":"E233+E234+E235+E236","v":0},{"$f":"SQRT((F233^2)+(F234^2)+(F235^2)+(F236^2))","v":22},{"$f":"G233+G234+G235+G236","v":0},{"$f":"SQRT((H233^2)+(H234^2)+(H235^2)+(H236^2))","v":32},{"$f":"I233+I234+I235+I236","v":0},{"$f":"SQRT((J233^2)+(J234^2)+(J235^2)+(J236^2))","v":22},{"$f":"K233+K234+K235+K236","v":0},{"$f":"SQRT((L233^2)+(L234^2)+(L235^2)+(L236^2))","v":32},{"$f":"M233+M234+M235+M236","v":0},{"$f":"SQRT((N233^2)+(N234^2)+(N235^2)+(N236^2))","v":36},{"$f":"O233+O234+O235+O236","v":0},{"$f":"SQRT((P233^2)+(P234^2)+(P235^2)+(P236^2))","v":34},{"$f":"Q233+Q234+Q235+Q236","v":7},{"$f":"SQRT((R233^2)+(R234^2)+(R235^2)+(R236^2))","v":30.199337741082999},{"$f":"S233+S234+S235+S236","v":4},{"$f":"SQRT((T233^2)+(T234^2)+(T235^2)+(T236^2))","v":19.974984355438178},{"$f":"U233+U234+U235+U236","v":0},{"$f":"SQRT((V233^2)+(V234^2)+(V235^2)+(V236^2))","v":22},{"$f":"W233+W234+W235+W236","v":0},{"$f":"SQRT((X233^2)+(X234^2)+(X235^2)+(X236^2))","v":22}]
[null,"Less Than 35% of HH Income",{"$f":"C230+C231+C232+C233","v":68},{"$f":"SQRT(((D230^2)+(D231^2)+(D232^2)+(D233^2)))","v":79.762146410437069},{"$f":"E230+E231+E232+E233","v":28},{"$f":"SQRT(((F230^2)+(F231^2)+(F232^2)+(F233^2)))","v":47.031904065219386},{"$f":"G230+G231+G232+G233","v":0},{"$f":"SQRT(((H230^2)+(H231^2)+(H232^2)+(H233^2)))","v":32},{"$f":"I230+I231+I232+I233","v":9},{"$f":"SQRT(((J230^2)+(J231^2)+(J232^2)+(J233^2)))","v":23.643180835073778},{"$f":"K230+K231+K232+K233","v":24},{"$f":"SQRT(((L230^2)+(L231^2)+(L232^2)+(L233^2)))","v":38.418745424597091},{"$f":"M230+M231+M232+M233","v":273},{"$f":"SQRT(((N230^2)+(N231^2)+(N232^2)+(N233^2)))","v":142.80056022299073},{"$f":"O230+O231+O232+O233","v":245},{"$f":"SQRT(((P230^2)+(P231^2)+(P232^2)+(P233^2)))","v":133.72733452813603},{"$f":"Q230+Q231+Q232+Q233","v":113},{"$f":"SQRT(((R230^2)+(R231^2)+(R232^2)+(R233^2)))","v":90.691785736085265},{"$f":"S230+S231+S232+S233","v":6},{"$f":"SQRT(((T230^2)+(T231^2)+(T232^2)+(T233^2)))","v":21.071307505705477},{"$f":"U230+U231+U232+U233","v":18},{"$f":"SQRT(((V230^2)+(V231^2)+(V232^2)+(V233^2)))","v":24.454038521274967},{"$f":"W230+W231+W232+W233","v":8},{"$f":"SQRT(((X230^2)+(X231^2)+(X232^2)+(X233^2)))","v":23.065125189341593}]
[null,"35.0 percent or more",{"$f":"C234+C235+C236","v":0},{"$f":"SQRT((D234^2)+(D235^2)+(D236^2))","v":27.712812921102035},{"$f":"E234+E235+E236","v":0},{"$f":"SQRT((F234^2)+(F235^2)+(F236^2))","v":19.05255888325765},{"$f":"G234+G235+G236","v":0},{"$f":"SQRT((H234^2)+(H235^2)+(H236^2))","v":27.712812921102035},{"$f":"I234+I235+I236","v":0},{"$f":"SQRT((J234^2)+(J235^2)+(J236^2))","v":19.05255888325765},{"$f":"K234+K235+K236","v":0},{"$f":"SQRT((L234^2)+(L235^2)+(L236^2))","v":27.712812921102035},{"$f":"M234+M235+M236","v":0},{"$f":"SQRT((N234^2)+(N235^2)+(N236^2))","v":31.176914536239792},{"$f":"O234+O235+O236","v":0},{"$f":"SQRT((P234^2)+(P235^2)+(P236^2))","v":29.444863728670914},{"$f":"Q234+Q235+Q236","v":0},{"$f":"SQRT((R234^2)+(R235^2)+(R236^2))","v":27.712812921102035},{"$f":"S234+S235+S236","v":4},{"$f":"SQRT((T234^2)+(T235^2)+(T236^2))","v":16.673332000533065},{"$f":"U234+U235+U236","v":0},{"$f":"SQRT((V234^2)+(V235^2)+(V236^2))","v":19.05255888325765},{"$f":"W234+W235+W236","v":0},{"$f":"SQRT((X234^2)+(X235^2)+(X236^2))","v":19.05255888325765}]
[null,"50.0 percent or more",{"$f":"C236","v":0},{"$f":"D236","v":16},0,{"$f":"F236","v":11},0,16,0,11,0,16,0,18,0,17,0,16,0,11,0,11,0,11]
[null,"Not Computed",{"$f":"C237","v":0},{"$f":"D237","v":16},0,{"$f":"F237","v":11},0,16,3,5,0,16,14,21,0,17,0,16,7,11,11,11,0,11]
[]
[]
[null,"Calculated GROSS RENT AS A PERCENTAGE OF HOUSEHOLD INCOME IN THE PAST 12 MONTHS"]
[null,"Universe:  RENTER OCCUPIED HOUSING UNITS"]
[null,{"$f":"B255","v":"Data Set: 2013-2017 American Community Survey 5-Year Estimates"}]
[]
[null,null,"Alton",null,"Barnstead",null,"Belmont",null,"Center Harbor",null,"Gilford",null,"Gilmanton",null,"Laconia",null,"Meredith",null,"New Hampton",null,"Sanbornton",null,"Tilton"]
[null," ","Estimate","Margin of Error","Estimate","Margin of Error","Estimate","Margin of Error","Estimate","Margin of Error","Estimate","Margin of Error","Estimate","Margin of Error","Estimate","Margin of Error","Estimate","Margin of Error","Estimate","Margin of Error","Estimate","Margin of Error","Estimate","Margin of Error"]
[null,"Total:",{"$f":"C259","v":343},124,169,93,421,164,56,30,370,112,3118,263,3090,253,655,154,120,46,93,37,544,147]
[null,"Less than 30.0 percent",{"$f":"C303+C296+C289+C282+C275+C268+C261","v":180},{"$f":"SQRT((D303^2)+(D296^2)+(D289^2)+(D282^2)+(D275^2)+(D268^2)+(D261^2))","v":127.18097341976905},{"$f":"E303+E296+E289+E282+E275+E268+E261","v":123},{"$f":"SQRT((F303^2)+(F296^2)+(F289^2)+(F282^2)+(F275^2)+(F268^2)+(F261^2))","v":99.227012451247361},{"$f":"G303+G296+G289+G282+G275+G268+G261","v":288},{"$f":"SQRT((H303^2)+(H296^2)+(H289^2)+(H282^2)+(H275^2)+(H268^2)+(H261^2))","v":173.25992035089936},{"$f":"I303+I296+I289+I282+I275+I268+I261","v":34},{"$f":"SQRT((J303^2)+(J296^2)+(J289^2)+(J282^2)+(J275^2)+(J268^2)+(J261^2))","v":54.433445601027316},{"$f":"K303+K296+K289+K282+K275+K268+K261","v":211},{"$f":"SQRT((L303^2)+(L296^2)+(L289^2)+(L282^2)+(L275^2)+(L268^2)+(L261^2))","v":122.90646850349252},{"$f":"M303+M296+M289+M282+M275+M268+M261","v":1554},{"$f":"SQRT((N303^2)+(N296^2)+(N289^2)+(N282^2)+(N275^2)+(N268^2)+(N261^2))","v":305.85127104525822},{"$f":"O303+O296+O289+O282+O275+O268+O261","v":1459},{"$f":"SQRT((P303^2)+(P296^2)+(P289^2)+(P282^2)+(P275^2)+(P268^2)+(P261^2))","v":313.60644126037971},{"$f":"Q303+Q296+Q289+Q282+Q275+Q268+Q261","v":282},{"$f":"SQRT((R303^2)+(R296^2)+(R289^2)+(R282^2)+(R275^2)+(R268^2)+(R261^2))","v":125.28367810692662},{"$f":"S303+S296+S289+S282+S275+S268+S261","v":26},{"$f":"SQRT((T303^2)+(T296^2)+(T289^2)+(T282^2)+(T275^2)+(T268^2)+(T261^2))","v":49.234134500364682},{"$f":"U303+U296+U289+U282+U275+U268+U261","v":30},{"$f":"SQRT((V303^2)+(V296^2)+(V289^2)+(V282^2)+(V275^2)+(V268^2)+(V261^2))","v":51.048996072400875},{"$f":"W303+W296+W289+W282+W275+W268+W261","v":190},{"$f":"SQRT((X303^2)+(X296^2)+(X289^2)+(X282^2)+(X275^2)+(X268^2)+(X261^2))","v":84.480767041972342}]
[null,"More than 30.0 percent",{"$f":"C304+C297+C290+C283+C276+C269+C262","v":163},{"$f":"SQRT((D304^2)+(D297^2)+(D290^2)+(D283^2)+(D276^2)+(D269^2)+(D262^2))","v":133.95148375438026},{"$f":"E304+E297+E290+E283+E276+E269+E262","v":26},{"$f":"SQRT((F304^2)+(F297^2)+(F290^2)+(F283^2)+(F276^2)+(F269^2)+(F262^2))","v":60.124870062229654},{"$f":"G304+G297+G290+G283+G276+G269+G262","v":120},{"$f":"SQRT((H304^2)+(H297^2)+(H290^2)+(H283^2)+(H276^2)+(H269^2)+(H262^2))","v":110.65260954898443},{"$f":"I304+I297+I290+I283+I276+I269+I262","v":13},{"$f":"SQRT((J304^2)+(J297^2)+(J290^2)+(J283^2)+(J276^2)+(J269^2)+(J262^2))","v":56.178287620752556},{"$f":"K304+K297+K290+K283+K276+K269+K262","v":126},{"$f":"SQRT((L304^2)+(L297^2)+(L290^2)+(L283^2)+(L276^2)+(L269^2)+(L262^2))","v":100.70749723828906},{"$f":"M304+M297+M290+M283+M276+M269+M262","v":1438},{"$f":"SQRT((N304^2)+(N297^2)+(N290^2)+(N283^2)+(N276^2)+(N269^2)+(N262^2))","v":270.69909493753391},{"$f":"O304+O297+O290+O283+O276+O269+O262","v":1467},{"$f":"SQRT((P304^2)+(P297^2)+(P290^2)+(P283^2)+(P276^2)+(P269^2)+(P262^2))","v":273.62017469477649},{"$f":"Q304+Q297+Q290+Q283+Q276+Q269+Q262","v":302},{"$f":"SQRT((R304^2)+(R297^2)+(R290^2)+(R283^2)+(R276^2)+(R269^2)+(R262^2))","v":127.65187033490736},{"$f":"S304+S297+S290+S283+S276+S269+S262","v":64},{"$f":"SQRT((T304^2)+(T297^2)+(T290^2)+(T283^2)+(T276^2)+(T269^2)+(T262^2))","v":64.560049566275893},{"$f":"U304+U297+U290+U283+U276+U269+U262","v":27},{"$f":"SQRT((V304^2)+(V297^2)+(V290^2)+(V283^2)+(V276^2)+(V269^2)+(V262^2))","v":58.762232769015846},{"$f":"W304+W297+W290+W283+W276+W269+W262","v":294},{"$f":"SQRT((X304^2)+(X297^2)+(X290^2)+(X283^2)+(X276^2)+(X269^2)+(X262^2))","v":136.34148304899725}]
[null,"Less Than 35% of HH Income",{"$f":"C305+C298+C291+C284+C277+C270+C263","v":264},{"$f":"SQRT((D305^2)+(D298^2)+(D291^2)+(D284^2)+(D277^2)+(D270^2)+(D263^2))","v":152.44671200127604},{"$f":"E305+E298+E291+E284+E277+E270+E263","v":131},{"$f":"SQRT((F305^2)+(F298^2)+(F291^2)+(F284^2)+(F277^2)+(F270^2)+(F263^2))","v":103.76897416858277},{"$f":"G305+G298+G291+G284+G277+G270+G263","v":338},{"$f":"SQRT((H305^2)+(H298^2)+(H291^2)+(H284^2)+(H277^2)+(H270^2)+(H263^2))","v":183},{"$f":"I305+I298+I291+I284+I277+I270+I263","v":34},{"$f":"SQRT((J305^2)+(J298^2)+(J291^2)+(J284^2)+(J277^2)+(J270^2)+(J263^2))","v":61.725197448043858},{"$f":"K305+K298+K291+K284+K277+K270+K263","v":251},{"$f":"SQRT((L305^2)+(L298^2)+(L291^2)+(L284^2)+(L277^2)+(L270^2)+(L263^2))","v":135.06294828708576},{"$f":"M305+M298+M291+M284+M277+M270+M263","v":1659},{"$f":"SQRT((N305^2)+(N298^2)+(N291^2)+(N284^2)+(N277^2)+(N270^2)+(N263^2))","v":315.40133163954778},{"$f":"O305+O298+O291+O284+O277+O270+O263","v":1545},{"$f":"SQRT((P305^2)+(P298^2)+(P291^2)+(P284^2)+(P277^2)+(P270^2)+(P263^2))","v":320.11716605018233},{"$f":"Q305+Q298+Q291+Q284+Q277+Q270+Q263","v":347},{"$f":"SQRT((R305^2)+(R298^2)+(R291^2)+(R284^2)+(R277^2)+(R270^2)+(R263^2))","v":140.07141035914503},{"$f":"S305+S298+S291+S284+S277+S270+S263","v":50},{"$f":"SQRT((T305^2)+(T298^2)+(T291^2)+(T284^2)+(T277^2)+(T270^2)+(T263^2))","v":60.074953183502359},{"$f":"U305+U298+U291+U284+U277+U270+U263","v":43},{"$f":"SQRT((V305^2)+(V298^2)+(V291^2)+(V284^2)+(V277^2)+(V270^2)+(V263^2))","v":61.090097397205056},{"$f":"W305+W298+W291+W284+W277+W270+W263","v":245},{"$f":"SQRT((X305^2)+(X298^2)+(X291^2)+(X284^2)+(X277^2)+(X270^2)+(X263^2))","v":105.41347162483551}]
[null,"35.0 percent or more",{"$f":"C306+C299+C292+C285+C278+C271+C264","v":79},{"$f":"SQRT((D306^2)+(D299^2)+(D292^2)+(D285^2)+(D278^2)+(D271^2)+(D264^2))","v":104.29765098025938},{"$f":"E306+E299+E292+E285+E278+E271+E264","v":18},{"$f":"SQRT((F306^2)+(F299^2)+(F292^2)+(F285^2)+(F278^2)+(F271^2)+(F264^2))","v":51.894122981316485},{"$f":"G306+G299+G292+G285+G278+G271+G264","v":70},{"$f":"SQRT((H306^2)+(H299^2)+(H292^2)+(H285^2)+(H278^2)+(H271^2)+(H264^2))","v":93.669632218771952},{"$f":"I306+I299+I292+I285+I278+I271+I264","v":13},{"$f":"SQRT((J306^2)+(J299^2)+(J292^2)+(J285^2)+(J278^2)+(J271^2)+(J264^2))","v":48.052055106935853},{"$f":"K306+K299+K292+K285+K278+K271+K264","v":86},{"$f":"SQRT((L306^2)+(L299^2)+(L292^2)+(L285^2)+(L278^2)+(L271^2)+(L264^2))","v":83.701851831366312},{"$f":"M306+M299+M292+M285+M278+M271+M264","v":1333},{"$f":"SQRT((N306^2)+(N299^2)+(N292^2)+(N285^2)+(N278^2)+(N271^2)+(N264^2))","v":259.50915205441214},{"$f":"O306+O299+O292+O285+O278+O271+O264","v":1381},{"$f":"SQRT((P306^2)+(P299^2)+(P292^2)+(P285^2)+(P278^2)+(P271^2)+(P264^2))","v":265.97368290866672},{"$f":"Q306+Q299+Q292+Q285+Q278+Q271+Q264","v":237},{"$f":"SQRT((R306^2)+(R299^2)+(R292^2)+(R285^2)+(R278^2)+(R271^2)+(R264^2))","v":111.22499719037982},{"$f":"S306+S299+S292+S285+S278+S271+S264","v":40},{"$f":"SQRT((T306^2)+(T299^2)+(T292^2)+(T285^2)+(T278^2)+(T271^2)+(T264^2))","v":54.616847217685496},{"$f":"U306+U299+U292+U285+U278+U271+U264","v":14},{"$f":"SQRT((V306^2)+(V299^2)+(V292^2)+(V285^2)+(V278^2)+(V271^2)+(V264^2))","v":48.238988380769349},{"$f":"W306+W299+W292+W285+W278+W271+W264","v":239},{"$f":"SQRT((X306^2)+(X299^2)+(X292^2)+(X285^2)+(X278^2)+(X271^2)+(X264^2))","v":120.88837826689544}]
[null,"50.0 percent or more",{"$f":"C307+C300+C293+C286+C279+C272+C265","v":49},{"$f":"SQRT((D307^2)+(D300^2)+(D293^2)+(D286^2)+(D279^2)+(D272^2)+(D265^2))","v":80.224684480526321},{"$f":"E307+E300+E293+E286+E279+E272+E265","v":9},{"$f":"SQRT((F307^2)+(F300^2)+(F293^2)+(F286^2)+(F279^2)+(F272^2)+(F265^2))","v":29.916550603303182},{"$f":"G307+G300+G293+G286+G279+G272+G265","v":70},{"$f":"SQRT((H307^2)+(H300^2)+(H293^2)+(H286^2)+(H279^2)+(H272^2)+(H265^2))","v":72.041654617311508},{"$f":"I307+I300+I293+I286+I279+I272+I265","v":7},{"$f":"SQRT((J307^2)+(J300^2)+(J293^2)+(J286^2)+(J279^2)+(J272^2)+(J265^2))","v":25.592967784139454},{"$f":"K307+K300+K293+K286+K279+K272+K265","v":76},{"$f":"SQRT((L307^2)+(L300^2)+(L293^2)+(L286^2)+(L279^2)+(L272^2)+(L265^2))","v":61.554853586049575},{"$f":"M307+M300+M293+M286+M279+M272+M265","v":876},{"$f":"SQRT((N307^2)+(N300^2)+(N293^2)+(N286^2)+(N279^2)+(N272^2)+(N265^2))","v":198.90449969771925},{"$f":"O307+O300+O293+O286+O279+O272+O265","v":938},{"$f":"SQRT((P307^2)+(P300^2)+(P293^2)+(P286^2)+(P279^2)+(P272^2)+(P265^2))","v":214.17282740814719},{"$f":"Q307+Q300+Q293+Q286+Q279+Q272+Q265","v":130},{"$f":"SQRT((R307^2)+(R300^2)+(R293^2)+(R286^2)+(R279^2)+(R272^2)+(R265^2))","v":75.584389922787622},{"$f":"S307+S300+S293+S286+S279+S272+S265","v":36},{"$f":"SQRT((T307^2)+(T300^2)+(T293^2)+(T286^2)+(T279^2)+(T272^2)+(T265^2))","v":37.067505985701274},{"$f":"U307+U300+U293+U286+U279+U272+U265","v":5},{"$f":"SQRT((V307^2)+(V300^2)+(V293^2)+(V286^2)+(V279^2)+(V272^2)+(V265^2))","v":27.838821814150108},{"$f":"W307+W300+W293+W286+W279+W272+W265","v":63},{"$f":"SQRT((X307^2)+(X300^2)+(X293^2)+(X286^2)+(X279^2)+(X272^2)+(X265^2))","v":62.729578350248779}]
[null,"Not Computed",{"$f":"C307+C301+C294+C287+C280+C273+C266","v":0},{"$f":"SQRT((D307^2)+(D301^2)+(D294^2)+(D287^2)+(D280^2)+(D273^2)+(D266^2))","v":42.332020977033451},{"$f":"E307+E301+E294+E287+E280+E273+E266","v":20},{"$f":"SQRT((F307^2)+(F301^2)+(F294^2)+(F287^2)+(F280^2)+(F273^2)+(F266^2))","v":33.136083051561783},{"$f":"G307+G301+G294+G287+G280+G273+G266","v":13},{"$f":"SQRT((H307^2)+(H301^2)+(H294^2)+(H287^2)+(H280^2)+(H273^2)+(H266^2))","v":44.944410108488462},{"$f":"I307+I301+I294+I287+I280+I273+I266","v":6},{"$f":"SQRT((J307^2)+(J301^2)+(J294^2)+(J287^2)+(J280^2)+(J273^2)+(J266^2))","v":27.604347483684521},{"$f":"K307+K301+K294+K287+K280+K273+K266","v":33},{"$f":"SQRT((L307^2)+(L301^2)+(L294^2)+(L287^2)+(L280^2)+(L273^2)+(L266^2))","v":49.295030175464952},{"$f":"M307+M301+M294+M287+M280+M273+M266","v":112},{"$f":"SQRT((N307^2)+(N301^2)+(N294^2)+(N287^2)+(N280^2)+(N273^2)+(N266^2))","v":69.864153898834275},{"$f":"O307+O301+O294+O287+O280+O273+O266","v":164},{"$f":"SQRT((P307^2)+(P301^2)+(P294^2)+(P287^2)+(P280^2)+(P273^2)+(P266^2))","v":94.466925428956344},{"$f":"Q307+Q301+Q294+Q287+Q280+Q273+Q266","v":71},{"$f":"SQRT((R307^2)+(R301^2)+(R294^2)+(R287^2)+(R280^2)+(R273^2)+(R266^2))","v":64.845971347493901},{"$f":"S307+S301+S294+S287+S280+S273+S266","v":23},{"$f":"SQRT((T307^2)+(T301^2)+(T294^2)+(T287^2)+(T280^2)+(T273^2)+(T266^2))","v":29.816103031751148},{"$f":"U307+U301+U294+U287+U280+U273+U266","v":25},{"$f":"SQRT((V307^2)+(V301^2)+(V294^2)+(V287^2)+(V280^2)+(V273^2)+(V266^2))","v":34.612136599753562},{"$f":"W307+W301+W294+W287+W280+W273+W266","v":60},{"$f":"SQRT((X307^2)+(X301^2)+(X294^2)+(X287^2)+(X280^2)+(X273^2)+(X266^2))","v":54.470175325585288}]
[]
[]
[]
[]
[]
[]
[]
[]
[]
[]
[]
[]
[]
[]
[]
[]
[]
[]
[]
[]
[null,"B25074. HOUSEHOLD INCOME BY GROSS RENT AS A PERCENTAGE OF HOUSEHOLD INCOME IN THE PAST 12 MONTHS"]
[null,"Universe:  RENTER OCCUPIED HOUSING UNITS"]
[null,"Data Set: 2008-2012 American Community Survey 5-Year Estimates",null,null,null,null,"Income in 2010 Inflation Adjusted Dollars"]
[]
[null,null,"Alton",null,"Barnstead",null,"Belmont",null,"Center Harbor",null,"Gilford",null,"Gilmanton",null,"Laconia",null,"Meredith",null,"New Hampton",null,"Sanbornton",null,"Tilton"]
[null," ","Estimate","Margin of Error","Estimate","Margin of Error","Estimate","Margin of Error","Estimate","Margin of Error","Estimate","Margin of Error","Estimate","Margin of Error","Estimate","Margin of Error","Estimate","Margin of Error","Estimate","Margin of Error","Estimate","Margin of Error","Estimate","Margin of Error"]
[null,"Total:",370,139,109,38,509,176,81,37,415,179,96,54,2899,306,825,171,156,43,84,47,503,107]
[null,"Less than $10,000:",73,76,0,11,23,26,9,13,20,33,8,11,409,164,150,100,9,13,0,11,33,27]
["Less than 20.0 percent","Less than 20.0 percent",0,16,0,11,0,16,0,11,0,16,0,11,14,24,0,16,0,11,0,11,0,11]
["20.0 to 24.9 percent","20.0 to 24.9 percent",0,16,0,11,0,16,0,11,0,16,0,11,0,18,0,16,0,11,0,11,0,11]
["25.0 to 29.9 percent","25.0 to 29.9 percent",54,86,0,11,0,16,0,11,0,16,0,11,10,16,14,22,0,11,0,11,15,13]
["30.0 to 34.9 percent","30.0 to 34.9 percent",0,16,0,11,0,16,0,11,0,16,0,11,7,12,0,16,0,11,0,11,0,11]
["35.0 to 39.9 percent","35.0 percent or more",0,16,0,11,11,18,9,13,20,33,8,11,299,148,53,65,9,13,0,11,18,21]
["40.0 to 49.9 percent"]
["50.0 percent or more"]
[null,"Not computed",19,32,0,11,12,19,0,11,0,16,0,11,79,65,83,69,0,11,0,11,0,11]
[null,"$10,000 to $19,999:",51,62,8,12,40,36,19,20,112,94,46,42,617,165,154,80,20,13,8,12,98,65]
[null,"Less than 20.0 percent",0,16,0,11,9,14,0,11,0,16,0,11,22,25,0,16,0,11,0,11,27,44]
[null,"20.0 to 24.9 percent",0,16,0,11,0,16,0,11,0,16,19,31,33,33,39,38,0,11,0,11,0,11]
[null,"25.0 to 29.9 percent",0,16,0,11,0,16,0,11,56,80,0,11,29,29,41,49,0,11,0,11,0,11]
[null,"30.0 to 34.9 percent",0,16,0,11,0,16,0,11,0,16,0,11,49,34,0,16,0,11,0,11,31,50]
[null,"35.0 percent or more",51,62,0,11,31,33,19,20,56,55,27,29,454,161,56,50,6,6,8,12,16,18]
[]
[]
[null,"Not computed",0,16,8,12,0,16,0,11,0,16,0,11,30,28,18,22,14,11,0,11,24,37]
[null,"$20,000 to $34,999:",22,35,22,26,158,102,0,11,9,15,11,17,542,159,189,122,46,32,0,11,182,90]
[null,"Less than 20.0 percent",0,16,0,11,10,15,0,11,0,16,0,11,44,35,13,20,0,11,0,11,9,15]
[null,"20.0 to 24.9 percent",0,16,0,11,0,16,0,11,0,16,0,11,18,17,17,23,0,11,0,11,7,11]
[null,"25.0 to 29.9 percent",0,16,0,11,57,72,0,11,0,16,0,11,134,103,0,16,0,11,0,11,65,63]
[null,"30.0 to 34.9 percent",0,16,0,11,11,19,0,11,9,15,0,11,70,60,0,16,0,11,0,11,0,11]
[null,"35.0 percent or more",22,35,0,11,80,74,0,11,0,16,11,17,255,106,125,104,33,27,0,11,72,50]
[]
[]
[null,"Not computed",0,16,22,26,0,16,0,11,0,16,0,11,21,24,34,55,13,17,0,11,29,50]
[null,"$35,000 to $49,999:",59,72,19,22,104,80,18,17,127,106,24,21,668,194,114,86,14,15,6,10,55,48]
[null,"Less than 20.0 percent",43,69,0,11,34,55,0,11,0,16,0,11,189,142,0,16,0,11,0,11,0,11]
[null,"20.0 to 24.9 percent",0,16,0,11,0,16,0,11,46,72,9,13,196,95,46,71,0,11,0,11,9,13]
[null,"25.0 to 29.9 percent",0,16,0,11,26,32,0,11,47,72,6,10,175,102,0,16,3,5,0,11,46,46]
[null,"30.0 to 34.9 percent",16,25,19,22,33,41,0,11,17,26,0,11,23,29,21,26,0,11,0,11,0,11]
[null,"35.0 percent or more",0,16,0,11,11,17,10,15,17,28,0,11,85,58,47,44,11,14,0,11,0,11]
[]
[]
[null,"Not computed",0,16,0,11,0,16,8,9,0,16,9,15,0,18,0,16,0,11,6,10,0,11]
[null,"$50,000 to $74,999:",80,68,47,35,86,71,35,23,131,109,0,11,430,179,126,70,34,22,34,33,40,42]
[null,"Less than 20.0 percent",47,58,8,12,23,39,9,15,14,23,0,11,271,158,85,64,25,19,0,11,20,32]
[null,"20.0 to 24.9 percent",17,25,6,9,41,54,19,18,0,16,0,11,48,50,0,16,0,11,0,11,0,11]
[null,"25.0 to 29.9 percent",0,16,33,31,11,19,5,7,52,66,0,11,100,70,9,15,3,5,0,11,12,17]
[null,"30.0 to 34.9 percent",0,16,0,11,0,16,0,11,14,23,0,11,0,18,0,16,0,11,0,11,8,14]
[null,"35.0 percent or more",0,16,0,11,11,18,0,11,0,16,0,11,11,17,32,34,0,11,0,11,0,11]
[]
[]
[null,"Not computed",16,26,0,11,0,16,2,3,51,80,0,11,0,18,0,16,6,7,34,33,0,11]
[null,"$75,000 to $99,999:",17,27,0,11,98,103,0,11,6,11,7,12,51,40,61,51,28,28,17,27,36,40]
[null,"Less than 20.0 percent",0,16,0,11,98,103,0,11,0,16,0,11,23,25,61,51,16,20,0,11,36,40]
[null,"20.0 to 24.9 percent",0,16,0,11,0,16,0,11,0,16,0,11,13,25,0,16,0,11,17,27,0,11]
[null,"25.0 to 29.9 percent",17,27,0,11,0,16,0,11,0,16,0,11,15,16,0,16,0,11,0,11,0,11]
[null,"30.0 to 34.9 percent",0,16,0,11,0,16,0,11,0,16,0,11,0,18,0,16,0,11,0,11,0,11]
[null,"35.0 percent or more",0,16,0,11,0,16,0,11,0,16,0,11,0,18,0,16,0,11,0,11,0,11]
[]
[]
[null,"Not computed",0,16,0,11,0,16,0,11,6,11,7,12,0,18,0,16,12,20,0,11,0,11]
[null,"$100,000 or more:",68,80,13,19,0,16,0,11,10,17,0,11,182,92,31,23,5,8,19,18,59,47]
["Less than 20.0 percent","Less than 20.0 percent",49,76,13,19,0,16,0,11,10,17,0,11,182,92,31,23,0,11,12,14,34,38]
["20.0 to 24.9 percent","20.0 to 24.9 percent",0,16,0,11,0,16,0,11,0,16,0,11,0,18,0,16,0,11,0,11,0,11]
["25.0 to 29.9 percent","25.0 to 29.9 percent",0,16,0,11,0,16,0,11,0,16,0,11,0,18,0,16,0,11,0,11,0,11]
["30.0 to 34.9 percent","30.0 to 34.9 percent",0,16,0,11,0,16,0,11,0,16,0,11,0,18,0,16,0,11,0,11,0,11]
["35.0 to 39.9 percent","35.0 percent or more",0,16,0,11,0,16,0,11,0,16,0,11,0,18,0,16,0,11,0,11,0,11]
["40.0 to 49.9 percent"]
["50.0 percent or more"]
[null,"Not computed"]
[]
[null,"Calculated B25074. HOUSEHOLD INCOME BY GROSS RENT AS A PERCENTAGE OF HOUSEHOLD INCOME IN THE PAST 12 MONTHS"]
[null,"Universe:  RENTEROCCUPIED HOUSING UNITS"]
[null,"Data Set: 2008-2012 American Community Survey 5-Year Estimates"]
[]
[null,null,"Alton",null,"Barnstead",null,"Belmont",null,"Center Harbor",null,"Gilford",null,"Gilmanton",null,"Laconia",null,"Meredith",null,"New Hampton",null,"Sanbornton",null,"Tilton"]
[null,null,"Estimate","Margin of Error","Estimate","Margin of Error","Estimate","Margin of Error","Estimate","Margin of Error","Estimate","Margin of Error","Estimate","Margin of Error","Estimate","Margin of Error","Estimate","Margin of Error","Estimate","Margin of Error","Estimate","Margin of Error","Estimate","Margin of Error"]
[null,"Total:",{"$f":"C350","v":370},{"$f":"D350","v":139},{"$f":"E350","v":109},38,509,176,81,37,415,179,96,54,2899,306,825,171,156,43,84,47,503,107]
[null,"Less than $10,000:",{"$f":"C351","v":73},{"$f":"D351","v":76},{"$f":"E351","v":0},11,23,26,9,13,20,33,8,11,409,164,150,100,9,13,0,11,33,27]
[null,"Less than 30.0 percent",{"$f":"C352+C353+C354","v":54},{"$f":"SQRT((D352^2)+(D353^2)+(D354^2))","v":88.926936301662835},{"$f":"E352+E353+E354","v":0},{"$f":"SQRT((F352^2)+(F353^2)+(F354^2))","v":19.05255888325765},{"$f":"G352+G353+G354","v":0},{"$f":"SQRT((H352^2)+(H353^2)+(H354^2))","v":27.712812921102035},{"$f":"I352+I353+I354","v":0},{"$f":"SQRT((J352^2)+(J353^2)+(J354^2))","v":19.05255888325765},{"$f":"K352+K353+K354","v":0},{"$f":"SQRT((L352^2)+(L353^2)+(L354^2))","v":27.712812921102035},{"$f":"M352+M353+M354","v":0},{"$f":"SQRT((N352^2)+(N353^2)+(N354^2))","v":19.05255888325765},{"$f":"O352+O353+O354","v":24},{"$f":"SQRT((P352^2)+(P353^2)+(P354^2))","v":34},{"$f":"Q352+Q353+Q354","v":14},{"$f":"SQRT((R352^2)+(R353^2)+(R354^2))","v":31.559467676118999},{"$f":"S352+S353+S354","v":0},{"$f":"SQRT((T352^2)+(T353^2)+(T354^2))","v":19.05255888325765},{"$f":"U352+U353+U354","v":0},{"$f":"SQRT((V352^2)+(V353^2)+(V354^2))","v":19.05255888325765},{"$f":"W352+W353+W354","v":15},{"$f":"SQRT((X352^2)+(X353^2)+(X354^2))","v":20.273134932713294}]
[null,"More than 30.0 percent",{"$f":"C355+C356+C357+C358","v":0},{"$f":"SQRT((D355^2)+(D356^2+(D357^2+(D358^2))))","v":22.627416997969522},{"$f":"E355+E356+E357+E358","v":0},{"$f":"SQRT((F355^2)+(F356^2+(F357^2+(F358^2))))","v":15.556349186104045},{"$f":"G355+G356+G357+G358","v":11},{"$f":"SQRT((H355^2)+(H356^2+(H357^2+(H358^2))))","v":24.083189157584592},{"$f":"I355+I356+I357+I358","v":9},{"$f":"SQRT((J355^2)+(J356^2+(J357^2+(J358^2))))","v":17.029386365926403},{"$f":"K355+K356+K357+K358","v":20},{"$f":"SQRT((L355^2)+(L356^2+(L357^2+(L358^2))))","v":36.674241641784498},{"$f":"M355+M356+M357+M358","v":8},{"$f":"SQRT((N355^2)+(N356^2+(N357^2+(N358^2))))","v":15.556349186104045},{"$f":"O355+O356+O357+O358","v":306},{"$f":"SQRT((P355^2)+(P356^2+(P357^2+(P358^2))))","v":148.48568954616468},{"$f":"Q355+Q356+Q357+Q358","v":53},{"$f":"SQRT((R355^2)+(R356^2+(R357^2+(R358^2))))","v":66.940271884718243},{"$f":"S355+S356+S357+S358","v":9},{"$f":"SQRT((T355^2)+(T356^2+(T357^2+(T358^2))))","v":17.029386365926403},{"$f":"U355+U356+U357+U358","v":0},{"$f":"SQRT((V355^2)+(V356^2+(V357^2+(V358^2))))","v":15.556349186104045},{"$f":"W355+W356+W357+W358","v":18},{"$f":"SQRT((X355^2)+(X356^2+(X357^2+(X358^2))))","v":23.706539182259394}]
[null,"Less Than 35% of HH Income",{"$f":"C352+C353+C354+C355","v":54},{"$f":"SQRT((D352^2)+(D353^2)+(D354^2)+(D355^2))","v":90.354855984612144},{"$f":"E352+E353+E354+E355","v":0},{"$f":"SQRT((F352^2)+(F353^2)+(F354^2)+(F355^2))","v":22},{"$f":"G352+G353+G354+G355","v":0},{"$f":"SQRT((H352^2)+(H353^2)+(H354^2)+(H355^2))","v":32},{"$f":"I352+I353+I354+I355","v":0},{"$f":"SQRT((J352^2)+(J353^2)+(J354^2)+(J355^2))","v":22},{"$f":"K352+K353+K354+K355","v":0},{"$f":"SQRT((L352^2)+(L353^2)+(L354^2)+(L355^2))","v":32},{"$f":"M352+M353+M354+M355","v":0},{"$f":"SQRT((N352^2)+(N353^2)+(N354^2)+(N355^2))","v":22},{"$f":"O352+O353+O354+O355","v":31},{"$f":"SQRT((P352^2)+(P353^2)+(P354^2)+(P355^2))","v":36.055512754639892},{"$f":"Q352+Q353+Q354+Q355","v":14},{"$f":"SQRT((R352^2)+(R353^2)+(R354^2)+(R355^2))","v":35.383612025908263},{"$f":"S352+S353+S354+S355","v":0},{"$f":"SQRT((T352^2)+(T353^2)+(T354^2)+(T355^2))","v":22},{"$f":"U352+U353+U354+U355","v":0},{"$f":"SQRT((V352^2)+(V353^2)+(V354^2)+(V355^2))","v":22},{"$f":"W352+W353+W354+W355","v":15},{"$f":"SQRT((X352^2)+(X353^2)+(X354^2)+(X355^2))","v":23.065125189341593}]
[null,"35.0 percent or more",{"$f":"C356+C357+C358","v":0},{"$f":"SQRT((D356^2)+(D357^2)+(D358^2))","v":16},{"$f":"E356+E357+E358","v":0},{"$f":"SQRT((F356^2)+(F357^2)+(F358^2))","v":11},{"$f":"G356+G357+G358","v":11},{"$f":"SQRT((H356^2)+(H357^2)+(H358^2))","v":18},{"$f":"I356+I357+I358","v":9},{"$f":"SQRT((J356^2)+(J357^2)+(J358^2))","v":13},{"$f":"K356+K357+K358","v":20},{"$f":"SQRT((L356^2)+(L357^2)+(L358^2))","v":33},{"$f":"M356+M357+M358","v":8},{"$f":"SQRT((N356^2)+(N357^2)+(N358^2))","v":11},{"$f":"O356+O357+O358","v":299},{"$f":"SQRT((P356^2)+(P357^2)+(P358^2))","v":148},{"$f":"Q356+Q357+Q358","v":53},{"$f":"SQRT((R356^2)+(R357^2)+(R358^2))","v":65},{"$f":"S356+S357+S358","v":9},{"$f":"SQRT((T356^2)+(T357^2)+(T358^2))","v":13},{"$f":"U356+U357+U358","v":0},{"$f":"SQRT((V356^2)+(V357^2)+(V358^2))","v":11},{"$f":"W356+W357+W358","v":18},{"$f":"SQRT((X356^2)+(X357^2)+(X358^2))","v":21}]
[null,"50.0 percent or more",{"$f":"C358","v":0},{"$f":"D358","v":0},0,{"$f":"F358","v":0},0,0,0,0,0,0,0,0,0,0,0,0,0,0,0,0,0,0]
[null,"Not Computed",{"$f":"C359","v":19},32,{"$f":"E359","v":0},11,12,19,0,11,0,16,0,11,79,65,83,69,0,11,0,11,0,11]
[null,"$10,000 to $19,999:",{"$f":"C360","v":51},62,{"$f":"E360","v":8},12,40,36,19,20,112,94,46,42,617,165,154,80,20,13,8,12,98,65]
[null,"Less than 30.0 percent",{"$f":"C361+C362+C363","v":0},{"$f":"SQRT((D361^2)+(D362^2)+(D363^2))","v":27.712812921102035},{"$f":"E361+E362+E363","v":0},{"$f":"SQRT((F361^2)+(F362^2)+(F363^2))","v":19.05255888325765},{"$f":"G361+G362+G363","v":9},{"$f":"SQRT((H361^2)+(H362^2)+(H363^2))","v":26.608269391300141},{"$f":"I361+I362+I363","v":0},{"$f":"SQRT((J361^2)+(J362^2)+(J363^2))","v":19.05255888325765},{"$f":"K361+K362+K363","v":56},{"$f":"SQRT((L361^2)+(L362^2)+(L363^2))","v":83.138438763306112},{"$f":"M361+M362+M363","v":19},{"$f":"SQRT((N361^2)+(N362^2)+(N363^2))","v":34.684290392049249},{"$f":"O361+O362+O363","v":84},{"$f":"SQRT((P361^2)+(P362^2)+(P363^2))","v":50.547007824400445},{"$f":"Q361+Q362+Q363","v":80},{"$f":"SQRT((R361^2)+(R362^2)+(R363^2))","v":64.03905058634146},{"$f":"S361+S362+S363","v":0},{"$f":"SQRT((T361^2)+(T362^2)+(T363^2))","v":19.05255888325765},{"$f":"U361+U362+U363","v":0},{"$f":"SQRT((V361^2)+(V362^2)+(V363^2))","v":19.05255888325765},{"$f":"W361+W362+W363","v":27},{"$f":"SQRT((X361^2)+(X362^2)+(X363^2))","v":46.669047558312137}]
[null,"More than 30.0 percent",{"$f":"C364+C365+C366+C367","v":51},{"$f":"SQRT((D364^2)+(D365^2)+(D366^2)+(D367^2))","v":64.031242374328485},{"$f":"E364+E365+E366+E367","v":0},{"$f":"SQRT((F364^2)+(F365^2)+(F366^2)+(F367^2))","v":15.556349186104045},{"$f":"G364+G365+G366+G367","v":31},{"$f":"SQRT((H364^2)+(H365^2)+(H366^2)+(H367^2))","v":36.674241641784498},{"$f":"I364+I365+I366+I367","v":19},{"$f":"SQRT((J364^2)+(J365^2)+(J366^2)+(J367^2))","v":22.825424421026653},{"$f":"K364+K365+K366+K367","v":56},{"$f":"SQRT((L364^2)+(L365^2)+(L366^2)+(L367^2))","v":57.280013966478741},{"$f":"M364+M365+M366+M367","v":27},{"$f":"SQRT((N364^2)+(N365^2)+(N366^2)+(N367^2))","v":31.016124838541646},{"$f":"O364+O365+O366+O367","v":503},{"$f":"SQRT((P364^2)+(P365^2)+(P366^2)+(P367^2))","v":164.55090397806995},{"$f":"Q364+Q365+Q366+Q367","v":56},{"$f":"SQRT((R364^2)+(R365^2)+(R366^2)+(R367^2))","v":52.497618993626752},{"$f":"S364+S365+S366+S367","v":6},{"$f":"SQRT((T364^2)+(T365^2)+(T366^2)+(T367^2))","v":12.529964086141668},{"$f":"U364+U365+U366+U367","v":8},{"$f":"SQRT((V364^2)+(V365^2)+(V366^2)+(V367^2))","v":16.278820596099706},{"$f":"W364+W365+W366+W367","v":47},{"$f":"SQRT((X364^2)+(X365^2)+(X366^2)+(X367^2))","v":53.141321022345693}]
[null,"Less Than 35% of HH Income",{"$f":"C361+C362+C363+C367","v":0},{"$f":"SQRT((D361^2)+(D362^2)+(D363^2)+(D367^2))","v":27.712812921102035},{"$f":"E361+E362+E363+E367","v":0},{"$f":"SQRT((F361^2)+(F362^2)+(F363^2)+(F367^2))","v":19.05255888325765},{"$f":"G361+G362+G363+G367","v":9},{"$f":"SQRT((H361^2)+(H362^2)+(H363^2)+(H367^2))","v":26.608269391300141},{"$f":"I361+I362+I363+I367","v":0},{"$f":"SQRT((J361^2)+(J362^2)+(J363^2)+(J367^2))","v":19.05255888325765},{"$f":"K361+K362+K363+K367","v":56},{"$f":"SQRT((L361^2)+(L362^2)+(L363^2)+(L367^2))","v":83.138438763306112},{"$f":"M361+M362+M363+M367","v":19},{"$f":"SQRT((N361^2)+(N362^2)+(N363^2)+(N367^2))","v":34.684290392049249},{"$f":"O361+O362+O363+O367","v":84},{"$f":"SQRT((P361^2)+(P362^2)+(P363^2)+(P367^2))","v":50.547007824400445},{"$f":"Q361+Q362+Q363+Q367","v":80},{"$f":"SQRT((R361^2)+(R362^2)+(R363^2)+(R367^2))","v":64.03905058634146},{"$f":"S361+S362+S363+S367","v":0},{"$f":"SQRT((T361^2)+(T362^2)+(T363^2)+(T367^2))","v":19.05255888325765},{"$f":"U361+U362+U363+U367","v":0},{"$f":"SQRT((V361^2)+(V362^2)+(V363^2)+(V367^2))","v":19.05255888325765},{"$f":"W361+W362+W363+W367","v":27},{"$f":"SQRT((X361^2)+(X362^2)+(X363^2)+(X367^2))","v":46.669047558312137}]
[null,"35.0 percent or more",{"$f":"C365+C366+C367","v":51},{"$f":"SQRT((D365^2)+(D366^2)+(D367^2))","v":62},{"$f":"E365+E366+E367","v":0},{"$f":"SQRT((F365^2)+(F366^2)+(F367^2))","v":11},{"$f":"G365+G366+G367","v":31},{"$f":"SQRT((H365^2)+(H366^2)+(H367^2))","v":33},{"$f":"I365+I366+I367","v":19},{"$f":"SQRT((J365^2)+(J366^2)+(J367^2))","v":20},{"$f":"K365+K366+K367","v":56},{"$f":"SQRT((L365^2)+(L366^2)+(L367^2))","v":55},{"$f":"M365+M366+M367","v":27},{"$f":"SQRT((N365^2)+(N366^2)+(N367^2))","v":29},{"$f":"O365+O366+O367","v":454},{"$f":"SQRT((P365^2)+(P366^2)+(P367^2))","v":161},{"$f":"Q365+Q366+Q367","v":56},{"$f":"SQRT((R365^2)+(R366^2)+(R367^2))","v":50},{"$f":"S365+S366+S367","v":6},{"$f":"SQRT((T365^2)+(T366^2)+(T367^2))","v":6},{"$f":"U365+U366+U367","v":8},{"$f":"SQRT((V365^2)+(V366^2)+(V367^2))","v":12},{"$f":"W365+W366+W367","v":16},{"$f":"SQRT((X365^2)+(X366^2)+(X367^2))","v":18}]
[null,"50.0 percent or more",{"$f":"C367","v":0},0,{"$f":"E367","v":0},0,0,0,0,0,0,0,0,0,0,0,0,0,0,0,0,0,0,0]
[null,"Not Computed",{"$f":"C368","v":0},16,{"$f":"E368","v":8},12,0,16,0,11,0,16,0,11,30,28,18,22,14,11,0,11,24,37]
[null,"$20,000 to $34,999:",{"$f":"C369","v":22},{"$f":"D369","v":35},{"$f":"E369","v":22},26,158,102,0,11,9,15,11,17,542,159,189,122,46,32,0,11,182,90]
[null,"Less than 30.0 percent",{"$f":"C370+C371+C372","v":0},{"$f":"SQRT((D370^2)+(D371^2)+(D372^2))","v":27.712812921102035},{"$f":"E370+E371+E372","v":0},{"$f":"SQRT((F370^2)+(F371^2)+(F372^2))","v":19.05255888325765},{"$f":"G370+G371+G372","v":67},{"$f":"SQRT((H370^2)+(H371^2)+(H372^2))","v":75.266194270734857},{"$f":"I370+I371+I372","v":0},{"$f":"SQRT((J370^2)+(J371^2)+(J372^2))","v":19.05255888325765},{"$f":"K370+K371+K372","v":0},{"$f":"SQRT((L370^2)+(L371^2)+(L372^2))","v":27.712812921102035},{"$f":"M370+M371+M372","v":0},{"$f":"SQRT((N370^2)+(N371^2)+(N372^2))","v":19.05255888325765},{"$f":"O370+O371+O372","v":196},{"$f":"SQRT((P370^2)+(P371^2)+(P372^2))","v":110.1044958210154},{"$f":"Q370+Q371+Q372","v":30},{"$f":"SQRT((R370^2)+(R371^2)+(R372^2))","v":34.423828956117013},{"$f":"S370+S371+S372","v":0},{"$f":"SQRT((T370^2)+(T371^2)+(T372^2))","v":19.05255888325765},{"$f":"U370+U371+U372","v":0},{"$f":"SQRT((V370^2)+(V371^2)+(V372^2))","v":19.05255888325765},{"$f":"W370+W371+W372","v":81},{"$f":"SQRT((X370^2)+(X371^2)+(X372^2))","v":65.688659599659971}]
[null,"More than 30.0 percent",{"$f":"C373+C374+C375+C376","v":22},{"$f":"SQRT((D373^2)+(D374^2)+(D375^2)+(D376^2))","v":38.483762809787713},{"$f":"E373+E374+E375+E376","v":0},{"$f":"SQRT((F373^2)+(F374^2)+(F375^2)+(F376^2))","v":15.556349186104045},{"$f":"G373+G374+G375+G376","v":91},{"$f":"SQRT((H373^2)+(H374^2)+(H375^2)+(H376^2))","v":76.400261779656233},{"$f":"I373+I374+I375+I376","v":0},{"$f":"SQRT((J373^2)+(J374^2)+(J375^2)+(J376^2))","v":15.556349186104045},{"$f":"K373+K374+K375+K376","v":9},{"$f":"SQRT((L373^2)+(L374^2)+(L375^2)+(L376^2))","v":21.931712199461309},{"$f":"M373+M374+M375+M376","v":11},{"$f":"SQRT((N373^2)+(N374^2)+(N375^2)+(N376^2))","v":20.248456731316587},{"$f":"O373+O374+O375+O376","v":325},{"$f":"SQRT((P373^2)+(P374^2)+(P375^2)+(P376^2))","v":121.80311982868091},{"$f":"Q373+Q374+Q375+Q376","v":125},{"$f":"SQRT((R373^2)+(R374^2)+(R375^2)+(R376^2))","v":105.22357150372724},{"$f":"S373+S374+S375+S376","v":33},{"$f":"SQRT((T373^2)+(T374^2)+(T375^2)+(T376^2))","v":29.154759474226502},{"$f":"U373+U374+U375+U376","v":0},{"$f":"SQRT((V373^2)+(V374^2)+(V375^2)+(V376^2))","v":15.556349186104045},{"$f":"W373+W374+W375+W376","v":72},{"$f":"SQRT((X373^2)+(X374^2)+(X375^2)+(X376^2))","v":51.195702944680818}]
[null,"Less Than 35% of HH Income",{"$f":"C370+C371+C372+C373","v":0},{"$f":"SQRT((D370^2)+(D371^2)+(D372^2)+(D373^2))","v":32},{"$f":"E370+E371+E372+E373","v":0},{"$f":"SQRT((F370^2)+(F371^2)+(F372^2)+(F373^2))","v":22},{"$f":"G370+G371+G372+G373","v":78},{"$f":"SQRT((H370^2)+(H371^2)+(H372^2)+(H373^2))","v":77.627314780301404},{"$f":"I370+I371+I372+I373","v":0},{"$f":"SQRT((J370^2)+(J371^2)+(J372^2)+(J373^2))","v":22},{"$f":"K370+K371+K372+K373","v":9},{"$f":"SQRT((L370^2)+(L371^2)+(L372^2)+(L373^2))","v":31.511902513177461},{"$f":"M370+M371+M372+M373","v":0},{"$f":"SQRT((N370^2)+(N371^2)+(N372^2)+(N373^2))","v":22},{"$f":"O370+O371+O372+O373","v":266},{"$f":"SQRT((P370^2)+(P371^2)+(P372^2)+(P373^2))","v":125.3913872640382},{"$f":"Q370+Q371+Q372+Q373","v":30},{"$f":"SQRT((R370^2)+(R371^2)+(R372^2)+(R373^2))","v":37.960505792204614},{"$f":"S370+S371+S372+S373","v":0},{"$f":"SQRT((T370^2)+(T371^2)+(T372^2)+(T373^2))","v":22},{"$f":"U370+U371+U372+U373","v":0},{"$f":"SQRT((V370^2)+(V371^2)+(V372^2)+(V373^2))","v":22},{"$f":"W370+W371+W372+W373","v":81},{"$f":"SQRT((X370^2)+(X371^2)+(X372^2)+(X373^2))","v":66.603303221386852}]
[null,"35.0 percent or more",{"$f":"C374+C375+C376","v":22},{"$f":"SQRT((D374^2)+(D375^2)+(D376^2))","v":35},{"$f":"E374+E375+E376","v":0},{"$f":"SQRT((F374^2)+(F375^2)+(F376^2))","v":11},{"$f":"G374+G375+G376","v":80},{"$f":"SQRT((H374^2)+(H375^2)+(H376^2))","v":74},{"$f":"I374+I375+I376","v":0},{"$f":"SQRT((J374^2)+(J375^2)+(J376^2))","v":11},{"$f":"K374+K375+K376","v":0},{"$f":"SQRT((L374^2)+(L375^2)+(L376^2))","v":16},{"$f":"M374+M375+M376","v":11},{"$f":"SQRT((N374^2)+(N375^2)+(N376^2))","v":17},{"$f":"O374+O375+O376","v":255},{"$f":"SQRT((P374^2)+(P375^2)+(P376^2))","v":106},{"$f":"Q374+Q375+Q376","v":125},{"$f":"SQRT((R374^2)+(R375^2)+(R376^2))","v":104},{"$f":"S374+S375+S376","v":33},{"$f":"SQRT((T374^2)+(T375^2)+(T376^2))","v":27},{"$f":"U374+U375+U376","v":0},{"$f":"SQRT((V374^2)+(V375^2)+(V376^2))","v":11},{"$f":"W374+W375+W376","v":72},{"$f":"SQRT((X374^2)+(X375^2)+(X376^2))","v":50}]
[null,"50.0 percent or more",{"$f":"C376","v":0},0,{"$f":"E376","v":0},0,0,0,0,0,0,0,0,0,0,0,0,0,0,0,0,0,0,0]
[null,"Not Computed",{"$f":"C377","v":0},16,{"$f":"E377","v":22},26,0,16,0,11,0,16,0,11,21,24,34,55,13,17,0,11,29,50]
[null,{"$f":"B378","v":"$35,000 to $49,999:"},59,72,{"$f":"E378","v":19},22,104,80,18,17,127,106,24,21,668,194,114,86,14,15,6,10,55,48]
[null,"Less than 30.0 percent",{"$f":"C379+C380+C381","v":43},{"$f":"SQRT((D379^2)+(D380^2)+(D381^2))","v":72.615425358528341},{"$f":"E379+E380+E381","v":0},{"$f":"SQRT((F379^2)+(F380^2)+(F381^2))","v":19.05255888325765},{"$f":"G379+G380+G381","v":60},{"$f":"SQRT((H379^2)+(H380^2)+(H381^2))","v":65.612498809296994},{"$f":"I379+I380+I381","v":0},{"$f":"SQRT((J379^2)+(J380^2)+(J381^2))","v":19.05255888325765},{"$f":"K379+K380+K381","v":93},{"$f":"SQRT((L379^2)+(L380^2)+(L381^2))","v":103.07278981380101},{"$f":"M379+M380+M381","v":15},{"$f":"SQRT((N379^2)+(N380^2)+(N381^2))","v":19.748417658131498},{"$f":"O379+O380+O381","v":560},{"$f":"SQRT((P379^2)+(P380^2)+(P381^2))","v":198.97989848223364},{"$f":"Q379+Q380+Q381","v":46},{"$f":"SQRT((R379^2)+(R380^2)+(R381^2))","v":74.518454090245328},{"$f":"S379+S380+S381","v":3},{"$f":"SQRT((T379^2)+(T380^2)+(T381^2))","v":16.340134638368191},{"$f":"U379+U380+U381","v":0},{"$f":"SQRT((V379^2)+(V380^2)+(V381^2))","v":19.05255888325765},{"$f":"W379+W380+W381","v":55},{"$f":"SQRT((X379^2)+(X380^2)+(X381^2))","v":49.050993873722888}]
[null,"More than 30.0 percent",{"$f":"C382+C383+C384+C385","v":16},{"$f":"SQRT((D382^2)+(D383^2)+(D384^2)+(D385^2))","v":29.681644159311659},{"$f":"E382+E383+E384+E385","v":19},{"$f":"SQRT((F382^2)+(F383^2)+(F384^2)+(F385^2))","v":24.596747752497688},{"$f":"G382+G383+G384+G385","v":44},{"$f":"SQRT((H382^2)+(H383^2)+(H384^2)+(H385^2))","v":44.384682042344295},{"$f":"I382+I383+I384+I385","v":10},{"$f":"SQRT((J382^2)+(J383^2)+(J384^2)+(J385^2))","v":18.601075237738275},{"$f":"K382+K383+K384+K385","v":34},{"$f":"SQRT((L382^2)+(L383^2)+(L384^2)+(L385^2))","v":38.209946349085598},{"$f":"M382+M383+M384+M385","v":0},{"$f":"SQRT((N382^2)+(N383^2)+(N384^2)+(N385^2))","v":15.556349186104045},{"$f":"O382+O383+O384+O385","v":108},{"$f":"SQRT((P382^2)+(P383^2)+(P384^2)+(P385^2))","v":64.845971347493901},{"$f":"Q382+Q383+Q384+Q385","v":68},{"$f":"SQRT((R382^2)+(R383^2)+(R384^2)+(R385^2))","v":51.107729356722551},{"$f":"S382+S383+S384+S385","v":11},{"$f":"SQRT((T382^2)+(T383^2)+(T384^2)+(T385^2))","v":17.804493814764857},{"$f":"U382+U383+U384+U385","v":0},{"$f":"SQRT((V382^2)+(V383^2)+(V384^2)+(V385^2))","v":15.556349186104045},{"$f":"W382+W383+W384+W385","v":0},{"$f":"SQRT((X382^2)+(X383^2)+(X384^2)+(X385^2))","v":15.556349186104045}]
[null,"Less Than 35% of HH Income",{"$f":"C379+C380+C381+C382","v":59},{"$f":"SQRT((D379^2)+(D380^2)+(D381^2)+(D382^2))","v":76.798437484105108},{"$f":"E379+E380+E381+E382","v":19},{"$f":"SQRT((F379^2)+(F380^2)+(F381^2)+(F382^2))","v":29.103264421710495},{"$f":"G379+G380+G381+G382","v":93},{"$f":"SQRT((H379^2)+(H380^2)+(H381^2)+(H382^2))","v":77.369244535538797},{"$f":"I379+I380+I381+I382","v":0},{"$f":"SQRT((J379^2)+(J380^2)+(J381^2)+(J382^2))","v":22},{"$f":"K379+K380+K381+K382","v":110},{"$f":"SQRT((L379^2)+(L380^2)+(L381^2)+(L382^2))","v":106.30145812734649},{"$f":"M379+M380+M381+M382","v":15},{"$f":"SQRT((N379^2)+(N380^2)+(N381^2)+(N382^2))","v":22.605309110914629},{"$f":"O379+O380+O381+O382","v":583},{"$f":"SQRT((P379^2)+(P380^2)+(P381^2)+(P382^2))","v":201.08207279615954},{"$f":"Q379+Q380+Q381+Q382","v":67},{"$f":"SQRT((R379^2)+(R380^2)+(R381^2)+(R382^2))","v":78.924014089502563},{"$f":"S379+S380+S381+S382","v":3},{"$f":"SQRT((T379^2)+(T380^2)+(T381^2)+(T382^2))","v":19.697715603592208},{"$f":"U379+U380+U381+U382","v":0},{"$f":"SQRT((V379^2)+(V380^2)+(V381^2)+(V382^2))","v":22},{"$f":"W379+W380+W381+W382","v":55},{"$f":"SQRT((X379^2)+(X380^2)+(X381^2)+(X382^2))","v":50.269274910227224}]
[null,"35.0 percent or more",{"$f":"C383+C384+C385","v":0},{"$f":"SQRT((D383^2)+(D384^2)+(D385^2))","v":16},{"$f":"E383+E384+E385","v":0},{"$f":"SQRT((F383^2)+(F384^2)+(F385^2))","v":11},{"$f":"G383+G384+G385","v":11},{"$f":"SQRT((H383^2)+(H384^2)+(H385^2))","v":17},{"$f":"I383+I384+I385","v":10},{"$f":"SQRT((J383^2)+(J384^2)+(J385^2))","v":15},{"$f":"K383+K384+K385","v":17},{"$f":"SQRT((L383^2)+(L384^2)+(L385^2))","v":28},{"$f":"M383+M384+M385","v":0},{"$f":"SQRT((N383^2)+(N384^2)+(N385^2))","v":11},{"$f":"O383+O384+O385","v":85},{"$f":"SQRT((P383^2)+(P384^2)+(P385^2))","v":58},{"$f":"Q383+Q384+Q385","v":47},{"$f":"SQRT((R383^2)+(R384^2)+(R385^2))","v":44},{"$f":"S383+S384+S385","v":11},{"$f":"SQRT((T383^2)+(T384^2)+(T385^2))","v":14},{"$f":"U383+U384+U385","v":0},{"$f":"SQRT((V383^2)+(V384^2)+(V385^2))","v":11},{"$f":"W383+W384+W385","v":0},{"$f":"SQRT((X383^2)+(X384^2)+(X385^2))","v":11}]
[null,"50.0 percent or more",{"$f":"C385","v":0},0,{"$f":"E385","v":0},0,0,0,0,0,0,0,0,0,0,0,0,0,0,0,0,0,0,0]
[null,"Not Computed",{"$f":"C386","v":0},16,{"$f":"E386","v":0},11,0,16,8,9,0,16,9,15,0,18,0,16,0,11,6,10,0,11]
[null,"$50,000 to $74,999:",{"$f":"C387","v":80},68,{"$f":"E387","v":47},35,86,71,35,23,131,109,0,11,430,179,126,70,34,22,34,33,40,42]
[null,"Less than 30.0 percent",{"$f":"C388+C389+C390","v":64},{"$f":"SQRT((D388^2)+(D389^2)+(D390^2))","v":65.153664517047702},{"$f":"E388+E389+E390","v":47},{"$f":"SQRT((F388^2)+(F389^2)+(F390^2))","v":34.438350715445125},{"$f":"G388+G389+G390","v":75},{"$f":"SQRT((H388^2)+(H389^2)+(H390^2))","v":69.267597042195717},{"$f":"I388+I389+I390","v":33},{"$f":"SQRT((J388^2)+(J389^2)+(J390^2))","v":24.454038521274967},{"$f":"K388+K389+K390","v":66},{"$f":"SQRT((L388^2)+(L389^2)+(L390^2))","v":71.700767080973407},{"$f":"M388+M389+M390","v":0},{"$f":"SQRT((N388^2)+(N389^2)+(N390^2))","v":19.05255888325765},{"$f":"O388+O389+O390","v":419},{"$f":"SQRT((P388^2)+(P389^2)+(P390^2))","v":179.89997220677941},{"$f":"Q388+Q389+Q390","v":94},{"$f":"SQRT((R388^2)+(R389^2)+(R390^2))","v":67.65352910233139},{"$f":"S388+S389+S390","v":28},{"$f":"SQRT((T388^2)+(T389^2)+(T390^2))","v":22.516660498395403},{"$f":"U388+U389+U390","v":0},{"$f":"SQRT((V388^2)+(V389^2)+(V390^2))","v":19.05255888325765},{"$f":"W388+W389+W390","v":32},{"$f":"SQRT((X388^2)+(X389^2)+(X390^2))","v":37.868192457522973}]
[null,"More than 30.0 percent",{"$f":"C391+C392+C393+C394","v":0},{"$f":"SQRT((D391^2)+(D392^2)+(D393^2)+(D394^2))","v":22.627416997969522},{"$f":"E391+E392+E393+E394","v":0},{"$f":"SQRT((F391^2)+(F392^2)+(F393^2)+(F394^2))","v":15.556349186104045},{"$f":"G391+G392+G393+G394","v":11},{"$f":"SQRT((H391^2)+(H392^2)+(H393^2)+(H394^2))","v":24.083189157584592},{"$f":"I391+I392+I393+I394","v":0},{"$f":"SQRT((J391^2)+(J392^2)+(J393^2)+(J394^2))","v":15.556349186104045},{"$f":"K391+K392+K393+K394","v":14},{"$f":"SQRT((L391^2)+(L392^2)+(L393^2)+(L394^2))","v":28.0178514522438},{"$f":"M391+M392+M393+M394","v":0},{"$f":"SQRT((N391^2)+(N392^2)+(N393^2)+(N394^2))","v":15.556349186104045},{"$f":"O391+O392+O393+O394","v":11},{"$f":"SQRT((P391^2)+(P392^2)+(P393^2)+(P394^2))","v":24.758836806279895},{"$f":"Q391+Q392+Q393+Q394","v":32},{"$f":"SQRT((R391^2)+(R392^2)+(R393^2)+(R394^2))","v":37.576588456111871},{"$f":"S391+S392+S393+S394","v":0},{"$f":"SQRT((T391^2)+(T392^2)+(T393^2)+(T394^2))","v":15.556349186104045},{"$f":"U391+U392+U393+U394","v":0},{"$f":"SQRT((V391^2)+(V392^2)+(V393^2)+(V394^2))","v":15.556349186104045},{"$f":"W391+W392+W393+W394","v":8},{"$f":"SQRT((X391^2)+(X392^2)+(X393^2)+(X394^2))","v":17.804493814764857}]
[null,"Less Than 35% of HH Income",{"$f":"C388+C389+C390+C391","v":64},{"$f":"SQRT((D388^2)+(D389^2)+(D390^2)+(D391^2))","v":67.089492470878028},{"$f":"E388+E389+E390+E391","v":47},{"$f":"SQRT((F388^2)+(F389^2)+(F390^2)+(F391^2))","v":36.152454965050438},{"$f":"G388+G389+G390+G391","v":75},{"$f":"SQRT((H388^2)+(H389^2)+(H390^2)+(H391^2))","v":71.09149034870488},{"$f":"I388+I389+I390+I391","v":33},{"$f":"SQRT((J388^2)+(J389^2)+(J390^2)+(J391^2))","v":26.814175355583846},{"$f":"K388+K389+K390+K391","v":80},{"$f":"SQRT((L388^2)+(L389^2)+(L390^2)+(L391^2))","v":75.299402388066795},{"$f":"M388+M389+M390+M391","v":0},{"$f":"SQRT((N388^2)+(N389^2)+(N390^2)+(N391^2))","v":22},{"$f":"O388+O389+O390+O391","v":419},{"$f":"SQRT((P388^2)+(P389^2)+(P390^2)+(P391^2))","v":180.79823007983236},{"$f":"Q388+Q389+Q390+Q391","v":94},{"$f":"SQRT((R388^2)+(R389^2)+(R390^2)+(R391^2))","v":69.519781357538804},{"$f":"S388+S389+S390+S391","v":28},{"$f":"SQRT((T388^2)+(T389^2)+(T390^2)+(T391^2))","v":25.059928172283335},{"$f":"U388+U389+U390+U391","v":0},{"$f":"SQRT((V388^2)+(V389^2)+(V390^2)+(V391^2))","v":22},{"$f":"W388+W389+W390+W391","v":40},{"$f":"SQRT((X388^2)+(X389^2)+(X390^2)+(X391^2))","v":40.373258476372698}]
[null,"35.0 percent or more",{"$f":"C392+C393+C394","v":0},{"$f":"SQRT((D392^2)+(D393^2)+(D394^2))","v":16},{"$f":"E392+E393+E394","v":0},{"$f":"SQRT((F392^2)+(F393^2)+(F394^2))","v":11},{"$f":"G392+G393+G394","v":11},{"$f":"SQRT((H392^2)+(H393^2)+(H394^2))","v":18},{"$f":"I392+I393+I394","v":0},{"$f":"SQRT((J392^2)+(J393^2)+(J394^2))","v":11},{"$f":"K392+K393+K394","v":0},{"$f":"SQRT((L392^2)+(L393^2)+(L394^2))","v":16},{"$f":"M392+M393+M394","v":0},{"$f":"SQRT((N392^2)+(N393^2)+(N394^2))","v":11},{"$f":"O392+O393+O394","v":11},{"$f":"SQRT((P392^2)+(P393^2)+(P394^2))","v":17},{"$f":"Q392+Q393+Q394","v":32},{"$f":"SQRT((R392^2)+(R393^2)+(R394^2))","v":34},{"$f":"S392+S393+S394","v":0},{"$f":"SQRT((T392^2)+(T393^2)+(T394^2))","v":11},{"$f":"U392+U393+U394","v":0},{"$f":"SQRT((V392^2)+(V393^2)+(V394^2))","v":11},{"$f":"W392+W393+W394","v":0},{"$f":"SQRT((X392^2)+(X393^2)+(X394^2))","v":11}]
[null,"50.0 percent or more",{"$f":"C394","v":0},0,{"$f":"E394","v":0},0,0,0,0,0,0,0,0,0,0,0,0,0,0,0,0,0,0,0]
[null,"Not Computed",{"$f":"C395","v":16},26,{"$f":"E395","v":0},11,0,16,2,3,51,80,0,11,0,18,0,16,6,7,34,33,0,11]
[null,"$75,000 to $99,999:",{"$f":"C396","v":17},27,{"$f":"E396","v":0},11,98,103,0,11,6,11,7,12,51,40,61,51,28,28,17,27,36,40]
[null,"Less than 30.0 percent",{"$f":"C397+C398+C399","v":17},{"$f":"SQRT((D397^2)+(D398^2)+(D399^2))","v":35.227829907617071},{"$f":"E397+E398+E399","v":0},{"$f":"SQRT((F397^2)+(F398^2)+(F399^2))","v":19.05255888325765},{"$f":"G397+G398+G399","v":98},{"$f":"SQRT((H397^2)+(H398^2)+(H399^2))","v":105.45615202537972},{"$f":"I397+I398+I399","v":0},{"$f":"SQRT((J397^2)+(J398^2)+(J399^2))","v":19.05255888325765},{"$f":"K397+K398+K399","v":0},{"$f":"SQRT((L397^2)+(L398^2)+(L399^2))","v":27.712812921102035},{"$f":"M397+M398+M399","v":0},{"$f":"SQRT((N397^2)+(N398^2)+(N399^2))","v":19.05255888325765},{"$f":"O397+O398+O399","v":51},{"$f":"SQRT((P397^2)+(P398^2)+(P399^2))","v":38.80721582386451},{"$f":"Q397+Q398+Q399","v":61},{"$f":"SQRT((R397^2)+(R398^2)+(R399^2))","v":55.794264938253285},{"$f":"S397+S398+S399","v":16},{"$f":"SQRT((T397^2)+(T398^2)+(T399^2))","v":25.337718918639855},{"$f":"U397+U398+U399","v":17},{"$f":"SQRT((V397^2)+(V398^2)+(V399^2))","v":31.160872901765767},{"$f":"W397+W398+W399","v":36},{"$f":"SQRT((X397^2)+(X398^2)+(X399^2))","v":42.918527467749868}]
[null,"More than 30.0 percent",{"$f":"C400+C401+C402+C403","v":0},{"$f":"SQRT((D400^2)+(D401^2)+(D402^2)+(D403^2))","v":22.627416997969522},{"$f":"E400+E401+E402+E403","v":0},{"$f":"SQRT((F400^2)+(F401^2)+(F402^2)+(F403^2))","v":15.556349186104045},{"$f":"G400+G401+G402+G403","v":0},{"$f":"SQRT((H400^2)+(H401^2)+(H402^2)+(H403^2))","v":22.627416997969522},{"$f":"I400+I401+I402+I403","v":0},{"$f":"SQRT((J400^2)+(J401^2)+(J402^2)+(J403^2))","v":15.556349186104045},{"$f":"K400+K401+K402+K403","v":0},{"$f":"SQRT((L400^2)+(L401^2)+(L402^2)+(L403^2))","v":22.627416997969522},{"$f":"M400+M401+M402+M403","v":0},{"$f":"SQRT((N400^2)+(N401^2)+(N402^2)+(N403^2))","v":15.556349186104045},{"$f":"O400+O401+O402+O403","v":0},{"$f":"SQRT((P400^2)+(P401^2)+(P402^2)+(P403^2))","v":25.45584412271571},{"$f":"Q400+Q401+Q402+Q403","v":0},{"$f":"SQRT((R400^2)+(R401^2)+(R402^2)+(R403^2))","v":22.627416997969522},{"$f":"S400+S401+S402+S403","v":0},{"$f":"SQRT((T400^2)+(T401^2)+(T402^2)+(T403^2))","v":15.556349186104045},{"$f":"U400+U401+U402+U403","v":0},{"$f":"SQRT((V400^2)+(V401^2)+(V402^2)+(V403^2))","v":15.556349186104045},{"$f":"W400+W401+W402+W403","v":0},{"$f":"SQRT((X400^2)+(X401^2)+(X402^2)+(X403^2))","v":15.556349186104045}]
[null,"Less Than 35% of HH Income",{"$f":"C397+C398+C399+C400","v":17},{"$f":"SQRT((D397^2)+(D398^2)+(D399^2)+(D400^2))","v":38.691084244306204},{"$f":"E397+E398+E399+E400","v":0},{"$f":"SQRT((F397^2)+(F398^2)+(F399^2)+(F400^2))","v":22},{"$f":"G397+G398+G399+G400","v":98},{"$f":"SQRT((H397^2)+(H398^2)+(H399^2)+(H400^2))","v":106.66302077102448},{"$f":"I397+I398+I399+I400","v":0},{"$f":"SQRT((J397^2)+(J398^2)+(J399^2)+(J400^2))","v":22},{"$f":"K397+K398+K399+K400","v":0},{"$f":"SQRT((L397^2)+(L398^2)+(L399^2)+(L400^2))","v":32},{"$f":"M397+M398+M399+M400","v":0},{"$f":"SQRT((N397^2)+(N398^2)+(N399^2)+(N400^2))","v":22},{"$f":"O397+O398+O399+O400","v":51},{"$f":"SQRT((P397^2)+(P398^2)+(P399^2)+(P400^2))","v":42.778499272414876},{"$f":"Q397+Q398+Q399+Q400","v":61},{"$f":"SQRT((R397^2)+(R398^2)+(R399^2)+(R400^2))","v":58.043087443725803},{"$f":"S397+S398+S399+S400","v":16},{"$f":"SQRT((T397^2)+(T398^2)+(T399^2)+(T400^2))","v":27.622454633866266},{"$f":"U397+U398+U399+U400","v":17},{"$f":"SQRT((V397^2)+(V398^2)+(V399^2)+(V400^2))","v":33.045423283716609},{"$f":"W397+W398+W399+W400","v":36},{"$f":"SQRT((X397^2)+(X398^2)+(X399^2)+(X400^2))","v":44.305755833751441}]
[null,"35.0 percent or more",{"$f":"C401+C402+C403","v":0},{"$f":"SQRT((D401^2)+(D402^2)+(D403^2))","v":16},{"$f":"E401+E402+E403","v":0},{"$f":"SQRT((F401^2)+(F402^2)+(F403^2))","v":11},{"$f":"G401+G402+G403","v":0},{"$f":"SQRT((H401^2)+(H402^2)+(H403^2))","v":16},{"$f":"I401+I402+I403","v":0},{"$f":"SQRT((J401^2)+(J402^2)+(J403^2))","v":11},{"$f":"K401+K402+K403","v":0},{"$f":"SQRT((L401^2)+(L402^2)+(L403^2))","v":16},{"$f":"M401+M402+M403","v":0},{"$f":"SQRT((N401^2)+(N402^2)+(N403^2))","v":11},{"$f":"O401+O402+O403","v":0},{"$f":"SQRT((P401^2)+(P402^2)+(P403^2))","v":18},{"$f":"Q401+Q402+Q403","v":0},{"$f":"SQRT((R401^2)+(R402^2)+(R403^2))","v":16},{"$f":"S401+S402+S403","v":0},{"$f":"SQRT((T401^2)+(T402^2)+(T403^2))","v":11},{"$f":"U401+U402+U403","v":0},{"$f":"SQRT((V401^2)+(V402^2)+(V403^2))","v":11},{"$f":"W401+W402+W403","v":0},{"$f":"SQRT((X401^2)+(X402^2)+(X403^2))","v":11}]
[null,"50.0 percent or more",{"$f":"C403","v":0},0,{"$f":"E403","v":0},0,0,0,0,0,0,0,0,0,0,0,0,0,0,0,0,0,0,0]
[null,"Not Computed",{"$f":"C404","v":0},16,{"$f":"E404","v":0},11,0,16,0,11,6,11,7,12,0,18,0,16,12,20,0,11,0,11]
[null,"$100,000 or more:",{"$f":"C405","v":68},80,{"$f":"E405","v":13},19,0,16,0,11,10,17,0,11,182,92,31,23,5,8,19,18,59,47]
[null,"Less than 30.0 percent",{"$f":"C406+C407+C408","v":49},{"$f":"SQRT((D406^2)+(D407^2)+(D408^2))","v":79.296910406396037},{"$f":"E406+E407+E408","v":13},{"$f":"SQRT((F406^2)+(F407^2)+(F408^2))","v":24.556058315617349},{"$f":"G406+G407+G408","v":0},{"$f":"SQRT((H406^2)+(H407^2)+(H408^2))","v":27.712812921102035},{"$f":"I406+I407+I408","v":0},{"$f":"SQRT((J406^2)+(J407^2)+(J408^2))","v":19.05255888325765},{"$f":"K406+K407+K408","v":10},{"$f":"SQRT((L406^2)+(L407^2)+(L408^2))","v":28.301943396169811},{"$f":"M406+M407+M408","v":0},{"$f":"SQRT((N406^2)+(N407^2)+(N408^2))","v":19.05255888325765},{"$f":"O406+O407+O408","v":182},{"$f":"SQRT((P406^2)+(P407^2)+(P408^2))","v":95.456796510253795},{"$f":"Q406+Q407+Q408","v":31},{"$f":"SQRT((R406^2)+(R407^2)+(R408^2))","v":32.264531609803356},{"$f":"S406+S407+S408","v":0},{"$f":"SQRT((T406^2)+(T407^2)+(T408^2))","v":19.05255888325765},{"$f":"U406+U407+U408","v":12},{"$f":"SQRT((V406^2)+(V407^2)+(V408^2))","v":20.928449536456348},{"$f":"W406+W407+W408","v":34},{"$f":"SQRT((X406^2)+(X407^2)+(X408^2))","v":41.060930335295616}]
[null,"More than 30.0 percent",{"$f":"C409+C410+C411+C469","v":0},{"$f":"SQRT((D409^2)+(D410^2)+(D411^2)+(D469^2))","v":22.627416997969522},{"$f":"E409+E410+E411+E469","v":0},{"$f":"SQRT((F409^2)+(F410^2)+(F411^2)+(F469^2))","v":15.556349186104045},{"$f":"G409+G410+G411+G469","v":0},{"$f":"SQRT((H409^2)+(H410^2)+(H411^2)+(H469^2))","v":22.627416997969522},{"$f":"I409+I410+I411+I469","v":0},{"$f":"SQRT((J409^2)+(J410^2)+(J411^2)+(J469^2))","v":15.556349186104045},{"$f":"K409+K410+K411+K469","v":0},{"$f":"SQRT((L409^2)+(L410^2)+(L411^2)+(L469^2))","v":22.627416997969522},{"$f":"M409+M410+M411+M469","v":0},{"$f":"SQRT((N409^2)+(N410^2)+(N411^2)+(N469^2))","v":15.556349186104045},{"$f":"O409+O410+O411+O469","v":0},{"$f":"SQRT((P409^2)+(P410^2)+(P411^2)+(P469^2))","v":25.45584412271571},{"$f":"Q409+Q410+Q411+Q469","v":0},{"$f":"SQRT((R409^2)+(R410^2)+(R411^2)+(R469^2))","v":22.627416997969522},{"$f":"S409+S410+S411+S469","v":0},{"$f":"SQRT((T409^2)+(T410^2)+(T411^2)+(T469^2))","v":15.556349186104045},{"$f":"U409+U410+U411+U469","v":0},{"$f":"SQRT((V409^2)+(V410^2)+(V411^2)+(V469^2))","v":15.556349186104045},{"$f":"W409+W410+W411+W469","v":0},{"$f":"SQRT((X409^2)+(X410^2)+(X411^2)+(X469^2))","v":15.556349186104045}]
[null,"Less Than 35% of HH Income",{"$f":"C406+C407+C408+C409","v":49},{"$f":"SQRT((D406^2)+(D407^2)+(D408^2)+(D409^2))","v":80.894993664626739},{"$f":"E406+E407+E408+E409","v":13},{"$f":"SQRT((F406^2)+(F407^2)+(F408^2)+(F409^2))","v":26.90724809414742},{"$f":"G406+G407+G408+G409","v":0},{"$f":"SQRT((H406^2)+(H407^2)+(H408^2)+(H409^2))","v":32},{"$f":"I406+I407+I408+I409","v":0},{"$f":"SQRT((J406^2)+(J407^2)+(J408^2)+(J409^2))","v":22},{"$f":"K406+K407+K408+K409","v":10},{"$f":"SQRT((L406^2)+(L407^2)+(L408^2)+(L409^2))","v":32.511536414017719},{"$f":"M406+M407+M408+M409","v":0},{"$f":"SQRT((N406^2)+(N407^2)+(N408^2)+(N409^2))","v":22},{"$f":"O406+O407+O408+O409","v":182},{"$f":"SQRT((P406^2)+(P407^2)+(P408^2)+(P409^2))","v":97.139075556647128},{"$f":"Q406+Q407+Q408+Q409","v":31},{"$f":"SQRT((R406^2)+(R407^2)+(R408^2)+(R409^2))","v":36.013886210738214},{"$f":"S406+S407+S408+S409","v":0},{"$f":"SQRT((T406^2)+(T407^2)+(T408^2)+(T409^2))","v":22},{"$f":"U406+U407+U408+U409","v":12},{"$f":"SQRT((V406^2)+(V407^2)+(V408^2)+(V409^2))","v":23.643180835073778},{"$f":"W406+W407+W408+W409","v":34},{"$f":"SQRT((X406^2)+(X407^2)+(X408^2)+(X409^2))","v":42.508822613664563}]
[null,"35.0 percent or more",{"$f":"C410+C411+C412","v":0},{"$f":"SQRT((D410^2)+(D411^2)+(D412^2))","v":16},{"$f":"E410+E411+E412","v":0},{"$f":"SQRT((F410^2)+(F411^2)+(F412^2))","v":11},{"$f":"G410+G411+G412","v":0},{"$f":"SQRT((H410^2)+(H411^2)+(H412^2))","v":16},{"$f":"I410+I411+I412","v":0},{"$f":"SQRT((J410^2)+(J411^2)+(J412^2))","v":11},{"$f":"K410+K411+K412","v":0},{"$f":"SQRT((L410^2)+(L411^2)+(L412^2))","v":16},{"$f":"M410+M411+M412","v":0},{"$f":"SQRT((N410^2)+(N411^2)+(N412^2))","v":11},{"$f":"O410+O411+O412","v":0},{"$f":"SQRT((P410^2)+(P411^2)+(P412^2))","v":18},{"$f":"Q410+Q411+Q412","v":0},{"$f":"SQRT((R410^2)+(R411^2)+(R412^2))","v":16},{"$f":"S410+S411+S412","v":0},{"$f":"SQRT((T410^2)+(T411^2)+(T412^2))","v":11},{"$f":"U410+U411+U412","v":0},{"$f":"SQRT((V410^2)+(V411^2)+(V412^2))","v":11},{"$f":"W410+W411+W412","v":0},{"$f":"SQRT((X410^2)+(X411^2)+(X412^2))","v":11}]
[null,"50.0 percent or more",{"$f":"C412","v":0},{"$f":"D412","v":0},{"$f":"E412","v":0},0,0,0,0,0,0,0,0,0,0,0,0,0,0,0,0,0,0,0]
[null,"Not Computed",{"$f":"C413","v":0},{"$f":"D413","v":0},{"$f":"E413","v":0},0,0,0,0,0,0,0,0,0,0,0,0,0,0,0,0,0,0,0]
[]
[]
[null,"Calculated GROSS RENT AS A PERCENTAGE OF HOUSEHOLD INCOME IN THE PAST 12 MONTHS"]
[null,"Universe:  RENTER-OCCUPIED HOUSING UNITS"]
[null,"Data Set: 2008-2012 American Community Survey 5-Year Estimates"]
[]
[null,null,"Alton",null,"Barnstead",null,"Belmont",null,"Center Harbor",null,"Gilford",null,"Gilmanton",null,"Laconia",null,"Meredith",null,"New Hampton",null,"Sanbornton",null,"Tilton"]
[null,null,"Estimate","Margin of Error","Estimate","Margin of Error","Estimate","Margin of Error","Estimate","Margin of Error","Estimate","Margin of Error","Estimate","Margin of Error","Estimate","Margin of Error","Estimate","Margin of Error","Estimate","Margin of Error","Estimate","Margin of Error","Estimate","Margin of Error"]
[null,"Total:",{"$f":"C421","v":370},{"$f":"D421","v":139},{"$f":"E421","v":109},38,{"$f":"G421","v":509},176,{"$f":"I421","v":81},37,{"$f":"K421","v":415},179,{"$f":"M421","v":96},54,{"$f":"O421","v":2899},306,{"$f":"Q421","v":825},171,{"$f":"S421","v":156},43,{"$f":"U421","v":84},47,{"$f":"W421","v":503},107]
[null,"Less than 30.0 percent",{"$f":"C465+C458+C450+C444+C437+C430+C423","v":243},{"$f":"SQRT((D465^2)+(D458^2)+(D450^2)+(D444^2)+(D437^2)+(D430^2)+(D423^2))","v":163.9207125411551},{"$f":"E465+E458+E450+E444+E437+E430+E423","v":60},{"$f":"SQRT((F465^2)+(F458^2)+(F450^2)+(F444^2)+(F437^2)+(F430^2)+(F423^2))","v":60.357269653290317},{"$f":"G465+G458+G450+G444+G437+G430+G423","v":320},{"$f":"SQRT((H465^2)+(H458^2)+(H450^2)+(H444^2)+(H437^2)+(H430^2)+(H423^2))","v":168.45177351396453},{"$f":"I465+I458+I450+I444+I437+I430+I423","v":35},{"$f":"SQRT((J465^2)+(J458^2)+(J450^2)+(J444^2)+(J437^2)+(J430^2)+(J423^2))","v":52.028838157314254},{"$f":"K465+K458+K450+K444+K437+K430+K423","v":290},{"$f":"SQRT((L465^2)+(L458^2)+(L450^2)+(L444^2)+(L437^2)+(L430^2)+(L423^2))","v":180.33857047232021},{"$f":"M465+M458+M450+M444+M437+M430+M423","v":34},{"$f":"SQRT((N465^2)+(N458^2)+(N450^2)+(N444^2)+(N437^2)+(N430^2)+(N423^2))","v":56.267219586540797},{"$f":"O465+O458+O450+O444+O437+O430+O423","v":1527},{"$f":"SQRT((P465^2)+(P458^2)+(P450^2)+(P444^2)+(P437^2)+(P430^2)+(P423^2))","v":313.18684518989619},{"$f":"Q465+Q458+Q450+Q444+Q437+Q430+Q423","v":388},{"$f":"SQRT((R465^2)+(R458^2)+(R450^2)+(R444^2)+(R437^2)+(R430^2)+(R423^2))","v":144.53027364535086},{"$f":"S465+S458+S450+S444+S437+S430+S423","v":53},{"$f":"SQRT((T465^2)+(T458^2)+(T450^2)+(T444^2)+(T437^2)+(T430^2)+(T423^2))","v":53.338541412378348},{"$f":"U465+U458+U450+U444+U437+U430+U423","v":63},{"$f":"SQRT((V465^2)+(V458^2)+(V450^2)+(V444^2)+(V437^2)+(V430^2)+(V423^2))","v":62.849025449882674},{"$f":"W465+W458+W450+W444+W437+W430+W423","v":288},{"$f":"SQRT((X465^2)+(X458^2)+(X450^2)+(X444^2)+(X437^2)+(X430^2)+(X423^2))","v":120.83873551142449}]
[null,"More than 30.0 percent",{"$f":"C466+C459+C452+C445+C438+C431+C424","v":89},{"$f":"SQRT((D466^2)+(D459^2)+(D452^2)+(D445^2)+(D438^2)+(D431^2)+(D424^2))","v":92.249661245990495},{"$f":"E466+E459+E452+E445+E438+E431+E424","v":19},{"$f":"SQRT((F466^2)+(F459^2)+(F452^2)+(F445^2)+(F438^2)+(F431^2)+(F424^2))","v":45.354161881794269},{"$f":"G466+G459+G452+G445+G438+G431+G424","v":188},{"$f":"SQRT((H466^2)+(H459^2)+(H452^2)+(H445^2)+(H438^2)+(H431^2)+(H424^2))","v":106.47065323364933},{"$f":"I466+I459+I452+I445+I438+I431+I424","v":38},{"$f":"SQRT((J466^2)+(J459^2)+(J452^2)+(J445^2)+(J438^2)+(J431^2)+(J424^2))","v":46.097722286464439},{"$f":"K466+K459+K452+K445+K438+K431+K424","v":133},{"$f":"SQRT((L466^2)+(L459^2)+(L452^2)+(L445^2)+(L438^2)+(L431^2)+(L424^2))","v":91.520489509180408},{"$f":"M466+M459+M452+M445+M438+M431+M424","v":46},{"$f":"SQRT((N466^2)+(N459^2)+(N452^2)+(N445^2)+(N438^2)+(N431^2)+(N424^2))","v":50.813384063650005},{"$f":"O466+O459+O452+O445+O438+O431+O424","v":1253},{"$f":"SQRT((P466^2)+(P459^2)+(P452^2)+(P445^2)+(P438^2)+(P431^2)+(P424^2))","v":264.71682983898097},{"$f":"Q466+Q459+Q452+Q445+Q438+Q431+Q424","v":334},{"$f":"SQRT((R466^2)+(R459^2)+(R452^2)+(R445^2)+(R438^2)+(R431^2)+(R424^2))","v":152.82997088267732},{"$f":"S466+S459+S452+S445+S438+S431+S424","v":59},{"$f":"SQRT((T466^2)+(T459^2)+(T452^2)+(T445^2)+(T438^2)+(T431^2)+(T424^2))","v":48.373546489791295},{"$f":"U466+U459+U452+U445+U438+U431+U424","v":8},{"$f":"SQRT((V466^2)+(V459^2)+(V452^2)+(V445^2)+(V438^2)+(V431^2)+(V424^2))","v":41.43669871020132},{"$f":"W466+W459+W452+W445+W438+W431+W424","v":145},{"$f":"SQRT((X466^2)+(X459^2)+(X452^2)+(X445^2)+(X438^2)+(X431^2)+(X424^2))","v":83.964278118733333}]
[null,"Less Than 35% of HH Income",{"$f":"C467+C460+C453+C446+C439+C432+C425","v":243},{"$f":"SQRT((D467^2)+(D460^2)+(D453^2)+(D446^2)+(D439^2)+(D432^2)+(D425^2))","v":168.51112722903494},{"$f":"E467+E460+E453+E446+E439+E432+E425","v":79},{"$f":"SQRT((F467^2)+(F460^2)+(F453^2)+(F446^2)+(F439^2)+(F432^2)+(F425^2))","v":68.505474233815804},{"$f":"G467+G460+G453+G446+G439+G432+G425","v":353},{"$f":"SQRT((H467^2)+(H460^2)+(H453^2)+(H446^2)+(H439^2)+(H432^2)+(H425^2))","v":176.63238661128938},{"$f":"I467+I460+I453+I446+I439+I432+I425","v":33},{"$f":"SQRT((J467^2)+(J460^2)+(J453^2)+(J446^2)+(J439^2)+(J432^2)+(J425^2))","v":59.177698502053964},{"$f":"K467+K460+K453+K446+K439+K432+K425","v":265},{"$f":"SQRT((L467^2)+(L460^2)+(L453^2)+(L446^2)+(L439^2)+(L432^2)+(L425^2))","v":167.27223320085136},{"$f":"M467+M460+M453+M446+M439+M432+M425","v":34},{"$f":"SQRT((N467^2)+(N460^2)+(N453^2)+(N446^2)+(N439^2)+(N432^2)+(N425^2))","v":64.296189622714039},{"$f":"O467+O460+O453+O446+O439+O432+O425","v":1616},{"$f":"SQRT((P467^2)+(P460^2)+(P453^2)+(P446^2)+(P439^2)+(P432^2)+(P425^2))","v":322.43759086061908},{"$f":"Q467+Q460+Q453+Q446+Q439+Q432+Q425","v":377},{"$f":"SQRT((R467^2)+(R460^2)+(R453^2)+(R446^2)+(R439^2)+(R432^2)+(R425^2))","v":150.07331541616585},{"$f":"S467+S460+S453+S446+S439+S432+S425","v":47},{"$f":"SQRT((T467^2)+(T460^2)+(T453^2)+(T446^2)+(T439^2)+(T432^2)+(T425^2))","v":59.949979149287451},{"$f":"U467+U460+U453+U446+U439+U432+U425","v":29},{"$f":"SQRT((V467^2)+(V460^2)+(V453^2)+(V446^2)+(V439^2)+(V432^2)+(V425^2))","v":62.849025449882674},{"$f":"W467+W460+W453+W446+W439+W432+W425","v":288},{"$f":"SQRT((X467^2)+(X460^2)+(X453^2)+(X446^2)+(X439^2)+(X432^2)+(X425^2))","v":122.7721466783081}]
[null,"35.0 percent or more",{"$f":"C468+C461+C454+C447+C440+C433+C426","v":73},{"$f":"SQRT((D468^2)+(D461^2)+(D454^2)+(D447^2)+(D440^2)+(D433^2)+(D426^2))","v":79.680612447445455},{"$f":"E468+E461+E454+E447+E440+E433+E426","v":0},{"$f":"SQRT((F468^2)+(F461^2)+(F454^2)+(F447^2)+(F440^2)+(F433^2)+(F426^2))","v":29.103264421710495},{"$f":"G468+G461+G454+G447+G440+G433+G426","v":144},{"$f":"SQRT((H468^2)+(H461^2)+(H454^2)+(H447^2)+(H440^2)+(H433^2)+(H426^2))","v":89.520947269340269},{"$f":"I468+I461+I454+I447+I440+I433+I426","v":38},{"$f":"SQRT((J468^2)+(J461^2)+(J454^2)+(J447^2)+(J440^2)+(J433^2)+(J426^2))","v":35.749125863438955},{"$f":"K468+K461+K454+K447+K440+K433+K426","v":93},{"$f":"SQRT((L468^2)+(L461^2)+(L454^2)+(L447^2)+(L440^2)+(L433^2)+(L426^2))","v":76.954532030283957},{"$f":"M468+M461+M454+M447+M440+M433+M426","v":46},{"$f":"SQRT((N468^2)+(N461^2)+(N454^2)+(N447^2)+(N440^2)+(N433^2)+(N426^2))","v":41.653331199317059},{"$f":"O468+O461+O454+O447+O440+O433+O426","v":1104},{"$f":"SQRT((P468^2)+(P461^2)+(P454^2)+(P447^2)+(P440^2)+(P433^2)+(P426^2))","v":251.7180962902747},{"$f":"Q468+Q461+Q454+Q447+Q440+Q433+Q426","v":313},{"$f":"SQRT((R468^2)+(R461^2)+(R454^2)+(R447^2)+(R440^2)+(R433^2)+(R426^2))","v":145.41320435228707},{"$f":"S468+S461+S454+S447+S440+S433+S426","v":59},{"$f":"SQRT((T468^2)+(T461^2)+(T454^2)+(T447^2)+(T440^2)+(T433^2)+(T426^2))","v":38.639358172723313},{"$f":"U468+U461+U454+U447+U440+U433+U426","v":8},{"$f":"SQRT((V468^2)+(V461^2)+(V454^2)+(V447^2)+(V440^2)+(V433^2)+(V426^2))","v":29.49576240750525},{"$f":"W468+W461+W454+W447+W440+W433+W426","v":106},{"$f":"SQRT((X468^2)+(X461^2)+(X454^2)+(X447^2)+(X440^2)+(X433^2)+(X426^2))","v":61.229078059366529}]
[null,"50.0 percent or more",{"$f":"C469+C462+C455+C448+C441+C434+C427","v":0},{"$f":"SQRT((D469^2)+(D462^2)+(D455^2)+(D448^2)+(D441^2)+(D434^2)+(D427^2))","v":0},{"$f":"E469+E462+E455+E448+E441+E434+E427","v":0},{"$f":"SQRT((F469^2)+(F462^2)+(F455^2)+(F448^2)+(F441^2)+(F434^2)+(F427^2))","v":0},{"$f":"G469+G462+G455+G448+G441+G434+G427","v":0},{"$f":"SQRT((H469^2)+(H462^2)+(H455^2)+(H448^2)+(H441^2)+(H434^2)+(H427^2))","v":0},{"$f":"I469+I462+I455+I448+I441+I434+I427","v":0},{"$f":"SQRT((J469^2)+(J462^2)+(J455^2)+(J448^2)+(J441^2)+(J434^2)+(J427^2))","v":0},{"$f":"K469+K462+K455+K448+K441+K434+K427","v":0},{"$f":"SQRT((L469^2)+(L462^2)+(L455^2)+(L448^2)+(L441^2)+(L434^2)+(L427^2))","v":0},{"$f":"M469+M462+M455+M448+M441+M434+M427","v":0},{"$f":"SQRT((N469^2)+(N462^2)+(N455^2)+(N448^2)+(N441^2)+(N434^2)+(N427^2))","v":0},{"$f":"O469+O462+O455+O448+O441+O434+O427","v":0},{"$f":"SQRT((P469^2)+(P462^2)+(P455^2)+(P448^2)+(P441^2)+(P434^2)+(P427^2))","v":0},{"$f":"Q469+Q462+Q455+Q448+Q441+Q434+Q427","v":0},{"$f":"SQRT((R469^2)+(R462^2)+(R455^2)+(R448^2)+(R441^2)+(R434^2)+(R427^2))","v":0},{"$f":"S469+S462+S455+S448+S441+S434+S427","v":0},{"$f":"SQRT((T469^2)+(T462^2)+(T455^2)+(T448^2)+(T441^2)+(T434^2)+(T427^2))","v":0},{"$f":"U469+U462+U455+U448+U441+U434+U427","v":0},{"$f":"SQRT((V469^2)+(V462^2)+(V455^2)+(V448^2)+(V441^2)+(V434^2)+(V427^2))","v":0},{"$f":"W469+W462+W455+W448+W441+W434+W427","v":0},{"$f":"SQRT((X469^2)+(X462^2)+(X455^2)+(X448^2)+(X441^2)+(X434^2)+(X427^2))","v":0}]
[null,"Not Computed",{"$f":"C470+C463+C456+C449+C442+C435+C428","v":35},{"$f":"SQRT((D470^2)+(D463^2)+(D456^2)+(D449^2)+(D442^2)+(D435^2)+(D428^2))","v":52.191953402799555},{"$f":"E470+E463+E456+E449+E442+E435+E428","v":30},{"$f":"SQRT((F470^2)+(F463^2)+(F456^2)+(F449^2)+(F442^2)+(F435^2)+(F428^2))","v":36.110940170535578},{"$f":"G470+G463+G456+G449+G442+G435+G428","v":12},{"$f":"SQRT((H470^2)+(H463^2)+(H456^2)+(H449^2)+(H442^2)+(H435^2)+(H428^2))","v":40.509258201058188},{"$f":"I470+I463+I456+I449+I442+I435+I428","v":10},{"$f":"SQRT((J470^2)+(J463^2)+(J456^2)+(J449^2)+(J442^2)+(J435^2)+(J428^2))","v":23.958297101421877},{"$f":"K470+K463+K456+K449+K442+K435+K428","v":57},{"$f":"SQRT((L470^2)+(L463^2)+(L456^2)+(L449^2)+(L442^2)+(L435^2)+(L428^2))","v":86.861959452915869},{"$f":"M470+M463+M456+M449+M442+M435+M428","v":16},{"$f":"SQRT((N470^2)+(N463^2)+(N456^2)+(N449^2)+(N442^2)+(N435^2)+(N428^2))","v":29.206163733020468},{"$f":"O470+O463+O456+O449+O442+O435+O428","v":130},{"$f":"SQRT((P470^2)+(P463^2)+(P456^2)+(P449^2)+(P442^2)+(P435^2)+(P428^2))","v":80.975304877474841},{"$f":"Q470+Q463+Q456+Q449+Q442+Q435+Q428","v":135},{"$f":"SQRT((R470^2)+(R463^2)+(R456^2)+(R449^2)+(R442^2)+(R435^2)+(R428^2))","v":95.068396431201052},{"$f":"S470+S463+S456+S449+S442+S435+S428","v":45},{"$f":"SQRT((T470^2)+(T463^2)+(T456^2)+(T449^2)+(T442^2)+(T435^2)+(T428^2))","v":33.181320046074113},{"$f":"U470+U463+U456+U449+U442+U435+U428","v":40},{"$f":"SQRT((V470^2)+(V463^2)+(V456^2)+(V449^2)+(V442^2)+(V435^2)+(V428^2))","v":40.902322672435119},{"$f":"W470+W463+W456+W449+W442+W435+W428","v":53},{"$f":"SQRT((X470^2)+(X463^2)+(X456^2)+(X449^2)+(X442^2)+(X435^2)+(X428^2))","v":65.977268812826736}]

{"sheet":"PlaceOfBirthAndPriorRes","index":58,"n_rows":57,"n_cols":16,"rows_kept":57,"cut":false,"hidden":true,"merged":[[4,7,4,9],[40,11,40,13],[53,2,54,14],[4,3,4,5],[40,3,40,5],[40,7,40,9],[4,14,4,15],[40,14,40,15],[4,11,4,13]]}
[]
[null,null,{"$f":"CntyDataLink!A50","v":"Laconia"}]
[null,null,"SOCIAL CHARACTERISTICS"]
[]
[null,null,"Place of Birth","2008-2012",null,null,null,"2013-2017",null,null,null,"2018-2022",null,null,"Statistically Significant Change "]
[null,null,"Universe: Total Population","Estimate","Margin of Error",null,null,"Estimate","Margin of Error",null,null,"Estimate","Margin of Error",null,"2012-2022","2017-2022"]
[null,null,"  Total:",{"$f":"CntyDataLinkPrior10YearEstimate!$B$136","v":2958},{"$f":"CntyDataLinkPrior10YearEstimate!$C$136","v":18},null,null,{"$f":"CntyDataLinkPrior5YearEstimates!$B$136","v":2973},{"$f":"CntyDataLinkPrior5YearEstimates!$C$136","v":16},null,null,{"$f":"CntyDataLink!$B$136","v":45.8},{"$f":"CntyDataLink!$C$136","v":6.5}]
[null,null,"   United States Native",{"$f":"CntyDataLinkPrior10YearEstimate!$D$136","v":2896},{"$f":"CntyDataLinkPrior10YearEstimate!$E$136","v":47},{"$f":"D8/$D$7","v":0.97903989181879647},null,{"$f":"CntyDataLinkPrior5YearEstimates!$D$136","v":2894},{"$f":"CntyDataLinkPrior5YearEstimates!$E$136","v":61},{"$f":"H8/$H$7","v":0.97342751429532459},null,{"$f":"CntyDataLink!$D$136","v":42.2},{"$f":"CntyDataLink!$E$136","v":7.9},{"$f":"L8/$L$7","v":0.92139737991266391},{"$f":"StatisticallySignificantCalcs!A26","v":"Y"},{"$f":"StatisticallySignificantCalcs!J26","v":"Y"}]
[null,null,"      New Hampshire Native",{"$f":"CntyDataLinkPrior10YearEstimate!$F$136","v":1289},{"$f":"CntyDataLinkPrior10YearEstimate!$G$136","v":153},{"$f":"D9/$D$7","v":0.43576741041244083},null,{"$f":"CntyDataLinkPrior5YearEstimates!$F$136","v":1578},{"$f":"CntyDataLinkPrior5YearEstimates!$G$136","v":131},{"$f":"H9/$H$7","v":0.53077699293642788},null,{"$f":"CntyDataLink!$F$136","v":51.7},{"$f":"CntyDataLink!$G$136","v":5.6},{"$f":"L9/$L$7","v":1.1288209606986901},{"$f":"StatisticallySignificantCalcs!A27","v":"Y"},{"$f":"StatisticallySignificantCalcs!J27","v":"Y"}]
[null,null,"      Born in Different State",{"$f":"CntyDataLinkPrior10YearEstimate!$H$136","v":1539},{"$f":"CntyDataLinkPrior10YearEstimate!$I$136","v":142},0.52028397565922924,null,{"$f":"CntyDataLinkPrior5YearEstimates!$H$136","v":1296},{"$f":"CntyDataLinkPrior5YearEstimates!$I$136","v":133},0.43592330978809285,null,{"$f":"CntyDataLink!$H$136","v":1058},{"$f":"CntyDataLink!$I$136","v":330},23.10043668122271,{"$f":"StatisticallySignificantCalcs!A28","v":"Y"},{"$f":"StatisticallySignificantCalcs!J28","v":"N"}]
[null,null,"          Northeast",{"$f":"CntyDataLinkPrior10YearEstimate!$J$136","v":1125},{"$f":"CntyDataLinkPrior10YearEstimate!$K$136","v":169},0.38032454361054768,null,{"$f":"CntyDataLinkPrior5YearEstimates!$J$136","v":915},{"$f":"CntyDataLinkPrior5YearEstimates!$K$136","v":142},0.30776992936427849,null,{"$f":"CntyDataLink!$J$136","v":758},{"$f":"CntyDataLink!$K$136","v":222},16.550218340611355,{"$f":"StatisticallySignificantCalcs!A29","v":"Y"},{"$f":"StatisticallySignificantCalcs!J29","v":"N"}]
[null,null,"          Midwest",{"$f":"CntyDataLinkPrior10YearEstimate!$L$136","v":105},{"$f":"CntyDataLinkPrior10YearEstimate!$M$136","v":52},3.5496957403651115E-2,null,{"$f":"CntyDataLinkPrior5YearEstimates!$L$136","v":134},{"$f":"CntyDataLinkPrior5YearEstimates!$M$136","v":64},4.5072317524386139E-2,null,{"$f":"CntyDataLink!$L$136","v":43},{"$f":"CntyDataLink!$M$136","v":32},0.93886462882096078,{"$f":"StatisticallySignificantCalcs!A30","v":"Y"},{"$f":"StatisticallySignificantCalcs!J30","v":"Y"}]
[null,null,"          South",{"$f":"CntyDataLinkPrior10YearEstimate!$N$136","v":217},{"$f":"CntyDataLinkPrior10YearEstimate!$O$136","v":136},7.3360378634212312E-2,null,{"$f":"CntyDataLinkPrior5YearEstimates!$N$136","v":143},{"$f":"CntyDataLinkPrior5YearEstimates!$O$136","v":64},4.8099562731247901E-2,null,{"$f":"CntyDataLink!$N$136","v":109},{"$f":"CntyDataLink!$O$136","v":76},2.3799126637554586,{"$f":"StatisticallySignificantCalcs!A31","v":"N"},{"$f":"StatisticallySignificantCalcs!J31","v":"N"}]
[null,null,"          West",{"$f":"CntyDataLinkPrior10YearEstimate!$P$136","v":92},{"$f":"CntyDataLinkPrior10YearEstimate!$Q$136","v":49},3.110209601081812E-2,null,{"$f":"CntyDataLinkPrior5YearEstimates!$P$136","v":104},{"$f":"CntyDataLinkPrior5YearEstimates!$Q$136","v":34},3.4981500168180288E-2,null,{"$f":"CntyDataLink!$P$136","v":148},{"$f":"CntyDataLink!$Q$136","v":126},3.2314410480349345,{"$f":"StatisticallySignificantCalcs!A32","v":"N"},{"$f":"StatisticallySignificantCalcs!J32","v":"N"}]
[null,null,"      Native Born Outside US",{"$f":"CntyDataLinkPrior10YearEstimate!$R136","v":68},{"$f":"CntyDataLinkPrior10YearEstimate!$S$136","v":42},2.2988505747126436E-2,null,{"$f":"CntyDataLinkPrior5YearEstimates!$R136","v":20},{"$f":"CntyDataLinkPrior5YearEstimates!$S$136","v":15},6.7272115708039018E-3,null,{"$f":"CntyDataLink!$R136","v":0},{"$f":"CntyDataLink!$S$136","v":12},0,{"$f":"StatisticallySignificantCalcs!A33","v":"Y"},{"$f":"StatisticallySignificantCalcs!J33","v":"Y"}]
[null,null,"   Foreign Born",{"$f":"CntyDataLinkPrior10YearEstimate!$Z136","v":62},{"$f":"CntyDataLinkPrior10YearEstimate!$AA$136","v":42},2.0960108181203516E-2,null,{"$f":"CntyDataLinkPrior5YearEstimates!$Z136","v":79},{"$f":"CntyDataLinkPrior5YearEstimates!$AA$136","v":59},2.6572485704675412E-2,null,{"$f":"CntyDataLink!$Z136","v":133},{"$f":"CntyDataLink!$AA$136","v":97},2.9039301310043668,{"$f":"StatisticallySignificantCalcs!A34","v":"N"},{"$f":"StatisticallySignificantCalcs!J34","v":"N"}]
[null,null,"      Naturalized Citizen",{"$f":"CntyDataLinkPrior10YearEstimate!$AB136","v":55},{"$f":"CntyDataLinkPrior10YearEstimate!$AC$136","v":42},{"$f":"D17/$L$7","v":1.2008733624454149},null,{"$f":"CntyDataLinkPrior5YearEstimates!$AB136","v":74},{"$f":"CntyDataLinkPrior5YearEstimates!$AC$136","v":57},2.4890682811974436E-2,null,{"$f":"CntyDataLink!$AB136","v":102},{"$f":"CntyDataLink!$AC$136","v":91},2.2270742358078603,{"$f":"StatisticallySignificantCalcs!A35","v":"N"},{"$f":"StatisticallySignificantCalcs!J35","v":"N"}]
[null,null,"      Not a Citizen",{"$f":"CntyDataLinkPrior10YearEstimate!$AD$136","v":7},{"$f":"CntyDataLinkPrior10YearEstimate!$AE$136","v":8},{"$f":"D18/$L$7","v":0.15283842794759828},null,{"$f":"CntyDataLinkPrior5YearEstimates!$AD$136","v":5},{"$f":"CntyDataLinkPrior5YearEstimates!$AE$136","v":11},1.6818028927009755E-3,null,{"$f":"CntyDataLink!$AD$136","v":31},{"$f":"CntyDataLink!$AE$136","v":23},0.67685589519650657,{"$f":"StatisticallySignificantCalcs!A36","v":"N"},{"$f":"StatisticallySignificantCalcs!J36","v":"Y"}]
[null,null,null,{"$f":"\"Source: \"&D41&\", \"&H41&\" and \"&L41& \" American Community Survey Table B05002.\"","v":"Source: 2008-2012, 2013-2017 and 2018-2022 American Community Survey Table B05002."}]
[]
[]
[]
[]
[]
[]
[]
[]
[]
[]
[]
[]
[]
[]
[]
[]
[]
[]
[]
[]
[null,null,"Place of Residence Prior year for Population"]
[null,null,"Universe: Population",{"$f":"$D$5","v":"2008-2012"},null,null,null,{"$f":"$H$5","v":"2013-2017"},null,null,null,{"$f":"$L$5","v":"2018-2022"},null,null,"Statistically Significant Change "]
[null,null,null,"Estimate","Margin of Error",null,null,"Estimate","Margin of Error",null,null,"Estimate","Margin of Error",null,{"$f":"O6","v":"2012-2022"},{"$f":"P6","v":"2017-2022"}]
[null,null,"  Total:",{"$f":"CntyDataLinkPrior10YearEstimate!$AF$136","v":2923},{"$f":"CntyDataLinkPrior10YearEstimate!$AG$136","v":36},null,null,{"$f":"CntyDataLinkPrior5YearEstimates!$AF$136","v":2954},{"$f":"CntyDataLinkPrior5YearEstimates!$AG$136","v":26},null,null,{"$f":"CntyDataLink!$AF$136","v":3045},{"$f":"CntyDataLink!$AG$136","v":21},null,{"$f":"StatisticallySignificantCalcs!$A37","v":"N"},{"$f":"StatisticallySignificantCalcs!$J37","v":"Y"}]
["Same House",null,"    Same House ",{"$f":"CntyDataLinkPrior10YearEstimate!$AH$136","v":2725},{"$f":"CntyDataLinkPrior10YearEstimate!$AI$136","v":111},{"$f":"IF($D$44=\"-\",\"-\",VALUE(D44/$D$43))","v":0.93226137529934994},null,{"$f":"CntyDataLinkPrior5YearEstimates!$AH$136","v":2795},{"$f":"CntyDataLinkPrior5YearEstimates!$AI$136","v":62},{"$f":"IF($H$44=\"-\",\"-\",VALUE($H$44/$H$43))","v":0.94617467840216651},null,{"$f":"CntyDataLink!$AH$136","v":2731},{"$f":"CntyDataLink!$AI$136","v":155},{"$f":"IF($L$44=\"-\",\"-\",VALUE($L$44/$L$43))","v":0.89688013136289002},{"$f":"StatisticallySignificantCalcs!$A38","v":"N"},{"$f":"StatisticallySignificantCalcs!$J38","v":"Y"}]
["Different House",null,"    Different House 1  ",{"$f":"CntyDataLinkPrior10YearEstimate!$AJ$136","v":198},{"$f":"CntyDataLinkPrior10YearEstimate!$AK$136","v":111.95534824205586},{"$f":"IF($D$45=\"-\",\"-\",VALUE(D45/$D$43))","v":6.7738624700650021E-2},null,{"$f":"CntyDataLinkPrior5YearEstimates!$AJ$136","v":159},{"$f":"CntyDataLinkPrior5YearEstimates!$AK$136","v":58.915193286621744},{"$f":"IF($H$45=\"-\",\"-\",VALUE($H$45/$H$43))","v":5.3825321597833445E-2},null,{"$f":"CntyDataLink!$AJ$136","v":314},{"$f":"CntyDataLink!$AK$136","v":152.56474035634838},{"$f":"IF($L$45=\"-\",\"-\",VALUE($L$45/$L$43))","v":0.10311986863711002},{"$f":"StatisticallySignificantCalcs!$A39","v":"N"},{"$f":"StatisticallySignificantCalcs!$J39","v":"Y"}]
[null,null,"      in New Hampshire",{"$f":"CntyDataLinkPrior10YearEstimate!$AL$136","v":123},{"$f":"CntyDataLinkPrior10YearEstimate!$AM$136","v":93.407708461347028},{"$f":"IF($D$46=\"-\",\"-\",VALUE(D46/$D$43))","v":4.2080054738282587E-2},null,{"$f":"CntyDataLinkPrior5YearEstimates!$AL$136","v":118},{"$f":"CntyDataLinkPrior5YearEstimates!$AM$136","v":53.907327887774215},{"$f":"IF($H$46=\"-\",\"-\",VALUE($H$46/$H$43))","v":3.9945836154366962E-2},null,{"$f":"CntyDataLink!$AL$136","v":105},{"$f":"CntyDataLink!$AM$136","v":87.692645073575008},{"$f":"IF($L$46=\"-\",\"-\",VALUE($L$46/$L$43))","v":3.4482758620689655E-2},{"$f":"StatisticallySignificantCalcs!$A40","v":"N"},{"$f":"StatisticallySignificantCalcs!$J40","v":"N"}]
[null,null,"          Same county",{"$f":"CntyDataLinkPrior10YearEstimate!$AN$136","v":32},{"$f":"CntyDataLinkPrior10YearEstimate!$AO$136","v":25},{"$f":"IF($D$47=\"-\",\"-\",VALUE(D47/$D$43))","v":1.094765651727677E-2},null,{"$f":"CntyDataLinkPrior5YearEstimates!$AN$136","v":85},{"$f":"CntyDataLinkPrior5YearEstimates!$AO$136","v":41},{"$f":"IF($H$47=\"-\",\"-\",VALUE($H$47/$H$43))","v":2.8774542992552471E-2},null,{"$f":"CntyDataLink!$AN$136","v":20},{"$f":"CntyDataLink!$AO$136","v":11},{"$f":"IF($L$47=\"-\",\"-\",VALUE($L$47/$L$43))","v":6.5681444991789817E-3},{"$f":"StatisticallySignificantCalcs!$A41","v":"Y"},{"$f":"StatisticallySignificantCalcs!$J41","v":"N"}]
[null,null,"          Different county",{"$f":"CntyDataLinkPrior10YearEstimate!$AP$136","v":91},{"$f":"CntyDataLinkPrior10YearEstimate!$AQ$136","v":90},{"$f":"IF($D$48=\"-\",\"-\",VALUE(D48/$D$43))","v":3.1132398221005816E-2},null,{"$f":"CntyDataLinkPrior5YearEstimates!$AP$136","v":33},{"$f":"CntyDataLinkPrior5YearEstimates!$AQ$136","v":35},{"$f":"IF($H$48=\"-\",\"-\",VALUE($H$48/$H$43))","v":1.1171293161814489E-2},null,{"$f":"CntyDataLink!$AP$136","v":85},{"$f":"CntyDataLink!$AQ$136","v":87},{"$f":"IF($L$48=\"-\",\"-\",VALUE($L$48/$L$43))","v":2.7914614121510674E-2},{"$f":"StatisticallySignificantCalcs!$A42","v":"N"},{"$f":"StatisticallySignificantCalcs!$J42","v":"Y"}]
["Different State",null,"      in Different state",{"$f":"CntyDataLinkPrior10YearEstimate!$AR$136","v":50},{"$f":"CntyDataLinkPrior10YearEstimate!$AS$136","v":55},{"$f":"IF($D$49=\"-\",\"-\",VALUE(D49/$D$43))","v":1.7105713308244955E-2},null,{"$f":"CntyDataLinkPrior5YearEstimates!$AR$136","v":36},{"$f":"CntyDataLinkPrior5YearEstimates!$AS$136","v":22},{"$f":"IF($H$49=\"-\",\"-\",VALUE($H$49/$H$43))","v":1.2186865267433988E-2},null,{"$f":"CntyDataLink!$AR$136","v":140},{"$f":"CntyDataLink!$AS$136","v":95},{"$f":"IF($L$49=\"-\",\"-\",VALUE($L$49/$L$43))","v":4.5977011494252873E-2},{"$f":"StatisticallySignificantCalcs!$A43","v":"N"},{"$f":"StatisticallySignificantCalcs!$J43","v":"N"}]
["Eleswhere",null,"       Elsewhere",{"$f":"CntyDataLinkPrior10YearEstimate!$AT$136","v":25},{"$f":"CntyDataLinkPrior10YearEstimate!$AU$136","v":28},{"$f":"IF($D$50=\"-\",\"-\",VALUE(D50/$D$43))","v":8.5528566541224777E-3},null,{"$f":"CntyDataLinkPrior5YearEstimates!$AT$136","v":5},{"$f":"CntyDataLinkPrior5YearEstimates!$AU$136","v":9},{"$f":"IF($H$50=\"-\",\"-\",VALUE($H$50/$H$43))","v":1.6926201760324984E-3},null,{"$f":"CntyDataLink!$AT$136","v":69},{"$f":"CntyDataLink!$AU$136","v":81},{"$f":"IF($L$50=\"-\",\"-\",VALUE($L$50/$L$43))","v":2.2660098522167486E-2},{"$f":"StatisticallySignificantCalcs!$A44","v":"N"},{"$f":"StatisticallySignificantCalcs!$J44","v":"N"}]
[]
[null,null,"Data from the American Community Survey are estimates"]
[]
[null,null,"1   The number for Different House was calculated by adding In New Hampshire, In Different State, and Elsewhere totals. The number is not located in the source Table B07003."]
[]
[]
[null,null,{"$f":"\"Source: \"&D41&\", \"&H41&\" and \"&L41& \" American Community Survey Table B07003.\"","v":"Source: 2008-2012, 2013-2017 and 2018-2022 American Community Survey Table B07003."}]

{"sheet":"OwnerHousingCostPrior5Year","index":59,"n_rows":112,"n_cols":17,"rows_kept":112,"cut":false,"hidden":true,"merged":[]}
[]
[null,null,"HIDE THIS COLUMN",{"$f":"CntyDataLinkPrior5YearEstimates!$A$108","v":"Laconia"}]
[null,null,null,"OWNER HOUSING COST CHARACTERISTICS"]
[]
[]
[]
[]
[]
[]
[]
[]
[]
[]
[]
[]
[]
[]
[]
[]
[]
[]
[]
[]
[]
[]
[]
[]
[]
[]
[]
[]
[]
[]
[]
[]
[]
[null,null,null,"Income in 2017 Inflation Adjusted Dollars"]
[null,null,null,"Source: 2013-2017 American Community Survey Table B25106"]
[null,null,null,"Data from the American Community Survey are estimates."]
[]
[]
[null,null,null,{"$f":"CntyDataLinkPrior5YearEstimates!$A$108","v":"Laconia"}]
[]
[null,null,null,{"$f":"D3","v":"OWNER HOUSING COST CHARACTERISTICS"}]
[]
[null,null,null,"Owner Households by "]
[null,null,null,"Selected Monthly Housing Costs as a Percent of 2017 Household Income",null,null,null,"By Household Income"]
[null,null,"H73RenterOccHU",null,"Specified Owner Occ Housing Units","Margin of Error Owner Occ Housing Units",null,"Less than $20,000",{"$f":"\"Margin of Error \"&H48","v":"Margin of Error Less than $20,000"},"$20,000 to $34,999",{"$f":"\"Margin of Error \"&J48","v":"Margin of Error $20,000 to $34,999"},"$35,000 to $49,999",{"$f":"\"Margin of Error \"&L48","v":"Margin of Error $35,000 to $49,999"},"$50,000 to $74,999",{"$f":"\"Margin of Error \"&N48","v":"Margin of Error $50,000 to $74,999"},"$75,000 or More",{"$f":"\"Margin of Error \"&P48","v":"Margin of Error $75,000 or More"}]
[]
[null,null,null,"Total Households",{"$f":"CntyDataLinkPrior5YearEstimates!$BF144","v":3650},{"$f":"CntyDataLinkPrior5YearEstimates!$BG$144","v":271},null,{"$f":"CntyDataLinkPrior5YearEstimates!$BZ$144","v":326},{"$f":"CntyDataLinkPrior5YearEstimates!$CA$144","v":121},{"$f":"CntyDataLinkPrior5YearEstimates!$CH$144","v":430},{"$f":"CntyDataLinkPrior5YearEstimates!$CI$144","v":133},{"$f":"CntyDataLinkPrior5YearEstimates!$CP$144","v":457},{"$f":"CntyDataLinkPrior5YearEstimates!$CQ$144","v":124},{"$f":"CntyDataLinkPrior5YearEstimates!$CX$144","v":602},{"$f":"CntyDataLinkPrior5YearEstimates!$CY$144","v":138},{"$f":"CntyDataLinkPrior5YearEstimates!$DF$144","v":1953},{"$f":"CntyDataLinkPrior5YearEstimates!$DG$144","v":199}]
[null,null,null,"Monthly Costs Less than 20% of HH Income",{"$f":"CntyDataLinkPrior5YearEstimates!$BH$144","v":1696},{"$f":"CntyDataLinkPrior5YearEstimates!$BI$144","v":238.36736353788032},null,{"$f":"CntyDataLinkPrior5YearEstimates!$CB$144","v":0},{"$f":"CntyDataLinkPrior5YearEstimates!$CC$144","v":18},{"$f":"CntyDataLinkPrior5YearEstimates!CJ$144","v":57},{"$f":"CntyDataLinkPrior5YearEstimates!CK$144","v":40},{"$f":"CntyDataLinkPrior5YearEstimates!CR$144","v":160},{"$f":"CntyDataLinkPrior5YearEstimates!CS$144","v":90},{"$f":"CntyDataLinkPrior5YearEstimates!CZ$144","v":269},{"$f":"CntyDataLinkPrior5YearEstimates!DA$144","v":100},{"$f":"CntyDataLinkPrior5YearEstimates!DH$144","v":1427},{"$f":"CntyDataLinkPrior5YearEstimates!DI$144","v":205}]
[null,null,null,"Monthly Costs 20% to 29.9% of HH Income",{"$f":"CntyDataLinkPrior5YearEstimates!$BJ$144","v":847},{"$f":"CntyDataLinkPrior5YearEstimates!$BK$144","v":179.27353401994395},null,{"$f":"CntyDataLinkPrior5YearEstimates!$CD$144","v":8},{"$f":"CntyDataLinkPrior5YearEstimates!$CE$144","v":13},{"$f":"CntyDataLinkPrior5YearEstimates!CL$144","v":92},{"$f":"CntyDataLinkPrior5YearEstimates!CM$144","v":52},{"$f":"CntyDataLinkPrior5YearEstimates!CT$144","v":122},{"$f":"CntyDataLinkPrior5YearEstimates!CU$144","v":59},{"$f":"CntyDataLinkPrior5YearEstimates!DB$144","v":138},{"$f":"CntyDataLinkPrior5YearEstimates!DC$144","v":67},{"$f":"CntyDataLinkPrior5YearEstimates!DJ$144","v":451},{"$f":"CntyDataLinkPrior5YearEstimates!DK$144","v":122}]
[null,null,null,"Monthly Costs Less Than 30% of HH Income",{"$f":"CntyDataLinkPrior5YearEstimates!$BL$144","v":2543},{"$f":"CntyDataLinkPrior5YearEstimates!$BM$144","v":298.25827733694166},null,{"$f":"H52+H51","v":8},{"$f":"SQRT((I52^2)+(I51^2))","v":22.203603311174518},{"$f":"J52+J51","v":149},{"$f":"SQRT((K52^2)+(K51^2))","v":65.604877867426907},{"$f":"L52+L51","v":282},{"$f":"SQRT((M52^2)+(M51^2))","v":107.61505470890214},{"$f":"N52+N51","v":407},{"$f":"SQRT((O52^2)+(O51^2))","v":120.37026210821342},{"$f":"P52+P51","v":1878},{"$f":"SQRT((Q52^2)+(Q51^2))","v":238.55607307297797}]
[null,null,null,"Monthly Costs 30% or More of HH Income",{"$f":"CntyDataLinkPrior5YearEstimates!$BN$144","v":1094},{"$f":"CntyDataLinkPrior5YearEstimates!$BO$144","v":231.54913085563504},null,{"$f":"CntyDataLinkPrior5YearEstimates!$CF$144","v":318},{"$f":"CntyDataLinkPrior5YearEstimates!$CG$144","v":121},{"$f":"CntyDataLinkPrior5YearEstimates!CN$144","v":281},{"$f":"CntyDataLinkPrior5YearEstimates!CO$144","v":113},{"$f":"CntyDataLinkPrior5YearEstimates!CV$144","v":175},{"$f":"CntyDataLinkPrior5YearEstimates!CW$144","v":79},{"$f":"CntyDataLinkPrior5YearEstimates!DD$144","v":195},{"$f":"CntyDataLinkPrior5YearEstimates!DE$144","v":81},{"$f":"CntyDataLinkPrior5YearEstimates!$DL$144","v":75},{"$f":"CntyDataLinkPrior5YearEstimates!$DM$144","v":52}]
[]
[null,null,null,"Monthly Costs 35% or More of HH Income",{"$f":"CntyDataLinkPrior5YearEstimates!$BT$144","v":862},{"$f":"CntyDataLinkPrior5YearEstimates!$BU$144","v":212.15560327269228},null,"NA","NA","NA","NA","NA","NA","NA","NA","NA","NA"]
[null,null,null,"Monthly Costs 50% or More of HH Income",{"$f":"CntyDataLinkPrior5YearEstimates!$BV$144","v":599},{"$f":"CntyDataLinkPrior5YearEstimates!$BW$144","v":194.05411616350733},null,"NA","NA","NA","NA","NA","NA","NA","NA","NA","NA"]
[null,null,null,"Percent not computed",{"$f":"CntyDataLinkPrior5YearEstimates!$BX$144","v":13},{"$f":"CntyDataLinkPrior5YearEstimates!$BY$144","v":27.018512172212592},null,"NA","NA","NA","NA","NA","NA","NA","NA","NA","NA"]
[]
[null,null,null,"Percent of Owner Households Paying ",null,null,null,"By Household Income"]
[null,null,null,{"$f":"D53","v":"Monthly Costs Less Than 30% of HH Income"},{"$f":"E53/E$50","v":0.6967123287671233},null,null,{"$f":"H53/H$50","v":2.4539877300613498E-2},null,{"$f":"J53/J$50","v":0.34651162790697676},null,{"$f":"L53/L$50","v":0.61706783369803064},null,{"$f":"N53/N$50","v":0.67607973421926915},null,{"$f":"P53/P$50","v":0.96159754224270355}]
[null,null,null,{"$f":"D54","v":"Monthly Costs 30% or More of HH Income"},{"$f":"E54/E$50","v":0.29972602739726029},null,null,{"$f":"H54/H50","v":0.97546012269938653},null,{"$f":"J54/J50","v":0.65348837209302324},null,{"$f":"L54/L50","v":0.38293216630196936},null,{"$f":"N54/N50","v":0.32392026578073091},null,{"$f":"P54/P50","v":3.840245775729647E-2}]
[]
[null,null,null,"Monthly Costs 35% or More of HH Income",{"$f":"E56/E$50","v":0.23616438356164385},null,null,"NA","NA","NA","NA","NA","NA","NA","NA","NA","NA"]
[null,null,null,"Monthly Costs 50% or More of HH Income",{"$f":"E57/E$50","v":0.16410958904109588},null,null,"NA","NA","NA","NA","NA","NA","NA","NA","NA","NA"]
[null,null,null,"Percent not computed",{"$f":"E58/$E$50","v":3.5616438356164382E-3},null,null,"NA","NA","NA","NA","NA","NA","NA","NA","NA","NA"]
[]
[null,null,"H62ROHUGRent200to249",{"$f":"D37","v":"Income in 2017 Inflation Adjusted Dollars"}]
[null,null,null,"Source: 2013-2017 American Community Survey Table B25091; B25106",null,null,null,null,"NA indicates that the American Community Survey does not provide that data."]
[null,null,null,"Data from the American Community Survey are estimates."]
[]
[null,null,null,{"$f":"D2","v":"Laconia"}]
[null,null,"H62ROHUGRent250to299",{"$f":"D3","v":"OWNER HOUSING COST CHARACTERISTICS"}]
[null,null,"H62ROHUGRent300to349"]
[null,null,"H62ROHUGRent350to399","Value of Owner Occupied Housing Units"]
[null,null,"H62ROHUGRent400to449"]
[null,null,"H62ROHUGRent450to499","Owner Occupied Housing Units",{"$f":"CntyDataLinkPrior5YearEstimates!$B$144","v":3650},{"$f":"CntyDataLinkPrior5YearEstimates!$C$144","v":271}]
[null,null,"H62ROHUGRent500to549"]
[null,null,"H62ROHUGRent550to599","Value","Housing Units","Margin of Error"]
[null,null,"H62ROHUGRent600to649","Less than $10,000",{"$f":"CntyDataLinkPrior5YearEstimates!$D$144","v":17},{"$f":"CntyDataLinkPrior5YearEstimates!$E$144","v":20}]
[null,null,"H62ROHUGRent650to699","$10,000 to $14,999",{"$f":"CntyDataLinkPrior5YearEstimates!$F$144","v":0},{"$f":"CntyDataLinkPrior5YearEstimates!$G$144","v":17}]
[null,null,"H62ROHUGRent700to749","$15,000 to $19,999",{"$f":"CntyDataLinkPrior5YearEstimates!$H$144","v":20},{"$f":"CntyDataLinkPrior5YearEstimates!$I$144","v":22}]
[null,null,"H62ROHUGRent750to799","$20,000 to $24,999",{"$f":"CntyDataLinkPrior5YearEstimates!$J$144","v":28},{"$f":"CntyDataLinkPrior5YearEstimates!$K$144","v":34}]
[null,null,"H62ROHUGRent800to899","$25,000 to $29,999",{"$f":"CntyDataLinkPrior5YearEstimates!$L$144","v":8},{"$f":"CntyDataLinkPrior5YearEstimates!$M$144","v":13}]
[null,null,"H62ROHUGRent900to999","$30,000 to $34,999",{"$f":"CntyDataLinkPrior5YearEstimates!$N$144","v":12},{"$f":"CntyDataLinkPrior5YearEstimates!$O$144","v":20}]
[null,null,"H62ROHUGRent1000to1249","$35,000 to $39,999",{"$f":"CntyDataLinkPrior5YearEstimates!$P$144","v":0},{"$f":"CntyDataLinkPrior5YearEstimates!$Q$144","v":17}]
[null,null,"H62ROHUGRent1250to1499","$40,000 to $49,999",{"$f":"CntyDataLinkPrior5YearEstimates!$R$144","v":6},{"$f":"CntyDataLinkPrior5YearEstimates!$S$144","v":10}]
[null,null,"H62ROHUGRent1500to1999","$50,000 to $59,999",{"$f":"CntyDataLinkPrior5YearEstimates!$T$144","v":32},{"$f":"CntyDataLinkPrior5YearEstimates!$U$144","v":31}]
[null,null,"H62ROHUGRent2000>","$60,000 to $69,999",{"$f":"CntyDataLinkPrior5YearEstimates!$V$144","v":65},{"$f":"CntyDataLinkPrior5YearEstimates!$W$144","v":33}]
[null,null,"H62ROHUNoGRent","$70,000 to $79,999",{"$f":"CntyDataLinkPrior5YearEstimates!$X$144","v":73},{"$f":"CntyDataLinkPrior5YearEstimates!$Y$144","v":53}]
[null,null,"H63MedianGrossRnt","$80,000 to $89,999",{"$f":"CntyDataLinkPrior5YearEstimates!$Z$144","v":42},{"$f":"CntyDataLinkPrior5YearEstimates!$AA$144","v":31}]
[null,null,null,"$90,000 to $99,999",{"$f":"CntyDataLinkPrior5YearEstimates!$AB$144","v":82},{"$f":"CntyDataLinkPrior5YearEstimates!$AC$144","v":49}]
[null,null,null,"$100,000 to $124,999",{"$f":"CntyDataLinkPrior5YearEstimates!$AD$144","v":460},{"$f":"CntyDataLinkPrior5YearEstimates!$AE$144","v":133}]
[null,null,null,"$125,000 to $149,999",{"$f":"CntyDataLinkPrior5YearEstimates!$AF$144","v":368},{"$f":"CntyDataLinkPrior5YearEstimates!$AG$144","v":117}]
[null,null,null,"$150,000 to $174,999",{"$f":"CntyDataLinkPrior5YearEstimates!$AH$144","v":565},{"$f":"CntyDataLinkPrior5YearEstimates!$AI$144","v":133}]
[null,null,null,"$175,000 to $199,999",{"$f":"CntyDataLinkPrior5YearEstimates!$AJ$144","v":384},{"$f":"CntyDataLinkPrior5YearEstimates!$AK$144","v":133}]
[null,null,null,"$200,000 to $249,999",{"$f":"CntyDataLinkPrior5YearEstimates!$AL$144","v":439},{"$f":"CntyDataLinkPrior5YearEstimates!$AM$144","v":129}]
[null,null,null,"$250,000 to $299,999",{"$f":"CntyDataLinkPrior5YearEstimates!$AN$144","v":359},{"$f":"CntyDataLinkPrior5YearEstimates!$AO$144","v":112}]
[null,null,null,"$300,000 to $399,999",{"$f":"CntyDataLinkPrior5YearEstimates!$AP$144","v":360},{"$f":"CntyDataLinkPrior5YearEstimates!$AQ$144","v":92}]
[null,null,null,"$400,000 to $499,999",{"$f":"CntyDataLinkPrior5YearEstimates!$AR$144","v":139},{"$f":"CntyDataLinkPrior5YearEstimates!$AS$144","v":62}]
[null,null,null,"$500,000 to $749,999",{"$f":"CntyDataLinkPrior5YearEstimates!$AT$144","v":72},{"$f":"CntyDataLinkPrior5YearEstimates!$AU$144","v":40}]
[null,null,null,"$750,000 to $999,999",{"$f":"CntyDataLinkPrior5YearEstimates!$AV$144","v":70},{"$f":"CntyDataLinkPrior5YearEstimates!$AW$144","v":52}]
[null,null,null,"$1,000,000 to $1,499,999",{"$f":"CntyDataLinkPrior5YearEstimates!$AX$144","v":49},{"$f":"CntyDataLinkPrior5YearEstimates!$AY$144","v":36}]
[null,null,null,"$1,500,000 to $1,999,999",{"$f":"CntyDataLinkPrior5YearEstimates!$AZ$144","v":0},{"$f":"CntyDataLinkPrior5YearEstimates!$BA$144","v":17}]
[null,null,null,"$2,000,000 or more",{"$f":"CntyDataLinkPrior5YearEstimates!$BB$144","v":0},{"$f":"CntyDataLinkPrior5YearEstimates!$BC$144","v":17}]
[]
[null,null,null,"Median Value",{"$f":"CntyDataLinkPrior5YearEstimates!$BD$144","v":178100},{"$f":"CntyDataLinkPrior5YearEstimates!$BE$144","v":10709}]
[]
[]
[]
[null,null,null,"Source: 2013-2017 American Community Survey Tables B25075 and B25077"]
[null,null,null,"Data from the American Community Survey are estimates."]

{"sheet":"OwnerHousingCostPrior10Year","index":60,"n_rows":112,"n_cols":17,"rows_kept":112,"cut":false,"hidden":true,"merged":[]}
[]
[null,null,"HIDE THIS COLUMN",{"$f":"CntyDataLinkPrior10YearEstimate!$A$108","v":"Laconia"}]
[null,null,null,"OWNER HOUSING COST CHARACTERISTICS"]
[]
[]
[]
[]
[]
[]
[]
[]
[]
[]
[]
[]
[]
[]
[]
[]
[]
[]
[]
[]
[]
[]
[]
[]
[]
[]
[]
[]
[]
[]
[]
[]
[]
[null,null,null,"Income in 2012 Inflation Adjusted Dollars"]
[null,null,null,"Source: 2008-2012 American Community Survey Table B25106"]
[null,null,null,"Data from the American Community Survey are estimates."]
[]
[]
[null,null,null,{"$f":"CntyDataLinkPrior10YearEstimate!$A$108","v":"Laconia"}]
[]
[null,null,null,{"$f":"D3","v":"OWNER HOUSING COST CHARACTERISTICS"}]
[]
[null,null,null,"Owner Households by "]
[null,null,null,"Selected Monthly Housing Costs as a Percent of 2012 Household Income",null,null,null,"By Household Income"]
[null,null,"H73RenterOccHU",null,"Specified Owner Occ Housing Units","Margin of Error Owner Occ Housing Units",null,"Less than $20,000",{"$f":"\"Margin of Error \"&H48","v":"Margin of Error Less than $20,000"},"$20,000 to $34,999",{"$f":"\"Margin of Error \"&J48","v":"Margin of Error $20,000 to $34,999"},"$35,000 to $49,999",{"$f":"\"Margin of Error \"&L48","v":"Margin of Error $35,000 to $49,999"},"$50,000 to $74,999",{"$f":"\"Margin of Error \"&N48","v":"Margin of Error $50,000 to $74,999"},"$75,000 or More",{"$f":"\"Margin of Error \"&P48","v":"Margin of Error $75,000 or More"}]
[]
[null,null,null,"Total Households",{"$f":"CntyDataLinkPrior10YearEstimate!$BF144","v":4244},{"$f":"CntyDataLinkPrior10YearEstimate!$BG$144","v":308},null,{"$f":"CntyDataLinkPrior10YearEstimate!$BZ$144","v":347},{"$f":"CntyDataLinkPrior10YearEstimate!$CA$144","v":128},{"$f":"CntyDataLinkPrior10YearEstimate!$CH$144","v":580},{"$f":"CntyDataLinkPrior10YearEstimate!$CI$144","v":165},{"$f":"CntyDataLinkPrior10YearEstimate!$CP$144","v":632},{"$f":"CntyDataLinkPrior10YearEstimate!$CQ$144","v":146},{"$f":"CntyDataLinkPrior10YearEstimate!$CX$144","v":796},{"$f":"CntyDataLinkPrior10YearEstimate!$CY$144","v":155},{"$f":"CntyDataLinkPrior10YearEstimate!$DF$144","v":1868},{"$f":"CntyDataLinkPrior10YearEstimate!$DG$144","v":253}]
[null,null,null,"Monthly Costs Less than 20% of HH Income",{"$f":"CntyDataLinkPrior10YearEstimate!$BH$144","v":1485},{"$f":"CntyDataLinkPrior10YearEstimate!$BI$144","v":256.01562452319195},null,{"$f":"CntyDataLinkPrior10YearEstimate!$CB$144","v":0},{"$f":"CntyDataLinkPrior10YearEstimate!$CC$144","v":18},{"$f":"CntyDataLinkPrior10YearEstimate!CJ$144","v":12},{"$f":"CntyDataLinkPrior10YearEstimate!CK$144","v":19},{"$f":"CntyDataLinkPrior10YearEstimate!CR$144","v":156},{"$f":"CntyDataLinkPrior10YearEstimate!CS$144","v":55},{"$f":"CntyDataLinkPrior10YearEstimate!CZ$144","v":258},{"$f":"CntyDataLinkPrior10YearEstimate!DA$144","v":94},{"$f":"CntyDataLinkPrior10YearEstimate!DH$144","v":1059},{"$f":"CntyDataLinkPrior10YearEstimate!DI$144","v":212}]
[null,null,null,"Monthly Costs 20% to 29.9% of HH Income",{"$f":"CntyDataLinkPrior10YearEstimate!$BJ$144","v":1194},{"$f":"CntyDataLinkPrior10YearEstimate!$BK$144","v":217.20497231877542},null,{"$f":"CntyDataLinkPrior10YearEstimate!$CD$144","v":16},{"$f":"CntyDataLinkPrior10YearEstimate!$CE$144","v":18},{"$f":"CntyDataLinkPrior10YearEstimate!CL$144","v":90},{"$f":"CntyDataLinkPrior10YearEstimate!CM$144","v":53},{"$f":"CntyDataLinkPrior10YearEstimate!CT$144","v":62},{"$f":"CntyDataLinkPrior10YearEstimate!CU$144","v":34},{"$f":"CntyDataLinkPrior10YearEstimate!DB$144","v":352},{"$f":"CntyDataLinkPrior10YearEstimate!DC$144","v":110},{"$f":"CntyDataLinkPrior10YearEstimate!DJ$144","v":674},{"$f":"CntyDataLinkPrior10YearEstimate!DK$144","v":167}]
[null,null,null,"Monthly Costs Less Than 30% of HH Income",{"$f":"CntyDataLinkPrior10YearEstimate!$BL$144","v":2679},{"$f":"CntyDataLinkPrior10YearEstimate!$BM$144","v":335.74097158374934},null,{"$f":"H52+H51","v":16},{"$f":"SQRT((I52^2)+(I51^2))","v":25.45584412271571},{"$f":"J52+J51","v":102},{"$f":"SQRT((K52^2)+(K51^2))","v":56.302753041036986},{"$f":"L52+L51","v":218},{"$f":"SQRT((M52^2)+(M51^2))","v":64.660652641308843},{"$f":"N52+N51","v":610},{"$f":"SQRT((O52^2)+(O51^2))","v":144.69277798148738},{"$f":"P52+P51","v":1733},{"$f":"SQRT((Q52^2)+(Q51^2))","v":269.87589740471452}]
[null,null,null,"Monthly Costs 30% or More of HH Income",{"$f":"CntyDataLinkPrior10YearEstimate!$BN$144","v":1544},{"$f":"CntyDataLinkPrior10YearEstimate!$BO$144","v":257.64510474682027},null,{"$f":"CntyDataLinkPrior10YearEstimate!$CF$144","v":331},{"$f":"CntyDataLinkPrior10YearEstimate!$CG$144","v":124},{"$f":"CntyDataLinkPrior10YearEstimate!CN$144","v":478},{"$f":"CntyDataLinkPrior10YearEstimate!CO$144","v":157},{"$f":"CntyDataLinkPrior10YearEstimate!CV$144","v":414},{"$f":"CntyDataLinkPrior10YearEstimate!CW$144","v":160},{"$f":"CntyDataLinkPrior10YearEstimate!DD$144","v":186},{"$f":"CntyDataLinkPrior10YearEstimate!DE$144","v":80},{"$f":"CntyDataLinkPrior10YearEstimate!$DL$144","v":135},{"$f":"CntyDataLinkPrior10YearEstimate!$DM$144","v":59}]
[]
[null,null,null,"Monthly Costs 35% or More of HH Income",{"$f":"CntyDataLinkPrior10YearEstimate!$BT$144","v":1241},{"$f":"CntyDataLinkPrior10YearEstimate!$BU$144","v":239.69146835046089},null,"NA","NA","NA","NA","NA","NA","NA","NA","NA","NA"]
[null,null,null,"Monthly Costs 50% or More of HH Income",{"$f":"CntyDataLinkPrior10YearEstimate!$BV$144","v":653},{"$f":"CntyDataLinkPrior10YearEstimate!$BW$144","v":167.83920876839238},null,"NA","NA","NA","NA","NA","NA","NA","NA","NA","NA"]
[null,null,null,"Percent not computed",{"$f":"CntyDataLinkPrior10YearEstimate!$BX$144","v":21},{"$f":"CntyDataLinkPrior10YearEstimate!$BY$144","v":24.207436873820409},null,"NA","NA","NA","NA","NA","NA","NA","NA","NA","NA"]
[]
[null,null,null,"Percent of Owner Households Paying ",null,null,null,"By Household Income"]
[null,null,null,{"$f":"D53","v":"Monthly Costs Less Than 30% of HH Income"},{"$f":"E53/E$50","v":0.63124410933081998},null,null,{"$f":"H53/H$50","v":4.6109510086455328E-2},null,{"$f":"J53/J$50","v":0.17586206896551723},null,{"$f":"L53/L$50","v":0.3449367088607595},null,{"$f":"N53/N$50","v":0.76633165829145733},null,{"$f":"P53/P$50","v":0.92773019271948609}]
[null,null,null,{"$f":"D54","v":"Monthly Costs 30% or More of HH Income"},{"$f":"E54/E$50","v":0.36380772855796417},null,null,{"$f":"H54/H50","v":0.95389048991354464},null,{"$f":"J54/J50","v":0.82413793103448274},null,{"$f":"L54/L50","v":0.65506329113924056},null,{"$f":"N54/N50","v":0.23366834170854273},null,{"$f":"P54/P50","v":7.2269807280513923E-2}]
[]
[null,null,null,"Monthly Costs 35% or More of HH Income",{"$f":"E56/E$50","v":0.29241281809613573},null,null,"NA","NA","NA","NA","NA","NA","NA","NA","NA","NA"]
[null,null,null,"Monthly Costs 50% or More of HH Income",{"$f":"E57/E$50","v":0.15386427898209237},null,null,"NA","NA","NA","NA","NA","NA","NA","NA","NA","NA"]
[null,null,null,"Percent not computed",{"$f":"E58/$E$50","v":4.9481621112158342E-3},null,null,"NA","NA","NA","NA","NA","NA","NA","NA","NA","NA"]
[]
[null,null,"H62ROHUGRent200to249",{"$f":"D37","v":"Income in 2012 Inflation Adjusted Dollars"}]
[null,null,null,"Source: 2008-2012 American Community Survey Table B25091; B25106",null,null,null,null,"NA indicates that the American Community Survey does not provide that data."]
[null,null,null,"Data from the American Community Survey are estimates."]
[]
[null,null,null,{"$f":"D2","v":"Laconia"}]
[null,null,"H62ROHUGRent250to299",{"$f":"D3","v":"OWNER HOUSING COST CHARACTERISTICS"}]
[null,null,"H62ROHUGRent300to349"]
[null,null,"H62ROHUGRent350to399","Value of Owner Occupied Housing Units"]
[null,null,"H62ROHUGRent400to449"]
[null,null,"H62ROHUGRent450to499","Owner Occupied Housing Units",{"$f":"CntyDataLinkPrior10YearEstimate!$B$144","v":4244},{"$f":"CntyDataLinkPrior10YearEstimate!$C$144","v":308}]
[null,null,"H62ROHUGRent500to549"]
[null,null,"H62ROHUGRent550to599","Value","Housing Units","Margin of Error"]
[null,null,"H62ROHUGRent600to649","Less than $10,000",{"$f":"CntyDataLinkPrior10YearEstimate!$D$144","v":31},{"$f":"CntyDataLinkPrior10YearEstimate!$E$144","v":27}]
[null,null,"H62ROHUGRent650to699","$10,000 to $14,999",{"$f":"CntyDataLinkPrior10YearEstimate!$F$144","v":0},{"$f":"CntyDataLinkPrior10YearEstimate!$G$144","v":18}]
[null,null,"H62ROHUGRent700to749","$15,000 to $19,999",{"$f":"CntyDataLinkPrior10YearEstimate!$H$144","v":0},{"$f":"CntyDataLinkPrior10YearEstimate!$I$144","v":18}]
[null,null,"H62ROHUGRent750to799","$20,000 to $24,999",{"$f":"CntyDataLinkPrior10YearEstimate!$J$144","v":0},{"$f":"CntyDataLinkPrior10YearEstimate!$K$144","v":18}]
[null,null,"H62ROHUGRent800to899","$25,000 to $29,999",{"$f":"CntyDataLinkPrior10YearEstimate!$L$144","v":27},{"$f":"CntyDataLinkPrior10YearEstimate!$M$144","v":26}]
[null,null,"H62ROHUGRent900to999","$30,000 to $34,999",{"$f":"CntyDataLinkPrior10YearEstimate!$N$144","v":8},{"$f":"CntyDataLinkPrior10YearEstimate!$O$144","v":12}]
[null,null,"H62ROHUGRent1000to1249","$35,000 to $39,999",{"$f":"CntyDataLinkPrior10YearEstimate!$P$144","v":0},{"$f":"CntyDataLinkPrior10YearEstimate!$Q$144","v":18}]
[null,null,"H62ROHUGRent1250to1499","$40,000 to $49,999",{"$f":"CntyDataLinkPrior10YearEstimate!$R$144","v":24},{"$f":"CntyDataLinkPrior10YearEstimate!$S$144","v":26}]
[null,null,"H62ROHUGRent1500to1999","$50,000 to $59,999",{"$f":"CntyDataLinkPrior10YearEstimate!$T$144","v":91},{"$f":"CntyDataLinkPrior10YearEstimate!$U$144","v":63}]
[null,null,"H62ROHUGRent2000>","$60,000 to $69,999",{"$f":"CntyDataLinkPrior10YearEstimate!$V$144","v":21},{"$f":"CntyDataLinkPrior10YearEstimate!$W$144","v":24}]
[null,null,"H62ROHUNoGRent","$70,000 to $79,999",{"$f":"CntyDataLinkPrior10YearEstimate!$X$144","v":18},{"$f":"CntyDataLinkPrior10YearEstimate!$Y$144","v":20}]
[null,null,"H63MedianGrossRnt","$80,000 to $89,999",{"$f":"CntyDataLinkPrior10YearEstimate!$Z$144","v":44},{"$f":"CntyDataLinkPrior10YearEstimate!$AA$144","v":32}]
[null,null,null,"$90,000 to $99,999",{"$f":"CntyDataLinkPrior10YearEstimate!$AB$144","v":73},{"$f":"CntyDataLinkPrior10YearEstimate!$AC$144","v":37}]
[null,null,null,"$100,000 to $124,999",{"$f":"CntyDataLinkPrior10YearEstimate!$AD$144","v":235},{"$f":"CntyDataLinkPrior10YearEstimate!$AE$144","v":99}]
[null,null,null,"$125,000 to $149,999",{"$f":"CntyDataLinkPrior10YearEstimate!$AF$144","v":315},{"$f":"CntyDataLinkPrior10YearEstimate!$AG$144","v":103}]
[null,null,null,"$150,000 to $174,999",{"$f":"CntyDataLinkPrior10YearEstimate!$AH$144","v":651},{"$f":"CntyDataLinkPrior10YearEstimate!$AI$144","v":146}]
[null,null,null,"$175,000 to $199,999",{"$f":"CntyDataLinkPrior10YearEstimate!$AJ$144","v":702},{"$f":"CntyDataLinkPrior10YearEstimate!$AK$144","v":199}]
[null,null,null,"$200,000 to $249,999",{"$f":"CntyDataLinkPrior10YearEstimate!$AL$144","v":855},{"$f":"CntyDataLinkPrior10YearEstimate!$AM$144","v":167}]
[null,null,null,"$250,000 to $299,999",{"$f":"CntyDataLinkPrior10YearEstimate!$AN$144","v":341},{"$f":"CntyDataLinkPrior10YearEstimate!$AO$144","v":136}]
[null,null,null,"$300,000 to $399,999",{"$f":"CntyDataLinkPrior10YearEstimate!$AP$144","v":468},{"$f":"CntyDataLinkPrior10YearEstimate!$AQ$144","v":145}]
[null,null,null,"$400,000 to $499,999",{"$f":"CntyDataLinkPrior10YearEstimate!$AR$144","v":130},{"$f":"CntyDataLinkPrior10YearEstimate!$AS$144","v":61}]
[null,null,null,"$500,000 to $749,999",{"$f":"CntyDataLinkPrior10YearEstimate!$AT$144","v":94},{"$f":"CntyDataLinkPrior10YearEstimate!$AU$144","v":54}]
[null,null,null,"$750,000 to $999,999",{"$f":"CntyDataLinkPrior10YearEstimate!$AV$144","v":58},{"$f":"CntyDataLinkPrior10YearEstimate!$AW$144","v":33}]
[null,null,null,"$1,000,000 to $1,499,999",{"$f":"CntyDataLinkPrior10YearEstimate!$AX$144","v":58},{"$f":"CntyDataLinkPrior10YearEstimate!$AY$144","v":49}]
[null,null,null,"$1,500,000 to $1,999,999",{"$f":"CntyDataLinkPrior10YearEstimate!$AZ$144","v":0},{"$f":"CntyDataLinkPrior10YearEstimate!$BA$144","v":0}]
[null,null,null,"$2,000,000 or more",{"$f":"CntyDataLinkPrior10YearEstimate!$BB$144","v":0},{"$f":"CntyDataLinkPrior10YearEstimate!$BC$144","v":0}]
[]
[null,null,null,"Median Value",{"$f":"CntyDataLinkPrior10YearEstimate!$BD$144","v":195800},{"$f":"CntyDataLinkPrior10YearEstimate!$BE$144","v":7741}]
[]
[]
[]
[null,"Source: 2008-2012 American Community Survey Tables B25075 and B25077"]
[null,"Data from the American Community Survey are estimates."]

{"sheet":"StatisticallySignificantCalcs","index":61,"n_rows":271,"n_cols":16,"rows_kept":271,"cut":false,"hidden":true,"merged":[]}
[]
["Statistically Significant Change  10 Year","Standard Error Estimate  1","Standard Error Estimate  2","Square Root of Sum of Squared SE","Difference between the estimates","Value","Test Statistic (90%) Confidence Interval",null,null,"Statistically Significant Change  5Year","Standard Error Estimate  1","Standard Error Estimate  2","Square Root of Sum of Squared SE","Difference between the estimates","Value","Test Statistic (90%) Confidence Interval"]
[{"$f":"IF(F3>G3,\"Y\",\"N\")","v":"Y"},{"$f":"PopulationCharacteristics!Q22/1.645","v":50.609500052377456},{"$f":"PopulationCharacteristics!T22/1.645","v":103.8980292955349},{"$f":"SQRT((B3^2)+(C3^2))","v":115.56868947533938},{"$f":"(PopulationCharacteristics!M22-PopulationCharacteristics!S22)","v":-485},{"$f":"ABS((E3/D3))","v":4.1966383992222367},1.645,"Population By Age Under 15 yrs.",null,{"$f":"IF(O3>P3,\"Y\",\"N\")","v":"N"},{"$f":"PopulationCharacteristics!P22/1.645","v":277.20364741641339},{"$f":"PopulationCharacteristics!T22/1.645","v":103.8980292955349},{"$f":"SQRT((K3^2)+(L3^2))","v":296.03490103779836},{"$f":"(PopulationCharacteristics!P22-PopulationCharacteristics!S22)","v":-29},{"$f":"ABS((N3/M3))","v":9.7961422448284971E-2},1.645]
["Y",{"$f":"PopulationCharacteristics!Q23/1.645","v":46.693895123821328},{"$f":"PopulationCharacteristics!T23/1.645","v":71.740249957307483},85.597799654964163,{"$f":"(PopulationCharacteristics!M23-PopulationCharacteristics!S23)","v":-199},2.3248261147149614,1.645,"Population By Age 15 to 24 yrs.",null,{"$f":"IF(O4>P4,\"Y\",\"N\")","v":"N"},{"$f":"PopulationCharacteristics!P23/1.645","v":173.25227963525836},{"$f":"PopulationCharacteristics!T23/1.645","v":71.740249957307483},187.51804143268646,{"$f":"(PopulationCharacteristics!P23-PopulationCharacteristics!S23)","v":86},0.45862253755925403,1.645]
["Y",{"$f":"PopulationCharacteristics!Q24/1.645","v":37.783001175101113},{"$f":"PopulationCharacteristics!T24/1.645","v":103.00498834301065},109.71591863235459,{"$f":"(PopulationCharacteristics!M24-PopulationCharacteristics!S24)","v":-480},4.3749348862349207,1.645,"Population By Age 25 to 34 yrs.",null,"N",{"$f":"PopulationCharacteristics!P24/1.645","v":138.60182370820669},{"$f":"PopulationCharacteristics!T24/1.645","v":103.00498834301065},172.68611165575697,{"$f":"(PopulationCharacteristics!P24-PopulationCharacteristics!S24)","v":-252},1.4592951198203603,1.645]
["Y",{"$f":"PopulationCharacteristics!Q25/1.645","v":34.393544461557774},{"$f":"PopulationCharacteristics!T25/1.645","v":77.435451253160352},84.729953448646029,{"$f":"(PopulationCharacteristics!M25-PopulationCharacteristics!S25)","v":-291},3.4344406925276099,1.645,"Population By Age 35 to 44 yrs.",null,"N",{"$f":"PopulationCharacteristics!P25/1.645","v":185.41033434650456},{"$f":"PopulationCharacteristics!T25/1.645","v":77.435451253160352},200.93093637681378,{"$f":"(PopulationCharacteristics!P25-PopulationCharacteristics!S25)","v":14},6.9675681865858846E-2,1.645]
["Y",{"$f":"PopulationCharacteristics!Q26/1.645","v":51.172268706954306},{"$f":"PopulationCharacteristics!T26/1.645","v":92.586999280505523},105.7873032097192,{"$f":"(PopulationCharacteristics!M26-PopulationCharacteristics!S26)","v":-343},3.2423550803636227,1.645,"Population By Age 45 to 54 yrs.",null,"N",{"$f":"PopulationCharacteristics!P26/1.645","v":276.59574468085106},{"$f":"PopulationCharacteristics!T26/1.645","v":92.586999280505523},291.68057599251085,{"$f":"(PopulationCharacteristics!P26-PopulationCharacteristics!S26)","v":112},0.38398168825227391,1.645]
["Y",{"$f":"PopulationCharacteristics!Q27/1.645","v":67.161560824968404},{"$f":"PopulationCharacteristics!T27/1.645","v":93.235317051389288},114.90648196737646,{"$f":"(PopulationCharacteristics!M27-PopulationCharacteristics!S27)","v":-585},5.0910966029408993,1.645,"Population By Age 55 to 64 yrs.",null,"N",{"$f":"PopulationCharacteristics!P27/1.645","v":434.04255319148933},{"$f":"PopulationCharacteristics!T27/1.645","v":93.235317051389288},443.94342243878322,{"$f":"(PopulationCharacteristics!P27-PopulationCharacteristics!S27)","v":129},0.29057756795076339,1.645]
["Y",{"$f":"PopulationCharacteristics!Q28/1.645","v":35.999956886304993},{"$f":"PopulationCharacteristics!T28/1.645","v":82.654655160249945},90.154250678909477,{"$f":"(PopulationCharacteristics!M28-PopulationCharacteristics!S28)","v":-467},5.1800108867107379,1.645,"Population By Age 65 to 74 yrs.",null,"N",{"$f":"PopulationCharacteristics!P28/1.645","v":209.11854103343464},{"$f":"PopulationCharacteristics!T28/1.645","v":82.654655160249945},224.8607485169702,{"$f":"(PopulationCharacteristics!P28-PopulationCharacteristics!S28)","v":-123},0.54700520571609323,1.645]
["Y",{"$f":"PopulationCharacteristics!Q29/1.645","v":35.618120547818243},{"$f":"PopulationCharacteristics!T29/1.645","v":45.487213316791333},57.773151953880713,{"$f":"(PopulationCharacteristics!M29-PopulationCharacteristics!S29)","v":-197},3.4098883882475657,1.645,"Population By Age Over 74 yrs. ",null,"N",{"$f":"PopulationCharacteristics!P29/1.645","v":113.06990881458967},{"$f":"PopulationCharacteristics!T29/1.645","v":45.487213316791333},121.87653939403965,{"$f":"(PopulationCharacteristics!P29-PopulationCharacteristics!S29)","v":-11},9.0255270248819949E-2,1.645]
["N",{"$f":"PopulationCharacteristics!Q$30/1.645","v":1.519756838905775},{"$f":"PopulationCharacteristics!T$30/1.645","v":3.9513677811550152},4.2335526678371185,{"$f":"(PopulationCharacteristics!P30-PopulationCharacteristics!S30)","v":2.2000000000000028},0.51965811520751948,1.645,"Population By Age Median Age        ",null,"N",{"$f":"PopulationCharacteristics!P30/1.645","v":29.179331306990882},{"$f":"PopulationCharacteristics!T30/1.645","v":3.9513677811550152},{"$f":"SQRT((K11^2)+(L11^2))","v":29.44565643460998},{"$f":"(PopulationCharacteristics!P30-PopulationCharacteristics!S30)","v":2.2000000000000028},7.4713905763505284E-2,1.645]
["N",{"$f":"PopulationCharacteristics!E51/1.645","v":48.024316109422493},{"$f":"PopulationCharacteristics!K51/1.645","v":80.243161094224916},93.516307883552955,{"$f":"PopulationCharacteristics!D51-PopulationCharacteristics!J51","v":65},0.6950659352477685,1.645,"Total Households",null,"N",{"$f":"PopulationCharacteristics!H51/1.645","v":50.455927051671729},{"$f":"PopulationCharacteristics!K51/1.645","v":80.243161094224916},94.788002811734302,{"$f":"PopulationCharacteristics!G51-PopulationCharacteristics!J51","v":-7},7.38490082326477E-2,1.645]
["N",{"$f":"PopulationCharacteristics!E52/1.645","v":0.10064833775829837},{"$f":"PopulationCharacteristics!K52/1.645","v":0.19269608699213298},0.21739795269410472,{"$f":"PopulationCharacteristics!D52-PopulationCharacteristics!J52","v":-0.21453594771241802},0.98683517969594792,1.645,"Persons per Household",null,"N",{"$f":"PopulationCharacteristics!H52/1.645","v":0.11996465407694473},{"$f":"PopulationCharacteristics!K52/1.645","v":0.19269608699213298},0.22698744496090681,{"$f":"PopulationCharacteristics!G52-PopulationCharacteristics!J52","v":-4.662055257404063E-2},0.20538824331041708,1.645]
["N",{"$f":"PopulationCharacteristics!E53/1.645","v":48.024316109422493},{"$f":"PopulationCharacteristics!K53/1.645","v":80.243161094224916},93.516307883552955,{"$f":"PopulationCharacteristics!D53-PopulationCharacteristics!J53","v":68},0.72714590148997316,1.645,"Family Households",null,"N",{"$f":"PopulationCharacteristics!H53/1.645","v":50.455927051671729},{"$f":"PopulationCharacteristics!K53/1.645","v":80.243161094224916},94.788002811734302,{"$f":"PopulationCharacteristics!G53-PopulationCharacteristics!J53","v":74},0.78068951560227573,1.645]
["N",{"$f":"PopulationCharacteristics!E54/1.645","v":0.19915341021176516},{"$f":"PopulationCharacteristics!K54/1.645","v":0.28921690638449737},0.3511531001395185,{"$f":"PopulationCharacteristics!D54-PopulationCharacteristics!J54","v":-0.41095992822966521},1.1703155349230423,1.645,"Persons per Family Household",null,"N",{"$f":"PopulationCharacteristics!H54/1.645","v":0.17552100511846225},{"$f":"PopulationCharacteristics!K54/1.645","v":0.28921690638449737},0.33831057059514763,{"$f":"PopulationCharacteristics!G54-PopulationCharacteristics!J54","v":-0.3229290380047507},0.95453428320806499,1.645]
["N",{"$f":"PopulationCharacteristics!E55/1.645","v":46.808510638297875},{"$f":"PopulationCharacteristics!K55/1.645","v":68.085106382978722},82.623352506159989,{"$f":"PopulationCharacteristics!D55-PopulationCharacteristics!J55","v":99},1.1982084604061429,1.645,"Married-Couple Family Hh",null,"N",{"$f":"PopulationCharacteristics!H55/1.645","v":42.553191489361701},{"$f":"PopulationCharacteristics!K55/1.645","v":68.085106382978722},80.289201123885988,{"$f":"PopulationCharacteristics!G55-PopulationCharacteristics!J55","v":129},1.6066917866196402,1.645]
["N",{"$f":"PopulationCharacteristics!E56/1.645","v":32.218844984802431},{"$f":"PopulationCharacteristics!K56/1.645","v":49.240121580547111},58.844231199173549,{"$f":"PopulationCharacteristics!D56-PopulationCharacteristics!J56","v":-31},0.52681459793522434,1.645,"Single-Parent Family Hh",null,"N",{"$f":"PopulationCharacteristics!H56/1.645","v":29.179331306990882},{"$f":"PopulationCharacteristics!K56/1.645","v":49.240121580547111},57.236552558572214,{"$f":"PopulationCharacteristics!G56-PopulationCharacteristics!J56","v":-55},0.96092440130311008,1.645]
["N",{"$f":"PopulationCharacteristics!E57/1.645","v":54.711246200607903},{"$f":"PopulationCharacteristics!K57/1.645","v":79.027355623100306},96.117862011196948,{"$f":"PopulationCharacteristics!D57-PopulationCharacteristics!J57","v":-3},3.1211680505861903E-2,1.645,"Non-Family Households*",null,"N",{"$f":"PopulationCharacteristics!H57/1.645","v":46.808510638297875},{"$f":"PopulationCharacteristics!K57/1.645","v":79.027355623100306},91.849657620241615,{"$f":"PopulationCharacteristics!G57-PopulationCharacteristics!J57","v":-81},0.88187590567729468,1.645]
["N",{"$f":"PopulationCharacteristics!E58/1.645","v":0.31278789363245824},{"$f":"PopulationCharacteristics!K58/1.645","v":0.3885767892398278},0.49882681116692551,{"$f":"PopulationCharacteristics!D58-PopulationCharacteristics!J58","v":0.10342781180268723},0.20734212654034057,1.645,"Persons per Non-Family Hh",null,"N",{"$f":"PopulationCharacteristics!H58/1.645","v":0.33490344356117213},{"$f":"PopulationCharacteristics!K58/1.645","v":0.3885767892398278},0.51298366216192959,{"$f":"PopulationCharacteristics!G58-PopulationCharacteristics!J58","v":0.17232980148581167},0.33593623773424125,1.645]
["N",{"$f":"PopulationCharacteristics!D36/1.645","v":48.024316109422493},{"$f":"PopulationCharacteristics!J36/1.645","v":59.574468085106382},{"$f":"SQRT((B20^2)+(C20^2))","v":76.520926454147798},{"$f":"PopulationCharacteristics!C36-PopulationCharacteristics!I36","v":-34},{"$f":"ABS((E20/D20))","v":0.44432290061690749},1.645,"Ethnicity -White",null,"N",{"$f":"PopulationCharacteristics!G36/1.645","v":74.164133738601819},{"$f":"PopulationCharacteristics!J36/1.645","v":59.574468085106382},{"$f":"SQRT((K20^2)+(L20^2))","v":95.128523487020317},{"$f":"PopulationCharacteristics!F36-PopulationCharacteristics!I36","v":-85},{"$f":"ABS((N20/M20))","v":0.89352800699779289},1.645]
["N",{"$f":"PopulationCharacteristics!D37/1.645","v":6.6869300911854106},{"$f":"PopulationCharacteristics!J37/1.645","v":24.924012158054712},25.805453224062159,{"$f":"PopulationCharacteristics!C37-PopulationCharacteristics!I37","v":-29},1.1237934768360938,1.645,"Ethnicity -Black",null,"N",{"$f":"PopulationCharacteristics!G37/1.645","v":12.1580547112462},{"$f":"PopulationCharacteristics!J37/1.645","v":24.924012158054712},27.731294171324119,{"$f":"PopulationCharacteristics!F37-PopulationCharacteristics!I37","v":-13},{"$f":"ABS((N21/M21))","v":0.46878446853889738},1.645]
["N",{"$f":"PopulationCharacteristics!D38/1.645","v":14.589665653495441},{"$f":"PopulationCharacteristics!J38/1.645","v":7.2948328267477205},16.31174208510485,{"$f":"PopulationCharacteristics!C38-PopulationCharacteristics!I38","v":16},0.98088848612990764,1.645,"Ethnicity -American Indian",null,"N",{"$f":"PopulationCharacteristics!G38/1.645","v":6.6869300911854106},{"$f":"PopulationCharacteristics!J38/1.645","v":7.2948328267477205},9.8959395720970864,{"$f":"PopulationCharacteristics!F38-PopulationCharacteristics!I38","v":0},0,1.645]
["N",{"$f":"PopulationCharacteristics!D39/1.645","v":9.4567472255951639},{"$f":"PopulationCharacteristics!J39/1.645","v":21.345957283987158},23.346947561910664,{"$f":"PopulationCharacteristics!C39-PopulationCharacteristics!I39","v":-29},1.2421323996680405,1.645,"Ethnicity -Asian &Pacific Is",null,"N",{"$f":"PopulationCharacteristics!G39/1.645","v":29.381266805093183},{"$f":"PopulationCharacteristics!J39/1.645","v":21.345957283987158},36.31678305469628,{"$f":"PopulationCharacteristics!F39-PopulationCharacteristics!I39","v":18},0.49563861349972577,1.645]
["Y",{"$f":"PopulationCharacteristics!D40/1.645","v":9.4567472255951639},{"$f":"PopulationCharacteristics!J40/1.645","v":46.172603894852877},47.131087601707058,{"$f":"PopulationCharacteristics!C40-PopulationCharacteristics!I40","v":-87},1.8459153910305459,1.645,"Ethnicity -Other*",null,"N",{"$f":"PopulationCharacteristics!G40/1.645","v":37.08206686930091},{"$f":"PopulationCharacteristics!J40/1.645","v":46.172603894852877},59.219836488547379,{"$f":"PopulationCharacteristics!F40-PopulationCharacteristics!I40","v":-28},0.4728145442518229,1.645]
["Y",{"$f":"PopulationCharacteristics!D42/1.645","v":43.768996960486319},{"$f":"PopulationCharacteristics!J42/1.645","v":1.21580547112462},43.785879891475027,{"$f":"PopulationCharacteristics!C42-PopulationCharacteristics!I42","v":74},1.690042547584103,1.645,"Ethnicity -Hispanic",null,"Y",{"$f":"PopulationCharacteristics!G42/1.645","v":26.13981762917933},{"$f":"PopulationCharacteristics!J42/1.645","v":1.21580547112462},26.168076899733595,{"$f":"PopulationCharacteristics!F42-PopulationCharacteristics!I41","v":-3000},114.64350290221525,1.645]
["Y",{"$f":"PlaceOfBirthAndPriorRes!E8/1.645","v":28.571428571428569},{"$f":"PlaceOfBirthAndPriorRes!M8/1.645","v":4.8024316109422491},28.972226010267526,{"$f":"PlaceOfBirthAndPriorRes!D8-PlaceOfBirthAndPriorRes!L8","v":2853.8},98.501233525813177,1.645,"Place of Birth - United States Native",null,"Y",{"$f":"PlaceOfBirthAndPriorRes!I8/1.645","v":37.08206686930091},{"$f":"PlaceOfBirthAndPriorRes!M8/1.645","v":4.8024316109422491},37.391750864021887,{"$f":"PlaceOfBirthAndPriorRes!H8-PlaceOfBirthAndPriorRes!L8","v":2851.8},76.268158995036117,1.645]
["Y",{"$f":"PlaceOfBirthAndPriorRes!E9/1.645","v":93.00911854103343},{"$f":"PlaceOfBirthAndPriorRes!M9/1.645","v":3.4042553191489358},93.071397787171762,{"$f":"PlaceOfBirthAndPriorRes!D9-PlaceOfBirthAndPriorRes!L9","v":1237.3},13.294094957393449,1.645,"Place of Birth - New Hampshire Native",null,"Y",{"$f":"PlaceOfBirthAndPriorRes!I9/1.645","v":79.635258358662611},{"$f":"PlaceOfBirthAndPriorRes!M9/1.645","v":3.4042553191489358},{"$f":"SQRT((K27^2)+(L27^2))","v":79.707987856480841},{"$f":"PlaceOfBirthAndPriorRes!H9-PlaceOfBirthAndPriorRes!L9","v":1526.3},19.148645462587734,1.645]
["Y",{"$f":"PlaceOfBirthAndPriorRes!E10/1.645","v":86.322188449848028},{"$f":"PlaceOfBirthAndPriorRes!M10/1.645","v":200.60790273556231},218.39196610391119,{"$f":"PlaceOfBirthAndPriorRes!D10-PlaceOfBirthAndPriorRes!L10","v":481},2.2024619704698276,1.645,"Place of Birth - Born in Different State",null,"N",{"$f":"PlaceOfBirthAndPriorRes!I10/1.645","v":80.851063829787236},{"$f":"PlaceOfBirthAndPriorRes!M10/1.645","v":200.60790273556231},216.28782943653846,{"$f":"PlaceOfBirthAndPriorRes!H10-PlaceOfBirthAndPriorRes!L10","v":238},1.1003855400464508,1.645]
["Y",{"$f":"PlaceOfBirthAndPriorRes!E11/1.645","v":102.73556231003039},{"$f":"PlaceOfBirthAndPriorRes!M11/1.645","v":134.95440729483283},169.6092208916065,{"$f":"PlaceOfBirthAndPriorRes!D11-PlaceOfBirthAndPriorRes!L11","v":367},2.1637974519943204,1.645,"Place of Birth - Northeast",null,"N",{"$f":"PlaceOfBirthAndPriorRes!I11/1.645","v":86.322188449848028},{"$f":"PlaceOfBirthAndPriorRes!M11/1.645","v":134.95440729483283},160.20053766161556,{"$f":"PlaceOfBirthAndPriorRes!H11-PlaceOfBirthAndPriorRes!L11","v":157},0.98002167965019005,1.645]
["Y",{"$f":"PlaceOfBirthAndPriorRes!E12/1.645","v":31.610942249240122},{"$f":"PlaceOfBirthAndPriorRes!M12/1.645","v":19.45288753799392},37.116930145832818,{"$f":"PlaceOfBirthAndPriorRes!D12-PlaceOfBirthAndPriorRes!L12","v":62},1.6703967638595469,1.645,"Place of Birth - Midwest",null,"Y",{"$f":"PlaceOfBirthAndPriorRes!I12/1.645","v":38.90577507598784},{"$f":"PlaceOfBirthAndPriorRes!M12/1.645","v":19.45288753799392},43.497978893612931,{"$f":"PlaceOfBirthAndPriorRes!H12-PlaceOfBirthAndPriorRes!L12","v":91},2.092051224323944,1.645]
["N",{"$f":"PlaceOfBirthAndPriorRes!E13/1.645","v":82.674772036474167},{"$f":"PlaceOfBirthAndPriorRes!M13/1.645","v":46.200607902735563},94.708046658482417,{"$f":"PlaceOfBirthAndPriorRes!D13-PlaceOfBirthAndPriorRes!L13","v":108},1.1403466105625473,1.645,"Place of Birth - South",null,"N",{"$f":"PlaceOfBirthAndPriorRes!I13/1.645","v":38.90577507598784},{"$f":"PlaceOfBirthAndPriorRes!M13/1.645","v":46.200607902735563},60.399962788446061,{"$f":"PlaceOfBirthAndPriorRes!H13-PlaceOfBirthAndPriorRes!L13","v":34},0.56291425408798224,1.645]
["N",{"$f":"PlaceOfBirthAndPriorRes!E14/1.645","v":29.787234042553191},{"$f":"PlaceOfBirthAndPriorRes!M14/1.645","v":76.59574468085107},82.183863471608376,{"$f":"PlaceOfBirthAndPriorRes!D14-PlaceOfBirthAndPriorRes!L14","v":-56},0.68139897097130298,1.645,"Place of Birth - West",null,"N",{"$f":"PlaceOfBirthAndPriorRes!I14/1.645","v":20.668693009118542},{"$f":"PlaceOfBirthAndPriorRes!M14/1.645","v":76.59574468085107},79.335382862373024,{"$f":"PlaceOfBirthAndPriorRes!H14-PlaceOfBirthAndPriorRes!L14","v":-44},0.55460752078714937,1.645]
["Y",{"$f":"PlaceOfBirthAndPriorRes!E15/1.645","v":25.531914893617021},{"$f":"PlaceOfBirthAndPriorRes!M15/1.645","v":7.2948328267477205},26.553592301327118,{"$f":"PlaceOfBirthAndPriorRes!D15-PlaceOfBirthAndPriorRes!L15","v":68},2.5608587805500589,1.645,"Place of Birth - Native Born Outside US",null,"Y",{"$f":"PlaceOfBirthAndPriorRes!I15/1.645","v":9.1185410334346511},{"$f":"PlaceOfBirthAndPriorRes!M15/1.645","v":7.2948328267477205},11.677430220242277,{"$f":"PlaceOfBirthAndPriorRes!H15-PlaceOfBirthAndPriorRes!L15","v":20},1.7127055887117133,1.645]
["N",{"$f":"PlaceOfBirthAndPriorRes!E16/1.645","v":25.531914893617021},{"$f":"PlaceOfBirthAndPriorRes!M16/1.645","v":58.966565349544069},64.256785690360786,{"$f":"PlaceOfBirthAndPriorRes!D16-PlaceOfBirthAndPriorRes!L16","v":-71},1.1049416686065385,1.645,"Place of Birth - Foreign Born",null,"N",{"$f":"PlaceOfBirthAndPriorRes!I16/1.645","v":35.866261398176292},{"$f":"PlaceOfBirthAndPriorRes!M16/1.645","v":58.966565349544069},69.017711754334201,{"$f":"PlaceOfBirthAndPriorRes!H16-PlaceOfBirthAndPriorRes!L16","v":-54},0.78240785774252919,1.645]
["N",{"$f":"PlaceOfBirthAndPriorRes!E17/1.645","v":25.531914893617021},{"$f":"PlaceOfBirthAndPriorRes!M17/1.645","v":55.319148936170215},60.926898141601505,{"$f":"PlaceOfBirthAndPriorRes!D17-PlaceOfBirthAndPriorRes!L17","v":-47},0.7714162616774991,1.645,"Place of Birth - Naturalized Citizen",null,"N",{"$f":"PlaceOfBirthAndPriorRes!I17/1.645","v":34.650455927051674},{"$f":"PlaceOfBirthAndPriorRes!M17/1.645","v":55.319148936170215},65.275281194145251,{"$f":"PlaceOfBirthAndPriorRes!H17-PlaceOfBirthAndPriorRes!L17","v":-28},0.42895257573415724,1.645]
["N",{"$f":"PlaceOfBirthAndPriorRes!E18/1.645","v":4.86322188449848},{"$f":"PlaceOfBirthAndPriorRes!M18/1.645","v":13.98176291793313},14.803398981016317,{"$f":"PlaceOfBirthAndPriorRes!D18-PlaceOfBirthAndPriorRes!L18","v":-24},1.6212492840851809,1.645,"Place of Birth - Not a Citizen",null,"Y",{"$f":"PlaceOfBirthAndPriorRes!I18/1.645","v":6.6869300911854106},{"$f":"PlaceOfBirthAndPriorRes!M18/1.645","v":13.98176291793313},15.498539554993267,{"$f":"PlaceOfBirthAndPriorRes!H18-PlaceOfBirthAndPriorRes!L18","v":-26},1.6775774199720264,1.645]
["N",{"$f":"PlaceOfBirthAndPriorRes!E43/1.645","v":21.88449848024316},{"$f":"PlaceOfBirthAndPriorRes!I43/1.645","v":15.805471124620061},26.995262384406708,{"$f":"PlaceOfBirthAndPriorRes!D43-PlaceOfBirthAndPriorRes!H43","v":-31},1.1483496458958871,1.645,"Place of Residence for Population Total:",null,"Y",{"$f":"PlaceOfBirthAndPriorRes!I43/1.645","v":15.805471124620061},{"$f":"PlaceOfBirthAndPriorRes!M43/1.645","v":12.76595744680851},{"$f":"SQRT((K37^2)+(L37^2))","v":20.317051631694106},{"$f":"PlaceOfBirthAndPriorRes!H43-PlaceOfBirthAndPriorRes!L43","v":-91},4.4789963450229271,1.645]
["N",{"$f":"PlaceOfBirthAndPriorRes!E44/1.645","v":67.477203647416417},{"$f":"PlaceOfBirthAndPriorRes!I44/1.645","v":37.689969604863222},77.289758835763095,{"$f":"PlaceOfBirthAndPriorRes!D44-PlaceOfBirthAndPriorRes!H44","v":-70},0.9056827328022401,1.645,"Place of Residence for Population  Same house ",null,"Y",{"$f":"PlaceOfBirthAndPriorRes!I8/1.645","v":37.08206686930091},{"$f":"PlaceOfBirthAndPriorRes!M8/1.645","v":4.8024316109422491},{"$f":"SQRT((K38^2)+(L38^2))","v":37.391750864021887},{"$f":"PlaceOfBirthAndPriorRes!H8-PlaceOfBirthAndPriorRes!L8","v":2851.8},76.268158995036117,1.645]
["N",{"$f":"PlaceOfBirthAndPriorRes!E45/1.645","v":68.057962457176814},{"$f":"PlaceOfBirthAndPriorRes!I45/1.645","v":35.8147071651196},76.906303403204589,{"$f":"PlaceOfBirthAndPriorRes!D45-PlaceOfBirthAndPriorRes!H45","v":39},0.50711057838173146,1.645,"Place of Residence for Population  Different house",null,"Y",{"$f":"PlaceOfBirthAndPriorRes!I9/1.645","v":79.635258358662611},{"$f":"PlaceOfBirthAndPriorRes!M9/1.645","v":3.4042553191489358},79.707987856480841,{"$f":"PlaceOfBirthAndPriorRes!H9-PlaceOfBirthAndPriorRes!L9","v":1526.3},19.148645462587734,1.645]
["N",{"$f":"PlaceOfBirthAndPriorRes!E46/1.645","v":56.782801496259587},{"$f":"PlaceOfBirthAndPriorRes!I46/1.645","v":32.770412089832348},65.56055562837345,{"$f":"PlaceOfBirthAndPriorRes!D46-PlaceOfBirthAndPriorRes!H46","v":5},7.6265369505747263E-2,1.645,"Place of Residence for Population in New Hampshire",null,"N",{"$f":"PlaceOfBirthAndPriorRes!I10/1.645","v":80.851063829787236},{"$f":"PlaceOfBirthAndPriorRes!M10/1.645","v":200.60790273556231},216.28782943653846,{"$f":"PlaceOfBirthAndPriorRes!H10-PlaceOfBirthAndPriorRes!L10","v":238},1.1003855400464508,1.645]
["Y",{"$f":"PlaceOfBirthAndPriorRes!E47/1.645","v":15.19756838905775},{"$f":"PlaceOfBirthAndPriorRes!I47/1.645","v":24.924012158054712},29.191993200104484,{"$f":"PlaceOfBirthAndPriorRes!D47-PlaceOfBirthAndPriorRes!H47","v":-53},1.8155663313805617,1.645,"Place of Residence for Population Same county",null,"N",{"$f":"PlaceOfBirthAndPriorRes!I11/1.645","v":86.322188449848028},{"$f":"PlaceOfBirthAndPriorRes!M11/1.645","v":134.95440729483283},160.20053766161556,{"$f":"PlaceOfBirthAndPriorRes!H11-PlaceOfBirthAndPriorRes!L11","v":157},0.98002167965019005,1.645]
["N",{"$f":"PlaceOfBirthAndPriorRes!E48/1.645","v":54.711246200607903},{"$f":"PlaceOfBirthAndPriorRes!I48/1.645","v":21.276595744680851},58.702759622577403,{"$f":"PlaceOfBirthAndPriorRes!D48-PlaceOfBirthAndPriorRes!H48","v":58},0.98802850790838936,1.645,"Place of Residence for Population Different county",null,"Y",{"$f":"PlaceOfBirthAndPriorRes!I12/1.645","v":38.90577507598784},{"$f":"PlaceOfBirthAndPriorRes!M12/1.645","v":19.45288753799392},43.497978893612931,{"$f":"PlaceOfBirthAndPriorRes!H12-PlaceOfBirthAndPriorRes!L12","v":91},2.092051224323944,1.645]
["N",{"$f":"PlaceOfBirthAndPriorRes!E49/1.645","v":33.434650455927049},{"$f":"PlaceOfBirthAndPriorRes!I49/1.645","v":13.373860182370821},36.010220594820389,{"$f":"PlaceOfBirthAndPriorRes!D49-PlaceOfBirthAndPriorRes!H49","v":14},0.38877851256522772,1.645,"Place of Residence for Population in Different state",null,"N",{"$f":"PlaceOfBirthAndPriorRes!I13/1.645","v":38.90577507598784},{"$f":"PlaceOfBirthAndPriorRes!M13/1.645","v":46.200607902735563},60.399962788446061,{"$f":"PlaceOfBirthAndPriorRes!H13-PlaceOfBirthAndPriorRes!L13","v":34},0.56291425408798224,1.645]
["N",{"$f":"PlaceOfBirthAndPriorRes!E50/1.645","v":17.021276595744681},{"$f":"PlaceOfBirthAndPriorRes!I50/1.645","v":5.4711246200607899},17.878955829608195,{"$f":"PlaceOfBirthAndPriorRes!D50-PlaceOfBirthAndPriorRes!H50","v":20},1.1186335595101857,1.645,"Place of Residence for Population Elsewhere",null,"N",{"$f":"PlaceOfBirthAndPriorRes!I14/1.645","v":20.668693009118542},{"$f":"PlaceOfBirthAndPriorRes!M14/1.645","v":76.59574468085107},79.335382862373024,{"$f":"PlaceOfBirthAndPriorRes!H14-PlaceOfBirthAndPriorRes!L14","v":-44},0.55460752078714937,1.645]
["Y",{"$f":"SchoolEnrolEduAttain!G23/1.645","v":41.945288753799389},{"$f":"SchoolEnrolEduAttain!M23/1.645","v":23.70820668693009},{"$f":"SQRT((B45^2)+(C45^2))","v":48.181804791329746},{"$f":"SchoolEnrolEduAttain!F23-SchoolEnrolEduAttain!L23","v":-156},3.237736748874795,1.645,"Total Population 3 years & over",null,"N",{"$f":"SchoolEnrolEduAttain!J23/1.645","v":20.060790273556229},{"$f":"SchoolEnrolEduAttain!M23/1.645","v":23.70820668693009},{"$f":"SQRT((K45^2)+(L45^2))","v":31.05663167038249},{"$f":"SchoolEnrolEduAttain!I23-SchoolEnrolEduAttain!L23","v":-45},1.448965891652531,1.645]
["N",{"$f":"SchoolEnrolEduAttain!G24/1.645","v":53.495440729483285},{"$f":"SchoolEnrolEduAttain!M24/1.645","v":70.516717325227958},{"$f":"SQRT((B46^2)+(C46^2))","v":88.511974337757053},{"$f":"SchoolEnrolEduAttain!F24-SchoolEnrolEduAttain!L24","v":-22},0.24855394046515281,1.645,"Population 3 years & over enrolled in school",null,"N",{"$f":"SchoolEnrolEduAttain!J24/1.645","v":59.574468085106382},{"$f":"SchoolEnrolEduAttain!M24/1.645","v":70.516717325227958},{"$f":"SQRT((K46^2)+(L46^2))","v":92.313187952477648},{"$f":"SchoolEnrolEduAttain!I24-SchoolEnrolEduAttain!L24","v":126},1.3649187379907641,1.645]
["N",{"$f":"SchoolEnrolEduAttain!G25/1.645","v":30.961292591481687},{"$f":"SchoolEnrolEduAttain!M25/1.645","v":26.64389908913207},40.847264260990499,{"$f":"SchoolEnrolEduAttain!F25-SchoolEnrolEduAttain!L25","v":41},1.0037391913944005,1.645,"Preprimary (Nursery, Preschool, Kindergarten)",null,"N",{"$f":"SchoolEnrolEduAttain!J25/1.645","v":21.267909646852157},{"$f":"SchoolEnrolEduAttain!M25/1.645","v":26.64389908913207},34.091367520510524,{"$f":"SchoolEnrolEduAttain!I25-SchoolEnrolEduAttain!L25","v":28},0.82132228879214808,1.645]
["N",{"$f":"SchoolEnrolEduAttain!G26/1.645","v":21.276595744680851},{"$f":"SchoolEnrolEduAttain!M26/1.645","v":23.70820668693009},31.855495456714653,{"$f":"SchoolEnrolEduAttain!F26-SchoolEnrolEduAttain!L26","v":13},0.40809285222590369,1.645,"Nursery school and Preschool",null,"N",{"$f":"SchoolEnrolEduAttain!J26/1.645","v":18.237082066869302},{"$f":"SchoolEnrolEduAttain!M26/1.645","v":23.70820668693009},29.911038541380044,{"$f":"SchoolEnrolEduAttain!I26-SchoolEnrolEduAttain!L26","v":18},0.60178452095864643,1.645]
["N",{"$f":"SchoolEnrolEduAttain!G27/1.645","v":22.492401215805472},{"$f":"SchoolEnrolEduAttain!M27/1.645","v":12.1580547112462},25.568073975456645,{"$f":"SchoolEnrolEduAttain!F27-SchoolEnrolEduAttain!L27","v":28},1.0951157301436867,1.645,"Kindergarten",null,"N",{"$f":"SchoolEnrolEduAttain!J27/1.645","v":10.94224924012158},{"$f":"SchoolEnrolEduAttain!M27/1.645","v":12.1580547112462},16.35698972288597,{"$f":"SchoolEnrolEduAttain!I27-SchoolEnrolEduAttain!L27","v":10},0.61135943528829428,1.645]
["N",{"$f":"SchoolEnrolEduAttain!G28/1.645","v":45.701996666778122},{"$f":"SchoolEnrolEduAttain!M28/1.645","v":101.77424738929359},111.56464462806903,{"$f":"SchoolEnrolEduAttain!F28-SchoolEnrolEduAttain!L28","v":-130},1.1652437063138614,1.645,"Elementary through High school",null,"N",{"$f":"SchoolEnrolEduAttain!J28/1.645","v":54.515014520231873},{"$f":"SchoolEnrolEduAttain!M28/1.645","v":101.77424738929359},115.45511785883824,{"$f":"SchoolEnrolEduAttain!I28-SchoolEnrolEduAttain!L28","v":33},0.28582535457932329,1.645]
["N",{"$f":"SchoolEnrolEduAttain!G29/1.645","v":37.057144447728078},{"$f":"SchoolEnrolEduAttain!M29/1.645","v":88.730895991405944},96.158223039204941,{"$f":"SchoolEnrolEduAttain!F29-SchoolEnrolEduAttain!L29","v":-158},1.6431252055851882,1.645,"Elementary school (grades 1-8)",null,"N",{"$f":"SchoolEnrolEduAttain!J29/1.645","v":44.414357343727247},{"$f":"SchoolEnrolEduAttain!M29/1.645","v":88.730895991405944},99.22604013913886,{"$f":"SchoolEnrolEduAttain!I29-SchoolEnrolEduAttain!L29","v":-49},0.4938219839398022,1.645]
["N",{"$f":"SchoolEnrolEduAttain!G30/1.645","v":26.747720364741642},{"$f":"SchoolEnrolEduAttain!M30/1.645","v":49.848024316109424},56.570894220701966,{"$f":"SchoolEnrolEduAttain!F30-SchoolEnrolEduAttain!L30","v":28},0.494954170085462,1.645,"High school (grades 9-12)",null,"N",{"$f":"SchoolEnrolEduAttain!J30/1.645","v":31.610942249240122},{"$f":"SchoolEnrolEduAttain!M30/1.645","v":49.848024316109424},59.026072189365863,{"$f":"SchoolEnrolEduAttain!I30-SchoolEnrolEduAttain!L30","v":82},1.38921661154972,1.645]
["N",{"$f":"SchoolEnrolEduAttain!G31/1.645","v":34.431130111869415},{"$f":"SchoolEnrolEduAttain!M31/1.645","v":27.784546825596205},44.243460116544107,{"$f":"SchoolEnrolEduAttain!F31-SchoolEnrolEduAttain!L31","v":67},1.5143481053134555,1.645,"College or Graduate School",null,"N",{"$f":"SchoolEnrolEduAttain!J31/1.645","v":29.812036073530038},{"$f":"SchoolEnrolEduAttain!M31/1.645","v":27.784546825596205},40.752159907828258,{"$f":"SchoolEnrolEduAttain!I31-SchoolEnrolEduAttain!L31","v":65},1.5950074829656788,1.645]
["N",{"$f":"SchoolEnrolEduAttain!G52/1.645","v":53.495440729483285},{"$f":"SchoolEnrolEduAttain!M52/1.645","v":82.066869300911847},{"$f":"SQRT((B54^2)+(C54^2))","v":97.962917554014325},{"$f":"SchoolEnrolEduAttain!I52-SchoolEnrolEduAttain!L52","v":-131},1.3372406954679545,1.645,"Population 25 years and over",null,"N",{"$f":"SchoolEnrolEduAttain!J52/1.645","v":56.534954407294833},{"$f":"SchoolEnrolEduAttain!M52/1.645","v":82.066869300911847},{"$f":"SQRT((K54^2)+(L54^2))","v":99.655266326912468},{"$f":"SchoolEnrolEduAttain!I52-SchoolEnrolEduAttain!L52","v":-131},1.3145316331829693,1.645]
["N",{"$f":"SchoolEnrolEduAttain!G53/1.645","v":33.473312821729373},{"$f":"SchoolEnrolEduAttain!M53/1.645","v":19.986969267809844},{"$f":"SQRT((B55^2)+(C55^2))","v":38.986428558842462},{"$f":"SchoolEnrolEduAttain!I53-SchoolEnrolEduAttain!L53","v":11},0.28214946602245522,1.645,"Less than 9th Grade",null,"N",{"$f":"SchoolEnrolEduAttain!J53/1.645","v":16.769743737548598},{"$f":"SchoolEnrolEduAttain!M53/1.645","v":19.986969267809844},{"$f":"SQRT((K55^2)+(L55^2))","v":26.090290253951288},{"$f":"SchoolEnrolEduAttain!I53-SchoolEnrolEduAttain!L53","v":11},0.42161278747499126,1.645]
["N",{"$f":"SchoolEnrolEduAttain!G54/1.645","v":27.308300845247661},{"$f":"SchoolEnrolEduAttain!M54/1.645","v":122.87156503694305},125.86963410482403,{"$f":"SchoolEnrolEduAttain!I54-SchoolEnrolEduAttain!L54","v":-150},1.191709192346426,1.645,"9th to 12th Grade, no Diploma",null,"N",{"$f":"SchoolEnrolEduAttain!J54/1.645","v":19.2715714092977},{"$f":"SchoolEnrolEduAttain!M54/1.645","v":122.87156503694305},124.3736907839089,{"$f":"SchoolEnrolEduAttain!I54-SchoolEnrolEduAttain!L54","v":-150},1.2060428459955821,1.645]
["N",{"$f":"SchoolEnrolEduAttain!G55/1.645","v":62.330043490761511},{"$f":"SchoolEnrolEduAttain!M55/1.645","v":81.09750589189521},102.28313538138241,{"$f":"SchoolEnrolEduAttain!I55-SchoolEnrolEduAttain!L55","v":13},0.12709817656182509,1.645,"High School Graduate ",null,"N",{"$f":"SchoolEnrolEduAttain!J55/1.645","v":59.319596233278759},{"$f":"SchoolEnrolEduAttain!M55/1.645","v":81.09750589189521},100.4769623305024,{"$f":"SchoolEnrolEduAttain!I55-SchoolEnrolEduAttain!L55","v":13},0.12938289234141695,1.645]
["N",{"$f":"SchoolEnrolEduAttain!G56/1.645","v":53.068899115446605},{"$f":"SchoolEnrolEduAttain!M56/1.645","v":107.09100040642572},119.51899606913759,{"$f":"SchoolEnrolEduAttain!I56-SchoolEnrolEduAttain!L56","v":-152},1.2717643638177256,1.645,"Some College, No Degree",null,"N",{"$f":"SchoolEnrolEduAttain!J56/1.645","v":58.620864870561206},{"$f":"SchoolEnrolEduAttain!M56/1.645","v":107.09100040642572},122.08557722442758,{"$f":"SchoolEnrolEduAttain!I56-SchoolEnrolEduAttain!L56","v":-152},1.245028310924732,1.645]
["N",{"$f":"SchoolEnrolEduAttain!G57/1.645","v":52.038746648103817},{"$f":"SchoolEnrolEduAttain!M57/1.645","v":58.387151101211387},78.211831371098995,{"$f":"SchoolEnrolEduAttain!I57-SchoolEnrolEduAttain!L57","v":128},1.6365810358367192,1.645,"Associate Degree",null,"Y",{"$f":"SchoolEnrolEduAttain!J57/1.645","v":46.012254030799419},{"$f":"SchoolEnrolEduAttain!M57/1.645","v":58.387151101211387},74.338327494708324,{"$f":"SchoolEnrolEduAttain!I57-SchoolEnrolEduAttain!L57","v":128},1.721857409411202,1.645]
["N",{"$f":"SchoolEnrolEduAttain!G58/1.645","v":58.03163181657419},{"$f":"SchoolEnrolEduAttain!M58/1.645","v":96.99240072764303},113.02741300324499,{"$f":"SchoolEnrolEduAttain!I58-SchoolEnrolEduAttain!L58","v":-69},0.61047137297585519,1.645,"Bachelor's Degree",null,"N",{"$f":"SchoolEnrolEduAttain!J58/1.645","v":51.456731316254064},{"$f":"SchoolEnrolEduAttain!M58/1.645","v":96.99240072764303},109.79672580120433,{"$f":"SchoolEnrolEduAttain!I58-SchoolEnrolEduAttain!L58","v":-69},0.62843404023659111,1.645]
["N",{"$f":"SchoolEnrolEduAttain!G59/1.645","v":42.700569796561567},{"$f":"SchoolEnrolEduAttain!M59/1.645","v":71.925452775231477},83.645737595367521,{"$f":"SchoolEnrolEduAttain!I59-SchoolEnrolEduAttain!L59","v":85},1.016190453256371,1.645,"Graduate or Professional Degree",null,"N",{"$f":"SchoolEnrolEduAttain!J59/1.645","v":54.900045737997011},{"$f":"SchoolEnrolEduAttain!M59/1.645","v":71.925452775231477},90.483621606101835,{"$f":"SchoolEnrolEduAttain!I59-SchoolEnrolEduAttain!L59","v":85},0.93939652824714037,1.645]
["N",{"$f":"HousingCharacteristics!D32/1.645","v":196.96048632218844},{"$f":"HousingCharacteristics!J32/1.645","v":218.84498480243161},294.42581501194746,{"$f":"HousingCharacteristics!C32-HousingCharacteristics!I32","v":-146},0.49588043084494982,1.645,"Total Housing Units",null,"N",{"$f":"HousingCharacteristics!G32/1.645","v":196.96048632218844},{"$f":"HousingCharacteristics!J32/1.645","v":218.84498480243161},{"$f":"SQRT((K62^2)+(L62^2))","v":294.42581501194746},{"$f":"HousingCharacteristics!F32-HousingCharacteristics!I32","v":-128},{"$f":"ABS((N62/M62))","v":0.43474448731612036},1.645]
["N",{"$f":"HousingCharacteristics!D33/1.645","v":217.02127659574467},{"$f":"HousingCharacteristics!J33/1.645","v":239.51367781155014},323.21051399059058,{"$f":"HousingCharacteristics!C33-HousingCharacteristics!I33","v":178},0.55072465868230391,1.645,"Occupied Units",null,"N",{"$f":"HousingCharacteristics!G33/1.645","v":217.02127659574467},{"$f":"HousingCharacteristics!J33/1.645","v":239.51367781155014},{"$f":"SQRT((K63^2)+(L63^2))","v":323.21051399059058},{"$f":"HousingCharacteristics!F33-HousingCharacteristics!I33","v":-225},{"$f":"ABS((N63/M63))","v":0.69614072024448526},1.645]
["N",{"$f":"HousingCharacteristics!D34/1.645","v":164.74164133738603},{"$f":"HousingCharacteristics!J34/1.645","v":223.10030395136778},277.33292991227825,{"$f":"HousingCharacteristics!C34-HousingCharacteristics!I34","v":149},0.53726039690681315,1.645,"Owner Occupied",null,"N",{"$f":"HousingCharacteristics!G34/1.645","v":164.74164133738603},{"$f":"HousingCharacteristics!J34/1.645","v":223.10030395136778},277.33292991227825,{"$f":"HousingCharacteristics!F34-HousingCharacteristics!I34","v":-445},1.6045696417686701,1.645]
["N",{"$f":"HousingCharacteristics!D35/1.645","v":153.79939209726444},{"$f":"HousingCharacteristics!J35/1.645","v":253.49544072948328},296.50327397875907,{"$f":"HousingCharacteristics!C35-HousingCharacteristics!I35","v":29},9.7806677177121173E-2,1.645,"Renter Occupied",null,"N",{"$f":"HousingCharacteristics!G35/1.645","v":153.79939209726444},{"$f":"HousingCharacteristics!J35/1.645","v":253.49544072948328},296.50327397875907,{"$f":"HousingCharacteristics!F35-HousingCharacteristics!I35","v":220},0.7419816889298847,1.645]
["N",{"$f":"HousingCharacteristics!D36/1.645","v":178.72340425531914},{"$f":"HousingCharacteristics!J36/1.645","v":198.17629179331306},266.86306948987641,{"$f":"HousingCharacteristics!C36-HousingCharacteristics!I36","v":-324},1.2141057982258243,1.645,"Vacant Units",null,"N",{"$f":"HousingCharacteristics!G36/1.645","v":178.72340425531914},{"$f":"HousingCharacteristics!J36/1.645","v":198.17629179331306},266.86306948987641,{"$f":"HousingCharacteristics!F36-HousingCharacteristics!I36","v":97},0.36348229144415106,1.645]
["N",{"$f":"HousingCharacteristics!D37/1.645","v":62.61398176291793},{"$f":"HousingCharacteristics!J37/1.645","v":45.59270516717325},77.454538128296946,{"$f":"HousingCharacteristics!C37-HousingCharacteristics!I37","v":-17},0.21948358883556862,1.645,"Vacant For Sale",null,"N",{"$f":"HousingCharacteristics!G37/1.645","v":62.61398176291793},{"$f":"HousingCharacteristics!J37/1.645","v":45.59270516717325},77.454538128296946,{"$f":"HousingCharacteristics!F37-HousingCharacteristics!I37","v":59},0.76173716125285584,1.645]
[{"$f":"IF(F68>G68,\"Y\",\"N\")","v":"Y"},{"$f":"HousingCharacteristics!D38/1.645","v":60.182370820668694},{"$f":"HousingCharacteristics!J38/1.645","v":57.750759878419451},83.409040422074966,{"$f":"HousingCharacteristics!C38-HousingCharacteristics!I38","v":155},{"$f":"ABS((E68/D68))","v":1.8583117515278096},1.645,"Vacant For Rent",null,"N",{"$f":"HousingCharacteristics!G38/1.645","v":60.182370820668694},{"$f":"HousingCharacteristics!J38/1.645","v":57.750759878419451},83.409040422074966,{"$f":"HousingCharacteristics!F38-HousingCharacteristics!I38","v":5},5.9945540371864822E-2,1.645]
["N",{"$f":"HousingCharacteristics!D39/1.645","v":183.58662613981764},{"$f":"HousingCharacteristics!J39/1.645","v":198.17629179331306},270.14420579821723,{"$f":"HousingCharacteristics!C39-HousingCharacteristics!I39","v":-344},1.2733939600279598,1.645,"Vacant Seasonal",null,{"$f":"IF(O69>P69,\"Y\",\"N\")","v":"N"},{"$f":"HousingCharacteristics!G39/1.645","v":183.58662613981764},{"$f":"HousingCharacteristics!J39/1.645","v":198.17629179331306},270.14420579821723,{"$f":"HousingCharacteristics!F39-HousingCharacteristics!I39","v":219},0.81067813152942791,1.645]
["N",{"$f":"HousingCharacteristics!E71/1.645","v":156.838905775076},{"$f":"HousingCharacteristics!K71/1.645","v":218.84498480243161},269.24258529790507,{"$f":"HousingCharacteristics!D71-HousingCharacteristics!J71","v":-146},0.54226191535955359,1.645,"Total Housing Units",null,"N",{"$f":"HousingCharacteristics!H71/1.645","v":196.96048632218844},{"$f":"HousingCharacteristics!K71/1.645","v":218.84498480243161},294.42581501194746,{"$f":"HousingCharacteristics!G71-HousingCharacteristics!J71","v":-128},0.43474448731612036,1.645]
["N",{"$f":"HousingCharacteristics!E72/1.645","v":224.92401215805472},{"$f":"HousingCharacteristics!K72/1.645","v":231.00303951367781},322.41776549972326,{"$f":"HousingCharacteristics!D72-HousingCharacteristics!J72","v":102},0.31635973855816435,1.645,"Single Family Units",null,"N",{"$f":"HousingCharacteristics!H72/1.645","v":205.47112462006078},{"$f":"HousingCharacteristics!K72/1.645","v":231.00303951367781},309.16142598518064,{"$f":"HousingCharacteristics!G72-HousingCharacteristics!J72","v":296},0.95742862828620956,1.645]
["N",{"$f":"HousingCharacteristics!E73/1.645","v":172.03647416413375},{"$f":"HousingCharacteristics!K73/1.645","v":181.15501519756839},249.82731630880136,{"$f":"HousingCharacteristics!D73-HousingCharacteristics!J73","v":246},0.98468015281375165,1.645,"SF Owner Occ.",null,"N",{"$f":"HousingCharacteristics!H73/1.645","v":155.62310030395136},{"$f":"HousingCharacteristics!K73/1.645","v":181.15501519756839},238.82145816371889,{"$f":"HousingCharacteristics!G73-HousingCharacteristics!J73","v":-145},0.60714812276457331,1.645]
["N",{"$f":"HousingCharacteristics!E74/1.645","v":84.498480243161097},{"$f":"HousingCharacteristics!K74/1.645","v":91.1854103343465},124.31722415356222,{"$f":"HousingCharacteristics!D74-HousingCharacteristics!J74","v":-5},4.021968825352612E-2,1.645,"SF Renter Occ.",null,"N",{"$f":"HousingCharacteristics!H74/1.645","v":102.12765957446808},{"$f":"HousingCharacteristics!K74/1.645","v":91.1854103343465},136.91178878387933,{"$f":"HousingCharacteristics!G74-HousingCharacteristics!J74","v":88},0.64274961843432987,1.645]
["N",{"$f":"HousingCharacteristics!E75/1.645","v":316.18949184673778},{"$f":"HousingCharacteristics!K75/1.645","v":345.77323773980305},468.54554388166429,{"$f":"HousingCharacteristics!D75-HousingCharacteristics!J75","v":-162},0.34575080718495677,1.645,"Multi-family Units",null,"N",{"$f":"HousingCharacteristics!H75/1.645","v":281.64337771696961},{"$f":"HousingCharacteristics!K75/1.645","v":345.77323773980305},445.96202097139388,{"$f":"HousingCharacteristics!G75-HousingCharacteristics!J75","v":-228},0.51125429807536238,1.645]
["N",{"$f":"HousingCharacteristics!E76/1.645","v":120.56720560552627},{"$f":"HousingCharacteristics!K76/1.645","v":139.46830950094113},184.35796815591007,{"$f":"HousingCharacteristics!D76-HousingCharacteristics!J76","v":-87},0.47190799980191139,1.645,"MF Owner Occ.",null,"N",{"$f":"HousingCharacteristics!H76/1.645","v":78.947820627039619},{"$f":"HousingCharacteristics!K76/1.645","v":139.46830950094113},160.2628083393322,{"$f":"HousingCharacteristics!G76-HousingCharacteristics!J76","v":-257},1.6036159771756993,1.645]
["N",{"$f":"HousingCharacteristics!E77/1.645","v":230.27881995376919},{"$f":"HousingCharacteristics!K77/1.645","v":256.97537785384452},345.05750208106855,{"$f":"HousingCharacteristics!D77-HousingCharacteristics!J77","v":48},0.13910724940193528,1.645,"MF Renter Occ.",null,"N",{"$f":"HousingCharacteristics!H77/1.645","v":208.500004159605},{"$f":"HousingCharacteristics!K77/1.645","v":256.97537785384452},330.92083125376297,{"$f":"HousingCharacteristics!G77-HousingCharacteristics!J77","v":139},0.42004004242757809,1.645]
["N",{"$f":"HousingCharacteristics!E78/1.645","v":102.71217877443446},{"$f":"HousingCharacteristics!K78/1.645","v":110.63495769699972},150.96319264379747,{"$f":"HousingCharacteristics!D78-HousingCharacteristics!J78","v":-86},0.56967528636546383,1.645,"Mobile Home & Other",null,"N",{"$f":"HousingCharacteristics!H78/1.645","v":79.70019858479813},{"$f":"HousingCharacteristics!K78/1.645","v":110.63495769699972},136.35327469141757,{"$f":"HousingCharacteristics!G78-HousingCharacteristics!J78","v":-196},1.4374425582632284,1.645]
["Y",{"$f":"HousingCharacteristics!$D88/1.645","v":59.574468085106382},{"$f":"HousingCharacteristics!L88/1.645","v":82.674772036474167},101.90306756377026,{"$f":"HousingCharacteristics!$D88-HousingCharacteristics!$K88","v":-197},1.9332097130120123,1.645,"No Bedrooms",null,"N",{"$f":"HousingCharacteristics!H88/1.645","v":53.495440729483285},{"$f":"HousingCharacteristics!L88/1.645","v":82.674772036474167},98.472737903059397,{"$f":"HousingCharacteristics!G88-HousingCharacteristics!K88","v":-123},1.2490766746130919,1.645]
["Y",{"$f":"HousingCharacteristics!$D89/1.645","v":131.91489361702128},{"$f":"HousingCharacteristics!L89/1.645","v":176.89969604863222},220.66953033912159,{"$f":"HousingCharacteristics!$D89-HousingCharacteristics!$K89","v":-1293},5.8594405761997912,1.645,"1 Bedroom",null,"N",{"$f":"HousingCharacteristics!H89/1.645","v":167.78115501519756},{"$f":"HousingCharacteristics!L89/1.645","v":176.89969604863222},243.81144033931676,{"$f":"HousingCharacteristics!G89-HousingCharacteristics!K89","v":29},0.11894437750599471,1.645]
["Y",{"$f":"HousingCharacteristics!$D90/1.645","v":248.63221884498481},{"$f":"HousingCharacteristics!L90/1.645","v":241.94528875379939},346.92290641861598,{"$f":"HousingCharacteristics!$D90-HousingCharacteristics!$K90","v":-3358},9.679383914615471,1.645,"2 Bedrooms",null,"N",{"$f":"HousingCharacteristics!H90/1.645","v":208.51063829787233},{"$f":"HousingCharacteristics!L90/1.645","v":241.94528875379939},319.39663278366839,{"$f":"HousingCharacteristics!G90-HousingCharacteristics!K90","v":-52},0.16280697622513851,1.645]
["Y",{"$f":"HousingCharacteristics!$D91/1.645","v":190.27355623100303},{"$f":"HousingCharacteristics!L91/1.645","v":189.05775075987842},268.22911721730918,{"$f":"HousingCharacteristics!$D91-HousingCharacteristics!$K91","v":-2791},10.405283471662909,1.645,"3 Bedrooms",null,"N",{"$f":"HousingCharacteristics!H91/1.645","v":204.25531914893617},{"$f":"HousingCharacteristics!L91/1.645","v":189.05775075987842},278.32187934659049,{"$f":"HousingCharacteristics!G91-HousingCharacteristics!K91","v":117},0.42037658079443146,1.645]
["Y",{"$f":"HousingCharacteristics!$D92/1.645","v":144.6054821441281},{"$f":"HousingCharacteristics!L92/1.645","v":151.15767696421199},209.18744888580866,{"$f":"HousingCharacteristics!$D92-HousingCharacteristics!$K92","v":-1060.1239818729093},5.0678183013341798,1.645,"4+ Bedrooms",null,"N",{"$f":"HousingCharacteristics!H92/1.645","v":147.13255659188593},{"$f":"HousingCharacteristics!L92/1.645","v":151.15767696421199},210.94224924012158,{"$f":"HousingCharacteristics!G92-HousingCharacteristics!K92","v":-18},8.5331412103746396E-2,1.645]
["Y",{"$f":"'HHIncome-10YearComparison'!$F$30/1.645","v":107.59878419452887},{"$f":"'HHIncome-10YearComparison'!$M$30/1.645","v":103.95136778115501},{"$f":"SQRT((B83^2)+(C83^2))","v":149.61077910268949},{"$f":"'HHIncome-10YearComparison'!$E$30-'HHIncome-10YearComparison'!$L$30","v":264},1.7645787394690078,1.645,"Household Income Less than $10,000",null,"N",{"$f":"'HHIncome-10YearComparison'!$F$30/1.645","v":107.59878419452887},{"$f":"'HHIncome-10YearComparison'!$J$30/1.645","v":107.59878419452887},{"$f":"SQRT((K83^2)+(L83^2))","v":152.16765990275854},{"$f":"'HHIncome-10YearComparison'!$E$30-'HHIncome-10YearComparison'!$I$30","v":0},0,1.645]
["N",{"$f":"'HHIncome-10YearComparison'!$F$31/1.645","v":72.948328267477208},{"$f":"'HHIncome-10YearComparison'!$M$31/1.645","v":99.696048632218847},{"$f":"SQRT((B84^2)+(C84^2))","v":123.53445151008427},{"$f":"'HHIncome-10YearComparison'!$E$31-'HHIncome-10YearComparison'!$L$31","v":123},0.99567366428108806,1.645,"Household Income $10,000 to $14,999",null,"N",{"$f":"'HHIncome-10YearComparison'!$F$31/1.645","v":72.948328267477208},{"$f":"'HHIncome-10YearComparison'!$J$31/1.645","v":72.948328267477208},{"$f":"SQRT((K84^2)+(L84^2))","v":103.16451518831089},{"$f":"'HHIncome-10YearComparison'!$E$31-'HHIncome-10YearComparison'!$I$31","v":0},0,1.645]
["Y",{"$f":"'HHIncome-10YearComparison'!$F$32/1.645","v":114.54733038797713},{"$f":"'HHIncome-10YearComparison'!$M$32/1.645","v":96.778802826292619},149.95741920792986,{"$f":"'HHIncome-10YearComparison'!$E$32-'HHIncome-10YearComparison'!$L$32","v":297},1.9805622260555309,1.645,"Household Income $15,000 to $24,999",null,"N",{"$f":"'HHIncome-10YearComparison'!$F$32/1.645","v":114.54733038797713},{"$f":"'HHIncome-10YearComparison'!$J$32/1.645","v":114.54733038797713},161.99438816830903,{"$f":"'HHIncome-10YearComparison'!$E$32-'HHIncome-10YearComparison'!$I$32","v":0},0,1.645]
["N",{"$f":"'HHIncome-10YearComparison'!$F$33/1.645","v":114.0089126733358},{"$f":"'HHIncome-10YearComparison'!$M$33/1.645","v":145.31291528822396},184.69941937786069,{"$f":"'HHIncome-10YearComparison'!$E$33-'HHIncome-10YearComparison'!$L$33","v":-24},0.12994085244469805,1.645,"Household Income $25,000 to $34,999",null,"N",{"$f":"'HHIncome-10YearComparison'!$F$33/1.645","v":114.0089126733358},{"$f":"'HHIncome-10YearComparison'!$J$33/1.645","v":114.0089126733358},161.23295053404132,{"$f":"'HHIncome-10YearComparison'!$E$33-'HHIncome-10YearComparison'!$I$33","v":0},0,1.645]
["Y",{"$f":"'HHIncome-10YearComparison'!$F$34/1.645","v":158.07458374017696},{"$f":"'HHIncome-10YearComparison'!$M$34/1.645","v":155.70618982470478},221.8828329870457,{"$f":"'HHIncome-10YearComparison'!$E$34-'HHIncome-10YearComparison'!$L$34","v":578},2.6049784574084001,1.645,"Household Income $35,000 to $49,999",null,"N",{"$f":"'HHIncome-10YearComparison'!$F$34/1.645","v":158.07458374017696},{"$f":"'HHIncome-10YearComparison'!$J$34/1.645","v":158.07458374017696},223.5512201918398,{"$f":"'HHIncome-10YearComparison'!$E$34-'HHIncome-10YearComparison'!$I$34","v":0},0,1.645]
["N",{"$f":"'HHIncome-10YearComparison'!$F$35/1.645","v":142.46859143170778},{"$f":"'HHIncome-10YearComparison'!$M$35/1.645","v":178.98477672638523},228.76374241633846,{"$f":"'HHIncome-10YearComparison'!$E$35-'HHIncome-10YearComparison'!$L$35","v":-22},9.6169085920797315E-2,1.645,"Household Income $50,000 to $74,999",null,"N",{"$f":"'HHIncome-10YearComparison'!$F$35/1.645","v":142.46859143170778},{"$f":"'HHIncome-10YearComparison'!$J$35/1.645","v":142.46859143170778},201.48101421491245,{"$f":"'HHIncome-10YearComparison'!$E$35-'HHIncome-10YearComparison'!$I$35","v":0},0,1.645]
["Y",{"$f":"'HHIncome-10YearComparison'!$F$36/1.645","v":100.30395136778115},{"$f":"'HHIncome-10YearComparison'!$M$36/1.645","v":138.60182370820669},171.08871440054429,{"$f":"'HHIncome-10YearComparison'!$E$36-'HHIncome-10YearComparison'!$L$36","v":-458},2.6769737653633507,1.645,"Household Income $75,000 to $99,999",null,"N",{"$f":"'HHIncome-10YearComparison'!$F$36/1.645","v":100.30395136778115},{"$f":"'HHIncome-10YearComparison'!$J$36/1.645","v":100.30395136778115},141.85120838392746,{"$f":"'HHIncome-10YearComparison'!$E$36-'HHIncome-10YearComparison'!$I$36","v":0},0,1.645]
["N",{"$f":"'HHIncome-10YearComparison'!$F$37/1.645","v":125.72275138610301},{"$f":"'HHIncome-10YearComparison'!$M$37/1.645","v":147.01194787709505},193.43919725513126,{"$f":"'HHIncome-10YearComparison'!$E$37-'HHIncome-10YearComparison'!$L$37","v":-181},0.93569453641432909,1.645,"Household Income $100,000 to $149,999",null,"N",{"$f":"'HHIncome-10YearComparison'!$F$37/1.645","v":125.72275138610301},{"$f":"'HHIncome-10YearComparison'!$J$37/1.645","v":125.72275138610301},177.79882010908773,{"$f":"'HHIncome-10YearComparison'!$E$37-'HHIncome-10YearComparison'!$I$37","v":0},0,1.645]
["N",{"$f":"'HHIncome-10YearComparison'!$F$38/1.645","v":57.750759878419451},{"$f":"'HHIncome-10YearComparison'!$M$38/1.645","v":77.81155015197568},96.900916422850656,{"$f":"'HHIncome-10YearComparison'!$E$38-'HHIncome-10YearComparison'!$L$38","v":-131},1.3518963992904847,1.645,"Household Income $150,000 to $199,999",null,"N",{"$f":"'HHIncome-10YearComparison'!$F$38/1.645","v":57.750759878419451},{"$f":"'HHIncome-10YearComparison'!$J$38/1.645","v":57.750759878419451},81.671907857412776,{"$f":"'HHIncome-10YearComparison'!$E$38-'HHIncome-10YearComparison'!$I$38","v":0},0,1.645]
["Y",{"$f":"'HHIncome-10YearComparison'!$F$39/1.645","v":44.984802431610944},{"$f":"'HHIncome-10YearComparison'!$M$39/1.645","v":89.969604863221889},100.58907619147992,{"$f":"'HHIncome-10YearComparison'!$E$39-'HHIncome-10YearComparison'!$L$39","v":-268},2.66430521232583,1.645,"Household Income Greater than $200,000",null,"N",{"$f":"'HHIncome-10YearComparison'!$F$39/1.645","v":44.984802431610944},{"$f":"'HHIncome-10YearComparison'!$J$39/1.645","v":44.984802431610944},63.618117699458381,{"$f":"'HHIncome-10YearComparison'!$E$39-'HHIncome-10YearComparison'!$I$39","v":0},0,1.645]
["N",{"$f":"'HHIncome-10YearComparison'!$F$41/1.645","v":1590.8814589665653},{"$f":"'HHIncome-10YearComparison'!$M$41/1.645","v":4792.0972644376898},5049.2672743988087,{"$f":"'HHIncome-10YearComparison'!$E$41-'HHIncome-10YearComparison'!$I$41","v":-1076},0.21310022653299018,1.645,"Median Household Income",null,"N",{"$f":"'HHIncome-10YearComparison'!$F$41/1.645","v":1590.8814589665653},{"$f":"'HHIncome-10YearComparison'!$J$41/1.645","v":2868.6930091185409},3280.2901391567752,{"$f":"'HHIncome-10YearComparison'!$E$41-'HHIncome-10YearComparison'!$I$41","v":-1076},0.32801976482378914,1.645]
["N",{"$f":"PovertyCharacteristics!$E$54/1.645","v":117.32522796352583},{"$f":"PovertyCharacteristics!$M54/1.645","v":158.05471124620061},196.84130883484076,{"$f":"PovertyCharacteristics!$D54-PovertyCharacteristics!$L54","v":119},0.6045479005621055,1.645,"Total Households Below Poverty Level",null,"N",{"$f":"PovertyCharacteristics!$I$54/1.645","v":138.60182370820669},{"$f":"PovertyCharacteristics!$M54/1.645","v":158.05471124620061},210.21835619745642,{"$f":"PovertyCharacteristics!$H54-PovertyCharacteristics!$L54","v":252},1.1987535463520531,1.645]
["N",{"$f":"PovertyCharacteristics!$E$55/1.645","v":83.282674772036472},{"$f":"PovertyCharacteristics!$M55/1.645","v":93.00911854103343},124.84670619990264,{"$f":"PovertyCharacteristics!$D55-PovertyCharacteristics!$L55","v":94},0.75292334784939086,1.645,"Family Households Below Poverty Level",null,"Y",{"$f":"PovertyCharacteristics!$I$55/1.645","v":100.91185410334346},{"$f":"PovertyCharacteristics!$M55/1.645","v":93.00911854103343},137.23665119185358,{"$f":"PovertyCharacteristics!$H55-PovertyCharacteristics!$L55","v":267},1.9455444131082762,1.645]
["N",{"$f":"PovertyCharacteristics!$E$56/1.645","v":34.042553191489361},{"$f":"PovertyCharacteristics!$M56/1.645","v":35.258358662613979},49.010685399991182,{"$f":"PovertyCharacteristics!$D56-PovertyCharacteristics!$L56","v":18},0.36726684911864627,1.645,"Married Couple Fam HH Below Poverty Level",null,"Y",{"$f":"PovertyCharacteristics!$I$56/1.645","v":66.261398176291792},{"$f":"PovertyCharacteristics!$M56/1.645","v":35.258358662613979},75.05814242211575,{"$f":"PovertyCharacteristics!$H56-PovertyCharacteristics!$L56","v":153},2.0384197511783722,1.645]
["N",{"$f":"PovertyCharacteristics!$E$57/1.645","v":51.671732522796354},{"$f":"PovertyCharacteristics!$M57/1.645","v":14.589665653495441},53.691957365961201,{"$f":"PovertyCharacteristics!$D57-PovertyCharacteristics!$L57","v":-14},0.26074668696797232,1.645,"M C Fam HH w/Children Below Poverty Level",null,"N",{"$f":"PovertyCharacteristics!$I$57/1.645","v":66.869300911854097},{"$f":"PovertyCharacteristics!$M57/1.645","v":14.589665653495441},68.442397301094559,{"$f":"PovertyCharacteristics!$H57-PovertyCharacteristics!$L57","v":106},1.5487476210641851,1.645]
["Y",{"$f":"PovertyCharacteristics!$E$58/1.645","v":52.887537993920972},{"$f":"PovertyCharacteristics!$M58/1.645","v":11.550151975683891},54.134071394269142,{"$f":"PovertyCharacteristics!$D58-PovertyCharacteristics!$L58","v":105},1.9396287272624342,1.645,"Male Head of Family HH  Below Poverty Level",null,"Y",{"$f":"PovertyCharacteristics!$I$58/1.645","v":20.060790273556229},{"$f":"PovertyCharacteristics!$M58/1.645","v":11.550151975683891},23.148246522382699,{"$f":"PovertyCharacteristics!$H58-PovertyCharacteristics!$L58","v":40},1.7279926564339489,1.645]
["N",{"$f":"PovertyCharacteristics!$E$59/1.645","v":33.434650455927049},{"$f":"PovertyCharacteristics!$M59/1.645","v":11.550151975683891},35.37346267714566,{"$f":"PovertyCharacteristics!$D59-PovertyCharacteristics!$L59","v":55},1.5548378879949118,1.645,"Male Head of HH w/Children Below Poverty Level",null,"N",{"$f":"PovertyCharacteristics!$I$59/1.645","v":8.5106382978723403},{"$f":"PovertyCharacteristics!$M59/1.645","v":11.550151975683891},14.347019721830938,{"$f":"PovertyCharacteristics!$H59-PovertyCharacteristics!$L59","v":9},0.62730798273771649,1.645]
["N",{"$f":"PovertyCharacteristics!$E$60/1.645","v":55.319148936170215},{"$f":"PovertyCharacteristics!$M60/1.645","v":79.027355623100306},96.465181157773941,{"$f":"PovertyCharacteristics!$D60-PovertyCharacteristics!$L60","v":-29},0.30062660591046791,1.645,"Female Head of Family HH  Below Poverty Level",null,"N",{"$f":"PovertyCharacteristics!$I$60/1.645","v":75.379939209726444},{"$f":"PovertyCharacteristics!$M60/1.645","v":79.027355623100306},109.21290295584134,{"$f":"PovertyCharacteristics!$H60-PovertyCharacteristics!$L60","v":74},0.67757561604163963,1.645]
["N",{"$f":"PovertyCharacteristics!$E$61/1.645","v":52.887537993920972},{"$f":"PovertyCharacteristics!$M61/1.645","v":79.027355623100306},95.091611679676546,{"$f":"PovertyCharacteristics!$D61-PovertyCharacteristics!$L61","v":-44},0.46271168637058552,1.645,"Female Head of HH w/Children Below Poverty Level",null,"N",{"$f":"PovertyCharacteristics!$I$61/1.645","v":74.164133738601819},{"$f":"PovertyCharacteristics!$M61/1.645","v":79.027355623100306},108.37731160153946,{"$f":"PovertyCharacteristics!$H61-PovertyCharacteristics!$L61","v":62},0.57207545641978552,1.645]
["N",{"$f":"PovertyCharacteristics!$E$62/1.645","v":91.1854103343465},{"$f":"PovertyCharacteristics!$M62/1.645","v":136.77811550151975},164.38683626735514,{"$f":"PovertyCharacteristics!$D62-PovertyCharacteristics!$L62","v":25},0.15208030379841697,1.645,"Non-Family HH  Below Poverty Level",null,"N",{"$f":"PovertyCharacteristics!$I$62/1.645","v":82.066869300911847},{"$f":"PovertyCharacteristics!$M62/1.645","v":136.77811550151975},159.50932235139118,{"$f":"PovertyCharacteristics!$H62-PovertyCharacteristics!$L62","v":-15},9.4038390853142362E-2,1.645]
["N",{"$f":"PovertyCharacteristics!$E$68/1.645","v":182.97872340425531},{"$f":"PovertyCharacteristics!$M68/1.645","v":259.57446808510639},317.58481969438793,{"$f":"PovertyCharacteristics!$D68-PovertyCharacteristics!$L68","v":-206},0.64864561284205569,1.645,"Total Households At or Above Poverty Level",null,"N",{"$f":"PovertyCharacteristics!$I$68/1.645","v":260.790273556231},{"$f":"PovertyCharacteristics!$M68/1.645","v":259.57446808510639},367.95444183105019,{"$f":"PovertyCharacteristics!$H68-PovertyCharacteristics!$L68","v":-477},1.296356140250154,1.645]
["N",{"$f":"PovertyCharacteristics!$E$69/1.645","v":154.40729483282675},{"$f":"PovertyCharacteristics!$M69/1.645","v":195.13677811550153},248.83724574687358,{"$f":"PovertyCharacteristics!$D69-PovertyCharacteristics!$L69","v":-12},4.8224292002519764E-2,1.645,"Family Households At or Above Poverty Level",null,"N",{"$f":"PovertyCharacteristics!$I$69/1.645","v":171.42857142857142},{"$f":"PovertyCharacteristics!$M69/1.645","v":195.13677811550153},259.74240561629381,{"$f":"PovertyCharacteristics!$H69-PovertyCharacteristics!$L69","v":-218},0.83929306607732723,1.645]
["N",{"$f":"PovertyCharacteristics!$E$70/1.645","v":140.42553191489361},{"$f":"PovertyCharacteristics!$M70/1.645","v":190.88145896656536},236.97059182688764,{"$f":"PovertyCharacteristics!$D70-PovertyCharacteristics!$L70","v":267},1.1267220879249418,1.645,"Married Couple Fam HH At or Above Poverty Level",null,"N",{"$f":"PovertyCharacteristics!$I$70/1.645","v":172.03647416413375},{"$f":"PovertyCharacteristics!$M70/1.645","v":190.88145896656536},256.96746840802871,{"$f":"PovertyCharacteristics!$H70-PovertyCharacteristics!$L70","v":15},5.8373147748734013E-2,1.645]
["Y",{"$f":"PovertyCharacteristics!$E$71/1.645","v":114.28571428571428},{"$f":"PovertyCharacteristics!$M71/1.645","v":111.85410334346504},159.91424240688031,{"$f":"PovertyCharacteristics!$D71-PovertyCharacteristics!$L71","v":291},1.8197253454110085,1.645,"M C Fam HH w/Children At or Above Poverty Level",null,"N",{"$f":"PovertyCharacteristics!$I$71/1.645","v":122.18844984802432},{"$f":"PovertyCharacteristics!$M71/1.645","v":111.85410334346504},165.65433200201471,{"$f":"PovertyCharacteristics!$H71-PovertyCharacteristics!$L71","v":11},6.6403334383469168E-2,1.645]
["Y",{"$f":"PovertyCharacteristics!$E$72/1.645","v":27.96352583586626},{"$f":"PovertyCharacteristics!$M72/1.645","v":87.537993920972639},91.895914799741789,{"$f":"PovertyCharacteristics!$D72-PovertyCharacteristics!$L72","v":-272},2.9598704207117188,1.645,"Male Head of Family HH  At or Above Poverty Level",null,"N",{"$f":"PovertyCharacteristics!$I$72/1.645","v":52.27963525835866},{"$f":"PovertyCharacteristics!$M72/1.645","v":87.537993920972639},101.9610741531064,{"$f":"PovertyCharacteristics!$H72-PovertyCharacteristics!$L72","v":-145},1.422111342042804,1.645]
["Y",{"$f":"PovertyCharacteristics!$E$73/1.645","v":23.100303951367781},{"$f":"PovertyCharacteristics!$M73/1.645","v":69.908814589665653},73.62653326062437,{"$f":"PovertyCharacteristics!$D73-PovertyCharacteristics!$L73","v":-163},2.2138757969631682,1.645,"Male Head of HH w/Children At or Above Poverty Level",null,"N",{"$f":"PovertyCharacteristics!$I$73/1.645","v":52.27963525835866},{"$f":"PovertyCharacteristics!$M73/1.645","v":69.908814589665653},87.294917492825817,{"$f":"PovertyCharacteristics!$H73-PovertyCharacteristics!$L73","v":-114},1.3059179534635439,1.645]
["N",{"$f":"PovertyCharacteristics!$E$74/1.645","v":125.83586626139818},{"$f":"PovertyCharacteristics!$M74/1.645","v":131.30699088145897},181.8686094192729,{"$f":"PovertyCharacteristics!$D74-PovertyCharacteristics!$L74","v":-7},3.8489324916222728E-2,1.645,"Female Head of Family HH  At or Above Poverty Level",null,"N",{"$f":"PovertyCharacteristics!$I$74/1.645","v":116.71732522796353},{"$f":"PovertyCharacteristics!$M74/1.645","v":131.30699088145897},175.68283883952284,{"$f":"PovertyCharacteristics!$H74-PovertyCharacteristics!$L74","v":-88},0.50090265265114164,1.645]
["N",{"$f":"PovertyCharacteristics!$E$75/1.645","v":105.16717325227964},{"$f":"PovertyCharacteristics!$M75/1.645","v":101.51975683890578},146.17248495700397,{"$f":"PovertyCharacteristics!$D75-PovertyCharacteristics!$L75","v":40},0.27364931239806062,1.645,"Female Head of HH w/Children At or Above Poverty Level",null,"N",{"$f":"PovertyCharacteristics!$I$75/1.645","v":75.379939209726444},{"$f":"PovertyCharacteristics!$M75/1.645","v":101.51975683890578},126.44523029316927,{"$f":"PovertyCharacteristics!$H75-PovertyCharacteristics!$L75","v":-21},0.16607981140380307,1.645]
["N",{"$f":"PovertyCharacteristics!$E$76/1.645","v":162.31003039513678},{"$f":"PovertyCharacteristics!$M76/1.645","v":224.31610942249239},276.87950973900871,{"$f":"PovertyCharacteristics!$D76-PovertyCharacteristics!$L76","v":-194},0.70066578846108063,1.645,"Non-Family HH  At or Above Poverty Level",null,"N",{"$f":"PovertyCharacteristics!$I$76/1.645","v":187.2340425531915},{"$f":"PovertyCharacteristics!$M76/1.645","v":224.31610942249239},292.18881504474791,{"$f":"PovertyCharacteristics!$H76-PovertyCharacteristics!$L76","v":-259},0.88641312283064244,1.645]
["Y",{"$f":"PovertyCharacteristics!$E24/1.645","v":275.98784194528878},{"$f":"PovertyCharacteristics!M24/1.645","v":325.83586626139817},427.01089054488233,{"$f":"PovertyCharacteristics!H24-PovertyCharacteristics!L24","v":883},2.0678629504583781,1.645,"Total Individuals Living in Poverty",null,{"$f":"IF(O112>P112,\"Y\",\"N\")","v":"N"},{"$f":"PovertyCharacteristics!$I24/1.645","v":445.59270516717322},{"$f":"PovertyCharacteristics!$M24/1.645","v":325.83586626139817},552.0161869370454,{"$f":"PovertyCharacteristics!$H24-PovertyCharacteristics!$L24","v":883},1.5995907745015121,1.645]
["Y",{"$f":"PovertyCharacteristics!$E25/1.645","v":37.498286962410056},{"$f":"PovertyCharacteristics!M25/1.645","v":52.873561371585488},64.820791550474524,{"$f":"PovertyCharacteristics!H25-PovertyCharacteristics!L25","v":137},2.1135193928219946,1.645,"Individuals Under 5 yrs. Living in Poverty",null,"N",{"$f":"PovertyCharacteristics!$I25/1.645","v":90.921604210306413},{"$f":"PovertyCharacteristics!$M25/1.645","v":52.873561371585488},105.1777143899335,{"$f":"PovertyCharacteristics!$H25-PovertyCharacteristics!$L25","v":137},1.3025573030812332,1.645]
["N",{"$f":"PovertyCharacteristics!$E26/1.645","v":144.17038501692483},{"$f":"PovertyCharacteristics!M26/1.645","v":129.70427934844733},193.92859509940354,{"$f":"PovertyCharacteristics!H26-PovertyCharacteristics!L26","v":260},1.3406996521927554,1.645,"Individuals 5 to 17 yrs. Living in Poverty",null,"N",{"$f":"PovertyCharacteristics!$I26/1.645","v":131.91069145744908},{"$f":"PovertyCharacteristics!$M26/1.645","v":129.70427934844733},184.99629888752472,{"$f":"PovertyCharacteristics!$H26-PovertyCharacteristics!$L26","v":260},1.4054335225272616,1.645]
["Y",{"$f":"PovertyCharacteristics!$E27/1.645","v":158.444690737531},{"$f":"PovertyCharacteristics!M27/1.645","v":174.19251083026796},235.47346103598355,{"$f":"PovertyCharacteristics!H27-PovertyCharacteristics!L27","v":580},2.463122584805292,1.645,"Individuals 18 to 64 yrs. Living in Poverty",null,"Y",{"$f":"PovertyCharacteristics!$I27/1.645","v":173.86230789186837},{"$f":"PovertyCharacteristics!$M27/1.645","v":174.19251083026796},246.11203329955214,{"$f":"PovertyCharacteristics!$H27-PovertyCharacteristics!$L27","v":580},2.3566503117466846,1.645]
["N",{"$f":"PovertyCharacteristics!$E28/1.645","v":34.177976405764369},{"$f":"PovertyCharacteristics!M28/1.645","v":83.674449579545083},90.385549639490591,{"$f":"PovertyCharacteristics!H28-PovertyCharacteristics!L28","v":-142},1.5710475907529184,1.645,"Individuals 65 to 74 yrs. Living in Poverty",null,"N",{"$f":"PovertyCharacteristics!$I28/1.645","v":29.191993200104484},{"$f":"PovertyCharacteristics!$M28/1.645","v":83.674449579545083},88.620460275462221,{"$f":"PovertyCharacteristics!$H28-PovertyCharacteristics!$L28","v":-142},1.6023387777339024,1.645]
["N",{"$f":"PovertyCharacteristics!$E29/1.645","v":37.596707832379884},{"$f":"PovertyCharacteristics!M29/1.645","v":19.575978344200141},42.387868169629947,{"$f":"PovertyCharacteristics!H29-PovertyCharacteristics!L29","v":48},1.1323994829820443,1.645,"Individuals 75 yrs. & Over Living in Poverty",null,"N",{"$f":"PovertyCharacteristics!$I29/1.645","v":32.121203194219831},{"$f":"PovertyCharacteristics!$M29/1.645","v":19.575978344200141},37.616361104936125,{"$f":"PovertyCharacteristics!$H29-PovertyCharacteristics!$L29","v":48},1.276040493818561,1.645]
[null,null,null,null,null,null,null,"Under 5",null,"N",{"$f":"DisabilityByAgePrior5YearEst!$E$31/1.645","v":130.68636398089023},{"$f":"DisabilityByAge!$E$31/1.645","v":116.49706928107477},{"$f":"SQRT((K118^2)+(L118^2))","v":175.07282165323451},{"$f":"DisabilityByAge!$D$31-DisabilityByAgePrior5YearEst!$D$31","v":-187},1.0681269555955952,1.645]
[null,null,null,null,null,null,null,"5 to 17",null,"N",{"$f":"DisabilityByAgePrior5YearEst!$F$31/1.645","v":1319.1489361702127},{"$f":"DisabilityByAge!$F$31/1.645","v":1440.1215805471124},{"$f":"SQRT((K119^2)+(L119^2))","v":1952.9731392306749},{"$f":"DisabilityByAge!$D$31-DisabilityByAgePrior5YearEst!$D$31","v":-187},9.5751444934702987E-2,1.645]
[null,null,null,null,null,null,null,"18 to 34",null,"N",{"$f":"DisabilityByAgePrior5YearEst!$I$31/1.645","v":196.62341227097906},{"$f":"DisabilityByAge!$I$31/1.645","v":238.99933974532834},309.48578424830163,{"$f":"DisabilityByAge!$D$31-DisabilityByAgePrior5YearEst!$D$31","v":-187},0.6042280761108213,1.645]
[null,null,null,null,null,null,null,"35 to 64",null,"N",{"$f":"DisabilityByAgePrior5YearEst!$K$31/1.645","v":218.12190575221572},{"$f":"DisabilityByAge!$K$31/1.645","v":253.22706340322762},334.21716205006697,{"$f":"DisabilityByAge!$D$31-DisabilityByAgePrior5YearEst!$D$31","v":-187},0.5595164498823274,1.645]
[null,null,null,null,null,null,null,"65 to 74",null,"N",{"$f":"DisabilityByAgePrior5YearEst!$M$31/1.645","v":108.4523014156775},{"$f":"DisabilityByAge!$M$31/1.645","v":183.97671875248776},213.56342085031542,{"$f":"DisabilityByAge!$D$31-DisabilityByAgePrior5YearEst!$D$31","v":-187},0.87561811500981024,1.645]
[null,null,null,null,null,null,null,"75 and Over",null,"N",{"$f":"DisabilityByAgePrior5YearEst!$O$31/1.645","v":98.209692531328344},{"$f":"DisabilityByAge!$O$31/1.645","v":117.52506722037273},153.15771326397891,{"$f":"DisabilityByAge!$D$31-DisabilityByAgePrior5YearEst!$D$31","v":-187},1.220963646001239,1.645]
[null,null,null,null,null,null,null,"With a Disability -Under 5",null,"Y",{"$f":"DisabilityByAgePrior5YearEst!$E$33/1.645","v":14.614972985010708},{"$f":"DisabilityByAge!$E$33/1.645","v":25.284661815301426},29.204649603560643,{"$f":"DisabilityByAge!$D$31-DisabilityByAgePrior5YearEst!$D$31","v":-187},6.4030900058188296,1.645]
[null,null,null,null,null,null,null,"With a Disability -5 to 17",null,"N",{"$f":"DisabilityByAgePrior5YearEst!$F$33/1.645","v":163.52583586626139},{"$f":"DisabilityByAge!$F$33/1.645","v":122.79635258358662},204.49851638481874,{"$f":"DisabilityByAge!$D$31-DisabilityByAgePrior5YearEst!$D$31","v":-187},0.91443206193295512,1.645]
[null,null,null,null,null,null,null,"With a Disability -18 to 34",null,"N",{"$f":"DisabilityByAgePrior5YearEst!$I$33/1.645","v":83.925810847038633},{"$f":"DisabilityByAge!$I$33/1.645","v":124.87038392164604},150.45316383204502,{"$f":"DisabilityByAge!$D$31-DisabilityByAgePrior5YearEst!$D$31","v":-187},1.2429117157599505,1.645]
[null,null,null,null,null,null,null,"With a Disability -35 to 64",null,"N",{"$f":"DisabilityByAgePrior5YearEst!$K$33/1.645","v":125.10543774252194},{"$f":"DisabilityByAge!$K$33/1.645","v":183.76870537607815},222.31128542732114,{"$f":"DisabilityByAge!$D$31-DisabilityByAgePrior5YearEst!$D$31","v":-187},{"$f":"ABS((N127/M127))","v":0.84116287502253129},1.645]
[null,null,null,null,null,null,null,"With a Disability -65 to 74",null,"N",{"$f":"DisabilityByAgePrior5YearEst!$M$33/1.645","v":53.447062955217667},{"$f":"DisabilityByAge!$M$33/1.645","v":142.41540706455467},152.11422256942907,{"$f":"DisabilityByAge!$D$31-DisabilityByAgePrior5YearEst!$D$31","v":-187},1.2293393532918864,1.645]
[null,null,null,null,null,null,null,"With a Disability -75 and Over",null,"N",{"$f":"DisabilityByAgePrior5YearEst!$O$33/1.645","v":74.258746765358055},{"$f":"DisabilityByAge!$O$33/1.645","v":104.44611109988828},128.15362497819476,{"$f":"DisabilityByAge!$D$31-DisabilityByAgePrior5YearEst!$D$31","v":-187},1.4591861918210891,1.645]
[null,null,null,null,null,null,null,"Hearing Disability - Under 5",null,"Y",{"$f":"DisabilityByAgePrior5YearEst!$E$38/1.645","v":14.614972985010708},{"$f":"DisabilityByAge!$E$38/1.645","v":25.284661815301426},29.204649603560643,{"$f":"DisabilityByAge!$D$31-DisabilityByAgePrior5YearEst!$D$31","v":-187},6.4030900058188296,1.645]
[null,null,null,null,null,null,null,"Hearing Disability - 5 to 17",null,"Y",{"$f":"DisabilityByAgePrior5YearEst!$F$38/1.645","v":4.86322188449848},{"$f":"DisabilityByAge!$F$38/1.645","v":0},4.86322188449848,{"$f":"DisabilityByAge!$D$31-DisabilityByAgePrior5YearEst!$D$31","v":-187},38.451875000000001,1.645]
[null,null,null,null,null,null,null,"Hearing Disability - 18 to 34",null,"Y",{"$f":"DisabilityByAgePrior5YearEst!$I$38/1.645","v":32.264691816937628},{"$f":"DisabilityByAge!$I$38/1.645","v":70.856533700101679},77.856654860298278,{"$f":"DisabilityByAge!$D$31-DisabilityByAgePrior5YearEst!$D$31","v":-187},2.4018499168188328,1.645]
[null,null,null,null,null,null,null,"Hearing Disability - 35 to 64",null,"N",{"$f":"DisabilityByAgePrior5YearEst!$K$38/1.645","v":45.560272152101476},{"$f":"DisabilityByAge!$K$38/1.645","v":117.93939757109082},126.43353945059584,{"$f":"DisabilityByAge!$D$31-DisabilityByAgePrior5YearEst!$D$31","v":-187},1.4790379262701145,1.645]
[null,null,null,null,null,null,null,"Hearing Disability - 65 to 74",null,"Y",{"$f":"DisabilityByAgePrior5YearEst!$M$38/1.645","v":37.636004114684759},{"$f":"DisabilityByAge!$M$38/1.645","v":101.43417756872218},108.19131751098898,{"$f":"DisabilityByAge!$D$31-DisabilityByAgePrior5YearEst!$D$31","v":-187},1.7284196578991324,1.645]
[null,null,null,null,null,null,null,"Hearing Disability - 75 and Over",null,"Y",{"$f":"DisabilityByAgePrior5YearEst!$O$38/1.645","v":48.483816125447817},{"$f":"DisabilityByAge!$O$38/1.645","v":89.990139774329265},102.21988888024458,{"$f":"DisabilityByAge!$D$31-DisabilityByAgePrior5YearEst!$D$31","v":-187},1.8293895840473795,1.645]
[null,null,null,null,null,null,null,"Visual Disability - Under 5",null,"Y",{"$f":"DisabilityByAgePrior5YearEst!$E$39/1.645","v":14.614972985010708},{"$f":"DisabilityByAge!$E$39/1.645","v":16.334381571482556},21.91824483564735,{"$f":"DisabilityByAge!$D$31-DisabilityByAgePrior5YearEst!$D$31","v":-187},8.5317050430911934,1.645]
[null,null,null,null,null,null,null,"Visual Disability - 5 to 17",null,"Y",{"$f":"DisabilityByAgePrior5YearEst!$F$39/1.645","v":12.1580547112462},{"$f":"DisabilityByAge!$F$39/1.645","v":38.90577507598784},40.761227025508106,{"$f":"DisabilityByAge!$D$31-DisabilityByAgePrior5YearEst!$D$31","v":-187},4.5876931006757138,1.645]
[null,null,null,null,null,null,null,"Visual Disability - 18 to 34",null,"Y",{"$f":"DisabilityByAgePrior5YearEst!$I$39/1.645","v":12.309092237882423},{"$f":"DisabilityByAge!$I$39/1.645","v":35.373462677145667},37.453913193311521,{"$f":"DisabilityByAge!$D$31-DisabilityByAgePrior5YearEst!$D$31","v":-187},4.9928027289120287,1.645]
[null,null,null,null,null,null,null,"Visual Disability - 35 to 64",null,"Y",{"$f":"DisabilityByAgePrior5YearEst!$K$39/1.645","v":44.74180652804182},{"$f":"DisabilityByAge!$K$39/1.645","v":81.315938490143324},{"$f":"SQRT((K140^2)+(L140^2))","v":81.272753635831691},{"$f":"DisabilityByAge!$D$31-DisabilityByAgePrior5YearEst!$D$31","v":-187},{"$f":"ABS((N140/M140))","v":2.3008941082261432},1.645]
[null,null,null,null,null,null,null,"Visual Disability - 65 to 74",null,"Y",{"$f":"DisabilityByAgePrior5YearEst!$M$39/1.645","v":22.027563443153117},{"$f":"DisabilityByAge!$M$39/1.645","v":78.230728823835321},81.272753635831691,{"$f":"DisabilityByAge!$D$31-DisabilityByAgePrior5YearEst!$D$31","v":-187},2.3008941082261432,1.645]
[null,null,null,null,null,null,null,"Visual Disability - 75 and Over",null,"Y",{"$f":"DisabilityByAgePrior5YearEst!$O$39/1.645","v":48.41898541456505},{"$f":"DisabilityByAge!$O$39/1.645","v":67.47994189246765},83.053842213269547,{"$f":"DisabilityByAge!$D$31-DisabilityByAgePrior5YearEst!$D$31","v":-187},2.2515514636856011,1.645]
[null,null,null,null,null,null,null,"Cognative Disability - 5 to 17",null,"N",{"$f":"DisabilityByAgePrior5YearEst!$F$40/1.645","v":158.66261398176292},{"$f":"DisabilityByAge!$F$40/1.645","v":42.553191489361701},164.26989736849598,{"$f":"DisabilityByAge!$D$31-DisabilityByAgePrior5YearEst!$D$31","v":-187},1.1383704683306344,1.645]
[null,null,null,null,null,null,null,"Cognative Disability - 18 to 34",null,"Y",{"$f":"DisabilityByAgePrior5YearEst!$I$40/1.645","v":64.680965331160351},{"$f":"DisabilityByAge!$I$40/1.645","v":77.492697774966331},100.93931585171875,{"$f":"DisabilityByAge!$D$31-DisabilityByAgePrior5YearEst!$D$31","v":-187},1.8525982509600678,1.645]
[null,null,null,null,null,null,null,"Cognative Disability - 35 to 64",null,{"$f":"IF(O144>P144,\"Y\",\"N\")","v":"Y"},{"$f":"DisabilityByAgePrior5YearEst!$K$40/1.645","v":83.833291748713606},{"$f":"DisabilityByAge!$K$40/1.645","v":135.64951466140539},{"$f":"SQRT((K145^2)+(L145^2))","v":89.146402342542842},{"$f":"DisabilityByAge!$D$31-DisabilityByAgePrior5YearEst!$D$31","v":-187},{"$f":"ABS((N145/M145))","v":2.0976729860780825},1.645]
[null,null,null,null,null,null,null,"Cognative Disability - 65 to 74",null,"Y",{"$f":"DisabilityByAgePrior5YearEst!$M$40/1.645","v":25.064471888253255},{"$f":"DisabilityByAge!$M$40/1.645","v":85.550296899435068},{"$f":"SQRT((K145^2)+(L145^2))","v":89.146402342542842},{"$f":"DisabilityByAge!$D$31-DisabilityByAgePrior5YearEst!$D$31","v":-187},{"$f":"ABS((N145/M145))","v":2.0976729860780825},1.645]
[null,null,null,null,null,null,null,"Cognative Disability - 75 and Over",null,"Y",{"$f":"DisabilityByAgePrior5YearEst!$O$40/1.645","v":38.848742391903848},{"$f":"DisabilityByAge!$O$40/1.645","v":50.176838269413757},{"$f":"SQRT((K146^2)+(L146^2))","v":63.45817428942793},{"$f":"DisabilityByAge!$D$31-DisabilityByAgePrior5YearEst!$D$31","v":-187},{"$f":"ABS((N146/M146))","v":2.9468228812746355},1.645]
[null,null,null,null,null,null,null,"Amblatory Disability - 5 to 17",null,{"$error":"#DIV/0!"},{"$f":"DisabilityByAgePrior5YearEst!$F$41/1.645","v":0},{"$f":"DisabilityByAge!$F$41/1.645","v":0},{"$f":"SQRT((K147^2)+(L147^2))","v":0},{"$f":"DisabilityByAge!$D$31-DisabilityByAgePrior5YearEst!$D$31","v":-187},{"$f":"ABS((N147/M147))","v":{"$error":"#DIV/0!"}},1.645]
[null,null,null,null,null,null,null,"Amblatory Disability - 18 to 34",null,"Y",{"$f":"DisabilityByAgePrior5YearEst!$I$41/1.645","v":62.764301515575958},{"$f":"DisabilityByAge!$I$41/1.645","v":57.107277288923811},{"$f":"SQRT((K148^2)+(L148^2))","v":84.856341331052946},{"$f":"DisabilityByAge!$D$31-DisabilityByAgePrior5YearEst!$D$31","v":-187},{"$f":"ABS((N148/M148))","v":2.2037245191900334},1.645]
[null,null,null,null,null,null,null,"Amblatory Disability - 35 to 64",null,"Y",{"$f":"DisabilityByAgePrior5YearEst!$K$41/1.645","v":89.044782607175947},{"$f":"DisabilityByAge!$K$41/1.645","v":110.66000655456099},{"$f":"SQRT((K150^2)+(L150^2))","v":68.706456977779609},{"$f":"DisabilityByAge!$D$31-DisabilityByAgePrior5YearEst!$D$31","v":-187},{"$f":"ABS((N150/M150))","v":2.72172381207894},1.645]
[null,null,null,null,null,null,null,"Amblatory Disability - 65 to 74",null,"Y",{"$f":"DisabilityByAgePrior5YearEst!$M$41/1.645","v":44.873764216317511},{"$f":"DisabilityByAge!$M$41/1.645","v":52.028093521652551},{"$f":"SQRT((K150^2)+(L150^2))","v":68.706456977779609},{"$f":"DisabilityByAge!$D$31-DisabilityByAgePrior5YearEst!$D$31","v":-187},{"$f":"ABS((N150/M150))","v":2.72172381207894},1.645]
[null,null,null,null,null,null,null,"Amblatory Disability - 75 and Over",null,"Y",{"$f":"DisabilityByAgePrior5YearEst!$O$41/1.645","v":64.463491995408162},{"$f":"DisabilityByAge!$O$41/1.645","v":47.688410109313523},{"$f":"SQRT((K151^2)+(L151^2))","v":80.185573883312259},{"$f":"DisabilityByAge!$D$31-DisabilityByAgePrior5YearEst!$D$31","v":-187},{"$f":"ABS((N151/M151))","v":2.3320903118075371},1.645]
[null,null,null,null,null,null,null,"Self Care Disability - 5 to 17",null,"Y",{"$f":"DisabilityByAgePrior5YearEst!$F$42/1.645","v":13.373860182370821},{"$f":"DisabilityByAge!$F$42/1.645","v":20.668693009118542},{"$f":"SQRT((K152^2)+(L152^2))","v":24.618184475764849},{"$f":"DisabilityByAge!$D$31-DisabilityByAgePrior5YearEst!$D$31","v":-187},{"$f":"ABS((N152/M152))","v":7.596010996834087},1.645]
[null,null,null,null,null,null,null,"Self Care Disability - 18 to 34",null,"Y",{"$f":"DisabilityByAgePrior5YearEst!$I$42/1.645","v":26.981569630604433},{"$f":"DisabilityByAge!$I$42/1.645","v":15.910337177267357},{"$f":"SQRT((K153^2)+(L153^2))","v":31.323217089333134},{"$f":"DisabilityByAge!$D$31-DisabilityByAgePrior5YearEst!$D$31","v":-187},{"$f":"ABS((N153/M153))","v":5.9700125777847166},1.645]
[null,null,null,null,null,null,null,"Self Care Disability - 35 to 64",null,"Y",{"$f":"DisabilityByAgePrior5YearEst!$K$42/1.645","v":51.939232494331492},{"$f":"DisabilityByAge!$K$42/1.645","v":64.815090262671561},{"$f":"SQRT((K155^2)+(L155^2))","v":29.756202432876396},{"$f":"DisabilityByAge!$D$31-DisabilityByAgePrior5YearEst!$D$31","v":-187},{"$f":"ABS((N155/M155))","v":6.2844040808578265},1.645]
[null,null,null,null,null,null,null,"Self Care Disability - 65 to 74",null,"Y",{"$f":"DisabilityByAgePrior5YearEst!$M$42/1.645","v":22.36883828933021},{"$f":"DisabilityByAge!$M$42/1.645","v":19.623115369688723},{"$f":"SQRT((K155^2)+(L155^2))","v":29.756202432876396},{"$f":"DisabilityByAge!$D$31-DisabilityByAgePrior5YearEst!$D$31","v":-187},{"$f":"ABS((N155/M155))","v":6.2844040808578265},1.645]
[null,null,null,null,null,null,null,"Self Care Disability - 75 and Over",null,"Y",{"$f":"DisabilityByAgePrior5YearEst!$O$42/1.645","v":28.311564795610984},{"$f":"DisabilityByAge!$O$42/1.645","v":73.566278295942965},{"$f":"SQRT((K156^2)+(L156^2))","v":78.826023643795509},{"$f":"DisabilityByAge!$D$31-DisabilityByAgePrior5YearEst!$D$31","v":-187},{"$f":"ABS((N156/M156))","v":2.3723129920269548},1.645]
[null,null,null,null,null,null,null,"Independant Living Disability - 18 to 34",null,"Y",{"$f":"DisabilityByAgePrior5YearEst!$I$43/1.645","v":45.499397935961653},{"$f":"DisabilityByAge!$I$43/1.645","v":77.098269513771115},{"$f":"SQRT((K157^2)+(L157^2))","v":89.522837167691904},{"$f":"DisabilityByAge!$D$31-DisabilityByAgePrior5YearEst!$D$31","v":-187},{"$f":"ABS((N157/M157))","v":2.0888524751479487},1.645]
[null,null,null,null,null,null,null,"Independant Living Disability - 35 to 64",null,"Y",{"$f":"DisabilityByAgePrior5YearEst!$K$43/1.645","v":86.808851199386453},{"$f":"DisabilityByAge!$K$43/1.645","v":84.29048771061295},{"$f":"SQRT((K159^2)+(L159^2))","v":104.93676113960997},{"$f":"DisabilityByAge!$D$31-DisabilityByAgePrior5YearEst!$D$31","v":-187},{"$f":"ABS((N159/M159))","v":1.7820256502029013},1.645]
[null,null,null,null,null,null,null,"Independant Living Disability - 65 to 74",null,"Y",{"$f":"DisabilityByAgePrior5YearEst!$M$43/1.645","v":33.764605658355784},{"$f":"DisabilityByAge!$M$43/1.645","v":99.356304496530498},{"$f":"SQRT((K159^2)+(L159^2))","v":104.93676113960997},{"$f":"DisabilityByAge!$D$31-DisabilityByAgePrior5YearEst!$D$31","v":-187},{"$f":"ABS((N159/M159))","v":1.7820256502029013},1.645]
[null,null,null,null,null,null,null,"Independant Living Disability - 75 and Over",null,"Y",{"$f":"DisabilityByAgePrior5YearEst!$O$43/1.645","v":58.825387980075106},{"$f":"DisabilityByAge!$O$43/1.645","v":74.640950653718306},{"$f":"SQRT((K160^2)+(L160^2))","v":95.03524496468232},{"$f":"DisabilityByAge!$D$31-DisabilityByAgePrior5YearEst!$D$31","v":-187},1.9676910399872625,1.645]
[null,null,null,null,null,null,null,"No Disability - Under 5",null,"N",{"$f":"DisabilityByAgePrior5YearEst!$E$47/1.645","v":130.68636398089023},{"$f":"DisabilityByAge!$E$47/1.645","v":116.87236410070952},{"$f":"SQRT((K161^2)+(L161^2))","v":175.32277439350125},{"$f":"DisabilityByAge!$D$47-DisabilityByAgePrior5YearEst!$D$47","v":-214},1.2206058268259552,1.645]
[null,null,null,null,null,null,null,"No Disability - 5 to 17",null,"N",{"$f":"DisabilityByAgePrior5YearEst!$F$47/1.645","v":1155.6231003039513},{"$f":"DisabilityByAge!$F$47/1.645","v":1317.3252279635258},{"$f":"SQRT((K162^2)+(L162^2))","v":1752.3728216864331},{"$f":"DisabilityByAge!$D$47-DisabilityByAgePrior5YearEst!$D$47","v":-214},0.12212013183019614,1.645]
[null,null,null,null,null,null,null,"No Disability - 18 to 34",null,"N",{"$f":"DisabilityByAgePrior5YearEst!$I$47/1.645","v":216.54481852234727},{"$f":"DisabilityByAge!$I$47/1.645","v":244.30732878354146},326.46244703828609,{"$f":"DisabilityByAge!$D$47-DisabilityByAgePrior5YearEst!$D$47","v":-214},0.65551184199419732,1.645]
[null,null,null,null,null,null,null,"No Disability - 35 to 64",null,"N",{"$f":"DisabilityByAgePrior5YearEst!$K$47/1.645","v":210.00818043942854},{"$f":"DisabilityByAge!$K$47/1.645","v":265.69870175202487},338.67275645405999,{"$f":"DisabilityByAge!$D$47-DisabilityByAgePrior5YearEst!$D$47","v":-214},0.63187840155967345,1.645]
[null,null,null,null,null,null,null,"No Disability - 65 to 74",null,{"$f":"IF(O165>P165,\"Y\",\"N\")","v":"N"},{"$f":"DisabilityByAgePrior5YearEst!$M$47/1.645","v":102.61859134837296},{"$f":"DisabilityByAge!$M$47/1.645","v":160.81871261532729},190.770106718992,{"$f":"DisabilityByAge!$D$47-DisabilityByAgePrior5YearEst!$D$47","v":-214},1.1217690427527311,1.645]
[null,null,null,null,null,null,null,"No Disability - 75 and Over",null,"Y",{"$f":"DisabilityByAgePrior5YearEst!$O$47/1.645","v":78.400600924314077},{"$f":"DisabilityByAge!$O$47/1.645","v":60.705107515233692},99.15525353570348,{"$f":"DisabilityByAge!$D$47-DisabilityByAgePrior5YearEst!$D$47","v":-214},{"$f":"ABS((N166/M166))","v":2.1582315850056659},1.645]
[{"$f":"IF(F167>G167,\"Y\",\"N\")","v":"N"},null,null,null,null,null,null,"Renter Total:",null,"N",{"$f":"'RentalHousingCost-Prior5Yr'!$F$52/1.645","v":153.79939209726444},{"$f":"RentalHousingCost!$F$52/1.645","v":253.49544072948328},296.50327397875907,{"$f":"'RentalHousingCost-Prior5Yr'!$E$52-RentalHousingCost!$E$52","v":220},{"$f":"ABS((N167/M167))","v":0.7419816889298847},1.645]
["N",null,null,null,null,null,null,"Renter Less than 20.0 percent",null,"N",{"$f":"'RentalHousingCost-Prior5Yr'!$F$53/1.645","v":135.20336302116962},{"$f":"RentalHousingCost!$F$53/1.645","v":142.26612530653188},196.26410721771825,{"$f":"'RentalHousingCost-Prior5Yr'!$E$53-RentalHousingCost!$E$53","v":108},0.5502789151365014,1.645]
["N",null,null,null,null,null,null,"Renter 20.0 to 24.9 percent",null,"N",{"$f":"'RentalHousingCost-Prior5Yr'!$F$54/1.645","v":91.1854103343465},{"$f":"RentalHousingCost!$F$54/1.645","v":102.73556231003039},137.36584299235849,{"$f":"'RentalHousingCost-Prior5Yr'!$E$54-RentalHousingCost!$E$54","v":-68},0.49502844752885738,1.645]
["N",null,null,null,null,null,null,"Renter 25.0 to 29.9 percent",null,"N",{"$f":"'RentalHousingCost-Prior5Yr'!$F$55/1.645","v":100.30395136778115},{"$f":"RentalHousingCost!$F$55/1.645","v":100.91185410334346},142.28170985254809,{"$f":"'RentalHousingCost-Prior5Yr'!$E$55-RentalHousingCost!$E$55","v":72},0.50603833812944976,1.645]
["N",null,null,null,null,null,null,"Renter 30.0 to 34.9 percent",null,"N",{"$f":"'RentalHousingCost-Prior5Yr'!$F$56/1.645","v":191.45655144201135},{"$f":"RentalHousingCost!$F$56/1.645","v":202.4288726231178},278.62709767991697,{"$f":"'RentalHousingCost-Prior5Yr'!$E$56-RentalHousingCost!$E$56","v":112},0.40197095305017344,1.645]
["N",null,null,null,null,null,null,"Renter 35.0 to 39.9 percent",null,"N",{"$f":"'RentalHousingCost-Prior5Yr'!$F$57/1.645","v":155.98125579843483},{"$f":"RentalHousingCost!$F$57/1.645","v":198.44463157487721},252.40923905702326,{"$f":"'RentalHousingCost-Prior5Yr'!$E$57-RentalHousingCost!$E$57","v":39},0.15451098440651484,1.645]
["N",null,null,null,null,null,null,"Renter 40.0 to 49.9 percent",null,"N",{"$f":"'RentalHousingCost-Prior5Yr'!$F$58/1.645","v":34.042553191489361},{"$f":"RentalHousingCost!$F$58/1.645","v":69.908814589665653},77.756914709417529,{"$f":"'RentalHousingCost-Prior5Yr'!$E$58-RentalHousingCost!$E$58","v":-102},1.3117804426934943,1.645]
["N",null,null,null,null,null,null,"Renter 50.0 percent or more",null,"N",{"$f":"'RentalHousingCost-Prior5Yr'!$F$59/1.645","v":194.45952411199335},{"$f":"RentalHousingCost!$F$59/1.645","v":214.16043245380015},289.27356835124363,{"$f":"'RentalHousingCost-Prior5Yr'!$E$59-RentalHousingCost!$E$59","v":10},3.4569352661553011E-2,1.645]
["N",null,null,null,null,null,null,"Renter Not computed",null,"N",{"$f":"'RentalHousingCost-Prior5Yr'!$F$60/1.645","v":152.22107847686988},{"$f":"RentalHousingCost!$F$60/1.645","v":185.72299115499004},{"$f":"SQRT((K175^2)+(L175^2))","v":240.13389218562608},{"$f":"'RentalHousingCost-Prior5Yr'!$E$60-RentalHousingCost!$E$60","v":141},0.58717242583568952,1.645]
["N",null,null,null,null,null,null,"Renter Less than $10,000:",null,"N",{"$f":"'RentalHousingCost-Prior5Yr'!$I$52/1.645","v":66.869300911854097},{"$f":"RentalHousingCost!$I$52/1.645","v":86.930091185410333},{"$f":"SQRT((K176^2)+(L176^2))","v":109.67380798506017},{"$f":"'RentalHousingCost-Prior5Yr'!$H$52-RentalHousingCost!$H$52","v":102},0.9300306232997263,1.645]
["N",null,null,null,null,null,null,"Renter Less than 20.0 percent",null,"N",{"$f":"'RentalHousingCost-Prior5Yr'!$I$53/1.645","v":10.334346504559271},{"$f":"RentalHousingCost!$I$53/1.645","v":11.550151975683891},15.498539554993267,{"$f":"'RentalHousingCost-Prior5Yr'!$H$53-RentalHousingCost!$H$53","v":0},0,1.645]
["N",null,null,null,null,null,null,"Renter 20.0 to 24.9 percent",null,"N",{"$f":"'RentalHousingCost-Prior5Yr'!$I$54/1.645","v":15.19756838905775},{"$f":"RentalHousingCost!$I$54/1.645","v":11.550151975683891},19.088533091924113,{"$f":"'RentalHousingCost-Prior5Yr'!$H$54-RentalHousingCost!$H$54","v":16},0.83819955797280232,1.645]
["N",null,null,null,null,null,null,"Renter 25.0 to 29.9 percent",null,"N",{"$f":"'RentalHousingCost-Prior5Yr'!$I$55/1.645","v":16.413373860182372},{"$f":"RentalHousingCost!$I$55/1.645","v":11.550151975683891},20.069998807561312,{"$f":"'RentalHousingCost-Prior5Yr'!$H$55-RentalHousingCost!$H$55","v":30},1.4947683997219565,1.645]
["N",null,null,null,null,null,null,"Renter 30.0 to 34.9 percent",null,"N",{"$f":"'RentalHousingCost-Prior5Yr'!$I$56/1.645","v":24.640690820074461},{"$f":"RentalHousingCost!$I$56/1.645","v":20.005450057026547},31.739276552478088,{"$f":"'RentalHousingCost-Prior5Yr'!$H$56-RentalHousingCost!$H$56","v":46},1.4493083963001825,1.645]
["N",null,null,null,null,null,null,"Renter 35.0 to 39.9 percent",null,"N",{"$f":"'RentalHousingCost-Prior5Yr'!$I$57/1.645","v":47.850866028339034},{"$f":"RentalHousingCost!$I$57/1.645","v":83.879564053939376},96.568559301363564,{"$f":"'RentalHousingCost-Prior5Yr'!$H$57-RentalHousingCost!$H$57","v":-31},0.32101545497078027,1.645]
["N",null,null,null,null,null,null,"Renter 40.0 to 49.9 percent",null,"N",{"$f":"'RentalHousingCost-Prior5Yr'!$I$58/1.645","v":10.334346504559271},{"$f":"RentalHousingCost!$I$58/1.645","v":11.550151975683891},15.498539554993267,{"$f":"'RentalHousingCost-Prior5Yr'!$H$58-RentalHousingCost!$H$58","v":0},0,1.645]
["N",null,null,null,null,null,null,"Renter 50.0 percent or more",null,"N",{"$f":"'RentalHousingCost-Prior5Yr'!$I$59/1.645","v":26.720074134754906},{"$f":"RentalHousingCost!$I$59/1.645","v":23.100303951367781},35.321189170416901,{"$f":"'RentalHousingCost-Prior5Yr'!$H$59-RentalHousingCost!$H$59","v":46},1.3023344083365995,1.645]
["N",null,null,null,null,null,null,"Renter Not computed",null,"N",{"$f":"'RentalHousingCost-Prior5Yr'!$I$60/1.645","v":46.721586680952456},{"$f":"RentalHousingCost!$I$60/1.645","v":83.08053475524531},{"$f":"SQRT((K184^2)+(L184^2))","v":95.316745208820876},{"$f":"'RentalHousingCost-Prior5Yr'!$H$60-RentalHousingCost!$H$60","v":-31},0.32523141586596238,1.645]
["N",null,null,null,null,null,null,"Renter $10,000 to $19,999:",null,"N",{"$f":"'RentalHousingCost-Prior5Yr'!$K$52/1.645","v":105.16717325227964},{"$f":"RentalHousingCost!$K$52/1.645","v":112.46200607902736},{"$f":"SQRT((K185^2)+(L185^2))","v":153.97349493076459},{"$f":"'RentalHousingCost-Prior5Yr'!$J$52-RentalHousingCost!$J$52","v":205},1.3313979791923272,1.645]
["N",null,null,null,null,null,null,"Renter Less than 20.0 percent",null,"N",{"$f":"'RentalHousingCost-Prior5Yr'!$K$53/1.645","v":25.531914893617021},{"$f":"RentalHousingCost!$K$53/1.645","v":11.550151975683891},28.022931481133394,{"$f":"'RentalHousingCost-Prior5Yr'!$J$53-RentalHousingCost!$J$53","v":35},1.2489771108909129,1.645]
["N",null,null,null,null,null,null,"Renter 20.0 to 24.9 percent",null,"N",{"$f":"'RentalHousingCost-Prior5Yr'!$K$54/1.645","v":11.550151975683891},{"$f":"RentalHousingCost!$K$54/1.645","v":31.003039513677813},33.084656107447486,{"$f":"'RentalHousingCost-Prior5Yr'!$J$54-RentalHousingCost!$J$54","v":-22},0.66496081834889353,1.645]
["N",null,null,null,null,null,null,"Renter 25.0 to 29.9 percent",null,"N",{"$f":"'RentalHousingCost-Prior5Yr'!$K$55/1.645","v":33.434650455927049},{"$f":"RentalHousingCost!$K$55/1.645","v":28.571428571428569},43.979567775528075,{"$f":"'RentalHousingCost-Prior5Yr'!$J$55-RentalHousingCost!$J$55","v":22},0.50023229223825272,1.645]
["N",null,null,null,null,null,null,"Renter 30.0 to 34.9 percent",null,"N",{"$f":"'RentalHousingCost-Prior5Yr'!$K$56/1.645","v":43.625228250478195},{"$f":"RentalHousingCost!$K$56/1.645","v":43.714082403274887},61.758250786972809,{"$f":"'RentalHousingCost-Prior5Yr'!$J$56-RentalHousingCost!$J$56","v":35},0.56672589579533306,1.645]
["N",null,null,null,null,null,null,"Renter 35.0 to 39.9 percent",null,"N",{"$f":"'RentalHousingCost-Prior5Yr'!$K$57/1.645","v":95.079952342346971},{"$f":"RentalHousingCost!$K$57/1.645","v":93.300693217992318},133.21117330156991,{"$f":"'RentalHousingCost-Prior5Yr'!$J$57-RentalHousingCost!$J$57","v":195},1.463841171630172,1.645]
["N",null,null,null,null,null,null,"Renter 40.0 to 49.9 percent",null,"N",{"$f":"'RentalHousingCost-Prior5Yr'!$K$58/1.645","v":10.334346504559271},{"$f":"RentalHousingCost!$K$58/1.645","v":11.550151975683891},15.498539554993267,{"$f":"'RentalHousingCost-Prior5Yr'!$J$58-RentalHousingCost!$J$58","v":0},0,1.645]
["N",null,null,null,null,null,null,"Renter 50.0 percent or more",null,"N",{"$f":"'RentalHousingCost-Prior5Yr'!$K$59/1.645","v":44.83256916107549},{"$f":"RentalHousingCost!$K$59/1.645","v":45.214234606169121},63.673277507949265,{"$f":"'RentalHousingCost-Prior5Yr'!$J$59-RentalHousingCost!$J$59","v":35},0.54968114364193732,1.645]
["N",null,null,null,null,null,null,"Renter Not computed",null,"N",{"$f":"'RentalHousingCost-Prior5Yr'!$K$60/1.645","v":94.516657895561863},{"$f":"RentalHousingCost!$K$60/1.645","v":92.583007859415119},{"$f":"SQRT((K193^2)+(L193^2))","v":132.3065076405662},{"$f":"'RentalHousingCost-Prior5Yr'!$J$60-RentalHousingCost!$J$60","v":195},1.4738504059811757,1.645]
["N",null,null,null,null,null,null,"Renter $20,000 to $34,999:",null,"Y",{"$f":"'RentalHousingCost-Prior5Yr'!$M$52/1.645","v":119.75683890577507},{"$f":"RentalHousingCost!$M$52/1.645","v":112.46200607902736},{"$f":"SQRT((K194^2)+(L194^2))","v":164.28451928292861},{"$f":"'RentalHousingCost-Prior5Yr'!$L$52-RentalHousingCost!$L$52","v":289},1.759143230667328,1.645]
["N",null,null,null,null,null,null,"Renter Less than 20.0 percent",null,"N",{"$f":"'RentalHousingCost-Prior5Yr'!$M$53/1.645","v":27.355623100303951},{"$f":"RentalHousingCost!$M$53/1.645","v":20.668693009118542},34.285929853382548,{"$f":"'RentalHousingCost-Prior5Yr'!$L$53-RentalHousingCost!$L$53","v":21},0.61249614899763916,1.645]
["N",null,null,null,null,null,null,"Renter 20.0 to 24.9 percent",null,"N",{"$f":"'RentalHousingCost-Prior5Yr'!$M$54/1.645","v":18.844984802431611},{"$f":"RentalHousingCost!$M$54/1.645","v":15.805471124620061},24.59565753695308,{"$f":"'RentalHousingCost-Prior5Yr'!$L$54-RentalHousingCost!$L$54","v":15},0.60986375247190105,1.645]
["N",null,null,null,null,null,null,"Renter 25.0 to 29.9 percent",null,"Y",{"$f":"'RentalHousingCost-Prior5Yr'!$M$55/1.645","v":19.45288753799392},{"$f":"RentalHousingCost!$M$55/1.645","v":11.550151975683891},22.623457830915982,{"$f":"'RentalHousingCost-Prior5Yr'!$L$55-RentalHousingCost!$L$55","v":44},1.9448839487247613,1.645]
["N",null,null,null,null,null,null,"Renter 30.0 to 34.9 percent",null,"Y",{"$f":"'RentalHousingCost-Prior5Yr'!$M$56/1.645","v":38.495173736139975},{"$f":"RentalHousingCost!$M$56/1.645","v":28.467767717855551},47.877888422667304,{"$f":"'RentalHousingCost-Prior5Yr'!$L$56-RentalHousingCost!$L$56","v":80},1.6709174659867583,1.645]
["N",null,null,null,null,null,null,"Renter 35.0 to 39.9 percent",null,"N",{"$f":"'RentalHousingCost-Prior5Yr'!$M$57/1.645","v":118.88034984042577},{"$f":"RentalHousingCost!$M$57/1.645","v":103.19137745023946},157.4198143762716,{"$f":"'RentalHousingCost-Prior5Yr'!$L$57-RentalHousingCost!$L$57","v":194},1.232373451643723,1.645]
["N",null,null,null,null,null,null,"Renter 40.0 to 49.9 percent",null,"Y",{"$f":"'RentalHousingCost-Prior5Yr'!$M$58/1.645","v":29.179331306990882},{"$f":"RentalHousingCost!$M$58/1.645","v":11.550151975683891},31.382150757787979,{"$f":"'RentalHousingCost-Prior5Yr'!$L$58-RentalHousingCost!$L$58","v":52},1.6569928683774287,1.645]
["N",null,null,null,null,null,null,"Renter 50.0 percent or more",null,"Y",{"$f":"'RentalHousingCost-Prior5Yr'!$M$59/1.645","v":48.304366019012598},{"$f":"RentalHousingCost!$M$59/1.645","v":30.72165050089551},57.246236435227011,{"$f":"'RentalHousingCost-Prior5Yr'!$L$59-RentalHousingCost!$L$59","v":132},2.3058284390338115,1.645]
["N",null,null,null,null,null,null,"Renter Not computed",null,"N",{"$f":"'RentalHousingCost-Prior5Yr'!$M$60/1.645","v":115.24367315674591},{"$f":"RentalHousingCost!$M$60/1.645","v":102.54293914949189},154.26003556357452,{"$f":"'RentalHousingCost-Prior5Yr'!$L$60-RentalHousingCost!$L$60","v":142},0.92052357878186897,1.645]
["N",null,null,null,null,null,null,"Renter $35,000 to $49,999:",null,"N",{"$f":"'RentalHousingCost-Prior5Yr'!$O$52/1.645","v":118.54103343465046},{"$f":"RentalHousingCost!$O$52/1.645","v":0},118.54103343465046,{"$f":"'RentalHousingCost-Prior5Yr'!$N$52-RentalHousingCost!$N$52","v":26},0.21933333333333332,1.645]
["N",null,null,null,null,null,null,"Renter Less than 20.0 percent",null,"N",{"$f":"'RentalHousingCost-Prior5Yr'!$O$53/1.645","v":12.1580547112462},{"$f":"RentalHousingCost!$O$53/1.645","v":0},12.1580547112462,{"$f":"'RentalHousingCost-Prior5Yr'!$N$53-RentalHousingCost!$N$53","v":17},1.3982500000000002,1.645]
["N",null,null,null,null,null,null,"Renter 20.0 to 24.9 percent",null,"Y",{"$f":"'RentalHousingCost-Prior5Yr'!$O$54/1.645","v":83.890577507598778},{"$f":"RentalHousingCost!$O$54/1.645","v":0},83.890577507598778,{"$f":"'RentalHousingCost-Prior5Yr'!$N$54-RentalHousingCost!$N$54","v":182},2.1694927536231887,1.645]
["N",null,null,null,null,null,null,"Renter 25.0 to 29.9 percent",null,"Y",{"$f":"'RentalHousingCost-Prior5Yr'!$O$55/1.645","v":80.243161094224916},{"$f":"RentalHousingCost!$O$55/1.645","v":0},80.243161094224916,{"$f":"'RentalHousingCost-Prior5Yr'!$N$55-RentalHousingCost!$N$55","v":189},2.3553409090909092,1.645]
["N",null,null,null,null,null,null,"Renter 30.0 to 34.9 percent",null,"Y",{"$f":"'RentalHousingCost-Prior5Yr'!$O$56/1.645","v":116.72365737635978},{"$f":"RentalHousingCost!$O$56/1.645","v":0},116.72365737635978,{"$f":"'RentalHousingCost-Prior5Yr'!$N$56-RentalHousingCost!$N$56","v":388},3.3240904947738747,1.645]
["N",null,null,null,null,null,null,"Renter 35.0 to 39.9 percent",null,{"$f":"IF(O208>P208,\"Y\",\"N\")","v":{"$error":"#VALUE!"}},{"$f":"'RentalHousingCost-Prior5Yr'!$O$57/1.645","v":30.769728230623134},{"$f":"RentalHousingCost!$O$57/1.645","v":{"$error":"#VALUE!"}},{"$error":"#VALUE!"},{"$f":"'RentalHousingCost-Prior5Yr'!$N$57-RentalHousingCost!$N$57","v":{"$error":"#VALUE!"}},{"$error":"#VALUE!"},1.645]
["N",null,null,null,null,null,null,"Renter 40.0 to 49.9 percent",null,"Y",{"$f":"'RentalHousingCost-Prior5Yr'!$O$58/1.645","v":12.76595744680851},{"$f":"RentalHousingCost!$O$58/1.645","v":0},12.76595744680851,{"$f":"'RentalHousingCost-Prior5Yr'!$N$58-RentalHousingCost!$N$58","v":25},1.9583333333333333,1.645]
["N",null,null,null,null,null,null,"Renter 50.0 percent or more",null,"Y",{"$f":"'RentalHousingCost-Prior5Yr'!$O$59/1.645","v":129.4896148231683},{"$f":"RentalHousingCost!$O$59/1.645","v":0},129.4896148231683,{"$f":"'RentalHousingCost-Prior5Yr'!$N$59-RentalHousingCost!$N$59","v":413},3.189444964864518,1.645]
["N",null,null,null,null,null,null,"Renter Not computed",null,{"$error":"#VALUE!"},{"$f":"'RentalHousingCost-Prior5Yr'!$O$60/1.645","v":27.996544534150647},{"$f":"RentalHousingCost!$O$60/1.645","v":{"$error":"#VALUE!"}},{"$error":"#VALUE!"},{"$f":"'RentalHousingCost-Prior5Yr'!$N$60-RentalHousingCost!$N$60","v":{"$error":"#VALUE!"}},{"$error":"#VALUE!"},1.645]
["N",null,null,null,null,null,null,"Renter $50,000 to $74,999:",null,"Y",{"$f":"'RentalHousingCost-Prior5Yr'!$Q$52/1.645","v":93.61702127659575},{"$f":"RentalHousingCost!$Q$52/1.645","v":0},93.61702127659575,{"$f":"'RentalHousingCost-Prior5Yr'!$P$52-RentalHousingCost!$P$52","v":444},4.7427272727272722,1.645]
["N",null,null,null,null,null,null,"Renter Less than 20.0 percent",null,"Y",{"$f":"'RentalHousingCost-Prior5Yr'!$Q$53/1.645","v":88.145896656534958},{"$f":"RentalHousingCost!$Q$53/1.645","v":0},88.145896656534958,{"$f":"'RentalHousingCost-Prior5Yr'!$P$53-RentalHousingCost!$P$53","v":293},3.3240344827586203,1.645]
["N",null,null,null,null,null,null,"Renter 20.0 to 24.9 percent",null,"Y",{"$f":"'RentalHousingCost-Prior5Yr'!$Q$54/1.645","v":35.258358662613979},{"$f":"RentalHousingCost!$Q$54/1.645","v":0},35.258358662613979,{"$f":"'RentalHousingCost-Prior5Yr'!$P$54-RentalHousingCost!$P$54","v":78},2.212241379310345,1.645]
["N",null,null,null,null,null,null,"Renter 25.0 to 29.9 percent",null,"Y",{"$f":"'RentalHousingCost-Prior5Yr'!$Q$55/1.645","v":20.668693009118542},{"$f":"RentalHousingCost!$Q$55/1.645","v":0},20.668693009118542,{"$f":"'RentalHousingCost-Prior5Yr'!$P$55-RentalHousingCost!$P$55","v":44},2.1288235294117648,1.645]
["N",null,null,null,null,null,null,"Renter 30.0 to 34.9 percent",null,"Y",{"$f":"'RentalHousingCost-Prior5Yr'!$Q$56/1.645","v":97.159898227979085},{"$f":"RentalHousingCost!$Q$56/1.645","v":0},97.159898227979085,{"$f":"'RentalHousingCost-Prior5Yr'!$P$56-RentalHousingCost!$P$56","v":415},4.2713095378736474,1.645]
["N",null,null,null,null,null,null,"Renter 35.0 to 39.9 percent",null,"N",{"$f":"'RentalHousingCost-Prior5Yr'!$Q$57/1.645","v":20.088403211985781},{"$f":"RentalHousingCost!$Q$57/1.645","v":0},20.088403211985781,{"$f":"'RentalHousingCost-Prior5Yr'!$P$57-RentalHousingCost!$P$57","v":9},0.44801968105808099,1.645]
["N",null,null,null,null,null,null,"Renter 40.0 to 49.9 percent",null,"N",{"$f":"'RentalHousingCost-Prior5Yr'!$Q$58/1.645","v":9.1185410334346511},{"$f":"RentalHousingCost!$Q$58/1.645","v":0},9.1185410334346511,{"$f":"'RentalHousingCost-Prior5Yr'!$P$58-RentalHousingCost!$P$58","v":9},0.98699999999999999,1.645]
["N",null,null,null,null,null,null,"Renter 50.0 percent or more",null,"Y",{"$f":"'RentalHousingCost-Prior5Yr'!$Q$59/1.645","v":97.586851646365176},{"$f":"RentalHousingCost!$Q$59/1.645","v":0},97.586851646365176,{"$f":"'RentalHousingCost-Prior5Yr'!$P$59-RentalHousingCost!$P$59","v":424},4.3448476187805447,1.645]
["N",null,null,null,null,null,null,"Renter Not computed",null,"N",{"$f":"'RentalHousingCost-Prior5Yr'!$Q$60/1.645","v":17.899613208918488},{"$f":"RentalHousingCost!$Q$60/1.645","v":0},17.899613208918488,{"$f":"'RentalHousingCost-Prior5Yr'!$P$60-RentalHousingCost!$P$60","v":0},0,1.645]
["N",null,null,null,null,null,null,"Renter $75,000 to $99,999:",null,"Y",{"$f":"'RentalHousingCost-Prior5Yr'!$S$52/1.645","v":53.495440729483285},{"$f":"RentalHousingCost!$S$52/1.645","v":0},53.495440729483285,{"$f":"'RentalHousingCost-Prior5Yr'!$R$52-RentalHousingCost!$R$52","v":157},2.9348295454545452,1.645]
["N",null,null,null,null,null,null,"Renter Less than 20.0 percent",null,"Y",{"$f":"'RentalHousingCost-Prior5Yr'!$S$53/1.645","v":50.455927051671729},{"$f":"RentalHousingCost!$S$53/1.645","v":0},50.455927051671729,{"$f":"'RentalHousingCost-Prior5Yr'!$R$53-RentalHousingCost!$R$53","v":131},2.5963253012048195,1.645]
["N",null,null,null,null,null,null,"Renter 20.0 to 24.9 percent",null,"N",{"$f":"'RentalHousingCost-Prior5Yr'!$S$54/1.645","v":11.550151975683891},{"$f":"RentalHousingCost!$S$54/1.645","v":0},11.550151975683891,{"$f":"'RentalHousingCost-Prior5Yr'!$R$54-RentalHousingCost!$R$54","v":12},1.0389473684210526,1.645]
["N",null,null,null,null,null,null,"Renter 25.0 to 29.9 percent",null,"N",{"$f":"'RentalHousingCost-Prior5Yr'!$S$55/1.645","v":10.334346504559271},{"$f":"RentalHousingCost!$S$55/1.645","v":0},10.334346504559271,{"$f":"'RentalHousingCost-Prior5Yr'!$R$55-RentalHousingCost!$R$55","v":0},0,1.645]
["N",null,null,null,null,null,null,"Renter 30.0 to 34.9 percent",null,"Y",{"$f":"'RentalHousingCost-Prior5Yr'!$S$56/1.645","v":52.782623115768985},{"$f":"RentalHousingCost!$S$56/1.645","v":0},52.782623115768985,{"$f":"'RentalHousingCost-Prior5Yr'!$R$56-RentalHousingCost!$R$56","v":143},2.7092249600092018,1.645]
["N",null,null,null,null,null,null,"Renter 35.0 to 39.9 percent",null,"N",{"$f":"'RentalHousingCost-Prior5Yr'!$S$57/1.645","v":20.668693009118542},{"$f":"RentalHousingCost!$S$57/1.645","v":0},20.668693009118542,{"$f":"'RentalHousingCost-Prior5Yr'!$R$57-RentalHousingCost!$R$57","v":0},0,1.645]
["N",null,null,null,null,null,null,"Renter 40.0 to 49.9 percent",null,"N",{"$f":"'RentalHousingCost-Prior5Yr'!$S$58/1.645","v":10.334346504559271},{"$f":"RentalHousingCost!$S$58/1.645","v":0},10.334346504559271,{"$f":"'RentalHousingCost-Prior5Yr'!$R$58-RentalHousingCost!$R$58","v":0},0,1.645]
["N",null,null,null,null,null,null,"Renter 50.0 percent or more",null,"Y",{"$f":"'RentalHousingCost-Prior5Yr'!$S$59/1.645","v":53.784793581993107},{"$f":"RentalHousingCost!$S$59/1.645","v":0},53.784793581993107,{"$f":"'RentalHousingCost-Prior5Yr'!$R$59-RentalHousingCost!$R$59","v":143},2.6587440515505802,1.645]
["N",null,null,null,null,null,null,"Renter Not computed",null,"N",{"$f":"'RentalHousingCost-Prior5Yr'!$S$60/1.645","v":17.899613208918488},{"$f":"RentalHousingCost!$S$60/1.645","v":0},17.899613208918488,{"$f":"'RentalHousingCost-Prior5Yr'!$R$60-RentalHousingCost!$R$60","v":0},0,1.645]
["N",null,null,null,null,null,null,"Renter $100,000 or more:",null,"Y",{"$f":"'RentalHousingCost-Prior5Yr'!$U$52/1.645","v":80.851063829787236},{"$f":"RentalHousingCost!$U$52/1.645","v":0},80.851063829787236,{"$f":"'RentalHousingCost-Prior5Yr'!$T$52-RentalHousingCost!$T$52","v":245},3.0302631578947365,1.645]
[{"$f":"IF(F231>G231,\"Y\",\"N\")","v":"N"},null,null,null,null,null,null,"Renter Less than 20.0 percent",null,"Y",{"$f":"'RentalHousingCost-Prior5Yr'!$U$53/1.645","v":79.635258358662611},{"$f":"RentalHousingCost!$U$53/1.645","v":0},79.635258358662611,{"$f":"'RentalHousingCost-Prior5Yr'!$T$53-RentalHousingCost!$T$53","v":222},{"$f":"ABS((N231/M231))","v":2.7877099236641221},1.645]
["N",null,null,null,null,null,null,"Renter 20.0 to 24.9 percent",null,"N",{"$f":"'RentalHousingCost-Prior5Yr'!$U$54/1.645","v":7.2948328267477205},{"$f":"RentalHousingCost!$U$54/1.645","v":0},7.2948328267477205,{"$f":"'RentalHousingCost-Prior5Yr'!$T$54-RentalHousingCost!$T$54","v":7},0.95958333333333334,1.645]
["N",null,null,null,null,null,null,"Renter 25.0 to 29.9 percent",null,"N",{"$f":"'RentalHousingCost-Prior5Yr'!$U$55/1.645","v":10.334346504559271},{"$f":"RentalHousingCost!$U$55/1.645","v":0},10.334346504559271,{"$f":"'RentalHousingCost-Prior5Yr'!$T$55-RentalHousingCost!$T$55","v":16},1.5482352941176469,1.645]
["N",null,null,null,null,null,null,"Renter 30.0 to 34.9 percent",null,"Y",{"$f":"'RentalHousingCost-Prior5Yr'!$U$56/1.645","v":80.633663425999913},{"$f":"RentalHousingCost!$U$56/1.645","v":0},80.633663425999913,{"$f":"'RentalHousingCost-Prior5Yr'!$T$56-RentalHousingCost!$T$56","v":245},3.0384332001093357,1.645]
["N",null,null,null,null,null,null,"Renter 35.0 to 39.9 percent",null,"N",{"$f":"'RentalHousingCost-Prior5Yr'!$U$57/1.645","v":20.668693009118542},{"$f":"RentalHousingCost!$U$57/1.645","v":0},20.668693009118542,{"$f":"'RentalHousingCost-Prior5Yr'!$T$57-RentalHousingCost!$T$57","v":0},0,1.645]
["N",null,null,null,null,null,null,"Renter 40.0 to 49.9 percent",null,"N",{"$f":"'RentalHousingCost-Prior5Yr'!$U$58/1.645","v":10.334346504559271},{"$f":"RentalHousingCost!$U$58/1.645","v":0},10.334346504559271,{"$f":"'RentalHousingCost-Prior5Yr'!$T$58-RentalHousingCost!$T$58","v":0},0,1.645]
["N",null,null,null,null,null,null,"Renter 50.0 percent or more",null,"Y",{"$f":"'RentalHousingCost-Prior5Yr'!$U$59/1.645","v":81.293212479110039},{"$f":"RentalHousingCost!$U$59/1.645","v":0},81.293212479110039,{"$f":"'RentalHousingCost-Prior5Yr'!$T$59-RentalHousingCost!$T$59","v":245},3.0137817479283129,1.645]
["N",null,null,null,null,null,null,"Renter Not computed",null,"N",{"$f":"'RentalHousingCost-Prior5Yr'!$U$60/1.645","v":17.899613208918488},{"$f":"RentalHousingCost!$U$60/1.645","v":0},17.899613208918488,{"$f":"'RentalHousingCost-Prior5Yr'!$T$60-RentalHousingCost!$T$60","v":0},0,1.645]
[null,null,null,null,null,null,null,"Total Owner Housing",null,"N",{"$f":"OwnerHousingCostPrior5Year!$F$50/1.645","v":164.74164133738603},{"$f":"OwnerHousingCost!$F$50/1.645","v":223.10030395136778},277.33292991227825,{"$f":"OwnerHousingCostPrior5Year!$E$50-OwnerHousingCost!$E$50","v":-445},1.6045696417686701,1.645]
[null,null,null,null,null,null,null,"Monthly Costs Less than 20% of HH Income",null,"N",{"$f":"OwnerHousingCostPrior5Year!$F$51/1.645","v":144.90417236345309},{"$f":"OwnerHousingCost!$F$51/1.645","v":178.37880058615193},229.81778796884169,{"$f":"OwnerHousingCostPrior5Year!$E$51-OwnerHousingCost!$E$51","v":-186},0.80933683003344181,1.645]
[null,null,null,null,null,null,null,"Monthly Costs 20% to 29.9% of HH Income",null,"N",{"$f":"OwnerHousingCostPrior5Year!$F$52/1.645","v":108.98087174464678},{"$f":"OwnerHousingCost!$F$52/1.645","v":171.03794767724358},202.80732223434799,{"$f":"OwnerHousingCostPrior5Year!$E$52-OwnerHousingCost!$E$52","v":-164},0.80864930414344038,1.645]
[null,null,null,null,null,null,null,"Monthly Costs Less Than 30% of HH Income",null,"N",{"$f":"OwnerHousingCostPrior5Year!$F$53/1.645","v":181.31202269722897},{"$f":"OwnerHousingCost!$F$53/1.645","v":247.1294722290275},306.50779046992938,{"$f":"OwnerHousingCostPrior5Year!$E$53-OwnerHousingCost!$E$53","v":-350},1.1418959350540145,1.645]
[null,null,null,null,null,null,null,"Monthly Costs 30% or More of HH Income",null,"N",{"$f":"OwnerHousingCostPrior5Year!$F$54/1.645","v":140.75935006421582},{"$f":"OwnerHousingCost!$F$54/1.645","v":158.03600543972689},211.63311093929948,{"$f":"OwnerHousingCostPrior5Year!$E$54-OwnerHousingCost!$E$54","v":-108},0.51031712155370867,1.645]
[null,null,null,null,null,null,null,"Monthly Costs 35% or More of HH Income",null,"N",{"$f":"OwnerHousingCostPrior5Year!$F$56/1.645","v":128.96997159434181},{"$f":"OwnerHousingCost!$F$56/1.645","v":129.49755190579458},182.76451932100852,{"$f":"OwnerHousingCostPrior5Year!$E$56-OwnerHousingCost!$E$56","v":63},0.34470585556787686,1.645]
[null,null,null,null,null,null,null,"Monthly Costs 50% or More of HH Income",null,"N",{"$f":"OwnerHousingCostPrior5Year!$F$57/1.645","v":117.96602806292239},{"$f":"OwnerHousingCost!$F$57/1.645","v":101.41049395637667},155.56372347503932,{"$f":"OwnerHousingCostPrior5Year!$E$57-OwnerHousingCost!$E$57","v":203},1.3049314805875805,1.645]
[null,null,null,null,null,null,null,"Percent not computed",null,"N",{"$f":"OwnerHousingCostPrior5Year!$F$58/1.645","v":16.424627460311605},{"$f":"OwnerHousingCost!$F$58/1.645","v":16.334381571482556},23.164205329188629,{"$f":"OwnerHousingCostPrior5Year!$E$58-OwnerHousingCost!$E$58","v":13},0.56121070484637037,1.645]
[null,null,null,null,null,null,null,"Owner Less than $20,000:",null,"N",{"$f":"OwnerHousingCostPrior5Year!$I$50/1.645","v":73.556231003039514},{"$f":"OwnerHousingCost!$I$50/1.645","v":85.106382978723403},112.48829069327017,{"$f":"OwnerHousingCostPrior5Year!$H$50-OwnerHousingCost!$H$50","v":98},0.87120178816854432,1.645]
[null,null,null,null,null,null,null,"Owner Less than 20.0 percent",null,"N",{"$f":"OwnerHousingCostPrior5Year!$I$51/1.645","v":10.94224924012158},{"$f":"OwnerHousingCost!$I$51/1.645","v":11.550151975683891},15.910337177267355,{"$f":"OwnerHousingCostPrior5Year!$H$51-OwnerHousingCost!$H$51","v":0},0,1.645]
[null,null,null,null,null,null,null,"Owner 20.0 to 24.9 percent",null,"N",{"$f":"OwnerHousingCostPrior5Year!$I$52/1.645","v":7.9027355623100304},{"$f":"OwnerHousingCost!$I$52/1.645","v":11.550151975683891},13.994971955284301,{"$f":"OwnerHousingCostPrior5Year!$H$52-OwnerHousingCost!$H$52","v":8},0.57163387147619926,1.645]
[null,null,null,null,null,null,null,"Owner 25.0 to 29.9 percent",null,"N",{"$f":"OwnerHousingCostPrior5Year!$I$53/1.645","v":13.497631192203354},{"$f":"OwnerHousingCost!$I$53/1.645","v":16.334381571482556},21.189574538520823,{"$f":"OwnerHousingCostPrior5Year!$H$53-OwnerHousingCost!$H$53","v":8},0.37754415434140448,1.645]
[null,null,null,null,null,null,null,"Owner 30.0 or more",null,"N",{"$f":"OwnerHousingCostPrior5Year!$I$54/1.645","v":73.556231003039514},{"$f":"OwnerHousingCost!$I$54/1.645","v":85.106382978723403},112.48829069327017,{"$f":"OwnerHousingCostPrior5Year!$H$54-OwnerHousingCost!$H$54","v":90},0.80008327484866315,1.645]
[null,null,null,null,null,null,null,"Owner $20,000 to $34,999:",null,"N",{"$f":"OwnerHousingCostPrior5Year!$J$50/1.645","v":261.39817629179333},{"$f":"OwnerHousingCost!$J$50/1.645","v":289.36170212765956},389.9476903725573,{"$f":"OwnerHousingCostPrior5Year!$K$50-OwnerHousingCost!$K$50","v":-34},8.719118189292592E-2,1.645]
[null,null,null,null,null,null,null,"Owner Less than 20.0 percent",null,"N",{"$f":"OwnerHousingCostPrior5Year!$J$51/1.645","v":34.650455927051674},{"$f":"OwnerHousingCost!$J$51/1.645","v":20.668693009118542},40.346610349045882,{"$f":"OwnerHousingCostPrior5Year!$K$51-OwnerHousingCost!$K$51","v":2},4.9570459146323208E-2,1.645]
[null,null,null,null,null,null,null,"Owner 20.0 to 24.9 percent",null,"N",{"$f":"OwnerHousingCostPrior5Year!$J$52/1.645","v":55.927051671732521},{"$f":"OwnerHousingCost!$J$52/1.645","v":69.300911854103347},89.053082442455874,{"$f":"OwnerHousingCostPrior5Year!$K$52-OwnerHousingCost!$K$52","v":-29},0.32564846948154946,1.645]
[null,null,null,null,null,null,null,"Owner 25.0 to 29.9 percent",null,"N",{"$f":"OwnerHousingCostPrior5Year!$J$53/1.645","v":90.577507598784194},{"$f":"OwnerHousingCost!$J$53/1.645","v":89.969604863221889},127.66681120029625,{"$f":"OwnerHousingCostPrior5Year!$K$53-OwnerHousingCost!$K$53","v":-23.865787716327418},0.18693807334847914,1.645]
[null,null,null,null,null,null,null,"Owner 30.0 or more",null,"N",{"$f":"OwnerHousingCostPrior5Year!$J$54/1.645","v":170.82066869300911},{"$f":"OwnerHousingCost!$J$54/1.645","v":199.39209726443769},262.55839218017343,{"$f":"OwnerHousingCostPrior5Year!$K$54-OwnerHousingCost!$K$54","v":-26},9.902559116129192E-2,1.645]
[null,null,null,null,null,null,null,"Owner $35,000 to $49,999:",null,"Y",{"$f":"OwnerHousingCostPrior5Year!$M$50/1.645","v":75.379939209726444},{"$f":"OwnerHousingCost!$M$50/1.645","v":53.495440729483285},92.433205148927485,{"$f":"OwnerHousingCostPrior5Year!$L$50-OwnerHousingCost!$L$50","v":205},2.2178177168010782,1.645]
[null,null,null,null,null,null,null,"Owner Less than 20.0 percent",null,"Y",{"$f":"OwnerHousingCostPrior5Year!$M$51/1.645","v":54.711246200607903},{"$f":"OwnerHousingCost!$M$51/1.645","v":26.13981762917933},{"$f":"SQRT((K258^2)+(L258^2))","v":60.635060208680322},{"$f":"OwnerHousingCostPrior5Year!$L$51-OwnerHousingCost!$L$51","v":122},2.012037253366739,1.645]
[null,null,null,null,null,null,null,"Owner 20.0 to 24.9 percent",null,"N",{"$f":"OwnerHousingCostPrior5Year!$M$52/1.645","v":35.866261398176292},{"$f":"OwnerHousingCost!$M$52/1.645","v":33.434650455927049},49.033300498664509,{"$f":"OwnerHousingCostPrior5Year!$L$52-OwnerHousingCost!$L$52","v":49},0.99932085953166838,1.645]
[null,null,null,null,null,null,null,"Owner 25.0 to 29.9 percent",null,"Y",{"$f":"OwnerHousingCostPrior5Year!$M$53/1.645","v":65.419486145229257},{"$f":"OwnerHousingCost!$M$53/1.645","v":42.440145108102271},77.979965916269933,{"$f":"OwnerHousingCostPrior5Year!$L$53-OwnerHousingCost!$L$53","v":171},2.1928709251246561,1.645]
[null,null,null,null,null,null,null,"Owner 30.0 or more",null,"N",{"$f":"OwnerHousingCostPrior5Year!$M$54/1.645","v":48.024316109422493},{"$f":"OwnerHousingCost!$M$54/1.645","v":48.632218844984799},68.347843035199219,{"$f":"OwnerHousingCostPrior5Year!$L$54-OwnerHousingCost!$L$54","v":34},0.49745534738367619,1.645]
[null,null,null,null,null,null,null,"Owner $50,000 to $74,999:",null,"N",{"$f":"OwnerHousingCostPrior5Year!$O$50/1.645","v":83.890577507598778},{"$f":"OwnerHousingCost!$O$50/1.645","v":128.26747720364742},153.26504723108479,{"$f":"OwnerHousingCostPrior5Year!$N$50-OwnerHousingCost!$N$50","v":-53},0.34580617666916225,1.645]
[null,null,null,null,null,null,null,"Owner Less than 20.0 percent",null,"N",{"$f":"OwnerHousingCostPrior5Year!$O$51/1.645","v":60.790273556231},{"$f":"OwnerHousingCost!$O$51/1.645","v":40.121580547112458},72.836794167781932,{"$f":"OwnerHousingCostPrior5Year!$N$51-OwnerHousingCost!$N$51","v":112},1.5376843706493224,1.645]
[null,null,null,null,null,null,null,"Owner 20.0 to 24.9 percent",null,"N",{"$f":"OwnerHousingCostPrior5Year!$O$52/1.645","v":40.729483282674771},{"$f":"OwnerHousingCost!$O$52/1.645","v":89.361702127659569},98.205929635772208,{"$f":"OwnerHousingCostPrior5Year!$N$52-OwnerHousingCost!$N$52","v":-142},1.4459412026000056,1.645]
[null,null,null,null,null,null,null,"Owner 25.0 to 29.9 percent",null,"N",{"$f":"OwnerHousingCostPrior5Year!$O$53/1.645","v":73.173411615935208},{"$f":"OwnerHousingCost!$O$53/1.645","v":97.955372658935815},122.26856996082874,{"$f":"OwnerHousingCostPrior5Year!$N$53-OwnerHousingCost!$N$53","v":-30},0.24536150222098058,1.645]
[null,null,null,null,null,null,null,"Owner 30.0 or more",null,"N",{"$f":"OwnerHousingCostPrior5Year!$O$54/1.645","v":49.240121580547111},{"$f":"OwnerHousingCost!$O$54/1.645","v":63.221884498480243},80.13486290501929,{"$f":"OwnerHousingCostPrior5Year!$N$54-OwnerHousingCost!$N$54","v":-23},0.28701615209925546,1.645]
[null,null,null,null,null,null,null,"Owner $75,000 or more",null,"Y",{"$f":"OwnerHousingCostPrior5Year!$Q$50/1.645","v":120.97264437689969},{"$f":"OwnerHousingCost!$Q$50/1.645","v":181.76291793313069},218.33950403696039,{"$f":"OwnerHousingCostPrior5Year!$P$50-OwnerHousingCost!$P$50","v":-531},2.4319923338751956,1.645]
[null,null,null,null,null,null,null,"Owner Less than 20.0 percent",null,"N",{"$f":"OwnerHousingCostPrior5Year!$Q$51/1.645","v":124.62006079027356},{"$f":"OwnerHousingCost!$Q$51/1.645","v":147.11246200607903},192.80102704306719,{"$f":"OwnerHousingCostPrior5Year!$P$51-OwnerHousingCost!$P$51","v":-226},1.1721929258681643,1.645]
[null,null,null,null,null,null,null,"Owner 20.0 to 24.9 percent",null,"N",{"$f":"OwnerHousingCostPrior5Year!$Q$52/1.645","v":74.164133738601819},{"$f":"OwnerHousingCost!$Q$52/1.645","v":121.580547112462},142.41540706455467,{"$f":"OwnerHousingCostPrior5Year!$P$52-OwnerHousingCost!$P$52","v":-93},0.65301923378166915,1.645]
[null,null,null,null,null,null,null,"Owner 25.0 to 29.9 percent",null,"N",{"$f":"OwnerHousingCostPrior5Year!$Q$53/1.645","v":145.01888940606563},{"$f":"OwnerHousingCost!$Q$53/1.645","v":190.8504805172249},239.69644177213883,{"$f":"OwnerHousingCostPrior5Year!$P$53-OwnerHousingCost!$P$53","v":-319},1.3308499602311537,1.645]
[null,null,null,null,null,null,null,"Owner 30.0 or more",null,"Y",{"$f":"OwnerHousingCostPrior5Year!$Q$54/1.645","v":31.610942249240122},{"$f":"OwnerHousingCost!$Q$54/1.645","v":63.221884498480243},70.684215702121008,{"$f":"OwnerHousingCostPrior5Year!$P$54-OwnerHousingCost!$P$54","v":-212},2.9992551787433719,1.645]

{"sheet":"ACS_Table_B05002","index":62,"n_rows":84,"n_cols":24,"rows_kept":84,"cut":false,"hidden":true,"merged":[]}
[null,"B05002. PLACE OF BIRTH BY CITIZENSHIP STATUS"]
[null,"Universe: TOTAL POPULATION"]
[null,"Data Set: 2018-2022 American Community Survey 5-Year Estimates"]
[]
[null,null,"Alton",null,"Barnstead",null,"Belmont",null,"Center Harbor",null,"Gilford",null,"Gilmanton",null,"Laconia",null,"Meredith",null,"New Hampton",null,"Sanbornton",null,"Tilton"]
[null,null,"Estimates","Margin of Error","Estimates","Margin of Error","Estimates","Margin of Error","Estimates","Margin of Error","Estimates","Margin of Error","Estimates","Margin of Error","Estimates","Margin of Error","Estimates","Margin of Error","Estimates","Margin of Error","Estimates","Margin of Error","Estimates","Margin of Error"]
[null,"Total:",52.4,3.6,44.2,2.9,47.5,4.3,63.5,4.5,46.8,3.1,45,6.6,43.7,2.8,55.2,3.3,51.1,4.7,45.8,6.5,47.2,5]
[null,"Native:",50.1,6,45.3,2.2999999999999998,45.9,4.2,66.2,8.1999999999999993,45.3,6.7,46.3,8.3000000000000007,42.9,2.5,55.3,3.8,51.4,4.7,42.2,7.9,47.3,8.4]
[null,"Born in state of residence",52.7,1.8,42.5,4.2,49,5.6,62.8,3.6,48.3,4.5,44.7,6,44.7,5.4,55,5.0999999999999996,49.8,8.4,51.7,5.6,46.9,5]
[null,"Born in other state in the United States:",2738,391,2356,325,2799,348,428,110,3854,473,1899,273,7002,736,3513,342,1183,215,1058,330,1626,231]
[null,"Northeast",2255,327,1984,331,2075,345,358,102,3337,424,1413,268,5988,710,2896,333,875,206,758,222,1242,214]
[null,"Midwest",203,118,103,81,214,143,37,19,111,66,89,50,181,91,158,73,29,22,43,32,136,95]
[null,"South",157,108,173,111,346,184,20,23,281,125,269,131,620,236,246,108,199,53,109,76,80,66]
[null,"West",123,85,96,63,164,119,13,13,125,83,128,71,213,87,213,86,80,67,148,126,168,101]
[null,"Born outside the United States:",201,164,24,27,18,30,0,12,27,34,16,25,155,99,107,79,6,9,0,12,65,84]
[null,"Puerto Rico",0,17,0,12,0,17,0,12,0,17,0,12,0,19,10,16,0,12,0,12,0,12]
[null,"U.S. Island Areas",0,17,0,12,0,17,0,12,0,17,0,12,19,32,0,17,0,12,0,12,0,12]
[null,"Born abroad of American parent(s)",201,164,24,27,18,30,0,12,27,34,16,25,136,87,97,75,6,9,0,12,65,84]
[null,"Foreign born:",95,75,112,71,163,124,20,17,300,142,179,119,584,263,333,158,51,59,133,97,101,102]
[null,"Naturalized U.S. citizen",78,61,64,58,76,70,16,17,216,130,117,86,487,250,225,112,5,7,102,91,61,62]
[null,"Europe",41,40,60,58,63,69,16,17,80,50,57,62,229,206,59,56,5,7,56,69,15,23]
[null,"Asia",15,24,0,12,1,3,0,12,136,119,0,12,168,124,80,77,0,12,19,24,6,11]
[null,"Africa",0,17,0,12,0,17,0,12,0,17,0,12,0,19,0,17,0,12,0,12,0,12]
[null,"Oceania",0,17,0,12,0,17,0,12,0,17,0,12,0,19,0,17,0,12,13,21,0,12]
[null,"Latin America",0,17,0,12,1,3,0,12,0,17,16,25,60,60,19,21,0,12,0,12,0,12]
[null,"Northern America",22,30,4,9,11,17,0,12,0,17,44,50,30,33,67,52,0,12,14,16,40,56]
[null,"Not a U.S. citizen",17,27,48,35,87,91,4,6,84,72,62,56,97,91,108,80,46,58,31,23,40,60]
[null,"Europe",17,27,11,17,21,32,4,6,0,17,24,20,47,59,48,48,46,58,8,12,36,56]
[null,"Asia",0,17,26,31,66,85,0,12,84,72,5,9,0,19,27,40,0,12,10,19,4,20]
[null,"Africa",0,17,0,12,0,17,0,12,0,17,0,12,0,19,0,17,0,12,0,12,0,12]
[null,"Oceania",0,17,0,12,0,17,0,12,0,17,0,12,0,19,0,17,0,12,0,12,0,12]
[null,"Latin America",0,17,0,12,0,17,0,12,0,17,0,12,1,7,10,24,0,12,13,2,0,12]
[null,"Northern America",0,17,11,18,0,17,0,12,0,17,33,53,49,44,23,25,0,12,0,12,0,12]
[]
[]
[]
[]
[]
[]
[null,"B05002. PLACE OF BIRTH BY CITIZENSHIP STATUS"]
[null,"Universe: TOTAL POPULATION"]
[null,"Data Set: 2013-2017 American Community Survey 5-Year Estimates"]
[]
[null,null,"Alton",null,"Barnstead",null,"Belmont",null,"Center Harbor",null,"Gilford",null,"Gilmanton",null,"Laconia",null,"Meredith",null,"New Hampton",null,"Sanbornton",null,"Tilton"]
[null,null,"Estimates","Margin of Error","Estimates","Margin of Error","Estimates","Margin of Error","Estimates","Margin of Error","Estimates","Margin of Error","Estimates","Margin of Error","Estimates","Margin of Error","Estimates","Margin of Error","Estimates","Margin of Error","Estimates","Margin of Error","Estimates","Margin of Error"]
[null,"Total:",5267,14,4615,16,7275,17,1000,178,7111,23,3740,30,16237,20,6334,33,2276,176,2973,16,3555,21]
[null,"Native:",5185,51,4465,110,7238,47,965,179,6824,134,3630,83,15738,156,6181,104,2176,168,2894,61,3474,56]
[null,"Born in state of residence",2150,345,2318,280,4317,428,428,131,3137,383,2041,259,9083,513,3120,309,1178,168,1578,131,1903,217]
[null,"Born in other state in the United States:",2956,341,2128,270,2891,421,537,140,3676,364,1589,247,6545,516,3056,294,978,134,1296,133,1539,219]
[null,"Northeast",2504,333,1722,262,2248,469,422,103,3045,374,1247,211,5110,502,2426,271,749,130,915,142,1137,195]
[null,"Midwest",126,84,68,47,136,88,80,48,97,75,45,36,559,219,211,92,32,22,134,64,53,43]
[null,"South",213,160,220,92,273,165,24,21,395,151,178,98,581,215,234,114,66,36,143,64,192,100]
[null,"West",113,109,118,84,234,146,11,11,139,81,119,119,295,148,185,104,131,53,104,34,157,109]
[null,"Born outside the United States:",79,61,19,31,30,34,0,11,11,15,0,11,110,75,5,8,20,26,20,15,32,51]
[null,"Puerto Rico",0,16,0,11,0,16,0,11,0,16,0,11,23,32,0,16,7,16,2,4,0,11]
[null,"U.S. Island Areas",0,16,0,11,0,16,0,11,0,16,0,11,0,18,0,16,0,11,0,11,0,11]
[null,"Born abroad of American parent(s)",79,61,19,31,30,34,0,11,11,15,0,11,87,69,5,8,13,20,18,15,32,51]
[null,"Foreign born:",82,50,150,108,37,45,35,21,287,130,110,78,499,155,153,101,100,51,79,59,81,55]
[null,"Naturalized U.S. citizen",51,38,73,55,24,39,32,20,177,104,80,74,357,137,91,61,24,19,74,57,71,52]
[null,"Not a U.S. citizen",31,34,77,85,13,21,3,4,110,97,30,41,142,70,62,83,76,46,5,11,10,15]
[]
[]
[]
[null,"B05002. PLACE OF BIRTH BY CITIZENSHIP STATUS"]
[null,"Universe: TOTAL POPULATION"]
[null,"Data Set: 2008-2012 American Community Survey 5-Year Estimates"]
[]
[null,null,"Alton",null,"Barnstead",null,"Belmont",null,"Center Harbor",null,"Gilford",null,"Gilmanton",null,"Laconia",null,"Meredith",null,"New Hampton",null,"Sanbornton",null,"Tilton"]
[null,null,"Estimates","Margin of Error","Estimates","Margin of Error","Estimates","Margin of Error","Estimates","Margin of Error","Estimates","Margin of Error","Estimates","Margin of Error","Estimates","Margin of Error","Estimates","Margin of Error","Estimates","Margin of Error","Estimates","Margin of Error","Estimates","Margin of Error"]
[null,"Total:",5240,16,4586,23,7345,19,1034,141,7140,20,3761,26,16062,22,6260,30,2234,144,2958,18,3586,22]
[null,"Native:",4993,177,4537,41,7120,149,988,140,6836,204,3668,74,15424,254,6079,90,2176,148,2896,47,3470,73]
[null,"Born in state of residence",2159,379,2240,281,4501,372,476,101,2816,436,2046,218,8906,589,3339,281,1219,156,1289,153,1943,233]
[null,"Born in other state in the United States:",2834,373,2276,280,2585,368,508,105,3951,421,1615,205,6355,546,2706,292,939,136,1539,142,1504,222]
[null,"Northeast",2320,437,1723,272,1921,336,398,87,3016,380,1342,212,4693,523,2328,278,757,113,1125,169,1048,224]
[null,"Midwest",125,70,100,54,275,118,48,26,380,200,100,69,462,147,134,100,66,31,105,52,184,91]
[null,"South",244,107,358,173,247,139,38,28,372,141,109,65,550,191,117,61,56,42,217,136,157,80]
[null,"West",145,163,95,51,142,116,24,20,183,78,64,47,650,241,127,67,60,37,92,49,115,102]
[null,"Born outside the United States:",0,16,21,23,34,40,4,6,69,86,7,13,163,111,34,35,18,14,68,42,23,35]
[null,"Puerto Rico",0,16,0,11,16,24,0,11,0,16,0,11,14,17,0,16,0,11,13,24,0,11]
[null,"U.S. Island Areas",0,16,0,11,0,16,0,11,0,16,0,11,0,18,0,16,0,11,0,11,0,11]
[null,"Born abroad of American parent(s)",0,16,21,23,18,30,4,6,69,86,7,13,149,114,34,35,18,14,55,33,23,35]
[null,"Foreign born:",247,178,49,32,225,147,46,36,304,202,93,68,638,254,181,85,58,31,62,42,116,68]
[null,"Naturalized U.S. citizen",129,97,24,20,182,131,20,18,145,69,63,60,285,176,137,72,8,9,55,42,61,41]
[null,"Not a U.S. citizen",118,112,25,26,43,51,26,30,159,175,30,26,353,179,44,52,50,32,7,8,55,47]

{"sheet":"ACS_Table_B07003","index":63,"n_rows":89,"n_cols":47,"rows_kept":89,"cut":false,"hidden":true,"merged":[]}
[null,"B07003. GEOGRAPHICAL MOBILITY IN THE PAST YEAR BY SEX FOR CURRENT RESIDENCE IN THE UNITED STATES - Universe:  POPULATION 1 YEAR AND OVER IN THE UNITED STATES"]
[null,"Data Set: 2018-2022 American Community Survey 5-Year Estimates"]
[null,"Survey: American Community Survey"]
[]
[null,null,"Alton",null,"Barnstead",null,"Belmont",null,"Center Harbor",null,"Gilford",null,"Gilmanton",null,"Laconia",null,"Meredith",null,"New Hampton",null,"Sanbornton",null,"Tilton"]
[null," ","Estimate","Margin of Error","Estimate","Margin of Error","Estimate","Margin of Error","Estimate","Margin of Error","Estimate","Margin of Error","Estimate","Margin of Error","Estimate","Margin of Error","Estimate","Margin of Error","Estimate","Margin of Error","Estimate","Margin of Error","Estimate","Margin of Error"]
[null,"Total:",5903,16,4941,20,7345,32,817,180,7548,106,3896,59,16639,160,6688,33,2600,183,3045,21,3970,17]
[null,"Male",2894,196,2234,144,3450,239,405,102,3621,263,2050,177,8298,302,3393,248,1341,127,1637,138,2059,156]
[null,"Female",3009,196,2707,145,3895,234,412,101,3927,262,1846,184,8341,300,3295,249,1259,120,1408,132,1911,158]
[null,"Same house 1 year ago:",5532,236,4597,221,6605,398,742,172,6592,424,3499,222,14217,503,6061,253,2267,177,2731,155,3401,209]
[null,"Male",2722,230,2105,175,3187,294,370,101,3189,346,1832,209,7236,408,3038,249,1122,131,1419,158,1825,185]
[null,"Female",2810,238,2492,185,3418,276,372,98,3403,290,1667,176,6981,379,3023,289,1145,108,1312,141,1576,172]
[null,"Moved within same county:",117,134,130,155,348,225,19,22,299,163,110,114,1111,466,256,168,150,27,20,11,174,91]
[null,"Male",49,64,64,65,71,84,13,14,139,84,77,107,467,257,93,86,135,22,7,11,61,49]
[null,"Female",68,87,66,102,277,214,6,10,160,125,33,46,644,308,163,117,15,17,13,2,113,72]
[null,"Moved from different county within same state:",23,40,176,132,186,171,0,12,252,309,158,97,490,186,270,156,21,31,85,87,225,180]
[null,"Male",11,21,51,42,83,94,0,12,132,160,90,62,305,146,195,134,11,16,79,86,105,96]
[null,"Female",12,19,125,93,103,90,0,12,120,150,68,70,185,133,75,64,10,17,6,10,120,92]
[null,"Moved from different state:",231,203,38,43,195,165,56,40,399,200,126,125,821,377,101,101,162,97,140,95,170,114]
[null,"Male",112,100,14,21,98,92,22,23,158,86,51,46,290,143,67,66,73,50,111,85,68,55]
[null,"Female",119,105,24,26,97,105,34,25,241,123,75,81,531,303,34,45,89,81,29,27,102,71]
[null,"Moved from abroad:",0,17,0,12,11,17,0,12,6,10,3,7,0,19,0,17,0,12,69,81,0,12]
[null,"Male",0,17,0,12,11,17,0,12,3,5,0,12,0,19,0,17,0,12,21,31,0,12]
[null,"Female",0,17,0,12,0,17,0,12,3,5,3,7,0,19,0,17,0,12,48,54,0,12]
[]
[null,"Calculated B07003. GEOGRAPHICAL MOBILITY IN THE PAST YEAR BY SEX FOR CURRENT RESIDENCE IN THE UNITED STATES "]
[null,null,{"$f":"C5","v":"Alton"},null,"Barnstead",null,"Belmont",null,"Center Harbor",null,"Gilford",null,"Gilmanton",null,"Laconia",null,"Meredith",null,"New Hampton",null,"Sanbornton",null,"Tilton",null,null,null,null,null,null,null,null,null,null,null,null,null,null,null,null,null,null,null,null,"Strafford County"]
[null,null,"Estimate","Margin of Error","Estimate","Margin of Error","Estimate","Margin of Error","Estimate","Margin of Error","Estimate","Margin of Error","Estimate","Margin of Error","Estimate","Margin of Error","Estimate","Margin of Error","Estimate","Margin of Error","Estimate","Margin of Error","Estimate",{"$f":"X6","v":"Margin of Error"},null,null,null,null,null,null,null,null,null,null,null,null,null,null,null,null,null,null,null,"Coefficient of Variance"]
[]
[null,"  Total:",{"$f":"C7","v":5903},{"$f":"D7","v":16},{"$f":"E7","v":4941},20,7345,32,817,180,7548,106,3896,59,16639,160,6688,33,2600,183,3045,21,3970,17,null,null,null,null,null,null,null,null,null,null,null,null,null,null,null,null,null,null,null,{"$f":"(V30/U30)*100","v":0.68965517241379315}]
[null,"    Same house ",{"$f":"C10","v":5532},{"$f":"D10","v":236},{"$f":"E10","v":4597},221,6605,398,742,172,6592,424,3499,222,14217,503,6061,253,2267,177,2731,155,3401,209,null,null,null,null,null,null,null,null,null,null,null,null,null,null,null,null,null,null,null,5.6755767118271701]
[null,"    Different house 2",{"$f":"C13+C16+C19+C22","v":371},{"$f":"SQRT((D13^2)+(D16^2)+(D19^2)+(D22^2))","v":247.09107632611907},{"$f":"E13+E16+E19+E22","v":344},{"$f":"SQRT((F13^2)+(F16^2)+(F19^2)+(F22^2))","v":208.42744540966768},{"$f":"G13+G16+G19+G22","v":740},{"$f":"SQRT((H13^2)+(H16^2)+(H19^2)+(H22^2))","v":327.68887683288852},{"$f":"I13+I16+I19+I22","v":75},{"$f":"SQRT((J13^2)+(J16^2)+(J19^2)+(J22^2))","v":48.703182647543684},{"$f":"K13+K16+K19+K22","v":956},{"$f":"SQRT((L13^2)+(L16^2)+(L19^2)+(L22^2))","v":402.67853183401769},{"$f":"M13+M16+M19+M22","v":397},{"$f":"SQRT((N13^2)+(N16^2)+(N19^2)+(N22^2))","v":195.13841241539299},{"$f":"O13+O16+O19+O22","v":2422},{"$f":"SQRT((P13^2)+(P16^2)+(P19^2)+(P22^2))","v":627.88693249660798},{"$f":"Q13+Q16+Q19+Q22","v":627},{"$f":"SQRT((R13^2)+(R16^2)+(R19^2)+(R22^2))","v":251.09759058979438},{"$f":"S13+S16+S19+S22","v":333},{"$f":"SQRT((T13^2)+(T16^2)+(T19^2)+(T22^2))","v":106.03301372685773},{"$f":"U13+U16+U19+U22","v":314},{"$f":"SQRT((V13^2)+(V16^2)+(V19^2)+(V22^2))","v":152.56474035634838},{"$f":"W13+W16+W19+W22","v":569},{"$f":"SQRT((X13^2)+(X16^2)+(X19^2)+(X22^2))","v":231.99353439266363},null,null,null,null,null,null,null,null,null,null,null,null,null,null,null,null,null,null,null,48.587496928773369]
[null,"      in New Hampshire",{"$f":"C16+C13","v":140},{"$f":"SQRT((D16^2)+(D13^2))","v":139.84276885130672},{"$f":"E16+E13","v":306},{"$f":"SQRT((F16^2)+(F13^2))","v":203.59027481684876},{"$f":"G16+G13","v":534},{"$f":"SQRT((H16^2)+(H13^2))","v":282.60573242593648},{"$f":"I16+I13","v":19},{"$f":"SQRT((J16^2)+(J13^2))","v":25.059928172283335},{"$f":"K16+K13","v":551},{"$f":"SQRT((L16^2)+(L13^2))","v":349.35655139126845},{"$f":"M16+M13","v":268},{"$f":"SQRT((N16^2)+(N13^2))","v":149.68299836654796},{"$f":"O16+O13","v":1601},{"$f":"SQRT((P16^2)+(P13^2))","v":501.74894120466263},{"$f":"Q16+Q13","v":526},{"$f":"SQRT((R16^2)+(R13^2))","v":229.25967809451359},{"$f":"S16+S13","v":171},{"$f":"SQRT((T16^2)+(T13^2))","v":41.109609582188931},{"$f":"U16+U13","v":105},{"$f":"SQRT((V16^2)+(V13^2))","v":87.692645073575008},{"$f":"W16+W13","v":399},{"$f":"SQRT((X16^2)+(X13^2))","v":201.69531476958011},null,null,null,null,null,null,null,null,null,null,null,null,null,null,null,null,null,null,null,83.516804831976202]
[null,"          Same county",{"$f":"C13","v":117},{"$f":"D13","v":134},{"$f":"E13","v":130},155,348,225,19,22,299,163,110,114,1111,466,256,168,150,27,20,11,174,91,null,null,null,null,null,null,null,null,null,null,null,null,null,null,null,null,null,null,null,55.000000000000007]
[null,"          Different county",{"$f":"C16","v":23},{"$f":"D16","v":40},{"$f":"E16","v":176},132,186,171,0,12,252,309,158,97,490,186,270,156,21,31,85,87,225,180,null,null,null,null,null,null,null,null,null,null,null,null,null,null,null,null,null,null,null,102.35294117647058]
[null,"      in Different state",{"$f":"C19","v":231},{"$f":"D19","v":203},{"$f":"E19","v":38},43,195,165,56,40,399,200,126,125,821,377,101,101,162,97,140,95,170,114,null,null,null,null,null,null,null,null,null,null,null,null,null,null,null,null,null,null,null,67.857142857142861]
[null,"       Elsewhere",{"$f":"C22","v":0},{"$f":"D22","v":17},{"$f":"E22","v":0},12,11,17,0,12,6,10,3,7,0,19,0,17,0,12,69,81,0,12,null,null,null,null,null,null,null,null,null,null,null,null,null,null,null,null,null,null,null,117.39130434782609]
[]
[]
[]
[]
[]
[]
[]
[]
[]
[]
[]
[]
[]
[]
[]
[]
[]
[]
[]
[]
[]
[]
[null,"Calculated GEOGRAPHICAL MOBILITY IN THE PAST YEAR BY SEX FOR CURRENT RESIDENCE IN THE UNITED STATES"]
[null,"Universe:  POPULATION 1 YEAR AND OVER IN THE UNITED STATES"]
[null,"Data Set: 2013-2017 American Community Survey 5-Year Estimates"]
[null,null,"Alton",null,"Barnstead",null,"Belmont",null,"Center Harbor",null,"Gilford",null,"Gilmanton",null,"Laconia",null,"Meredith",null,"New Hampton",null,"Sanbornton",null,"Tilton",null,null,"New Hampshire",null,"Belknap County",null,"Carroll County",null,"Cheshire County",null,"Coos County",null,"Grafton County",null,"Hillsborough County",null,"Merrimack County",null,"Rockingham County",null,"Strafford County",null,"Sullivan County"]
[null,null,"Estimate","Margin of Error","Estimate","Margin of Error","Estimate","Margin of Error","Estimate","Margin of Error","Estimate","Margin of Error","Estimate","Margin of Error","Estimate","Margin of Error","Estimate","Margin of Error","Estimate","Margin of Error","Estimate","Margin of Error","Estimate","Margin of Error",null,"Coefficient of Variance","Estimate Reliable","Coefficient of Variance","Estimate Reliable","Coefficient of Variance","Estimate Reliable","Coefficient of Variance","Estimate Reliable","Coefficient of Variance","Estimate Reliable","Coefficient of Variance","Estimate Reliable","Coefficient of Variance","Estimate Reliable","Coefficient of Variance","Estimate Reliable","Coefficient of Variance","Estimate Reliable","Coefficient of Variance","Estimate Reliable","Coefficient of Variance","Estimate Reliable"]
[]
[null,"  Total:",5237,47,4615,16,7179,93,976,168,7010,107,16107,83,15948,118,6237,99,2263,172,2954,26,3555,21,null,0.89746037807905288,"Yes",0.34669555796316359,"Yes",1.2954450480568325,"Yes",17.21311475409836,"No",1.5263908701854494,"Yes",0.5153039051344136,"Yes",0.73990469024329075,"Yes",1.5873015873015872,"Yes",7.6005302695536905,"Yes",0.88016249153689918,"Yes",0.59071729957805907,"Yes"]
[null,"    Same house ",4496,370,4388,105,6425,372,895,155,6451,248,13718,424,13473,454,5623,179,2131,173,2795,62,3014,269,null,8.2295373665480422,"Yes",2.3928896991795807,"Yes",5.7898832684824901,"Yes",17.318435754189945,"No",3.8443652146953959,"Yes",3.090829566992273,"Yes",3.3697023676983595,"Yes",3.1833540814511827,"Yes",8.1182543406851249,"Yes",2.21824686940966,"Yes",8.9250165892501663,"Yes"]
[null,"    Different house 2",741,380.07762365074848,227,111.40017953306898,754,350.7848343358076,81,59.648973168026956,559,234.93190502781866,2389,420.10831936537511,2475,443.80401079755916,614,220.1317787144782,132,67.461099902091718,159,58.915193286621744,541,269.53107427530506,null,51.292526808468075,"No",49.074968957299106,"No",46.523187577693314,"No",73.640707614848083,"No",42.027174423581151,"No",17.58511173567916,"No",17.931475183739764,"No",35.852081223856388,"No",51.106893865221004,"No",37.053580683409905,"No",49.820900975102603,"No"]
[null,"      in New Hampshire",649,368.17658806610723,217,109.83624174196785,680,344.71002306286368,65,47.75981574503821,391,221.02714765385721,1924,381.08398024582453,1920,385.99611397007612,490,209.34421415458323,86,49.040799340956916,118,53.907327887774215,508,265.85146228674387,null,56.729828669662133,"No",50.615779604593477,"No",50.692650450421127,"No",73.476639607751096,"No",56.528682264413611,"No",19.806859680136409,"No",20.103964269274798,"No",42.723309011139435,"No",57.024185280182458,"No",45.684176176079845,"No",52.332965017075558,"No"]
[null,"          Same county",384,325,55,60,545,315,12,16,343,217,1324,300,1219,288,434,204,39,31,85,41,281,201,null,84.635416666666657,"No",109.09090909090908,"No",57.798165137614674,"No",133.33333333333331,"No",63.265306122448983,"No",22.658610271903324,"No",23.625922887612795,"No",47.004608294930875,"No",79.487179487179489,"No",48.235294117647058,"No",71.530249110320284,"No"]
[null,"          Different county",265,173,162,92,135,140,53,45,48,42,600,235,701,257,56,47,47,38,33,35,227,174,null,65.283018867924525,"No",56.79012345679012,"No",103.7037037037037,"No",84.905660377358487,"No",87.5,"No",39.166666666666664,"No",36.661911554921538,"No",83.928571428571431,"No",80.851063829787222,"No",106.06060606060606,"No",76.651982378854626,"No"]
[null,"      in Different state",92,93,10,15,74,63,16,34,168,78,426,171,506,212,117,67,46,45,36,22,33,43,null,101.08695652173914,"No",150,"No",85.13513513513513,"No",212.5,"No",46.428571428571431,"No",40.140845070422536,"No",41.897233201581031,"No",57.26495726495726,"No",97.826086956521735,"No",61.111111111111114,"No",130.30303030303031,"No"]
[null,"       Elsewhere",0,16,0,11,0,16,0,11,0,16,39,45,49,55,7,12,0,11,5,9,0,11,null,{"$error":"#DIV/0!"},{"$error":"#DIV/0!"},{"$error":"#DIV/0!"},{"$error":"#DIV/0!"},{"$error":"#DIV/0!"},{"$error":"#DIV/0!"},{"$error":"#DIV/0!"},{"$error":"#DIV/0!"},{"$error":"#DIV/0!"},{"$error":"#DIV/0!"},115.38461538461537,"No",112.24489795918366,"No",171.42857142857142,"No",{"$error":"#DIV/0!"},{"$error":"#DIV/0!"},180,"No",{"$error":"#DIV/0!"},{"$error":"#DIV/0!"}]
[]
[]
[]
[null,"Calculated GEOGRAPHICAL MOBILITY IN THE PAST YEAR BY SEX FOR CURRENT RESIDENCE IN THE UNITED STATES"]
[null,"Universe:  POPULATION 1 YEAR AND OVER IN THE UNITED STATES"]
[null,"Data Set: 2008-2012 American Community Survey 5-Year Estimates"]
[null,null,"Alton",null,"Barnstead",null,"Belmont",null,"Center Harbor",null,"Gilford",null,"Gilmanton",null,"Laconia",null,"Meredith",null,"New Hampton",null,"Sanbornton",null,"Tilton"]
[null," ","Estimate","Margin of Error","Estimate","Margin of Error","Estimate","Margin of Error","Estimate","Margin of Error","Estimate","Margin of Error","Estimate","Margin of Error","Estimate","Margin of Error","Estimate","Margin of Error","Estimate","Margin of Error","Estimate","Margin of Error","Estimate","Margin of Error"]
[null,"Total",5194,49,4471,74,7321,44,1018,141,7126,30,3716,49,15925,90,6249,33,2222,144,2923,36,3578,26]
[null,"    Same house ",4779,305,4121,164,6495,454,961,138,6456,273,3576,103,13343,474,5528,291,1974,141,2725,111,3160,183]
[null,"    Different house ",415,251.3762120806183,350,168.493323309857,826,421.66811593953838,57,48.114446894877631,670,249.65776575143823,140,96.524608261313347,2582,496.66286352011463,721,306.93484650655091,248,88.915690403887666,198,111.95534824205586,418,180.48268615022329]
[null,"      in New Hampshire",357,245.7173172570464,249,138.03260484392808,750,408.54130758100825,31,33.241540277189323,353,152.55490814785344,56,42.426406871192853,2100,441.87441654841257,626,300.58775756840129,221,85.796270315206598,123,93.407708461347028,285,145.09651959988565]
[null,"          Same county",228,224,60,93,279,195,28,33,236,128,25,30,1603,393,293,217,120,65,32,25,76,58]
[null,"          Different county",129,101,189,102,471,359,3,4,117,83,31,30,497,202,333,208,101,56,91,90,209,133]
[null,"      in Different state",27,38,101,96,11,17,26,33,242,160,84,86,417,214,95,60,16,16,50,55,115,100]
[null,"       Elsewhere",31,37,0,11,65,103,0,11,75,116,0,11,65,75,0,16,11,17,25,28,18,39]

{"sheet":"ACS_Table_B14001","index":64,"n_rows":98,"n_cols":24,"rows_kept":98,"cut":false,"hidden":true,"merged":[]}
[null,"B14001. SCHOOL ENROLLMENT BY LEVEL OF SCHOOL FOR THE POPULATION 3 YEARS AND OVER"]
[null,"Universe: POPULATION 3 YEARS AND OVER"]
[null,"Data Set: 2018-2022 American Community Survey 5-Year Estimates"]
[]
[null,null,"Alton",null,"Barnstead",null,"Belmont",null,"Center Harbor",null,"Gilford",null,"Gilmanton",null,"Laconia",null,"Meredith",null,"New Hampton",null,"Sanbornton",null,"Tilton"]
[null," ","Estimate","Margin of Error","Estimate","Margin of Error","Estimate","Margin of Error","Estimate","Margin of Error","Estimate","Margin of Error","Estimate","Margin of Error","Estimate","Margin of Error","Estimate","Margin of Error","Estimate","Margin of Error","Estimate","Margin of Error","Estimate","Margin of Error"]
[null,"Total:",5797,109,4841,68,7172,107,817,180,7402,142,3788,74,16501,183,6658,48,2554,184,2979,39,3847,53]
[null,"Enrolled in school:",1112,246,1160,213,1664,344,89,45,1602,354,782,214,3000,392,1003,185,394,93,515,116,650,185]
[null,"Enrolled in nursery school, preschool",139,124,48,51,38,49,5,9,160,93,82,67,188,112,26,32,0,12,30,39,48,42]
[null,"Enrolled in kindergarten",0,17,42,39,125,97,7,10,47,72,4,11,143,97,77,37,13,15,13,20,20,32]
[null,"Enrolled in grade 1 to grade 4",332,181,286,105,306,128,21,19,317,138,100,70,601,231,153,87,43,36,100,77,110,99]
[null,"Enrolled in grade 5 to grade 8",156,88,354,128,378,194,13,13,427,189,236,131,747,206,93,67,173,92,242,124,195,96]
[null,"Enrolled in grade 9 to grade 12",339,183,262,117,571,214,34,30,235,152,186,103,844,367,517,164,38,26,79,82,99,66]
[null,"Enrolled in college, undergraduate years",80,49,96,53,196,137,3,4,308,241,112,91,398,173,106,74,94,51,5,8,127,80]
[null,"Graduate or professional school",66,60,72,47,50,60,6,7,108,73,62,57,79,59,31,35,33,27,46,45,51,63]
[null,"Not enrolled in school",4685,215,3681,190,5508,313,728,163,5800,373,3006,179,13501,418,5655,196,2160,178,2464,107,3197,177]
[]
[]
[]
[null,"B14001. Calculated  SCHOOL ENROLLMENT BY LEVEL OF SCHOOL FOR THE POPULATION 3 YEARS AND OVER "]
[null,"Universe: POPULATION 3 YEARS AND OVER"]
[null,"Data Set: 2018-2022 American Community Survey 5-Year Estimates"]
[]
[null,null,"Alton",null,"Barnstead",null,"Belmont",null,"Center Harbor",null,"Gilford",null,"Gilmanton",null,"Laconia",null,"Meredith",null,"New Hampton",null,"Sanbornton",null,"Tilton"]
[null,null,"Estimate","Margin Of Error","Estimate","Margin Of Error","Estimate","Margin Of Error","Estimate","Margin Of Error","Estimate","Margin Of Error","Estimate","Margin Of Error","Estimate","Margin Of Error","Estimate","Margin Of Error","Estimate","Margin Of Error","Estimate","Margin Of Error","Estimate","Margin Of Error"]
[null,"Total:",{"$f":"C7","v":5797},{"$f":"D7","v":109},{"$f":"E7","v":4841},68,7172,107,817,180,7402,142,3788,74,16501,183,6658,48,2554,184,2979,39,3847,53]
[null,"Enrolled in school:",{"$f":"C8","v":1112},{"$f":"D8","v":246},{"$f":"E8","v":1160},213,1664,344,89,45,1602,354,782,214,3000,392,1003,185,394,93,515,116,650,185]
[null,"Enrolled in nursery school, preschool, and Kindergarten",{"$f":"C9+C10","v":139},{"$f":"SQRT((D9^2)+(D10^2))","v":125.15989773086265},{"$f":"E9+E10","v":90},{"$f":"SQRT((F9^2)+(F10^2))","v":64.202803677098089},{"$f":"G9+G10","v":163},{"$f":"SQRT((H9^2)+(H10^2))","v":108.67382389517726},{"$f":"I9+I10","v":12},{"$f":"SQRT((J9^2)+(J10^2))","v":13.45362404707371},{"$f":"K9+K10","v":207},{"$f":"SQRT((L9^2)+(L10^2))","v":117.61377470347595},{"$f":"M9+M10","v":86},{"$f":"SQRT((N9^2)+(N10^2))","v":67.896980787071826},{"$f":"O9+O10","v":331},{"$f":"SQRT((P9^2)+(P10^2))","v":148.16544806398016},{"$f":"Q9+Q10","v":103},{"$f":"SQRT((R9^2)+(R10^2))","v":48.918299234540036},{"$f":"S9+S10","v":13},{"$f":"SQRT((T9^2)+(T10^2))","v":19.209372712298546},{"$f":"U9+U10","v":43},{"$f":"SQRT((V9^2)+(V10^2))","v":43.829214001622255},{"$f":"W9+W10","v":68},{"$f":"SQRT((X9^2)+(X10^2))","v":52.801515129776341}]
[null,"Enrolled in nursery school, preschool",{"$f":"C9","v":139},124,48,51,38,49,5,9,160,93,82,67,188,112,26,32,0,12,30,39,48,42]
[null,"Enrolled in kindergarten",{"$f":"C10","v":0},17,42,39,125,97,7,10,47,72,4,11,143,97,77,37,13,15,13,20,20,32]
[null,"Enrolled in grade Elementary School (grade 1 to grade 8)",{"$f":"C11+C12","v":488},{"$f":"SQRT((D11^2)+(D12^2))","v":201.25854019146615},{"$f":"E11+E12","v":640},{"$f":"SQRT((F11^2)+(F12^2))","v":165.55663683464942},{"$f":"G11+G12","v":684},{"$f":"SQRT((H11^2)+(H12^2))","v":232.42202993692314},{"$f":"I11+I12","v":34},{"$f":"SQRT((J11^2)+(J12^2))","v":23.021728866442675},{"$f":"K11+K12","v":744},{"$f":"SQRT((L11^2)+(L12^2))","v":234.01922997907673},{"$f":"M11+M12","v":336},{"$f":"SQRT((N11^2)+(N12^2))","v":148.52945835759317},{"$f":"O11+O12","v":1348},{"$f":"SQRT((P11^2)+(P12^2))","v":309.51090449287892},{"$f":"Q11+Q12","v":246},{"$f":"SQRT((R11^2)+(R12^2))","v":109.80892495603443},{"$f":"S11+S12","v":216},{"$f":"SQRT((T11^2)+(T12^2))","v":98.792712281827747},{"$f":"U11+U12","v":342},{"$f":"SQRT((V11^2)+(V12^2))","v":145.96232390586277},{"$f":"W11+W12","v":305},{"$f":"SQRT((X11^2)+(X12^2))","v":137.90213921473443}]
[null,"Enrolled in grade 9 to grade 12",{"$f":"C13","v":339},{"$f":"D13","v":183},{"$f":"E13","v":262},117,571,214,34,30,235,152,186,103,844,367,517,164,38,26,79,82,99,66]
[null,"Enrolled in Elementary and High School",{"$f":"C11+C12+C13","v":827},{"$f":"SQRT((D11^2)+(D12^2)+(D13^2))","v":272.01838173182341},{"$f":"E11+E12+E13","v":902},{"$f":"SQRT((F11^2)+(F12^2)+(F13^2))","v":202.72641663088706},{"$f":"G11+G12+G13","v":1255},{"$f":"SQRT((H11^2)+(H12^2)+(H13^2))","v":315.93670252124872},{"$f":"I11+I12+I13","v":68},{"$f":"SQRT((J11^2)+(J12^2)+(J13^2))","v":37.815340802378074},{"$f":"K11+K12+K13","v":979},{"$f":"SQRT((L11^2)+(L12^2)+(L13^2))","v":279.05017469981988},{"$f":"M11+M12+M13","v":522},{"$f":"SQRT((N11^2)+(N12^2)+(N13^2))","v":180.74844397670481},{"$f":"O11+O12+O13","v":2192},{"$f":"SQRT((P11^2)+(P12^2)+(P13^2))","v":480.08957497533726},{"$f":"Q11+Q12+Q13","v":763},{"$f":"SQRT((R11^2)+(R12^2)+(R13^2))","v":197.3676771915807},{"$f":"S11+S12+S13","v":254},{"$f":"SQRT((T11^2)+(T12^2)+(T13^2))","v":102.15674231297707},{"$f":"U11+U12+U13","v":421},{"$f":"SQRT((V11^2)+(V12^2)+(V13^2))","v":167.41863695538797},{"$f":"W11+W12+W13","v":404},{"$f":"SQRT((X11^2)+(X12^2)+(X13^2))","v":152.88230767489088}]
[null,"Enrolled in College or Graduate School",{"$f":"C14+C15","v":146},{"$f":"SQRT((D14^2)+(D15^2))","v":77.466121627457255},{"$f":"E14+E15","v":168},{"$f":"SQRT((F14^2)+(F15^2))","v":70.837842993699354},{"$f":"G14+G15","v":246},{"$f":"SQRT((H14^2)+(H15^2))","v":149.56269588369955},{"$f":"I14+I15","v":9},{"$f":"SQRT((J14^2)+(J15^2))","v":8.0622577482985491},{"$f":"K14+K15","v":416},{"$f":"SQRT((L14^2)+(L15^2))","v":251.81342299408902},{"$f":"M14+M15","v":174},{"$f":"SQRT((N14^2)+(N15^2))","v":107.37783756436893},{"$f":"O14+O15","v":477},{"$f":"SQRT((P14^2)+(P15^2))","v":182.78402556022229},{"$f":"Q14+Q15","v":137},{"$f":"SQRT((R14^2)+(R15^2))","v":81.859635963031252},{"$f":"S14+S15","v":127},{"$f":"SQRT((T14^2)+(T15^2))","v":57.706152185014034},{"$f":"U14+U15","v":51},{"$f":"SQRT((V14^2)+(V15^2))","v":45.705579528105758},{"$f":"W14+W15","v":178},{"$f":"SQRT((X14^2)+(X15^2))","v":101.82828683622247}]
[null,"Not enrolled in school",{"$f":"C16","v":4685},{"$f":"D16","v":215},{"$f":"E16","v":3681},190,5508,313,728,163,5800,373,3006,179,13501,418,5655,196,2160,178,2464,107,3197,177]
[]
[]
[null,"B14001. Calculated  SCHOOL ENROLLMENT BY LEVEL OF SCHOOL FOR THE POPULATION 3 YEARS AND OVER "]
[null,"Universe: POPULATION 3 YEARS AND OVER"]
[null,"Data Set: 2013-2017 American Community Survey 5-Year Estimates"]
[]
[null,null,"Alton",null,"Barnstead",null,"Belmont",null,"Center Harbor",null,"Gilford",null,"Gilmanton",null,"Laconia",null,"Meredith",null,"New Hampton",null,"Sanbornton",null,"Tilton"]
[null," ","Estimate","Margin of Error","Estimate","Margin of Error","Estimate","Margin of Error","Estimate","Margin of Error","Estimate","Margin of Error","Estimate","Margin of Error","Estimate","Margin of Error","Estimate","Margin of Error","Estimate","Margin of Error","Estimate","Margin of Error","Estimate","Margin of Error"]
[null,"Total:",5237,47,4558,45,7083,123,956,164,6937,127,15854,124,15644,137,5995,142,2199,174,2934,33,3471,78]
[null,"Enrolled in school:",1249,203,1107,179,1643,276,97,51,1524,224,3193,400,3216,389,1226,227,576,143,641,98,707,137]
[null,"Enrolled in nursery school, preschool, and Kindergarten",98,84.528101836016646,123,80.777472107017559,130,92.612094242598786,16,15.652475842498529,108,71.449282711584999,278,117.17081547894082,271,111.4136436887332,128,77.820305833374874,23,19.313207915827967,71,34.985711369071801,118,65.192024052026483]
[null,"Enrolled in nursery school, preschool",98,83,68,69,33,39,11,14,46,49,83,52,106,53,82,70,5,7,48,30,64,55]
[null,"Enrolled in kindergarten",0,16,55,42,97,84,5,7,62,52,195,105,165,98,46,34,18,18,23,18,54,35]
[null,"Enrolled in grade Elementary School (grade 1 to grade 8)",693,181.20706387997132,416,102.6498904042279,698,229.82819670353766,18,13.892443989449804,763,237.77720664521232,1200,275.42694131112154,1375,297.03871801500895,572,156.42570121306792,221,64.202803677098089,293,73.061617830431317,246,91.021975368588869]
[null,"Enrolled in grade 9 to grade 12",272,123,275,116,417,142,17,14,340,136,662,167,644,165,274,81,190,68,161,52,201,92]
[null,"Enrolled in Elementary and High School",965,219.0091322296858,691,154.89673979784081,1115,270.15736155063405,35,19.723082923316021,1103,273.92334694216919,1862,322.10091586333624,2019,339.78964080736773,846,176.15334229017625,411,93.520051325905499,454,89.677198885781436,447,129.41792766073794]
[null,"Enrolled in College or Graduate School",186,112.2007130102122,293,125.57467897629681,398,189.274932307477,46,39.812058474788763,313,145.7737973711325,1053,284.07393403830628,926,234.54210709380095,252,125.35549449465708,142,90.801982357215081,116,49.040799340956916,142,91.662424144247893]
[null,"Not enrolled in school",3988,206,3451,178,5440,228,859,136,5413,192,12661,396,12428,386,4769,169,1623,133,2293,93,2764,137]
[]
[]
[]
[]
[]
[]
[]
[]
[]
[]
[]
[]
[]
[]
[]
[]
[]
[]
[]
[]
[]
[]
[]
[]
[]
[]
[]
[]
[]
[null,"B14001.Calculated  SCHOOL ENROLLMENT BY LEVEL OF SCHOOL FOR THE POPULATION 3 YEARS AND OVER "]
[null,"Universe: POPULATION 3 YEARS AND OVER"]
[null,"Data Set: 2008-2012 American Community Survey 5-Year Estimates"]
[]
[null,null,"Alton",null,"Barnstead",null,"Belmont",null,"Center Harbor",null,"Gilford",null,"Gilmanton",null,"Laconia",null,"Meredith",null,"New Hampton",null,"Sanbornton",null,"Tilton"]
[null," ","Estimate","Margin of Error","Estimate","Margin of Error","Estimate","Margin of Error","Estimate","Margin of Error","Estimate","Margin of Error","Estimate","Margin of Error","Estimate","Margin of Error","Estimate","Margin of Error","Estimate","Margin of Error","Estimate","Margin of Error","Estimate","Margin of Error"]
[null,"Total:",5129,75,4407,79,7107,122,1013,141,6999,67,3671,55,15601,136,6153,80,2198,142,2823,69,3473,57]
[null,"Enrolled in school:",987,212,931,128,1900,321,221,58,1589,251,971,147,2844,308,1228,191,537,88,493,88,800,142]
[null,"Enrolled in nursery school, preschool, and Kindergarten",89,66.468037431535464,73,45,143,80.622577482985491,18,18.973665961010276,122,65.76473218982953,79,56.36488268416781,166,71.589105316381762,54,43.840620433565945,28,21.2602916254693,84,50.931326312987373,56,48.052055106935853]
[null,"Enrolled in nursery school, preschool",58,47,28,27,43,40,12,18,56,46,52,51,81,54,28,31,14,14,43,35,6,10]
[null,"Enrolled in kindergarten",31,47,45,36,100,70,6,6,66,47,27,24,85,47,26,31,14,16,41,37,50,47]
[null,"Enrolled in grade Elementary School (grade 1 to grade 8)",408,179.76929659983654,321,111.28791488746656,844,226.24102192131292,71,30.610455730027933,641,164.21023110634732,488,115.74541027617467,1537,248.03225596683993,688,187.32325002519042,252,55.865910893853687,184,60.959002616512684,319,89.358827208060418]
[null,"Enrolled in grade 9 to grade 12",318,125,383,109,558,179,58,31,524,191,203,74,620,154,342,113,131,52,107,44,198,111]
[null,"Enrolled in Elementary and High School",726,218.95661670751127,704,155.77547945681309,1402,288.48916790756635,129,43.56604182158393,1165,251.88489434660428,691,137.37903770226373,2157,291.95205085767083,1030,218.7669993394799,383,76.321687612368734,291,75.179784516850006,517,142.49912280431764]
[null,"Enrolled in College or Graduate School",172,79.259068881737434,154,68.425141578224014,355,175.72990639046048,74,34.365680554879162,302,108.55873986004075,201,83.240615086627031,521,153.94154734833609,144,74.323616704248181,126,52.172789842982326,118,56.639209034025185,227,71.61005515987263]
[null,"Not enrolled in school",4142,197,3476,135,5207,308,792,119,5410,261,2700,141,12757,308,4925,187,1661,134,2330,85,2673,126]

{"sheet":"ACS_Table_B15002","index":65,"n_rows":141,"n_cols":24,"rows_kept":141,"cut":false,"hidden":true,"merged":[]}
[null,"B15002. SEX BY EDUCATIONAL ATTAINMENT FOR THE POPULATION 25 YEARS AND OVER"]
[null,"Universe: Population 25 years an over"]
[null,"Data Set: 2018-2022 American Community Survey 5-Year Estimates"]
[]
[null,null,"Alton",null,"Barnstead",null,"Belmont",null,"Center Harbor",null,"Gilford",null,"Gilmanton",null,"Laconia",null,"Meredith",null,"New Hampton",null,"Sanbornton",null,"Tilton"]
[null," ","Estimate","Margin of Error","Estimate","Margin of Error","Estimate","Margin of Error","Estimate","Margin of Error","Estimate","Margin of Error","Estimate","Margin of Error","Estimate","Margin of Error","Estimate","Margin of Error","Estimate","Margin of Error","Estimate","Margin of Error","Estimate","Margin of Error"]
[null,"Total:",4367,273,3494,184,5406,301,716,162,5665,331,2951,158,12408,444,5243,230,2201,165,2363,135,3167,166]
[null,"Male:",2003,191,1629,140,2620,209,348,90,2663,279,1555,166,6078,407,2761,220,1184,123,1220,111,1571,177]
[null,"No schooling completed",10,19,0,12,88,90,0,12,0,17,33,53,31,41,0,17,0,12,12,21,0,12]
[null,"Nursery to 4th grade",0,17,0,12,0,17,0,12,0,17,0,12,0,19,0,17,0,12,0,12,0,12]
[null,"5th and 6th grade",0,17,0,12,0,17,0,12,0,17,0,12,44,55,0,17,0,12,0,12,6,12]
[null,"7th and 8th grade",0,17,0,12,20,25,0,12,0,17,0,12,41,39,0,17,13,13,0,12,17,28]
[null,"9th grade",13,20,8,14,13,22,3,6,50,71,0,12,138,131,22,31,13,15,0,12,7,18]
[null,"10th grade",0,17,12,20,92,83,4,7,6,11,11,19,170,137,33,53,17,22,151,197,80,72]
[null,"11th grade",41,53,41,44,11,24,5,7,11,19,0,12,163,91,109,110,0,12,18,22,51,53]
[null,"12th grade, no diploma",15,25,57,43,53,68,5,7,0,17,53,59,105,87,9,16,18,26,0,12,0,12]
[null,"High school graduate, GED, or alternative",739,163,681,162,940,245,148,62,736,200,393,128,2203,356,879,216,368,117,301,111,573,134]
[null,"Some college, less than 1 year",163,100,101,60,200,111,6,7,122,89,91,63,276,122,117,68,95,62,63,45,211,111]
[null,"Some college, 1 or more years, no degree",195,123,115,57,265,129,39,31,383,190,294,161,678,227,259,121,189,81,199,112,116,83]
[null,"Associate's degree",306,136,119,55,452,173,0,12,284,122,185,98,536,231,160,83,70,35,104,75,186,106]
[null,"Bachelor's degree",321,138,314,133,300,134,68,32,441,137,269,125,1185,263,748,164,265,51,228,104,197,91]
[null,"Master's degree",183,123,155,85,100,67,40,25,449,161,176,78,374,170,303,126,86,45,126,63,114,79]
[null,"Professional school degree",9,18,6,11,58,57,0,12,102,63,41,55,99,60,41,36,13,14,12,19,0,12]
[null,"Doctorate degree",8,15,20,22,28,39,30,21,79,63,9,15,35,46,81,79,37,23,6,10,13,24]
[null,"Female:",2364,214,1865,144,2786,239,368,94,3002,230,1396,136,6330,337,2482,188,1017,94,1143,154,1596,159]
[null,"No schooling completed",0,17,0,12,54,59,0,12,0,17,0,12,30,34,7,12,0,12,0,12,0,12]
[null,"Nursery to 4th grade",0,17,0,12,0,17,0,12,0,17,0,12,0,19,0,17,0,12,0,12,0,12]
[null,"5th and 6th grade",0,17,0,12,0,17,0,12,0,17,0,12,0,19,0,17,0,12,0,12,0,12]
[null,"7th and 8th grade",0,17,0,12,31,40,0,12,78,108,31,39,96,81,15,18,33,50,10,19,0,12]
[null,"9th grade",0,17,40,59,0,17,0,12,0,17,0,12,132,86,0,17,0,12,0,12,0,12]
[null,"10th grade",0,17,13,16,167,182,0,12,26,37,11,19,15,20,14,20,26,37,0,12,0,12]
[null,"11th grade",109,98,14,23,37,52,0,12,9,16,0,12,37,36,0,17,0,12,6,12,9,13]
[null,"12th grade, no diploma",0,17,18,22,28,45,4,6,0,17,0,12,96,91,0,17,17,17,18,29,7,12]
[null,"High school graduate, GED, or alternative",608,178,594,150,1099,282,57,28,597,193,286,110,1633,269,509,138,233,74,214,74,451,141]
[null,"Some college, less than 1 year",110,55,175,85,294,134,46,51,128,60,150,84,463,136,195,96,126,51,168,97,238,90]
[null,"Some college, 1 or more years, no degree",315,140,272,115,279,136,54,39,477,198,126,68,977,229,454,171,100,83,166,84,221,106]
[null,"Associate's degree",469,197,323,123,158,107,30,21,312,137,195,95,1180,278,161,61,147,63,87,60,76,51]
[null,"Bachelor's degree",526,199,224,96,492,180,122,61,723,215,326,103,1066,205,477,149,196,77,311,121,328,120]
[null,"Master's degree",227,95,192,83,126,100,46,26,569,159,263,99,459,135,464,115,105,49,139,92,260,126]
[null,"Professional school degree",0,17,0,12,0,17,2,4,70,73,8,13,131,127,93,53,27,20,24,31,6,11]
[null,"Doctorate degree",0,17,0,12,21,32,7,8,13,21,0,12,15,18,93,98,7,10,0,12,0,12]
[]
[]
[]
[]
[]
[]
[]
[]
[null,"Calculated B15002. SEX BY EDUCATIONAL ATTAINMENT FOR THE POPULATION 25 YEARS AND OVER"]
[null,{"$f":"B2","v":"Universe: Population 25 years an over"}]
[null,{"$f":"B3","v":"Data Set: 2018-2022 American Community Survey 5-Year Estimates"},"Alton",null,"Barnstead",null,"Belmont",null,"Center Harbor",null,"Gilford",null,"Gilmanton",null,"Laconia",null,"Meredith",null,"New Hampton",null,"Sanbornton",null,"Tilton"]
[null," ","Estimates","Margin of Error","Estimates","Margin of Error","Estimates","Margin of Error","Estimates","Margin of Error","Estimates","Margin of Error","Estimates","Margin of Error","Estimates","Margin of Error","Estimates","Margin of Error","Estimates","Margin of Error","Estimates","Margin of Error","Estimates","Margin of Error"]
[null,"Total:",{"$f":"C7","v":4367},{"$f":"D7","v":273},{"$f":"E7","v":3494},184,5406,301,716,162,5665,331,2951,158,12408,444,5243,230,2201,165,2363,135,3167,166]
[null,"Less than 9th grade",{"$f":"(C12+C11+C10)+(C27+C28+C29)","v":0},{"$f":"SQRT((D12^2)+(D11^2)+(D10^2)+(D27^2)+(D28^2)+(D29^2))","v":41.641325627314025},{"$f":"(E12+E11+E10)+(E27+E28+E29)","v":0},{"$f":"SQRT((F12^2)+(F11^2)+(F10^2)+(F27^2)+(F28^2)+(F29^2))","v":29.393876913398138},{"$f":"(G12+G11+G10)+(G27+G28+G29)","v":51},{"$f":"SQRT((H12^2)+(H11^2)+(H10^2)+(H27^2)+(H28^2)+(H29^2))","v":58.146367040426526},{"$f":"(I12+I11+I10)+(I27+I28+I29)","v":0},{"$f":"SQRT((J12^2)+(J11^2)+(J10^2)+(J27^2)+(J28^2)+(J29^2))","v":29.393876913398138},{"$f":"(K12+K11+K10)+(K27+K28+K29)","v":78},{"$f":"SQRT((L12^2)+(L11^2)+(L10^2)+(L27^2)+(L28^2)+(L29^2))","v":114.49454135459908},{"$f":"(M12+M11+M10)+(M27+M28+M29)","v":31},{"$f":"SQRT((N12^2)+(N11^2)+(N10^2)+(N27^2)+(N28^2)+(N29^2))","v":47.339201514178498},{"$f":"(O12+O11+O10)+(O27+O28+O29)","v":181},{"$f":"SQRT((P12^2)+(P11^2)+(P10^2)+(P27^2)+(P28^2)+(P29^2))","v":110.40833301884419},{"$f":"(Q12+Q11+Q10)+(Q27+Q28+Q29)","v":15},{"$f":"SQRT((R12^2)+(R11^2)+(R10^2)+(R27^2)+(R28^2)+(R29^2))","v":42.059481689626182},{"$f":"(S12+S11+S10)+(S27+S28+S29)","v":46},{"$f":"SQRT((T12^2)+(T11^2)+(T10^2)+(T27^2)+(T28^2)+(T29^2))","v":56.964901474504458},{"$f":"(U12+U11+U10)+(U27+U28+U29)","v":10},{"$f":"SQRT((V12^2)+(V11^2)+(V10^2)+(V27^2)+(V28^2)+(V29^2))","v":32.878564445547191},{"$f":"(W12+W11+W10)+(W27+W28+W29)","v":23},{"$f":"SQRT((X12^2)+(X11^2)+(X10^2)+(X27^2)+(X28^2)+(X29^2))","v":38.781438859330635}]
[null,"9th to 12th grade, no diploma",{"$f":"(C13+C14+C15+C16)+(C30+C31+C32+C33)","v":178},{"$f":"SQRT((D13^2)+(D14^2)+(D15^2)+(D16^2)+(D30^2)+(D31^2)+(D32^2)+(D33^2))","v":120.8056290079233},{"$f":"(E13+E14+E15+E16)+(E30+E31+E32+E33)","v":203},{"$f":"SQRT((F13^2)+(F14^2)+(F15^2)+(F16^2)+(F30^2)+(F31^2)+(F32^2)+(F33^2))","v":95.556266147228669},{"$f":"(G13+G14+G15+G16)+(G30+G31+G32+G33)","v":401},{"$f":"SQRT((H13^2)+(H14^2)+(H15^2)+(H16^2)+(H30^2)+(H31^2)+(H32^2)+(H33^2))","v":225.19991119003578},{"$f":"(I13+I14+I15+I16)+(I30+I31+I32+I33)","v":21},{"$f":"SQRT((J13^2)+(J14^2)+(J15^2)+(J16^2)+(J30^2)+(J31^2)+(J32^2)+(J33^2))","v":25.514701644346147},{"$f":"(K13+K14+K15+K16)+(K30+K31+K32+K33)","v":102},{"$f":"SQRT((L13^2)+(L14^2)+(L15^2)+(L16^2)+(L30^2)+(L31^2)+(L32^2)+(L33^2))","v":89.526532380071558},{"$f":"(M13+M14+M15+M16)+(M30+M31+M32+M33)","v":75},{"$f":"SQRT((N13^2)+(N14^2)+(N15^2)+(N16^2)+(N30^2)+(N31^2)+(N32^2)+(N33^2))","v":70.164093381158992},{"$f":"(O13+O14+O15+O16)+(O30+O31+O32+O33)","v":856},{"$f":"SQRT((P13^2)+(P14^2)+(P15^2)+(P16^2)+(P30^2)+(P31^2)+(P32^2)+(P33^2))","v":262.96957998977751},{"$f":"(Q13+Q14+Q15+Q16)+(Q30+Q31+Q32+Q33)","v":187},{"$f":"SQRT((R13^2)+(R14^2)+(R15^2)+(R16^2)+(R30^2)+(R31^2)+(R32^2)+(R33^2))","v":131.88252348207476},{"$f":"(S13+S14+S15+S16)+(S30+S31+S32+S33)","v":91},{"$f":"SQRT((T13^2)+(T14^2)+(T15^2)+(T16^2)+(T30^2)+(T31^2)+(T32^2)+(T33^2))","v":58.949130612757983},{"$f":"(U13+U14+U15+U16)+(U30+U31+U32+U33)","v":193},{"$f":"SQRT((V13^2)+(V14^2)+(V15^2)+(V16^2)+(V30^2)+(V31^2)+(V32^2)+(V33^2))","v":202.12372448577133},{"$f":"(W13+W14+W15+W16)+(W30+W31+W32+W33)","v":154},{"$f":"SQRT((X13^2)+(X14^2)+(X15^2)+(X16^2)+(X30^2)+(X31^2)+(X32^2)+(X33^2))","v":95.194537658418199}]
[null,"High school graduate (includes equivalency)",{"$f":"C17+C34","v":1347},{"$f":"SQRT((D17^2)+(D34^2))","v":241.3565826738521},{"$f":"E17+E34","v":1275},{"$f":"SQRT((F17^2)+(F34^2))","v":220.78043391568917},{"$f":"G17+G34","v":2039},{"$f":"SQRT((H17^2)+(H34^2))","v":373.56257842562337},{"$f":"I17+I34","v":205},{"$f":"SQRT((J17^2)+(J34^2))","v":68.029405406779802},{"$f":"K17+K34","v":1333},{"$f":"SQRT((L17^2)+(L34^2))","v":277.93704323101662},{"$f":"M17+M34","v":679},{"$f":"SQRT((N17^2)+(N34^2))","v":168.77203559831824},{"$f":"O17+O34","v":3836},{"$f":"SQRT((P17^2)+(P34^2))","v":446.20286865953699},{"$f":"Q17+Q34","v":1388},{"$f":"SQRT((R17^2)+(R34^2))","v":256.32011235952592},{"$f":"S17+S34","v":601},{"$f":"SQRT((T17^2)+(T34^2))","v":138.43771162512041},{"$f":"U17+U34","v":515},{"$f":"SQRT((V17^2)+(V34^2))","v":133.40539719216761},{"$f":"W17+W34","v":1024},{"$f":"SQRT((X17^2)+(X34^2))","v":194.51735141112732}]
[null,"Some college, no degree",{"$f":"(C18+C19)+(C35+C36)","v":783},{"$f":"SQRT((D18^2)+(D19^2)+(D35^2)+(D36^2))","v":218.52688621769175},{"$f":"(E18+E19)+(E35+E36)","v":663},{"$f":"SQRT((F18^2)+(F19^2)+(F35^2)+(F36^2))","v":165.22409025320732},{"$f":"(G18+G19)+(G35+G36)","v":1038},{"$f":"SQRT((H18^2)+(H19^2)+(H35^2)+(H36^2))","v":255.76160775221913},{"$f":"(I18+I19)+(I35+I36)","v":145},{"$f":"SQRT((J18^2)+(J19^2)+(J35^2)+(J36^2))","v":71.637978754289264},{"$f":"(K18+K19)+(K35+K36)","v":1110},{"$f":"SQRT((L18^2)+(L19^2)+(L35^2)+(L36^2))","v":294.66082196315136},{"$f":"(M18+M19)+(M35+M36)","v":661},{"$f":"SQRT((N18^2)+(N19^2)+(N35^2)+(N36^2))","v":203.8872237291979},{"$f":"(O18+O19)+(O35+O36)","v":2394},{"$f":"SQRT((P18^2)+(P19^2)+(P35^2)+(P36^2))","v":370.60760920412844},{"$f":"(Q18+Q19)+(Q35+Q36)","v":1025},{"$f":"SQRT((R18^2)+(R19^2)+(R35^2)+(R36^2))","v":240.25403222422719},{"$f":"(S18+S19)+(S35+S36)","v":510},{"$f":"SQRT((T18^2)+(T19^2)+(T35^2)+(T36^2))","v":141.04963665320091},{"$f":"(U18+U19)+(U35+U36)","v":596},{"$f":"SQRT((V18^2)+(V19^2)+(V35^2)+(V36^2))","v":176.16469566857032},{"$f":"(W18+W19)+(W35+W36)","v":786},{"$f":"SQRT((X18^2)+(X19^2)+(X35^2)+(X36^2))","v":196.33135256499406}]
[null,"Associate's degree",{"$f":"C20+C37","v":775},{"$f":"SQRT((D20^2)+(D37^2))","v":239.38462774372127},{"$f":"E20+E37","v":442},{"$f":"SQRT((F20^2)+(F37^2))","v":134.73678042761748},{"$f":"G20+G37","v":610},{"$f":"SQRT((H20^2)+(H37^2))","v":203.41583025910251},{"$f":"I20+I37","v":30},{"$f":"SQRT((J20^2)+(J37^2))","v":24.186773244895647},{"$f":"K20+K37","v":596},{"$f":"SQRT((L20^2)+(L37^2))","v":183.44754018519845},{"$f":"M20+M37","v":380},{"$f":"SQRT((N20^2)+(N37^2))","v":136.48809471891678},{"$f":"O20+O37","v":1716},{"$f":"SQRT((P20^2)+(P37^2))","v":361.44847488957538},{"$f":"Q20+Q37","v":321},{"$f":"SQRT((R20^2)+(R37^2))","v":103.00485425454472},{"$f":"S20+S37","v":217},{"$f":"SQRT((T20^2)+(T37^2))","v":72.069410986909006},{"$f":"U20+U37","v":191},{"$f":"SQRT((V20^2)+(V37^2))","v":96.046863561492728},{"$f":"W20+W37","v":262},{"$f":"SQRT((X20^2)+(X37^2))","v":117.63077828527702}]
[null,"Bachelor's degree",{"$f":"C21+C38","v":847},{"$f":"SQRT((D21^2)+(D38^2))","v":242.16729754448679},{"$f":"E21+E38","v":538},{"$f":"SQRT((F21^2)+(F38^2))","v":164.02743672934722},{"$f":"G21+G38","v":792},{"$f":"SQRT((H21^2)+(H38^2))","v":224.4014260204244},{"$f":"I21+I38","v":190},{"$f":"SQRT((J21^2)+(J38^2))","v":68.8839603971781},{"$f":"K21+K38","v":1164},{"$f":"SQRT((L21^2)+(L38^2))","v":254.93920843997299},{"$f":"M21+M38","v":595},{"$f":"SQRT((N21^2)+(N38^2))","v":161.96913286178943},{"$f":"O21+O38","v":2251},{"$f":"SQRT((P21^2)+(P38^2))","v":333.45764348714516},{"$f":"Q21+Q38","v":1225},{"$f":"SQRT((R21^2)+(R38^2))","v":221.57842855296181},{"$f":"S21+S38","v":461},{"$f":"SQRT((T21^2)+(T38^2))","v":92.357999112150537},{"$f":"U21+U38","v":539},{"$f":"SQRT((V21^2)+(V38^2))","v":159.55249919697278},{"$f":"W21+W38","v":525},{"$f":"SQRT((X21^2)+(X38^2))","v":150.60212481900777}]
[null,"Graduate or professional degree",{"$f":"(C22+C23+C24)+(C39+C40+C41)","v":427},{"$f":"SQRT((D22^2)+(D23^2)+(D24^2)+(D39^2)+(D41^2)+(D40^2))","v":159},{"$f":"(E22+E23+E24)+(E39+E40+E41)","v":373},{"$f":"SQRT((F22^2)+(F23^2)+(F24^2)+(F39^2)+(F41^2)+(F40^2))","v":122.50306118624138},{"$f":"(G22+G23+G24)+(G39+G40+G41)","v":333},{"$f":"SQRT((H22^2)+(H23^2)+(H24^2)+(H39^2)+(H41^2)+(H40^2))","v":143.42942515397598},{"$f":"(I22+I23+I24)+(I39+I40+I41)","v":125},{"$f":"SQRT((J22^2)+(J23^2)+(J24^2)+(J39^2)+(J41^2)+(J40^2))","v":44.339598554790726},{"$f":"(K22+K23+K24)+(K39+K40+K41)","v":1282},{"$f":"SQRT((L22^2)+(L23^2)+(L24^2)+(L39^2)+(L41^2)+(L40^2))","v":254.7744100179608},{"$f":"(M22+M23+M24)+(M39+M40+M41)","v":497},{"$f":"SQRT((N22^2)+(N23^2)+(N24^2)+(N39^2)+(N41^2)+(N40^2))","v":139.45608627808252},{"$f":"(O22+O23+O24)+(O39+O40+O41)","v":1113},{"$f":"SQRT((P22^2)+(P23^2)+(P24^2)+(P39^2)+(P41^2)+(P40^2))","v":263.2375353174391},{"$f":"(Q22+Q23+Q24)+(Q39+Q40+Q41)","v":1075},{"$f":"SQRT((R22^2)+(R23^2)+(R24^2)+(R39^2)+(R41^2)+(R40^2))","v":221.47460351019933},{"$f":"(S22+S23+S24)+(S39+S40+S41)","v":275},{"$f":"SQRT((T22^2)+(T23^2)+(T24^2)+(T39^2)+(T41^2)+(T40^2))","v":75.173133498611051},{"$f":"(U22+U23+U24)+(U39+U40+U41)","v":307},{"$f":"SQRT((V22^2)+(V23^2)+(V24^2)+(V39^2)+(V41^2)+(V40^2))","v":118.31736981525579},{"$f":"(W22+W23+W24)+(W39+W40+W41)","v":393},{"$f":"SQRT((X22^2)+(X23^2)+(X24^2)+(X39^2)+(X41^2)+(X40^2))","v":151.9934209102486}]
[]
[]
[]
[]
[]
[]
[]
[]
[]
[]
[]
[]
[]
[]
[]
[]
[]
[]
[]
[]
[]
[]
[]
[]
[]
[]
[]
[null,"Calculated B15002. SEX BY EDUCATIONAL ATTAINMENT FOR THE POPULATION 25 YEARS AND OVER"]
[null,"Universe: Population 25 years and over"]
[null,"Data Set: 2013-2017 American Community Survey 5-Year Estimates"]
[null,null,"Alton",null,"Barnstead",null,"Belmont",null,"Center Harbor",null,"Gilford",null,"Gilmanton",null,"Laconia",null,"Meredith",null,"New Hampton",null,"Sanbornton",null,"Tilton"]
[null," ","Estimates","Margin of Error","Estimates","Margin of Error","Estimates","Margin of Error","Estimates","Margin of Error","Estimates","Margin of Error","Estimates","Margin of Error","Estimates","Margin of Error","Estimates","Margin of Error","Estimates","Margin of Error","Estimates","Margin of Error","Estimates","Margin of Error"]
[null,"Total:",3872,206,3212,144,5240,204,826,122,5379,252,12078,327,11926,371,4566,166,1578,134,2232,93,2784,133]
[null,"Less than 9th grade",0,39.191835884530846,27,37.629775444453557,81,88.056799851005266,0,26.944387170614959,91,103.88936422945325,183,86.290208019218497,169,88.634079224641354,63,51.61395160225576,10,24.515301344262525,21,27.586228448267445,48,38.209946349085598]
[null,"9th to 12th grade, no diploma",149,91.755108849589405,108,53.823786563191554,629,270.09813031563175,22,28.583211855912904,135,72.221880341071156,1052,239.24673456496748,1129,250.76483006992828,179,84.752581081640216,80,46.346520905025869,43,31.701734968294716,195,88.910066921580935]
[null,"High school graduate (includes equivalency)",922,207.18349355100662,1079,176.18456232031227,1809,301.23080851732283,175,48.414873747640819,1393,233.07724041613329,3820,358.80356742931082,3895,386.78805565839286,1015,154.46682491719702,455,84.64632301523794,528,97.580735803743565,1108,184.94593804677083]
[null,"Some college, no degree",889,237.9327636119078,837,162.53614982520043,1259,287.97569341873282,188,66.407830863535963,963,213.77090541044166,2681,347.8922246903486,2646,330.61457923086209,752,153.09474190840129,249,64.093681435848268,444,96.431322712073182,579,142.19001371404391]
[null,"Associate's degree",453,132.54810447531869,366,104.89041900955492,387,171.89822570346675,93,38.948684188300895,606,145.45446022724775,1162,234.43762496664223,1001,190.85072700935672,516,131.48764200486676,162,51.855568649856693,319,75.690157880665041,210,76.216796049164913]
[null,"Bachelor's degree",934,212.30167215544958,558,136.4734406395618,693,209.34660255184463,209,57.801384066473702,1288,233.41379565055703,1923,262.40617370786077,1901,268.88287412923864,1236,214.00934559032697,395,70.178344238091,470,84.64632301523794,417,132.31024147812596]
[null,"Graduate or professional degree",509,195.03845774615837,200,66.53570470055908,316,116.80325337934727,139,45.276925690687087,903,179.62739212046696,1243,238.8158286211364,1094,196.9111474752001,795,171.05262348178118,225,67.029844099475568,392,90.31057523900509,227,90.227490267656236]
[]
[]
[]
[]
[]
[]
[]
[]
[]
[]
[]
[]
[]
[]
[]
[]
[]
[]
[]
[]
[]
[]
[]
[]
[]
[]
[]
[null,"Calculated B15002. SEX BY EDUCATIONAL ATTAINMENT FOR THE POPULATION 25 YEARS AND OVER"]
[null,"Universe:  POPULATION 25 YEARS AND OVER"]
[null,"Data Set: 2008-2012 American Community Survey 5-Year Estimates"]
[null,null,"Alton",null,"Barnstead",null,"Belmont",null,"Center Harbor",null,"Gilford",null,"Gilmanton",null,"Laconia",null,"Meredith",null,"New Hampton",null,"Sanbornton",null,"Tilton"]
[null," ","Estimates","Margin of Error","Estimates","Margin of Error","Estimates","Margin of Error","Estimates","Margin of Error","Estimates","Margin of Error","Estimates","Margin of Error","Estimates","Margin of Error","Estimates","Margin of Error","Estimates","Margin of Error","Estimates","Margin of Error","Estimates","Margin of Error"]
[null,"Total:",3962,203,3211,120,4712,256,773,114,5267,247,2524,133,11773,298,4827,168,1530,120,2239,88,2660,119]
[null,"Less than 9th grade",71,63.26136261573884,128,74.873226189339533,195,106.28264204469139,14,26.49528259898354,64,59.067757702489438,102,56.089214649520635,392,151.5255753990065,82,60.016664352494629,33,31.368774282716245,55,55.063599591744818,24,32.695565448543633]
[null,"9th to 12th grade, no diploma",280,120.88424214925617,113,59.883219686319471,416,149.75980769218421,23,28.231188426986208,191,105.09043724335721,143,67.867518003828607,1106,245.2243870417459,342,131.16783142218981,82,33.015148038438355,106,44.922154890432402,248,86.764047853935452]
[null,"High school graduate (includes equivalency)",877,211.303099835284,1151,175.82377541163197,1778,267.86003807959111,187,48.795491595023407,1342,220.63997824510409,670,129.27490088953849,4141,372.75863504417975,1213,197.43353311937665,431,72.138755187485728,545,102.53292154230269,918,175.06855799943062]
[null,"Some college, no degree",1108,265.21500711686735,497,118.76447280226525,967,230.05216799673937,169,57.54128952326321,855,198.4288285506922,681,148.34082378091338,2239,311.31013475311079,1117,235.31680772949474,302,55.740470037487128,447,87.298339044909667,591,142.06688565601766]
[null,"Associate's degree",605,183.66273438016759,438,126.58988901172162,378,136.03308421115798,35,18.439088914585774,710,206.20620747203515,225,75.822160349069449,1037,213.71476317746513,439,137.23337786413333,129,35.608987629529715,297,85.603738236130781,155,72.111025509279784]
[null,"Bachelor's degree",771,203.97303743387261,684,147.62791064023091,726,178.28067758453241,223,58.591808301161009,1144,225.80079716422614,495,124.45079348883236,1921,278.36846085718832,963,165.55965692160635,309,65.855903304107827,500,95.462034338264544,499,116.51609330903607]
[null,"Graduate or professional degree",103,66.452990903344599,72,38.236108588610321,164,85.058803189323086,61,31.256999216175569,623,164.12799883018133,97,51.264022471905186,415,132.28000604777731,361,99.025249305417049,108,43.474130238568314,170,70.242437315343778,149,93.781661320324247]

{"sheet":"ACS_Table_B25075_&_B25077","index":66,"n_rows":160,"n_cols":24,"rows_kept":160,"cut":false,"hidden":true,"merged":[]}
[null,"B25075. VALUE"]
[null,"Universe:  OWNER-OCCUPIED HOUSING UNITS"]
[null,"Data Set: 2018-2022 American Community Survey 5-Year Estimates"]
[]
[null,null,"Alton",null,"Barnstead",null,"Belmont",null,"Center Harbor",null,"Gilford",null,"Gilmanton",null,"Laconia",null,"Meredith",null,"New Hampton",null,"Sanbornton",null,"Tilton"]
[null," ","Estimate","Margin of Error","Estimate","Margin of Error","Estimate","Margin of Error","Estimate","Margin of Error","Estimate","Margin of Error","Estimate","Margin of Error","Estimate","Margin of Error","Estimate","Margin of Error","Estimate","Margin of Error","Estimate","Margin of Error","Estimate","Margin of Error"]
[null,"Total:",2072,207,1600,176,2454,265,330,84,2771,206,1471,174,4095,367,2501,231,824,109,838,126,1055,163]
[null,"Less than $10,000",0,17,0,12,135,107,0,12,52,44,0,12,0,19,12,19,0,12,0,12,46,64]
[null,"$10,000 to $14,999",0,17,0,12,12,19,11,16,12,14,0,12,0,19,92,76,15,22,18,22,54,52]
[null,"$15,000 to $19,999",0,17,0,12,0,17,0,12,23,28,0,12,16,25,0,17,0,12,0,12,10,17]
[null,"$20,000 to $24,999",0,17,19,20,0,17,0,12,20,21,0,12,39,54,14,20,0,12,0,12,25,41]
[null,"$25,000 to $29,999",0,17,0,12,7,11,3,5,5,8,26,33,18,29,0,17,0,12,21,31,20,32]
[null,"$30,000 to $34,999",0,17,0,12,0,17,0,12,0,17,0,12,61,61,26,29,0,12,0,12,21,18]
[null,"$35,000 to $39,999",9,17,0,12,6,10,0,12,4,6,0,12,0,19,0,17,7,10,0,12,0,12]
[null,"$40,000 to $49,999",0,17,0,12,0,17,0,12,0,17,0,12,0,19,0,17,0,12,0,12,12,13]
[null,"$50,000 to $59,999",13,22,0,12,110,97,0,12,82,116,0,12,11,20,0,17,6,9,0,12,18,21]
[null,"$60,000 to $69,999",0,17,0,12,67,73,0,12,0,17,0,12,61,57,0,17,0,12,0,12,0,12]
[null,"$70,000 to $79,999",38,58,0,12,0,17,0,12,11,15,0,12,13,16,10,16,0,12,0,12,12,19]
[null,"$80,000 to $89,999",20,23,0,12,36,39,0,12,3,5,0,12,21,27,0,17,9,10,0,12,21,27]
[null,"$90,000 to $99,999",17,27,10,17,0,17,0,12,0,17,0,12,24,26,74,104,8,11,0,12,17,27]
[null,"$100,000 to $124,999",52,51,59,62,54,50,4,6,28,46,12,17,109,70,52,48,9,11,13,19,48,34]
[null,"$125,000 to $149,999",10,16,29,34,207,171,0,12,68,93,0,12,150,69,0,17,19,19,0,12,31,22]
[null,"$150,000 to $174,999",105,82,130,104,163,82,17,21,41,44,16,28,380,171,93,68,14,22,0,12,85,61]
[null,"$175,000 to $199,999",52,49,63,50,115,86,22,20,153,104,41,38,467,183,7,12,55,42,13,18,149,95]
[null,"$200,000 to $249,999",309,137,387,118,448,192,13,11,281,142,373,154,661,184,199,108,133,49,44,38,156,84]
[null,"$250,000 to $299,999",190,103,331,99,404,174,40,23,204,112,199,90,488,188,279,114,87,39,176,118,89,57]
[null,"$300,000 to $399,999",496,150,279,110,315,110,97,40,626,179,393,105,770,205,383,159,221,70,271,116,122,60]
[null,"$400,000 to $499,999",159,93,224,90,208,99,52,46,329,151,225,99,371,110,394,137,88,37,115,53,72,46]
[null,"$500,000 to $749,999",278,114,19,22,115,82,34,25,543,165,154,73,194,100,368,114,112,58,115,69,47,39]
[null,"$750,000 to $999,999",162,125,42,31,16,18,34,24,68,46,15,22,85,45,153,94,20,15,17,18,0,12]
[null,"$1,000,000 to $1,499,999",97,68,0,12,36,47,3,5,119,85,17,19,74,47,162,78,16,13,12,20,0,12]
[null,"$1,500,000 to $1,999,999",33,36,0,12,0,17,0,12,31,30,0,12,23,34,127,114,5,7,6,10,0,12]
[null,"$2,000,000 or more",32,31,8,14,0,17,0,12,68,40,0,12,59,46,56,47,0,12,17,20,0,12]
[]
[]
[null,"B25077. MEDIAN VALUE (Dollars)"]
[null,"Universe:  OWNER-OCCUPIED HOUSING UNITS"]
[null,"Data Set: 2018-2022 American Community Survey 5-Year Estimates"]
[]
[null,null,"Alton",null,"Barnstead",null,"Belmont",null,"Center Harbor",null,"Gilford",null,"Gilmanton",null,"Laconia",null,"Meredith",null,"New Hampton",null,"Sanbornton",null,"Tilton"]
[null," ","Estimate","Margin of Error","Estimate","Margin of Error","Estimate","Margin of Error","Estimate","Margin of Error","Estimate","Margin of Error","Estimate","Margin of Error","Estimate","Margin of Error","Estimate","Margin of Error","Estimate","Margin of Error","Estimate","Margin of Error","Estimate","Margin of Error"]
[]
[null,"Median value (dollars)",344600,28180,265600,19821,235200,22432,356700,38314,363700,33121,317400,31467,251700,20517,402400,39870,322600,32226,349400,33603,193000,18551]
[]
[]
[]
[]
[]
[]
[]
[]
[]
[]
[]
[]
[]
[]
[]
[]
[]
[]
[]
[]
[]
[]
[]
[]
[]
[]
[null,"B25075. VALUE"]
[null,"Universe:  OWNER-OCCUPIED HOUSING UNITS"]
[null,"Data Set: 2013-2017 American Community Survey 5-Year Estimates"]
[]
[null,null,"Alton",null,"Barnstead",null,"Belmont",null,"Center Harbor",null,"Gilford",null,"Gilmanton",null,"Laconia",null,"Meredith",null,"New Hampton",null,"Sanbornton",null,"Tilton"]
[null," ","Estimate","Margin of Error","Estimate","Margin of Error","Estimate","Margin of Error","Estimate","Margin of Error","Estimate","Margin of Error","Estimate","Margin of Error","Estimate","Margin of Error","Estimate","Margin of Error","Estimate","Margin of Error","Estimate","Margin of Error","Estimate","Margin of Error"]
[null,"Total:",1816,203,1497,157,2378,224,363,55,2712,188,3786,297,3650,271,1971,175,728,94,1025,92,971,151]
[null,"Less than $10,000",67,89,0,11,43,41,0,11,159,86,20,23,17,20,25,22,4,6,13,13,0,11]
[null,"$10,000 to $14,999",0,16,0,11,58,61,0,11,44,38,0,18,0,17,10,15,0,11,0,11,17,20]
[null,"$15,000 to $19,999",0,16,0,11,206,130,0,11,57,88,20,21,20,22,10,16,0,11,0,11,21,21]
[null,"$20,000 to $24,999",0,16,0,11,34,39,0,11,5,9,27,31,28,34,37,39,5,7,8,12,24,27]
[null,"$25,000 to $29,999",0,16,0,11,0,16,0,11,0,16,0,18,8,13,20,33,0,11,0,11,24,20]
[null,"$30,000 to $34,999",0,16,0,11,47,44,0,11,22,37,13,19,12,20,0,16,0,11,4,6,30,49]
[null,"$35,000 to $39,999",0,16,27,41,0,16,0,11,0,16,5,9,0,17,0,16,0,11,0,11,0,11]
[null,"$40,000 to $49,999",42,69,0,11,56,52,0,11,34,39,6,10,6,10,38,29,0,11,0,11,14,22]
[null,"$50,000 to $59,999",0,16,0,11,29,33,7,11,15,24,32,27,32,31,0,16,4,6,9,11,8,13]
[null,"$60,000 to $69,999",0,16,22,27,83,77,0,11,0,16,54,25,65,33,0,16,7,10,0,11,0,11]
[null,"$70,000 to $79,999",0,16,0,11,81,62,7,10,63,60,106,68,73,53,0,16,4,7,0,11,20,24]
[null,"$80,000 to $89,999",45,71,33,30,52,50,0,11,0,16,34,32,42,31,0,16,22,25,6,10,8,13]
[null,"$90,000 to $99,999",12,21,0,11,46,38,0,11,0,16,66,44,82,49,0,16,6,8,0,11,12,13]
[null,"$100,000 to $124,999",76,74,198,84,78,58,0,11,70,56,412,140,460,133,34,38,23,25,23,18,97,51]
[null,"$125,000 to $149,999",41,44,121,56,144,81,4,6,111,69,417,130,368,117,89,60,11,12,44,24,93,59]
[null,"$150,000 to $174,999",114,109,286,102,138,78,16,12,236,108,600,159,565,133,132,66,115,43,81,40,136,63]
[null,"$175,000 to $199,999",87,70,184,66,232,155,23,17,152,85,364,114,384,133,218,85,148,60,81,34,126,55]
[null,"$200,000 to $249,999",301,127,250,83,325,133,48,27,433,132,445,134,439,129,141,87,125,52,194,58,117,67]
[null,"$250,000 to $299,999",277,131,136,59,390,123,48,26,320,98,418,104,359,112,314,103,83,31,243,65,142,62]
[null,"$300,000 to $399,999",225,84,179,71,163,77,71,29,480,130,393,136,360,92,253,78,99,33,198,48,35,37]
[null,"$400,000 to $499,999",122,78,40,33,59,47,43,21,189,87,133,67,139,62,175,71,32,18,70,27,0,11]
[null,"$500,000 to $749,999",103,75,9,14,16,26,35,24,182,83,101,44,72,40,179,74,23,16,47,24,47,53]
[null,"$750,000 to $999,999",162,110,12,18,26,30,21,21,73,51,62,52,70,52,178,77,12,12,4,7,0,11]
[null,"$1,000,000 to $1,499,999",127,105,0,11,45,71,3,4,20,21,58,42,49,36,57,54,5,7,0,11,0,11]
[null,"$1,500,000 to $1,999,999",15,25,0,11,27,42,26,22,6,9,0,18,0,17,6,9,0,11,0,11,0,11]
[null,"$2,000,000 or more",0,16,0,11,0,16,11,14,41,24,0,18,0,17,55,38,0,11,0,11,0,11]
[]
[]
[null,"B25077. MEDIAN VALUE (Dollars)"]
[null,"Universe:  OWNER-OCCUPIED HOUSING UNITS"]
[null,"Data Set: 2013-2017 American Community Survey 5-Year Estimates"]
[]
[null,null,"Alton",null,"Barnstead",null,"Belmont",null,"Center Harbor",null,"Gilford",null,"Gilmanton",null,"Laconia",null,"Meredith",null,"New Hampton",null,"Sanbornton",null,"Tilton"]
[null," ","Estimate","Margin of Error","Estimate","Margin of Error","Estimate","Margin of Error","Estimate","Margin of Error","Estimate","Margin of Error","Estimate","Margin of Error","Estimate","Margin of Error","Estimate","Margin of Error","Estimate","Margin of Error","Estimate","Margin of Error","Estimate","Margin of Error"]
[]
[null,"Median value (dollars)",272200,28832,183400,13338,185100,18847,340100,44596,244800,18606,180600,12340,178100,10709,286900,19645,206000,18996,260200,11883,171600,13520]
[]
[]
[]
[]
[]
[null,"B25075. VALUE"]
[null,"Universe:  OWNER-OCCUPIED HOUSING UNITS"]
[null,"Data Set: 2008-2012 American Community Survey 5-Year Estimates"]
[]
[null,null,"Alton",null,"Barnstead",null,"Belmont",null,"Center Harbor",null,"Gilford",null,"Gilmanton",null,"Laconia",null,"Meredith",null,"New Hampton",null,"Sanbornton",null,"Tilton"]
[null," ","Estimate","Margin of Error","Estimate","Margin of Error","Estimate","Margin of Error","Estimate","Margin of Error","Estimate","Margin of Error","Estimate","Margin of Error","Estimate","Margin of Error","Estimate","Margin of Error","Estimate","Margin of Error","Estimate","Margin of Error","Estimate","Margin of Error"]
[null,"Total:",1812,175,1585,93,2265,188,362,64,2581,211,1337,93,4244,308,2124,176,714,75,1106,82,950,121]
[null,"Less than $10,000",0,16,0,11,35,44,0,11,11,17,0,11,31,27,8,15,5,7,0,11,18,21]
[null,"$10,000 to $14,999",16,26,21,23,43,56,0,11,23,29,0,11,0,18,0,16,11,12,0,11,6,12]
[null,"$15,000 to $19,999",8,13,13,16,0,16,0,11,39,42,7,10,0,18,13,21,3,4,8,10,21,25]
[null,"$20,000 to $24,999",0,16,0,11,21,26,0,11,34,39,0,11,0,18,42,51,0,11,0,11,24,22]
[null,"$25,000 to $29,999",27,30,9,15,56,55,0,11,60,46,7,12,27,26,0,16,0,11,6,10,29,27]
[null,"$30,000 to $34,999",0,16,12,19,8,13,0,11,3,6,0,11,8,12,0,16,0,11,0,11,8,13]
[null,"$35,000 to $39,999",0,16,0,11,15,17,0,11,39,41,0,11,0,18,12,20,4,5,0,11,8,12]
[null,"$40,000 to $49,999",0,16,0,11,91,77,0,11,102,87,0,11,24,26,32,45,0,11,7,10,24,38]
[null,"$50,000 to $59,999",0,16,14,22,26,30,0,11,32,36,6,11,91,63,0,16,0,11,0,11,9,15]
[null,"$60,000 to $69,999",10,16,8,12,58,47,0,11,14,23,10,17,21,24,20,22,0,11,0,11,0,11]
[null,"$70,000 to $79,999",0,16,10,16,67,65,0,11,15,24,0,11,18,20,28,40,0,11,0,11,29,23]
[null,"$80,000 to $89,999",0,16,5,8,116,76,0,11,0,16,35,38,44,32,10,15,3,4,0,11,15,17]
[null,"$90,000 to $99,999",32,39,11,15,49,47,0,11,14,23,0,11,73,37,0,16,2,3,13,19,31,36]
[null,"$100,000 to $124,999",15,24,85,48,119,93,15,16,36,34,72,47,235,99,44,27,30,22,31,25,77,42]
[null,"$125,000 to $149,999",60,53,121,66,188,99,2,4,45,41,74,51,315,103,64,59,40,24,32,25,46,31]
[null,"$150,000 to $174,999",184,111,272,77,187,62,8,8,108,65,69,42,651,146,104,67,59,25,101,48,143,63]
[null,"$175,000 to $199,999",146,92,271,85,160,114,36,24,212,83,120,51,702,199,184,69,94,33,154,67,89,56]
[null,"$200,000 to $249,999",294,123,325,89,423,141,62,33,402,140,327,92,855,167,254,79,162,40,237,67,163,75]
[null,"$250,000 to $299,999",426,148,130,48,261,104,32,22,332,144,222,83,341,136,375,130,95,37,162,59,57,42]
[null,"$300,000 to $399,999",330,129,204,71,265,126,97,33,465,157,237,82,468,145,363,118,102,35,223,65,107,57]
[null,"$400,000 to $499,999",105,93,27,31,23,24,37,16,209,94,56,46,130,61,189,66,48,24,51,27,46,38]
[null,"$500,000 to $749,999",44,39,27,26,40,39,41,25,134,57,52,48,94,54,187,89,41,19,69,34,0,11]
[null,"$750,000 to $999,999",44,36,20,22,14,22,22,20,130,100,18,21,58,33,110,70,0,11,5,8,0,11]
[null,"$1,000,000 or more",71,59,0,11,0,16,10,15,122,74,25,30,58,49,85,51,15,22,7,10,0,11]
[]
[]
[]
[]
[null,"B25077.MEDIAN VALUE (Dollars)"]
[null,"Universe:  OWNER-OCCUPIED HOUSING UNITS"]
[null,"Data Set: 2008-2012 American Community Survey 5-Year Estimates"]
[]
[null,null,"Alton",null,"Barnstead",null,"Belmont",null,"Center Harbor",null,"Gilford",null,"Gilmanton",null,"Laconia",null,"Meredith",null,"New Hampton",null,"Sanbornton",null,"Tilton"]
[null," ","Estimate","Margin of Error","Estimate","Margin of Error","Estimate","Margin of Error","Estimate","Margin of Error","Estimate","Margin of Error","Estimate","Margin of Error","Estimate","Margin of Error","Estimate","Margin of Error","Estimate","Margin of Error","Estimate","Margin of Error","Estimate","Margin of Error"]
[]
[null,"Median value (dollars)",263400,18590,194500,7803,183400,23744,326800,32226,265300,25319,241100,16367,195800,7741,282900,20504,232700,12885,242400,17075,172700,16493]

{"sheet":"ACS_Table_B25088","index":67,"n_rows":62,"n_cols":24,"rows_kept":62,"cut":false,"hidden":true,"merged":[]}
[null,"B25088. MEDIAN SELECTED MONTHLY OWNER COSTS (DOLLARS) BY MORTGAGE STATUS"]
[null,"Universe:  OWNER-OCCUPIED HOUSING UNITS"]
[null,"Data Set: 2018-2022 American Community Survey 5-Year Estimates"]
[]
[null,null,"Alton",null,"Barnstead",null,"Belmont",null,"Center Harbor",null,"Gilford",null,"Gilmanton",null,"Laconia",null,"Meredith",null,"New Hampton",null,"Sanbornton",null,"Tilton"]
[null,null,"Estimate","Margin of Error","Estimate","Margin of Error","Estimate","Margin of Error","Estimate","Margin of Error","Estimate","Margin of Error","Estimate","Margin of Error","Estimate","Margin of Error","Estimate","Margin of Error","Estimate","Margin of Error","Estimate","Margin of Error","Estimate","Margin of Error"]
[null,"Median selected monthly owner costs (dollars)"]
[null,"Total:",1617,92,1593,97,1338,170,1267,252,1587,236,1503,306,1487,127,1298,355,1336,147,1698,262,970,279]
[null,"Housing units with a mortgage (dollars)",1769,152,1899,109,1939,279,1759,178,2191,215,2006,229,1874,104,2105,287,1829,232,2058,336,2131,177]
[null,"Housing units without a mortgage (dollars)",1057,361,818,56,718,65,1043,137,805,147,983,211,944,121,756,61,732,195,750,146,754,72]
[]
[]
[]
[]
[]
[]
[]
[]
[]
[]
[]
[]
[]
[]
[]
[]
[]
[]
[]
[]
[]
[]
[]
[]
[]
[]
[]
[]
[]
[null,"B25088. MEDIAN SELECTED MONTHLY OWNER COSTS (DOLLARS) BY MORTGAGE STATUS"]
[null,"Universe:  OWNER-OCCUPIED HOUSING UNITS"]
[null,"Data Set: 2013-2017 American Community Survey 5-Year Estimates"]
[]
[null,null,"Alton",null,"Barnstead",null,"Belmont",null,"Center Harbor",null,"Gilford",null,"Gilmanton",null,"Laconia",null,"Meredith",null,"New Hampton",null,"Sanbornton",null,"Tilton"]
[null,null,"Estimate","Margin of Error","Estimate","Margin of Error","Estimate","Margin of Error","Estimate","Margin of Error","Estimate","Margin of Error","Estimate","Margin of Error","Estimate","Margin of Error","Estimate","Margin of Error","Estimate","Margin of Error","Estimate","Margin of Error","Estimate","Margin of Error"]
[null,"Median selected monthly owner costs (dollars)"]
[null,"Total:",1431,121,1498,114,1059,192,1399,321,1237,173,1214,87,1279,119,1354,179,1201,106,1341,109,1148,157]
[null,"Housing units with a mortgage (dollars)",1643,230,1694,87,1701,137,1922,456,1746,127,1583,71,1612,78,1800,158,1491,144,1659,101,1477,109]
[null,"Housing units without a mortgage (dollars)",850,334,761,118,661,36,800,186,709,54,763,54,691,64,826,153,687,74,681,75,584,72]
[]
[]
[]
[null,"B25088. MEDIAN SELECTED MONTHLY OWNER COSTS (DOLLARS) BY MORTGAGE STATUS"]
[null,"Universe:  OWNER-OCCUPIED HOUSING UNITS"]
[null,"Data Set: 2008-2012 American Community Survey 5-Year Estimates"]
[]
[null,null,"Alton",null,"Barnstead",null,"Belmont",null,"Center Harbor",null,"Gilford",null,"Gilmanton",null,"Laconia",null,"Meredith",null,"New Hampton",null,"Sanbornton",null,"Tilton"]
[null,null,"Estimate","Margin of Error","Estimate","Margin of Error","Estimate","Margin of Error","Estimate","Margin of Error","Estimate","Margin of Error","Estimate","Margin of Error","Estimate","Margin of Error","Estimate","Margin of Error","Estimate","Margin of Error","Estimate","Margin of Error","Estimate","Margin of Error"]
[null,"Median selected monthly owner costs (dollars)"]
[null,"Total:",1401,171,1603,127,1182,106,1287,232,1474,147,1679,133,1340,86,1191,186,1397,144,1472,188,1193,229]
[null,"Housing units with a mortgage (dollars)",1758,285,1808,113,1548,142,1595,110,1929,119,1870,123,1656,111,1824,166,1621,66,1871,120,1782,219]
[null,"Housing units without a mortgage (dollars)",528,67,666,71,589,113,683,211,664,60,637,42,610,41,696,86,588,30,604,76,528,130]

{"sheet":"ACS_Table_B25091","index":68,"n_rows":219,"n_cols":24,"rows_kept":219,"cut":false,"hidden":true,"merged":[]}
[null,"B25091. MORTGAGE STATUS BY SELECTED MONTHLY OWNER COSTS AS A PERCENTAGE OF HOUSEHOLD INCOME IN THE PAST 12 MONTHS "]
[null,"Universe:  OWNER-OCCUPIED HOUSING UNITS"]
[null,"Data Set: 2018-2022 American Community Survey 5-Year Estimates"]
[]
[null,null,"Alton",null,"Barnstead",null,"Belmont",null,"Center Harbor",null,"Gilford",null,"Gilmanton",null,"Laconia",null,"Meredith",null,"New Hampton",null,"Sanbornton",null,"Tilton"]
[null," ","Estimate","Margin of Error","Estimate","Margin of Error","Estimate","Margin of Error","Estimate","Margin of Error","Estimate","Margin of Error","Estimate","Margin of Error","Estimate","Margin of Error","Estimate","Margin of Error","Estimate","Margin of Error","Estimate","Margin of Error","Estimate","Margin of Error"]
[null,"Total:",2072,207,1600,176,2454,265,330,84,2771,206,1471,174,4095,367,2501,231,824,109,838,126,1055,163]
[null,"Housing units with a mortgage:",1418,220,996,141,1379,214,160,50,1697,206,1020,165,2568,283,1213,197,476,69,607,111,493,109]
[null,"Less than 10.0 percent",192,89,42,41,78,59,16,17,109,74,91,87,118,68,91,58,21,18,77,77,0,12]
[null,"10.0 to 14.9 percent",334,180,127,57,228,113,19,19,290,127,186,114,327,111,108,92,60,35,113,55,57,50]
[null,"15.0 to 19.9 percent",292,160,185,115,202,115,28,21,347,117,159,87,632,189,278,150,170,64,143,90,128,77]
[null,"20.0 to 24.9 percent",125,88,149,79,201,110,31,19,332,166,243,102,449,184,213,103,71,34,51,35,105,60]
[null,"25.0 to 29.9 percent",184,137,101,50,114,77,9,9,237,149,94,76,257,121,108,61,41,31,84,46,23,28]
[null,"30.0 to 34.9 percent",55,46,101,74,104,76,10,10,86,63,32,31,254,91,52,49,25,22,83,54,38,37]
[null,"35.0 to 39.9 percent",75,72,106,64,35,40,19,20,61,53,40,45,139,82,71,56,19,17,9,10,31,36]
[null,"40.0 to 49.9 percent",71,48,77,47,51,49,8,7,106,98,90,61,125,69,97,54,0,12,35,33,23,20]
[null,"50.0 percent or more",90,68,108,72,366,191,20,15,129,89,85,70,267,150,195,123,69,39,12,19,88,66]
[null,"Not computed",0,17,0,12,0,17,0,12,0,17,0,12,0,19,0,17,0,12,0,12,0,12]
[null,"Housing units without a mortgage:",654,181,604,160,1075,227,170,65,1074,239,451,133,1527,287,1288,212,348,91,231,85,562,141]
[null,"Less than 10.0 percent",193,94,247,104,479,216,58,48,312,123,135,63,420,134,412,126,133,55,44,31,147,81]
[null,"10.0 to 14.9 percent",112,71,44,28,95,52,60,34,249,125,110,76,167,60,141,71,36,20,48,34,169,103]
[null,"15.0 to 19.9 percent",75,80,66,56,208,113,33,29,167,114,116,67,218,109,171,96,61,47,9,13,40,41]
[null,"20.0 to 24.9 percent",74,54,114,103,105,83,6,6,76,41,16,18,224,163,76,41,36,31,16,18,65,57]
[null,"25.0 to 29.9 percent",10,16,41,35,26,47,11,14,39,27,6,11,81,64,217,133,9,9,0,12,26,24]
[null,"30.0 to 34.9 percent",53,55,27,33,26,35,0,12,5,9,36,46,149,118,58,50,15,11,10,17,42,31]
[null,"35.0 to 39.9 percent",61,62,19,31,54,52,0,12,52,75,0,12,10,17,29,26,20,25,0,12,0,12]
[null,"40.0 to 49.9 percent",16,25,0,12,15,24,0,12,81,93,19,23,129,76,31,27,7,9,9,17,15,23]
[null,"50.0 percent or more",60,59,46,38,50,50,2,3,93,69,13,19,129,73,153,109,23,18,86,58,49,43]
[null,"Not computed",0,17,0,12,17,28,0,12,0,17,0,12,0,19,0,17,8,12,9,14,9,14]
[]
[]
[]
[null,"Calculated B25091. MORTGAGE STATUS BY SELECTED MONTHLY OWNER COSTS AS A PERCENTAGE OF HOUSEHOLD INCOME IN THE PAST 12 MONTHS "]
[null,"Universe:  OWNER-OCCUPIED HOUSING UNITS"]
[null,{"$f":"B3","v":"Data Set: 2018-2022 American Community Survey 5-Year Estimates"}]
[]
[null,null,"Alton",null,"Barnstead",null,"Belmont",null,"Center Harbor",null,"Gilford",null,"Gilmanton",null,"Laconia",null,"Meredith",null,"New Hampton",null,"Sanbornton",null,"Tilton"]
[null," ","Estimate","Margin of Error","Estimate","Margin of Error","Estimate","Margin of Error","Estimate","Margin of Error","Estimate","Margin of Error","Estimate","Margin of Error","Estimate","Margin of Error","Estimate","Margin of Error","Estimate","Margin of Error","Estimate","Margin of Error","Estimate","Margin of Error"]
[null,"Total:",{"$f":"C7","v":2072},{"$f":"D7","v":207},{"$f":"E7","v":1600},176,2454,265,330,84,2771,206,1471,174,4095,367,2501,231,824,109,838,126,1055,163]
[null,"Less than 10.0 percent",{"$f":"C9+C20","v":385},{"$f":"SQRT((D9^2)+(D20^2))","v":129.4488315899375},{"$f":"E9+E20","v":289},{"$f":"SQRT((F9^2)+(F20^2))","v":111.7899816620434},{"$f":"G9+G20","v":557},{"$f":"SQRT((H9^2)+(H20^2))","v":223.91292950609173},{"$f":"I9+I20","v":74},{"$f":"SQRT((J9^2)+(J20^2))","v":50.921508225896062},{"$f":"K9+K20","v":421},{"$f":"SQRT((L9^2)+(L20^2))","v":143.54441821262157},{"$f":"M9+M20","v":226},{"$f":"SQRT((N9^2)+(N20^2))","v":107.41508273980894},{"$f":"O9+O20","v":538},{"$f":"SQRT((P9^2)+(P20^2))","v":150.2664300500947},{"$f":"Q9+Q20","v":503},{"$f":"SQRT((R9^2)+(R20^2))","v":138.70832707519762},{"$f":"S9+S20","v":154},{"$f":"SQRT((T9^2)+(T20^2))","v":57.870545184921149},{"$f":"U9+U20","v":121},{"$f":"SQRT((V9^2)+(V20^2))","v":83.006023877788536},{"$f":"W9+W20","v":147},{"$f":"SQRT((X9^2)+(X20^2))","v":81.884064383737083}]
[null,"10.0 to 14.9 percent",{"$f":"C10+C21","v":446},193.49676999888138,171,63.505905237229712,323,124.39051410778879,79,38.948684188300895,539,178.19652072922187,296,137.01094846763161,494,126.17844506887855,249,116.21101496846157,96,40.311288741492746,161,64.660652641308843,226,{"$f":"SQRT((X10^2)+(X21^2))","v":114.49454135459908}]
[null,"15.0 to 19.9 percent",367,178.88543819998318,251,127.91012469699183,410,161.22654868228122,61,35.805027579936315,514,163.35544068074378,275,109.80892495603443,850,218.17882573705452,449,178.08986495586996,231,79.404030124421269,152,90.934042030473933,168,87.235313950257549]
[null,"20.0 to 24.9 percent",199,103.24727599312246,263,129.80754985747168,306,137.80058055030102,37,19.924858845171276,408,170.98830369355676,259,103.57605900979242,673,245.81497106563708,289,110.86027241532469,107,46.010868281309364,67,39.357337308308857,170,82.758685344802331]
[null,"25.0 to 29.9 percent",194,137.93114224133723,142,61.032778078668514,140,90.210864090751286,20,16.643316977093239,276,151.42654985173505,100,76.791926658991954,338,136.88316185711082,325,146.32156368765337,50,32.280024783137947,84,47.539457296018853,49,36.878177829171548]
[null,"30.0 to 34.9 percent",108,71.700767080973407,128,81.024687595818591,130,83.671978583035795,10,15.620499351813308,91,63.63961030678928,68,55.470712993434653,403,149.01342221424215,110,70.007142492748557,40,24.596747752497688,93,56.612719418872643,80,48.270073544588683]
[null,"35.0 to 39.9 percent",136,95.015788161757627,125,71.112586790244109,89,65.604877867426907,19,23.323807579381203,113,91.836811791350854,40,46.572524088780071,149,83.74365647617735,100,61.741396161732524,39,30.232432915661949,9,15.620499351813308,31,37.947331922020552]
[null,"40.0 to 49.9 percent",87,54.120236510939236,77,48.507731342539614,66,54.561891462814962,8,13.892443989449804,187,135.10366390294527,109,65.192024052026483,254,102.6498904042279,128,60.373835392494321,7,15,44,37.12142238654117,38,30.479501308256342]
[null,"50.0 percent or more",{"$f":"C17+C28","v":150},90.027773492406226,154,81.412529748190479,416,197.43606560099397,22,15.297058540778355,222,112.61438629233834,98,72.532751223154364,396,166.82026255823962,348,164.34719346554112,92,42.953463189829058,98,61.032778078668514,137,78.771822373231913]
[null,"Not computed",{"$f":"C18+C29","v":0},24.041630560342615,0,16.970562748477139,17,32.756678708318397,0,16.970562748477139,0,24.041630560342615,0,16.970562748477139,0,26.870057685088806,0,24.041630560342615,8,16.970562748477139,9,18.439088914585774,9,18.439088914585774]
[]
[]
[]
[]
[null,"Calculated MONTHLY OWNER COSTS AS A PERCENTAGE OF HOUSEHOLD INCOME IN THE PAST 12 MONTHS "]
[null,"Universe:  OWNER-OCCUPIED HOUSING UNITS"]
[null,{"$f":"B3","v":"Data Set: 2018-2022 American Community Survey 5-Year Estimates"}]
[null,null,"Alton",null,"Barnstead",null,"Belmont",null,"Center Harbor",null,"Gilford",null,"Gilmanton",null,"Laconia",null,"Meredith",null,"New Hampton",null,"Sanbornton",null,"Tilton"]
[null," ","Estimate","Margin of Error","Estimate","Margin of Error","Estimate","Margin of Error","Estimate","Margin of Error","Estimate","Margin of Error","Estimate","Margin of Error","Estimate","Margin of Error","Estimate","Margin of Error","Estimate","Margin of Error","Estimate","Margin of Error","Estimate","Margin of Error"]
[null,"Total:",{"$f":"C39","v":2072},207,1600,176,2454,265,330,84,2771,206,1471,174,4095,367,2501,231,824,109,838,126,1055,163]
[null,"Less than 20% of HH Income",{"$f":"C40+C41+C42","v":1198},{"$f":"SQRT((D40^2)+(D41^2)+(D42^2))","v":293.59495908479084},{"$f":"E40+E41+E42","v":711},{"$f":"SQRT((F40^2)+(F41^2)+(F42^2))","v":181.35876047216468},{"$f":"G40+G41+G42","v":1290},{"$f":"SQRT((H40^2)+(H41^2)+(H42^2))","v":302.66152712229552},{"$f":"I40+I41+I42","v":214},{"$f":"SQRT((J40^2)+(J41^2)+(J42^2))","v":73.430239002743278},{"$f":"K40+K41+K42","v":1474},{"$f":"SQRT((L40^2)+(L41^2)+(L42^2))","v":281.14764804280333},{"$f":"M40+M41+M42","v":797},{"$f":"SQRT((N40^2)+(N41^2)+(N42^2))","v":205.83488528429774},{"$f":"O40+O41+O42","v":1882},{"$f":"SQRT((P40^2)+(P41^2)+(P42^2))","v":293.43312696421992},{"$f":"Q40+Q41+Q42","v":1201},{"$f":"SQRT((R40^2)+(R41^2)+(R42^2))","v":253.89170919902051},{"$f":"S40+S41+S42","v":481},{"$f":"SQRT((T40^2)+(T41^2)+(T42^2))","v":106.20263650211326},{"$f":"U40+U41+U42","v":434},{"$f":"SQRT((V40^2)+(V41^2)+(V42^2))","v":139.06832852953974},{"$f":"W40+W41+W42","v":541},{"$f":"SQRT((X40^2)+(X41^2)+(X42^2))","v":165.60193235587562}]
[null," 20% to 29.9% of HH Income",{"$f":"C43+C44","v":393},{"$f":"SQRT((D43^2)+(D44^2))","v":172.29335448588841},{"$f":"E43+E44","v":405},{"$f":"SQRT((F43^2)+(F44^2))","v":143.4398828778105},{"$f":"G43+G44","v":446},{"$f":"SQRT((H43^2)+(H44^2))","v":164.70276257549537},{"$f":"I43+I44","v":57},{"$f":"SQRT((J43^2)+(J44^2))","v":25.96150997149434},{"$f":"K43+K44","v":684},{"$f":"SQRT((L43^2)+(L44^2))","v":228.40096322038573},{"$f":"M43+M44","v":359},{"$f":"SQRT((N43^2)+(N44^2))","v":128.93796958227628},{"$f":"O43+O44","v":1011},{"$f":"SQRT((P43^2)+(P44^2))","v":281.3574239290657},{"$f":"Q43+Q44","v":614},{"$f":"SQRT((R43^2)+(R44^2))","v":183.5755975068582},{"$f":"S43+S44","v":157},{"$f":"SQRT((T43^2)+(T44^2))","v":56.204981985585583},{"$f":"U43+U44","v":151},{"$f":"SQRT((V43^2)+(V44^2))","v":61.71709649683789},{"$f":"W43+W44","v":219},{"$f":"SQRT((X43^2)+(X44^2))","v":90.603531939985658}]
[null," Less Than 30% of HH Income",{"$f":"C40+C41+C42+C43+C44","v":1591},{"$f":"SQRT((D40^2)+(D41^2)+(D42^2)+(D43^2)+(D44^2))","v":340.41592207180906},{"$f":"E40+E41+E42+E43+E44","v":1116},{"$f":"SQRT((F40^2)+(F41^2)+(F42^2)+(F43^2)+(F44^2))","v":231.22716103433871},{"$f":"G40+G41+G42+G43+G44","v":1736},{"$f":"SQRT((H40^2)+(H41^2)+(H42^2)+(H43^2)+(H44^2))","v":344.57364960193928},{"$f":"I40+I41+I42+I43+I44","v":271},{"$f":"SQRT((J40^2)+(J41^2)+(J42^2)+(J43^2)+(J44^2))","v":77.884529914483025},{"$f":"K40+K41+K42+K43+K44","v":2158},{"$f":"SQRT((L40^2)+(L41^2)+(L42^2)+(L43^2)+(L44^2))","v":362.23058954207607},{"$f":"M40+M41+M42+M43+M44","v":1156},{"$f":"SQRT((N40^2)+(N41^2)+(N42^2)+(N43^2)+(N44^2))","v":242.88474633043552},{"$f":"O40+O41+O42+O43+O44","v":2893},{"$f":"SQRT((P40^2)+(P41^2)+(P42^2)+(P43^2)+(P44^2))","v":406.52798181675024},{"$f":"Q40+Q41+Q42+Q43+Q44","v":1815},{"$f":"SQRT((R40^2)+(R41^2)+(R42^2)+(R43^2)+(R44^2))","v":313.30655913976648},{"$f":"S40+S41+S42+S43+S44","v":638},{"$f":"SQRT((T40^2)+(T41^2)+(T42^2)+(T43^2)+(T44^2))","v":120.15822901491184},{"$f":"U40+U41+U42+U43+U44","v":585},{"$f":"SQRT((V40^2)+(V41^2)+(V42^2)+(V43^2)+(V44^2))","v":152.14795430764096},{"$f":"W40+W41+W42+W43+W44","v":760},{"$f":"SQRT((X40^2)+(X41^2)+(X42^2)+(X43^2)+(X44^2))","v":188.76705220985997}]
[null," 30% or More of HH Income",{"$f":"C45+C46+C47+C48","v":481},{"$f":"SQRT((D45^2)+(D46^2)+(D47^2)+(D48^2))","v":158.75452749449383},{"$f":"E45+E46+E47+E48","v":484},{"$f":"SQRT((F45^2)+(F46^2)+(F47^2)+(F48^2))","v":143.53745155881791},{"$f":"G45+G46+G47+G48","v":701},{"$f":"SQRT((H45^2)+(H46^2)+(H47^2)+(H48^2))","v":230.7877813056835},{"$f":"I45+I46+I47+I48","v":59},{"$f":"SQRT((J45^2)+(J46^2)+(J47^2)+(J48^2))","v":34.856850115866749},{"$f":"K45+K46+K47+K48","v":613},{"$f":"SQRT((L45^2)+(L46^2)+(L47^2)+(L48^2))","v":208.37226302941571},{"$f":"M45+M46+M47+M48","v":315},{"$f":"SQRT((N45^2)+(N46^2)+(N47^2)+(N48^2))","v":121.47839314050874},{"$f":"O45+O46+O47+O48","v":1202},{"$f":"SQRT((P45^2)+(P46^2)+(P47^2)+(P48^2))","v":259.96922894835075},{"$f":"Q45+Q46+Q47+Q48","v":686},{"$f":"SQRT((R45^2)+(R46^2)+(R47^2)+(R48^2))","v":198.41370920377452},{"$f":"S45+S46+S47+S48","v":178},{"$f":"SQRT((T45^2)+(T46^2)+(T47^2)+(T48^2))","v":59.908263203000637},{"$f":"U45+U46+U47+U48","v":244},{"$f":"SQRT((V45^2)+(V46^2)+(V47^2)+(V48^2))","v":92.477024173575131},{"$f":"W45+W46+W47+W48","v":286},{"$f":"SQRT((X45^2)+(X46^2)+(X47^2)+(X48^2))","v":104.42221985765291}]
[null," 30% to 34.9% of HH Income",{"$f":"C45","v":108},{"$f":"D45","v":71.700767080973407},{"$f":"E45","v":128},81.024687595818591,130,83.671978583035795,10,15.620499351813308,91,63.63961030678928,68,55.470712993434653,403,149.01342221424215,110,70.007142492748557,40,24.596747752497688,93,56.612719418872643,80,48.270073544588683]
[null," Less Than 35% of HH Income",{"$f":"C40+C41+C42+C43+C44+C45","v":1699},{"$f":"SQRT((D40^2)+(D41^2)+(D42^2)+(D43^2)+(D44^2)+(D45^2))","v":347.88503848254237},{"$f":"E40+E41+E42+E43+E44+E45","v":1244},{"$f":"SQRT((F40^2)+(F41^2)+(F42^2)+(F43^2)+(F44^2)+(F45^2))","v":245.01224459197954},{"$f":"G40+G41+G42+G43+G44+G45","v":1866},{"$f":"SQRT((H40^2)+(H41^2)+(H42^2)+(H43^2)+(H44^2)+(H45^2))","v":354.58708380311884},{"$f":"I40+I41+I42+I43+I44+I45","v":281},{"$f":"SQRT((J40^2)+(J41^2)+(J42^2)+(J43^2)+(J44^2)+(J45^2))","v":79.435508432942015},{"$f":"K40+K41+K42+K43+K44+K45","v":2249},{"$f":"SQRT((L40^2)+(L41^2)+(L42^2)+(L43^2)+(L44^2)+(L45^2))","v":367.77846592752002},{"$f":"M40+M41+M42+M43+M44+M45","v":1224},{"$f":"SQRT((N40^2)+(N41^2)+(N42^2)+(N43^2)+(N44^2)+(N45^2))","v":249.13851568956576},{"$f":"O40+O41+O42+O43+O44+O45","v":3296},{"$f":"SQRT((P40^2)+(P41^2)+(P42^2)+(P43^2)+(P44^2)+(P45^2))","v":432.97805949031641},{"$f":"Q40+Q41+Q42+Q43+Q44+Q45","v":1925},{"$f":"SQRT((R40^2)+(R41^2)+(R42^2)+(R43^2)+(R44^2)+(R45^2))","v":321.03270861393548},{"$f":"S40+S41+S42+S43+S44+S45","v":678},{"$f":"SQRT((T40^2)+(T41^2)+(T42^2)+(T43^2)+(T44^2)+(T45^2))","v":122.64990827554662},{"$f":"U40+U41+U42+U43+U44+U45","v":678},{"$f":"SQRT((V40^2)+(V41^2)+(V42^2)+(V43^2)+(V44^2)+(V45^2))","v":162.33915116200404},{"$f":"W40+W41+W42+W43+W44+W45","v":840},{"$f":"SQRT((X40^2)+(X41^2)+(X42^2)+(X43^2)+(X44^2)+(X45^2))","v":194.84096078597025}]
[null," 35% or More of HH Income",{"$f":"C46+C47+C48","v":373},{"$f":"SQRT((D46^2)+(D47^2)+(D48^2))","v":141.6403897198818},{"$f":"E46+E47+E48","v":356},{"$f":"SQRT((F46^2)+(F47^2)+(F48^2))","v":118.48206615349008},{"$f":"G46+G47+G48","v":571},{"$f":"SQRT((H46^2)+(H47^2)+(H48^2))","v":215.08602929990593},{"$f":"I46+I47+I48","v":49},{"$f":"SQRT((J46^2)+(J47^2)+(J48^2))","v":31.160872901765767},{"$f":"K46+K47+K48","v":522},{"$f":"SQRT((L46^2)+(L47^2)+(L48^2))","v":198.41622917493419},{"$f":"M46+M47+M48","v":247},{"$f":"SQRT((N46^2)+(N47^2)+(N48^2))","v":108.07404868885037},{"$f":"O46+O47+O48","v":799},{"$f":"SQRT((P46^2)+(P47^2)+(P48^2))","v":213.02347288503208},{"$f":"Q46+Q47+Q48","v":576},{"$f":"SQRT((R46^2)+(R47^2)+(R48^2))","v":185.65290194338465},{"$f":"S46+S47+S48","v":138},{"$f":"SQRT((T46^2)+(T47^2)+(T48^2))","v":54.626001134990652},{"$f":"U46+U47+U48","v":151},{"$f":"SQRT((V46^2)+(V47^2)+(V48^2))","v":73.123183738127821},{"$f":"W46+W47+W48","v":206},{"$f":"SQRT((X46^2)+(X47^2)+(X48^2))","v":92.595896237360321}]
[null," 50% or More of HH Income",{"$f":"C48","v":150},{"$f":"D48","v":90.027773492406226},{"$f":"E48","v":154},81.412529748190479,416,197.43606560099397,22,15.297058540778355,222,112.61438629233834,98,72.532751223154364,396,166.82026255823962,348,164.34719346554112,92,42.953463189829058,98,61.032778078668514,137,78.771822373231913]
[null,"Not computed",{"$f":"C49","v":0},{"$f":"D49","v":24.041630560342615},{"$f":"E49","v":0},16.970562748477139,17,32.756678708318397,0,16.970562748477139,0,24.041630560342615,0,16.970562748477139,0,26.870057685088806,0,24.041630560342615,8,16.970562748477139,9,18.439088914585774,9,18.439088914585774]
[]
[]
[]
[]
[]
[]
[]
[]
[]
[]
[]
[]
[null,"B25091. MORTGAGE STATUS BY SELECTED MONTHLY OWNER COSTS AS A PERCENTAGE OF HOUSEHOLD INCOME IN THE PAST 12 MONTHS "]
[null,"Universe:  OWNER-OCCUPIED HOUSING UNITS"]
[null,"Data Set: 2013-2017 American Community Survey 5-Year Estimates"]
[]
[null,null,"Alton",null,"Barnstead",null,"Belmont",null,"Center Harbor",null,"Gilford",null,"Gilmanton",null,"Laconia",null,"Meredith",null,"New Hampton",null,"Sanbornton",null,"Tilton"]
[null," ","Estimate","Margin of Error","Estimate","Margin of Error","Estimate","Margin of Error","Estimate","Margin of Error","Estimate","Margin of Error","Estimate","Margin of Error","Estimate","Margin of Error","Estimate","Margin of Error","Estimate","Margin of Error","Estimate","Margin of Error","Estimate","Margin of Error"]
[null,"Total:",1816,203,1497,157,2378,224,363,55,2712,188,3786,297,3650,271,1971,175,728,94,1025,92,971,151]
[null,"Housing units with a mortgage:",1299,236,1071,130,1268,187,189,48,1642,180,2364,278,2356,259,1193,142,494,81,658,89,619,118]
[null,"Less than 10.0 percent",57,87,55,39,28,31,15,16,195,90,117,56,124,47,92,53,4,6,4,6,40,38]
[null,"10.0 to 14.9 percent",169,106,84,42,87,52,24,20,210,96,353,112,309,100,249,89,77,37,96,55,120,75]
[null,"15.0 to 19.9 percent",250,148,166,81,206,111,30,21,320,96,561,144,460,138,169,63,101,43,170,50,98,49]
[null,"20.0 to 24.9 percent",297,183,246,90,343,126,29,19,223,92,339,96,331,104,163,90,99,46,121,47,94,59]
[null,"25.0 to 29.9 percent",110,75,196,82,272,128,3,4,245,111,208,102,282,127,118,50,65,34,29,21,61,41]
[null,"30.0 to 34.9 percent",136,112,25,24,117,79,31,16,181,96,153,73,139,69,68,42,35,26,97,42,67,57]
[null,"35.0 to 39.9 percent",63,53,50,36,33,35,16,14,31,31,137,77,97,58,79,55,26,22,52,31,97,62]
[null,"40.0 to 49.9 percent",97,67,72,52,90,48,12,14,39,39,87,50,91,46,87,44,32,38,41,21,21,24]
[null,"50.0 percent or more",120,92,177,74,92,61,29,20,198,95,409,151,523,189,168,71,55,35,48,29,21,22]
[null,"Not computed",0,16,0,11,0,16,0,11,0,16,0,18,0,17,0,16,0,11,0,11,0,11]
[null,"Housing units without a mortgage:",517,160,426,116,1110,231,174,42,1070,171,1422,206,1294,196,778,138,234,48,367,69,352,100]
[null,"Less than 10.0 percent",160,99,127,62,296,163,44,27,246,86,394,112,403,118,179,75,48,25,125,45,83,60]
[null,"10.0 to 14.9 percent",116,66,105,66,174,114,34,24,229,96,256,75,173,61,205,69,46,24,58,25,103,65]
[null,"15.0 to 19.9 percent",33,37,53,39,79,57,22,14,197,103,232,98,227,89,120,55,44,22,40,32,47,30]
[null,"20.0 to 24.9 percent",28,30,32,29,31,36,23,16,73,55,170,61,157,63,64,40,20,16,67,36,38,26]
[null,"25.0 to 29.9 percent",35,41,41,35,77,56,0,11,125,74,94,51,77,35,53,44,5,7,42,26,5,8]
[null,"30.0 to 34.9 percent",12,19,24,27,84,108,0,11,52,49,85,61,93,62,26,21,15,13,0,11,0,11]
[null,"35.0 to 39.9 percent",75,81,0,11,99,88,0,11,24,31,36,34,29,28,6,11,4,7,0,11,42,31]
[null,"40.0 to 49.9 percent",16,24,0,11,35,39,12,15,18,14,48,38,46,33,63,61,0,11,7,11,25,39]
[null,"50.0 percent or more",42,38,44,35,223,122,39,26,74,47,89,56,76,44,62,35,31,19,28,24,9,14]
[null,"Not computed",0,16,0,11,12,20,0,11,32,36,18,27,13,21,0,16,21,27,0,11,0,11]
[]
[]
[]
[null,"Calculated B25091. MORTGAGE STATUS BY SELECTED MONTHLY OWNER COSTS AS A PERCENTAGE OF HOUSEHOLD INCOME IN THE PAST 12 MONTHS "]
[null,"Universe:  OWNER-OCCUPIED HOUSING UNITS"]
[null,{"$f":"B83","v":"Data Set: 2013-2017 American Community Survey 5-Year Estimates"}]
[]
[null,null,"Alton",null,"Barnstead",null,"Belmont",null,"Center Harbor",null,"Gilford",null,"Gilmanton",null,"Laconia",null,"Meredith",null,"New Hampton",null,"Sanbornton",null,"Tilton"]
[null," ","Estimate","Margin of Error","Estimate","Margin of Error","Estimate","Margin of Error","Estimate","Margin of Error","Estimate","Margin of Error","Estimate","Margin of Error","Estimate","Margin of Error","Estimate","Margin of Error","Estimate","Margin of Error","Estimate","Margin of Error","Estimate","Margin of Error"]
[null,"Total:",{"$f":"C87","v":1816},{"$f":"D87","v":203},{"$f":"E87","v":1497},157,2378,224,363,55,2712,188,3786,297,3650,271,1971,175,728,94,1025,92,971,151]
[null,"Less than 10.0 percent",{"$f":"C89+C100","v":217},{"$f":"SQRT((D89^2)+(D100^2))","v":131.79529581893277},{"$f":"E89+E100","v":182},{"$f":"SQRT((F89^2)+(F100^2))","v":73.246160308919954},{"$f":"G89+G100","v":324},{"$f":"SQRT((H89^2)+(H100^2))","v":165.92166826548001},{"$f":"I89+I100","v":59},{"$f":"SQRT((J89^2)+(J100^2))","v":31.384709652950431},{"$f":"K89+K100","v":441},{"$f":"SQRT((L89^2)+(L100^2))","v":124.48293055676348},{"$f":"M89+M100","v":511},{"$f":"SQRT((N89^2)+(N100^2))","v":125.21980673998823},{"$f":"O89+O100","v":527},{"$f":"SQRT((P89^2)+(P100^2))","v":127.01574705523721},{"$f":"Q89+Q100","v":271},{"$f":"SQRT((R89^2)+(R100^2))","v":91.836811791350854},{"$f":"S89+S100","v":52},{"$f":"SQRT((T89^2)+(T100^2))","v":25.709920264364882},{"$f":"U89+U100","v":129},{"$f":"SQRT((V89^2)+(V100^2))","v":45.398237851264668},{"$f":"W89+W100","v":123},{"$f":"SQRT((X89^2)+(X100^2))","v":71.021123618258812}]
[null,"10.0 to 14.9 percent",{"$f":"C90+C101","v":285},124.86793023030373,189,78.230428862431779,261,125.29964086141668,58,31.240998703626616,439,135.76450198781711,609,134.79243302203577,482,117.13667231059623,454,112.61438629233834,123,44.10215414239989,154,60.415229867972862,223,{"$f":"SQRT((X90^2)+(X101^2))","v":99.247166206396045}]
[null,"15.0 to 19.9 percent",283,152.55490814785344,219,89.899944382630181,285,124.77980605851253,52,25.238858928247925,517,140.80127840328723,793,174.18381095842403,687,164.21023110634732,289,83.630138108220294,145,48.301138702933287,210,59.363288318623319,145,57.454329688892898]
[null,"20.0 to 24.9 percent",325,185.4427135263071,278,94.556861200020805,374,131.04197800704932,52,24.839484696748443,296,107.18675291284833,509,113.74093370462545,488,121.59358535712317,227,98.488578017961046,119,48.703182647543684,188,59.203040462462738,132,64.474801279259481]
[null,"25.0 to 29.9 percent",145,85.475142585432408,237,89.157164602739584,349,139.71399357258383,3,11.704699910719626,370,133.40539719216761,302,114.03946685248927,359,131.73458164050928,171,66.603303221386852,70,34.713109915419565,71,33.421549934136806,66,41.773197148410844]
[null,"30.0 to 34.9 percent",148,113.6001760562016,49,36.124783736376884,201,133.80956617521784,31,19.416487838947599,233,107.78218776773832,238,95.131487952202235,232,92.763139231054481,94,46.957427527495582,50,29.068883707497267,97,43.416586692184822,67,58.051701094799967]
[null,"35.0 to 39.9 percent",138,96.79876032264049,50,37.643060449437421,132,94.70480452437458,16,17.804493814764857,55,43.840620433565945,173,84.172442046075858,126,64.404968752418469,85,56.089214649520635,30,23.086792761230392,52,32.893768406797051,139,69.318107302493488]
[null,"40.0 to 49.9 percent",113,71.168813394632338,72,53.150729063673246,125,61.846584384264908,24,20.518284528683193,57,41.43669871020132,135,62.801273872430329,137,56.612719418872643,150,75.213030785895072,32,39.560080889704963,48,23.706539182259394,46,45.793012567421243]
[null,"50.0 percent or more",{"$f":"C97+C108","v":162},99.538937105034435,221,81.859635963031252,315,136.40014662748717,68,32.802438933713454,272,105.99056561788883,498,161.04968177553161,599,194.05411616350733,230,79.158069708653201,86,39.824615503479755,76,37.643060449437421,30,26.076809620810597]
[null,"Not computed",{"$f":"C98+C109","v":0},22.627416997969522,0,15.556349186104045,12,25.612496949731394,0,15.556349186104045,32,39.395431207184416,18,32.449961479175904,13,27.018512172212592,0,22.627416997969522,21,29.154759474226502,0,15.556349186104045,0,15.556349186104045]
[]
[]
[]
[]
[null,"Calculated MONTHLY OWNER COSTS AS A PERCENTAGE OF HOUSEHOLD INCOME IN THE PAST 12 MONTHS "]
[null,"Universe:  OWNER-OCCUPIED HOUSING UNITS"]
[null,{"$f":"B83","v":"Data Set: 2013-2017 American Community Survey 5-Year Estimates"}]
[null,null,"Alton",null,"Barnstead",null,"Belmont",null,"Center Harbor",null,"Gilford",null,"Gilmanton",null,"Laconia",null,"Meredith",null,"New Hampton",null,"Sanbornton",null,"Tilton"]
[null," ","Estimate","Margin of Error","Estimate","Margin of Error","Estimate","Margin of Error","Estimate","Margin of Error","Estimate","Margin of Error","Estimate","Margin of Error","Estimate","Margin of Error","Estimate","Margin of Error","Estimate","Margin of Error","Estimate","Margin of Error","Estimate","Margin of Error"]
[null,"Total:",{"$f":"C119","v":1816},{"$f":"D119","v":203},1497,157,2378,224,363,55,2712,188,3786,297,3650,271,1971,175,728,94,1025,92,971,151]
[null,"Less than 20% of HH Income",{"$f":"C120+C121+C122","v":785},{"$f":"SQRT((D120^2)+(D121^2)+(D122^2))","v":237.13919962756052},{"$f":"E120+E121+E122","v":590},{"$f":"SQRT((F120^2)+(F121^2)+(F122^2))","v":139.88209320710067},{"$f":"G120+G121+G122","v":870},{"$f":"SQRT((H120^2)+(H121^2)+(H122^2))","v":242.48711305964281},{"$f":"I120+I121+I122","v":169},{"$f":"SQRT((J120^2)+(J121^2)+(J122^2))","v":50.970579749498633},{"$f":"K120+K121+K122","v":1397},{"$f":"SQRT((L120^2)+(L121^2)+(L122^2))","v":231.84693226350871},{"$f":"M120+M121+M122","v":1913},{"$f":"SQRT((N120^2)+(N121^2)+(N122^2))","v":253.35548148796781},{"$f":"O120+O121+O122","v":1696},{"$f":"SQRT((P120^2)+(P121^2)+(P122^2))","v":238.36736353788032},{"$f":"Q120+Q121+Q122","v":1014},{"$f":"SQRT((R120^2)+(R121^2)+(R122^2))","v":167.66037098849566},{"$f":"S120+S121+S122","v":320},{"$f":"SQRT((T120^2)+(T121^2)+(T122^2))","v":70.278019323256402},{"$f":"U120+U121+U122","v":493},{"$f":"SQRT((V120^2)+(V121^2)+(V122^2))","v":96.09890738192604},{"$f":"W120+W121+W122","v":491},{"$f":"SQRT((X120^2)+(X121^2)+(X122^2))","v":134.88884312647951}]
[null," 20% to 29.9% of HH Income",{"$f":"C123+C124","v":470},{"$f":"SQRT((D123^2)+(D124^2))","v":204.19353564694453},{"$f":"E123+E124","v":515},{"$f":"SQRT((F123^2)+(F124^2))","v":129.96153277027784},{"$f":"G123+G124","v":723},{"$f":"SQRT((H123^2)+(H124^2))","v":191.55155963865187},{"$f":"I123+I124","v":55},{"$f":"SQRT((J123^2)+(J124^2))","v":27.459060435491963},{"$f":"K123+K124","v":666},{"$f":"SQRT((L123^2)+(L124^2))","v":171.13152836341993},{"$f":"M123+M124","v":811},{"$f":"SQRT((N123^2)+(N124^2))","v":161.06520418762085},{"$f":"O123+O124","v":847},{"$f":"SQRT((P123^2)+(P124^2))","v":179.27353401994395},{"$f":"Q123+Q124","v":398},{"$f":"SQRT((R123^2)+(R124^2))","v":118.89491158161479},{"$f":"S123+S124","v":189},{"$f":"SQRT((T123^2)+(T124^2))","v":59.808026217222725},{"$f":"U123+U124","v":259},{"$f":"SQRT((V123^2)+(V124^2))","v":67.985292527134135},{"$f":"W123+W124","v":198},{"$f":"SQRT((X123^2)+(X124^2))","v":76.824475266675265}]
[null," Less Than 30% of HH Income",{"$f":"C120+C121+C122+C123+C124","v":1255},{"$f":"SQRT((D120^2)+(D121^2)+(D122^2)+(D123^2)+(D124^2))","v":312.93769347906942},{"$f":"E120+E121+E122+E123+E124","v":1105},{"$f":"SQRT((F120^2)+(F121^2)+(F122^2)+(F123^2)+(F124^2))","v":190.93716243832682},{"$f":"G120+G121+G122+G123+G124","v":1593},{"$f":"SQRT((H120^2)+(H121^2)+(H122^2)+(H123^2)+(H124^2))","v":309.01779884013155},{"$f":"I120+I121+I122+I123+I124","v":224},{"$f":"SQRT((J120^2)+(J121^2)+(J122^2)+(J123^2)+(J124^2))","v":57.896459304520512},{"$f":"K120+K121+K122+K123+K124","v":2063},{"$f":"SQRT((L120^2)+(L121^2)+(L122^2)+(L123^2)+(L124^2))","v":288.16488335673381},{"$f":"M120+M121+M122+M123+M124","v":2724},{"$f":"SQRT((N120^2)+(N121^2)+(N122^2)+(N123^2)+(N124^2))","v":300.21825394202796},{"$f":"O120+O121+O122+O123+O124","v":2543},{"$f":"SQRT((P120^2)+(P121^2)+(P122^2)+(P123^2)+(P124^2))","v":298.25827733694166},{"$f":"Q120+Q121+Q122+Q123+Q124","v":1412},{"$f":"SQRT((R120^2)+(R121^2)+(R122^2)+(R123^2)+(R124^2))","v":205.53831759552767},{"$f":"S120+S121+S122+S123+S124","v":509},{"$f":"SQRT((T120^2)+(T121^2)+(T122^2)+(T123^2)+(T124^2))","v":92.282175960474618},{"$f":"U120+U121+U122+U123+U124","v":752},{"$f":"SQRT((V120^2)+(V121^2)+(V122^2)+(V123^2)+(V124^2))","v":117.71575935277315},{"$f":"W120+W121+W122+W123+W124","v":689},{"$f":"SQRT((X120^2)+(X121^2)+(X122^2)+(X123^2)+(X124^2))","v":155.23208431248997}]
[null," 30% or More of HH Income",{"$f":"C125+C126+C127+C128","v":561},{"$f":"SQRT((D125^2)+(D126^2)+(D127^2)+(D128^2))","v":192.9974093090371},{"$f":"E125+E126+E127+E128","v":392},{"$f":"SQRT((F125^2)+(F126^2)+(F127^2)+(F128^2))","v":110.67068265805538},{"$f":"G125+G126+G127+G128","v":773},{"$f":"SQRT((H125^2)+(H126^2)+(H127^2)+(H128^2))","v":222.04504047602595},{"$f":"I125+I126+I127+I128","v":139},{"$f":"SQRT((J125^2)+(J126^2)+(J127^2)+(J128^2))","v":46.808118953873802},{"$f":"K125+K126+K127+K128","v":617},{"$f":"SQRT((L125^2)+(L126^2)+(L127^2)+(L128^2))","v":162.75748830699004},{"$f":"M125+M126+M127+M128","v":1044},{"$f":"SQRT((N125^2)+(N126^2)+(N127^2)+(N128^2))","v":214.51340284467076},{"$f":"O125+O126+O127+O128","v":1094},{"$f":"SQRT((P125^2)+(P126^2)+(P127^2)+(P128^2))","v":231.54913085563504},{"$f":"Q125+Q126+Q127+Q128","v":559},{"$f":"SQRT((R125^2)+(R126^2)+(R127^2)+(R128^2))","v":131.43059004660978},{"$f":"S125+S126+S127+S128","v":198},{"$f":"SQRT((T125^2)+(T126^2)+(T127^2)+(T128^2))","v":67.297845433564959},{"$f":"U125+U126+U127+U128","v":273},{"$f":"SQRT((V125^2)+(V126^2)+(V127^2)+(V128^2))","v":70.327803890068964},{"$f":"W125+W126+W127+W128","v":282},{"$f":"SQRT((X125^2)+(X126^2)+(X127^2)+(X128^2))","v":104.65180361560904}]
[null," 30% to 34.9% of HH Income",{"$f":"C125","v":148},{"$f":"D125","v":113.6001760562016},{"$f":"E125","v":49},36.124783736376884,201,133.80956617521784,31,19.416487838947599,233,107.78218776773832,238,95.131487952202235,232,92.763139231054481,94,46.957427527495582,50,29.068883707497267,97,43.416586692184822,67,58.051701094799967]
[null," Less Than 35% of HH Income",{"$f":"C120+C121+C122+C123+C124+C125","v":1403},{"$f":"SQRT((D120^2)+(D121^2)+(D122^2)+(D123^2)+(D124^2)+(D125^2))","v":332.91890904543106},{"$f":"E120+E121+E122+E123+E124+E125","v":1154},{"$f":"SQRT((F120^2)+(F121^2)+(F122^2)+(F123^2)+(F124^2)+(F125^2))","v":194.32447092427654},{"$f":"G120+G121+G122+G123+G124+G125","v":1794},{"$f":"SQRT((H120^2)+(H121^2)+(H122^2)+(H123^2)+(H124^2)+(H125^2))","v":336.74471042616244},{"$f":"I120+I121+I122+I123+I124+I125","v":255},{"$f":"SQRT((J120^2)+(J121^2)+(J122^2)+(J123^2)+(J124^2)+(J125^2))","v":61.065538563088104},{"$f":"K120+K121+K122+K123+K124+K125","v":2296},{"$f":"SQRT((L120^2)+(L121^2)+(L122^2)+(L123^2)+(L124^2)+(L125^2))","v":307.66215236847057},{"$f":"M120+M121+M122+M123+M124+M125","v":2962},{"$f":"SQRT((N120^2)+(N121^2)+(N122^2)+(N123^2)+(N124^2)+(N125^2))","v":314.93015098589717},{"$f":"O120+O121+O122+O123+O124+O125","v":2775},{"$f":"SQRT((P120^2)+(P121^2)+(P122^2)+(P123^2)+(P124^2)+(P125^2))","v":312.35076436596086},{"$f":"Q120+Q121+Q122+Q123+Q124+Q125","v":1506},{"$f":"SQRT((R120^2)+(R121^2)+(R122^2)+(R123^2)+(R124^2)+(R125^2))","v":210.83405796976919},{"$f":"S120+S121+S122+S123+S124+S125","v":559},{"$f":"SQRT((T120^2)+(T121^2)+(T122^2)+(T123^2)+(T124^2)+(T125^2))","v":96.752260955493952},{"$f":"U120+U121+U122+U123+U124+U125","v":849},{"$f":"SQRT((V120^2)+(V121^2)+(V122^2)+(V123^2)+(V124^2)+(V125^2))","v":125.46712716883255},{"$f":"W120+W121+W122+W123+W124+W125","v":756},{"$f":"SQRT((X120^2)+(X121^2)+(X122^2)+(X123^2)+(X124^2)+(X125^2))","v":165.731710906513}]
[null," 35% or More of HH Income",{"$f":"C126+C127+C128","v":413},{"$f":"SQRT((D126^2)+(D127^2)+(D128^2))","v":156.02243428430413},{"$f":"E126+E127+E128","v":343},{"$f":"SQRT((F126^2)+(F127^2)+(F128^2))","v":104.60879504133484},{"$f":"G126+G127+G128","v":572},{"$f":"SQRT((H126^2)+(H127^2)+(H128^2))","v":177.19762978098777},{"$f":"I126+I127+I128","v":108},{"$f":"SQRT((J126^2)+(J127^2)+(J128^2))","v":42.591078878093711},{"$f":"K126+K127+K128","v":384},{"$f":"SQRT((L126^2)+(L127^2)+(L128^2))","v":121.95490970026586},{"$f":"M126+M127+M128","v":806},{"$f":"SQRT((N126^2)+(N127^2)+(N128^2))","v":192.26544151250894},{"$f":"O126+O127+O128","v":862},{"$f":"SQRT((P126^2)+(P127^2)+(P128^2))","v":212.15560327269228},{"$f":"Q126+Q127+Q128","v":465},{"$f":"SQRT((R126^2)+(R127^2)+(R128^2))","v":122.75585525749882},{"$f":"S126+S127+S128","v":148},{"$f":"SQRT((T126^2)+(T127^2)+(T128^2))","v":60.695963621974073},{"$f":"U126+U127+U128","v":176},{"$f":"SQRT((V126^2)+(V127^2)+(V128^2))","v":55.326304774492208},{"$f":"W126+W127+W128","v":215},{"$f":"SQRT((X126^2)+(X127^2)+(X128^2))","v":87.074680590858335}]
[null," 50% or More of HH Income",{"$f":"C128","v":162},{"$f":"D128","v":99.538937105034435},{"$f":"E128","v":221},81.859635963031252,315,136.40014662748717,68,32.802438933713454,272,105.99056561788883,498,161.04968177553161,599,194.05411616350733,230,79.158069708653201,86,39.824615503479755,76,37.643060449437421,30,26.076809620810597]
[null,"Not computed",{"$f":"C129","v":0},{"$f":"D129","v":22.627416997969522},0,15.556349186104045,12,25.612496949731394,0,15.556349186104045,32,39.395431207184416,18,32.449961479175904,13,27.018512172212592,0,22.627416997969522,21,29.154759474226502,0,15.556349186104045,0,15.556349186104045]
[]
[]
[]
[null,"B25091. MORTGAGE STATUS BY SELECTED MONTHLY OWNER COSTS AS A PERCENTAGE OF HOUSEHOLD INCOME IN THE PAST 12 MONTHS "]
[null,"Universe:  OWNER-OCCUPIED HOUSING UNITS"]
[null,"Data Set: 2008-2012 American Community Survey 5-Year Estimates"]
[]
[null,null,"Alton",null,"Barnstead",null,"Belmont",null,"Center Harbor",null,"Gilford",null,"Gilmanton",null,"Laconia",null,"Meredith",null,"New Hampton",null,"Sanbornton",null,"Tilton"]
[null," ","Estimate","Margin of Error","Estimate","Margin of Error","Estimate","Margin of Error","Estimate","Margin of Error","Estimate","Margin of Error","Estimate","Margin of Error","Estimate","Margin of Error","Estimate","Margin of Error","Estimate","Margin of Error","Estimate","Margin of Error","Estimate","Margin of Error"]
[null,"Total:",1812,175,1585,93,2265,188,362,64,2581,211,1337,93,4244,308,2124,176,714,75,1106,82,950,121]
[null,"Housing units with a mortgage:",1097,157,1278,98,1486,187,251,57,1561,218,1003,105,2981,296,1205,175,511,63,696,88,532,106]
[null,"Less than 10.0 percent",33,39,8,14,21,23,20,16,45,38,54,35,111,65,82,47,3,6,8,12,16,17]
[null,"10.0 to 14.9 percent",120,83,73,48,187,103,38,26,169,77,54,48,243,113,123,71,39,23,69,42,22,21]
[null,"15.0 to 19.9 percent",117,68,217,94,357,140,40,23,223,95,136,57,409,162,175,71,57,30,47,28,89,48]
[null,"20.0 to 24.9 percent",81,53,116,52,201,94,9,7,262,116,117,63,426,107,131,80,77,33,163,59,122,55]
[null,"25.0 to 29.9 percent",102,53,183,66,146,74,44,26,145,83,110,56,615,178,170,74,71,26,63,32,73,39]
[null,"30.0 to 34.9 percent",153,102,136,66,215,94,27,26,214,116,81,45,172,60,79,52,65,23,58,31,34,22]
[null,"35.0 to 39.9 percent",75,91,144,70,89,67,9,9,81,84,104,55,166,98,94,56,39,22,76,42,89,62]
[null,"40.0 to 49.9 percent",171,115,177,101,81,69,23,21,209,114,69,41,301,117,173,103,59,26,95,38,44,35]
[null,"50.0 percent or more",245,117,224,90,172,87,41,23,200,85,268,128,526,147,139,63,98,34,117,55,43,36]
[null,"Not computed",0,16,0,11,17,28,0,11,13,21,10,17,12,19,39,58,3,4,0,11,0,11]
[null,"Housing units without a mortgage:",715,159,307,75,779,181,111,32,1020,202,334,88,1263,194,919,149,203,51,410,94,418,94]
[null,"Less than 10.0 percent",269,112,48,28,222,106,28,20,306,123,58,42,352,105,340,113,60,25,83,34,85,54]
[null,"10.0 to 14.9 percent",50,41,91,48,86,49,12,9,159,85,45,30,216,84,162,64,36,21,95,45,110,48]
[null,"15.0 to 19.9 percent",74,55,18,22,167,93,6,6,119,96,48,37,154,65,107,61,50,32,87,39,101,63]
[null,"20.0 to 24.9 percent",40,45,52,35,129,89,16,10,64,42,39,37,90,51,48,40,11,9,41,44,45,31]
[null,"25.0 to 29.9 percent",150,100,10,18,8,13,19,14,85,51,42,44,63,38,54,39,13,10,27,24,20,20]
[null,"30.0 to 34.9 percent",58,49,11,15,18,20,17,17,81,49,0,11,131,73,47,40,3,5,25,23,42,34]
[null,"35.0 to 39.9 percent",31,36,19,21,25,29,0,11,65,71,14,14,77,70,48,40,0,11,19,30,7,11]
[null,"40.0 to 49.9 percent",0,16,21,23,19,23,0,11,39,30,16,26,44,33,14,23,3,5,0,11,8,13]
[null,"50.0 percent or more",31,37,37,37,73,65,13,12,102,84,72,48,127,81,89,53,22,17,26,19,0,11]
[null,"Not computed",12,19,0,11,32,52,0,11,0,16,0,11,9,15,10,16,5,7,7,10,0,11]
[]
[]
[]
[null,"Calculated B25091. MORTGAGE STATUS BY SELECTED MONTHLY OWNER COSTS AS A PERCENTAGE OF HOUSEHOLD INCOME IN THE PAST 12 MONTHS "]
[null,"Universe:  OWNER-OCCUPIED HOUSING UNITS"]
[null,{"$f":"B154","v":"Data Set: 2008-2012 American Community Survey 5-Year Estimates"}]
[]
[null,null,"Alton",null,"Barnstead",null,"Belmont",null,"Center Harbor",null,"Gilford",null,"Gilmanton",null,"Laconia",null,"Meredith",null,"New Hampton",null,"Sanbornton",null,"Tilton"]
[null," ","Estimate","Margin of Error","Estimate","Margin of Error","Estimate","Margin of Error","Estimate","Margin of Error","Estimate","Margin of Error","Estimate","Margin of Error","Estimate","Margin of Error","Estimate","Margin of Error","Estimate","Margin of Error","Estimate","Margin of Error","Estimate","Margin of Error"]
[null,"Total:",{"$f":"C158","v":1812},{"$f":"D158","v":175},{"$f":"E158","v":1585},93,2265,188,362,64,2581,211,1337,93,4244,308,2124,176,714,75,1106,82,950,121]
[null,"Less than 10.0 percent",{"$f":"C160+C171","v":302},{"$f":"SQRT((D160^2)+(D171^2))","v":118.59595271340417},{"$f":"E160+E171","v":56},{"$f":"SQRT((F160^2)+(F171^2))","v":31.304951684997057},{"$f":"G160+G171","v":243},{"$f":"SQRT((H160^2)+(H171^2))","v":108.46658471621571},{"$f":"I160+I171","v":48},{"$f":"SQRT((J160^2)+(J171^2))","v":25.612496949731394},{"$f":"K160+K171","v":351},{"$f":"SQRT((L160^2)+(L171^2))","v":128.73616430513999},{"$f":"M160+M171","v":112},{"$f":"SQRT((N160^2)+(N171^2))","v":54.671747731346578},{"$f":"O160+O171","v":463},{"$f":"SQRT((P160^2)+(P171^2))","v":123.49089035228469},{"$f":"Q160+Q171","v":422},{"$f":"SQRT((R160^2)+(R171^2))","v":122.38463955905577},{"$f":"S160+S171","v":63},{"$f":"SQRT((T160^2)+(T171^2))","v":25.709920264364882},{"$f":"U160+U171","v":91},{"$f":"SQRT((V160^2)+(V171^2))","v":36.055512754639892},{"$f":"W160+W171","v":101},{"$f":"SQRT((X160^2)+(X171^2))","v":56.612719418872643}]
[null,"10.0 to 14.9 percent",{"$f":"C161+C172","v":170},92.57429448826494,164,67.882250993908556,273,114.06138698087096,50,27.513632984395208,328,114.69088891450794,99,56.603886792339623,459,140.80127840328723,285,95.587656106842587,75,31.144823004794873,164,61.554853586049575,132,{"$f":"SQRT((X161^2)+(X172^2))","v":52.392747589718944}]
[null,"15.0 to 19.9 percent",191,87.458561616344909,235,96.540147089177367,524,168.07438829280326,46,23.769728648009426,342,135.05924625881784,184,67.955868032128024,563,174.55371666051687,282,93.605555390692487,107,43.863424398922618,134,48.010415536631214,190,79.202272694664515]
[null,"20.0 to 24.9 percent",121,69.526973183074787,168,62.681735776859277,330,129.4488315899375,25,12.206555615733702,326,123.36936410632909,156,73.061617830431317,516,118.53269591129698,179,89.442719099991592,88,34.205262752974143,204,73.600271738628791,167,63.134776470658387]
[null,"25.0 to 29.9 percent",252,113.17685275708986,193,68.410525505948286,154,75.133215025047349,63,29.529646120466801,230,97.416631023660429,152,71.217975259059429,678,182.01098867925529,224,83.648072302952684,84,27.856776554368238,90,40,93,43.829214001622255]
[null,"30.0 to 34.9 percent",211,113.1591799192624,147,67.683085036070864,233,96.104110213871706,44,31.064449134018133,295,125.92458060283545,81,46.324939287601879,303,94.493386011932074,126,65.604877867426907,68,23.53720459187964,83,38.600518131237564,76,40.496913462633174]
[null,"35.0 to 39.9 percent",106,97.862147942909985,163,73.082145562373853,114,73.006848993775918,9,14.212670403551895,146,109.98636279102969,118,56.753854494650845,243,120.43255373859678,142,68.818602136341013,39,24.596747752497688,95,51.61395160225576,96,62.968245965724662]
[null,"40.0 to 49.9 percent",171,116.1077086157504,198,103.58571330062848,100,72.73238618387272,23,23.706539182259394,248,117.881296226331,85,48.548944375753422,345,121.56479753612885,187,105.53672346628922,62,26.476404589747453,95,39.560080889704963,52,37.336309405188942]
[null,"50.0 percent or more",{"$f":"C168+C179","v":276},122.71104269787622,261,97.308786859152647,245,108.60018416190647,54,25.942243542145693,302,119.50313803411188,340,136.70405992508049,653,167.83920876839238,228,82.328609851011095,120,38.013155617496423,143,58.189346103904619,43,37.643060449437421]
[null,"Not computed",{"$f":"C169+C180","v":12},24.839484696748443,0,15.556349186104045,49,59.059292240933601,0,15.556349186104045,13,26.40075756488817,10,20.248456731316587,21,24.207436873820409,49,60.166435825965294,8,8.0622577482985491,7,14.866068747318506,0,15.556349186104045]
[]
[]
[]
[]
[null,"Calculated MONTHLY OWNER COSTS AS A PERCENTAGE OF HOUSEHOLD INCOME IN THE PAST 12 MONTHS "]
[null,"Universe:  OWNER-OCCUPIED HOUSING UNITS"]
[null,{"$f":"B154","v":"Data Set: 2008-2012 American Community Survey 5-Year Estimates"}]
[null,null,"Alton",null,"Barnstead",null,"Belmont",null,"Center Harbor",null,"Gilford",null,"Gilmanton",null,"Laconia",null,"Meredith",null,"New Hampton",null,"Sanbornton",null,"Tilton"]
[null," ","Estimate","Margin of Error","Estimate","Margin of Error","Estimate","Margin of Error","Estimate","Margin of Error","Estimate","Margin of Error","Estimate","Margin of Error","Estimate","Margin of Error","Estimate","Margin of Error","Estimate","Margin of Error","Estimate","Margin of Error","Estimate","Margin of Error"]
[null,"Total:",{"$f":"C190","v":1812},{"$f":"D190","v":175},1585,93,2265,188,362,64,2581,211,1337,93,4244,308,2124,176,714,75,1106,82,950,121]
[null,"Less than 20% of HH Income",{"$f":"C191+C192+C193","v":663},{"$f":"SQRT((D191^2)+(D192^2)+(D193^2))","v":174.02298698735177},{"$f":"E191+E192+E193","v":455},{"$f":"SQRT((F191^2)+(F192^2)+(F193^2))","v":122.09832103677756},{"$f":"G191+G192+G193","v":1040},{"$f":"SQRT((H191^2)+(H192^2)+(H193^2))","v":230.26940743398808},{"$f":"I191+I192+I193","v":144},{"$f":"SQRT((J191^2)+(J192^2)+(J193^2))","v":44.474711915874174},{"$f":"K191+K192+K193","v":1021},{"$f":"SQRT((L191^2)+(L192^2)+(L193^2))","v":219.01598115206113},{"$f":"M191+M192+M193","v":395},{"$f":"SQRT((N191^2)+(N192^2)+(N193^2))","v":103.97595875970561},{"$f":"O191+O192+O193","v":1485},{"$f":"SQRT((P191^2)+(P192^2)+(P193^2))","v":256.01562452319195},{"$f":"Q191+Q192+Q193","v":989},{"$f":"SQRT((R191^2)+(R192^2)+(R193^2))","v":181.3201588351389},{"$f":"S191+S192+S193","v":245},{"$f":"SQRT((T191^2)+(T192^2)+(T193^2))","v":59.623820743055369},{"$f":"U191+U192+U193","v":389},{"$f":"SQRT((V191^2)+(V192^2)+(V193^2))","v":85.988371306822643},{"$f":"W191+W192+W193","v":423},{"$f":"SQRT((X191^2)+(X192^2)+(X193^2))","v":110.55767725490618}]
[null," 20% to 29.9% of HH Income",{"$f":"C194+C195","v":373},{"$f":"SQRT((D194^2)+(D195^2))","v":132.82695509571843},{"$f":"E194+E195","v":361},{"$f":"SQRT((F194^2)+(F195^2))","v":92.784697014108971},{"$f":"G194+G195","v":484},{"$f":"SQRT((H194^2)+(H195^2))","v":149.67297685287082},{"$f":"I194+I195","v":88},{"$f":"SQRT((J194^2)+(J195^2))","v":31.953090617340916},{"$f":"K194+K195","v":556},{"$f":"SQRT((L194^2)+(L195^2))","v":157.19414747375299},{"$f":"M194+M195","v":308},{"$f":"SQRT((N194^2)+(N195^2))","v":102.02940752547768},{"$f":"O194+O195","v":1194},{"$f":"SQRT((P194^2)+(P195^2))","v":217.20497231877542},{"$f":"Q194+Q195","v":403},{"$f":"SQRT((R194^2)+(R195^2))","v":122.46223907801131},{"$f":"S194+S195","v":172},{"$f":"SQRT((T194^2)+(T195^2))","v":44.113490000225561},{"$f":"U194+U195","v":294},{"$f":"SQRT((V194^2)+(V195^2))","v":83.767535477653865},{"$f":"W194+W195","v":260},{"$f":"SQRT((X194^2)+(X195^2))","v":76.857010090166796}]
[null," Less Than 30% of HH Income",{"$f":"C191+C192+C193+C194+C195","v":1036},{"$f":"SQRT((D191^2)+(D192^2)+(D193^2)+(D194^2)+(D195^2))","v":218.92236066697254},{"$f":"E191+E192+E193+E194+E195","v":816},{"$f":"SQRT((F191^2)+(F192^2)+(F193^2)+(F194^2)+(F195^2))","v":153.35253502958469},{"$f":"G191+G192+G193+G194+G195","v":1524},{"$f":"SQRT((H191^2)+(H192^2)+(H193^2)+(H194^2)+(H195^2))","v":274.63794348195955},{"$f":"I191+I192+I193+I194+I195","v":232},{"$f":"SQRT((J191^2)+(J192^2)+(J193^2)+(J194^2)+(J195^2))","v":54.763126280372269},{"$f":"K191+K192+K193+K194+K195","v":1577},{"$f":"SQRT((L191^2)+(L192^2)+(L193^2)+(L194^2)+(L195^2))","v":269.58857542559178},{"$f":"M191+M192+M193+M194+M195","v":703},{"$f":"SQRT((N191^2)+(N192^2)+(N193^2)+(N194^2)+(N195^2))","v":145.67429423202984},{"$f":"O191+O192+O193+O194+O195","v":2679},{"$f":"SQRT((P191^2)+(P192^2)+(P193^2)+(P194^2)+(P195^2))","v":335.74097158374934},{"$f":"Q191+Q192+Q193+Q194+Q195","v":1392},{"$f":"SQRT((R191^2)+(R192^2)+(R193^2)+(R194^2)+(R195^2))","v":218.8012797037531},{"$f":"S191+S192+S193+S194+S195","v":417},{"$f":"SQRT((T191^2)+(T192^2)+(T193^2)+(T194^2)+(T195^2))","v":74.168726563154635},{"$f":"U191+U192+U193+U194+U195","v":683},{"$f":"SQRT((V191^2)+(V192^2)+(V193^2)+(V194^2)+(V195^2))","v":120.04582458378134},{"$f":"W191+W192+W193+W194+W195","v":683},{"$f":"SQRT((X191^2)+(X192^2)+(X193^2)+(X194^2)+(X195^2))","v":134.64768843169941}]
[null," 30% or More of HH Income",{"$f":"C196+C197+C198+C199","v":764},{"$f":"SQRT((D196^2)+(D197^2)+(D198^2)+(D199^2))","v":225.65681908597401},{"$f":"E196+E197+E198+E199","v":769},{"$f":"SQRT((F196^2)+(F197^2)+(F198^2)+(F199^2))","v":173.5540261705271},{"$f":"G196+G197+G198+G199","v":692},{"$f":"SQRT((H196^2)+(H197^2)+(H198^2)+(H199^2))","v":177.90446874657195},{"$f":"I196+I197+I198+I199","v":130},{"$f":"SQRT((J196^2)+(J197^2)+(J198^2)+(J199^2))","v":49.010203019371382},{"$f":"K196+K197+K198+K199","v":991},{"$f":"SQRT((L196^2)+(L197^2)+(L198^2)+(L199^2))","v":236.91981765989945},{"$f":"M196+M197+M198+M199","v":624},{"$f":"SQRT((N196^2)+(N197^2)+(N198^2)+(N199^2))","v":162.51769134466559},{"$f":"O196+O197+O198+O199","v":1544},{"$f":"SQRT((P196^2)+(P197^2)+(P198^2)+(P199^2))","v":257.64510474682027},{"$f":"Q196+Q197+Q198+Q199","v":683},{"$f":"SQRT((R196^2)+(R197^2)+(R198^2)+(R199^2))","v":164.18282492392436},{"$f":"S196+S197+S198+S199","v":289},{"$f":"SQRT((T196^2)+(T197^2)+(T198^2)+(T199^2))","v":57.489129407219238},{"$f":"U196+U197+U198+U199","v":416},{"$f":"SQRT((V196^2)+(V197^2)+(V198^2)+(V199^2))","v":95.420123663722009},{"$f":"W196+W197+W198+W199","v":267},{"$f":"SQRT((X196^2)+(X197^2)+(X198^2)+(X199^2))","v":91.738759529437715}]
[null," 30% to 34.9% of HH Income",{"$f":"C196","v":211},{"$f":"D196","v":113.1591799192624},{"$f":"E196","v":147},67.683085036070864,233,96.104110213871706,44,31.064449134018133,295,125.92458060283545,81,46.324939287601879,303,94.493386011932074,126,65.604877867426907,68,23.53720459187964,83,38.600518131237564,76,40.496913462633174]
[null," Less Than 35% of HH Income",{"$f":"C191+C192+C193+C194+C195+C196","v":1247},{"$f":"SQRT((D191^2)+(D192^2)+(D193^2)+(D194^2)+(D195^2)+(D196^2))","v":246.4386333349542},{"$f":"E191+E192+E193+E194+E195+E196","v":963},{"$f":"SQRT((F191^2)+(F192^2)+(F193^2)+(F194^2)+(F195^2)+(F196^2))","v":167.62458053638792},{"$f":"G191+G192+G193+G194+G195+G196","v":1757},{"$f":"SQRT((H191^2)+(H192^2)+(H193^2)+(H194^2)+(H195^2)+(H196^2))","v":290.96735212047417},{"$f":"I191+I192+I193+I194+I195+I196","v":276},{"$f":"SQRT((J191^2)+(J192^2)+(J193^2)+(J194^2)+(J195^2)+(J196^2))","v":62.960304954788775},{"$f":"K191+K192+K193+K194+K195+K196","v":1872},{"$f":"SQRT((L191^2)+(L192^2)+(L193^2)+(L194^2)+(L195^2)+(L196^2))","v":297.5483154044062},{"$f":"M191+M192+M193+M194+M195+M196","v":784},{"$f":"SQRT((N191^2)+(N192^2)+(N193^2)+(N194^2)+(N195^2)+(N196^2))","v":152.86268347768856},{"$f":"O191+O192+O193+O194+O195+O196","v":2982},{"$f":"SQRT((P191^2)+(P192^2)+(P193^2)+(P194^2)+(P195^2)+(P196^2))","v":348.78503408259934},{"$f":"Q191+Q192+Q193+Q194+Q195+Q196","v":1518},{"$f":"SQRT((R191^2)+(R192^2)+(R193^2)+(R194^2)+(R195^2)+(R196^2))","v":228.42504240997746},{"$f":"S191+S192+S193+S194+S195+S196","v":485},{"$f":"SQRT((T191^2)+(T192^2)+(T193^2)+(T194^2)+(T195^2)+(T196^2))","v":77.813880509842207},{"$f":"U191+U192+U193+U194+U195+U196","v":766},{"$f":"SQRT((V191^2)+(V192^2)+(V193^2)+(V194^2)+(V195^2)+(V196^2))","v":126.09916732476864},{"$f":"W191+W192+W193+W194+W195+W196","v":759},{"$f":"SQRT((X191^2)+(X192^2)+(X193^2)+(X194^2)+(X195^2)+(X196^2))","v":140.60583202698243}]
[null," 35% or More of HH Income",{"$f":"C197+C198+C199","v":553},{"$f":"SQRT((D197^2)+(D198^2)+(D199^2))","v":195.23319389898839},{"$f":"E197+E198+E199","v":622},{"$f":"SQRT((F197^2)+(F198^2)+(F199^2))","v":159.81239000778382},{"$f":"G197+G198+G199","v":459},{"$f":"SQRT((H197^2)+(H198^2)+(H199^2))","v":149.71305888265059},{"$f":"I197+I198+I199","v":86},{"$f":"SQRT((J197^2)+(J198^2)+(J199^2))","v":37.907782842049727},{"$f":"K197+K198+K199","v":696},{"$f":"SQRT((L197^2)+(L198^2)+(L199^2))","v":200.68383093812017},{"$f":"M197+M198+M199","v":543},{"$f":"SQRT((N197^2)+(N198^2)+(N199^2))","v":155.77547945681309},{"$f":"O197+O198+O199","v":1241},{"$f":"SQRT((P197^2)+(P198^2)+(P199^2))","v":239.69146835046089},{"$f":"Q197+Q198+Q199","v":557},{"$f":"SQRT((R197^2)+(R198^2)+(R199^2))","v":150.50581384119354},{"$f":"S197+S198+S199","v":221},{"$f":"SQRT((T197^2)+(T198^2)+(T199^2))","v":52.449976167773421},{"$f":"U197+U198+U199","v":333},{"$f":"SQRT((V197^2)+(V198^2)+(V199^2))","v":87.263967363396901},{"$f":"W197+W198+W199","v":191},{"$f":"SQRT((X197^2)+(X198^2)+(X199^2))","v":82.316462509026721}]
[null," 50% or More of HH Income",{"$f":"C199","v":276},{"$f":"D199","v":122.71104269787622},{"$f":"E199","v":261},97.308786859152647,245,108.60018416190647,54,25.942243542145693,302,119.50313803411188,340,136.70405992508049,653,167.83920876839238,228,82.328609851011095,120,38.013155617496423,143,58.189346103904619,43,37.643060449437421]
[null,"Not computed",{"$f":"C200","v":12},{"$f":"D200","v":24.839484696748443},0,15.556349186104045,49,59.059292240933601,0,15.556349186104045,13,26.40075756488817,10,20.248456731316587,21,24.207436873820409,49,60.166435825965294,8,8.0622577482985491,7,14.866068747318506,0,15.556349186104045]

{"sheet":"ACS_Table_B25106","index":69,"n_rows":255,"n_cols":24,"rows_kept":255,"cut":false,"hidden":true,"merged":[]}
[null,"B25106. TENURE BY HOUSING COSTS AS A PERCENTAGE OF HOUSEHOLD INCOME IN THE PAST 12 MONTHS"]
[null,"Universe:  OCCUPIED HOUSING UNITS"]
[null,"Data Set: 2018-2022 American Community Survey 5-Year Estimates"]
[]
[null,null,"Alton",null,"Barnstead",null,"Belmont",null,"Center Harbor",null,"Gilford",null,"Gilmanton",null,"Laconia",null,"Meredith",null,"New Hampton",null,"Sanbornton",null,"Tilton"]
[null,null,"Estimate","Margin of Error","Estimate","Margin of Error","Estimate","Margin of Error","Estimate","Margin of Error","Estimate","Margin of Error","Estimate","Margin of Error","Estimate","Margin of Error","Estimate","Margin of Error","Estimate","Margin of Error","Estimate","Margin of Error","Estimate","Margin of Error"]
[null,"Total:",2240,229,1840,167,2940,252,384,88,3069,236,1575,155,6965,394,3242,243,978,123,1125,132,1598,137]
[null,"Owner occupied housing units:",2072,207,1600,176,2454,265,330,84,2771,206,1471,174,4095,367,2501,231,824,109,838,126,1055,163]
[null,"Less than $20,000:",47,59,51,44,346,183,8,8,127,104,73,63,228,140,237,131,27,20,107,65,32,31]
[null,"Less than 20 percent",0,17,0,12,19,30,0,12,0,17,0,12,0,19,0,17,0,12,0,12,0,12]
[null,"20 to 29 percent",0,17,0,12,25,47,0,12,0,17,0,12,0,19,0,17,0,12,0,12,0,12]
[null,"30 percent or more",47,59,51,44,302,170,8,8,127,104,73,63,228,140,237,131,27,20,107,65,32,31]
[null,"$20,000 to $34,999:",122,95,131,81,246,183,35,25,128,74,60,43,476,167,319,155,62,40,24,22,191,84]
[null,"Less than 20 percent",37,61,9,15,124,165,7,10,0,17,23,37,34,38,22,34,22,24,6,9,21,20]
[null,"20 to 29 percent",8,12,0,12,1,7,11,14,27,29,6,11,114,81,152,117,21,26,8,13,33,43]
[null,"30 percent or more",77,61,122,76,121,64,17,19,101,67,31,26,328,139,145,99,19,15,10,17,137,71]
[null,"$35,000 to $49,999:",201,103,159,109,240,110,20,13,170,86,79,64,252,88,294,114,101,49,33,35,172,98]
[null,"Less than 20 percent",11,18,0,12,70,77,0,12,56,49,0,12,38,43,96,89,20,24,12,20,81,83]
[null,"20 to 29 percent",21,24,128,104,45,55,3,5,65,34,0,12,73,55,64,39,16,17,0,12,46,36]
[null,"30 percent or more",169,94,31,27,125,73,17,12,49,54,79,64,141,80,134,63,65,42,21,29,45,40]
[null,"$50,000 to $74,999:",240,111,337,108,301,126,37,23,420,179,204,89,655,211,268,100,147,57,94,58,177,103]
[null,"Less than 20 percent",46,26,34,36,108,68,13,17,190,147,59,43,157,66,132,70,71,44,10,13,96,78]
[null,"20 to 29 percent",77,69,81,47,107,79,9,8,126,99,43,40,280,147,39,31,22,19,47,43,19,22]
[null,"30 percent or more",117,84,222,94,86,79,15,14,104,69,102,69,218,104,97,60,54,34,37,29,62,59]
[null,"$75,000 or more:",1462,196,922,135,1304,225,230,73,1926,189,1055,176,2484,299,1383,200,479,71,571,112,474,116]
[null,"Less than 20 percent",1104,224,668,158,969,189,194,68,1228,205,715,163,1653,242,951,189,368,66,406,97,343,113]
[null,"20 to 29 percent",287,147,196,84,268,125,34,19,466,209,310,118,544,200,359,125,98,41,96,49,121,60]
[null,"30 percent or more",71,53,58,40,67,61,2,3,232,124,30,31,287,104,73,48,13,15,69,54,10,16]
[null,"Zero or negative income",0,17,0,12,17,28,0,12,0,17,0,12,0,19,0,17,8,12,9,14,9,14]
[null,"Renter occupied housing units:",168,109,240,124,486,151,54,36,298,142,104,87,2870,417,741,213,154,75,287,122,543,140]
[null,"Less than $20,000:",16,25,0,12,77,65,0,12,37,40,0,12,594,222,113,76,17,21,7,13,51,31]
[null,"Less than 20 percent",0,17,0,12,0,17,0,12,0,17,0,12,0,19,0,17,0,12,0,12,0,12]
[null,"20 to 29 percent",0,17,0,12,21,31,0,12,11,18,0,12,69,69,79,74,0,12,0,12,22,19]
[null,"30 percent or more",16,25,0,12,56,55,0,12,26,34,0,12,525,194,34,31,17,21,7,13,29,28]
[null,"$20,000 to $34,999:",39,68,115,95,48,49,0,12,99,80,32,51,505,185,128,74,9,12,27,41,79,80]
[null,"Less than 20 percent",0,17,0,12,0,17,0,12,0,17,0,12,21,34,0,17,0,12,0,12,37,55]
[null,"20 to 29 percent",39,68,0,12,48,49,0,12,11,18,0,12,17,26,0,17,2,4,0,12,34,43]
[null,"30 percent or more",0,17,115,95,0,17,0,12,88,78,32,51,467,175,128,74,7,12,27,41,8,13]
[null,"$35,000 to $49,999:",24,29,0,12,76,66,3,5,41,55,0,12,460,225,162,113,72,65,6,9,36,38]
[null,"Less than 20 percent",0,17,0,12,0,17,0,12,0,17,0,12,0,19,0,17,33,50,0,12,0,12]
[null,"20 to 29 percent",14,24,0,12,60,65,0,12,5,7,0,12,143,147,102,110,23,35,0,12,9,15]
[null,"30 percent or more",10,16,0,12,16,20,3,5,36,54,0,12,317,188,60,55,16,25,6,9,27,35]
[null,"$50,000 to $74,999:",0,17,19,32,84,72,26,31,31,20,0,12,593,191,116,79,20,16,96,79,160,102]
[null,"Less than 20 percent",0,17,0,12,0,17,26,31,4,6,0,12,140,115,0,17,3,5,8,12,57,65]
[null,"20 to 29 percent",0,17,19,32,84,72,0,12,27,22,0,12,334,148,45,39,0,12,65,75,53,69]
[null,"30 percent or more",0,17,0,12,0,17,0,12,0,17,0,12,119,81,71,73,17,16,23,31,50,58]
[null,"$75,000 or more:",25,31,86,61,117,87,16,16,30,32,40,48,623,268,90,83,0,12,104,95,131,69]
[null,"Less than 20 percent",25,31,63,46,117,87,0,12,9,14,9,14,471,235,90,83,0,12,57,69,88,79]
[null,"20 to 29 percent",0,17,23,36,0,17,12,14,8,14,31,46,152,93,0,17,0,12,47,55,28,42]
[null,"30 percent or more",0,17,0,12,0,17,4,6,13,23,0,12,0,19,0,17,0,12,0,12,15,24]
[null,"Zero or negative income",0,17,0,12,42,50,0,12,20,26,0,12,13,20,11,19,9,12,0,12,0,12]
[null,"No cash rent",64,64,20,26,42,44,9,11,40,65,32,37,82,56,121,123,27,21,47,52,86,85]
[]
[]
[]
[]
[]
[]
[null,"Calculated B25106. TENURE BY HOUSING COSTS AS A PERCENTAGE OF HOUSEHOLD INCOME IN THE PAST 12 MONTHS"]
[null,"Universe:  OCCUPIED HOUSING UNITS"]
[null,{"$f":"B3","v":"Data Set: 2018-2022 American Community Survey 5-Year Estimates"}]
[]
[null,null,"Alton",null,"Barnstead",null,"Belmont",null,"Center Harbor",null,"Gilford",null,"Gilmanton",null,"Laconia",null,"Meredith",null,"New Hampton",null,"Sanbornton",null,"Tilton"]
[null,null,"Estimate","Margin of Error","Estimate","Margin of Error","Estimate","Margin of Error","Estimate","Margin of Error","Estimate","Margin of Error","Estimate","Margin of Error","Estimate","Margin of Error","Estimate","Margin of Error","Estimate","Margin of Error","Estimate","Margin of Error","Estimate","Margin of Error"]
[null,{"$f":"B7","v":"Total:"},2240,229,1840,167,2940,252,384,88,3069,236,1575,155,6965,394,3242,243,978,123,1125,132,1598,137]
[null,"Owner occupied housing units:",2072,207,1600,176,2454,265,330,84,2771,206,1471,174,4095,367,2501,231,824,109,838,126,1055,163]
[null,"Less than 20 percent",{"$f":"C10+C14+C18+C22+C26","v":1198},{"$f":"SQRT((D10^2)+(D14^2)+(D18^2)+(D22^2)+(D26^2))","v":234.9170066214875},{"$f":"SQRT((E10^2)+(E14^2)+(E18^2)+(E22^2)+(E26^2))","v":668.92525740922656},163.62457028209425,985.5262553580194,272.76180084461976,194.56104440509154,72.80796659706958,1243.8729838693339,258.09494377069848,717.79871830479055,173.42145196024626,1661.2218394904396,258.01937911715083,965.15542789749668,223.57772697654835,375.96409403026774,87.109126961530265,406.34468127440772,101.0099005048515,365.8783950986994,162.12957780738219]
[null,"20 to 29 percent",{"$f":"C11+C15+C19+C23+C27","v":393},{"$f":"SQRT((D11^2)+(D15^2)+(D19^2)+(D23^2)+(D27^2))","v":165.46600859391032},247.71152577141015,142.72000560538106,293.12795840724579,164.76953601925328,36.972963094672302,28.106938645110393,487.83808789392407,236.15249310562021,313.02555806195761,126.22598781550494,626.62668312161748,267.4995327098722,396.99118378120187,179.12286286233814,103.85085459446157,56.133768802744754,107.18675291284833,68.607579756175625,134.93331686429411,85.866174946832231]
[null,"30 percent or more",{"$f":"C12+C16+C20+C24+C28","v":481},{"$f":"SQRT((D12^2)+(D16^2)+(D20^2)+(D24^2)+(D28^2))","v":160.94408967091647},266.63458140308808,137.39359519278909,365.17803877013193,219.74303174389854,29.512709126747414,27.820855486487112,305.56668666593879,195.85198492739357,154.38588018338982,120.26221351696466,556.18522094712296,258.75277776286771,331.49358968161056,191.92446430822727,91.651513899116793,61.400325732035007,134.61054936371073,95.456796510253795,160.50545162080945,106.48474069086143]
[null,"Zero or negative income",{"$f":"C29","v":0},{"$f":"D29","v":17},{"$f":"E29","v":0},12,17,28,0,12,0,17,0,12,0,19,0,17,8,12,9,14,9,14]
[null,"Renter occupied housing units:",{"$f":"C30","v":168},{"$f":"D30","v":109},240,124,486,151,54,36,298,142,104,87,2870,417,741,213,154,75,287,122,543,140]
[null,"Less than 20 percent",{"$f":"C32+C36+C40+C44+C48","v":25},{"$f":"SQRT((D32^2)+(D36^2)+(D40^2)+(D44^2)+(D48^2))","v":46.010868281309364},{"$f":"SQRT((E32^2)+(E36^2)+(E40^2)+(E44^2)+(E48^2))","v":63},51.884487084291386,117,93.407708461347028,26,39.204591567825318,9.8488578017961039,33.151168908501553,9,27.784887978899608,491.81500587111003,265.19426841468498,90,89.693923985964616,33.136083051561783,54.378304497290095,57.55866572463264,73.054773971315527,111.18453129819814,117.38398527908311]
[null,"20 to 29 percent",{"$f":"C33+C37+C41+C45+C49","v":53},{"$f":"SQRT((D33^2)+(D37^2)+(D41^2)+(D45^2)+(D49^2))","v":77.890949410056621},29.832867780352597,52.459508194416003,115.76268828944843,114.28035701729323,12,27.784887978899608,32.557641192199412,37.107950630558946,31,51.884487084291386,400.19870064756583,239.99791665762433,136.63820841916802,140.26760139105536,23.086792761230392,40.902322672435119,80.212218520621903,95.299527805755673,72.897187874430387,94.657276529593858]
[null,"30 percent or more",{"$f":"C34+C38+C42+C46+C50","v":26},{"$f":"SQRT((D34^2)+(D38^2)+(D42^2)+(D46^2)+(D50^2))","v":41.809089920733747},115,97.984692682071525,58.240879114244144,65.513357416636794,5,22.203603311174518,99.42333730065593,104.75686135046239,32,56.36488268416781,779.97692273553832,332.45601212792047,161.80543872194161,122.80065146407001,29.715315916207253,40.124805295477756,36.646964403617389,55.09990925582364,66.022723360976258,78.217645068104673]
[null,"Zero or negative income",{"$f":"C51","v":0},{"$f":"D51","v":17},{"$f":"E51","v":0},12,42,50,0,12,20,26,0,12,13,20,11,19,9,12,0,12,0,12]
[null,"No cash rent",{"$f":"C52","v":64},{"$f":"D52","v":64},20,26,42,44,9,11,40,65,32,37,82,56,121,123,27,21,47,52,86,85]
[]
[]
[]
[]
[]
[]
[]
[]
[]
[]
[]
[]
[]
[]
[]
[]
[]
[]
[]
[]
[]
[]
[]
[null,"B25106. TENURE BY HOUSING COSTS AS A PERCENTAGE OF HOUSEHOLD INCOME IN THE PAST 12 MONTHS"]
[null,"Universe:  OCCUPIED HOUSING UNITS"]
[null,"Data Set: 2013-2017 American Community Survey 5-Year Estimates"]
[]
[null,null,"Alton",null,"Barnstead",null,"Belmont",null,"Center Harbor",null,"Gilford",null,"Gilmanton",null,"Laconia",null,"Meredith",null,"New Hampton",null,"Sanbornton",null,"Tilton"]
[null,null,"Estimate","Margin of Error","Estimate","Margin of Error","Estimate","Margin of Error","Estimate","Margin of Error","Estimate","Margin of Error","Estimate","Margin of Error","Estimate","Margin of Error","Estimate","Margin of Error","Estimate","Margin of Error","Estimate","Margin of Error","Estimate","Margin of Error"]
[null,"Total:",2159,178,1666,128,2799,234,419,56,3082,182,1443,104,6904,342,2626,159,848,88,1118,83,1515,130]
[null,"Owner occupied housing units:",1816,203,1497,157,2378,224,363,55,2712,188,1372,99,3786,297,1971,175,728,94,1025,92,971,151]
[null,"Less than $20,000:",82,82,112,61,286,124,38,26,231,114,47,67,326,121,128,64,79,39,44,29,73,48]
[null,"Less than 20 percent",0,16,27,41,12,19,0,11,57,88,0,11,0,18,0,16,0,11,0,11,0,11]
[null,"20 to 29 percent",0,16,12,19,0,16,0,11,25,33,0,11,8,13,0,16,0,11,8,12,8,12]
[null,"30 percent or more",82,82,73,42,274,118,38,26,149,72,47,67,318,121,128,64,79,39,36,27,65,48]
[null,"$20,000 to $34,999:",156,86,127,60,284,132,22,20,186,89,206,99,430,133,158,66,72,33,146,51,59,37]
[null,"Less than 20 percent",19,29,0,11,14,21,3,4,31,37,7,12,57,40,57,35,6,9,33,28,5,9]
[null,"20 to 29 percent",45,41,41,35,51,48,0,11,94,66,13,20,92,52,27,24,15,10,62,35,19,19]
[null,"30 percent or more",92,70,86,47,219,124,19,19,61,44,186,96,281,113,74,51,51,32,51,26,35,29]
[null,"$35,000 to $49,999:",226,98,119,68,244,118,48,23,425,142,53,33,457,124,249,99,69,36,91,42,171,79]
[null,"Less than 20 percent",80,81,11,19,47,44,13,12,150,103,13,20,160,90,74,40,16,13,19,18,95,63]
[null,"20 to 29 percent",14,22,11,18,83,68,12,13,69,59,19,21,122,59,93,70,26,18,15,14,13,15]
[null,"30 percent or more",132,85,97,56,114,73,23,15,206,100,21,23,175,79,82,44,27,25,57,34,63,49]
[null,"$50,000 to $74,999:",249,115,368,122,385,127,74,32,458,119,370,96,602,138,390,99,108,45,202,56,209,66]
[null,"Less than 20 percent",81,90,116,56,134,75,18,16,155,75,173,61,269,100,100,57,37,21,43,20,46,34]
[null,"20 to 29 percent",54,50,135,83,169,87,18,13,196,94,128,76,138,67,132,56,34,27,55,34,54,38]
[null,"30 percent or more",114,73,117,62,82,64,38,26,107,66,69,39,195,81,158,65,37,29,104,42,109,55]
[null,"$75,000 or more:",1103,205,771,129,1167,195,181,44,1380,159,650,106,1953,199,1046,143,379,82,542,75,459,117]
[null,"Less than 20 percent",605,176,436,121,663,214,135,41,1004,146,306,95,1427,205,783,131,261,67,398,57,345,106]
[null,"20 to 29 percent",357,187,316,86,420,125,25,19,282,111,216,111,451,122,146,73,114,51,119,52,104,66]
[null,"30 percent or more",141,104,19,21,84,60,21,14,94,47,128,89,75,52,117,57,4,7,25,18,10,16]
[null,"Zero or negative income",0,16,0,11,12,20,0,11,32,36,46,45,18,27,0,16,21,27,0,11,0,11]
[null,"Renter occupied housing units:",343,124,169,93,421,164,56,30,370,112,71,44,3118,263,655,154,120,46,93,37,544,147]
[null,"Less than $20,000:",49,70,9,13,89,65,3,5,59,48,0,11,854,192,199,83,26,25,5,7,183,96]
[null,"Less than 20 percent",0,16,0,11,17,27,0,11,0,16,0,11,50,50,0,16,0,11,0,11,0,11]
[null,"20 to 29 percent",0,16,0,11,0,16,0,11,24,39,0,11,106,54,44,32,4,6,0,11,50,22]
[null,"30 percent or more",49,70,9,13,72,65,3,5,35,26,0,11,698,177,155,77,22,25,5,7,133,90]
[null,"$20,000 to $34,999:",86,79,0,11,13,21,4,5,94,69,23,26,668,198,137,66,20,15,13,20,118,71]
[null,"Less than 20 percent",0,16,0,11,0,16,0,11,23,37,0,11,43,43,0,16,6,9,0,11,0,11]
[null,"20 to 29 percent",15,24,0,11,0,16,0,11,25,41,0,11,73,47,16,19,0,11,0,11,0,11]
[null,"30 percent or more",71,75,0,11,13,21,4,5,46,44,23,26,552,175,121,64,14,12,13,20,118,71]
[null,"$35,000 to $49,999:",79,69,45,56,94,88,6,9,45,41,38,33,475,164,19,20,10,13,5,8,48,50]
[null,"Less than 20 percent",14,23,36,52,0,16,0,11,0,16,0,11,13,21,0,16,0,11,0,11,5,10]
[null,"20 to 29 percent",65,66,0,11,83,85,0,11,0,16,23,25,282,140,0,16,10,13,0,11,6,11]
[null,"30 percent or more",0,16,9,15,11,19,6,9,45,41,15,22,180,82,19,20,0,11,5,8,37,47]
[null,"$50,000 to $74,999:",43,36,45,53,200,134,21,23,45,38,10,15,496,159,82,55,12,18,16,16,94,51]
[null,"Less than 20 percent",0,16,0,11,82,88,0,11,22,28,0,11,274,130,8,15,0,11,7,12,31,42]
[null,"20 to 29 percent",0,16,37,47,94,100,21,23,23,20,10,15,214,110,74,53,0,11,5,7,57,41]
[null,"30 percent or more",43,36,8,14,24,39,0,11,0,16,0,11,8,13,0,16,12,18,4,6,6,11]
[null,"$75,000 or more:",86,78,50,54,12,21,13,15,94,80,0,11,499,175,147,95,22,18,18,18,41,34]
[null,"Less than 20 percent",39,36,50,54,0,16,9,14,67,74,0,11,450,168,123,90,6,9,0,11,41,34]
[null,"20 to 29 percent",47,69,0,11,12,21,4,6,27,33,0,11,49,40,17,22,0,11,18,18,0,11]
[null,"30 percent or more",0,16,0,11,0,16,0,11,0,16,0,11,0,18,7,12,16,17,0,11,0,11]
[null,"Zero or negative income",0,16,0,11,13,22,0,11,21,35,0,11,49,46,0,16,0,11,0,11,0,11]
[null,"No cash rent",0,16,20,23,0,16,9,9,12,14,0,11,77,47,71,54,30,25,36,23,60,55]
[]
[]
[]
[]
[]
[]
[null,"Calculated B25106. TENURE BY HOUSING COSTS AS A PERCENTAGE OF HOUSEHOLD INCOME IN THE PAST 12 MONTHS"]
[null,"Universe:  OCCUPIED HOUSING UNITS"]
[null,{"$f":"B102","v":"Data Set: 2013-2017 American Community Survey 5-Year Estimates"}]
[]
[null,null,"Alton",null,"Barnstead",null,"Belmont",null,"Center Harbor",null,"Gilford",null,"Gilmanton",null,"Laconia",null,"Meredith",null,"New Hampton",null,"Sanbornton",null,"Tilton"]
[null,null,"Estimate","Margin of Error","Estimate","Margin of Error","Estimate","Margin of Error","Estimate","Margin of Error","Estimate","Margin of Error","Estimate","Margin of Error","Estimate","Margin of Error","Estimate","Margin of Error","Estimate","Margin of Error","Estimate","Margin of Error","Estimate","Margin of Error"]
[null,"Total:",{"$f":"C106","v":2159},178,1666,128,2799,234,419,56,3082,182,1443,104,6904,342,2626,159,848,88,1118,83,1515,130]
[null,"Owner occupied housing units:",1816,203,1497,157,2378,224,363,55,2712,188,1372,99,3786,297,1971,175,728,94,1025,92,971,151]
[null,"Less than 20 percent",{"$f":"C109+C113+C117+C121+C125","v":785},{"$f":"SQRT((D109^2)+(D113^2)+(D117^2)+(D121^2)+(D125^2))","v":216.18048015489279},{"$f":"SQRT((E109^2)+(E113^2)+(E117^2)+(E121^2)+(E125^2))","v":452.10839408265804},141.20906486483082,678.28754964248014,232.72086283786419,136.84662947986698,47.095647357266465,1028.9562672922498,216.01620309597149,351.82808301782848,115.80587204455567,1462.0324893790835,249.09636689442101,794.86728451987506,153.26773959317075,264.16282857359022,72.80796659706958,402.12311547584528,69.842680360936896,360.81989967295317,128.69731931940152]
[null,"20 to 29 percent",{"$f":"C110+C114+C118+C122+C126","v":470},{"$f":"SQRT((D110^2)+(D114^2)+(D118^2)+(D122^2)+(D126^2))","v":199.7248106770914},346.44913046506554,127.25957724273643,463.08854444911503,174.29285699649313,33.060550509633082,30.675723300355934,363.5409192924505,173.44451562387323,252.13091837376868,138.0543371285379,495.83969183598037,160.39638399914134,219.35815462389357,119.15116449284078,122.69066794177949,62.249497989943663,146.01027361114012,73.654599313281182,119.69126952288542,80.808415403347695]
[null,"30 percent or more",{"$f":"C111+C115+C119+C123+C127","v":561},{"$f":"SQRT((D111^2)+(D115^2)+(D119^2)+(D123^2)+(D127^2))","v":187.06683297688022},190.22092419079453,106.74268124794318,387.05684337058295,205.73040611440985,64.953829756219918,46.195237849804386,297.72974322361546,153.89931773727915,241.64229762191883,153.87007506334686,504.34115437866063,207.16177253537873,259.30098341502679,126.91335627111907,104.6709128650362,63.718129288295962,136.33414832682237,68.183575734923139,146.28738838327794,93.95211546314431]
[null,"Zero or negative income",{"$f":"C128","v":0},{"$f":"D128","v":16},{"$f":"E128","v":0},11,12,20,0,11,32,36,46,45,18,27,0,16,21,27,0,11,0,11]
[null,"Renter occupied housing units:",{"$f":"C129","v":343},{"$f":"D129","v":124},169,93,421,164,56,30,370,112,71,44,3118,263,655,154,120,46,93,37,544,147]
[null,"Less than 20 percent",{"$f":"C131+C135+C139+C143+C147","v":53},{"$f":"SQRT((D131^2)+(D135^2)+(D139^2)+(D143^2)+(D147^2))","v":50.921508225896062},{"$f":"SQRT((E131^2)+(E135^2)+(E139^2)+(E143^2)+(E147^2))","v":61.611687202997452},77.349854557070756,83.74365647617735,96.13012014972206,9,26.076809620810597,74.175467642610784,90.227490267656236,0,24.596747752497688,531.12522064010477,223.41441314293041,123.25988804148737,95.357223113930914,8.4852813742385695,22.912878474779198,7,25.059928172283335,51.643005334701428,57.113921245174545]
[null,"20 to 29 percent",{"$f":"C132+C136+C140+C144+C148","v":127},{"$f":"SQRT((D132^2)+(D136^2)+(D140^2)+(D144^2)+(D148^2))","v":101.01980003939822},37,51.894122981316485,125.97221915962265,134.82581355215328,21.377558326431949,30.463092423455635,49.588305072869751,70.334913094422745,25.079872407968907,34.828149534535996,379.84997038304476,196.02295783912658,89.202017914394744,70.242437315343778,10.770329614269007,23.832750575625969,18.681541692269406,27.129319932501073,76.05918747922567,50.279220359906141]
[null,"30 percent or more",{"$f":"C133+C137+C141+C145+C149","v":163},{"$f":"SQRT((D133^2)+(D137^2)+(D141^2)+(D145^2)+(D149^2))","v":111.05404089901457},15.033296378372908,28.844410203711913,77.781745930520231,82.486362509205122,7.810249675906654,19.313207915827967,73.252986287249755,69.318107302493488,27.459060435491963,39.025632602175712,907.94933779368989,263.00380225388375,197.67650340897879,104.04326023342406,32.863353450309965,38.768543949960254,15.329709716755891,25.88435821108957,181.70855786120808,124.86793023030373]
[null,"Zero or negative income",{"$f":"C150","v":0},{"$f":"D150","v":16},{"$f":"E150","v":0},11,13,22,0,11,21,35,0,11,49,46,0,16,0,11,0,11,0,11]
[null,"No cash rent",{"$f":"C151","v":0},{"$f":"D151","v":16},20,23,0,16,9,9,12,14,0,11,77,47,71,54,30,25,36,23,60,55]
[]
[]
[]
[]
[null,"B25106. TENURE BY HOUSING COSTS AS A PERCENTAGE OF HOUSEHOLD INCOME IN THE PAST 12 MONTHS"]
[null,"Universe:  OCCUPIED HOUSING UNITS"]
[null,"Data Set: 2008-2012 American Community Survey 5-Year Estimates"]
[]
[null,null,"Alton",null,"Barnstead",null,"Belmont",null,"Center Harbor",null,"Gilford",null,"Gilmanton",null,"Laconia",null,"Meredith",null,"New Hampton",null,"Sanbornton",null,"Tilton"]
[null,null,"Estimate","Margin of Error","Estimate","Margin of Error","Estimate","Margin of Error","Estimate","Margin of Error","Estimate","Margin of Error","Estimate","Margin of Error","Estimate","Margin of Error","Estimate","Margin of Error","Estimate","Margin of Error","Estimate","Margin of Error","Estimate","Margin of Error"]
[null,"Total:",2182,151,1694,91,2774,177,443,61,2996,213,1433,86,7143,283,2949,153,870,73,1190,79,1453,141]
[null,"Owner occupied housing units:",1812,175,1585,93,2265,188,362,64,2581,211,1337,93,4244,308,2124,176,714,75,1106,82,950,121]
[null,"Less than $20,000:",146,86,100,55,199,115,33,20,239,107,143,68,347,128,148,65,69,30,68,44,64,42]
[null,"Less than 20 percent",0,16,0,11,75,68,0,11,12,20,11,18,0,18,0,16,3,5,0,11,17,21]
[null,"20 to 29 percent",50,42,8,13,0,16,10,14,16,25,0,11,16,18,8,15,0,11,6,10,0,11]
[null,"30 percent or more",96,73,92,55,124,87,23,15,211,101,132,70,331,124,140,63,66,29,62,44,47,38]
[null,"$20,000 to $34,999:",293,126,201,83,323,110,42,24,344,112,210,86,580,165,277,102,65,31,81,41,165,73]
[null,"Less than 20 percent",60,50,5,8,92,73,0,11,57,46,9,15,12,19,44,34,3,6,31,26,83,62]
[null,"20 to 29 percent",124,98,30,27,89,80,8,6,95,49,53,48,90,53,29,26,14,10,15,18,36,27]
[null,"30 percent or more",109,65,166,78,142,71,34,24,192,94,148,66,478,157,204,85,48,28,35,27,46,28]
[null,"$35,000 to $49,999:",222,116,148,73,130,67,45,24,178,103,147,86,632,146,255,92,95,37,218,71,118,48]
[null,"Less than 20 percent",19,21,25,29,31,29,10,8,22,25,23,19,156,55,13,17,50,31,60,35,40,30]
[null,"20 to 29 percent",16,26,18,22,19,17,17,11,31,27,27,34,62,34,75,49,6,6,37,42,21,21]
[null,"30 percent or more",187,114,105,68,80,60,18,20,125,100,97,79,414,160,167,82,39,17,121,58,57,37]
[null,"$50,000 to $74,999:",438,137,420,98,649,158,92,36,696,196,298,79,796,155,290,97,186,41,292,68,259,85]
[null,"Less than 20 percent",145,81,59,33,230,114,26,18,226,129,60,35,258,94,158,67,40,23,72,38,105,44]
[null,"20 to 29 percent",108,57,90,51,200,95,24,18,87,57,74,52,352,110,46,48,49,28,61,30,56,37]
[null,"30 percent or more",185,121,271,91,219,109,42,30,383,154,164,59,186,80,86,51,97,28,159,53,98,64]
[null,"$75,000 or more:",701,147,716,117,915,156,150,47,1111,157,529,107,1868,253,1105,169,291,60,440,74,344,88]
[null,"Less than 20 percent",439,141,366,108,612,139,108,40,704,133,292,85,1059,212,774,149,149,40,226,62,178,67]
[null,"20 to 29 percent",75,51,215,75,176,61,29,22,327,127,154,65,674,167,245,95,103,33,175,58,147,62]
[null,"30 percent or more",187,95,135,58,127,72,13,15,80,48,83,55,135,59,86,62,39,20,39,26,19,21]
[null,"Zero or negative income",12,19,0,11,49,59,0,11,13,21,10,17,21,24,49,60,8,8,7,10,0,11]
[null,"Renter occupied housing units:",370,139,109,38,509,176,81,37,415,179,96,54,2899,306,825,171,156,43,84,47,503,107]
[null,"Less than $20,000:",105,105,0,11,51,36,28,25,132,100,54,44,917,187,203,91,15,14,8,12,107,54]
[null,"Less than 20 percent",0,16,0,11,9,14,0,11,0,16,0,11,36,34,0,16,0,11,0,11,27,44]
[null,"20 to 29 percent",54,86,0,11,0,16,0,11,56,80,19,31,72,47,94,59,0,11,0,11,15,13]
[null,"30 percent or more",51,62,0,11,42,37,28,25,76,64,35,31,809,197,109,75,15,14,8,12,65,56]
[null,"$20,000 to $34,999:",22,35,0,11,158,102,0,11,9,15,11,17,521,163,155,110,33,27,0,11,153,77]
[null,"Less than 20 percent",0,16,0,11,10,15,0,11,0,16,0,11,44,35,13,20,0,11,0,11,9,15]
[null,"20 to 29 percent",0,16,0,11,57,72,0,11,0,16,0,11,152,106,17,23,0,11,0,11,72,65]
[null,"30 percent or more",22,35,0,11,91,76,0,11,9,15,11,17,325,122,125,104,33,27,0,11,72,50]
[null,"$35,000 to $49,999:",59,72,19,22,104,80,10,15,127,106,15,16,668,194,114,86,14,15,0,11,55,48]
[null,"Less than 20 percent",43,69,0,11,34,55,0,11,0,16,0,11,189,142,0,16,0,11,0,11,0,11]
[null,"20 to 29 percent",0,16,0,11,26,32,0,11,93,101,15,16,371,148,46,71,3,5,0,11,55,48]
[null,"30 percent or more",16,25,19,22,44,45,10,15,34,39,0,11,108,54,68,55,11,14,0,11,0,11]
[null,"$50,000 to $74,999:",64,62,47,35,86,71,33,23,80,70,0,11,430,179,126,70,28,19,0,11,40,42]
[null,"Less than 20 percent",47,58,8,12,23,39,9,15,14,23,0,11,271,158,85,64,25,19,0,11,20,32]
[null,"20 to 29 percent",17,25,39,33,52,57,24,19,52,66,0,11,148,84,9,15,3,5,0,11,12,17]
[null,"30 percent or more",0,16,0,11,11,18,0,11,14,23,0,11,11,17,32,34,0,11,0,11,8,14]
[null,"$75,000 or more:",66,79,13,19,98,103,0,11,10,17,0,11,233,103,92,52,16,20,29,29,70,55]
[null,"Less than 20 percent",49,76,13,19,98,103,0,11,10,17,0,11,205,97,92,52,16,20,12,14,70,55]
[null,"20 to 29 percent",17,27,0,11,0,16,0,11,0,16,0,11,28,33,0,16,0,11,17,27,0,11]
[null,"30 percent or more",0,16,0,11,0,16,0,11,0,16,0,11,0,18,0,16,0,11,0,11,0,11]
[null,"Zero or negative income",19,32,0,11,12,19,0,11,0,16,0,11,46,47,51,59,0,11,0,11,0,11]
[null,"No cash rent",35,40,30,29,0,16,10,9,57,82,16,19,84,62,84,71,50,30,47,36,78,52]
[]
[]
[]
[]
[]
[]
[null,"Calculated B25106. TENURE BY HOUSING COSTS AS A PERCENTAGE OF HOUSEHOLD INCOME IN THE PAST 12 MONTHS"]
[null,"Universe:  OCCUPIED HOUSING UNITS"]
[null,{"$f":"B182","v":"Data Set: 2008-2012 American Community Survey 5-Year Estimates"}]
[]
[null,null,"Alton",null,"Barnstead",null,"Belmont",null,"Center Harbor",null,"Gilford",null,"Gilmanton",null,"Laconia",null,"Meredith",null,"New Hampton",null,"Sanbornton",null,"Tilton"]
[null,null,"Estimate","Margin of Error","Estimate","Margin of Error","Estimate","Margin of Error","Estimate","Margin of Error","Estimate","Margin of Error","Estimate","Margin of Error","Estimate","Margin of Error","Estimate","Margin of Error","Estimate","Margin of Error","Estimate","Margin of Error","Estimate","Margin of Error"]
[null,"Total:",{"$f":"C186","v":2182},151,1694,91,2774,177,443,61,2996,213,1433,86,7143,283,2949,153,870,73,1190,79,1453,141]
[null,"Owner occupied housing units:",1812,175,1585,93,2265,188,362,64,2581,211,1337,93,4244,308,2124,176,714,75,1106,82,950,121]
[null,"Less than 20 percent",{"$f":"C189+C193+C197+C201+C205","v":663},{"$f":"SQRT((D189^2)+(D193^2)+(D197^2)+(D201^2)+(D205^2))","v":172.15980947944848},{"$f":"SQRT((E189^2)+(E193^2)+(E197^2)+(E201^2)+(E205^2))","v":371.60059203397401},117.38398527908311,665.20222489104765,207.63188579791881,111.53474794878949,47.222875812470377,742.0033692645876,193.57427515039285,299.32423891158567,96.74709297958259,1101.1471291339772,239.77072381756702,791.29324526372648,168.49629076036067,162.23131633565697,56.133768802744754,246.6191395654441,85.498537999196216,226.90747012824411,107.74970997640783]
[null,"20 to 29 percent",{"$f":"C190+C194+C198+C202+C206","v":373},{"$f":"SQRT((D190^2)+(D194^2)+(D198^2)+(D202^2)+(D206^2))","v":133.7684566704722},235.82408698010474,98.020406038742763,281.52797374328543,140.32462364104171,43.243496620879306,34.073450074801642,353.18550366627449,152.09536482089123,180.91434437324199,102.51829105091443,768.36189390156505,210.42338273110238,262.05152165175457,120.95867062761562,115.07388930595855,46.151923036857305,189.67340351245875,80.324342512092812,162.73291000900832,80.647380614623813]
[null,"30 percent or more",{"$f":"C191+C195+C199+C203+C207","v":764},{"$f":"SQRT((D191^2)+(D195^2)+(D199^2)+(D203^2)+(D207^2))","v":214.97906874856446},372.43925679229898,159.3047394147456,325.6224807963971,182.414363469547,62.785348609369052,48.228622207149975,500.09899020094014,234.6422809299296,287.26642685841307,148.33408239511243,749.8413165463744,274.7835511816528,322.33057565176779,156.08651447194276,138.24254048591555,55.659680200302986,215.66640906733713,97.53973549277238,132.43488966280751,90.188691087075881]
[null,"Zero or negative income",{"$f":"C208","v":12},{"$f":"D208","v":19},{"$f":"E208","v":0},11,49,59,0,11,13,21,10,17,21,24,49,60,8,8,7,10,0,11]
[null,"Renter occupied housing units:",{"$f":"C209","v":370},{"$f":"D209","v":139},109,38,509,176,81,37,415,179,96,54,2899,306,825,171,156,43,84,47,503,107]
[null,"Less than 20 percent",{"$f":"C211+C215+C219+C223+C227","v":139},{"$f":"SQRT((D211^2)+(D215^2)+(D219^2)+(D223^2)+(D227^2))","v":120.0541544470661},{"$f":"SQRT((E211^2)+(E215^2)+(E219^2)+(E223^2)+(E227^2))","v":15.264337522473747},29.461839725312469,107.09808588392231,124.80384609458156,9,26.627053911388696,17.204650534085253,39.824615503479755,0,24.596747752497688,392.96183020746429,238.57493581682044,125.92855117089213,87.817993600400598,29.681644159311659,33.526109228480422,12,26.076809620810597,78.166488983451217,79.567581338130424]
[null,"20 to 29 percent",{"$f":"C212+C216+C220+C224+C228","v":88},{"$f":"SQRT((D212^2)+(D216^2)+(D220^2)+(D224^2)+(D228^2))","v":96.239285117876889},39,39.66106403010388,81.418671077339496,99.844879688444721,24,29.068883707497267,120.37026210821342,146.52303573158727,24.207436873820409,39.749213828703581,434.30058715134152,208.55215175106682,106.40488710580919,97.631961979671388,4.2426406871192848,20.322401432901575,17,34.828149534535996,92.617492948146676,84.308955633431964]
[null,"30 percent or more",{"$f":"C213+C217+C221+C225+C229","v":89},{"$f":"SQRT((D213^2)+(D217^2)+(D221^2)+(D225^2)+(D229^2))","v":78.778169564924525},19,31.11269837220809,110.00909053346456,98.742088290657492,29.732137494637012,34.828149534535996,84.905830188509441,81.40638795573723,36.687872655688281,40.162171256046406,878.57327525938319,239.21120375099491,182.08239892971534,144.49221432312538,37.881393849751625,36.918829883949464,8,25.059928172283335,97.329337817535773,77.935871073594853]
[null,"Zero or negative income",{"$f":"C230","v":19},{"$f":"D230","v":32},{"$f":"E230","v":0},11,12,19,0,11,0,16,0,11,46,47,51,59,0,11,0,11,0,11]
[null,"No cash rent",{"$f":"C231","v":35},{"$f":"D231","v":40},30,29,0,16,10,9,57,82,16,19,84,62,84,71,50,30,47,36,78,52]

{"sheet":"PopComparison (2)","index":70,"n_rows":45,"n_cols":14,"rows_kept":45,"cut":false,"hidden":true,"merged":[[42,1,42,2],[36,1,36,2],[37,1,37,2],[38,1,38,2],[39,1,39,2],[35,1,35,2],[26,13,26,14],[27,3,27,4],[27,5,27,6],[27,7,27,8],[27,9,27,10],[29,1,29,2],[30,1,30,2],[31,1,31,2],[32,1,32,2],[33,1,33,2],[34,1,34,2]]}
[]
[]
[]
[]
[]
[]
[]
[]
[]
[]
[]
[]
[]
[]
[]
[]
[]
[]
[]
[]
[]
[]
[]
[]
[]
[]
[]
[null,null,null,2000,null,2010,null,2020,null,2030,null,null,"2000-2010","2010-2020"]
[null,null,null,"#","%","#","%","#","%","#","%",null,"% Change","% Change"]
[null,"Alton ",null,{"$f":"CntyQuery!G55","v":4502},{"$f":"D30/$D$43","v":7.9928983577452289E-2},{"$f":"CntyQuery!H55","v":5250},{"$f":"F30/$F$43","v":8.7371854613233921E-2},{"$f":"CntyQuery!I55","v":5894},{"$f":"H30/$H$43","v":9.2520210344556944E-2},{"$f":"CntyQuery!K55","v":6350},{"$f":"J30/J$43","v":9.251839440518686E-2},null,{"$f":"(F30-D30)/D30","v":0.16614837849844513},{"$f":"(H30-F30)/F30","v":0.12266666666666666}]
[null,"Barnstead ",null,{"$f":"CntyQuery!G56","v":3886},{"$f":"D31/$D$43","v":6.89924545051043E-2},{"$f":"CntyQuery!H56","v":4593},{"$f":"F31/$F$43","v":7.6437891093063509E-2},{"$f":"CntyQuery!I56","v":4915},{"$f":"H31/$H$43","v":7.7152499803783067E-2},{"$f":"CntyQuery!K56","v":5295},{"$f":"J31/J$43","v":7.7147228090624312E-2},null,{"$f":"(F31-D31)/D31","v":0.18193515182707154},{"$f":"(H31-F31)/F31","v":7.0106684084476373E-2}]
[null,"Belmont ",null,{"$f":"CntyQuery!G57","v":6716},0.11923657345761207,{"$f":"CntyQuery!H57","v":7356},0.1224204500066569,{"$f":"CntyQuery!I57","v":7314},0.11481045443842712,{"$f":"CntyQuery!K57","v":7880},0.11481022801777518,null,9.5294818344252533E-2,-5.7096247960848291E-3]
[null,"Center Harbor ",null,{"$f":"CntyQuery!G58","v":996},1.7683089214380825E-2,{"$f":"CntyQuery!H58","v":1096},1.8239914791638931E-2,{"$f":"CntyQuery!I58","v":1040},1.6325249195510556E-2,{"$f":"CntyQuery!K58","v":1120},1.6318204997450281E-2,null,0.10040160642570281,-5.1094890510948905E-2]
[null,"Gilford ",null,{"$f":"CntyQuery!G59","v":6803},0.12078118064802486,{"$f":"CntyQuery!H59","v":7126},0.11859273066169618,{"$f":"CntyQuery!I59","v":7699},0.12085393611176516,{"$f":"CntyQuery!K59","v":8295},0.12085670576236614,null,4.7479053358812286E-2,8.0409767050238556E-2]
[null,"Gilmanton ",null,{"$f":"CntyQuery!G60","v":3060},5.4327563249001329E-2,{"$f":"CntyQuery!H60","v":3777},6.2857808547463714E-2,{"$f":"CntyQuery!I60","v":3945},6.1926065457970331E-2,{"$f":"CntyQuery!K60","v":4250},6.1921760034967584E-2,null,0.23431372549019608,4.4479745830023829E-2]
[null,"Laconia ",null,{"$f":"CntyQuery!G61","v":16411},0.29136262760763426,{"$f":"CntyQuery!H61","v":15951},0.26546065770203703,{"$f":"CntyQuery!I61","v":16871},0.26483007613217174,{"$f":"CntyQuery!K61","v":18177},0.26483572521308368,null,-2.8029979891536164E-2,5.7676634693749611E-2]
[null,"Meredith ",null,{"$f":"CntyQuery!G62","v":5943},0.10551264980026631,{"$f":"CntyQuery!H62","v":6241},0.10386433231260818,{"$f":"CntyQuery!I62","v":6662},0.10457577898124167,{"$f":"CntyQuery!K62","v":7178},0.1045822102425876,null,5.0143025408043079E-2,6.7457138279121934E-2]
[null,"New Hampton ",null,{"$f":"CntyQuery!G63","v":1950},3.462050599201065E-2,{"$f":"CntyQuery!H63","v":2165},3.6030488616695514E-2,{"$f":"CntyQuery!I63","v":2377},3.7312612824739029E-2,{"$f":"CntyQuery!K63","v":2561},3.7313324105776938E-2,null,0.11025641025641025,9.7921478060046183E-2]
[null,"Sanbornton ",null,{"$f":"CntyQuery!G64","v":2581},4.5823346648912563E-2,{"$f":"CntyQuery!H64","v":2966},4.9360937291971774E-2,{"$f":"CntyQuery!I64","v":3026},4.7500196216937449E-2,{"$f":"CntyQuery!K64","v":3260},4.7497632403292779E-2,null,0.14916698953893839,2.0229265003371546E-2]
[null,"Tilton ",null,{"$f":"CntyQuery!G65","v":3477},6.1731025299600534E-2,{"$f":"CntyQuery!H65","v":3567},5.9362934362934362E-2,{"$f":"CntyQuery!I65","v":3962},6.2192920492896944E-2,{"$f":"CntyQuery!K65","v":4269},6.2198586726888612E-2,null,2.5884383088869714E-2,0.11073731426969442]
[]
[]
[null,"Belknap County",null,{"$f":"SUM(D30:D42)","v":56325},null,{"$f":"SUM(F30:F42)","v":60088},null,{"$f":"SUM(H30:H42)","v":63705},null,{"$f":"SUM(J30:J42)","v":68635},null,null,{"$f":"(F43-D43)/F43","v":6.2624816935161767E-2},{"$f":"(H43-F43)/F43","v":6.0195047264012778E-2}]
[]
[null,"Source: US Census and Office of Planning and Development, NH BEA"]

{"sheet":"HousingComparison","index":71,"n_rows":48,"n_cols":15,"rows_kept":48,"cut":false,"hidden":true,"merged":[[28,3,28,4],[28,5,28,8],[28,9,28,14],[29,5,29,6],[29,7,29,8],[29,9,29,10],[29,11,29,12],[29,13,29,14]]}
[]
[]
[]
[]
[]
[]
[]
[]
[]
[]
[]
[]
[]
[]
[]
[]
[]
[]
[]
[]
[]
[]
[]
[]
[]
[]
[]
[null,"Housing Units",null,"In 2022"]
[null,null,null,"Total Units",null,"Occupied Units",null,null,null,"Vacant Units"]
[null,null,null,null,null,"Owner",null,"Renter",null,"For Sale",null,"For Rent",null,"Seasonal"]
[null,null,null,"#","%","#","%","#","%","#","%","#","%","#","%"]
[]
[null,"Alton ",null,{"$f":"ACS_Table_B25001!$D$7","v":294},{"$f":"D33/$D$45","v":8.513102649486029E-3},{"$f":"ACS_Table_B25003!$C$8","v":2072},{"$f":"F33/$F$45","v":0.10354305132177302},{"$f":"ACS_Table_B25003!$C$9","v":168},{"$f":"H33/$H$45","v":2.8259041211101767E-2},{"$f":"ACS_Table_B25004!$C$10","v":0},{"$f":"J33/$J$45","v":0},{"$f":"ACS_Table_B25004!$C$8","v":0},{"$f":"L33/$L$45","v":0},{"$f":"ACS_Table_B25004!$C$12","v":1939},{"$f":"N33/$N$45","v":0.17675478577939835}]
[null,"Barnstead ",null,{"$f":"ACS_Table_B25001!$E$7","v":2475},7.1666425365571162E-2,{"$f":"ACS_Table_B25003!$E$8","v":1600},{"$f":"F34/$F$45","v":7.9956024186697311E-2},{"$f":"ACS_Table_B25003!$E$9","v":240},{"$f":"H34/$H$45","v":4.0370058873002525E-2},{"$f":"ACS_Table_B25004!$E$10","v":52},{"$f":"J34/$J$45","v":0.19771863117870722},{"$f":"ACS_Table_B25004!$E$8","v":0},{"$f":"L34/$L$45","v":0},{"$f":"ACS_Table_B25004!$E$12","v":583},{"$f":"N34/$N$45","v":5.3144940747493166E-2}]
[null,"Belmont ",null,{"$f":"ACS_Table_B25001!$G$7","v":3612},0.10458954683654263,{"$f":"ACS_Table_B25003!$G$8","v":2454},0.12263255209634701,{"$f":"ACS_Table_B25003!$G$9","v":486},8.1749369217830103E-2,{"$f":"ACS_Table_B25004!$G$10","v":40},0.15209125475285171,{"$f":"ACS_Table_B25004!$G$8","v":0},0,{"$f":"ACS_Table_B25004!$G$12","v":528},4.8131267092069281E-2]
[null,"Center Harbor ",null,{"$f":"ACS_Table_B25001!$I$7","v":749},2.1688142464166789E-2,{"$f":"ACS_Table_B25003!$I$8","v":330},1.649092998850632E-2,{"$f":"ACS_Table_B25003!$I$9","v":54},9.0832632464255669E-3,{"$f":"ACS_Table_B25004!$I$10","v":3},1.1406844106463879E-2,{"$f":"ACS_Table_B25004!$I$8","v":10},5.8479532163742687E-2,{"$f":"ACS_Table_B25004!$I$12","v":338},3.081130355515041E-2]
[null,"Gilford ",null,{"$f":"ACS_Table_B25001!$K$7","v":5168},0.14964528738960475,{"$f":"ACS_Table_B25003!$K$8","v":2771},0.13847383938833641,{"$f":"ACS_Table_B25003!$K$9","v":298},5.0126156433978136E-2,{"$f":"ACS_Table_B25004!$K$10","v":24},9.125475285171103E-2,{"$f":"ACS_Table_B25004!$K$8","v":6},3.5087719298245612E-2,{"$f":"ACS_Table_B25004!$K$12","v":1897},0.17292616226071103]
[null,"Gilmanton ",null,{"$f":"ACS_Table_B25001!$M$7","v":2271},6.5759374547560451E-2,{"$f":"ACS_Table_B25003!$M$8","v":1471},7.3509569736644839E-2,{"$f":"ACS_Table_B25003!$M$9","v":104},1.7493692178301094E-2,{"$f":"ACS_Table_B25004!$M$10","v":0},0,{"$f":"ACS_Table_B25004!$M$8","v":0},0,{"$f":"ACS_Table_B25004!$M$12","v":606},5.5241567912488604E-2]
[null,"Laconia ",null,{"$f":"ACS_Table_B25001!$O$7","v":10073},0.29167511220500941,{"$f":"ACS_Table_B25003!$O$8","v":4095},0.20463744940282844,{"$f":"ACS_Table_B25003!$O$9","v":2870},0.48275862068965519,{"$f":"ACS_Table_B25004!$O$10","v":83},0.31558935361216728,{"$f":"ACS_Table_B25004!$O$8","v":115},0.67251461988304095,{"$f":"ACS_Table_B25004!$O$12","v":2529},0.23053783044667275]
[null,"Meredith ",null,{"$f":"ACS_Table_B25001!$Q$7","v":5237},0.1516432604604025,{"$f":"ACS_Table_B25003!$Q$8","v":2501},0.12498126030683124,{"$f":"ACS_Table_B25003!$Q$9","v":741},0.12464255677039529,{"$f":"ACS_Table_B25004!$Q$10","v":37},0.14068441064638784,{"$f":"ACS_Table_B25004!$Q$8","v":40},0.23391812865497075,{"$f":"ACS_Table_B25004!$Q$12","v":1806},0.16463081130355514]
[null,"New Hampton ",null,{"$f":"ACS_Table_B25001!$S$7","v":1082},3.133053424062545E-2,{"$f":"ACS_Table_B25003!$S$8","v":824},4.1177352456149119E-2,{"$f":"ACS_Table_B25003!$S$9","v":154},2.590412111017662E-2,{"$f":"ACS_Table_B25004!$S$10","v":0},0,{"$f":"ACS_Table_B25004!$S$8","v":0},0,{"$f":"ACS_Table_B25004!$S$12","v":83},7.5660893345487696E-3]
[null,"Sanbornton ",null,{"$f":"ACS_Table_B25001!$U$7","v":1627},4.7111625886781527E-2,{"$f":"ACS_Table_B25003!$U$8","v":838},4.1876967667782719E-2,{"$f":"ACS_Table_B25003!$U$9","v":287},4.8275862068965517E-2,{"$f":"ACS_Table_B25004!$U$10","v":24},9.125475285171103E-2,{"$f":"ACS_Table_B25004!$U$8","v":0},0,{"$f":"ACS_Table_B25004!$U$12","v":415},3.7830446672743843E-2]
[null,"Tilton ",null,{"$f":"ACS_Table_B25001!$W$7","v":1947},5.6377587954249311E-2,{"$f":"ACS_Table_B25003!$W$8","v":1055},5.2721003448103543E-2,{"$f":"ACS_Table_B25003!$W$9","v":543},9.1337258200168206E-2,{"$f":"ACS_Table_B25004!$W$10","v":0},0,{"$f":"ACS_Table_B25004!$W$8","v":0},0,{"$f":"ACS_Table_B25004!$W$12","v":246},2.2424794895168642E-2]
[]
[null,"Belknap County",null,{"$f":"SUM(D33:D43)","v":34535},null,{"$f":"SUM(F33:F43)","v":20011},null,{"$f":"SUM(H33:H43)","v":5945},null,{"$f":"SUM(J33:J43)","v":263},null,{"$f":"SUM(L33:L43)","v":171},null,{"$f":"SUM(N33:N43)","v":10970}]
[]
[null,"Source: 2018-2022 American Community Survey Tables B25001; B25003; and B25004"]
[null,"Margin of error is not displayed.  The American Community Survey data are estimates only."]

{"sheet":"Housing_EmploymentComparison","index":72,"n_rows":50,"n_cols":11,"rows_kept":50,"cut":false,"hidden":true,"merged":[[28,3,28,4],[28,5,28,10],[29,3,29,4],[29,5,29,6],[29,7,29,8],[29,9,29,10]]}
[]
[]
[]
[]
[]
[]
[]
[]
[]
[]
[]
[]
[]
[]
[]
[]
[]
[]
[]
[]
[]
[]
[]
[]
[]
[]
[]
[null,null,null,"In 2022"]
[null,null,null,"Housing Units",null,"Employment"]
[null,null,null,"Total Units",null,"Total Private",null,"Goods Producing",null,"Service Providing"]
[null,null,null,"#","%","#","%","#","%","#","%"]
[]
[null,"Alton ",null,{"$f":"ACS_Table_B25001!$D$7","v":294},{"$f":"D33/$D$45","v":8.513102649486029E-3},{"$f":"CntyQuery!$FB$75","v":812},{"$f":"IF(F33=\"n\",\"n\",F33/$F$45)","v":4.0563492856429212E-2},{"$f":"CntyQuery!$FD$75","v":90},{"$f":"IF(H33=\"n\",\"n\",H33/$H$45)","v":2.5153717160424818E-2},{"$f":"CntyQuery!$FE$75","v":722},{"$f":"IF(J33=\"n\",\"n\",J33/$J$45)","v":4.3919946468763307E-2}]
[null,"Barnstead ",null,{"$f":"ACS_Table_B25001!$E$7","v":2475},7.1666425365571162E-2,{"$f":"CntyQuery!$FB$76","v":205},{"$f":"IF(F34=\"n\",\"n\",F34/$F$45)","v":1.0240783295034469E-2},{"$f":"CntyQuery!$FD$76","v":50},{"$f":"IF(H34=\"n\",\"n\",H34/$H$45)","v":1.3974287311347122E-2},{"$f":"CntyQuery!$FE$76","v":155},{"$f":"IF(J34=\"n\",\"n\",J34/$J$45)","v":9.4287973721029258E-3}]
[null,"Belmont ",null,{"$f":"ACS_Table_B25001!$G$7","v":3612},0.10458954683654263,{"$f":"CntyQuery!$FB$77","v":1934},9.6613048256569092E-2,{"$f":"CntyQuery!$FD$77","v":495},0.13834544438233651,{"$f":"CntyQuery!$FE$77","v":1439},8.7535738183587813E-2]
[null,"Center Harbor ",null,{"$f":"ACS_Table_B25001!$I$7","v":749},2.1688142464166789E-2,{"$f":"CntyQuery!$FB$78","v":234},1.168947946847837E-2,{"$f":"CntyQuery!$FD$78","v":20},5.5897149245388482E-3,{"$f":"CntyQuery!$FE$78","v":214},1.3017823468580814E-2]
[null,"Gilford ",null,{"$f":"ACS_Table_B25001!$K$7","v":5168},0.14964528738960475,{"$f":"CntyQuery!$FB$79","v":2373},0.11854331102008192,{"$f":"CntyQuery!$FD$79","v":322},8.999441028507546E-2,{"$f":"CntyQuery!$FE$79","v":2051},0.12476428006569742]
[null,"Gilmanton ",null,{"$f":"ACS_Table_B25001!$M$7","v":2271},6.5759374547560451E-2,{"$f":"CntyQuery!$FB$80","v":194},9.691277849935058E-3,{"$f":"CntyQuery!$FD$80","v":60},1.6769144773616546E-2,{"$f":"CntyQuery!$FE$80","v":134},8.1513474055599482E-3]
[null,"Laconia ",null,{"$f":"ACS_Table_B25001!$O$7","v":10073},0.29167511220500941,{"$f":"CntyQuery!$FB$81","v":7382},0.36876810870216803,{"$f":"CntyQuery!$FD$81","v":1780},0.49748462828395751,{"$f":"CntyQuery!$FE$81","v":5602},0.3407749863130361]
[null,"Meredith ",null,{"$f":"ACS_Table_B25001!$Q$7","v":5237},0.1516432604604025,{"$f":"CntyQuery!$FB$82","v":2586},0.12918373463882507,{"$f":"CntyQuery!$FD$82","v":541},0.15120178870877585,{"$f":"CntyQuery!$FE$82","v":2046},0.12446012531175862]
[null,"New Hampton ",null,{"$f":"ACS_Table_B25001!$S$7","v":1082},3.133053424062545E-2,{"$f":"CntyQuery!$FB$83","v":454},2.2679588370466582E-2,{"$f":"CntyQuery!$FD$83","v":37},1.0340972610396871E-2,{"$f":"CntyQuery!$FE$83","v":417},2.536650647849626E-2]
[null,"Sanbornton ",null,{"$f":"ACS_Table_B25001!$U$7","v":1627},4.7111625886781527E-2,{"$f":"CntyQuery!$FB$84","v":222},1.1090018982915376E-2,{"$f":"CntyQuery!$FD$84","v":34},9.5025153717160429E-3,{"$f":"CntyQuery!$FE$84","v":187},1.1375387797311272E-2]
[null,"Tilton ",null,{"$f":"ACS_Table_B25001!$W$7","v":1947},5.6377587954249311E-2,{"$f":"CntyQuery!$FB$85","v":3622},0.18093715655909681,{"$f":"CntyQuery!$FD$85","v":150},4.1922861934041364E-2,{"$f":"CntyQuery!$FE$85","v":3472},0.21120506113510554]
[]
[null,"Belknap County",null,{"$f":"SUM(D33:D43)","v":34535},null,{"$f":"CntyQuery!$FB$95","v":20018},null,{"$f":"CntyQuery!$FD$95","v":3578},null,{"$f":"CntyQuery!$FE$95","v":16439}]
[]
[null,null,null,"Source: ","2018-2022 American Community Survey Table B25001"]
[null,null,null,null,"Employment data provided by NH Department of Employment Security 2022 Covered Private Employment."]
[null,null,null,null,"Margin of error is not displayed.  The American Community Survey data are estimates only. Total Employment "]
[null,null,null,null,"at the county level is the number provided by NH Department of Employment Security."]

{"sheet":"DropDownList","index":73,"n_rows":19,"n_cols":1,"rows_kept":19,"cut":false,"hidden":true,"merged":[]}
["List Range for Combo Box on Start Page"]
["Alton"]
["Barnstead"]
["Belmont"]
["Center Harbor"]
["Gilford"]
["Gilmanton"]
["Laconia"]
["Meredith"]
["New Hampton"]
["Sanbornton"]
["Tilton"]
[]
[]
[]
[]
[]
[]
["Laconia"]

{"sheet":"CntyQryCensus","index":74,"n_rows":194,"n_cols":216,"rows_kept":194,"cut":false,"hidden":true,"merged":[]}
[]
["Census 2000 Data   -           Query Name:  CountyQuery3"]
[]
["NAME","COUNTY","LOGRECNO","COUSUB","TRACT","AREALAND","AREAWATR","POP100","HU100","P01TotalPopulation","P03PopOfOneRace","P03PopWhite","P03PopBlack","P03PopAmIndian","P03PopAsian","P03PopHawaiian","P03PopOtherRace","P03Pop2orMoreRaces","P04PopHispanicLatino","P04PopNotHispanicLatino","P12PopMale","P12PopMale<15","P12PopMale15to24","P12PopMale25to34","P12PopMale35to44","P12PopMale45to54","P12PopMale55to64","P12PopMale65to74","P12PopMale75to84","P12PopMale85andOver","P12PopFemale","P12PopFemale<15","P12PopFemale15to24","P12PopFemale25to34","P12PopFemale35t44","P12PopFemale45to54","P12PopFemale55to64","P12PopFemale65to74","P12PopFemale75to84","P12PopFemale85andOver","P15Households2000","P16PopInHH","P17AvgHHSize","P18HHs1Person","P18HHs2orMorePerson","P18HHsFamily","P18HHMarriedCoupleFam","P18HHSingleParentFam","P18HHsNonFamily","P31Families","P32PopInFam","P33AvgFamSize","H01TotHsUnits","H04OccHsUnits","H04OwnerOccHU","H04RenterOccHU","H05VctHsUnits","H05VctHUForRent","H05VctHUForSale","H05VctHUSeasonal","H10PopInOccHU","H11PopInOwnOccHU","H11PopInRntOccHU","H12AvgHHSize2","H12AvgHHSizOwnOcc","H12AvgHHSizRntOcc","H14OwnOccWhtHsHldr","H14OwnOccBlkHsHldr","H14OwnOccAmIHsHldr","H14OwnOccAsnHsHldr","H14OwnOccPIsHsHldr","H14OwnOccORHsHldr","H14OwnOcc2RcHsHldr","H14RntOccWhtHsHldr","H14RntOccBlkHsHldr","H14RntOccAmIHsHldr","H14RntOccAsnHsHldr","H14RntOccPIsHsHldr","H14RntOccORHsHldr","H14RntOcc2RcHsHldr","H16OwnOccHH15to24","H16OwnOccHH25to34","H16OwnOccHH35to44","H16OwnOccHH45to54","H16OwnOccHH55to64","H16OwnOccHH65to74","H16OwnOccHH75to84","H16OwnOccHH85Over","H16RntOccHH15to24","H16RntOccHH25to34","H16RntOccHH35to44","H16RntOccHH45to54","H16RntOccHH55to64","H16RntOccHH65to74","H16RntOccHH75to84","H16RntOccHH85Over","P27TotalPop","P27PopInHseHlds","P27PopInGrpQtrs","P13MedianPopTotal","P13MedianPopMale","P13MedianPopFemale"]
["Alton","001","0000035","01060","","     163518271","      49340498","     4502","     3522",4502,4482,4446,3,15,13,2,3,20,24,4478,2238,460,217,223,343,382,292,198,98,25,2264,430,208,252,383,364,253,212,125,37,1825,4502,2.4700000000000002,434,1391,1295,1107,188,96,1295,3796,2.93,3522,1825,1478,347,1697,26,24,1610,4502,3737,765,2.4700000000000002,2.5299999999999998,2.2000000000000002,1467,2,2,3,0,1,3,342,0,3,0,0,0,2,12,145,296,365,282,220,126,32,22,83,93,51,26,40,19,13,4502,4502,0,41.4,41.1,41.6]
["Barnstead","001","0000249","03220","","     108561984","       5320092","     3886","     1994",3886,3859,3798,24,12,23,0,2,27,23,3863,1981,432,233,225,332,330,224,112,84,9,1905,410,190,227,360,313,187,131,76,11,1422,3886,2.73,242,1180,1096,942,154,84,1096,3371,3.08,1994,1422,1260,162,572,13,7,528,3886,3435,451,2.73,2.73,2.78,1242,4,2,4,0,0,8,156,1,2,1,0,1,1,24,148,303,330,207,140,97,11,9,46,51,30,18,1,7,0,3886,3886,0,38.799999999999997,38.6,38.9]
["Belmont","001","0000459","04740","","      79278024","       4386281","     6716","     3113",6716,6628,6550,10,22,35,0,11,88,64,6652,3313,725,378,410,609,540,305,226,103,17,3403,649,390,412,648,561,325,241,147,30,2641,6705,2.54,582,2059,1868,1481,387,191,1868,5515,2.95,3113,2641,2076,565,472,27,40,351,6705,5409,1296,2.54,2.61,2.29,2044,1,3,6,0,2,20,540,4,3,6,0,2,10,34,237,518,515,331,267,145,29,65,156,157,90,40,28,28,1,6716,6705,11,38.4,37.700000000000003,39.1]
["Center Harbor","001","0000622","10660","","      34688104","       8069458","      996","      653",996,993,984,0,0,8,0,1,3,10,986,499,83,56,39,71,101,61,56,25,7,497,82,45,45,84,93,63,49,30,6,414,987,2.38,91,323,293,239,54,30,293,805,2.75,653,414,353,61,239,5,5,208,987,848,139,2.38,2.4,2.2799999999999998,352,0,0,0,0,0,1,59,0,0,1,0,0,1,1,20,59,100,68,65,34,6,7,17,13,15,4,3,1,1,996,987,9,44.6,45.1,44.2]
["Gilford","001","0000685","28740","","     100940454","      38466471","     6803","     4312",6803,6752,6689,13,10,35,0,5,51,39,6764,3259,653,280,288,524,594,394,309,185,32,3544,684,296,316,601,609,419,366,195,58,2766,6801,2.46,599,2167,2018,1712,306,149,2018,5758,2.85,4312,2766,2385,381,1546,34,47,1427,6801,5924,877,2.46,2.48,2.2999999999999998,2351,1,7,10,0,0,16,375,3,0,0,0,1,2,11,193,467,596,456,385,226,51,26,85,114,66,34,28,21,7,6803,6801,2,42.9,42.8,43]
["Gilmanton","001","0000899","28980","","     147913583","       5057467","     3060","     1848",3060,3030,3017,3,6,4,0,0,30,9,3051,1552,316,165,148,308,284,158,100,55,18,1508,280,162,162,315,257,146,107,68,11,1165,3053,2.62,200,965,900,801,99,65,900,2661,2.96,1848,1165,1042,123,683,5,7,648,3053,2769,284,2.62,2.66,2.31,1029,1,2,1,0,0,9,119,1,1,0,0,0,2,11,97,286,284,162,122,61,19,8,34,41,14,10,4,9,3,3060,3053,7,40.1,40.299999999999997,39.9]
["Laconia","001","0001059","40180","","      52522328","      16318600","    16411","     8554",16411,16211,15885,90,68,120,4,44,200,162,16249,7969,1510,1125,1123,1246,1093,769,617,383,103,8442,1461,1016,1023,1216,1191,810,723,642,360,6724,15591,2.3199999999999998,2036,4688,4170,3122,1048,518,4170,11975,2.87,8554,6724,3819,2905,1830,209,40,1477,15591,9474,6117,2.3199999999999998,2.48,2.11,3765,2,8,11,0,4,29,2796,17,18,21,1,6,46,37,358,730,861,702,613,407,111,346,686,622,429,249,210,264,99,16411,15591,820,38.799999999999997,36.799999999999997,40.700000000000003]
["Meredith","001","0001421","47140","","     104103674","      36087338","     5943","     4191",5943,5890,5819,10,10,34,4,13,53,30,5913,2938,548,298,298,481,486,372,252,153,50,3005,525,297,269,508,496,366,245,203,96,2447,5813,2.38,615,1832,1697,1354,343,135,1697,4759,2.8,4191,2447,1891,556,1744,27,31,1611,5813,4645,1168,2.38,2.46,2.1,1873,1,2,5,0,1,9,541,1,2,7,0,2,3,11,146,398,474,387,267,167,41,58,130,140,75,38,37,56,22,5943,5813,130,42.5,41.7,43.4]
["New Hampton","001","0001652","51540","","      95056870","       3897881","     1950","      944",1950,1913,1897,6,1,5,0,4,37,12,1938,969,214,112,116,163,158,90,65,49,2,981,214,104,120,186,149,83,58,57,10,726,1947,2.68,136,590,539,452,87,51,539,1651,3.06,944,726,624,102,218,5,7,180,1947,1672,275,2.68,2.68,2.7,617,0,0,0,0,2,5,101,0,0,0,0,0,1,6,80,152,152,88,70,67,9,11,27,29,11,13,5,6,0,1950,1947,3,38.299999999999997,38.1,38.4]
["Sanbornton","001","0001748","67300","","     123120923","       5749112","     2581","     1359",2581,2557,2533,4,4,13,0,3,24,11,2570,1280,263,149,120,234,245,131,87,41,10,1301,273,134,136,256,237,121,90,47,7,969,2581,2.66,163,806,749,627,122,57,749,2226,2.97,1359,969,848,121,390,14,10,343,2581,2280,301,2.66,2.69,2.4900000000000002,835,2,1,2,0,0,8,118,0,0,0,0,0,3,5,82,207,245,145,106,49,9,11,26,38,25,9,8,2,2,2581,2581,0,40.1,40.4,39.700000000000003]
["Tilton","001","0001865","77060","","      29640085","       1511176","     3477","     1631",3477,3415,3361,2,22,21,3,6,62,34,3443,1744,327,197,205,287,248,189,129,132,30,1733,313,208,220,291,253,152,132,120,44,1360,3246,2.39,382,978,876,662,214,102,876,2528,2.89,1631,1360,858,502,271,38,22,186,3246,2179,1067,2.39,2.54,2.13,845,0,3,4,0,0,6,478,1,2,3,1,1,16,11,89,196,187,168,106,87,14,54,113,122,88,49,31,33,12,3477,3246,231,39.6,40,39.299999999999997]
[]
[]
["Census 2000 DemoProfile Sample Data Tables 2&3   -  DPTab23CountyQry"]
[]
["TOWN_NAME","COUSUB","AREANAME","PopInSchool","Preschool","Kindergarten","Elementary","HighSchool","College","Pop25andOver","HighSchoolGrad","SomeCollege","AssocDegree","BachelDegree","GradDegree","HSGradorHigher","CollegeGradorHigher","Pop5to20yrs","Pop5to20wDis","Pop21to64","Pop21to64wDis","Pop65over","Pop65overwDis","Pop5yrsOver","SameHUin95","DiffHUinUSin95","HUinSameCountyin95","HUinSameStatein95","TotalPop","NativePop","NatPopBornUS","NatPopBornInStatRes","NatPopBornDiffState","NatPopBornOutUS","FornBornPop","FornPopEnt90to00","FornPopNatCit","FornPopNotCit","Households","HHIncLessThn10k","HHInc10to15K","HHInc15to25K","HHInc25to35K","HHInc35to50K","HHInc50to75K","HHInc75to100K","HHInc100to150K","HHInc150to200K","HHIncOver200K","MedianHHInc","HHwithPubAssistInc","MeanPubAssist","FamilyHH","FHHIncLessThn10k","FHHInc10to15K","FHHInc15to25K","FHHInc25to35K","FHHInc35to50K","FHHInc50to75K","FHHInc75to100K","FHHInc100to150K","FHHInc150to200K","FHHIncOver200K","MedianFHHInc","PerCapitaInc","PovStatFamilies","PovStatFHHwChilUnd18","PovStatFHHwChilUnd5","PovStFmalHH","DP3088","DP3089","PovStatIndiv","PovStatIndiv18yrOver","PovStatIndiv65yrOver","DP3093","DP3094","DP3095","CNTY_NAME"]
["Alton","01060","Alton town, Belknap County, New Hampshire",978,63,35,502,219,159,3191,990,710,419,516,169,2804,685,852,103,2657,438,693,178,4202,2370,1801,525,1276,4502,4366,4342,1978,2364,24,136,43,59,77,1833,93,135,212,249,356,415,171,112,8,82,43451,65,2908,1315,52,52,129,170,301,330,144,78,8,51,46467,25940,71,65,41,38,38,14,293,183,17,110,58,86,"Belknap"]
["Barnstead","03220","Barnstead town, Belknap County, New Hampshire",995,63,47,509,240,136,2608,1002,529,248,344,121,2244,465,932,85,2288,333,427,170,3651,2098,1535,370,1165,3886,3766,3748,2035,1713,18,120,27,94,26,1423,34,41,179,159,364,367,165,70,24,20,47449,41,1989,1085,19,28,119,105,287,300,126,57,24,20,49404,19773,30,25,3,8,8,0,147,82,20,65,55,31,"Belknap"]
["Belmont","04740","Belmont town, Belknap County, New Hampshire",1668,47,93,798,479,251,4581,1730,818,436,556,190,3730,746,1492,115,4085,771,782,319,6359,3855,2493,1476,1017,6716,6651,6617,4031,2586,34,65,19,32,33,2648,108,182,300,343,454,766,310,137,42,6,47717,54,1998,1876,63,52,182,230,326,583,276,116,42,6,53125,19986,72,72,32,38,38,24,286,173,6,104,77,104,"Belknap"]
["Center Harbor","10660","Center Harbor town, Belknap County, New Hampshire",221,22,8,102,62,27,754,197,181,45,171,95,689,266,193,4,612,53,160,50,965,649,314,136,178,1017,990,971,443,528,19,27,5,13,14,423,16,14,68,59,48,106,57,38,11,6,51806,8,1150,298,9,8,43,34,34,90,41,27,8,4,55938,25627,13,7,5,5,5,5,68,39,9,29,16,18,"Belknap"]
["Gilford","28740","Gilford town, Belknap County, New Hampshire",1633,128,62,824,388,231,4994,1239,1187,514,1146,595,4681,1741,1360,63,3918,646,1146,421,6433,3812,2596,1307,1289,6803,6646,6617,3024,3593,29,157,0,135,22,2773,132,102,291,388,510,560,359,196,75,160,48658,40,4133,1995,44,14,134,274,360,498,305,196,64,106,56554,32667,44,15,15,24,5,5,226,207,31,19,0,141,"Belknap"]
["Gilmanton","28980","Gilmanton town, Belknap County, New Hampshire",739,39,52,348,207,93,2137,633,481,203,353,200,1870,553,705,46,1832,281,364,146,2905,1994,902,427,475,3060,2960,2938,1704,1234,22,100,31,41,59,1161,36,49,105,150,229,324,126,93,25,24,50542,5,1100,903,8,28,72,105,207,271,98,90,7,17,51712,23163,30,18,5,0,0,0,179,130,33,43,31,71,"Belknap"]
["Laconia","40180","Laconia city, New Hampshire",3671,231,226,1745,899,570,11295,3906,2393,731,1509,708,9247,2217,3305,300,8942,1873,2534,960,15545,7536,7698,4746,2952,16411,15831,15683,9629,6054,148,580,269,223,357,6727,633,472,1021,1009,1356,1289,550,282,42,73,37796,299,2056,4224,192,172,477,582,964,1025,452,245,42,73,45307,19540,316,250,167,193,193,118,1382,982,135,397,235,537,"Belknap"]
["Meredith","47140","Meredith town, Belknap County, New Hampshire",1375,86,44,650,352,243,4224,1293,1005,221,794,484,3797,1278,1234,107,3440,458,867,266,5670,3036,2619,1138,1481,5943,5805,5779,2609,3170,26,138,24,120,18,2447,147,129,298,400,385,488,255,167,103,75,42758,52,1607,1719,47,36,137,264,285,439,224,134,92,61,54764,24867,72,52,42,30,30,30,382,244,86,118,56,156,"Belknap"]
["New Hampton","51540","New Hampton town, Belknap County, New Hampshire",518,31,53,254,129,51,1279,373,268,95,212,150,1098,362,499,52,1079,127,249,76,1827,1190,637,210,427,1929,1895,1872,1024,848,23,34,5,27,7,702,47,25,60,88,160,164,107,33,7,11,47583,29,1676,527,11,7,47,57,115,155,88,33,3,11,52366,20336,14,5,0,5,5,0,89,58,17,21,21,41,"Belknap"]
["Sanbornton","67300","Sanbornton town, Belknap County, New Hampshire",688,40,56,310,180,102,1746,553,427,155,245,148,1528,393,604,47,1563,212,280,118,2447,1528,899,449,450,2581,2557,2533,1446,1087,24,24,0,11,13,961,17,52,79,123,228,233,130,59,23,17,48458,23,4661,737,3,26,31,60,218,199,121,39,23,17,52179,22879,16,13,13,5,5,5,130,74,12,52,31,49,"Belknap"]
["Tilton","77060","Tilton town, Belknap County, New Hampshire",836,50,30,415,198,143,2451,893,426,196,315,119,1949,434,726,89,2016,420,420,200,3324,1730,1585,691,894,3477,3436,3432,2031,1401,4,41,0,23,18,1346,65,85,202,221,218,401,91,48,12,3,41977,54,1241,886,18,31,87,134,169,306,82,48,8,3,50143,19578,26,26,8,11,11,8,168,130,26,38,27,99,"Belknap"]
[]
[]
["Census 2000 DemoProfile Sample Data Table 4   -  DPTab4CountyQry"]
[]
["TOWN_NAME","COUSUB","TotHousingUnits","1UnitDet","1UnitAtt","2Units","3to4Units","5to9Units","10to19Units","20orMoreUnits","MobileHomes","BoatRvVan","SingleFamilyUnits","MultiFamUnits","MobileHomeUnits","YearBuilt99to00","YearBuilt95to98","YearBUilt90to94","YearBuilt80to89","YearBuilt70to79","YearBuilt60to69","YearBuilt40to59","YearBuilt39orEarlier","Rooms1","Rooms2","Rooms3","Rooms4","Rooms5","Rooms6","Rooms7","Rooms8","Rooms9orMore","MedianRooms","OccHU1","YrHHMvdIn99to00","YrHHMvdIn95to98","YrHHMvdIn90to94","YrHHMvdIn80to89","YrHHMvdIn70to79","YrHHMvdIn69orBefore","HeatFuelNatGas","HeatFuelBotGas","HeatFuelElectric","HeatFuelOil","HeatFuelCoal","HeatFuelWood","HeatFuelSolar","HeatFuelOther","HeatFuelNone","LackCompPlumb","LackCompKit","NoTelephone","OccHU","OccPerRm1orLess","OccPerRm1to1_5","OccPerRm1_5orMore","SpecOwnOccUnits","Value<50K","Value50to100K","Value100to150K","Value150to200K","Value200to300K","Value300to500K","Value500Kto1mil","Value1MilorMore","MedianValue","WithMortg","MnthOwnCst<300","MnthOwnCst300to500","MnthOwnCst500to700","MnthOwnCst700to1000","MnthOwnCst1000to1500","MnthOwnCst1500to2000","MnthOwnCst2000orMore","MediMnthOwnCst","NotMrtg","NotMrtgMediMnthOwnCst","OwnCst%HHInc<15","OwnCst%HHInc15to20","OwnCst%HHInc20to25","OwnCst%HHInc25to30","OwnCst%HHInc30to35","OwnCst%HHInc35orMor","NotComputed","SpecRntOccUnits","Rnt<200","Rnt200to300","Rnt300to500","Rnt500to750","Rnt750to1000","Rnt1000to1500","Rnt1500orMore","NoRent","MedianRent","Rnt%HHInc<15","Rnt%HHInc15to20","Rnt%HHInc20to25","Rnt%HHInc25to30","Rnt%HHInc30to35","Rnt%HHInc35orMore","Rnt%NotCompute"]
["Alton","01060",3522,3109,24,77,79,19,5,13,189,7,3109,217,196,114,251,236,801,272,475,720,653,68,192,258,606,801,734,445,187,231,5.3,1825,336,512,346,351,161,119,15,246,40,1428,0,87,0,9,0,0,6,0,1825,1785,32,8,1150,8,401,312,198,101,57,45,28,127700,709,0,30,69,267,224,98,21,992,441,401,414,228,145,155,58,150,0,341,18,7,65,124,63,22,4,38,621,61,52,19,29,33,109,38]
["Barnstead","03220",1994,1804,55,29,18,0,0,0,88,0,1804,102,88,28,104,145,423,486,282,226,300,14,97,134,362,469,372,267,147,132,5.3,1422,220,394,244,366,135,63,5,326,25,873,0,193,0,0,0,11,11,11,1422,1378,27,17,949,39,521,282,79,24,0,4,0,93800,689,0,24,58,224,312,67,4,1037,260,421,250,213,144,114,49,175,4,140,4,0,25,38,53,9,0,11,719,43,21,15,21,4,25,11]
["Belmont","04740",3113,1798,32,106,231,66,0,18,854,8,1798,453,862,72,167,235,1001,590,384,349,315,8,46,200,955,815,557,310,139,83,4.9000000000000004,2641,336,812,517,657,215,104,0,314,207,1970,10,126,0,7,7,0,0,6,2641,2601,40,0,1149,37,608,433,36,9,26,0,0,96300,922,0,0,81,344,440,50,7,1033,227,418,305,145,267,141,92,183,16,556,6,0,87,300,139,8,0,16,636,114,128,106,57,9,116,26]
["Center Harbor","10660",658,601,7,0,0,5,3,0,42,0,601,15,42,8,35,34,134,108,63,131,145,0,4,57,75,125,160,108,69,60,5.9,417,53,100,67,96,67,34,0,35,3,343,0,32,4,0,0,0,0,3,417,415,2,0,260,7,48,75,76,31,10,8,5,150000,151,0,2,17,40,66,18,8,1098,109,450,90,36,48,22,20,44,0,57,0,2,7,29,8,3,0,8,661,2,13,2,10,8,14,8]
["Gilford","28740",4312,3200,90,82,167,95,17,80,581,0,3200,531,581,45,238,313,1124,960,540,590,502,0,156,184,967,800,807,628,428,342,5.6,2766,428,773,528,540,329,168,56,366,84,2127,27,106,0,0,0,7,0,9,2766,2758,8,0,1752,6,460,587,395,162,83,52,7,134800,1145,0,17,105,311,406,141,165,1161,607,423,622,264,320,191,104,230,21,357,21,9,31,119,104,39,0,34,726,69,25,29,47,40,113,34]
["Gilmanton","28980",1848,1731,0,44,14,0,0,12,47,0,1731,70,47,35,90,112,348,393,261,221,388,0,63,239,402,313,376,143,143,169,5.2,1165,163,274,178,287,200,63,4,206,44,729,4,174,4,0,0,3,3,15,1165,1162,3,0,709,12,270,292,88,33,9,5,0,111500,522,0,11,74,152,235,27,23,1045,187,432,197,101,142,74,56,127,12,105,0,0,14,23,41,6,0,21,775,16,10,29,8,0,21,21]
["Laconia","40180",8554,4223,496,896,847,630,325,900,237,0,4223,4094,237,82,458,378,1397,962,745,1507,3025,130,447,782,1790,1782,1574,807,747,495,5.0999999999999996,6724,1556,1971,1018,1065,506,608,1279,442,542,4304,0,75,0,48,34,19,19,162,6724,6609,87,28,3034,36,1648,882,278,118,62,10,0,96700,2146,0,67,213,772,768,208,118,1010,888,399,883,605,544,302,194,499,7,2894,143,130,683,1328,377,111,0,122,570,419,518,424,321,247,825,140]
["Meredith","47140",4191,3388,81,126,109,116,21,66,276,8,3388,519,284,93,320,221,790,689,669,692,717,19,96,331,638,889,958,532,394,334,5.6,2447,484,707,367,488,255,146,6,255,205,1873,0,102,0,6,0,0,0,12,2447,2407,40,0,1424,43,409,355,220,233,110,41,13,136500,938,0,24,103,225,358,133,95,1133,486,409,483,230,217,97,96,286,15,547,42,52,115,193,78,12,0,55,553,111,65,87,75,35,107,67]
["New Hampton","51540",939,806,25,17,7,0,3,0,79,2,806,52,81,33,105,100,189,130,63,93,226,2,15,94,108,207,171,127,91,124,5.8,723,93,176,113,198,67,76,0,90,12,529,0,88,0,0,4,8,5,5,723,715,3,5,390,19,148,145,53,16,6,3,0,107800,281,0,8,22,110,105,31,5,1001,109,373,134,79,72,28,13,57,7,77,0,0,17,19,7,6,0,28,608,10,14,8,3,4,10,28]
["Sanbornton","67300",1359,1267,11,20,7,4,0,0,50,0,1267,42,50,37,80,68,324,239,133,178,300,5,14,42,159,377,239,216,165,142,5.8,969,138,193,179,244,110,105,4,136,20,725,6,74,4,0,0,16,6,17,969,960,9,0,606,10,164,269,94,47,22,0,0,122200,449,0,4,48,134,195,50,18,1077,157,382,176,97,94,60,34,141,4,77,0,0,3,28,25,6,0,15,725,13,12,5,5,11,16,15]
["Tilton","77060",1631,935,27,164,120,33,94,6,245,7,935,444,252,4,66,45,289,322,144,205,556,23,69,205,350,386,203,118,126,151,4.9000000000000004,1360,292,366,157,276,173,96,290,124,73,844,0,19,0,0,10,6,17,7,1360,1322,22,16,520,36,247,178,42,17,0,0,0,95900,408,0,24,34,198,86,46,20,888,112,346,152,130,108,36,40,54,0,485,29,6,147,217,45,12,0,29,545,101,66,87,79,20,97,35]
[]
[]
[]
[]
["Census 2000 SummaryFile3 Sample Data  -  SF3CountyQry1SocialChar"]
[]
["TOWN_NAME","LOGRECNO","COUSUB","P01TotalPopulation","P02SampleCountOfPop","P03Pop100pctCount","P05UrbanPopulation","P05RuralPopulation","P06WhiteAlone","P06BlackOrAfAm","P06AmIndAlone","P06AsianAlone","P06HawaiianOrPI","P06OtherRace","P06TwoPlusRaces","P07NotHispanicOrLatino","P07HispanicOrLatino","P08MalePop","P08FemalePop","P09PopInHouseholds","P09PopInFamHH","P09PopInNonFamHH","P09PopInGroupQtr","P13TotalHH","P13FamilyHH","P13FamHHolder15to24yrs","P13FamHHolder25to34yrs","P13FamHHolder35to44yrs","P13FamHHolder45to54yrs","P13FamHHolder55to64yrs","P13FamHHolder65to74yrs","P13FamHHolder75to84yrs","P13FamHHolder85yrsOver","P13NonFamilyHH","P13NonFamHHolder15to24yrs","P13NonFamHHolder25to34yrs","P13NonFamHHolder35to44yrs","P13NonFamHHolder45to54yrs","P13NonFamHHolder55to64yrs","P13NonFamHHolder65to74yrs","P13NonFamHHolder75to84yrs","P13NonFamHHolder85yrsOver","P18Pop15yrsOver","P18MaritalStatNeverMarried","P18MaritalStatNowMarried","P18MaritalStatSeparated","P18MaritalStatWidowed","P18MaritalStatWidowFemale","P18MaritalStatDivorced","P18MaritalStatDivorcedFemale","P21NativeBornPop","P21NatPopBornInState","P21NatPopBornOtherState","P021005","P021006","P021007","P021008","P21NatPopBornOutUS","P21ForeignBornPop","P021014","P021015","P24Pop5YrsPlus","P24ResSameHouseIn95","P24ResDiffHouseIn95","P24ResDiffHouseInUSIn95","P24ResDiffHouseSameCountyIn95","P24ResDiffHouseDiffCountyIn95","P24ResDiffHouseDiffCntySamStIn95","P24ResDiffHouseDiffCntyDifStIn95","P24ResDiffHouseDiffCntyNEStIn95","P24ResDiffHouseDiffCntyMWStIn95","P24ResDiffHouseDiffCntySoStIn95","P24ResDiffHouseDiffCntyWstStIn95","P24ResDiffInPR","P24ResDiffElsewhereIn95","P26Workers16yrsOver","P26WorkedInState","P26WorkedInCnty","P26WorkedOutsideCnty","P26WorkedOutsideState","P30Workers16Over","P30TranspToWrkCar","P30TranspToWrkPublic","P30TranspToWrkOther","P30WrkdAtHome","P31WrkrsNotWrkAtHom","P31TravTim<5min","P31TravTim5to9Min","P31TravTim10to14Min","P31TravTim15to19Min","P31TravTim20to24Min","P31TravTim25to29Min","P31TravTim30to34Min","P31TravTim35to39Min","P31TravTim40to44Min","P31TravTim45to59Min","P31TravTim60to89Min","P31TravTim90MinMore","P31WorkAtHome","P36SchEnrlPop3yrOver","P36NurserSchEnrl","P36KinderSchEnrl","P36ElemSchEnrl","P36HighSchEnrl","P36CollGradSchEnrl","P37Pop25yrsOver","P37EduAtain<9grd","P37EduAtainHSnoDip","P37EduAtainHSgrad","P37EduAtainCollNoDeg","P37EduAtainAssocDeg","P37EduAtainBachDeg","P37EduAtainGradProfDeg","P42NIPop5to15","P42NIPop5to15wDisabl","P42NIPop16to20","P42NIPop16to20wDisab","P42NIPop16to20wDisEmp","P42NIPop16to21NoDis","P42NIPop16to21NoDisEmpl","P42NIPop21to64","P42NIPop21to64wDis","P42NIPop21to64wDisEmp","P42NIPop21to64NoDis","P42NIPop21to64NoDisEmp","P42NIPop65to74","P42NIPop65to74wDis","P42NIPop75Over","P42NIPop75OverwDis","P43Pop16YrsOver","P43Pop16OvrInLaborForce","P43Pop16OvrCivlLabFrc","P43Pop16OvrCivlLbrFrcEmp","P48Families","P48MarriedFam","P48MarrFamNoWorkers","P48MarrFam1Worker","P48MarrFam2Worker","P48MarrFamHusbspouseWorked","P48MarrFamOther","P48MarrFam3PlusWorker","P48MarrFam3WorkHsbWif","P48MarrFam3PlsWrkOther","P48OtherFam","P48MaleHHNoWif","P48MaleHHNoWifNoWorker","P48MaleHHNoWif1Worker","P48MaleHHNoWif2Worker","P48MaleHHNoWif3PlusWorker","P48FemaleHHNoHsb","P48FemaleHHNoHsbNoWorker","P48FemaleHHNoHsb1Worker","P48FemaleHHNoHsb2Worker","P48FemaleHHNoHsb3Worker","P49EmpCivPop16YrOver","P49IndustAgricult","P49IndustConst","P49IndustMnftg","P49IndustWhlslTrd","P49IndustRtlTrd","P49IndustTrspWrhsUtlt","P49IndustInfrm","P49IndustFinInsRE","P49IndustPrfsScntfMngmt","P49IndustEduHlthSocSrv","P49IndustArtsEntRec","P49IndustOthrSrvc","P49IndustPubAdm","P50OccupMngmtProfs","P50OccupService","P50OccupSalesOff","P50OccupFarmFishForest","P50OccupConstExtrctMaint","P50OccupPrdctTrnspMatMv"]
["Alton","0000099","01060",4502,653,4502,75,4427,4441,0,6,14,0,0,41,4481,21,2247,2255,4502,3898,604,0,1833,1315,20,188,294,305,225,162,113,8,518,22,64,87,91,55,117,64,18,3608,650,2338,41,212,163,367,193,4366,1978,2364,2107,134,97,26,24,136,59,77,4202,2370,1832,1801,525,1276,719,557,451,5,41,60,0,31,2090,1911,918,993,179,2090,1976,0,6,82,2008,102,124,246,266,174,146,205,90,76,295,220,64,82,4353,63,35,502,219,159,3191,93,294,990,710,419,516,169,685,55,167,48,22,119,70,2657,438,246,2219,1784,408,93,285,85,3517,2283,2283,2199,1315,1078,195,209,563,533,30,111,101,10,237,96,14,59,23,0,141,43,88,10,0,2199,34,255,406,63,198,89,41,128,177,437,180,98,93,726,385,525,11,300,252]
["Barnstead","0000109","03220",3886,889,3886,0,3886,3697,49,24,42,0,14,60,3844,42,1993,1893,3886,3452,434,0,1423,1085,44,151,259,272,175,106,78,0,338,13,42,94,68,44,38,33,6,3047,669,1900,40,117,92,321,162,3766,2035,1713,1367,81,175,90,18,120,94,26,3651,2098,1553,1535,370,1165,809,356,239,14,78,25,0,18,1965,1897,533,1364,68,1965,1833,0,0,106,1859,36,64,179,147,109,136,343,128,140,286,212,79,106,3778,63,47,509,240,136,2608,101,263,1002,529,248,344,121,650,54,282,31,16,251,113,2288,333,197,1955,1648,248,67,179,103,3001,2118,2114,2033,1085,932,98,154,554,519,35,126,114,12,153,57,5,26,26,0,96,16,43,33,4,2033,44,252,361,105,289,62,61,124,109,323,100,62,141,629,213,500,9,284,398]
["Belmont","0000116","04740",6716,785,6716,488,6228,6537,4,41,0,0,0,134,6673,43,3318,3398,6705,5706,999,11,2648,1876,99,334,540,424,255,131,88,5,772,34,70,163,144,93,150,67,51,5371,1050,3255,82,231,197,753,428,6651,4031,2586,2128,192,161,105,34,65,32,33,6359,3855,2504,2493,1476,1017,555,462,248,7,130,77,0,11,3777,3674,2816,858,103,3777,3509,33,16,102,3675,141,340,790,887,329,156,312,83,93,219,221,104,102,6511,47,93,798,479,251,4581,276,575,1730,818,436,556,190,1076,57,416,58,42,358,279,4085,771,497,3314,2881,471,184,311,135,5283,3964,3964,3843,1876,1555,146,201,982,927,55,226,211,15,321,94,0,43,40,11,227,9,138,72,8,3843,41,273,758,76,616,205,105,191,172,775,288,161,182,995,602,1000,30,410,806]
["Center Harbor","0000127","10660",1017,444,996,0,1017,1009,0,0,5,0,0,3,1017,0,517,500,1008,850,158,9,423,298,6,18,59,99,54,38,20,4,125,6,13,21,25,17,24,13,6,848,190,519,2,48,28,89,59,990,443,528,415,40,47,26,19,27,13,14,965,649,316,314,136,178,88,90,60,2,15,13,0,2,537,519,381,138,18,537,505,0,0,22,515,40,66,94,76,73,50,39,7,10,28,20,12,22,985,22,8,102,62,27,754,24,41,197,181,45,171,95,131,2,62,2,0,60,37,612,53,43,559,447,91,16,69,34,834,563,563,547,298,249,43,49,112,108,4,45,45,0,49,14,2,12,0,0,35,2,21,9,3,547,5,68,77,9,73,10,7,30,38,94,77,41,18,178,103,123,0,83,60]
["Gilford","0000132","28740",6803,810,6803,3958,2845,6644,0,12,64,0,8,75,6795,8,3262,3541,6801,5791,1010,2,2773,1995,5,230,454,478,325,287,189,27,778,35,83,65,171,204,138,45,37,5469,861,3566,37,337,283,668,352,6646,3024,3593,2946,230,282,135,29,157,135,22,6433,3812,2621,2596,1307,1289,435,854,495,55,201,103,2,23,3295,3108,2602,506,187,3295,3091,8,9,129,3166,106,456,787,628,344,81,133,38,85,239,135,134,129,6594,128,62,824,388,231,4994,75,238,1239,1187,514,1146,595,1109,44,251,19,14,232,137,3918,646,437,3272,2598,677,142,469,279,5324,3419,3410,3348,1995,1732,274,403,894,857,37,161,161,0,263,94,0,79,15,0,169,36,71,62,0,3348,19,317,316,21,521,106,56,334,304,780,270,137,167,1198,474,1034,0,347,295]
["Gilmanton","0000148","28980",3060,708,3060,0,3060,3008,6,10,8,0,4,24,3048,12,1539,1521,3053,2719,334,7,1161,903,9,95,308,234,97,95,51,14,258,0,36,46,57,59,32,14,14,2462,457,1631,31,102,81,241,120,2960,1704,1234,1007,53,96,78,22,100,41,59,2905,1994,911,902,427,475,259,216,133,8,41,34,0,9,1610,1543,921,622,67,1610,1464,28,0,87,1523,36,62,71,197,302,141,298,52,67,116,125,56,87,2958,39,52,348,207,93,2137,102,165,633,481,203,353,200,488,19,217,27,16,190,95,1832,281,207,1551,1258,212,75,152,71,2417,1684,1680,1625,903,811,106,145,454,416,38,106,106,0,92,40,9,22,9,0,52,0,32,16,4,1625,26,184,241,31,207,38,40,103,161,314,128,68,84,637,175,433,8,207,165]
["Laconia","0000155","40180",16411,2580,16411,15589,822,15784,59,108,153,7,59,241,16244,167,7979,8432,15593,12528,3065,818,6727,4224,238,578,1012,880,662,548,229,77,2503,163,343,384,386,300,323,428,176,13428,3466,6978,177,1205,935,1602,1027,15831,9629,6054,4710,499,514,331,148,580,223,357,15545,7536,8009,7698,4746,2952,1619,1333,818,53,299,163,7,304,7767,7603,6308,1295,164,7767,7066,61,56,234,7533,497,1653,1815,1044,576,259,437,197,176,304,246,329,234,15881,231,226,1745,899,570,11295,658,1390,3906,2393,731,1509,708,2343,185,962,115,68,847,399,8942,1873,1079,7069,6043,1340,353,1194,607,13202,8290,8290,7956,4224,3242,472,587,1783,1682,101,400,382,18,982,245,0,138,82,25,737,98,417,207,15,7956,73,646,1470,259,1288,163,145,406,485,1553,721,364,383,2127,1391,2159,23,799,1457]
["Meredith","0000194","47140",5943,906,5943,0,5943,5791,13,0,42,0,7,90,5911,32,2992,2951,5814,4958,856,129,2447,1719,43,156,414,448,347,213,79,19,728,71,68,117,100,86,76,140,70,4867,1009,2989,33,311,256,525,279,5805,2609,3170,2706,146,192,126,26,138,120,18,5670,3036,2634,2619,1138,1481,571,910,654,29,163,64,0,15,3016,2899,2315,584,117,3016,2701,0,19,182,2834,150,625,444,319,418,200,257,15,82,87,153,84,182,5779,86,44,650,352,243,4224,190,237,1293,1005,221,794,484,899,50,335,57,28,278,179,3440,458,260,2982,2460,488,67,379,199,4771,3155,3155,3057,1719,1402,189,284,767,689,78,162,160,2,317,107,14,41,39,13,210,18,116,59,17,3057,36,346,362,58,459,70,54,193,262,631,303,151,132,1072,543,695,7,392,348]
["New Hampton","0000213","51540",1929,800,1950,0,1929,1856,0,9,8,0,8,48,1915,14,941,988,1926,1700,226,3,702,527,9,87,133,136,71,60,27,4,175,11,14,33,28,33,23,29,4,1502,320,951,21,68,51,142,79,1895,1024,848,678,55,65,50,23,34,27,7,1827,1190,637,637,210,427,256,171,122,12,32,5,0,0,1011,969,583,386,42,1011,917,5,6,48,963,60,88,105,107,187,65,120,24,37,73,50,47,48,1879,31,53,254,129,51,1279,25,156,373,268,95,212,150,352,29,147,23,10,124,63,1079,127,82,952,837,147,41,102,35,1475,1052,1052,1025,527,447,53,74,252,238,14,68,68,0,80,35,0,22,11,2,45,6,20,7,12,1025,10,93,196,16,159,54,16,37,68,204,76,47,49,326,128,212,6,135,218]
["Sanbornton","0000219","67300",2581,591,2581,26,2555,2524,7,14,0,0,0,36,2581,0,1283,1298,2581,2269,312,0,961,737,0,85,228,202,115,74,29,4,224,19,14,27,55,30,53,19,7,2041,379,1318,5,107,76,232,136,2557,1446,1087,859,84,87,57,24,24,11,13,2447,1528,919,899,449,450,304,146,118,5,13,10,0,20,1435,1397,746,651,38,1435,1375,0,3,39,1396,35,119,234,170,224,100,261,69,40,50,59,35,39,2511,40,56,310,180,102,1746,46,172,553,427,155,245,148,441,26,163,21,12,142,75,1563,212,137,1351,1182,176,68,104,50,2006,1491,1491,1446,737,631,45,129,356,325,31,101,101,0,106,46,0,38,8,0,60,0,43,9,8,1446,18,142,250,24,251,48,7,48,79,301,115,56,107,479,215,345,9,159,239]
["Tilton","0000227","77060",3477,530,3477,2335,1142,3394,0,8,11,0,11,53,3450,27,1757,1720,3247,2678,569,230,1346,886,38,135,218,181,165,95,45,9,460,24,41,110,87,56,59,65,18,2843,629,1558,38,240,184,378,210,3436,2031,1401,1075,127,86,113,4,41,23,18,3324,1730,1594,1585,691,894,569,325,173,19,53,80,5,4,1750,1708,921,787,42,1750,1567,5,6,84,1666,88,263,177,286,270,112,229,16,13,104,43,65,84,3393,50,30,415,198,143,2451,141,361,893,426,196,315,119,540,67,186,22,16,164,77,2016,420,280,1596,1338,213,46,207,154,2784,1863,1863,1769,886,682,62,99,448,432,16,73,60,13,204,68,0,49,11,8,136,26,83,21,6,1769,12,139,370,49,250,71,42,60,108,360,133,75,100,488,251,355,4,259,412]
[]
[]
["Census 2000 SummaryFile3 Sample Data  -  SF3CountyQry2aIncomeChar"]
[]
["TOWN_NAME","LOGRECNO","COUSUB","TotalPop","P52Households1","P52HHInc<10K","P52HHInc10to15K","P52HHInc15to20K","P52HHInc20to25K","P52HHInc25to30K","P52HHInc30to35K","P52HHInc35to40K","P52HHInc40to45K","P52HHInc45to50K","P52HHInc50to60K","P52HHInc60to75K","P52HHInc75to100K","P52HHInc100to125K","P52HHInc125to150K","P52HHInc150to200K","P52HHInc>200K","P53MedianHHInc","P54AggregHHInc","P55Households2","P55HHUnder25yrs","P55HH<25HHInc<10K","P55HH<25HHInc10to15K","P55HH<25HHInc15to20K","P55HH<25HHInc20to25K","P55HH<25HHInc25to30K","P55HH<25HHInc30to35K","P55HH<25HHInc35to40K","P55HH<25HHInc40to45K","P55HH<25HHInc45to50K","P55HH<25HHInc50to60K","P55HH<25HHInc60to75K","P55HH<25HHInc75to100K","P55HH<25HHInc100to125K","P55HH<25HHInc125to150K","P55HH<25HHInc150to200K","P55HH<25HHInc>200K","P55HH25to34yrs","P55HH25to34HHInc<10K","P55HH25to34HHInc10to15K","P55HH25to34HHInc15to20K","P55HH25to34HHInc20to25K","P55HH25to34HHInc25to30K","P55HH25to34HHInc30to35K","P55HH25to34HHInc35to40K","P55HH25to34HHInc40to45K","P55HH25to34HHInc45to50K","P55HH25to34HHInc50to60K","P55HH25to34HHInc60to75K","P55HH25to34HHInc75to100K","P55HH25to34HHInc100to125K","P55HH25to34HHInc125to150K","P55HH25to34HHInc150to200K","P55HH25to34HHInc>200K","P55HH35to44yrs","P55HH35to44HHInc<10K","P55HH35to44HHInc10to15K","P55HH35to44HHInc15to20K","P55HH35to44HHInc20to25K","P55HH35to44HHInc25to30K","P55HH35to44HHInc30to35K","P55HH35to44HHInc35to40K","P55HH35to44HHInc40to45K","P55HH35to44HHInc45to50K","P55HH35to44HHInc50to60K","P55HH35to44HHInc60to75K","P55HH35to44HHInc75to100K","P55HH35to44HHInc100to125K","P55HH35to44HHInc125to150K","P55HH35to44HHInc150to200K","P55HH35to44HHInc>200K","P55HH45to54yrs","P55HH45to55HHInc<10K","P55HH45to55HHInc10to15K","P55HH45to55HHInc15to20K","P55HH45to55HHInc20to25K","P55HH45to55HHInc25to30K","P55HH45to55HHInc30to35K","P55HH45to55HHInc35to40K","P55HH45to55HHInc40to45K","P55HH45to55HHInc45to50K","P55HH45to55HHInc50to60K","P55HH45to55HHInc60to75K","P55HH45to55HHInc75to100K","P55HH45to55HHInc100to125K","P55HH45to55HHInc125to150K","P55HH45to55HHInc150to200K","P55HH45to55HHInc>200K","P55HH55to64yrs","P55HH55to64HHInc<10K","P55HH55to64HHInc10to15K","P55HH55to64HHInc15to20K","P55HH55to64HHInc20to25K","P55HH55to64HHInc25to30K","P55HH55to64HHInc30to35K","P55HH55to64HHInc35to40K","P55HH55to64HHInc40to45K","P55HH55to64HHInc45to50K","P55HH55to64HHInc50to60K","P55HH55to64HHInc60to75K","P55HH55to64HHInc75to100K","P55HH55to64HHInc100to125K","P55HH55to64HHInc125to150K","P55HH55to64HHInc150to200K","P55HH55to64HHInc>200K","P55HH65to74yrs","P55HH65to74HHInc<10K","P55HH65to74HHInc10to15K","P55HH65to74HHInc15to20K","P55HH65to74HHInc20to25K","P55HH65to74HHInc25to30K","P55HH65to74HHInc30to35K","P55HH65to74HHInc35to40K","P55HH65to74HHInc40to45K","P55HH65to74HHInc45to50K","P55HH65to74HHInc50to60K","P55HH65to74HHInc60to75K","P55HH65to74HHInc75to100K","P55HH65to74HHInc100to125K","P55HH65to74HHInc125to150K","P55HH65to74HHInc150to200K","P55HH65to74HHInc>200K","P55HH>75yrs","P55HH>75HHInc<10K","P55HH>75HHInc10to15K","P55HH>75HHInc15to20K","P55HH>75HHInc20to25K","P55HH>75HHInc25to30K","P55HH>75HHInc30to35K","P55HH>75HHInc35to40K","P55HH>75HHInc40to45K","P55HH>75HHInc45to50K","P55HH>75HHInc50to60K","P55HH>75HHInc60to75K","P55HH>75HHInc75to100K","P55HH>75HHInc100to125K","P55HH>75HHInc125to150K","P55HH>75HHInc150to200K","P55HH>75HHInc>200K","P56MedHHInc","P56MedHHIncHH<25y","P56MedHHIncHH25to34y","P56MedHHIncHH35to44y","P56MedHHIncHH45to54y","P56MedHHIncHH55to64y","P56MedHHIncHH65to74y","P56MedHHIncHH>75y","P58Households3","P58HHwithEarnings","P58HHNoEarnings","P59HHwWageSalInc","P59HHNoWageSalInc","P60HHwSelfEmpInc","P60HHNoSelfEmpInc","P61HHwIndDivInc","P61HHNoIndDivInc","P62HHwSocSecInc","P62HHNoSocSecInc","P63HHwSSI","P63HHNoSSI","P64HHwPubAssInc","P64HHNoPubAssInc","P65HHwRetInc","P65HHNoRetInc","P66HHwOtherTypInc","P66HHNoOtherTypInc","P67AggregEarnings","P68AggregWageSalInc","P69AggregSelfEmpInc","P70AggregIntDivInc","P71AggregSocSecInc","P72AggregSSIInc","P73AggregPublicAssInc","P74AggregRetireInc","P76Families1","P76FamInc<10K","P76FamInc10to15K","P76FamInc15to20K","P76FamInc20to25K","P76FamInc25to30K","P76FamInc30to35K","P76FamInc35to40K","P76FamInc40to45K","P76FamInc45to50K","P76FamInc50to60K","P76FamInc60to75K","P76FamInc75to100K","P76FamInc100to125K","P76FamInc125to150K","P76FamInc150to200K","P76FamInc>200K","P77MedFamInc","P78AggregFamInc","P79NonFamHH","P79NonFamHHwInc<10K","P79NonFamHHwInc10to15K","P79NonFamHHwInc15to20K","P79NonFamHHwInc20to25K","P79NonFamHHwInc25to30K","P79NonFamHHwInc30to35K","P79NonFamHHwInc35to40K","P79NonFamHHwInc40to45K","P79NonFamHHwInc45to50K","P79NonFamHHwInc50to60K","P79NonFamHHwInc60to75K","P79NonFamHHwInc75to100K","P79NonFamHHwInc100to125K","P79NonFamHHwInc125to150K","P79NonFamHHwInc150to200K","P79NonFamHHwInc200KorMore","P80MedNonFamInc","P82PerCapitaInc"]
["Alton","0000099","01060",4502,1833,93,135,121,91,112,137,101,168,87,219,196,171,105,7,8,82,43451,114978400,1833,42,22,0,0,14,0,0,6,0,0,0,0,0,0,0,0,0,252,20,12,22,7,12,16,6,26,12,13,24,46,14,0,8,14,381,19,0,6,25,20,20,16,63,25,60,64,34,18,0,0,11,396,0,40,0,6,19,9,21,24,30,52,68,65,28,0,0,34,280,6,12,30,14,21,35,20,27,6,40,14,20,13,7,0,15,279,17,46,30,0,31,34,13,14,7,38,18,6,17,0,0,8,203,9,25,33,25,9,23,19,14,7,16,8,0,15,0,0,0,43451,9886,46042,48542,58929,40385,31384,30078,1833,1420,413,1326,507,305,1528,779,1054,563,1270,61,1772,65,1768,426,1407,248,1585,85765100,71598600,14166500,11982200,7502500,434100,189000,6211300,1315,52,52,55,74,61,109,66,148,87,166,164,144,71,7,8,51,46467,87631100,518,55,83,66,9,51,39,42,7,0,53,27,28,27,0,0,31,29709,25940]
["Barnstead","0000109","03220",3886,1423,34,41,65,114,76,83,100,127,137,180,187,165,55,15,24,20,47449,77665600,1423,57,0,0,0,11,7,0,9,5,13,8,0,0,4,0,0,0,193,5,0,5,9,11,5,26,26,29,32,21,18,6,0,0,0,353,3,4,7,7,16,8,19,39,34,56,77,68,7,8,0,0,340,9,0,17,20,16,26,22,25,23,32,52,43,24,3,24,4,219,0,3,19,9,13,15,16,24,17,29,24,26,4,4,0,16,144,0,18,7,25,3,18,3,4,21,23,8,10,4,0,0,0,117,17,16,10,33,10,11,5,4,0,0,5,0,6,0,0,0,47449,43250,47375,56705,55000,47188,35833,21384,1423,1250,173,1172,251,251,1172,560,863,323,1100,48,1375,41,1382,231,1192,228,1195,64743100,55751600,8991500,3546700,3738800,340500,81500,3168500,1085,19,28,53,66,46,59,75,95,117,160,140,126,42,15,24,20,49404,62455300,338,20,23,21,42,26,23,17,43,33,28,23,32,7,0,0,0,39167,19773]
["Belmont","0000116","04740",6716,2648,108,182,133,167,153,190,172,161,121,399,367,310,78,59,42,6,47717,135657600,2648,133,8,0,0,20,27,7,27,0,7,26,11,0,0,0,0,0,404,31,15,8,42,0,18,29,15,6,65,83,85,7,0,0,0,703,26,11,14,25,15,80,50,63,74,126,111,60,17,9,22,0,568,0,21,9,13,45,22,40,22,5,112,94,104,54,27,0,0,348,23,12,25,22,9,36,21,37,10,25,36,55,0,23,14,0,281,10,65,37,28,38,21,0,13,8,28,27,6,0,0,0,0,211,10,58,40,17,19,6,5,11,11,17,5,0,0,0,6,6,47717,36023,56719,49522,59722,43036,25054,19777,2648,2231,417,2164,484,353,2295,848,1800,653,1995,102,2546,54,2594,437,2211,400,2248,109873200,103019300,6854000,9937400,7392000,861800,107900,4286600,1876,63,52,79,103,78,152,89,133,104,282,301,276,72,44,42,6,53125,107000500,772,62,139,67,84,81,47,42,28,30,84,77,10,6,15,0,0,26349,19986]
["Center Harbor","0000127","10660",996,423,16,14,21,47,28,31,9,21,18,27,79,57,12,26,11,6,51806,26214500,423,12,0,0,0,3,3,3,0,0,0,3,0,0,0,0,0,0,31,2,0,6,3,2,3,2,0,0,6,4,3,0,0,0,0,80,0,0,8,8,4,4,2,6,7,9,19,7,0,0,6,0,124,2,2,3,15,5,9,2,10,5,5,28,27,2,7,2,0,71,0,3,0,8,0,4,1,2,4,2,13,8,5,14,3,4,62,6,9,2,0,10,4,0,3,2,2,13,3,3,3,0,2,43,6,0,2,10,4,4,2,0,0,0,2,9,2,2,0,0,51806,28750,33750,53125,65278,70625,36250,29375,423,341,82,316,107,108,315,231,192,113,310,12,411,8,415,91,332,57,366,19453800,17172900,2280900,3058500,1399800,79800,9200,1981400,298,9,8,14,29,17,17,5,16,13,30,60,41,12,15,8,4,55938,19214100,125,10,8,12,21,11,8,0,5,5,0,16,15,0,9,3,2,30156,25627]
["Gilford","0000132","28740",6803,2773,132,102,135,156,183,205,182,165,163,250,310,359,146,50,75,160,48658,218952500,2773,40,15,0,8,8,0,0,0,9,0,0,0,0,0,0,0,0,313,8,6,0,0,8,44,13,6,58,68,39,45,5,0,5,8,519,0,0,17,20,37,29,10,69,25,52,75,70,42,16,13,44,649,25,19,14,25,39,25,64,43,23,36,46,112,67,17,28,66,529,40,24,28,45,38,50,30,15,17,36,64,69,16,10,23,24,425,24,36,31,18,40,19,29,23,33,49,70,31,16,0,0,6,298,20,17,37,40,21,38,36,0,7,9,16,32,0,7,6,12,48658,16563,50823,60156,67250,44083,43661,32333,2773,2209,564,2078,695,505,2268,1372,1401,903,1870,75,2698,40,2733,637,2136,423,2350,163361800,140219500,23142300,29347400,11541600,459100,165300,10713500,1995,44,14,37,97,139,135,144,114,102,245,253,305,146,50,64,106,56554,174435100,778,98,88,88,84,59,70,13,50,76,13,65,17,0,0,11,46,28372,32667]
["Gilmanton","0000148","28980",3060,1161,36,49,44,61,69,81,51,87,91,161,163,126,50,43,25,24,50542,69892300,1161,9,0,0,0,0,0,0,0,0,0,6,3,0,0,0,0,0,131,0,0,4,8,10,14,19,6,4,16,27,11,4,4,0,4,354,0,26,8,5,12,22,4,27,39,71,19,59,19,15,12,16,291,7,10,4,0,8,11,19,15,30,27,89,37,8,15,7,4,156,4,3,7,23,5,8,0,23,4,20,21,12,15,5,6,0,127,7,4,4,7,24,17,9,11,9,16,4,7,4,4,0,0,93,18,6,17,18,10,9,0,5,5,5,0,0,0,0,0,0,50542,51875,50156,54333,62266,50357,35313,21528,1161,987,174,929,232,263,898,487,674,279,882,25,1136,5,1156,178,983,129,1032,57916600,51454100,6462500,4327300,3446600,152200,5500,3076600,903,8,28,33,39,56,49,39,73,95,139,132,98,47,43,7,17,51712,56075300,258,28,25,15,22,17,28,12,14,10,15,26,18,7,0,14,7,31964,23163]
["Laconia","0000155","40180",16411,6727,633,472,489,532,489,520,463,484,409,610,679,550,224,58,42,73,37796,311048600,6727,401,75,50,21,57,28,49,34,29,18,22,6,12,0,0,0,0,921,56,31,61,86,71,139,65,71,84,86,107,48,16,0,0,0,1396,80,73,81,108,83,86,91,123,121,149,201,123,48,18,6,5,1266,81,24,66,69,86,69,79,83,63,141,152,177,101,14,30,31,962,62,40,65,27,68,62,46,82,69,124,157,82,30,19,6,23,871,69,89,59,106,102,86,88,47,38,62,39,50,22,0,0,14,910,210,165,136,79,51,29,60,49,16,26,17,58,7,7,0,0,37796,24777,36289,43269,51121,46648,31050,18250,6727,5227,1500,5011,1716,908,5819,2615,4112,2211,4516,327,6400,299,6428,1309,5418,930,5797,241446900,218699000,22747900,18730400,25352600,2251500,614900,15265300,4224,192,172,175,302,285,297,341,328,295,524,501,452,208,37,42,73,45307,235385900,2503,484,329,326,254,220,198,134,148,93,82,128,77,11,19,0,0,22250,19540]
["Meredith","0000194","47140",5943,2447,147,129,100,198,189,211,194,112,79,257,231,255,137,30,103,75,42758,145289700,2447,114,16,6,5,19,18,10,0,8,18,7,0,7,0,0,0,0,224,10,8,8,20,16,46,12,23,13,18,10,32,8,0,0,0,531,15,10,11,34,34,52,39,24,17,84,58,32,59,6,27,29,548,11,24,6,24,27,33,78,25,17,48,64,91,28,9,34,29,433,11,17,8,39,21,11,37,26,0,40,78,54,34,15,33,9,289,22,5,21,41,30,53,9,6,14,43,14,6,8,0,9,8,308,62,59,41,21,43,6,19,0,0,17,7,33,0,0,0,0,42758,28409,37000,52305,57188,62321,33323,17426,2447,1960,487,1823,624,473,1974,1157,1290,776,1671,60,2387,52,2395,476,1971,365,2082,114338100,99727500,14610600,10906600,8823200,587700,83600,8276500,1719,47,36,52,85,104,160,135,82,68,218,221,224,99,35,92,61,54764,117504900,728,112,97,51,113,91,64,65,28,5,25,12,23,28,0,0,14,24489,24867]
["New Hampton","0000213","51540",1950,702,47,25,34,26,44,44,32,64,64,81,83,107,25,8,7,11,47583,38856100,702,20,3,2,0,0,0,4,0,2,3,3,3,0,0,0,0,0,101,0,1,2,2,13,15,0,16,10,11,17,7,7,0,0,0,166,7,3,4,2,8,5,4,14,24,43,16,25,4,4,3,0,164,2,0,0,5,0,5,8,20,16,7,26,52,9,2,4,8,104,11,6,8,0,11,4,0,8,9,12,15,13,5,2,0,0,83,10,8,12,9,3,9,12,2,2,3,2,8,0,0,0,3,64,14,5,8,8,9,2,8,2,0,2,4,2,0,0,0,0,47583,41250,45750,51579,70938,47500,29583,24063,702,589,113,571,131,134,568,291,411,185,517,28,674,29,673,97,605,105,597,31304900,28092900,3212000,3063400,2076600,126400,48600,1700800,527,11,7,20,27,25,32,20,49,46,80,75,88,22,11,3,11,52366,32617700,175,36,20,14,8,24,9,10,11,14,5,8,16,0,0,0,0,26397,20336]
["Sanbornton","0000219","67300",2581,961,17,52,38,41,61,62,82,74,72,74,159,130,39,20,23,17,48458,58306500,961,19,0,4,4,0,3,4,0,0,0,0,0,0,0,4,0,0,99,0,0,5,0,15,11,9,10,16,0,10,19,0,4,0,0,255,0,9,3,9,8,21,40,12,16,14,61,38,10,4,10,0,257,5,4,4,14,14,4,12,27,16,16,53,44,25,5,9,5,145,5,18,0,8,0,9,9,8,20,16,13,19,4,0,4,12,127,4,5,11,7,17,7,12,13,0,22,19,10,0,0,0,0,59,3,12,11,3,4,6,0,4,4,6,3,0,0,3,0,0,48458,28750,42375,56250,62404,49135,40179,25313,961,869,92,834,127,175,786,431,530,251,710,19,942,23,938,163,798,140,821,48363800,43182700,5181100,2667500,2779200,129600,107200,3141700,737,3,26,6,25,25,35,82,73,63,66,133,121,30,9,23,17,52179,49233300,224,14,31,30,16,36,27,8,10,15,4,17,4,5,7,0,0,28370,22879]
["Tilton","0000227","77060",3477,1346,65,85,78,124,122,99,66,88,64,197,204,91,34,14,12,3,41977,61816200,1346,62,3,0,8,11,7,0,5,13,0,15,0,0,0,0,0,0,176,0,0,13,13,18,27,15,8,14,23,33,12,0,0,0,0,328,19,12,0,31,28,6,0,17,45,80,67,8,7,5,0,3,268,18,29,0,28,14,18,11,8,0,49,35,42,7,9,0,0,221,0,14,26,12,19,2,26,8,0,13,48,21,20,0,12,0,154,13,13,6,17,8,26,0,34,5,17,15,0,0,0,0,0,137,12,17,25,12,28,20,9,0,0,0,6,8,0,0,0,0,41977,36000,40625,50349,51111,51750,33500,25347,1346,1111,235,1056,290,252,1094,464,882,374,972,56,1290,54,1292,215,1131,180,1166,51240700,46386400,4854400,2983400,3991300,363000,67000,2374200,886,18,31,26,61,59,75,62,73,34,149,157,82,34,14,8,3,50143,46727600,460,52,54,67,66,65,28,11,15,24,40,32,6,0,0,0,0,24408,19578]
[]
[]
["Census 2000 SummaryFile3 Sample Data  -  SF3CountyQry2bPovertyChar"]
[]
["TOWN_NAME","LOGRECNO","COUSUB","TotalPop","P52Households1","P82PerCapitaInc","P87PopForPovStatus","P87PopWIncBelowPovStatus","P87PopUnder5yrBelowPoverty","P87Pop5yrBelowPoverty","P87Pop5to11yrBelowPoverty","P87Pop12to17yrBelowPoverty","P87Pop18to64yrBelowPoverty","P87Pop65to74yrBelowPoverty","P87PopOver75yrBelowPoverty","P87PopWIncAbovePovStatus","P87PopUnder5yrAbovePoverty","P87Pop5yrAbovePoverty","P87Pop5to11yrAbovePoverty","P87Pop12to17yrAbovePoverty","P87Pop18to64yrAbovePoverty","P87Pop65to74yrAbovePoverty","P87PopOver75yrAbovePoverty","P90Families","P90FamWIncBelowPov","P90MarCupFamWIncBelowPov","P90MCFamWRltdChld<18WIncBelowPov","P90MCFamWRltdChld<5WIncBelowPov","P90MaleHhlrWIncBelowPov","P90MaleHhlrWRltdChld<18yrWIncBelowPov","P90MaleHhlrWRltdChld<5yrWIncBelowPov","P90FemaleHhlrWIncBelowPov","P90FemaleHhlrWRltdChld<18yWIncBelowPov","P90FemaleHhlrWRltdChld<5yWIncBelowPov","P90FamWIncAbovePov","P90MarCupFamWIncAbovePov","P90MCFamWRltdChld<18WIncAbovePov","P90MCFamWRltdChld<5WIncAbovePov","P90MaleHhlrWIncAbovePov","P90MaleHhlrWRltdChld<18yrWIncAbovePov","P90MaleHhlrWRltdChld<5yrWIncAbovePov","P90FemaleHhlrWIncAbovePov","P90FemaleHhlrWRltdChld<18yWIncAbovePov","P90FemaleHhlrWRltdChld<5yWIncAbovePov","P92Households","P92HHwIncBelowPov","P92FamHHwIncBelowPov","P92MCFamHHwIncBelowPov","P92MaleFamHHwIncBelowPov","P92FemaleFamHHwIncBelowPov","P92NonFamHHwIncBelowPov","P92NonFamMaleHHwIncBelowPov","P92NonFamFemaleHHwIncBelowPov","P92HHwIncAbovePov","P92FamHHwIncAbovePov","P92MCFamHHwIncAbovePov","P92MaleFamHHwIncAbovePov","P92FemaleFamHHwIncAbovePov","P92NonFamHHwIncAbovePov","P92NonFamMaleHHwIncAbovePov","P92NonFamFemaleHHwIncAbovePov"]
["Alton","0000099","01060",4502,1833,25940,4488,293,52,6,25,27,166,17,0,4195,243,47,302,355,2572,391,285,1315,71,19,19,19,14,8,0,38,38,0,1244,1059,386,68,82,63,22,103,57,7,1833,117,71,19,14,38,46,29,17,1716,1244,1059,82,103,472,244,228]
["Barnstead","0000109","03220",3886,1423,19773,3868,147,10,4,29,22,62,3,17,3721,225,39,315,370,2365,245,162,1085,30,22,17,0,0,0,0,8,8,0,1055,910,408,71,57,41,6,88,42,11,1423,52,30,22,0,8,22,7,15,1371,1055,910,57,88,316,183,133]
["Belmont","0000116","04740",6716,2648,19986,6682,286,27,16,61,9,167,0,6,6396,330,57,419,701,4113,471,305,1876,72,9,9,0,25,25,8,38,38,24,1804,1546,727,139,69,30,13,189,157,12,2648,119,72,9,25,38,47,9,38,2529,1804,1546,69,189,725,359,366]
["Center Harbor","0000127","10660",996,423,25627,1017,68,13,0,9,7,30,5,4,949,39,12,44,93,610,86,65,298,13,6,0,0,2,2,0,5,5,2,285,243,88,8,12,7,4,30,18,3,423,20,13,6,2,5,7,2,5,403,285,243,12,30,118,75,43]
["Gilford","0000132","28740",6803,2773,32667,6803,226,19,0,0,0,176,26,5,6577,351,56,520,679,3856,651,464,1995,44,10,0,0,10,10,10,24,5,5,1951,1722,733,119,84,76,8,145,76,0,2773,121,44,10,10,24,77,31,46,2652,1951,1722,84,145,701,285,416]
["Gilmanton","0000148","28980",3060,1161,23163,3054,179,12,0,9,28,97,19,14,2875,143,52,244,255,1850,193,138,903,30,25,13,5,5,5,0,0,0,0,873,786,331,65,35,17,5,52,37,4,1161,50,30,25,5,0,20,7,13,1111,873,786,35,52,238,128,110]
["Laconia","0000155","40180",16411,6727,19540,15601,1382,162,6,119,113,847,42,93,14219,687,245,1059,1239,8590,1298,1101,4224,316,98,39,21,25,18,8,193,193,56,3908,3144,1301,189,220,135,55,544,303,47,6727,665,316,98,25,193,349,190,159,6062,3908,3144,220,544,2154,958,1196]
["Meredith","0000194","47140",5943,2447,24867,5811,382,62,7,36,33,158,34,52,5429,208,58,442,487,3453,454,327,1719,72,28,8,0,14,14,4,30,30,17,1647,1374,478,81,93,44,6,180,120,8,2447,177,72,28,14,30,105,23,82,2270,1647,1374,93,180,623,326,297]
["New Hampton","0000213","51540",1950,702,20336,1907,89,0,2,13,16,41,5,12,1818,96,33,183,164,1110,142,90,527,14,9,0,0,0,0,0,5,5,0,513,438,206,20,35,32,12,40,28,3,702,37,14,9,0,5,23,7,16,665,513,438,35,40,152,66,86]
["Sanbornton","0000219","67300",2581,961,22879,2548,130,21,7,10,18,62,6,6,2418,93,34,202,239,1582,170,98,737,16,11,8,0,0,0,0,5,5,0,721,620,240,20,46,32,18,55,29,0,961,42,16,11,0,5,26,4,22,919,721,620,46,55,198,112,86]
["Tilton","0000227","77060",3477,1346,19578,3252,168,11,0,17,10,104,13,13,3084,142,45,252,284,1967,200,194,886,26,5,5,0,10,10,0,11,11,3,860,677,283,71,58,42,14,125,67,14,1346,65,26,5,10,11,39,26,13,1281,860,677,58,125,421,208,213]
[]
[]
["Census 2000 SummaryFile3 Sample Data  -  SF3CountyQry7HousingA"]
[]
["NAME","LOGRECNO","COUNTY","TotalPop","H1HousingUnitsTotal","H2SampleHU","H2SampleOccHU","H2SampleVacHU","H3HU100pctCount","H5HUTotal","H5HUUrban","H5HUUrbanInUrbanAreas","H5HUUrbanInUrbanClusters","H5HURural","H5HURuralFarm","H5HURuralNonFarm","H7HUOcc","H7HUOwnrOcc","H7HURentrOcc","H8HUVacant","H8HUVacantForRent","H8HUVacantForSale","H8HUVacRentedorSold","H8HUVacSeasonal","H8HUVacForMigrantWrkrs","H8HUOtherVacant","H14OccHUa","H14OwnerOccHU","H14OwnOccHuHh15to24","H14OwnOccHuHh25to34","H14OwnOccHuHh35to44","H14OwnOccHuHh45to54","H14OwnOccHuHh55to59","H14OwnOccHuHh60to64","H14OwnOccHuHh65to74","H14OwnOccHuHh75to84","H14OwnOccHuHh85Over","H14RenterOccHU1","H14RntrOccHuHh15to24","H14RntrOccHuHh25to34","H14RntrOccHuHh35to44","H14RntrOccHuHh45to54","H14RntrOccHuHh55to59","H14RntrOccHuHh60to64","H14RntrOccHuHh65to74","H14RntrOccHuHh75to84","H14RntrOccHuHh85Over","H15PopInOccHU","H15PopInOwnOccHU1","H15PopInRentOccHU1","H17OccupHUb","H17OwnOccHU2","H17OwnOccHU1PersonHH","H17OwnOccHU2PersonHH","H17OwnOccHU3PersonHH","H17OwnOccHU4PersonHH","H17OwnOccHU5PersonHH","H17OwnOccHU6PersonHH","H17OwnOccHU7PlusPersonHH","H17RentOccHU2","H17RntOccHU1PersonHH","H17RntOccHU2PersonHH","H17RntOccHU3PersonHH","H17RntOccHU4PersonHH","H17RntOccHU5PersonHH","H17RntOccHU6PersonHH","H17RntOccHU7PlusPersonHH","H18AvgHHSize","H18AvgHHSizeOwnOcc","H18AvgHHSizeRentOcc","H23TotHU","H23HU1Room","H23HU2Room","H23HU3Room","H23HU4Room","H23HU5Room","H23HU6Room","H23HU7Room","H23HU8Room","H23HU9orMoreRoom","H24MedianNumRooms","H25AggregNumRooms","H30TotalHU","H30Det1HU","H30Att1HU","H30Units2","H30Units3or4","H30Units5to9","H30Units10to19","H30Units20to49","H30Units50orMore","H30UnitsMobileHome","H30UnitsBoatRv","H32OccHUcTotal","H32OwnerOccHU3","H32OwnOccHU1Det","H32OwnOccHU1Att","H32OwnOccHU2Unit","H32OwnOccHU3to4Unit","H32OwnOccHU5to9Unit","H32OwnOccHU10to19Unit","H32OwnOccHU20to49Unit","H32OwnOccHU50plusUnit","H32OwnOccHUMobHom","H32OwnOccHUBoatRVOth","H32RentrOccHU3","H32RntrOccHU1Det","H32RntrOccHU1Att","H32RntrOccHU2Unit","H32RntrOccHU3to4Unit","H32RntrOccHU5to9Unit","H32RntrOccHU10to19Unit","H32RntrOccHU20to49Unit","H32RntrOccHU50PlusUnit","H32RntrOccHUMobHom","H32RntrOccHUBoatRVOth","H33TotPopInOccHU","H33PopInOwnOccHU2","H33PopInOOHU1Det","H33PopInOOHU1Att","H33PopInOOHU2unit","H33PopInOOHU3to4Unit","H33PopInOOHU5to9Unit","H33PopInOOHU10to19Unit","H33PopInOOHU20to49Unit","H33PopInOOHU50PlusUnit","H33PopInOOHUMobilHome","H33PopInOOHUOtherUnit","H33PopInRentOccHU2","H33PopInROHU1Det","H33PopInROHU1Att","H33PopInROHU2Unit","H33PopInROHU3to4Unit","H33PopInROHU5to9Unit","H33PopInROHU10to19Unit","H33PopInROHU20to49Unit","H33PopInROHU50PlusUnit","H33PopInROHUMobilHome","H33PopInROHUOtherUnit","H36OccHousingUnitsdTotal","H36OwnerOccHU4","H36OOHUBuilt99to0300","H36OOHUBuilt95to98","H36OOHUBuilt90to94","H36OOHUBuilt80to89","H36OOHUBuilt70to79","H36OOHUBuilt60to69","H36OOHUBuilt50to59","H36OOHUBuilt40to49","H36OOHUBuilt39Earlier","H36RentOccHU4","H36ROHUBuilt99to0300","H36ROHUBuilt95to98","H36ROHUBuilt90to94","H36ROHUBuilt80to89","H36ROHUBuilt70to79","H36ROHUBuilt60to69","H36ROHUBuilt50to59","H36ROHUBuilt40to49","H36ROHUBuilt39Earlier","H40OccupHousUnitse","H40HeatFuelUtilGas","H40HeatFuelBotGas","H40HeatFuelElect","H40HeatFuelOilKero","H40HeatFuelCoal","H40HeatFuelWood","H40HeatFuelSolar","H40HeatFuelOther","H40HeatFuelNone","H41TotalHU","H41HUNoBdrm","H41HU1Bdrm","H41HU2Bdrm","H41HU3Bdrm","H41HU4Bdrm","H41HU5MoreBdrm","H42OccuHousUnitf","H42OwnerOccHU5","H42OOHUNoBdrm","H42OOHU1Bdrm","H42OOHU2Bdrm","H42OOHU3Bdrm","H42OOHU4Bdrm","H42OOHU5PlusBdrm","H42RentOccHU5","H42ROHUNoBdrm","H42ROHU1Bdrm","H42ROHU2Bdrm","H42ROHU3Bdrm","H42ROHU4Bdrm","H42ROHU5PlusBdrm","H48OccupHousUnitsg","H48OwnerOccHU6","H48OOHUwCompltPlumFacil","H48OOHULackCompltPlumFacil","H48RentOccHU6","H48ROHUwCompltPlumFacil","H48ROHULackCompltPlumFacil","H51OccupHousUnitf","H51OwnerOccHU7","H51OOHUwCompleteKitFacil","H51OOHULackCompleteKitFacil","H51RenterOccHU7","H51ROHUwCompleteKitFacil","H51ROHULackCompleteKitFacil"]
["Alton","0000099","01060",4502,3522,526,261,265,3522,3522,89,0,89,3433,7,3426,1825,1478,347,1697,26,24,18,1609,0,20,1825,1478,17,143,310,360,146,122,258,106,16,347,10,79,88,70,9,12,29,44,6,4502,3547,955,1825,1478,303,630,224,190,89,17,25,347,130,94,58,48,10,0,7,2,2,3,3522,68,192,258,606,801,734,445,187,231,5,18980,3522,3109,24,77,79,19,5,13,0,189,7,1825,1478,1353,0,16,0,0,0,0,0,109,0,347,155,17,38,75,12,5,13,0,32,0,4502,3547,3336,0,48,0,0,0,0,0,163,0,955,472,28,130,158,28,21,17,0,101,0,1825,1478,49,177,137,440,112,63,92,62,346,347,0,0,13,115,15,68,31,17,88,1825,15,246,40,1428,0,87,0,9,0,3522,82,360,1211,1433,327,109,1825,1478,8,51,379,742,226,72,347,19,88,131,71,18,20,1825,1478,1478,0,347,347,0,1825,1478,1472,6,347,347,0]
["Barnstead","0000109","03220",3886,1994,428,327,101,1994,1994,0,0,0,1994,34,1960,1422,1258,164,572,12,5,0,550,0,5,1422,1258,41,127,323,309,134,72,166,82,4,164,14,28,56,27,21,9,3,6,0,3886,3403,483,1422,1258,212,476,194,224,100,39,13,164,32,67,44,14,0,0,7,3,3,3,1994,14,97,134,362,469,372,267,147,132,5,11000,1994,1804,55,29,18,0,0,0,0,88,0,1422,1258,1153,27,9,0,0,0,0,0,69,0,164,116,3,12,18,0,0,0,0,15,0,3886,3403,3102,79,30,0,0,0,0,0,192,0,483,372,8,28,46,0,0,0,0,29,0,1422,1258,20,84,131,302,293,146,42,26,214,164,0,12,4,24,42,18,14,10,40,1422,5,326,25,873,0,193,0,0,0,1994,21,213,683,760,261,56,1422,1258,14,59,392,528,220,45,164,7,29,65,41,11,11,1422,1258,1247,11,164,164,0,1422,1258,1247,11,164,164,0]
["Belmont","0000116","04740",6716,3113,366,306,60,3113,3113,400,0,400,2713,10,2703,2641,2074,567,472,13,54,24,360,0,21,2641,2074,36,247,536,506,143,82,276,187,61,567,85,169,159,52,0,42,31,29,0,6705,5484,1221,2641,2074,442,751,343,347,140,41,10,567,140,228,124,51,13,11,0,3,3,2,3113,8,46,200,955,815,557,310,139,83,5,16049,3113,1798,32,106,231,66,0,18,0,854,8,2641,2074,1382,25,18,0,0,0,0,0,641,8,567,107,7,88,204,63,0,18,0,80,0,6705,5484,3907,45,55,0,0,0,0,0,1459,18,1221,204,12,216,468,140,0,27,0,154,0,2641,2074,64,121,137,782,373,232,146,46,173,567,0,0,69,156,142,67,37,0,96,2641,0,314,207,1970,10,126,0,7,7,3113,8,235,1258,1310,213,89,2641,2074,0,71,687,1071,171,74,567,0,130,355,63,19,0,2641,2074,2074,0,567,567,0,2641,2074,2074,0,567,567,0]
["Center Harbor","0000127","10660",996,658,296,185,111,653,658,0,0,0,658,4,654,417,355,62,241,5,5,2,218,0,11,417,355,0,19,60,104,43,31,57,32,9,62,12,14,16,14,2,2,0,0,2,1008,853,155,417,355,76,171,45,42,17,4,0,62,10,28,12,7,2,0,3,2,2,2,658,0,4,57,75,125,160,108,69,60,6,3972,658,601,7,0,0,5,3,0,0,42,0,417,355,323,7,0,0,0,0,0,0,25,0,62,39,0,0,0,5,3,0,0,15,0,1008,853,770,14,0,0,0,0,0,0,69,0,155,94,0,0,0,11,3,0,0,47,0,417,355,6,28,16,82,65,33,24,10,91,62,2,0,0,14,11,8,0,8,19,417,0,35,3,343,0,32,4,0,0,658,0,61,175,318,65,39,417,355,0,14,88,181,47,25,62,0,4,34,21,3,0,417,355,355,0,62,62,0,417,355,355,0,62,62,0]
["Gilford","0000132","28740",6803,4312,574,339,235,4312,4312,2696,0,2696,1616,0,1616,2766,2385,381,1546,28,53,12,1429,0,24,2766,2385,16,280,463,503,269,157,390,251,56,381,37,112,54,78,22,38,9,19,12,6801,6150,651,2766,2385,484,1016,346,371,119,41,8,381,116,147,63,33,22,0,0,2,3,2,4312,0,156,184,967,800,807,628,428,342,6,24814,4312,3200,90,82,167,95,17,70,10,581,0,2766,2385,1915,40,21,6,5,17,6,0,375,0,381,207,17,42,44,32,0,21,0,18,0,6801,6150,5127,103,80,42,6,34,6,0,752,0,651,419,30,65,58,39,0,17,0,23,0,2766,2385,38,171,177,550,569,338,161,97,284,381,0,12,53,123,56,38,30,10,59,2766,56,366,84,2127,27,106,0,0,0,4312,0,375,1426,1811,604,96,2766,2385,0,86,648,1098,484,69,381,0,105,117,159,0,0,2766,2385,2378,7,381,381,0,2766,2385,2385,0,381,381,0]
["Gilmanton","0000148","28980",3060,1848,363,273,90,1848,1848,0,0,0,1848,35,1813,1165,1043,122,683,17,5,0,634,0,27,1165,1043,8,96,298,293,100,45,123,58,22,122,0,49,32,20,14,0,0,0,7,3053,2913,140,1165,1043,138,450,198,182,56,13,6,122,62,26,10,0,17,0,7,3,3,1,1848,0,63,239,402,313,376,143,143,169,5,10107,1848,1731,0,44,14,0,0,12,0,47,0,1165,1043,1006,0,12,7,0,0,0,0,18,0,122,76,0,32,7,0,0,0,0,7,0,3053,2913,2791,0,47,18,0,0,0,0,57,0,140,94,0,40,3,0,0,0,0,3,0,1165,1043,35,55,85,264,215,85,58,16,230,122,0,0,7,33,0,21,0,0,61,1165,4,206,44,729,4,174,4,0,0,1848,12,204,803,549,224,56,1165,1043,0,62,308,428,194,51,122,0,21,47,54,0,0,1165,1043,1040,3,122,122,0,1165,1043,1040,3,122,122,0]
["Laconia","0000155","40180",16411,8554,1331,1049,282,8554,8554,7806,0,7806,748,7,741,6724,3824,2900,1830,212,42,34,1508,0,34,6724,3824,38,254,788,967,371,307,643,336,120,2900,394,606,617,411,214,50,224,265,119,15593,9518,6075,6724,3824,861,1534,539,588,205,52,45,2900,1170,895,480,225,79,40,11,2,2,2,8554,130,447,782,1790,1782,1574,807,747,495,5,45459,8554,4223,496,896,847,630,325,535,365,237,0,6724,3824,3046,162,243,80,71,40,34,0,148,0,2900,350,167,583,662,421,201,290,210,16,0,15593,9518,7868,254,603,220,159,61,63,0,290,0,6075,944,351,1301,1438,813,369,568,263,28,0,6724,3824,45,164,244,694,316,317,367,309,1368,2900,0,44,84,301,423,250,264,241,1293,6724,1279,442,542,4304,0,75,0,48,34,8554,150,1231,2959,3003,946,265,6724,3824,0,83,934,1909,683,215,2900,92,906,1197,547,134,24,6724,3824,3812,12,2900,2893,7,6724,3824,3812,12,2900,2893,7]
["Meredith","0000194","47140",5943,4191,623,366,257,4191,4191,0,0,0,4191,15,4176,2447,1892,555,1744,26,32,5,1651,0,30,2447,1892,18,132,355,526,164,228,282,141,46,555,80,113,152,26,31,25,25,72,31,5814,4616,1198,2447,1892,352,859,285,270,83,36,7,555,264,108,103,55,25,0,0,2,2,2,4191,19,96,331,638,889,958,532,394,334,6,24165,4191,3388,81,126,109,116,21,49,17,276,8,2447,1892,1583,45,40,10,13,0,5,0,196,0,555,182,0,71,81,101,21,20,17,62,0,5814,4616,3963,92,72,8,30,0,4,0,447,0,1198,499,0,121,129,183,56,36,18,156,0,2447,1892,93,201,138,381,417,180,107,50,325,555,0,13,34,91,81,64,53,46,173,2447,6,255,205,1873,0,102,0,6,0,4191,50,335,1251,1740,668,147,2447,1892,8,62,517,933,312,60,555,17,193,215,79,43,8,2447,1892,1892,0,555,555,0,2447,1892,1892,0,555,555,0]
["New Hampton","0000213","51540",1950,939,384,295,89,944,939,0,0,0,939,7,932,723,623,100,216,3,9,0,189,0,15,723,623,7,80,158,144,45,57,71,52,9,100,10,28,26,11,2,10,8,5,0,1926,1665,261,723,623,107,239,101,111,53,4,8,100,31,22,17,14,13,3,0,3,3,3,939,2,15,94,108,207,171,127,91,124,6,5664,939,806,25,17,7,0,3,0,0,79,2,723,623,540,13,5,0,0,0,0,0,63,2,100,64,9,12,6,0,3,0,0,6,0,1926,1665,1446,44,22,0,0,0,0,0,150,3,261,162,27,28,17,0,8,0,0,19,0,723,623,18,59,74,135,85,38,34,21,159,100,0,8,8,21,10,11,4,2,36,723,0,90,12,529,0,88,0,0,4,939,5,84,255,428,118,49,723,623,0,33,150,325,82,33,100,2,17,39,14,20,8,723,623,615,8,100,100,0,723,623,618,5,100,100,0]
["Sanbornton","0000219","67300",2581,1359,311,221,90,1359,1359,37,0,37,1322,14,1308,969,851,118,390,4,8,13,361,0,4,969,851,4,70,211,243,74,66,112,63,8,118,13,25,45,13,11,0,6,0,5,2581,2279,302,969,851,145,346,141,139,44,16,20,118,18,46,21,23,6,4,0,3,3,3,1359,5,14,42,159,377,239,216,165,142,6,8366,1359,1267,11,20,7,4,0,0,0,50,0,969,851,787,11,12,0,0,0,0,0,41,0,118,94,0,8,7,4,0,0,0,5,0,2581,2279,2075,50,27,0,0,0,0,0,127,0,302,245,0,16,16,4,0,0,0,21,0,969,851,27,47,57,229,148,73,47,47,176,118,0,0,6,32,36,14,12,0,18,969,4,136,20,725,6,74,4,0,0,1359,5,44,358,704,207,41,969,851,0,12,219,453,139,28,118,0,18,38,49,9,4,969,851,841,10,118,112,6,969,851,845,6,118,118,0]
["Tilton","0000227","77060",3477,1631,253,206,47,1631,1631,1016,0,1016,615,9,606,1360,857,503,271,41,19,13,193,0,5,1360,857,21,77,163,205,119,84,119,51,18,503,36,125,101,92,26,40,19,58,6,3247,2293,954,1360,857,148,354,153,132,40,25,5,503,235,146,66,17,28,11,0,2,3,2,1631,23,69,205,350,386,203,118,126,151,5,8668,1631,935,27,164,120,33,94,0,6,245,7,1360,857,630,0,25,7,0,0,0,0,195,0,503,97,8,127,102,28,88,0,6,40,7,3247,2293,1832,0,50,25,0,0,0,0,386,0,954,215,22,308,145,49,106,0,6,87,16,1360,857,4,48,30,143,195,57,48,70,262,503,0,11,15,75,83,34,16,34,235,1360,290,124,73,844,0,19,0,0,10,1631,23,298,510,600,122,78,1360,857,0,30,258,419,102,48,503,16,211,137,102,20,17,1360,857,857,0,503,497,6,1360,857,857,0,503,486,17]
[]
[]
["Census 2000 SummaryFile3 Sample Data  -  SF3CountyQry8HousingCostA"]
[]
["TOWN_NAME","LOGRECNO","COUSUB","TotalPop","H62RntrOccHU","H62RntrOccHUwRent","H62ROHUGRent<100","H62ROHUGRent100to149","H62ROHUGRent150to199","H62ROHUGRent200to249","H62ROHUGRent250to299","H62ROHUGRent300to349","H62ROHUGRent350to399","H62ROHUGRent400to449","H62ROHUGRent450to499","H62ROHUGRent500to549","H62ROHUGRent550to599","H62ROHUGRent600to649","H62ROHUGRent650to699","H62ROHUGRent700to749","H62ROHUGRent750to799","H62ROHUGRent800to899","H62ROHUGRent900to999","H62ROHUGRent1000to1249","H62ROHUGRent1250to1499","H62ROHUGRent1500to1999","H62ROHUGRent2000>","H62ROHUNoGRent","H63MedianGrossRnt","H69RenterOccHsU","H69GRnt<10PctHHInc","H69GRnt10to15PctHHInc","H69GRnt15to20PctHHInc","H69GRnt20to25PctHHInc","H69GRnt25to30PctHHInc","H69GRnt30to35PctHHInc","H69GRnt35to40PctHHInc","H69GRnt40to50PctHHInc","H69GRnt>50PctHHInc","H69GRntPctNotcomputed","H73RenterOccHU","H73ROHUHhInc<10k","H73ROHUHhInc<10kRnt<20pct","H73ROHUHhInc<10kRnt20to25pct","H73ROHUHhInc<10kRnt25to30pct","H73ROHUHhInc<10kRnt30to35pct","H73ROHUHhInc<10kRnt>35pct","H73ROHUHhInc<10kPctNotComput","H73ROHUHhInc10to20k","H73ROHUHhInc10to20kRnt<20pct","H73ROHUHhInc10to20kRnt20to25pct","H73ROHUHhInc10to20kRnt25to30pct","H73ROHUHhInc10to20kRnt30to35pct","H73ROHUHhInc10to20kRnt>35pct","H73ROHUHhInc10to20kRntPctNC","H73ROHUHhInc20to35k","H73ROHUHhInc20to35kRnt<20pct","H73ROHUHhInc20to35kRnt20to25pct","H73ROHUHhInc20to35kRnt25to30pct","H73ROHUHhInc20to35kRnt30to35pct","H73ROHUHhInc20to35kRnt>35pct","H73ROHUHhInc20to35kRntPctNC","H73ROHUHhInc35to40k","H73ROHUHhInc35to40kRnt<20pct","H73ROHUHhInc35to40kRnt20to25pct","H73ROHUHhInc35to40kRnt25to30pct","H73ROHUHhInc35to40kRnt30to35pct","H73ROHUHhInc35to40kRnt>35pct","H73ROHUHhInc35to40kRntPctNC","H73ROHUHhInc50to75k","H73ROHUHhInc50to75kRnt<20pct","H73ROHUHhInc50to75kRnt20to25pct","H73ROHUHhInc50to75kRnt25to30pct","H73ROHUHhInc50to75kRnt30to35pct","H73ROHUHhInc50to75kRnt>35pct","H73ROHUHhInc50to75kRntPctNC","H73ROHUHhInc75to100k","H73ROHUHhInc75to100kRnt<20pct","H73ROHUHhInc75to100kRnt20to25pct","H73ROHUHhInc75to100kRnt25to30pct","H73ROHUHhInc75to100kRnt30to35pct","H73ROHUHhInc75to100kRnt>35pct","H73ROHUHhInc75to100kRntPctNC","H73ROHUHhInc>100k","H73ROHUHhInc>100kRnt<20pct","H73ROHUHhInc>100kRnt20to25pct","H73ROHUHhInc>100kRnt25to30pct","H73ROHUHhInc>100kRnt30to35pct","H73ROHUHhInc>100kRnt>35pct","H73ROHUHhInc>100kRntPctNC"]
["Alton","0000099","01060",4502,341,303,0,6,12,0,7,14,7,26,18,21,29,27,28,19,26,19,18,6,16,4,0,38,621,341,23,38,52,19,29,33,19,23,67,38,341,38,0,6,0,0,32,0,109,19,0,6,12,62,10,54,0,0,11,21,11,11,59,32,6,12,0,4,5,48,36,7,0,0,0,5,10,10,0,0,0,0,0,23,16,0,0,0,0,7]
["Barnstead","0000109","03220",3886,140,129,0,0,4,0,0,4,4,10,7,11,7,10,6,4,10,33,10,9,0,0,0,11,719,140,11,32,21,15,21,4,7,15,3,11,140,0,0,0,0,0,0,0,20,0,0,3,0,14,3,40,12,7,6,4,11,0,38,20,8,6,0,0,4,21,11,0,6,0,0,4,21,21,0,0,0,0,0,0,0,0,0,0,0,0]
["Belmont","0000116","04740",6716,556,540,6,0,0,0,0,6,9,22,50,60,71,64,86,19,52,69,18,8,0,0,0,16,636,556,41,73,128,106,57,9,17,22,77,26,556,64,6,0,0,0,38,20,70,0,0,9,0,61,0,145,22,57,40,9,17,0,126,88,30,8,0,0,0,119,94,19,0,0,0,6,16,16,0,0,0,0,0,16,16,0,0,0,0,0]
["Center Harbor","0000127","10660",996,57,49,0,0,0,0,2,2,0,2,3,2,7,5,7,8,5,3,0,3,0,0,0,8,661,57,0,2,13,2,10,8,11,3,0,8,57,2,0,0,0,0,0,2,15,2,0,2,2,9,0,20,0,2,5,6,5,2,7,0,0,3,0,0,4,10,10,0,0,0,0,0,3,3,0,0,0,0,0,0,0,0,0,0,0,0]
["Gilford","0000132","28740",6803,357,323,21,0,0,9,0,0,19,12,0,9,34,19,18,39,24,43,37,28,11,0,0,34,726,357,11,58,25,29,47,40,32,12,69,34,357,59,0,0,0,0,49,10,83,11,0,17,11,44,0,79,9,0,30,29,11,0,47,7,21,0,0,9,10,43,21,8,0,0,0,14,46,46,0,0,0,0,0,0,0,0,0,0,0,0]
["Gilmanton","0000148","28980",3060,105,84,0,0,0,0,0,0,0,7,7,7,9,7,0,0,10,0,31,6,0,0,0,21,775,105,0,16,10,29,8,0,7,7,7,21,105,7,0,0,0,0,0,7,21,0,0,0,0,14,7,30,0,23,0,0,7,0,15,0,0,8,0,0,7,16,10,6,0,0,0,0,16,16,0,0,0,0,0,0,0,0,0,0,0,0]
["Laconia","0000155","40180",16411,2894,2772,5,57,81,61,69,93,133,220,237,327,254,393,166,188,119,190,68,99,12,0,0,122,570,2894,90,329,518,424,321,247,115,197,513,140,2894,493,6,20,56,19,355,37,604,68,44,50,62,374,6,851,159,233,188,142,91,38,495,324,98,27,24,5,17,305,261,23,0,0,0,21,96,80,6,0,0,0,10,50,39,0,0,0,0,11]
["Meredith","0000194","47140",5943,547,492,0,6,36,23,29,19,23,35,38,32,76,33,32,20,14,57,7,12,0,0,0,55,553,547,58,53,65,87,75,35,34,13,60,67,547,85,0,0,18,6,37,24,105,24,5,5,12,54,5,166,14,60,46,17,16,13,86,51,22,6,0,0,7,47,47,0,0,0,0,0,45,27,0,0,0,0,18,13,13,0,0,0,0,0]
["New Hampton","0000213","51540",1950,77,49,0,0,0,0,0,3,0,9,5,7,0,3,6,3,0,7,0,2,4,0,0,28,608,77,0,10,14,8,3,4,5,5,0,28,77,7,0,0,0,0,0,7,13,0,0,0,2,8,3,21,9,4,3,0,0,5,20,8,0,0,2,2,8,14,5,4,0,0,0,5,2,2,0,0,0,0,0,0,0,0,0,0,0,0]
["Sanbornton","0000219","67300",2581,77,62,0,0,0,0,0,0,0,3,0,5,9,14,0,0,0,20,5,0,6,0,0,15,725,77,4,9,12,5,5,11,0,6,10,15,77,0,0,0,0,0,0,0,10,0,0,0,0,10,0,19,3,0,5,11,0,0,26,5,5,0,0,6,10,13,8,0,0,0,0,5,5,5,0,0,0,0,0,4,4,0,0,0,0,0]
["Tilton","0000227","77060",3477,485,456,0,22,7,0,6,7,28,64,48,51,78,45,29,14,6,24,15,12,0,0,0,29,545,485,29,72,66,87,79,20,30,35,32,35,485,50,0,7,15,0,22,6,112,7,13,15,14,49,14,166,21,62,44,6,26,7,45,27,5,5,0,0,8,92,92,0,0,0,0,0,20,20,0,0,0,0,0,0,0,0,0,0,0,0]
[]
[]
["Census 2000 SummaryFile3 Sample Data  -  SF3CountyQry8HousingCostB"]
[]
["TOWN_NAME","LOGRECNO","COUSUB","TotalPop","H74SpecOwnerOccHU","H74OOHU<10k","H74OOHU10to15k","H74OOHU15to20k","H74OOHU20to25k","H74OOHU25to30k","H74OOHU30to35k","H74OOHU35to40k","H74OOHU40to50k","H74OOHU50to60k","H74OOHU60to70k","H74OOHU70to80k","H74OOHU80to90k","H74OOHU90to100k","H74OOHU100to125k","H74OOHU125to150k","H74OOHU150to175k","H74OOHU175to200k","H74OOHU200to250k","H74OOHU250to300k","H74OOHU300to400k","H74OOHU400to500k","H74OOHU500to750k","H74OOHU750to1000k","H74OOHU1000kmore","H76OOHUMedianVal","H84OwnerOccHU","H84AllOOHU<10k","H84AllOOHU10to15k","H84AllOOHU15to20k","H84AllOOHU20to25k","H84AllOOHU25to30k","H84AllOOHU30to35k","H84AllOOHU35to40k","H84AllOOHU40to50k","H84AllOOHU50to60k","H84AllOOHU60to70k","H84AllOOHU70to80k","H84AllOOHU80to90k","H84AllOOHU90to100k","H84AllOOHU100to125k","H84AllOOHU125to150k","H84AllOOHU150to175k","H84AllOOHU175to200k","H84AllOOHU200to250k","H84AllOOHU250to300k","H84AllOOHU300to400k","H84AllOOHU400to500k","H84AllOOHU500to750k","H84AllOOHU750to1000k","H84AllOOHU1000kmore","H85OOHUMedVal","H90SOOHU","H90HUwMorgt","H90HUwMtgHC<200","H90HUwMtgHC200to300","H90HUwMtgHC300to400","H90HUwMtgHC400to500","H90HUwMtgHC500to600","H90HUwMtgHC600to700","H90HUwMtgHC700to800","H90HUwMtgHC800to900","H90HUwMtgHC900to1000","H90HUwMtgHC1000to1250","H90HUwMtgHC1250to1500","H90HUwMtgHC1500to2000","H90HUwMtgHC2000to2500","H90HUwMtgHC2500to3000","H90HUwMtgHC3000orMore","H90HUwOutMorgt","H90HUwOutMtgHC<100","H90HUwOutMtgHC100to150","H90HUwOutMtgHC150to200","H90HUwOutMtgHC200to250","H90HUwOutMtgHC250to300","H90HUwOutMtgHC300to350","H90HUwOutMtgHC350to400","H90HUwOutMtgHC400to500","H90HUwOutMtgHC500to600","H90HUwOutMtgHC600to700","H90HUwOutMtgHC700to800","H90HUwOutMtgHC800to900","H90HUwOutMtgHC900to1000","H90HUwOutMtgHC1000orMore","H91MedianOCHUwMtg","H91MedianOCHUwOutMtg","H94SpecOOHU","H94HUwMortg","H94HUwMtgHC<10pct","H94HUwMtgHC10to15pct","H94HUwMtgHC15to20pct","H94HUwMtgHC20to25pct","H94HUwMtgHC25to30pct","H94HUwMtgHC30to35pct","H94HUwMtgHC35to40pct","H94HUwMtgHC40to50pct","H94HUwMtgHC50pctOrMore","H94HUwMtgHCpctNotComp","H94HUWOutMortg","H94HUWOutMortgHC<10pct","H94HUWOutMortgHC10to15pct","H94HUWOutMortgHC15to20pct","H94HUWOutMortgHC20to25pct","H94HUWOutMortgHC25to30pct","H94HUWOutMortgHC30to35pct","H94HUWOutMortgHC35to40pct","H94HUWOutMortgHC40to50pct","H94HUWOutMortgHC50pctOrMore","H94HUWOutMortgHCpctNotComp","H97SpecifOwnOccHU","H97SOOHUInc<10k","H97SOOHUInc<10kHC<20pct","H97SOOHUInc<10kHC20to25pct","H97SOOHUInc<10kHC25to30pct","H97SOOHUInc<10kHC30to35pct","H97SOOHUInc<10kHC>35pct","H97SOOHUInc<10kHCpctNotComput","H97SOOHUInc10to20k","H97SOOHUInc10to20kHC<20pct","H97SOOHUInc10to20kHC20to25pct","H97SOOHUInc10to20kHC25to30pct","H97SOOHUInc10to20kHC30to35pct","H97SOOHUInc10to20kHC>35pct","H97SOOHUInc10to20kHCpctNotComput","H97SOOHUInc20to35k","H97SOOHUInc20to35kRC<20pct","H97SOOHUInc20to35kRC20to25pct","H97SOOHUInc20to35kRC25to30pct","H97SOOHUInc20to35kRC30to35pct","H97SOOHUInc20to35kRC>35pct","H97SOOHUInc20to35kRCpctNotComput","H97SOOHUInc35to50k","H97SOOHUInc35to50kRC<20pct","H97SOOHUInc35to50kRC20to25pct","H97SOOHUInc35to50kRC25to30pct","H97SOOHUInc35to50kRC30to35pct","H97SOOHUInc35to50kRC>35pct","H97SOOHUInc35to50kRCpctNotCompute","H97SOOHUInc50to75k","H97SOOHUInc50to75kRC<20pct","H97SOOHUInc50to75kRC20to25pct","H97SOOHUInc50to75kRC25to30pct","H97SOOHUInc50to75kRC30to35pct","H97SOOHUInc50to75kRC>35pct","H97SOOHUInc50to75kRCpctNotComput","H97SOOHUInc75to100k","H97SOOHUInc75to100kRC<20pct","H97SOOHUInc75to100kRC20to25pct","H97SOOHUInc75to100kRC25to30pct","H97SOOHUInc75to100kRC30to35pct","H97SOOHUInc75to100kRC>35pct","H97SOOHUInc75to100kRCpctNotCompute","H97SOOHUInc100to150k","H97SOOHUInc100to150kRC<20pct","H97SOOHUInc100to150kRC20to25pct","H97SOOHUInc100to150kRC25to30pct","H97SOOHUInc100to150kRC30to35pct","H97SOOHUInc100to150kRC>35pct","H97SOOHUInc100to150kRCpctNotCompute","H97SOOHUInc>150k","H97SOOHUInc>150kRC<20pct","H97SOOHUInc>150kRC20to25pct","H97SOOHUInc>150kRC25to30pct","H97SOOHUInc>150kRC30to35pct","H97SOOHUInc>150kRC>35pct","H97SOOHUInc>150kRCpctNotCompute"]
["Alton","0000099","01060",4502,1150,0,0,0,0,0,0,0,8,42,25,61,117,156,148,164,152,46,51,50,13,44,17,28,28,127700,1478,7,8,0,6,0,10,26,17,49,42,70,144,171,168,216,174,77,85,71,20,44,17,28,28,127400,1150,709,0,0,7,23,30,39,50,77,140,144,80,98,7,0,14,441,0,0,8,21,63,38,89,104,51,22,0,7,0,38,992,401,1150,709,53,102,140,118,128,44,0,50,74,0,441,159,100,88,27,27,14,0,0,26,0,1150,17,0,0,0,0,17,0,83,9,0,27,14,33,0,209,98,21,23,0,67,0,223,85,34,56,29,19,0,331,215,46,41,15,14,0,153,118,27,8,0,0,0,77,60,17,0,0,0,0,57,57,0,0,0,0,0]
["Barnstead","0000109","03220",3886,949,0,0,0,4,0,0,8,27,36,83,111,153,138,170,112,57,22,8,16,0,0,4,0,0,93800,1258,0,5,0,8,0,0,12,35,54,96,125,169,195,200,183,79,39,34,20,0,0,4,0,0,96400,949,689,0,0,0,24,21,37,35,73,116,257,55,67,0,4,0,260,0,0,0,13,29,31,42,73,30,34,4,4,0,0,1037,421,949,689,15,86,155,117,105,49,47,53,62,0,260,80,69,58,27,9,0,13,0,0,4,949,17,0,0,0,0,13,4,56,4,10,13,0,29,0,165,54,17,17,12,65,0,247,81,35,35,32,64,0,273,151,68,45,5,4,0,101,83,14,4,0,0,0,53,53,0,0,0,0,0,37,37,0,0,0,0,0]
["Belmont","0000116","04740",6716,1149,0,9,0,0,0,19,0,9,42,76,85,217,188,242,191,7,29,9,0,16,10,0,0,0,96300,2074,23,45,55,55,7,98,105,126,90,115,146,268,213,284,314,17,29,33,17,16,18,0,0,0,86400,1149,922,0,0,0,0,59,22,91,161,92,275,165,50,0,0,7,227,0,0,0,10,25,23,45,57,29,9,9,20,0,0,1033,418,1149,922,51,132,127,231,131,92,32,54,65,7,227,94,28,18,36,10,0,0,10,22,9,1149,16,0,0,0,0,0,16,134,9,27,10,0,88,0,128,18,16,21,17,56,0,176,6,66,32,33,39,0,364,141,117,71,35,0,0,202,154,41,7,0,0,0,84,77,0,0,7,0,0,45,45,0,0,0,0,0]
["Center Harbor","0000127","10660",996,260,0,0,0,0,0,3,0,4,0,7,7,14,20,36,39,49,27,26,5,10,0,8,0,5,150000,355,0,0,0,0,0,5,2,10,5,11,13,16,24,42,51,72,29,34,7,19,2,8,0,5,149300,260,151,0,0,0,2,8,9,19,9,12,42,24,18,6,2,0,109,0,0,0,10,15,17,0,25,16,6,5,2,4,9,1098,450,260,151,12,19,25,38,17,13,7,18,2,0,109,39,20,11,10,5,7,3,2,12,0,260,11,0,0,0,0,11,0,13,0,3,3,5,2,0,64,18,8,6,10,22,0,23,7,2,4,5,5,0,72,41,18,9,0,4,0,37,26,11,0,0,0,0,28,24,4,0,0,0,0,12,10,2,0,0,0,0]
["Gilford","0000132","28740",6803,1752,0,0,0,0,0,0,0,6,16,71,95,120,158,296,291,208,187,73,89,61,22,39,13,7,134800,2385,43,71,68,84,30,19,54,6,21,71,120,141,178,301,308,245,222,106,124,74,40,39,13,7,123800,1752,1145,0,0,10,7,53,52,84,118,109,216,190,141,67,50,48,607,0,6,11,25,84,72,74,135,97,32,29,0,6,36,1161,423,1752,1145,88,167,211,263,128,97,44,65,74,8,607,211,156,53,57,63,7,13,0,34,13,1752,47,0,0,0,0,32,15,74,12,6,10,0,46,0,313,124,44,39,39,67,0,307,139,69,36,7,56,0,431,212,106,73,25,15,0,278,172,41,25,33,7,0,142,100,27,8,0,7,0,160,127,27,0,0,0,6]
["Gilmanton","0000148","28980",3060,709,0,0,4,0,0,0,8,0,20,27,73,65,85,157,135,60,28,21,12,9,0,0,5,0,111500,1043,0,0,4,0,0,3,15,0,39,43,81,87,121,193,188,89,54,39,32,38,0,9,8,0,116600,709,522,0,0,0,11,12,62,40,42,70,134,101,27,14,4,5,187,0,0,0,23,11,9,33,55,27,22,0,3,0,4,1045,432,709,522,16,79,79,114,67,52,38,30,39,8,187,69,33,22,28,7,4,0,3,17,4,709,27,0,0,3,0,12,12,41,4,4,4,0,29,0,129,27,31,7,16,48,0,150,53,30,15,19,33,0,218,92,73,37,16,0,0,79,61,4,4,5,5,0,44,40,0,4,0,0,0,21,21,0,0,0,0,0]
["Laconia","0000155","40180",16411,3034,0,0,0,0,0,0,13,23,128,156,313,552,499,483,399,165,113,41,77,50,12,10,0,0,96700,3824,0,0,0,0,11,34,26,70,161,245,484,602,581,608,435,185,132,62,110,50,18,10,0,0,94800,3034,2146,0,0,16,51,95,118,211,309,252,527,241,208,84,12,22,888,0,5,24,53,72,122,172,234,109,53,34,0,10,0,1010,399,3034,2146,80,308,456,446,261,180,86,97,225,7,888,237,258,149,98,41,14,19,40,32,0,3034,77,0,0,0,7,63,7,252,56,43,11,7,135,0,545,144,84,57,57,203,0,633,261,143,126,38,65,0,813,451,192,89,55,26,0,436,354,45,6,24,7,0,209,153,37,13,6,0,0,69,69,0,0,0,0,0]
["Meredith","0000194","47140",5943,1424,0,0,0,0,6,0,6,31,39,41,54,142,133,179,176,150,70,130,103,84,26,5,36,13,136500,1892,27,48,20,29,24,12,20,47,39,60,60,159,163,209,216,176,110,143,131,119,26,5,36,13,128400,1424,938,0,0,8,16,28,75,96,80,49,220,138,133,25,37,33,486,0,8,18,34,41,71,61,112,56,31,21,20,0,13,1133,409,1424,938,78,129,163,162,83,85,55,64,112,7,486,224,52,67,55,14,11,17,13,25,8,1424,55,0,0,0,0,40,15,103,0,21,10,0,72,0,293,100,45,22,39,87,0,209,61,68,29,12,39,0,303,175,47,21,26,34,0,171,124,8,15,19,5,0,152,123,20,0,0,9,0,138,130,8,0,0,0,0]
["New Hampton","0000213","51540",1950,390,0,0,0,0,2,4,2,11,5,2,36,41,64,90,55,35,18,16,0,4,2,3,0,0,107800,623,9,6,0,2,2,6,4,19,13,22,46,55,73,120,80,66,22,42,5,15,8,6,2,0,111400,390,281,0,0,3,5,13,9,38,52,20,85,20,31,3,2,0,109,0,2,10,3,5,24,23,24,14,0,2,2,0,0,1001,373,390,281,12,54,66,68,26,11,7,13,21,3,109,42,26,13,4,2,2,6,2,8,4,390,28,0,0,0,0,21,7,17,2,2,2,0,11,0,43,24,4,3,4,8,0,86,39,20,12,7,8,0,118,59,37,11,2,9,0,71,62,9,0,0,0,0,19,19,0,0,0,0,0,8,8,0,0,0,0,0]
["Sanbornton","0000219","67300",2581,606,0,0,3,0,7,0,0,0,7,21,32,54,50,145,124,60,34,34,13,22,0,0,0,0,122200,851,0,0,7,0,7,0,8,0,11,30,41,58,71,199,157,87,41,66,21,39,4,4,0,0,124200,606,449,0,0,0,4,22,26,49,44,41,125,70,50,10,4,4,157,0,0,16,7,12,21,35,42,10,0,9,0,0,5,1077,382,606,449,18,69,79,82,53,21,30,48,49,0,157,56,33,18,12,7,13,5,4,5,4,606,12,0,0,0,0,12,0,63,4,8,7,8,36,0,87,28,4,5,19,31,0,146,39,26,26,7,48,0,150,84,42,14,0,10,0,90,68,14,4,0,4,0,32,32,0,0,0,0,0,26,18,0,4,0,0,4]
["Tilton","0000227","77060",3477,520,0,0,0,0,0,0,6,30,14,45,49,83,56,129,49,34,8,8,9,0,0,0,0,0,95900,857,10,33,34,59,14,8,31,30,26,45,55,104,63,183,60,39,8,16,18,8,5,8,0,0,88000,520,408,0,0,0,24,28,6,77,78,43,63,23,46,0,15,5,112,0,0,0,19,0,40,24,16,13,0,0,0,0,0,888,346,520,408,37,45,108,100,36,34,0,7,41,0,112,37,33,22,8,0,6,6,0,0,0,520,6,0,0,0,6,0,0,21,0,0,0,0,21,0,86,41,8,5,18,14,0,117,58,36,8,4,11,0,192,93,56,23,12,8,0,67,66,1,0,0,0,0,20,20,0,0,0,0,0,11,4,7,0,0,0,0]
[]
[]
["Census 2000 SummaryFile3 Sample Data  -  SF3CountyQry9HHIncomeByTenure"]
[]
["TOWN_NAME","LOGRECNO","COUSUB","NAME","COUNTY","TotalPop","HCT11OccHU","HCT11OwnOccHU","HCT11OOHUInc<5K","HCT11OOHUInc5to10K","HCT11OOHUInc10to15K","HCT11OOHUInc15to20K","HCT11OOHUInc20to25K","HCT11OOHUInc25to35K","HCT11OOHUInc35to50K","HCT11OOHUInc50to75K","HCT11OOHUInc75to100K","HCT11OOHUInc100to150K","HCT11OOHUInc>150K","HCT11RentOccHU","HCT11ROHUInc<5K","HCT11ROHUInc5to10K","HCT11ROHUInc10to15K","HCT11ROHUInc15to20K","HCT11ROHUInc20to25K","HCT11ROHUInc25to35K","HCT11ROHUInc35to50K","HCT11ROHUInc50to75K","HCT11ROHUInc75to100K","HCT11ROHUInc100to150K","HCT11ROHUInc>150K","HCT12MedHHInc","HCT12MedOwnOccHHInc","HCT12MedRentOccHHInc","SummaryLevel"]
["Alton","0000099","01060","Alton town","001",4502,1825,1478,9,26,58,66,68,217,291,392,167,113,71,347,12,26,67,48,18,36,59,48,10,5,18,45122,50192,26250,"060"]
["Barnstead","0000109","03220","Barnstead town","001",3886,1422,1258,8,18,30,46,91,130,321,348,154,71,41,164,0,3,9,17,19,28,42,25,21,0,0,48008,49330,40500,"060"]
["Belmont","0000116","04740","Belmont town","001",6716,2641,2074,27,9,166,101,121,240,344,633,276,112,45,567,31,33,26,44,44,112,126,119,16,10,6,46451,50697,34681,"060"]
["Center Harbor","0000127","10660","Center Harbor town","001",996,417,355,0,16,14,7,35,47,40,93,49,36,18,62,0,2,0,15,10,13,7,10,5,0,0,50568,59250,26667,"060"]
["Gilford","0000132","28740","Gilford town","001",6803,2766,2385,22,61,75,89,139,325,468,514,309,173,210,381,19,40,32,51,10,79,47,57,46,0,0,47597,50496,29063,"060"]
["Gilmanton","0000148","28980","Gilmanton town","001",3060,1165,1043,12,19,42,35,54,124,201,303,116,92,45,122,7,0,7,14,7,23,22,16,16,0,10,50692,51875,36071,"060"]
["Laconia","0000155","40180","Laconia city","001",16411,6724,3824,27,104,184,170,224,465,838,989,477,243,103,2900,89,404,292,318,329,522,495,305,96,44,6,37867,48000,25378,"060"]
["Meredith","0000194","47140","Meredith town","001",5943,2447,1892,27,44,68,64,123,297,307,436,189,167,170,555,31,54,62,43,78,88,94,47,45,7,6,42361,50741,26250,"060"]
["New Hampton","0000213","51540","New Hampton town","001",1950,723,623,20,23,20,24,25,63,135,157,105,36,15,100,3,4,8,10,5,23,25,17,5,0,0,47792,50150,34063,"060"]
["Sanbornton","0000219","67300","Sanbornton town","001",2581,969,851,0,17,41,34,42,96,191,215,123,52,40,118,0,0,14,6,0,26,37,13,15,7,0,48477,50288,40500,"060"]
["Tilton","0000227","77060","Tilton town","001",3477,1360,857,0,11,38,20,63,128,159,288,81,50,19,503,20,35,51,67,52,114,45,95,24,0,0,40903,50516,26410,"060"]
[]
[]
[]
["Census 2000 SummaryFile3 Sample Data - SF3CountyQry10Disabil"]
[]
["TOWN_NAME","LOGRECNO","COUSUB","TotalPop","PCT026001","PCT026002","PCT026003","PCT026004","PCT026005","PCT026006","PCT026007","PCT026008","PCT026009","PCT026010","PCT026011","PCT026012","PCT026013","PCT026014","PCT026015","PCT026016","PCT026017","PCT026018","PCT026019","PCT026020","PCT026021","PCT026022","PCT026023","PCT026024","PCT026025","PCT026026","PCT026027","PCT026028","PCT026029","PCT026030","PCT026031","PCT026032","PCT026033","PCT026034","PCT026035","PCT026036","PCT026037","PCT026038","PCT026039","PCT026040","PCT026041","PCT026042","PCT026043","PCT026044","PCT026045","PCT026046","PCT026047","PCT026048","PCT026049","PCT026050","PCT026051","PCT026052","PCT026053","PCT026054","PCT026055","PCT026056","PCT026057","PCT026058","PCT026059","PCT026060","PCT026061","PCT026062","PCT026063","PCT026064","PCT026065","PCT026066","PCT026067","PCT026068","PCT026069","PCT026070","PCT026071","PCT026072","PCT026073","PCT026074","PCT026075","PCT026076","PCT026077","PCT026078","PCT026079","PCT026080","PCT026081","PCT026082","PCT026083","PCT026084","PCT026085","PCT026086","PCT026087","PCT026088","PCT026089","PCT026090","PCT026091","PCT026092","PCT026093","PCT026094","PCT026095","PCT026096","PCT026097","PCT026098","PCT026099","PCT026100","PCT026101"]
["Alton","0000099","01060",4502,4202,2084,355,31,14,0,17,0,11,11,0,313,89,23,0,11,12,0,0,0,15,0,15,15,0,51,1320,130,31,44,7,0,0,48,98,8,90,12,78,1092,320,70,24,28,0,0,18,22,16,6,228,2118,330,8,0,0,8,0,5,5,0,317,78,10,0,0,0,0,0,10,0,0,0,0,0,68,1337,87,4,18,6,0,0,59,123,29,94,13,81,1127,373,43,24,19,0,0,0,43,12,31,287]
["Barnstead","0000109","03220",3886,3647,1860,328,29,0,0,29,0,15,0,15,284,157,22,8,0,10,0,0,4,5,0,5,0,5,130,1164,86,20,19,10,0,0,37,96,20,76,5,71,982,211,49,22,27,0,0,0,43,19,24,119,1787,322,5,0,0,5,0,5,5,0,312,125,4,0,0,0,0,0,4,0,0,0,0,0,121,1124,89,6,23,4,0,0,56,62,32,30,7,23,973,216,26,11,7,0,0,8,52,28,24,138]
["Belmont","0000116","04740",6716,6359,3122,553,22,0,7,15,0,0,0,0,531,208,39,0,0,7,0,0,32,0,0,0,0,0,169,2024,258,0,75,35,0,0,148,173,26,147,13,134,1593,337,68,15,53,0,0,0,78,27,51,191,3237,523,19,0,0,19,0,16,16,0,488,208,19,0,0,11,0,0,8,0,0,0,0,0,189,2061,249,12,84,42,0,0,111,91,0,91,35,56,1721,445,101,26,51,0,0,24,72,49,23,272]
["Center Harbor","0000127","10660",996,965,487,66,2,0,0,2,0,0,0,0,64,23,0,0,0,0,0,0,0,0,0,0,0,0,23,313,25,8,6,2,0,0,9,8,6,2,0,2,280,85,24,11,6,2,0,5,13,7,6,48,478,65,0,0,0,0,0,0,0,0,65,39,0,0,0,0,0,0,0,2,0,2,0,2,37,299,11,2,2,0,0,0,7,9,0,9,2,7,279,75,6,0,2,2,0,2,7,3,4,62]
["Gilford","0000132","28740",6803,6424,3097,565,28,7,0,21,0,0,0,0,537,107,0,0,0,0,0,0,0,0,0,0,0,0,107,1889,169,34,57,8,0,0,70,146,36,110,7,103,1574,536,119,49,41,13,0,16,52,34,18,365,3327,544,16,8,0,8,0,0,0,0,528,144,6,0,0,0,0,0,6,13,0,13,0,13,125,2029,201,9,69,7,0,0,116,130,33,97,14,83,1698,610,141,34,42,44,0,21,109,76,33,360]
["Gilmanton","0000148","28980",3060,2901,1464,255,16,0,5,11,0,0,0,0,239,119,5,0,0,0,0,0,5,8,5,3,0,3,106,914,96,22,21,12,0,9,32,50,10,40,20,20,768,176,60,35,21,0,0,4,31,4,27,85,1437,233,3,0,3,0,0,0,0,0,230,98,6,0,0,6,0,0,0,8,0,8,8,0,84,918,76,11,25,0,0,0,40,59,33,26,13,13,783,188,33,12,7,7,0,7,22,15,7,133]
["Laconia","0000155","40180",16411,14781,7050,1170,111,6,2,103,0,22,19,3,1037,448,31,0,0,10,0,0,21,15,0,15,5,10,402,4365,483,116,132,57,0,0,178,465,113,352,142,210,3417,1067,163,47,50,29,0,37,185,59,126,719,7731,1173,39,0,0,39,0,13,13,0,1121,514,52,0,0,15,0,6,31,17,0,17,11,6,445,4577,430,33,64,32,6,30,265,495,164,331,63,268,3652,1467,288,77,159,0,0,52,324,151,173,855]
["Meredith","0000194","47140",5943,5541,2786,449,25,0,0,25,0,10,0,10,414,191,26,0,0,26,0,0,0,0,0,0,0,0,165,1725,113,0,17,29,0,8,59,135,44,91,26,65,1477,421,73,21,37,0,0,15,52,20,32,296,2755,450,15,0,0,15,0,0,0,0,435,144,12,0,0,12,0,0,0,19,0,19,11,8,113,1715,118,19,38,12,0,0,49,92,17,75,31,44,1505,446,78,24,30,0,0,24,63,16,47,305]
["New Hampton","0000213","51540",1950,1827,899,181,22,0,0,22,0,1,1,0,158,81,7,0,0,5,0,0,2,5,0,5,0,5,69,522,38,4,9,3,0,0,22,28,5,23,5,18,456,115,15,5,7,0,0,3,16,5,11,84,928,171,6,0,0,6,0,0,0,0,165,66,8,0,0,5,0,0,3,3,0,3,0,3,55,557,35,3,8,3,0,0,21,26,10,16,5,11,496,134,15,3,12,0,0,0,30,12,18,89]
["Sanbornton","0000219","67300",2581,2447,1217,212,0,0,0,0,0,6,6,0,206,98,12,4,0,8,0,0,0,3,3,0,0,0,83,771,82,18,20,9,0,4,31,28,0,28,0,28,661,136,42,25,10,0,0,7,21,6,15,73,1230,229,20,6,0,14,0,0,0,0,209,65,6,0,0,2,0,4,0,0,0,0,0,0,59,792,50,13,0,0,0,0,37,52,11,41,9,32,690,144,27,4,19,0,0,4,28,7,21,89]
["Tilton","0000227","77060",3477,3162,1530,295,46,5,0,41,0,5,0,5,244,64,12,0,0,0,0,0,12,0,0,0,0,0,52,1043,138,19,36,0,0,5,78,105,11,94,25,69,800,128,12,6,0,0,0,6,34,6,28,82,1632,245,16,0,0,16,0,0,0,0,229,122,10,0,0,6,0,0,4,0,0,0,0,0,112,973,65,9,13,0,0,0,43,112,30,82,38,44,796,292,43,14,29,0,0,0,111,55,56,138]
[]
[]
[]
["2010 Census Demographic Profile Data -  QRY_CountyState"]
["TownName","LOGRECNO","COUNTY","TotalPop","TotalPop1Race","TotalPopWhite","TotalPopAfricanAmerican","TotalPopAmericanIndAlaska","TotalPopAsian","TotalPopNativeHawaiianPIsland","TotalPopSomeOtherRace","TotalPopTwoOrMoreRaces","TotalPopHispanicLatino","TotalNonHispanicLatino","TotPopUnder15yrs","TotPop15to24yrs","TotPop25to34yrs","TotPop35to44yrs","TotPop45to54yrs","TotPop55to64yrs","TotPop65to74yrs","TotPopOver74yrs","MedianAge","MedianAgeMale","MedianAgeFemale","TotalHH","TotalPopInHouseholds","TotalPopInFamilyHH","TotalPopInNonFamilyHH","AvgHHSize","TotalFamilyHH","TotalFamilyHHSpouse","TotalSingleParentHH","TotalNonFamilyHH","AvgFamilyHHSize","AvgNonFamilyHHSize","AverageHHSizeOwnerOccupied","AverageHHSizeRentalOccupied","TotalHousingUnits","TotalOccupiedHU","TotalOwnerOccupiedHUs","TotalRentalOccupiedHU","TotalVacantHU","VacantHUForRent","VacantHURentNotOccupied","VacantHUForSale","VacantHUsSoldNotOccupied","VacantHUSeasonalRecreational","VacantHUsAllOtherVacants","HomeOwnerVacancyRate","HomeRentalVacancyRate","TotalHousingUnits2010","SingFamHU2010","MultiFamHU2010","MobileHom2010"]
["Alton","0000011","001",5250,5202,5165,4,7,15,2,9,48,59,5191,890,540,427,671,924,911,548,339,46.2,46.2,46.1,2145,5250,2819,2431,2.4500000000000002,1511,1265,246,634,2.87,3.8343848580441642,2.4900000000000002,2.2200000000000002,4281,2145,1786,359,2136,70,18,59,13,1928,48,3.2,15.7,4281,3731,268,282]
["Barnstead","0000012","001",4593,4528,4472,20,13,15,0,8,65,35,4558,910,467,568,689,776,695,324,164,39.9,40.200000000000003,39.700000000000003,1727,4593,2595,1998,2.66,1296,1058,238,431,3,4.6357308584686772,2.67,2.6,2319,1727,1555,172,592,12,1,35,4,516,24,2.2000000000000002,6.5,2319,2241,8,70]
["Belmont","0000013","001",7356,7256,7138,31,11,49,3,24,100,98,7258,1302,859,861,965,1288,1091,598,392,42.1,41.1,43.2,2941,7354,3865,3489,2.5,2069,1558,511,872,2.87,4.0011467889908259,2.5299999999999998,2.39,3615,2941,2265,676,674,47,2,75,8,495,47,3.2,6.5,3615,2425,459,731]
["Center Harbor","0000014","001",1096,1090,1065,3,2,12,2,6,6,16,1080,143,101,100,111,180,233,125,103,49.9,49.3,50.9,472,1082,524,558,2.29,329,262,67,143,2.59,3.9020979020979021,2.27,2.4500000000000002,795,472,407,65,323,6,1,5,3,290,18,1.2,8.3000000000000007,795,744,36,16]
["Gilford","0000015","001",7126,7061,6969,21,5,49,3,14,65,93,7033,1163,710,548,817,1276,1254,784,574,47.9,47.4,48.4,3007,7126,3798,3328,2.37,2085,1710,375,922,2.82,3.6095444685466376,2.39,2.2400000000000002,5111,3007,2558,449,2104,65,0,97,14,1863,65,3.6,12.6,5111,3701,847,563]
["Gilmanton","0000016","001",3777,3729,3687,3,3,28,0,8,48,22,3755,702,373,396,529,708,601,302,166,43.1,43.3,42.9,1452,3777,2115,1662,2.6,1114,940,174,338,2.9,4.9171597633136095,2.6,2.64,2118,1452,1309,143,666,19,0,34,4,588,21,2.5,11.7,2118,2087,15,16]
["Laconia","0000286","001",15951,15711,15073,150,54,391,1,42,240,250,15701,2624,1901,1887,1987,2419,2252,1342,1539,43,41.4,44.6,6838,15506,7445,8061,2.27,4065,2875,1190,2773,2.83,2.9069599711503789,2.36,2.15,9879,6838,3860,2978,3041,320,17,212,28,2293,171,5.2,9.6999999999999993,9879,4979,4425,475]
["Meredith","0000017","001",6241,6176,6073,18,11,58,0,16,65,66,6175,916,614,518,714,1072,1108,689,610,48.7,47.8,49.4,2708,6145,3036,3109,2.27,1777,1391,386,931,2.71,3.3394199785177228,2.37,1.97,4728,2708,2050,658,2020,143,4,85,6,1710,72,4,17.8,4728,3726,604,398]
["New Hampton","0000018","001",2165,2126,2098,8,2,17,0,1,39,20,2145,386,215,238,319,370,302,195,140,42.4,42,42.8,848,2109,1148,961,2.4900000000000002,617,512,105,231,2.86,4.1601731601731604,2.52,2.33,1083,848,704,144,235,8,1,13,4,185,24,1.8,5.2,1083,981,39,62]
["Sanbornton","0000019","001",2966,2927,2886,8,11,16,0,6,39,27,2939,471,302,231,403,593,558,261,147,46.5,46.8,46.1,1166,2957,1636,1321,2.54,858,742,116,308,2.91,4.2889610389610393,2.5499999999999998,2.41,1612,1166,1039,127,446,17,1,22,0,387,19,2.1,11.7,1612,1548,58,6]
["Tilton","0000020","001",3567,3508,3433,13,7,49,0,6,59,38,3529,524,375,415,458,543,537,289,426,45.2,45.6,44.8,1462,3331,1628,1703,2.2799999999999998,888,678,210,574,2.83,2.9668989547038329,2.39,2.0499999999999998,1845,1462,990,472,383,99,4,28,7,212,33,2.7,17.2,1845,989,589,267]

{"sheet":"SmallTownEmploymentandWages","index":75,"n_rows":77,"n_cols":14,"rows_kept":77,"cut":false,"hidden":true,"merged":[[66,1,67,3],[35,1,35,2],[73,1,73,2]]}
[]
[null,{"$f":"CntyDataLink!A35","v":"Laconia"}]
[]
[null,"EMPLOYMENT CHARACTERISTICS"]
[]
[]
[]
[]
[]
[]
[]
[]
[]
[]
[]
[]
[]
[]
[]
[]
[]
[]
[]
[]
[]
[]
[]
[]
[null,"Annual Average Covered Private Employment "]
[null,null,null,"Source: NH Department of Employment Security, Covered Private Employment by location of employment"]
[null,null,2012,{"$f":"C31+1","v":2013},{"$f":"D31+1","v":2014},{"$f":"E31+1","v":2015},{"$f":"F31+1","v":2016},{"$f":"G31+1","v":2017},{"$f":"H31+1","v":2018},{"$f":"I31+1","v":2019},{"$f":"J31+1","v":2020},{"$f":"K31+1","v":2021},{"$f":"L31+1","v":2022},"Total Change  "]
[null,"Goods Producing",{"$f":"IF((CntyDataLink!$CO$25)=\"n\",NA(),IF(VALUE(CntyDataLink!$CO$25)=\"\",NA(),VALUE(CntyDataLink!$CO$25)))","v":1661},{"$f":"IF((CntyDataLink!$CW$25)=\"n\",NA(),IF(VALUE(CntyDataLink!$CW$25)=\"\",NA(),VALUE(CntyDataLink!$CW$25)))","v":1776},{"$f":"IF((CntyDataLink!$DE$25)=\"n\",NA(),IF(VALUE(CntyDataLink!$DE$25)=\"\",NA(),VALUE(CntyDataLink!$DE$25)))","v":1776},{"$f":"IF((CntyDataLink!$DM$25)=\"n\",NA(),IF(VALUE(CntyDataLink!$DM$25)=\"\",NA(),VALUE(CntyDataLink!$DM$25)))","v":1758},{"$f":"IF((CntyDataLink!$DU$25)=\"n\",NA(),IF(VALUE(CntyDataLink!$DU$25)=\"\",NA(),VALUE(CntyDataLink!$DU$25)))","v":1753},{"$f":"IF((CntyDataLink!$EC$25)=\"n\",NA(),IF(VALUE(CntyDataLink!$EC$25)=\"\",NA(),VALUE(CntyDataLink!$EC$25)))","v":1805},{"$f":"IF((CntyDataLink!$EK$25)=\"n\",NA(),IF(VALUE(CntyDataLink!$EK$25)=\"\",NA(),VALUE(CntyDataLink!$EK$25)))","v":1838},{"$f":"IF((CntyDataLink!$ET$25)=\"n\",NA(),IF(VALUE(CntyDataLink!$ET$25)=\"\",NA(),VALUE(CntyDataLink!$ET$25)))","v":1876},{"$f":"IF((CntyDataLink!$FD$25)=\"n\",NA(),IF(VALUE(CntyDataLink!$FD$25)=\"\",NA(),VALUE(CntyDataLink!$FD$25)))","v":1780},{"$f":"IF((CntyDataLink!$FN$25)=\"n\",NA(),IF(VALUE(CntyDataLink!$FN$25)=\"\",NA(),VALUE(CntyDataLink!$FN$25)))","v":1669},{"$f":"IF((CntyDataLink!$FX$25)=\"n\",NA(),IF(VALUE(CntyDataLink!$FX$25)=\"\",NA(),VALUE(CntyDataLink!$FX$25)))","v":1705},{"$f":"$M32-C32","v":44}]
[null,"Service Providing",{"$f":"IF((CntyDataLink!$CP$25)=\"n\",NA(),IF(VALUE(CntyDataLink!$CP$25)=\"\",NA(),VALUE(CntyDataLink!$CP$25)))","v":6581},{"$f":"IF((CntyDataLink!$CX$25)=\"n\",NA(),IF(VALUE(CntyDataLink!$CX$25)=\"\",NA(),VALUE(CntyDataLink!$CX$25)))","v":6464},{"$f":"IF((CntyDataLink!$DF$25)=\"n\",NA(),IF(VALUE(CntyDataLink!$DF$25)=\"\",NA(),VALUE(CntyDataLink!$DF$25)))","v":6280},{"$f":"IF((CntyDataLink!$DN$25)=\"n\",NA(),IF(VALUE(CntyDataLink!$DN$25)=\"\",NA(),VALUE(CntyDataLink!$DN$25)))","v":6364},{"$f":"IF((CntyDataLink!$DV$25)=\"n\",NA(),IF(VALUE(CntyDataLink!$DV$25)=\"\",NA(),VALUE(CntyDataLink!$DV$25)))","v":6223},{"$f":"IF((CntyDataLink!$ED$25)=\"n\",NA(),IF(VALUE(CntyDataLink!$ED$25)=\"\",NA(),VALUE(CntyDataLink!$ED$25)))","v":6205},{"$f":"IF((CntyDataLink!$EL$25)=\"n\",NA(),IF(VALUE(CntyDataLink!$EL$25)=\"\",NA(),VALUE(CntyDataLink!$EL$25)))","v":6126},{"$f":"IF((CntyDataLink!$EU$25)=\"n\",NA(),IF(VALUE(CntyDataLink!$EU$25)=\"\",NA(),VALUE(CntyDataLink!$EU$25)))","v":6157},{"$f":"IF((CntyDataLink!$FE$25)=\"n\",NA(),IF(VALUE(CntyDataLink!$FE$25)=\"\",NA(),VALUE(CntyDataLink!$FE$25)))","v":5602},{"$f":"IF((CntyDataLink!$FO$25)=\"n\",NA(),IF(VALUE(CntyDataLink!$FO$25)=\"\",NA(),VALUE(CntyDataLink!$FO$25)))","v":5628},{"$f":"IF((CntyDataLink!$FY$25)=\"n\",NA(),IF(VALUE(CntyDataLink!$FY$25)=\"\",NA(),VALUE(CntyDataLink!$FY$25)))","v":5738},{"$f":"$M33-C33","v":-843}]
[null,"Total Private Emp",{"$f":"IF((CntyDataLink!$CN$25)=\"n\",NA(),IF(VALUE(CntyDataLink!$CN$25)=\"\",NA(),VALUE(CntyDataLink!$CN$25)))","v":8242},{"$f":"IF((CntyDataLink!$CV$25)=\"n\",NA(),IF(VALUE(CntyDataLink!$CV$25)=\"\",NA(),VALUE(CntyDataLink!$CV$25)))","v":8240},{"$f":"IF((CntyDataLink!$DD$25)=\"n\",NA(),IF(VALUE(CntyDataLink!$DD$25)=\"\",NA(),VALUE(CntyDataLink!$DD$25)))","v":8056},{"$f":"IF((CntyDataLink!$DL$25)=\"n\",NA(),IF(VALUE(CntyDataLink!$DL$25)=\"\",NA(),VALUE(CntyDataLink!$DL$25)))","v":8123},{"$f":"IF((CntyDataLink!$DT$25)=\"n\",NA(),IF(VALUE(CntyDataLink!$DT$25)=\"\",NA(),VALUE(CntyDataLink!$DT$25)))","v":7976},{"$f":"IF((CntyDataLink!$EB$25)=\"n\",NA(),IF(VALUE(CntyDataLink!$EB$25)=\"\",NA(),VALUE(CntyDataLink!$EB$25)))","v":8010},{"$f":"IF((CntyDataLink!$EJ$25)=\"n\",NA(),IF(VALUE(CntyDataLink!$EJ$25)=\"\",NA(),VALUE(CntyDataLink!$EJ$25)))","v":7964},{"$f":"IF((CntyDataLink!$ER$25)=\"n\",NA(),IF(VALUE(CntyDataLink!$ER$25)=\"\",NA(),VALUE(CntyDataLink!$ER$25)))","v":8033},{"$f":"IF((CntyDataLink!$FB$25)=\"n\",NA(),IF(VALUE(CntyDataLink!$FB$25)=\"\",NA(),VALUE(CntyDataLink!$FB$25)))","v":7382},{"$f":"IF((CntyDataLink!$FL$25)=\"n\",NA(),IF(VALUE(CntyDataLink!$FL$25)=\"\",NA(),VALUE(CntyDataLink!$FL$25)))","v":7298},{"$f":"IF((CntyDataLink!$FV$25)=\"n\",NA(),IF(VALUE(CntyDataLink!$FV$25)=\"\",NA(),VALUE(CntyDataLink!$FV$25)))","v":7443},{"$f":"$M34-C34","v":-799}]
[]
[null,"% Change from prior Year",null,"12-13","13-14","14-15","15-16","16-17","17-18","18-19","19-20","20-21","21-22","Total % Change"]
[null,"Goods Producing",null,{"$f":"(D32-C32)/C32","v":6.9235400361228175E-2},0,-1.0135135135135136E-2,-2.844141069397042E-3,2.9663434112949229E-2,1.8282548476454295E-2,2.0674646354733407E-2,-5.1172707889125799E-2,-6.2359550561797754E-2,2.1569802276812461E-2,{"$f":"N32/C32","v":2.6490066225165563E-2}]
[null,"Service Providing",null,-1.7778453122625739E-2,-2.8465346534653466E-2,1.337579617834395E-2,-2.2155876807039596E-2,-2.8924955809095294E-3,-1.2731668009669621E-2,5.060398302317989E-3,-9.0141302582426502E-2,4.6411995715815784E-3,1.9545131485429992E-2,{"$f":"N33/C33","v":-0.12809603403738035}]
[null,"Total Private Emp",null,-2.4265954865323951E-4,-2.2330097087378639E-2,8.3167825223435955E-3,-1.8096762279945833E-2,4.2627883650952856E-3,-5.7428214731585518E-3,8.6639879457559021E-3,-8.1040707083281469E-2,-1.1379030073150907E-2,1.9868457111537407E-2,{"$f":"N34/C34","v":-9.6942489686969183E-2}]
[]
[]
[null,"EMPLOYMENT CHARACTERISTICS"]
[]
[]
[]
[]
[]
[]
[]
[]
[]
[]
[]
[]
[]
[]
[]
[]
[]
[]
[]
[]
[]
[]
[]
[]
[null,"Covered Private Employment Average Wages",null,null,"Source: NH Department of Employment Security, Covered Private Employment"]
[]
[null,null,2012,{"$f":"C69+1","v":2013},{"$f":"D69+1","v":2014},{"$f":"E69+1","v":2015},2016,2017,2018,2019,2020,2021,2022,"Total $ Change"]
[null,"Goods Producing",{"$f":"IF((CntyDataLink!$CS$25)=\"n\",NA(),IF(VALUE(CntyDataLink!$CS$25)=\"\",NA(),VALUE(CntyDataLink!$CS$25)))","v":933.69},{"$f":"IF((CntyDataLink!$DA$25)=\"n\",NA(),IF(VALUE(CntyDataLink!$DA$25)=\"\",NA(),VALUE(CntyDataLink!$DA$25)))","v":934.46},{"$f":"IF((CntyDataLink!$DI$25)=\"n\",NA(),IF(VALUE(CntyDataLink!$DI$25)=\"\",NA(),VALUE(CntyDataLink!$DI$25)))","v":956.72},{"$f":"IF((CntyDataLink!$DQ$25)=\"n\",NA(),IF(VALUE(CntyDataLink!$DQ$25)=\"\",NA(),VALUE(CntyDataLink!$DQ$25)))","v":1006.54},{"$f":"IF((CntyDataLink!$DY$25)=\"n\",NA(),IF(VALUE(CntyDataLink!$DY$25)=\"\",NA(),VALUE(CntyDataLink!$DY$25)))","v":1022.5},{"$f":"IF((CntyDataLink!$EG$25)=\"n\",NA(),IF(VALUE(CntyDataLink!$EG$25)=\"\",NA(),VALUE(CntyDataLink!$EG$25)))","v":1038.98},{"$f":"IF((CntyDataLink!$EO$25)=\"n\",NA(),IF(VALUE(CntyDataLink!$EO$25)=\"\",NA(),VALUE(CntyDataLink!$EO$25)))","v":1141.8599999999999},{"$f":"IF((CntyDataLink!$EY$25)=\"n\",NA(),IF(VALUE(CntyDataLink!$EY$25)=\"\",NA(),VALUE(CntyDataLink!$EY$25)))","v":1122.25},{"$f":"IF((CntyDataLink!$FI$25)=\"n\",NA(),IF(VALUE(CntyDataLink!$FI$25)=\"\",NA(),VALUE(CntyDataLink!$FI$25)))","v":1118.67},{"$f":"IF((CntyDataLink!$FS$25)=\"n\",NA(),IF(VALUE(CntyDataLink!$FS$25)=\"\",NA(),VALUE(CntyDataLink!$FS$25)))","v":1205.03},{"$f":"IF((CntyDataLink!$GC$25)=\"n\",NA(),IF(VALUE(CntyDataLink!$GC$25)=\"\",NA(),VALUE(CntyDataLink!$GC$25)))","v":1225},{"$f":"M70-C70","v":291.30999999999995}]
[null,"Service Providing",{"$f":"IF((CntyDataLink!$CT$25)=\"n\",NA(),IF(VALUE(CntyDataLink!$CT$25)=\"\",NA(),VALUE(CntyDataLink!$CT$25)))","v":761.79},{"$f":"IF((CntyDataLink!$DB$25)=\"n\",NA(),IF(VALUE(CntyDataLink!$DB$25)=\"\",NA(),VALUE(CntyDataLink!$DB$25)))","v":782.3},{"$f":"IF((CntyDataLink!$DJ$25)=\"n\",NA(),IF(VALUE(CntyDataLink!$DJ$25)=\"\",NA(),VALUE(CntyDataLink!$DJ$25)))","v":830.37},{"$f":"IF((CntyDataLink!$DR$25)=\"n\",NA(),IF(VALUE(CntyDataLink!$DR$25)=\"\",NA(),VALUE(CntyDataLink!$DR$25)))","v":851.22},{"$f":"IF((CntyDataLink!$DZ$25)=\"n\",NA(),IF(VALUE(CntyDataLink!$DZ$25)=\"\",NA(),VALUE(CntyDataLink!$DZ$25)))","v":883.12},{"$f":"IF((CntyDataLink!ED$25)=\"n\",NA(),IF(VALUE(CntyDataLink!$EE$25)=\"\",NA(),VALUE(CntyDataLink!$EE$25)))","v":934.56},{"$f":"IF((CntyDataLink!EL$25)=\"n\",NA(),IF(VALUE(CntyDataLink!$EM$25)=\"\",NA(),VALUE(CntyDataLink!$EM$25)))","v":961.3},{"$f":"IF((CntyDataLink!EY$25)=\"n\",NA(),IF(VALUE(CntyDataLink!$EZ$25)=\"\",NA(),VALUE(CntyDataLink!$EZ$25)))","v":908.33},{"$f":"IF((CntyDataLink!FI$25)=\"n\",NA(),IF(VALUE(CntyDataLink!$FJ$25)=\"\",NA(),VALUE(CntyDataLink!$FJ$25)))","v":1006.35},{"$f":"IF((CntyDataLink!FS$25)=\"n\",NA(),IF(VALUE(CntyDataLink!$FT$25)=\"\",NA(),VALUE(CntyDataLink!$FT$25)))","v":1012.15},{"$f":"IF((CntyDataLink!GD$25)=\"n\",NA(),IF(VALUE(CntyDataLink!$GD$25)=\"\",NA(),VALUE(CntyDataLink!$GD$25)))","v":1083},{"$f":"M71-C71","v":321.21000000000004}]
[null,"Total Private Emp",{"$f":"IF((CntyDataLink!$CR$25)=\"n\",NA(),IF(VALUE(CntyDataLink!$CR$25)=\"\",NA(),VALUE(CntyDataLink!$CR$25)))","v":796.43},{"$f":"IF((CntyDataLink!$CZ$25)=\"n\",NA(),IF(VALUE(CntyDataLink!$CZ$25)=\"\",NA(),VALUE(CntyDataLink!$CZ$25)))","v":815.1},{"$f":"IF((CntyDataLink!$DH$25)=\"n\",NA(),IF(VALUE(CntyDataLink!$DH$25)=\"\",NA(),VALUE(CntyDataLink!$DH$25)))","v":858.23},{"$f":"IF((CntyDataLink!$DP$25)=\"n\",NA(),IF(VALUE(CntyDataLink!$DP$25)=\"\",NA(),VALUE(CntyDataLink!$DP$25)))","v":884.84},{"$f":"IF((CntyDataLink!$DX$25)=\"n\",NA(),IF(VALUE(CntyDataLink!$DX$25)=\"\",NA(),VALUE(CntyDataLink!$DX$25)))","v":913.75},{"$f":"IF((CntyDataLink!$EF$25)=\"n\",NA(),IF(VALUE(CntyDataLink!$EF$25)=\"\",NA(),VALUE(CntyDataLink!$EF$25)))","v":944.33},{"$f":"IF((CntyDataLink!$EN$25)=\"n\",NA(),IF(VALUE(CntyDataLink!$EN$25)=\"\",NA(),VALUE(CntyDataLink!$EN$25)))","v":971.79},{"$f":"IF((CntyDataLink!$EW$25)=\"n\",NA(),IF(VALUE(CntyDataLink!$EW$25)=\"\",NA(),VALUE(CntyDataLink!$EW$25)))","v":958.29},{"$f":"IF((CntyDataLink!$FG$25)=\"n\",NA(),IF(VALUE(CntyDataLink!$FG$25)=\"\",NA(),VALUE(CntyDataLink!$FG$25)))","v":1033.43},{"$f":"IF((CntyDataLink!$FQ$25)=\"n\",NA(),IF(VALUE(CntyDataLink!$FQ$25)=\"\",NA(),VALUE(CntyDataLink!$FQ$25)))","v":1056.27},{"$f":"IF((CntyDataLink!$GA$25)=\"n\",NA(),IF(VALUE(CntyDataLink!$GA$25)=\"\",NA(),VALUE(CntyDataLink!$GA$25)))","v":1116},{"$f":"M72-C72","v":319.57000000000005}]
[]
[null,"% Change from prior Year",null,{"$f":"D36","v":"12-13"},"13-14","14-15","15-16","16-17","17-18","18-19","19-20","20-21","21-22","Total % Change"]
[null,"Goods Producing",null,{"$f":"(D70-C70)/C70","v":8.2468485257417533E-4},2.382124435502856E-2,5.2073751985951933E-2,1.5856299799312534E-2,1.6117359413202952E-2,9.9020192881479799E-2,-1.7173734082987321E-2,-3.1900200490086231E-3,7.7198816451679128E-2,1.6572201521953833E-2,{"$f":"N70/C70","v":0.31199862909530995}]
[null,"Service Providing",null,2.6923430341695209E-2,6.1447015211555739E-2,2.5109288630369622E-2,3.7475623223138528E-2,5.8248029712836241E-2,2.8612395137818877E-2,-5.5102465411421948E-2,0.10791232261402792,5.7634023947930185E-3,6.9999506002074816E-2,{"$f":"N71/C71","v":0.4216516362777144}]
[null,"Total Private Emp",null,2.3442110417739255E-2,5.2913752913752908E-2,3.1005674469547804E-2,3.2672573572623265E-2,3.3466484268125901E-2,2.9078817786155179E-2,-1.389189022319637E-2,7.8410502040092353E-2,2.2101158278741585E-2,5.6548041693885102E-2,{"$f":"N72/C72","v":0.40125309192270514}]